Workbook

Sheet Détails
A1: Type | B1: Numéro | C1: Article | D1: Date d'achat | E1: Client
A2: Don | B2: 1 | C2: Orange | D2: 43360 | E2: Romain
A3: Vente | B3: 1 | C3: Pommes | D3: 43361 | E3: Ahmed
A4: Casse | B4: 1 | C4: Pruneaux | D4: 43362 | E4: Floriane
A5: Don | B5: 2 | C5: Melons | D5: 43363 | E5: Léonore
A6: Vente | B6: 2 | C6: Prunes | D6: 43364 | E6: Clothilde
A7: Casse | B7: 2 | C7: Pastèques | D7: 43365 | E7: Nicolas

Sheet Résumé
A1: Type | B1: Article 1 | C1: Date d'achat | D1: Client | E1: Article 2 | F1: Date d'achat | G1: Client
A2: Don | B2: {=IF(ROW()-1>COUNTIF(Détails!$B$1:$B$100,"=1"),"",INDEX(Détails!$C$1:$C$100,SMALL(IF(Détails!$B$1:$B$100=1,ROW($A$1:$A$98),""),ROW()-1)))} -> Orange | C2: {=IF(ROW()-1>COUNTIF(Détails!$B$1:$B$100,"=1"),"",INDEX(Détails!$D$1:$D$100,SMALL(IF(Détails!$B$1:$B$100=1,ROW($A$1:$A$98),""),ROW()-1)))} -> 43360 | D2: {=IF(ROW()-1>COUNTIF(Détails!$B$1:$B$100,"=1"),"",INDEX(Détails!$E$1:$E$100,SMALL(IF(Détails!$B$1:$B$100=1,ROW($A$1:$A$98),""),ROW()-1)))} -> Romain | E2: {=IF(ROW()-1>COUNTIF(Détails!$B$1:$B$100,"=2"),"",INDEX(Détails!$C$1:$C$100,SMALL(IF(Détails!$B$1:$B$100=2,ROW($A$1:$A$98),""),ROW()-1)))} -> Melons | F2: {=IF(ROW()-1>COUNTIF(Détails!$B$1:$B$100,"=2"),"",INDEX(Détails!$D$1:$D$100,SMALL(IF(Détails!$B$1:$B$100=2,ROW($A$1:$A$98),""),ROW()-1)))} -> 43363 | G2: {=IF(ROW()-1>COUNTIF(Détails!$B$1:$B$100,"=2"),"",INDEX(Détails!$E$1:$E$100,SMALL(IF(Détails!$B$1:$B$100=2,ROW($A$1:$A$98),""),ROW()-1)))} -> Léonore
A3: Vente | B3: {=IF(ROW()-1>COUNTIF(Détails!$B$1:$B$100,"=1"),"",INDEX(Détails!$C$1:$C$100,SMALL(IF(Détails!$B$1:$B$100=1,ROW($A$1:$A$98),""),ROW()-1)))} -> Pommes | C3: {=IF(ROW()-1>COUNTIF(Détails!$B$1:$B$100,"=1"),"",INDEX(Détails!$D$1:$D$100,SMALL(IF(Détails!$B$1:$B$100=1,ROW($A$1:$A$98),""),ROW()-1)))} -> 43361 | D3: {=IF(ROW()-1>COUNTIF(Détails!$B$1:$B$100,"=1"),"",INDEX(Détails!$E$1:$E$100,SMALL(IF(Détails!$B$1:$B$100=1,ROW($A$1:$A$98),""),ROW()-1)))} -> Ahmed | E3: {=IF(ROW()-1>COUNTIF(Détails!$B$1:$B$100,"=2"),"",INDEX(Détails!$C$1:$C$100,SMALL(IF(Détails!$B$1:$B$100=2,ROW($A$1:$A$98),""),ROW()-1)))} -> Prunes | F3: {=IF(ROW()-1>COUNTIF(Détails!$B$1:$B$100,"=2"),"",INDEX(Détails!$D$1:$D$100,SMALL(IF(Détails!$B$1:$B$100=2,ROW($A$1:$A$98),""),ROW()-1)))} -> 43364 | G3: {=IF(ROW()-1>COUNTIF(Détails!$B$1:$B$100,"=2"),"",INDEX(Détails!$E$1:$E$100,SMALL(IF(Détails!$B$1:$B$100=2,ROW($A$1:$A$98),""),ROW()-1)))} -> Clothilde
A4: Casse | B4: {=IF(ROW()-1>COUNTIF(Détails!$B$1:$B$100,"=1"),"",INDEX(Détails!$C$1:$C$100,SMALL(IF(Détails!$B$1:$B$100=1,ROW($A$1:$A$98),""),ROW()-1)))} -> Pruneaux | C4: {=IF(ROW()-1>COUNTIF(Détails!$B$1:$B$100,"=1"),"",INDEX(Détails!$D$1:$D$100,SMALL(IF(Détails!$B$1:$B$100=1,ROW($A$1:$A$98),""),ROW()-1)))} -> 43362 | D4: {=IF(ROW()-1>COUNTIF(Détails!$B$1:$B$100,"=1"),"",INDEX(Détails!$E$1:$E$100,SMALL(IF(Détails!$B$1:$B$100=1,ROW($A$1:$A$98),""),ROW()-1)))} -> Floriane | E4: {=IF(ROW()-1>COUNTIF(Détails!$B$1:$B$100,"=2"),"",INDEX(Détails!$C$1:$C$100,SMALL(IF(Détails!$B$1:$B$100=2,ROW($A$1:$A$98),""),ROW()-1)))} -> Pastèques | F4: {=IF(ROW()-1>COUNTIF(Détails!$B$1:$B$100,"=2"),"",INDEX(Détails!$D$1:$D$100,SMALL(IF(Détails!$B$1:$B$100=2,ROW($A$1:$A$98),""),ROW()-1)))} -> 43365 | G4: {=IF(ROW()-1>COUNTIF(Détails!$B$1:$B$100,"=2"),"",INDEX(Détails!$E$1:$E$100,SMALL(IF(Détails!$B$1:$B$100=2,ROW($A$1:$A$98),""),ROW()-1)))} -> Nicolas
A6: {=IF(ROW()-2>COUNTIF(Détails!$B$1:$B$100,"=1"),"",INDEX(Détails!$A$1:$A$100,SMALL(IF(Détails!$B$1:$B$100=1,ROW($A$1:$A$98),""),ROW()-2)))} | F6: =IF(ROW()-2>COUNTIF(Détails!$B$1:$B$100,"=2"),"",INDEX(Détails!$C$1:$C$100,SMALL(IF(Détails!$B$1:$B$100=2,ROW($A$1:$A$98),""),ROW()-2)))
A7: {=IF(ROW()-2>COUNTIF(Détails!$B$1:$B$100,"=1"),"",INDEX(Détails!$A$1:$A$100,SMALL(IF(Détails!$B$1:$B$100=1,ROW($A$1:$A$98),""),ROW()-2)))} | F7: {=IF(ROW()-2>COUNTIF(Détails!$B$1:$B$100,"=2"),"",INDEX(Détails!$C$1:$C$100,SMALL(IF(Détails!$B$1:$B$100=2,ROW($A$1:$A$98),""),ROW()-2)))}
A8: {=IF(ROW()-2>COUNTIF(Détails!$B$1:$B$100,"=1"),"",INDEX(Détails!$A$1:$A$100,SMALL(IF(Détails!$B$1:$B$100=1,ROW($A$1:$A$98),""),ROW()-2)))} | F8: {=IF(ROW()-2>COUNTIF(Détails!$B$1:$B$100,"=2"),"",INDEX(Détails!$C$1:$C$100,SMALL(IF(Détails!$B$1:$B$100=2,ROW($A$1:$A$98),""),ROW()-2)))}
