Workbook
Name ENTRETIEN: FORMULAIRE!$G$11:$J$11
Name IMMAT: FORMULAIRE!$I$3
Name IMMATRICULATION: 'LISTE VEH'!$A:$A
Name LISTEVEH: Tableau1[#All]
Name RECH_SERV: FORMULAIRE!$G$3
Name Services: #REF!

Sheet FORMULAIRE
G3: Veuillez saisir ou sélectionner une immatriculation
I6: Format XX-000-XX
A8: Identité véhicule | D8: Coût entretien | G8: Achats | L8: Prises en charge
A10: Marque | B10: =IFERROR(VLOOKUP($I$3,'LISTE VEH'!$A$5:$Z$65615,2,FALSE),"") | D10: 2019 | E10: =IF(IMMAT="","",SUMIFS(_xlfn.ANCHORARRAY($J$11),_xlfn.ANCHORARRAY($G$11),">=01/01/2019",_xlfn.ANCHORARRAY($G$11),"<=31/12/2019")) | G10: Date | H10: Fournisseur | I10: Désignation | J10: Prix HT | L10: Date | M10: Problème / Panne | N10: Tavaux effectués
A11: Modèle | B11: =IFERROR(VLOOKUP($I$3,'LISTE VEH'!$A$5:$Z$65615,3,FALSE),"") | D11: 2020 | E11: =IF(IMMAT="","",SUMIFS(_xlfn.ANCHORARRAY($J$11),_xlfn.ANCHORARRAY($G$11),">=01/01/2020",_xlfn.ANCHORARRAY($G$11),"<=31/12/2020")) | G11: {=IF(IMMAT="","",_xlfn._xlws.FILTER('FACTURATION VEH'!B2:B315,'FACTURATION VEH'!$A$2:$A$315=FORMULAIRE!$I$3,""))} | H11: {=IF(IMMAT="","",_xlfn._xlws.FILTER('FACTURATION VEH'!C2:C315,'FACTURATION VEH'!$A$2:$A$315=FORMULAIRE!$I$3,""))} | I11: {=IF(IMMAT="","",_xlfn._xlws.FILTER('FACTURATION VEH'!D2:D315,'FACTURATION VEH'!$A$2:$A$315=FORMULAIRE!$I$3,""))} | J11: {=IF(IMMAT="","",_xlfn._xlws.FILTER('FACTURATION VEH'!E2:E315,'FACTURATION VEH'!$A$2:$A$315=FORMULAIRE!$I$3,""))} | L11: {=IF(IMMAT="","",_xlfn._xlws.FILTER('PRISE EN CHARGE'!B2:B132,'PRISE EN CHARGE'!$A$2:$A$132=FORMULAIRE!$I$3,""))} | M11: {=IF(IMMAT="","",_xlfn._xlws.FILTER('PRISE EN CHARGE'!C2:C132,'PRISE EN CHARGE'!$A$2:$A$132=FORMULAIRE!$I$3,""))} | N11: {=IF(IMMAT="","",_xlfn._xlws.FILTER('PRISE EN CHARGE'!D2:D132,'PRISE EN CHARGE'!$A$2:$A$132=FORMULAIRE!$I$3,""))}
A12: Année | B12: =IFERROR(VLOOKUP($I$3,'LISTE VEH'!$A$5:$Z$65615,4,FALSE),"") | D12: 2021 | E12: =IF(IMMAT="","",SUMIFS(_xlfn.ANCHORARRAY($J$11),_xlfn.ANCHORARRAY($G$11),">=01/01/2021",_xlfn.ANCHORARRAY($G$11),"<=31/12/2021"))
A13: Carburant | B13: =IFERROR(VLOOKUP($I$3,'LISTE VEH'!$A$5:$Z$65615,5,FALSE),"") | D13: 2022 | E13: =IF(IMMAT="","",SUMIFS(_xlfn.ANCHORARRAY($J$11),_xlfn.ANCHORARRAY($G$11),">=01/01/2022",_xlfn.ANCHORARRAY($G$11),"<=31/12/2022"))
A15: Propriétaire | B15: =IFERROR(VLOOKUP($I$3,'LISTE VEH'!$A$5:$Z$65615,6,FALSE),"")
A16: Service | B16: =IFERROR(VLOOKUP($I$3,'LISTE VEH'!$A$5:$Z$65615,7,FALSE),"") | D16: Informations techniques
A17: Affectation | B17: =IFERROR(VLOOKUP($I$3,'LISTE VEH'!$A$5:$Z$65615,8,FALSE),"")
A18: Date acquisition | B18: =IFERROR(VLOOKUP($I$3,'LISTE VEH'!$A$5:$Z$65615,9,FALSE),"") | D18: KM actuel | E18: =IFERROR(VLOOKUP($I$3,'LISTE VEH'!$A$5:$Z$65615,12,FALSE),"")
D19: Mis à jour le | E19: =IFERROR(VLOOKUP($I$3,'LISTE VEH'!$A$5:$Z$65615,13,FALSE),"")
A20: Date début location | B20: =IFERROR(VLOOKUP($I$3,'LISTE VEH'!$A$5:$Z$65615,10,FALSE),"")
A21: Date fin location | B21: =IFERROR(VLOOKUP($I$3,'LISTE VEH'!$A$5:$Z$65615,11,FALSE),"") | D21: Dernier CT | E21: =IFERROR(VLOOKUP($I$3,'LISTE VEH'!$A$5:$Z$65615,14,FALSE),"")
D22: Prochain CT | E22: =IFERROR(VLOOKUP($I$3,'LISTE VEH'!$A$5:$Z$65615,15,FALSE),"")
A23: Suivi KM Commerciaux | D23: CT dépassée ? | E23: =IFERROR(VLOOKUP($I$3,'LISTE VEH'!$A$5:$Z$65615,16,FALSE),"") | L23: Fournitures utilisés
A25: Début CTT | B25: {=IF($B$16="Commercial",_xlfn._xlws.FILTER('SUIVI KM COMMERCIAUX'!D2:D10,'SUIVI KM COMMERCIAUX'!$A$2:$A$10=FORMULAIRE!$I$3,""),"")} | D25: Dernier CTC | E25: =IFERROR(VLOOKUP($I$3,'LISTE VEH'!$A$5:$Z$65615,17,FALSE),"") | L25: Date | M25: Fourniture utilisé
A26: Fin CTT | B26: {=IF($B$16="Commercial",_xlfn._xlws.FILTER('SUIVI KM COMMERCIAUX'!E2:E10,'SUIVI KM COMMERCIAUX'!$A$2:$A$10=FORMULAIRE!$I$3,""),"")} | D26: Prochain CTC | E26: =IFERROR(VLOOKUP($I$3,'LISTE VEH'!$A$5:$Z$65615,18,FALSE),"") | L26: {=IF(IMMAT="","",_xlfn._xlws.FILTER('PRISE EN CHARGE'!B2:B132,'PRISE EN CHARGE'!$A$2:$A$132=FORMULAIRE!$I$3,""))} | M26: {=IF(IMMAT="","",_xlfn._xlws.FILTER('PRISE EN CHARGE'!F2:F132,'PRISE EN CHARGE'!$A$2:$A$132=FORMULAIRE!$I$3,""))}
D27: CTC dépassée ? | E27: =IFERROR(VLOOKUP($I$3,'LISTE VEH'!$A$5:$Z$65615,19,FALSE),"")
A28: Km initial | B28: {=IF($B$16="Commercial",_xlfn._xlws.FILTER('SUIVI KM COMMERCIAUX'!F2:F10,'SUIVI KM COMMERCIAUX'!$A$2:$A$10=FORMULAIRE!$I$3,""),"")}
A29: Km inclus/an | B29: {=IF($B$16="Commercial",_xlfn._xlws.FILTER('SUIVI KM COMMERCIAUX'!G2:G10,'SUIVI KM COMMERCIAUX'!$A$2:$A$10=FORMULAIRE!$I$3,""),"")} | D29: Réf pneus | E29: =IFERROR(VLOOKUP($I$3,'LISTE VEH'!$A$5:$Z$65615,20,FALSE),"")
D30: Réf filtre gasoil | E30: =IFERROR(VLOOKUP($I$3,'LISTE VEH'!$A$5:$Z$65615,21,FALSE),"")
A31: 2018 | B31: {=IF($B$16="Commercial",_xlfn._xlws.FILTER('SUIVI KM COMMERCIAUX'!H2:H10,'SUIVI KM COMMERCIAUX'!$A$2:$A$10=FORMULAIRE!$I$3,""),"")} | D31: Réf filtre air | E31: =IFERROR(VLOOKUP($I$3,'LISTE VEH'!$A$5:$Z$65615,22,FALSE),"")
A32: 2019 | B32: {=IF($B$16="Commercial",_xlfn._xlws.FILTER('SUIVI KM COMMERCIAUX'!I2:I10,'SUIVI KM COMMERCIAUX'!$A$2:$A$10=FORMULAIRE!$I$3,""),"")} | D32: Réf filtre habitacle | E32: =IFERROR(VLOOKUP($I$3,'LISTE VEH'!$A$5:$Z$65615,23,FALSE),"")
A33: 2020 | B33: {=IF($B$16="Commercial",_xlfn._xlws.FILTER('SUIVI KM COMMERCIAUX'!J2:J10,'SUIVI KM COMMERCIAUX'!$A$2:$A$10=FORMULAIRE!$I$3,""),"")}
A34: 2021 | B34: {=IF($B$16="Commercial",_xlfn._xlws.FILTER('SUIVI KM COMMERCIAUX'!K2:K10,'SUIVI KM COMMERCIAUX'!$A$2:$A$10=FORMULAIRE!$I$3,""),"")} | D34: Réf filtre huile | E34: =IFERROR(VLOOKUP($I$3,'LISTE VEH'!$A$5:$Z$65615,24,FALSE),"")
A35: 2022 | B35: {=IF($B$16="Commercial",_xlfn._xlws.FILTER('SUIVI KM COMMERCIAUX'!L2:L10,'SUIVI KM COMMERCIAUX'!$A$2:$A$10=FORMULAIRE!$I$3,""),"")} | D35: Qualité huile | E35: =IFERROR(VLOOKUP($I$3,'LISTE VEH'!$A$5:$Z$65615,25,FALSE),"")
D36: Qté avec filtre | E36: =IFERROR(VLOOKUP($I$3,'LISTE VEH'!$A$5:$Z$65615,26,FALSE),"")
A37: Total Km effectués | B37: {=IF($B$16="Commercial",_xlfn._xlws.FILTER('SUIVI KM COMMERCIAUX'!N2:N10,'SUIVI KM COMMERCIAUX'!$A$2:$A$10=FORMULAIRE!$I$3,""),"")}
A38: KM inclus restants | B38: {=IF($B$16="Commercial",_xlfn._xlws.FILTER('SUIVI KM COMMERCIAUX'!O2:O10,'SUIVI KM COMMERCIAUX'!$A$2:$A$10=FORMULAIRE!$I$3,""),"")} | D38: Dernière vidange | E38: =IFERROR(VLOOKUP($I$3,'LISTE VEH'!$A$5:$Z$65615,27,FALSE),"")
D39: Prochaine vidange | E39: =IFERROR(VLOOKUP($I$3,'LISTE VEH'!$A$5:$Z$65615,28,FALSE),"")

Sheet LISTE VEH
B3: Aujourd'hui : | C3: =TODAY() -> 44603 | J3: LOCATION | L3: KILOMÉTRAGE | N3: CONTRÔLE TECHNIQUE | Q3: CONTRÔLE TECHNIQUE COMPLÉMENTAIRE | T3: ENTRETIENS | AC3: GOLFETTES
A4: Immatriculation | B4: MARQUE | C4: Modèle | D4: Année | E4: Carburant | F4: Propriétaire | G4: Service | H4: Affectation | I4: Date acquisition | J4: Date début location | K4: Date fin location | L4: Km actuel | M4: Mis à jour le | N4: Dernier CT | O4: Prochain CT | P4: CT dépassé ? | Q4: Dernier CTC | R4: Prochain CTC | S4: CTC dépassé ? | T4: Réf pneus | U4: Réf filtre gasoil | V4: Réf filtre air | W4: Réf filtre habitacle | X4: Réf filtre huile | Y4: Qualité huile | Z4: Qté avec filtre | AA4: Dernière vidange | AB4: Prochaine vidange | AC4: N° Carte
A5: AA-111-AAA | G5: A
A6: AA-222-AAA | G6: B
A7: AA-333-AAA | G7: C
A8: AA-444-AAA | G8: B
A9: AA-555-AAA | G9: B
A10: AA-666-AAA | G10: A
A11: AA-777-AAA | G11: A
A12: AA-888-AAA | G12: B
A13: AA-999-AAA | G13: C
A14: AA-111-BBB | G14: C
A15: AA-222-BBB | G15: A
A16: AA-333-BBB | G16: C
... A22: AA-999-BBB | G22: C
P265: =IF(ISBLANK(Tableau1[[#This Row],[Prochain CT]]),"",IF(Tableau1[[#This Row],[Prochain CT]]<$C$3,"Oui","")) | S265: =IF(ISBLANK(Tableau1[[#This Row],[Prochain CTC]]),"",IF(Tableau1[[#This Row],[Prochain CTC]]<$C$3,"Oui",""))
P266: =IF(ISBLANK(Tableau1[[#This Row],[Prochain CT]]),"",IF(Tableau1[[#This Row],[Prochain CT]]<$C$3,"Oui","")) | S266: =IF(ISBLANK(Tableau1[[#This Row],[Prochain CTC]]),"",IF(Tableau1[[#This Row],[Prochain CTC]]<$C$3,"Oui",""))
P267: =IF(ISBLANK(Tableau1[[#This Row],[Prochain CT]]),"",IF(Tableau1[[#This Row],[Prochain CT]]<$C$3,"Oui","")) | S267: =IF(ISBLANK(Tableau1[[#This Row],[Prochain CTC]]),"",IF(Tableau1[[#This Row],[Prochain CTC]]<$C$3,"Oui",""))
P268: =IF(ISBLANK(Tableau1[[#This Row],[Prochain CT]]),"",IF(Tableau1[[#This Row],[Prochain CT]]<$C$3,"Oui","")) | S268: =IF(ISBLANK(Tableau1[[#This Row],[Prochain CTC]]),"",IF(Tableau1[[#This Row],[Prochain CTC]]<$C$3,"Oui",""))
P269: =IF(ISBLANK(Tableau1[[#This Row],[Prochain CT]]),"",IF(Tableau1[[#This Row],[Prochain CT]]<$C$3,"Oui","")) | S269: =IF(ISBLANK(Tableau1[[#This Row],[Prochain CTC]]),"",IF(Tableau1[[#This Row],[Prochain CTC]]<$C$3,"Oui",""))
P270: =IF(ISBLANK(Tableau1[[#This Row],[Prochain CT]]),"",IF(Tableau1[[#This Row],[Prochain CT]]<$C$3,"Oui","")) | S270: =IF(ISBLANK(Tableau1[[#This Row],[Prochain CTC]]),"",IF(Tableau1[[#This Row],[Prochain CTC]]<$C$3,"Oui",""))
P271: =IF(ISBLANK(Tableau1[[#This Row],[Prochain CT]]),"",IF(Tableau1[[#This Row],[Prochain CT]]<$C$3,"Oui","")) | S271: =IF(ISBLANK(Tableau1[[#This Row],[Prochain CTC]]),"",IF(Tableau1[[#This Row],[Prochain CTC]]<$C$3,"Oui",""))
P272: =IF(ISBLANK(Tableau1[[#This Row],[Prochain CT]]),"",IF(Tableau1[[#This Row],[Prochain CT]]<$C$3,"Oui","")) | S272: =IF(ISBLANK(Tableau1[[#This Row],[Prochain CTC]]),"",IF(Tableau1[[#This Row],[Prochain CTC]]<$C$3,"Oui",""))
P273: =IF(ISBLANK(Tableau1[[#This Row],[Prochain CT]]),"",IF(Tableau1[[#This Row],[Prochain CT]]<$C$3,"Oui","")) | S273: =IF(ISBLANK(Tableau1[[#This Row],[Prochain CTC]]),"",IF(Tableau1[[#This Row],[Prochain CTC]]<$C$3,"Oui",""))
P274: =IF(ISBLANK(Tableau1[[#This Row],[Prochain CT]]),"",IF(Tableau1[[#This Row],[Prochain CT]]<$C$3,"Oui","")) | S274: =IF(ISBLANK(Tableau1[[#This Row],[Prochain CTC]]),"",IF(Tableau1[[#This Row],[Prochain CTC]]<$C$3,"Oui",""))
P275: =IF(ISBLANK(Tableau1[[#This Row],[Prochain CT]]),"",IF(Tableau1[[#This Row],[Prochain CT]]<$C$3,"Oui","")) | S275: =IF(ISBLANK(Tableau1[[#This Row],[Prochain CTC]]),"",IF(Tableau1[[#This Row],[Prochain CTC]]<$C$3,"Oui",""))
P276: =IF(ISBLANK(Tableau1[[#This Row],[Prochain CT]]),"",IF(Tableau1[[#This Row],[Prochain CT]]<$C$3,"Oui","")) | S276: =IF(ISBLANK(Tableau1[[#This Row],[Prochain CTC]]),"",IF(Tableau1[[#This Row],[Prochain CTC]]<$C$3,"Oui",""))
... P280: =IF(ISBLANK(Tableau1[[#This Row],[Prochain CT]]),"",IF(Tableau1[[#This Row],[Prochain CT]]<$C$3,"Oui","")) | S280: =IF(ISBLANK(Tableau1[[#This Row],[Prochain CTC]]),"",IF(Tableau1[[#This Row],[Prochain CTC]]<$C$3,"Oui",""))

Sheet FACTURATION VEH
A1: Immatriculation | B1: Date | C1: Fournisseur | D1: Désignation | E1: Prix HT | F1: N° facture | G1: Date facture

Sheet PRISE EN CHARGE
A1: Immatriculation | B1: Date | C1: Problème / Panne | D1: Travaux effectués | E1: Fourniture utilisé

Sheet SUIVI KM COMMERCIAUX
A1: Immat | B1: Commercial | C1: Propriétaire | D1: Début contrat | E1: Fin de contrat | F1: Km initial du véhicule | G1: Km inclus/an | H1: KM 2018 | I1: KM 2019 | J1: KM 2020 | K1: KM 2021 | L1: KM 2022 | M1: KM 2023 | N1: TOTAL KM EFFECTUES | O1: KM INCLUS RESTANTS | P1: KM supposé du véhicule | Q1: KM relevé par commercial | R1: Écart
