Workbook

Sheet Sheet
A1: Saison | B1: Ordre d'achat/PO Fournisseur | C1: Ordre d'achat/PO | D1: Code | E1: Description | F1: Couleur | G1: Description | H1: Taille | I1: Composition Style | J1: Quantité Commandée | K1: Unité d'Achat | L1: Produit réalisé GTIN | M1: Ordre d'achat/PO Numéro document Externe (ERP)
A2: PE 2019 | B2: ACCGFD | C2: ACCGFD ODA0033 - Collection - PE 2019 | D2: 99ACTCEE0003 | E2: H BLA CEINTURE COFFRET VELOURS | F2: BLF | G2: MARINE EP | H2: 90 | I2: 100% VACHETTE | J2: 11 | K2: PIECE | L2: 3600000422641 | M2: PLM0033
A3: PE 2019 | B3: ACCGFD | C3: ACCGFD ODA0033 - Collection - PE 2019 | D3: 99ACTCEE0004 | E3: H BLA CEINTURE CUIR LISSE | F3: BLF | G3: MARINE EP | H3: 90 | I3: 100% VACHETTE | J3: 2 | K3: PIECE | L3: 3600000422658 | M3: PLM0033
A4: PE 2019 | B4: ACCGFD | C4: ACCGFD ODA0033 - Collection - PE 2019 | D4: 99ACTCEE0004 | E4: H BLA CEINTURE CUIR LISSE | F4: MAM3 | G4: ANGUS | H4: 90 | I4: 100% VACHETTE | J4: 2 | K4: PIECE | L4: 3600000422665 | M4: PLM0033
A5: PE 2019 | B5: ACCGFD | C5: ACCGFD ODA0033 - Collection - PE 2019 | D5: 99ACTCEE0005 | E5: H BLA CEINTURE CUIR GRAINE CLASSIQUE | F5: MAF1 | G5: TERRE | H5: 90 | I5: 100% VACHETTE | J5: 2 | K5: PIECE | L5: 3600000422672 | M5: PLM0033
A6: PE 2019 | B6: ACCGFD | C6: ACCGFD ODA0033 - Collection - PE 2019 | D6: 99ACTCEE0005 | E6: H BLA CEINTURE CUIR GRAINE CLASSIQUE | F6: NO | G6: NOIR | H6: 90 | I6: 100% VACHETTE | J6: 11 | K6: PIECE | L6: 3600000422689 | M6: PLM0033
A7: PE 2019 | B7: ACCGFD | C7: ACCGFD ODA0033 - Collection - PE 2019 | D7: 99ACTCEE0006 | E7: H BLA CEINTURE VELOURS CLASSIQUE | F7: BEM | G7: SABLE | H7: 90 | I7: 100% VACHETTE | J7: 2 | K7: PIECE | L7: 3600000422696 | M7: PLM0033
A8: PE 2019 | B8: ACCGFD | C8: ACCGFD ODA0033 - Collection - PE 2019 | D8: 99ACTCEE0006 | E8: H BLA CEINTURE VELOURS CLASSIQUE | F8: MAM2 | G8: PECAN | H8: 90 | I8: 100% VACHETTE | J8: 2 | K8: PIECE | L8: 3600000422702 | M8: PLM0033
A9: PE 2019 | B9: ACCGFD | C9: ACCGFD ODA0033 - Collection - PE 2019 | D9: 99ACTCEE0007 | E9: H BLE CEINTURE CUIR TIE | F9: BLF | G9: MARINE EP | H9: 90 | I9: 100% POLYESTER | J9: 2 | K9: PIECE | L9: 3600000422719 | M9: PLM0033
A10: PE 2019 | B10: ACCGFD | C10: ACCGFD ODA0033 - Collection - PE 2019 | D10: 99ACTCEE0009 | E10: H BLE CEINTURE SANGLE 35 | F10: BLM7 | G10: FRANCE | H10: 90 | I10: 70% COTON, 20% POLYESTER, 10% POLYAMIDE / NYLON | J10: 2 | K10: PIECE | L10: 3600000422726 | M10: PLM0033
A11: PE 2019 | B11: ACCGFD | C11: ACCGFD ODA0033 - Collection - PE 2019 | D11: 99ACTCEE0009 | E11: H BLE CEINTURE SANGLE 35 | F11: RGM1 | G11: TANGO | H11: 90 | I11: 70% COTON, 20% POLYESTER, 10% POLYAMIDE / NYLON | J11: 11 | K11: PIECE | L11: 3600000422733 | M11: PLM0033
A12: PE 2019 | B12: ACCGFD | C12: ACCGFD ODA0033 - Collection - PE 2019 | D12: 99ACTCEE0010 | E12: H BLE CEINTURE PERFO | F12: MAM3 | G12: ANGUS | H12: 90 | I12: 100% VACHETTE | J12: 2 | K12: PIECE | L12: 3600000422740 | M12: PLM0033
A13: PE 2019 | B13: ACCGFD | C13: ACCGFD ODA0033 - Collection - PE 2019 | D13: 99ACTCEE0012 | E13: H BLA CEINTURE COFFRET REVERSIBLE | F13: NO | G13: NOIR | H13: 90 | I13: 100% VACHETTE | J13: 11 | K13: PIECE | L13: 3600000422757 | M13: PLM0033

Sheet Maquette A4
B2: =Sheet!$D2 -> 99ACTCEE0003 | E2: =Sheet!$A2 -> PE 2019 | I2: =B2 -> 99ACTCEE0003 | L2: =E2 -> PE 2019 | P2: =B2 -> 99ACTCEE0003 | S2: =L2 -> PE 2019
B3: =Sheet!$E2 -> H BLA CEINTURE COFFRET VELOURS | I3: =B3 -> H BLA CEINTURE COFFRET VELOURS | P3: =B3 -> H BLA CEINTURE COFFRET VELOURS
B4: =Sheet!$L2 -> 3600000422641 | I4: =B4 -> 3600000422641 | P4: =B4 -> 3600000422641
B5: =Sheet!$F2 -> BLF | C5: =Sheet!$G2 -> MARINE EP | D5: Taille : | E5: =Sheet!$H2 -> 90 | I5: =B5 -> BLF | J5: =C5 -> MARINE EP | K5: Taille : | L5: =E5 -> 90 | P5: =B5 -> BLF | Q5: =C5 -> MARINE EP | R5: Taille : | S5: =E5 -> 90
B6: =Sheet!$I2 -> 100% VACHETTE | I6: =P6=B6 -> TRUE | P6: =B6 -> 100% VACHETTE
B9: =B2 -> 99ACTCEE0003 | E9: =E2 -> PE 2019 | I9: =B2 -> 99ACTCEE0003 | L9: =E2 -> PE 2019 | P9: =B2 -> 99ACTCEE0003 | S9: =E2 -> PE 2019
B10: =B3 -> H BLA CEINTURE COFFRET VELOURS | I10: =B3 -> H BLA CEINTURE COFFRET VELOURS | P10: =B3 -> H BLA CEINTURE COFFRET VELOURS
B11: =B4 -> 3600000422641 | I11: =B4 -> 3600000422641 | P11: =B4 -> 3600000422641
B12: =B5 -> BLF | C12: =C5 -> MARINE EP | D12: Taille : | E12: =E5 -> 90 | I12: =B5 -> BLF | J12: =C5 -> MARINE EP | K12: Taille : | L12: =E5 -> 90 | P12: =B5 -> BLF | Q12: =C5 -> MARINE EP | R12: Taille : | S12: =E5 -> 90
B13: =B6 -> 100% VACHETTE | I13: =B6 -> 100% VACHETTE | P13: =B6 -> 100% VACHETTE
B16: =B2 -> 99ACTCEE0003 | E16: =E2 -> PE 2019 | I16: =B2 -> 99ACTCEE0003 | L16: =E2 -> PE 2019 | P16: =B2 -> 99ACTCEE0003 | S16: =E2 -> PE 2019
B17: =B3 -> H BLA CEINTURE COFFRET VELOURS | I17: =B3 -> H BLA CEINTURE COFFRET VELOURS | P17: =B3 -> H BLA CEINTURE COFFRET VELOURS
B18: =B4 -> 3600000422641 | I18: =B4 -> 3600000422641 | P18: =B4 -> 3600000422641
B19: =B5 -> BLF | C19: =C5 -> MARINE EP | D19: Taille : | E19: =E5 -> 90 | I19: =B5 -> BLF | J19: =C5 -> MARINE EP | K19: Taille : | L19: =E5 -> 90 | P19: =B5 -> BLF | Q19: =C5 -> MARINE EP | R19: Taille : | S19: =E5 -> 90
B20: =B6 -> 100% VACHETTE | I20: =B6 -> 100% VACHETTE | P20: =B6 -> 100% VACHETTE
B23: =B2 -> 99ACTCEE0003 | E23: =E2 -> PE 2019 | I23: =B2 -> 99ACTCEE0003 | L23: =E2 -> PE 2019 | P23: =B2 -> 99ACTCEE0003 | S23: =E2 -> PE 2019
B24: =B3 -> H BLA CEINTURE COFFRET VELOURS | I24: =B3 -> H BLA CEINTURE COFFRET VELOURS | P24: =B3 -> H BLA CEINTURE COFFRET VELOURS
B25: =B4 -> 3600000422641 | I25: =B4 -> 3600000422641 | P25: =B4 -> 3600000422641
B26: =B5 -> BLF | C26: =C5 -> MARINE EP | D26: Taille : | E26: =E5 -> 90 | I26: =B5 -> BLF | J26: =C5 -> MARINE EP | K26: Taille : | L26: =E5 -> 90 | P26: =B5 -> BLF | Q26: =C5 -> MARINE EP | R26: Taille : | S26: =E5 -> 90
B27: =B6 -> 100% VACHETTE | I27: =B6 -> 100% VACHETTE | P27: =B6 -> 100% VACHETTE
B30: =B2 -> 99ACTCEE0003 | E30: =E2 -> PE 2019 | I30: =B2 -> 99ACTCEE0003 | L30: =E2 -> PE 2019 | P30: =B2 -> 99ACTCEE0003 | S30: =E2 -> PE 2019
B31: =B3 -> H BLA CEINTURE COFFRET VELOURS | I31: =B3 -> H BLA CEINTURE COFFRET VELOURS | P31: =B3 -> H BLA CEINTURE COFFRET VELOURS
B32: =B4 -> 3600000422641 | I32: =B4 -> 3600000422641 | P32: =B4 -> 3600000422641
B33: =B5 -> BLF | C33: =C5 -> MARINE EP | D33: Taille : | E33: =E5 -> 90 | I33: =B5 -> BLF | J33: =C5 -> MARINE EP | K33: Taille : | L33: =E5 -> 90 | P33: =B5 -> BLF | Q33: =C5 -> MARINE EP | R33: Taille : | S33: =E5 -> 90
B34: =B6 -> 100% VACHETTE | I34: =B6 -> 100% VACHETTE | P34: =B6 -> 100% VACHETTE
B37: =B2 -> 99ACTCEE0003 | E37: =E2 -> PE 2019 | I37: =B2 -> 99ACTCEE0003 | L37: =E2 -> PE 2019 | P37: =B2 -> 99ACTCEE0003 | S37: =E2 -> PE 2019
B38: =B3 -> H BLA CEINTURE COFFRET VELOURS | I38: =B3 -> H BLA CEINTURE COFFRET VELOURS | P38: =B3 -> H BLA CEINTURE COFFRET VELOURS
B39: =B4 -> 3600000422641 | I39: =B4 -> 3600000422641 | P39: =B4 -> 3600000422641
B40: =B5 -> BLF | C40: =C5 -> MARINE EP | D40: Taille : | E40: =E5 -> 90 | I40: =B5 -> BLF | J40: =C5 -> MARINE EP | K40: Taille : | L40: =E5 -> 90 | P40: =B5 -> BLF | Q40: =C5 -> MARINE EP | R40: Taille : | S40: =E5 -> 90
B41: =B6 -> 100% VACHETTE | I41: =B6 -> 100% VACHETTE | P41: =B6 -> 100% VACHETTE
B44: =B2 -> 99ACTCEE0003 | E44: =E2 -> PE 2019 | I44: =B2 -> 99ACTCEE0003 | L44: =E2 -> PE 2019 | P44: =B2 -> 99ACTCEE0003 | S44: =E2 -> PE 2019
B45: =B3 -> H BLA CEINTURE COFFRET VELOURS | I45: =B3 -> H BLA CEINTURE COFFRET VELOURS | P45: =B3 -> H BLA CEINTURE COFFRET VELOURS
B46: =B4 -> 3600000422641 | I46: =B4 -> 3600000422641 | P46: =B4 -> 3600000422641
B47: =B5 -> BLF | C47: =C5 -> MARINE EP | D47: Taille : | E47: =E5 -> 90 | I47: =B5 -> BLF | J47: =C5 -> MARINE EP | K47: Taille : | L47: =E5 -> 90 | P47: =B5 -> BLF | Q47: =C5 -> MARINE EP | R47: Taille : | S47: =E5 -> 90
B48: =B6 -> 100% VACHETTE | I48: =B6 -> 100% VACHETTE | P48: =B6 -> 100% VACHETTE
