Workbook
Name LISTEISPLCR: '[1]LISTE ISP LCR'!$A$2:$A$12

Sheet RÉPARTITION
A1: RÉPARTITION DU TRAVAIL
B3: JANVIER | H3: JANVIER | N3: FÉVRIER | T3: MARS | Z3: AVRIL | AF3: MAI | AL3: JUIN | AR3: JUILLET | AX3: AOÛT | BD3: SEPTEMBRE | BJ3: OCTOBRE | BP3: NOVEMBRE | BV3: DÉCEMBRE
B4: NBRE DE JOURS DE TRAVAIL | C4: NBRE DE CONGÉS | D4: T1 | E4: T2 | F4: T3 | G4: T4 | H4: NBRE DE JOURS DE TRAVAIL | I4: NBRE DE CONGÉS | J4: T1 | K4: T2 | L4: T3 | M4: T4 | N4: NBRE DE JOURS DE TRAVAIL | O4: NBRE DE CONGÉS | P4: T1 | Q4: T2 | R4: T3 | S4: T4 | T4: NBRE DE JOURS DE TRAVAIL | U4: NBRE DE CONGÉS | V4: T1 | W4: T2 | X4: T3 | Y4: T4 | Z4: NBRE DE JOURS DE TRAVAIL | AA4: NBRE DE CONGÉS | AB4: T1 | AC4: T2 | AD4: T3 | AE4: T4 | AF4: NBRE DE JOURS DE TRAVAIL | AG4: NBRE DE CONGÉS | AH4: T1 | AI4: T2 | AJ4: T3 | AK4: T4 | AL4: NBRE DE JOURS DE TRAVAIL | AM4: NBRE DE CONGÉS | AN4: T1 | AO4: T2 | AP4: T3 | AQ4: T4 | AR4: NBRE DE JOURS DE TRAVAIL | AS4: NBRE DE CONGÉS | AT4: T1 | AU4: T2 | AV4: T3 | AW4: T4 | AX4: NBRE DE JOURS DE TRAVAIL | AY4: NBRE DE CONGÉS | AZ4: T1 | BA4: T2 | BB4: T3 | BC4: T4 | BD4: NBRE DE JOURS DE TRAVAIL | BE4: NBRE DE CONGÉS | BF4: T1 | BG4: T2 | BH4: T3 | BI4: T4 | BJ4: NBRE DE JOURS DE TRAVAIL | BK4: NBRE DE CONGÉS | BL4: T1 | BM4: T2 | BN4: T3 | BO4: T4 | BP4: NBRE DE JOURS DE TRAVAIL | BQ4: NBRE DE CONGÉS | BR4: T1 | BS4: T2 | BT4: T3 | BU4: T4 | BV4: NBRE DE JOURS DE TRAVAIL | BW4: NBRE DE CONGÉS | BX4: T1 | BY4: T2 | BZ4: T3 | CA4: T4
A5: =PLANNING!$A$8 -> ALS | B5: 11 | C5: 7 | D5: X
A6: =PLANNING!$A$9 -> VD | B6: 10 | C6: 9 | E6: X
A7: =PLANNING!$A$10 -> new | B7: 10 | C7: 4 | F7: X
A8: =PLANNING!$A$11 -> SL
A9: =PLANNING!$A$12 -> EC
A10: =PLANNING!$A$13 -> MN
A11: =PLANNING!$A$14 -> EB
A12: =PLANNING!$A$15 -> MB
A13: =PLANNING!$A$16 -> new
A14: =PLANNING!$A$17 -> REMPL1 | B14: 13 | G14: X
A15: =PLANNING!$A$18 -> REMPL2
A16: =PLANNING!$A$19 -> MW

Sheet PLANNING
A2: 2019 | B2: 1
B4: ="Période du "&TEXT(DATE($A$2, $B2,1)," jj mmmm aaaa") &" au " &TEXT(DATE($A$2, $B2+1,1)-1," jj mmmm aaaa") -> Période du 01 janvier 2019 au 31 janvier 2019
B6: =DATE($A2,$B2,COLUMN()-1) -> 43466 | C6: =DATE($A2,$B2,COLUMN()-1) -> 43467 | D6: =DATE($A2,$B2,COLUMN()-1) -> 43468 | E6: =DATE($A2,$B2,COLUMN()-1) -> 43469 | F6: =DATE($A2,$B2,COLUMN()-1) -> 43470 | G6: =DATE($A2,$B2,COLUMN()-1) -> 43471 | H6: =DATE($A2,$B2,COLUMN()-1) -> 43472 | I6: =DATE($A2,$B2,COLUMN()-1) -> 43473 | ... AC6: =DATE($A2,$B2,COLUMN()-1) -> 43493 | AD6: =IF(MONTH(DATE($A2,$B2,COLUMN()-1))=$B2,DATE($A2,$B2,COLUMN()-1),"") -> 43494 | AE6: =IF(MONTH(DATE($A2,$B2,COLUMN()-1))=$B2,DATE($A2,$B2,COLUMN()-1),"") -> 43495 | AF6: =IF(MONTH(DATE($A2,$B2,COLUMN()-1))=$B2,DATE($A2,$B2,COLUMN()-1),"") -> 43496 | AG6: JOURS TRAVAILLÉS | AH6: NB SAMEDI | AI6: NB DIMANCHE | AJ6: T1 | AK6: T2 | AL6: T3 | AM6: T4
B7: =B6 -> 43466 | C7: =C6 -> 43467 | D7: =D6 -> 43468 | E7: =E6 -> 43469 | F7: =F6 -> 43470 | G7: =G6 -> 43471 | H7: =H6 -> 43472 | I7: =I6 -> 43473 | ... AF7: =AF6 -> 43496
A8: ALS | B8: T1 | C8: T1 | F8: T1 | G8: T1 | K8: T1 | L8: T1 | R8: T1 | S8: T1 | T8: T4 | U8: T4 | AC8: T1 | AD8: T1 | AE8: T1 | AG8: =COUNTA(OFFSET($B8,,,,COUNT($B$6:$AF$6))) -> 13 | AH8: =SUMPRODUCT((WEEKDAY(OFFSET($B$6,,,,COUNT($B$6:$AF$6)))=7)*(OFFSET($B8,,,,COUNT($B$6:$AF$6))<>"")) -> 2 | AI8: =SUMPRODUCT((WEEKDAY(OFFSET($B$6,,,,COUNT($B$6:$AF$6)))=1)*(OFFSET($B8,,,,COUNT($B$6:$AF$6))<>"")) -> 2 | AJ8: =COUNTIF(OFFSET($B8,,,,COUNT($B$6:$AF$6)),AJ$6) -> 11 | AK8: =COUNTIF(OFFSET($B8,,,,COUNT($B$6:$AF$6)),AK$6) -> 0 | AL8: =COUNTIF(OFFSET($B8,,,,COUNT($B$6:$AF$6)),AL$6) -> 0 | AM8: =COUNTIF(OFFSET($B8,,,,COUNT($B$6:$AF$6)),AM$6) -> 2
A9: VD | B9: T2 | C9: T2 | F9: T2 | G9: T2 | K9: T2 | L9: T2 | R9: T2 | S9: T2 | Y9: T4 | Z9: T4 | AC9: T2 | AD9: T2 | AE9: T2 | AG9: =COUNTA(OFFSET($B9,,,,COUNT($B$6:$AF$6))) -> 13 | AH9: =SUMPRODUCT((WEEKDAY(OFFSET($B$6,,,,COUNT($B$6:$AF$6)))=7)*(OFFSET($B9,,,,COUNT($B$6:$AF$6))<>"")) -> 1 | AI9: =SUMPRODUCT((WEEKDAY(OFFSET($B$6,,,,COUNT($B$6:$AF$6)))=1)*(OFFSET($B9,,,,COUNT($B$6:$AF$6))<>"")) -> 1 | AJ9: =COUNTIF(OFFSET($B9,,,,COUNT($B$6:$AF$6)),AJ$6) -> 0 | AK9: =COUNTIF(OFFSET($B9,,,,COUNT($B$6:$AF$6)),AK$6) -> 11 | AL9: =COUNTIF(OFFSET($B9,,,,COUNT($B$6:$AF$6)),AL$6) -> 0 | AM9: =COUNTIF(OFFSET($B9,,,,COUNT($B$6:$AF$6)),AM$6) -> 2
A10: new | B10: T3 | C10: T3 | F10: T3 | G10: T3 | K10: T3 | L10: T3 | R10: T3 | S10: T3 | AC10: T3 | AD10: T3 | AE10: T3 | AG10: =COUNTA(OFFSET($B10,,,,COUNT($B$6:$AF$6))) -> 11 | AH10: =SUMPRODUCT((WEEKDAY(OFFSET($B$6,,,,COUNT($B$6:$AF$6)))=7)*(OFFSET($B10,,,,COUNT($B$6:$AF$6))<>"")) -> 1 | AI10: =SUMPRODUCT((WEEKDAY(OFFSET($B$6,,,,COUNT($B$6:$AF$6)))=1)*(OFFSET($B10,,,,COUNT($B$6:$AF$6))<>"")) -> 1 | AJ10: =COUNTIF(OFFSET($B10,,,,COUNT($B$6:$AF$6)),AJ$6) -> 0 | AK10: =COUNTIF(OFFSET($B10,,,,COUNT($B$6:$AF$6)),AK$6) -> 0 | AL10: =COUNTIF(OFFSET($B10,,,,COUNT($B$6:$AF$6)),AL$6) -> 11 | AM10: =COUNTIF(OFFSET($B10,,,,COUNT($B$6:$AF$6)),AM$6) -> 0
A11: SL | D11: T1 | E11: T1 | H11: T1 | I11: T1 | J11: T1 | O11: T4 | P11: T1 | Q11: T1 | T11: T1 | U11: T1 | Y11: T1 | Z11: T1 | AG11: =COUNTA(OFFSET($B11,,,,COUNT($B$6:$AF$6))) -> 12 | AH11: =SUMPRODUCT((WEEKDAY(OFFSET($B$6,,,,COUNT($B$6:$AF$6)))=7)*(OFFSET($B11,,,,COUNT($B$6:$AF$6))<>"")) -> 1 | AI11: =SUMPRODUCT((WEEKDAY(OFFSET($B$6,,,,COUNT($B$6:$AF$6)))=1)*(OFFSET($B11,,,,COUNT($B$6:$AF$6))<>"")) -> 1 | AJ11: =COUNTIF(OFFSET($B11,,,,COUNT($B$6:$AF$6)),AJ$6) -> 11 | AK11: =COUNTIF(OFFSET($B11,,,,COUNT($B$6:$AF$6)),AK$6) -> 0 | AL11: =COUNTIF(OFFSET($B11,,,,COUNT($B$6:$AF$6)),AL$6) -> 0 | AM11: =COUNTIF(OFFSET($B11,,,,COUNT($B$6:$AF$6)),AM$6) -> 1
A12: EC | D12: T2 | E12: T2 | H12: T2 | I12: T2 | J12: T2 | P12: T2 | Q12: T2 | T12: T2 | U12: T2 | Y12: T2 | Z12: T2 | AD12: T4 | AE12: T4 | AG12: =COUNTA(OFFSET($B12,,,,COUNT($B$6:$AF$6))) -> 13 | AH12: =SUMPRODUCT((WEEKDAY(OFFSET($B$6,,,,COUNT($B$6:$AF$6)))=7)*(OFFSET($B12,,,,COUNT($B$6:$AF$6))<>"")) -> 1 | AI12: =SUMPRODUCT((WEEKDAY(OFFSET($B$6,,,,COUNT($B$6:$AF$6)))=1)*(OFFSET($B12,,,,COUNT($B$6:$AF$6))<>"")) -> 1 | AJ12: =COUNTIF(OFFSET($B12,,,,COUNT($B$6:$AF$6)),AJ$6) -> 0 | AK12: =COUNTIF(OFFSET($B12,,,,COUNT($B$6:$AF$6)),AK$6) -> 11 | AL12: =COUNTIF(OFFSET($B12,,,,COUNT($B$6:$AF$6)),AL$6) -> 0 | AM12: =COUNTIF(OFFSET($B12,,,,COUNT($B$6:$AF$6)),AM$6) -> 2
A13: MN | D13: T3 | E13: T3 | H13: T3 | I13: T3 | J13: T3 | P13: T3 | Q13: T3 | T13: T3 | U13: T3 | Y13: T3 | Z13: T3 | AG13: =COUNTA(OFFSET($B13,,,,COUNT($B$6:$AF$6))) -> 11 | AH13: =SUMPRODUCT((WEEKDAY(OFFSET($B$6,,,,COUNT($B$6:$AF$6)))=7)*(OFFSET($B13,,,,COUNT($B$6:$AF$6))<>"")) -> 1 | AI13: =SUMPRODUCT((WEEKDAY(OFFSET($B$6,,,,COUNT($B$6:$AF$6)))=1)*(OFFSET($B13,,,,COUNT($B$6:$AF$6))<>"")) -> 1 | AJ13: =COUNTIF(OFFSET($B13,,,,COUNT($B$6:$AF$6)),AJ$6) -> 0 | AK13: =COUNTIF(OFFSET($B13,,,,COUNT($B$6:$AF$6)),AK$6) -> 0 | AL13: =COUNTIF(OFFSET($B13,,,,COUNT($B$6:$AF$6)),AL$6) -> 11 | AM13: =COUNTIF(OFFSET($B13,,,,COUNT($B$6:$AF$6)),AM$6) -> 0
A14: EB | B14: T4 | C14: T4 | M14: T1 | N14: T1 | O14: T1 | R14: T4 | V14: T1 | W14: T1 | X14: T1 | AA14: T1 | AB14: T1 | AF14: T1 | AG14: =COUNTA(OFFSET($B14,,,,COUNT($B$6:$AF$6))) -> 12 | AH14: =SUMPRODUCT((WEEKDAY(OFFSET($B$6,,,,COUNT($B$6:$AF$6)))=7)*(OFFSET($B14,,,,COUNT($B$6:$AF$6))<>"")) -> 2 | AI14: =SUMPRODUCT((WEEKDAY(OFFSET($B$6,,,,COUNT($B$6:$AF$6)))=1)*(OFFSET($B14,,,,COUNT($B$6:$AF$6))<>"")) -> 2 | AJ14: =COUNTIF(OFFSET($B14,,,,COUNT($B$6:$AF$6)),AJ$6) -> 9 | AK14: =COUNTIF(OFFSET($B14,,,,COUNT($B$6:$AF$6)),AK$6) -> 0 | AL14: =COUNTIF(OFFSET($B14,,,,COUNT($B$6:$AF$6)),AL$6) -> 0 | AM14: =COUNTIF(OFFSET($B14,,,,COUNT($B$6:$AF$6)),AM$6) -> 3
A15: MB | D15: T4 | E15: T4 | M15: T2 | N15: T2 | O15: T2 | S15: T4 | V15: T2 | W15: T2 | X15: T2 | AA15: T2 | AB15: T2 | AF15: T2 | AG15: =COUNTA(OFFSET($B15,,,,COUNT($B$6:$AF$6))) -> 12 | AH15: =SUMPRODUCT((WEEKDAY(OFFSET($B$6,,,,COUNT($B$6:$AF$6)))=7)*(OFFSET($B15,,,,COUNT($B$6:$AF$6))<>"")) -> 2 | AI15: =SUMPRODUCT((WEEKDAY(OFFSET($B$6,,,,COUNT($B$6:$AF$6)))=1)*(OFFSET($B15,,,,COUNT($B$6:$AF$6))<>"")) -> 2 | AJ15: =COUNTIF(OFFSET($B15,,,,COUNT($B$6:$AF$6)),AJ$6) -> 0 | AK15: =COUNTIF(OFFSET($B15,,,,COUNT($B$6:$AF$6)),AK$6) -> 9 | AL15: =COUNTIF(OFFSET($B15,,,,COUNT($B$6:$AF$6)),AL$6) -> 0 | AM15: =COUNTIF(OFFSET($B15,,,,COUNT($B$6:$AF$6)),AM$6) -> 3
A16: new | H16: T4 | I16: T4 | J16: T4 | M16: T3 | N16: T3 | O16: T3 | V16: T3 | W16: T3 | X16: T3 | AA16: T3 | AB16: T3 | AF16: T3 | AG16: =COUNTA(OFFSET($B16,,,,COUNT($B$6:$AF$6))) -> 12 | AH16: =SUMPRODUCT((WEEKDAY(OFFSET($B$6,,,,COUNT($B$6:$AF$6)))=7)*(OFFSET($B16,,,,COUNT($B$6:$AF$6))<>"")) -> 2 | AI16: =SUMPRODUCT((WEEKDAY(OFFSET($B$6,,,,COUNT($B$6:$AF$6)))=1)*(OFFSET($B16,,,,COUNT($B$6:$AF$6))<>"")) -> 2 | AJ16: =COUNTIF(OFFSET($B16,,,,COUNT($B$6:$AF$6)),AJ$6) -> 0 | AK16: =COUNTIF(OFFSET($B16,,,,COUNT($B$6:$AF$6)),AK$6) -> 0 | AL16: =COUNTIF(OFFSET($B16,,,,COUNT($B$6:$AF$6)),AL$6) -> 9 | AM16: =COUNTIF(OFFSET($B16,,,,COUNT($B$6:$AF$6)),AM$6) -> 3
A17: REMPL1 | F17: T4 | G17: T4 | K17: T4 | L17: T4 | P17: T4 | Q17: T4 | V17: T4 | W17: T4 | X17: T4 | AA17: T4 | AB17: T4 | AC17: T4 | AF17: T4 | AG17: =COUNTA(OFFSET($B17,,,,COUNT($B$6:$AF$6))) -> 13 | AH17: =SUMPRODUCT((WEEKDAY(OFFSET($B$6,,,,COUNT($B$6:$AF$6)))=7)*(OFFSET($B17,,,,COUNT($B$6:$AF$6))<>"")) -> 2 | AI17: =SUMPRODUCT((WEEKDAY(OFFSET($B$6,,,,COUNT($B$6:$AF$6)))=1)*(OFFSET($B17,,,,COUNT($B$6:$AF$6))<>"")) -> 2 | AJ17: =COUNTIF(OFFSET($B17,,,,COUNT($B$6:$AF$6)),AJ$6) -> 0 | AK17: =COUNTIF(OFFSET($B17,,,,COUNT($B$6:$AF$6)),AK$6) -> 0 | AL17: =COUNTIF(OFFSET($B17,,,,COUNT($B$6:$AF$6)),AL$6) -> 0 | AM17: =COUNTIF(OFFSET($B17,,,,COUNT($B$6:$AF$6)),AM$6) -> 13
A18: REMPL2 | AG18: =COUNTA(OFFSET($B18,,,,COUNT($B$6:$AF$6))) -> 0 | AH18: =SUMPRODUCT((WEEKDAY(OFFSET($B$6,,,,COUNT($B$6:$AF$6)))=7)*(OFFSET($B18,,,,COUNT($B$6:$AF$6))<>"")) -> 0 | AI18: =SUMPRODUCT((WEEKDAY(OFFSET($B$6,,,,COUNT($B$6:$AF$6)))=1)*(OFFSET($B18,,,,COUNT($B$6:$AF$6))<>"")) -> 0 | AJ18: =COUNTIF(OFFSET($B18,,,,COUNT($B$6:$AF$6)),AJ$6) -> 0 | AK18: =COUNTIF(OFFSET($B18,,,,COUNT($B$6:$AF$6)),AK$6) -> 0 | AL18: =COUNTIF(OFFSET($B18,,,,COUNT($B$6:$AF$6)),AL$6) -> 0 | AM18: =COUNTIF(OFFSET($B18,,,,COUNT($B$6:$AF$6)),AM$6) -> 0
A19: MW | M19: T4 | N19: T4 | AG19: =COUNTA(OFFSET($B19,,,,COUNT($B$6:$AF$6))) -> 2 | AH19: =SUMPRODUCT((WEEKDAY(OFFSET($B$6,,,,COUNT($B$6:$AF$6)))=7)*(OFFSET($B19,,,,COUNT($B$6:$AF$6))<>"")) -> 1 | AI19: =SUMPRODUCT((WEEKDAY(OFFSET($B$6,,,,COUNT($B$6:$AF$6)))=1)*(OFFSET($B19,,,,COUNT($B$6:$AF$6))<>"")) -> 1 | AJ19: =COUNTIF(OFFSET($B19,,,,COUNT($B$6:$AF$6)),AJ$6) -> 0 | AK19: =COUNTIF(OFFSET($B19,,,,COUNT($B$6:$AF$6)),AK$6) -> 0 | AL19: =COUNTIF(OFFSET($B19,,,,COUNT($B$6:$AF$6)),AL$6) -> 0 | AM19: =COUNTIF(OFFSET($B19,,,,COUNT($B$6:$AF$6)),AM$6) -> 2
B20: =COUNTA(B8:B19) -> 4 | C20: =COUNTA(C8:C19) -> 4 | D20: =COUNTA(D8:D19) -> 4 | E20: =COUNTA(E8:E19) -> 4 | F20: =COUNTA(F8:F19) -> 4 | G20: =COUNTA(G8:G19) -> 4 | H20: =COUNTA(H8:H19) -> 4 | I20: =COUNTA(I8:I19) -> 4 | ... AC20: =COUNTA(AC8:AC19) -> 4 | AD20: =IF(AD6<>"",COUNTA(AD8:AD19),"") -> 4 | AE20: =IF(AE6<>"",COUNTA(AE8:AE19),"") -> 4 | AF20: =IF(AF6<>"",COUNTA(AF8:AF19),"") -> 4
A22: =$A$2 -> 2019 | B22: 2
B24: ="Période du "&TEXT(DATE($A$2, $B22,1)," jj mmmm aaaa") &" au " &TEXT(DATE($A$2, $B22+1,1)-1," jj mmmm aaaa") -> Période du 01 février 2019 au 28 février 2019
B26: =DATE($A22,$B22,COLUMN()-1) -> 43497 | C26: =DATE($A22,$B22,COLUMN()-1) -> 43498 | D26: =DATE($A22,$B22,COLUMN()-1) -> 43499 | E26: =DATE($A22,$B22,COLUMN()-1) -> 43500 | F26: =DATE($A22,$B22,COLUMN()-1) -> 43501 | G26: =DATE($A22,$B22,COLUMN()-1) -> 43502 | H26: =DATE($A22,$B22,COLUMN()-1) -> 43503 | I26: =DATE($A22,$B22,COLUMN()-1) -> 43504 | ... AC26: =DATE($A22,$B22,COLUMN()-1) -> 43524 | AD26: =IF(MONTH(DATE($A22,$B22,COLUMN()-1))=$B22,DATE($A22,$B22,COLUMN()-1),"") | AE26: =IF(MONTH(DATE($A22,$B22,COLUMN()-1))=$B22,DATE($A22,$B22,COLUMN()-1),"") | AF26: =IF(MONTH(DATE($A22,$B22,COLUMN()-1))=$B22,DATE($A22,$B22,COLUMN()-1),"") | AG26: JOURS TRAVAILLÉS | AH26: NB SAMEDI | AI26: NB DIMANCHE | AJ26: T1 | AK26: T2 | AL26: T3 | AM26: T4
B27: =B26 -> 43497 | C27: =C26 -> 43498 | D27: =D26 -> 43499 | E27: =E26 -> 43500 | F27: =F26 -> 43501 | G27: =G26 -> 43502 | H27: =H26 -> 43503 | I27: =I26 -> 43504 | ... AF27: =AF26
A28: ALS | C28: T3 | D28: T3 | M28: T4 | O28: T3 | P28: T3 | S28: T3 | T28: T3 | U28: T3 | Z28: T3 | AA28: T3 | AB28: T3 | AG28: =COUNTA(OFFSET($B28,,,,COUNT($B$26:$AF$26))) -> 11 | AH28: =SUMPRODUCT((WEEKDAY(OFFSET($B$26,,,,COUNT($B$26:$AF$26)))=7)*(OFFSET($B28,,,,COUNT($B$26:$AF$26))<>"")) -> 1 | AI28: =SUMPRODUCT((WEEKDAY(OFFSET($B$26,,,,COUNT($B$26:$AF$26)))=1)*(OFFSET($B28,,,,COUNT($B$26:$AF$26))<>"")) -> 1 | AJ28: =COUNTIF(OFFSET($B28,,,,COUNT($B$26:$AF$26)),AJ$26) -> 0 | AK28: =COUNTIF(OFFSET($B28,,,,COUNT($B$26:$AF$26)),AK$26) -> 0 | AL28: =COUNTIF(OFFSET($B28,,,,COUNT($B$26:$AF$26)),AL$26) -> 10 | AM28: =COUNTIF(OFFSET($B28,,,,COUNT($B$26:$AF$26)),AM$26) -> 1
A29: VD | C29: T1 | D29: T1 | O29: T1 | P29: T1 | S29: T1 | T29: T1 | U29: T1 | Z29: T1 | AA29: T1 | AB29: T1 | AG29: =COUNTA(OFFSET($B29,,,,COUNT($B$26:$AF$26))) -> 10 | AH29: =SUMPRODUCT((WEEKDAY(OFFSET($B$26,,,,COUNT($B$26:$AF$26)))=7)*(OFFSET($B29,,,,COUNT($B$26:$AF$26))<>"")) -> 1 | AI29: =SUMPRODUCT((WEEKDAY(OFFSET($B$26,,,,COUNT($B$26:$AF$26)))=1)*(OFFSET($B29,,,,COUNT($B$26:$AF$26))<>"")) -> 1 | AJ29: =COUNTIF(OFFSET($B29,,,,COUNT($B$26:$AF$26)),AJ$26) -> 10 | AK29: =COUNTIF(OFFSET($B29,,,,COUNT($B$26:$AF$26)),AK$26) -> 0 | AL29: =COUNTIF(OFFSET($B29,,,,COUNT($B$26:$AF$26)),AL$26) -> 0 | AM29: =COUNTIF(OFFSET($B29,,,,COUNT($B$26:$AF$26)),AM$26) -> 0
A30: new | C30: T2 | D30: T2 | H30: T4 | I30: T4 | O30: T2 | P30: T2 | S30: T2 | T30: T2 | U30: T2 | Z30: T2 | AA30: T2 | AB30: T2 | AG30: =COUNTA(OFFSET($B30,,,,COUNT($B$26:$AF$26))) -> 12 | AH30: =SUMPRODUCT((WEEKDAY(OFFSET($B$26,,,,COUNT($B$26:$AF$26)))=7)*(OFFSET($B30,,,,COUNT($B$26:$AF$26))<>"")) -> 1 | AI30: =SUMPRODUCT((WEEKDAY(OFFSET($B$26,,,,COUNT($B$26:$AF$26)))=1)*(OFFSET($B30,,,,COUNT($B$26:$AF$26))<>"")) -> 1 | AJ30: =COUNTIF(OFFSET($B30,,,,COUNT($B$26:$AF$26)),AJ$26) -> 0 | AK30: =COUNTIF(OFFSET($B30,,,,COUNT($B$26:$AF$26)),AK$26) -> 10 | AL30: =COUNTIF(OFFSET($B30,,,,COUNT($B$26:$AF$26)),AL$26) -> 0 | AM30: =COUNTIF(OFFSET($B30,,,,COUNT($B$26:$AF$26)),AM$26) -> 2
A31: SL | H31: T3 | I31: T3 | L31: T3 | M31: T3 | N31: T3 | Q31: T3 | R31: T3 | S31: T4 | X31: T3 | Y31: T3 | AG31: =COUNTA(OFFSET($B31,,,,COUNT($B$26:$AF$26))) -> 10 | AH31: =SUMPRODUCT((WEEKDAY(OFFSET($B$26,,,,COUNT($B$26:$AF$26)))=7)*(OFFSET($B31,,,,COUNT($B$26:$AF$26))<>"")) -> 2 | AI31: =SUMPRODUCT((WEEKDAY(OFFSET($B$26,,,,COUNT($B$26:$AF$26)))=1)*(OFFSET($B31,,,,COUNT($B$26:$AF$26))<>"")) -> 2 | AJ31: =COUNTIF(OFFSET($B31,,,,COUNT($B$26:$AF$26)),AJ$26) -> 0 | AK31: =COUNTIF(OFFSET($B31,,,,COUNT($B$26:$AF$26)),AK$26) -> 0 | AL31: =COUNTIF(OFFSET($B31,,,,COUNT($B$26:$AF$26)),AL$26) -> 9 | AM31: =COUNTIF(OFFSET($B31,,,,COUNT($B$26:$AF$26)),AM$26) -> 1
A32: EC | H32: T1 | I32: T1 | L32: T1 | M32: T1 | N32: T1 | Q32: T1 | R32: T1 | X32: T1 | Y32: T1 | AG32: =COUNTA(OFFSET($B32,,,,COUNT($B$26:$AF$26))) -> 9 | AH32: =SUMPRODUCT((WEEKDAY(OFFSET($B$26,,,,COUNT($B$26:$AF$26)))=7)*(OFFSET($B32,,,,COUNT($B$26:$AF$26))<>"")) -> 2 | AI32: =SUMPRODUCT((WEEKDAY(OFFSET($B$26,,,,COUNT($B$26:$AF$26)))=1)*(OFFSET($B32,,,,COUNT($B$26:$AF$26))<>"")) -> 2 | AJ32: =COUNTIF(OFFSET($B32,,,,COUNT($B$26:$AF$26)),AJ$26) -> 9 | AK32: =COUNTIF(OFFSET($B32,,,,COUNT($B$26:$AF$26)),AK$26) -> 0 | AL32: =COUNTIF(OFFSET($B32,,,,COUNT($B$26:$AF$26)),AL$26) -> 0 | AM32: =COUNTIF(OFFSET($B32,,,,COUNT($B$26:$AF$26)),AM$26) -> 0
A33: MN | C33: T4 | D33: T4 | H33: T2 | I33: T2 | L33: T2 | M33: T2 | N33: T2 | Q33: T2 | R33: T2 | X33: T2 | Y33: T2 | AC33: T4 | AG33: =COUNTA(OFFSET($B33,,,,COUNT($B$26:$AF$26))) -> 12 | AH33: =SUMPRODUCT((WEEKDAY(OFFSET($B$26,,,,COUNT($B$26:$AF$26)))=7)*(OFFSET($B33,,,,COUNT($B$26:$AF$26))<>"")) -> 3 | AI33: =SUMPRODUCT((WEEKDAY(OFFSET($B$26,,,,COUNT($B$26:$AF$26)))=1)*(OFFSET($B33,,,,COUNT($B$26:$AF$26))<>"")) -> 3 | AJ33: =COUNTIF(OFFSET($B33,,,,COUNT($B$26:$AF$26)),AJ$26) -> 0 | AK33: =COUNTIF(OFFSET($B33,,,,COUNT($B$26:$AF$26)),AK$26) -> 9 | AL33: =COUNTIF(OFFSET($B33,,,,COUNT($B$26:$AF$26)),AL$26) -> 0 | AM33: =COUNTIF(OFFSET($B33,,,,COUNT($B$26:$AF$26)),AM$26) -> 3
A34: EB | B34: T3 | E34: T3 | F34: T3 | G34: T3 | J34: T3 | K34: T3 | L34: T4 | U34: T4 | V34: T3 | W34: T3 | AC34: T3 | AG34: =COUNTA(OFFSET($B34,,,,COUNT($B$26:$AF$26))) -> 11 | AH34: =SUMPRODUCT((WEEKDAY(OFFSET($B$26,,,,COUNT($B$26:$AF$26)))=7)*(OFFSET($B34,,,,COUNT($B$26:$AF$26))<>"")) -> 1 | AI34: =SUMPRODUCT((WEEKDAY(OFFSET($B$26,,,,COUNT($B$26:$AF$26)))=1)*(OFFSET($B34,,,,COUNT($B$26:$AF$26))<>"")) -> 1 | AJ34: =COUNTIF(OFFSET($B34,,,,COUNT($B$26:$AF$26)),AJ$26) -> 0 | AK34: =COUNTIF(OFFSET($B34,,,,COUNT($B$26:$AF$26)),AK$26) -> 0 | AL34: =COUNTIF(OFFSET($B34,,,,COUNT($B$26:$AF$26)),AL$26) -> 9 | AM34: =COUNTIF(OFFSET($B34,,,,COUNT($B$26:$AF$26)),AM$26) -> 2
A35: MB | B35: T1 | E35: T1 | F35: T1 | G35: T1 | J35: T1 | K35: T1 | T35: T4 | V35: T1 | W35: T1 | AC35: T1 | AG35: =COUNTA(OFFSET($B35,,,,COUNT($B$26:$AF$26))) -> 10 | AH35: =SUMPRODUCT((WEEKDAY(OFFSET($B$26,,,,COUNT($B$26:$AF$26)))=7)*(OFFSET($B35,,,,COUNT($B$26:$AF$26))<>"")) -> 1 | AI35: =SUMPRODUCT((WEEKDAY(OFFSET($B$26,,,,COUNT($B$26:$AF$26)))=1)*(OFFSET($B35,,,,COUNT($B$26:$AF$26))<>"")) -> 1 | AJ35: =COUNTIF(OFFSET($B35,,,,COUNT($B$26:$AF$26)),AJ$26) -> 9 | AK35: =COUNTIF(OFFSET($B35,,,,COUNT($B$26:$AF$26)),AK$26) -> 0 | AL35: =COUNTIF(OFFSET($B35,,,,COUNT($B$26:$AF$26)),AL$26) -> 0 | AM35: =COUNTIF(OFFSET($B35,,,,COUNT($B$26:$AF$26)),AM$26) -> 1
A36: new | B36: T2 | E36: T2 | F36: T2 | G36: T2 | J36: T2 | K36: T2 | P36: T4 | V36: T2 | W36: T2 | AC36: T2 | AG36: =COUNTA(OFFSET($B36,,,,COUNT($B$26:$AF$26))) -> 10 | AH36: =SUMPRODUCT((WEEKDAY(OFFSET($B$26,,,,COUNT($B$26:$AF$26)))=7)*(OFFSET($B36,,,,COUNT($B$26:$AF$26))<>"")) -> 1 | AI36: =SUMPRODUCT((WEEKDAY(OFFSET($B$26,,,,COUNT($B$26:$AF$26)))=1)*(OFFSET($B36,,,,COUNT($B$26:$AF$26))<>"")) -> 1 | AJ36: =COUNTIF(OFFSET($B36,,,,COUNT($B$26:$AF$26)),AJ$26) -> 0 | AK36: =COUNTIF(OFFSET($B36,,,,COUNT($B$26:$AF$26)),AK$26) -> 9 | AL36: =COUNTIF(OFFSET($B36,,,,COUNT($B$26:$AF$26)),AL$26) -> 0 | AM36: =COUNTIF(OFFSET($B36,,,,COUNT($B$26:$AF$26)),AM$26) -> 1
A37: REMPL1 | B37: T4 | E37: T4 | F37: T4 | G37: T4 | J37: T4 | K37: T4 | N37: T4 | O37: T4 | Q37: T4 | R37: T4 | V37: T4 | W37: T4 | Z37: T4 | AA37: T4 | AB37: T4 | AG37: =COUNTA(OFFSET($B37,,,,COUNT($B$26:$AF$26))) -> 15 | AH37: =SUMPRODUCT((WEEKDAY(OFFSET($B$26,,,,COUNT($B$26:$AF$26)))=7)*(OFFSET($B37,,,,COUNT($B$26:$AF$26))<>"")) -> 2 | AI37: =SUMPRODUCT((WEEKDAY(OFFSET($B$26,,,,COUNT($B$26:$AF$26)))=1)*(OFFSET($B37,,,,COUNT($B$26:$AF$26))<>"")) -> 2 | AJ37: =COUNTIF(OFFSET($B37,,,,COUNT($B$26:$AF$26)),AJ$26) -> 0 | AK37: =COUNTIF(OFFSET($B37,,,,COUNT($B$26:$AF$26)),AK$26) -> 0 | AL37: =COUNTIF(OFFSET($B37,,,,COUNT($B$26:$AF$26)),AL$26) -> 0 | AM37: =COUNTIF(OFFSET($B37,,,,COUNT($B$26:$AF$26)),AM$26) -> 15
A38: REMPL2 | AG38: =COUNTA(OFFSET($B38,,,,COUNT($B$26:$AF$26))) -> 0 | AH38: =SUMPRODUCT((WEEKDAY(OFFSET($B$26,,,,COUNT($B$26:$AF$26)))=7)*(OFFSET($B38,,,,COUNT($B$26:$AF$26))<>"")) -> 0 | AI38: =SUMPRODUCT((WEEKDAY(OFFSET($B$26,,,,COUNT($B$26:$AF$26)))=1)*(OFFSET($B38,,,,COUNT($B$26:$AF$26))<>"")) -> 0 | AJ38: =COUNTIF(OFFSET($B38,,,,COUNT($B$26:$AF$26)),AJ$26) -> 0 | AK38: =COUNTIF(OFFSET($B38,,,,COUNT($B$26:$AF$26)),AK$26) -> 0 | AL38: =COUNTIF(OFFSET($B38,,,,COUNT($B$26:$AF$26)),AL$26) -> 0 | AM38: =COUNTIF(OFFSET($B38,,,,COUNT($B$26:$AF$26)),AM$26) -> 0
A39: MW | X39: T4 | Y39: T4 | AG39: =COUNTA(OFFSET($B39,,,,COUNT($B$26:$AF$26))) -> 2 | AH39: =SUMPRODUCT((WEEKDAY(OFFSET($B$26,,,,COUNT($B$26:$AF$26)))=7)*(OFFSET($B39,,,,COUNT($B$26:$AF$26))<>"")) -> 1 | AI39: =SUMPRODUCT((WEEKDAY(OFFSET($B$26,,,,COUNT($B$26:$AF$26)))=1)*(OFFSET($B39,,,,COUNT($B$26:$AF$26))<>"")) -> 1 | AJ39: =COUNTIF(OFFSET($B39,,,,COUNT($B$26:$AF$26)),AJ$26) -> 0 | AK39: =COUNTIF(OFFSET($B39,,,,COUNT($B$26:$AF$26)),AK$26) -> 0 | AL39: =COUNTIF(OFFSET($B39,,,,COUNT($B$26:$AF$26)),AL$26) -> 0 | AM39: =COUNTIF(OFFSET($B39,,,,COUNT($B$26:$AF$26)),AM$26) -> 2
B40: =COUNTA(B28:B39) -> 4 | C40: =COUNTA(C28:C39) -> 4 | D40: =COUNTA(D28:D39) -> 4 | E40: =COUNTA(E28:E39) -> 4 | F40: =COUNTA(F28:F39) -> 4 | G40: =COUNTA(G28:G39) -> 4 | H40: =COUNTA(H28:H39) -> 4 | I40: =COUNTA(I28:I39) -> 4 | ... AC40: =COUNTA(AC28:AC39) -> 4 | AD40: =IF(AD26<>"",COUNTA(AD28:AD39),"") | AE40: =IF(AE26<>"",COUNTA(AE28:AE39),"") | AF40: =IF(AF26<>"",COUNTA(AF28:AF39),"")
A42: =$A$2 -> 2019 | B42: 3
B44: ="Période du "&TEXT(DATE($A$2, $B42,1)," jj mmmm aaaa") &" au " &TEXT(DATE($A$2, $B42+1,1)-1," jj mmmm aaaa") -> Période du 01 mars 2019 au 31 mars 2019
B46: =DATE($A42,$B42,COLUMN()-1) -> 43525 | C46: =DATE($A42,$B42,COLUMN()-1) -> 43526 | D46: =DATE($A42,$B42,COLUMN()-1) -> 43527 | E46: =DATE($A42,$B42,COLUMN()-1) -> 43528 | F46: =DATE($A42,$B42,COLUMN()-1) -> 43529 | G46: =DATE($A42,$B42,COLUMN()-1) -> 43530 | H46: =DATE($A42,$B42,COLUMN()-1) -> 43531 | I46: =DATE($A42,$B42,COLUMN()-1) -> 43532 | ... AC46: =DATE($A42,$B42,COLUMN()-1) -> 43552 | AD46: =IF(MONTH(DATE($A42,$B42,COLUMN()-1))=$B42,DATE($A42,$B42,COLUMN()-1),"") -> 43553 | AE46: =IF(MONTH(DATE($A42,$B42,COLUMN()-1))=$B42,DATE($A42,$B42,COLUMN()-1),"") -> 43554 | AF46: =IF(MONTH(DATE($A42,$B42,COLUMN()-1))=$B42,DATE($A42,$B42,COLUMN()-1),"") -> 43555 | AG46: JOURS TRAVAILLÉS | AH46: NB SAMEDI | AI46: NB DIMANCHE | AJ46: T1 | AK46: T2 | AL46: T3 | AM46: T4
B47: =B46 -> 43525 | C47: =C46 -> 43526 | D47: =D46 -> 43527 | E47: =E46 -> 43528 | F47: =F46 -> 43529 | G47: =G46 -> 43530 | H47: =H46 -> 43531 | I47: =I46 -> 43532 | ... AF47: =AF46 -> 43555
A48: ALS | AG48: =COUNTA(OFFSET($B48,,,,COUNT($B$46:$AF$46))) -> 0 | AH48: =SUMPRODUCT((WEEKDAY(OFFSET($B$46,,,,COUNT($B$46:$AF$46)))=7)*(OFFSET($B48,,,,COUNT($B$46:$AF$46))<>"")) -> 0 | AI48: =SUMPRODUCT((WEEKDAY(OFFSET($B$46,,,,COUNT($B$46:$AF$46)))=1)*(OFFSET($B48,,,,COUNT($B$46:$AF$46))<>"")) -> 0 | AJ48: =COUNTIF(OFFSET($B48,,,,COUNT($B$46:$AF$46)),AJ$46) -> 0 | AK48: =COUNTIF(OFFSET($B48,,,,COUNT($B$46:$AF$46)),AK$46) -> 0 | AL48: =COUNTIF(OFFSET($B48,,,,COUNT($B$46:$AF$46)),AL$46) -> 0 | AM48: =COUNTIF(OFFSET($B48,,,,COUNT($B$46:$AF$46)),AM$46) -> 0
A49: VD | AG49: =COUNTA(OFFSET($B49,,,,COUNT($B$46:$AF$46))) -> 0 | AH49: =SUMPRODUCT((WEEKDAY(OFFSET($B$46,,,,COUNT($B$46:$AF$46)))=7)*(OFFSET($B49,,,,COUNT($B$46:$AF$46))<>"")) -> 0 | AI49: =SUMPRODUCT((WEEKDAY(OFFSET($B$46,,,,COUNT($B$46:$AF$46)))=1)*(OFFSET($B49,,,,COUNT($B$46:$AF$46))<>"")) -> 0 | AJ49: =COUNTIF(OFFSET($B49,,,,COUNT($B$46:$AF$46)),AJ$46) -> 0 | AK49: =COUNTIF(OFFSET($B49,,,,COUNT($B$46:$AF$46)),AK$46) -> 0 | AL49: =COUNTIF(OFFSET($B49,,,,COUNT($B$46:$AF$46)),AL$46) -> 0 | AM49: =COUNTIF(OFFSET($B49,,,,COUNT($B$46:$AF$46)),AM$46) -> 0
...

Sheet STATS
A1: STATISTIQUES
C3: =DATE(BDD!$D4,1,1) -> 43466 | H3: =DATE(BDD!$D4,2,1) -> 43497 | M3: =DATE(BDD!$D4,3,1) -> 43525 | R3: =DATE(BDD!$D4,4,1) -> 43556 | W3: =DATE(BDD!$D4,5,1) -> 43586 | AB3: =DATE(BDD!$D4,6,1) -> 43617 | AG3: =DATE(BDD!$D4,7,1) -> 43647 | AL3: =DATE(BDD!$D4,8,1) -> 43678 | AQ3: =DATE(BDD!$D4,9,1) -> 43709 | AV3: =DATE(BDD!$D4,10,1) -> 43739 | BA3: =DATE(BDD!$D4,11,1) -> 43770 | BF3: =DATE(BDD!$D4,12,1) -> 43800 | BK3: TOTAL ANNUEL
C4: =PLANNING!$AG$6 -> JOURS TRAVAILLÉS | D4: T1 | E4: T2 | F4: T3 | G4: T4 | H4: =PLANNING!$AG$6 -> JOURS TRAVAILLÉS | I4: T1 | J4: T2 | K4: T3 | L4: T4 | M4: =PLANNING!$AG$6 -> JOURS TRAVAILLÉS | N4: T1 | O4: T2 | P4: T3 | Q4: T4 | R4: =PLANNING!$AG$6 -> JOURS TRAVAILLÉS | S4: T1 | T4: T2 | U4: T3 | V4: T4 | W4: =PLANNING!$AG$6 -> JOURS TRAVAILLÉS | X4: T1 | Y4: T2 | Z4: T3 | AA4: T4 | AB4: =PLANNING!$AG$6 -> JOURS TRAVAILLÉS | AC4: T1 | AD4: T2 | AE4: T3 | AF4: T4 | AG4: =PLANNING!$AG$6 -> JOURS TRAVAILLÉS | AH4: T1 | AI4: T2 | AJ4: T3 | AK4: T4 | AL4: =PLANNING!$AG$6 -> JOURS TRAVAILLÉS | AM4: T1 | AN4: T2 | AO4: T3 | AP4: T4 | AQ4: =PLANNING!$AG$6 -> JOURS TRAVAILLÉS | AR4: T1 | AS4: T2 | AT4: T3 | AU4: T4 | AV4: =PLANNING!$AG$6 -> JOURS TRAVAILLÉS | AW4: T1 | AX4: T2 | AY4: T3 | AZ4: T4 | BA4: =PLANNING!$AG$6 -> JOURS TRAVAILLÉS | BB4: T1 | BC4: T2 | BD4: T3 | BE4: T4 | BF4: =PLANNING!$AG$6 -> JOURS TRAVAILLÉS | BG4: T1 | BH4: T2 | BI4: T3 | BJ4: T4 | BK4: =PLANNING!$AG$6 -> JOURS TRAVAILLÉS | BL4: T1 | BM4: T2 | BN4: T3 | BO4: T4
B9: =PLANNING!$A$8 -> ALS | C9: =PLANNING!$AG8 -> 13 | D9: =PLANNING!$AJ8 -> 11 | E9: =PLANNING!$AK8 -> 0 | F9: =PLANNING!$AL8 -> 0 | G9: =PLANNING!$AM8 -> 2 | H9: =PLANNING!$AG28 -> 11 | I9: =PLANNING!$AJ28 -> 0 | J9: =PLANNING!$AK28 -> 0 | K9: =PLANNING!$AL28 -> 10 | L9: =PLANNING!$AM28 -> 1 | M9: =PLANNING!$AG48 -> 0 | N9: =PLANNING!$AJ48 -> 0 | O9: =PLANNING!$AK48 -> 0 | P9: =PLANNING!$AL48 -> 0 | Q9: =PLANNING!$AM48 -> 0 | R9: =PLANNING!$AG68 -> 0 | S9: =PLANNING!$AJ68 -> 0 | T9: =PLANNING!$AK68 -> 0 | U9: =PLANNING!$AL68 -> 0 | V9: =PLANNING!$AM68 -> 0 | W9: =PLANNING!$AG88 -> 0 | X9: =PLANNING!$AJ88 -> 0 | Y9: =PLANNING!$AK88 -> 0 | Z9: =PLANNING!$AL88 -> 0 | AA9: =PLANNING!$AM88 -> 0 | AB9: =PLANNING!$AG108 -> 0 | AC9: =PLANNING!$AJ108 -> 0 | AD9: =PLANNING!$AK108 -> 0 | AE9: =PLANNING!$AL108 -> 0 | AF9: =PLANNING!$AM108 -> 0 | AG9: =PLANNING!$AG128 -> 0 | AH9: =PLANNING!$AJ128 -> 0 | AI9: =PLANNING!$AK128 -> 0 | AJ9: =PLANNING!$AL128 -> 0 | AK9: =PLANNING!$AM128 -> 0 | AL9: =PLANNING!$AG148 -> 0 | AM9: =PLANNING!$AJ148 -> 0 | AN9: =PLANNING!$AK148 -> 0 | AO9: =PLANNING!$AL148 -> 0 | AP9: =PLANNING!$AM148 -> 0 | AQ9: =PLANNING!$AG168 -> 0 | AR9: =PLANNING!$AJ168 -> 0 | AS9: =PLANNING!$AK168 -> 0 | AT9: =PLANNING!$AL168 -> 0 | AU9: =PLANNING!$AM168 -> 0 | AV9: =PLANNING!$AG188 -> 0 | AW9: =PLANNING!$AJ188 -> 0 | AX9: =PLANNING!$AK188 -> 0 | AY9: =PLANNING!$AL188 -> 0 | AZ9: =PLANNING!$AM188 -> 0 | BA9: =PLANNING!$AG208 -> 0 | BB9: =PLANNING!$AJ208 -> 0 | BC9: =PLANNING!$AK208 -> 0 | BD9: =PLANNING!$AL208 -> 0 | BE9: =PLANNING!$AM208 -> 0 | BF9: =PLANNING!$AG228 -> 0 | BG9: =PLANNING!$AJ228 -> 0 | BH9: =PLANNING!$AK228 -> 0 | BI9: =PLANNING!$AL228 -> 0 | BJ9: =PLANNING!$AM228 -> 0 | BK9: =SUM(C9+H9+M9+R9+W9+AB9+AG9+AL9+AQ9+AV9+BA9+BF9) -> 24 | BL9: =SUM(D9+I9+N9+S9+X9+AC9+AH9+AM9+AR9+AW9+BB9+BG9) -> 11 | BM9: =SUM(E9+J9+O9+T9+Y9+AD9+AI9+AN9+AS9+AX9+BC9+BH9) -> 0 | BN9: =F9+K9+P9+U9+Z9+AE9+AJ9+AO9+AT9+AY9+BD9+BI9 -> 10 | BO9: =SUM(G9+L9+Q9+V9+AA9+AF9+AK9+AP9+AU9+AZ9+BE9+BJ9) -> 3
B10: =PLANNING!$A$9 -> VD | C10: =PLANNING!$AG9 -> 13 | D10: =PLANNING!$AJ9 -> 0 | E10: =PLANNING!$AK9 -> 11 | F10: =PLANNING!$AL9 -> 0 | G10: =PLANNING!$AM9 -> 2 | H10: =PLANNING!$AG29 -> 10 | I10: =PLANNING!$AJ29 -> 10 | J10: =PLANNING!$AK29 -> 0 | K10: =PLANNING!$AL29 -> 0 | L10: =PLANNING!$AM29 -> 0 | M10: =PLANNING!$AG49 -> 0 | N10: =PLANNING!$AJ49 -> 0 | O10: =PLANNING!$AK49 -> 0 | P10: =PLANNING!$AL49 -> 0 | Q10: =PLANNING!$AM49 -> 0 | R10: =PLANNING!$AG69 -> 0 | S10: =PLANNING!$AJ69 -> 0 | T10: =PLANNING!$AK69 -> 0 | U10: =PLANNING!$AL69 -> 0 | V10: =PLANNING!$AM69 -> 0 | W10: =PLANNING!$AG89 -> 0 | X10: =PLANNING!$AJ89 -> 0 | Y10: =PLANNING!$AK89 -> 0 | Z10: =PLANNING!$AL89 -> 0 | AA10: =PLANNING!$AM89 -> 0 | AB10: =PLANNING!$AG109 -> 0 | AC10: =PLANNING!$AJ109 -> 0 | AD10: =PLANNING!$AK109 -> 0 | AE10: =PLANNING!$AL109 -> 0 | AF10: =PLANNING!$AM109 -> 0 | AG10: =PLANNING!$AG129 -> 0 | AH10: =PLANNING!$AJ129 -> 0 | AI10: =PLANNING!$AK129 -> 0 | AJ10: =PLANNING!$AL129 -> 0 | AK10: =PLANNING!$AM129 -> 0 | AL10: =PLANNING!$AG149 -> 0 | AM10: =PLANNING!$AJ149 -> 0 | AN10: =PLANNING!$AK149 -> 0 | AO10: =PLANNING!$AL149 -> 0 | AP10: =PLANNING!$AM149 -> 0 | AQ10: =PLANNING!$AG169 -> 0 | AR10: =PLANNING!$AJ169 -> 0 | AS10: =PLANNING!$AK169 -> 0 | AT10: =PLANNING!$AL169 -> 0 | AU10: =PLANNING!$AM169 -> 0 | AV10: =PLANNING!$AG189 -> 0 | AW10: =PLANNING!$AJ189 -> 0 | AX10: =PLANNING!$AK189 -> 0 | AY10: =PLANNING!$AL189 -> 0 | AZ10: =PLANNING!$AM189 -> 0 | BA10: =PLANNING!$AG209 -> 0 | BB10: =PLANNING!$AJ209 -> 0 | BC10: =PLANNING!$AK209 -> 0 | BD10: =PLANNING!$AL209 -> 0 | BE10: =PLANNING!$AM209 -> 0 | BF10: =PLANNING!$AG229 -> 0 | BG10: =PLANNING!$AJ229 -> 0 | BH10: =PLANNING!$AK229 -> 0 | BI10: =PLANNING!$AL229 -> 0 | BJ10: =PLANNING!$AM229 -> 0 | BK10: =SUM(C10+H10+M10+R10+W10+AB10+AG10+AL10+AQ10+AV10+BA10+BF10) -> 23 | BL10: =SUM(D10+I10+N10+S10+X10+AC10+AH10+AM10+AR10+AW10+BB10+BG10) -> 10 | BM10: =SUM(E10+J10+O10+T10+Y10+AD10+AI10+AN10+AS10+AX10+BC10+BH10) -> 11 | BN10: =F10+K10+P10+U10+Z10+AE10+AJ10+AO10+AT10+AY10+BD10+BI10 -> 0 | BO10: =SUM(G10+L10+Q10+V10+AA10+AF10+AK10+AP10+AU10+AZ10+BE10+BJ10) -> 2
B11: =PLANNING!$A$10 -> new | C11: =PLANNING!$AG10 -> 11 | D11: =PLANNING!$AJ10 -> 0 | E11: =PLANNING!$AK10 -> 0 | F11: =PLANNING!$AL10 -> 11 | G11: =PLANNING!$AM10 -> 0 | H11: =PLANNING!$AG30 -> 12 | I11: =PLANNING!$AJ30 -> 0 | J11: =PLANNING!$AK30 -> 10 | K11: =PLANNING!$AL30 -> 0 | L11: =PLANNING!$AM30 -> 2 | M11: =PLANNING!$AG50 -> 0 | N11: =PLANNING!$AJ50 -> 0 | O11: =PLANNING!$AK50 -> 0 | P11: =PLANNING!$AL50 -> 0 | Q11: =PLANNING!$AM50 -> 0 | R11: =PLANNING!$AG70 -> 0 | S11: =PLANNING!$AJ70 -> 0 | T11: =PLANNING!$AK70 -> 0 | U11: =PLANNING!$AL70 -> 0 | V11: =PLANNING!$AM70 -> 0 | W11: =PLANNING!$AG90 -> 0 | X11: =PLANNING!$AJ90 -> 0 | Y11: =PLANNING!$AK90 -> 0 | Z11: =PLANNING!$AL90 -> 0 | AA11: =PLANNING!$AM90 -> 0 | AB11: =PLANNING!$AG110 -> 0 | AC11: =PLANNING!$AJ110 -> 0 | AD11: =PLANNING!$AK110 -> 0 | AE11: =PLANNING!$AL110 -> 0 | AF11: =PLANNING!$AM110 -> 0 | AG11: =PLANNING!$AG130 -> 0 | AH11: =PLANNING!$AJ130 -> 0 | AI11: =PLANNING!$AK130 -> 0 | AJ11: =PLANNING!$AL130 -> 0 | AK11: =PLANNING!$AM130 -> 0 | AL11: =PLANNING!$AG150 -> 0 | AM11: =PLANNING!$AJ150 -> 0 | AN11: =PLANNING!$AK150 -> 0 | AO11: =PLANNING!$AL150 -> 0 | AP11: =PLANNING!$AM150 -> 0 | AQ11: =PLANNING!$AG170 -> 0 | AR11: =PLANNING!$AJ170 -> 0 | AS11: =PLANNING!$AK170 -> 0 | AT11: =PLANNING!$AL170 -> 0 | AU11: =PLANNING!$AM170 -> 0 | AV11: =PLANNING!$AG190 -> 0 | AW11: =PLANNING!$AJ190 -> 0 | AX11: =PLANNING!$AK190 -> 0 | AY11: =PLANNING!$AL190 -> 0 | AZ11: =PLANNING!$AM190 -> 0 | BA11: =PLANNING!$AG210 -> 0 | BB11: =PLANNING!$AJ210 -> 0 | BC11: =PLANNING!$AK210 -> 0 | BD11: =PLANNING!$AL210 -> 0 | BE11: =PLANNING!$AM210 -> 0 | BF11: =PLANNING!$AG230 -> 0 | BG11: =PLANNING!$AJ230 -> 0 | BH11: =PLANNING!$AK230 -> 0 | BI11: =PLANNING!$AL230 -> 0 | BJ11: =PLANNING!$AM230 -> 0 | BK11: =SUM(C11+H11+M11+R11+W11+AB11+AG11+AL11+AQ11+AV11+BA11+BF11) -> 23 | BL11: =SUM(D11+I11+N11+S11+X11+AC11+AH11+AM11+AR11+AW11+BB11+BG11) -> 0 | BM11: =SUM(E11+J11+O11+T11+Y11+AD11+AI11+AN11+AS11+AX11+BC11+BH11) -> 10 | BN11: =F11+K11+P11+U11+Z11+AE11+AJ11+AO11+AT11+AY11+BD11+BI11 -> 11 | BO11: =SUM(G11+L11+Q11+V11+AA11+AF11+AK11+AP11+AU11+AZ11+BE11+BJ11) -> 2
B12: =PLANNING!$A$11 -> SL | C12: =PLANNING!$AG11 -> 12 | D12: =PLANNING!$AJ11 -> 11 | E12: =PLANNING!$AK11 -> 0 | F12: =PLANNING!$AL11 -> 0 | G12: =PLANNING!$AM11 -> 1 | H12: =PLANNING!$AG31 -> 10 | I12: =PLANNING!$AJ31 -> 0 | J12: =PLANNING!$AK31 -> 0 | K12: =PLANNING!$AL31 -> 9 | L12: =PLANNING!$AM31 -> 1 | M12: =PLANNING!$AG51 -> 0 | N12: =PLANNING!$AJ51 -> 0 | O12: =PLANNING!$AK51 -> 0 | P12: =PLANNING!$AL51 -> 0 | Q12: =PLANNING!$AM51 -> 0 | R12: =PLANNING!$AG71 -> 0 | S12: =PLANNING!$AJ71 -> 0 | T12: =PLANNING!$AK71 -> 0 | U12: =PLANNING!$AL71 -> 0 | V12: =PLANNING!$AM71 -> 0 | W12: =PLANNING!$AG91 -> 0 | X12: =PLANNING!$AJ91 -> 0 | Y12: =PLANNING!$AK91 -> 0 | Z12: =PLANNING!$AL91 -> 0 | AA12: =PLANNING!$AM91 -> 0 | AB12: =PLANNING!$AG111 -> 0 | AC12: =PLANNING!$AJ111 -> 0 | AD12: =PLANNING!$AK111 -> 0 | AE12: =PLANNING!$AL111 -> 0 | AF12: =PLANNING!$AM111 -> 0 | AG12: =PLANNING!$AG131 -> 0 | AH12: =PLANNING!$AJ131 -> 0 | AI12: =PLANNING!$AK131 -> 0 | AJ12: =PLANNING!$AL131 -> 0 | AK12: =PLANNING!$AM131 -> 0 | AL12: =PLANNING!$AG151 -> 0 | AM12: =PLANNING!$AJ151 -> 0 | AN12: =PLANNING!$AK151 -> 0 | AO12: =PLANNING!$AL151 -> 0 | AP12: =PLANNING!$AM151 -> 0 | AQ12: =PLANNING!$AG171 -> 0 | AR12: =PLANNING!$AJ171 -> 0 | AS12: =PLANNING!$AK171 -> 0 | AT12: =PLANNING!$AL171 -> 0 | AU12: =PLANNING!$AM171 -> 0 | AV12: =PLANNING!$AG191 -> 0 | AW12: =PLANNING!$AJ191 -> 0 | AX12: =PLANNING!$AK191 -> 0 | AY12: =PLANNING!$AL191 -> 0 | AZ12: =PLANNING!$AM191 -> 0 | BA12: =PLANNING!$AG211 -> 0 | BB12: =PLANNING!$AJ211 -> 0 | BC12: =PLANNING!$AK211 -> 0 | BD12: =PLANNING!$AL211 -> 0 | BE12: =PLANNING!$AM211 -> 0 | BF12: =PLANNING!$AG231 -> 0 | BG12: =PLANNING!$AJ231 -> 0 | BH12: =PLANNING!$AK231 -> 0 | BI12: =PLANNING!$AL231 -> 0 | BJ12: =PLANNING!$AM231 -> 0 | BK12: =SUM(C12+H12+M12+R12+W12+AB12+AG12+AL12+AQ12+AV12+BA12+BF12) -> 22 | BL12: =SUM(D12+I12+N12+S12+X12+AC12+AH12+AM12+AR12+AW12+BB12+BG12) -> 11 | BM12: =SUM(E12+J12+O12+T12+Y12+AD12+AI12+AN12+AS12+AX12+BC12+BH12) -> 0 | BN12: =F12+K12+P12+U12+Z12+AE12+AJ12+AO12+AT12+AY12+BD12+BI12 -> 9 | BO12: =SUM(G12+L12+Q12+V12+AA12+AF12+AK12+AP12+AU12+AZ12+BE12+BJ12) -> 2
B13: =PLANNING!$A$12 -> EC | C13: =PLANNING!$AG12 -> 13 | D13: =PLANNING!$AJ12 -> 0 | E13: =PLANNING!$AK12 -> 11 | F13: =PLANNING!$AL12 -> 0 | G13: =PLANNING!$AM12 -> 2 | H13: =PLANNING!$AG32 -> 9 | I13: =PLANNING!$AJ32 -> 9 | J13: =PLANNING!$AK32 -> 0 | K13: =PLANNING!$AL32 -> 0 | L13: =PLANNING!$AM32 -> 0 | M13: =PLANNING!$AG52 -> 0 | N13: =PLANNING!$AJ52 -> 0 | O13: =PLANNING!$AK52 -> 0 | P13: =PLANNING!$AL52 -> 0 | Q13: =PLANNING!$AM52 -> 0 | R13: =PLANNING!$AG72 -> 0 | S13: =PLANNING!$AJ72 -> 0 | T13: =PLANNING!$AK72 -> 0 | U13: =PLANNING!$AL72 -> 0 | V13: =PLANNING!$AM72 -> 0 | W13: =PLANNING!$AG92 -> 0 | X13: =PLANNING!$AJ92 -> 0 | Y13: =PLANNING!$AK92 -> 0 | Z13: =PLANNING!$AL92 -> 0 | AA13: =PLANNING!$AM92 -> 0 | AB13: =PLANNING!$AG112 -> 0 | AC13: =PLANNING!$AJ112 -> 0 | AD13: =PLANNING!$AK112 -> 0 | AE13: =PLANNING!$AL112 -> 0 | AF13: =PLANNING!$AM112 -> 0 | AG13: =PLANNING!$AG132 -> 0 | AH13: =PLANNING!$AJ132 -> 0 | AI13: =PLANNING!$AK132 -> 0 | AJ13: =PLANNING!$AL132 -> 0 | AK13: =PLANNING!$AM132 -> 0 | AL13: =PLANNING!$AG152 -> 0 | AM13: =PLANNING!$AJ152 -> 0 | AN13: =PLANNING!$AK152 -> 0 | AO13: =PLANNING!$AL152 -> 0 | AP13: =PLANNING!$AM152 -> 0 | AQ13: =PLANNING!$AG172 -> 0 | AR13: =PLANNING!$AJ172 -> 0 | AS13: =PLANNING!$AK172 -> 0 | AT13: =PLANNING!$AL172 -> 0 | AU13: =PLANNING!$AM172 -> 0 | AV13: =PLANNING!$AG192 -> 0 | AW13: =PLANNING!$AJ192 -> 0 | AX13: =PLANNING!$AK192 -> 0 | AY13: =PLANNING!$AL192 -> 0 | AZ13: =PLANNING!$AM192 -> 0 | BA13: =PLANNING!$AG212 -> 0 | BB13: =PLANNING!$AJ212 -> 0 | BC13: =PLANNING!$AK212 -> 0 | BD13: =PLANNING!$AL212 -> 0 | BE13: =PLANNING!$AM212 -> 0 | BF13: =PLANNING!$AG232 -> 0 | BG13: =PLANNING!$AJ232 -> 0 | BH13: =PLANNING!$AK232 -> 0 | BI13: =PLANNING!$AL232 -> 0 | BJ13: =PLANNING!$AM232 -> 0 | BK13: =SUM(C13+H13+M13+R13+W13+AB13+AG13+AL13+AQ13+AV13+BA13+BF13) -> 22 | BL13: =SUM(D13+I13+N13+S13+X13+AC13+AH13+AM13+AR13+AW13+BB13+BG13) -> 9 | BM13: =SUM(E13+J13+O13+T13+Y13+AD13+AI13+AN13+AS13+AX13+BC13+BH13) -> 11 | BN13: =F13+K13+P13+U13+Z13+AE13+AJ13+AO13+AT13+AY13+BD13+BI13 -> 0 | BO13: =SUM(G13+L13+Q13+V13+AA13+AF13+AK13+AP13+AU13+AZ13+BE13+BJ13) -> 2
B14: =PLANNING!$A$13 -> MN | C14: =PLANNING!$AG13 -> 11 | D14: =PLANNING!$AJ13 -> 0 | E14: =PLANNING!$AK13 -> 0 | F14: =PLANNING!$AL13 -> 11 | G14: =PLANNING!$AM13 -> 0 | H14: =PLANNING!$AG33 -> 12 | I14: =PLANNING!$AJ33 -> 0 | J14: =PLANNING!$AK33 -> 9 | K14: =PLANNING!$AL33 -> 0 | L14: =PLANNING!$AM33 -> 3 | M14: =PLANNING!$AG53 -> 0 | N14: =PLANNING!$AJ53 -> 0 | O14: =PLANNING!$AK53 -> 0 | P14: =PLANNING!$AL53 -> 0 | Q14: =PLANNING!$AM53 -> 0 | R14: =PLANNING!$AG73 -> 0 | S14: =PLANNING!$AJ73 -> 0 | T14: =PLANNING!$AK73 -> 0 | U14: =PLANNING!$AL73 -> 0 | V14: =PLANNING!$AM73 -> 0 | W14: =PLANNING!$AG93 -> 0 | X14: =PLANNING!$AJ93 -> 0 | Y14: =PLANNING!$AK93 -> 0 | Z14: =PLANNING!$AL93 -> 0 | AA14: =PLANNING!$AM93 -> 0 | AB14: =PLANNING!$AG113 -> 0 | AC14: =PLANNING!$AJ113 -> 0 | AD14: =PLANNING!$AK113 -> 0 | AE14: =PLANNING!$AL113 -> 0 | AF14: =PLANNING!$AM113 -> 0 | AG14: =PLANNING!$AG133 -> 0 | AH14: =PLANNING!$AJ133 -> 0 | AI14: =PLANNING!$AK133 -> 0 | AJ14: =PLANNING!$AL133 -> 0 | AK14: =PLANNING!$AM133 -> 0 | AL14: =PLANNING!$AG153 -> 0 | AM14: =PLANNING!$AJ153 -> 0 | AN14: =PLANNING!$AK153 -> 0 | AO14: =PLANNING!$AL153 -> 0 | AP14: =PLANNING!$AM153 -> 0 | AQ14: =PLANNING!$AG173 -> 0 | AR14: =PLANNING!$AJ173 -> 0 | AS14: =PLANNING!$AK173 -> 0 | AT14: =PLANNING!$AL173 -> 0 | AU14: =PLANNING!$AM173 -> 0 | AV14: =PLANNING!$AG193 -> 0 | AW14: =PLANNING!$AJ193 -> 0 | AX14: =PLANNING!$AK193 -> 0 | AY14: =PLANNING!$AL193 -> 0 | AZ14: =PLANNING!$AM193 -> 0 | BA14: =PLANNING!$AG213 -> 0 | BB14: =PLANNING!$AJ213 -> 0 | BC14: =PLANNING!$AK213 -> 0 | BD14: =PLANNING!$AL213 -> 0 | BE14: =PLANNING!$AM213 -> 0 | BF14: =PLANNING!$AG233 -> 0 | BG14: =PLANNING!$AJ233 -> 0 | BH14: =PLANNING!$AK233 -> 0 | BI14: =PLANNING!$AL233 -> 0 | BJ14: =PLANNING!$AM233 -> 0 | BK14: =SUM(C14+H14+M14+R14+W14+AB14+AG14+AL14+AQ14+AV14+BA14+BF14) -> 23 | BL14: =SUM(D14+I14+N14+S14+X14+AC14+AH14+AM14+AR14+AW14+BB14+BG14) -> 0 | BM14: =SUM(E14+J14+O14+T14+Y14+AD14+AI14+AN14+AS14+AX14+BC14+BH14) -> 9 | BN14: =F14+K14+P14+U14+Z14+AE14+AJ14+AO14+AT14+AY14+BD14+BI14 -> 11 | BO14: =SUM(G14+L14+Q14+V14+AA14+AF14+AK14+AP14+AU14+AZ14+BE14+BJ14) -> 3
B15: =PLANNING!$A$14 -> EB | C15: =PLANNING!$AG14 -> 12 | D15: =PLANNING!$AJ14 -> 9 | E15: =PLANNING!$AK14 -> 0 | F15: =PLANNING!$AL14 -> 0 | G15: =PLANNING!$AM14 -> 3 | H15: =PLANNING!$AG34 -> 11 | I15: =PLANNING!$AJ34 -> 0 | J15: =PLANNING!$AK34 -> 0 | K15: =PLANNING!$AL34 -> 9 | L15: =PLANNING!$AM34 -> 2 | M15: =PLANNING!$AG54 -> 0 | N15: =PLANNING!$AJ54 -> 0 | O15: =PLANNING!$AK54 -> 0 | P15: =PLANNING!$AL54 -> 0 | Q15: =PLANNING!$AM54 -> 0 | R15: =PLANNING!$AG74 -> 0 | S15: =PLANNING!$AJ74 -> 0 | T15: =PLANNING!$AK74 -> 0 | U15: =PLANNING!$AL74 -> 0 | V15: =PLANNING!$AM74 -> 0 | W15: =PLANNING!$AG94 -> 0 | X15: =PLANNING!$AJ94 -> 0 | Y15: =PLANNING!$AK94 -> 0 | Z15: =PLANNING!$AL94 -> 0 | AA15: =PLANNING!$AM94 -> 0 | AB15: =PLANNING!$AG114 -> 0 | AC15: =PLANNING!$AJ114 -> 0 | AD15: =PLANNING!$AK114 -> 0 | AE15: =PLANNING!$AL114 -> 0 | AF15: =PLANNING!$AM114 -> 0 | AG15: =PLANNING!$AG134 -> 0 | AH15: =PLANNING!$AJ134 -> 0 | AI15: =PLANNING!$AK134 -> 0 | AJ15: =PLANNING!$AL134 -> 0 | AK15: =PLANNING!$AM134 -> 0 | AL15: =PLANNING!$AG154 -> 0 | AM15: =PLANNING!$AJ154 -> 0 | AN15: =PLANNING!$AK154 -> 0 | AO15: =PLANNING!$AL154 -> 0 | AP15: =PLANNING!$AM154 -> 0 | AQ15: =PLANNING!$AG174 -> 0 | AR15: =PLANNING!$AJ174 -> 0 | AS15: =PLANNING!$AK174 -> 0 | AT15: =PLANNING!$AL174 -> 0 | AU15: =PLANNING!$AM174 -> 0 | AV15: =PLANNING!$AG194 -> 0 | AW15: =PLANNING!$AJ194 -> 0 | AX15: =PLANNING!$AK194 -> 0 | AY15: =PLANNING!$AL194 -> 0 | AZ15: =PLANNING!$AM194 -> 0 | BA15: =PLANNING!$AG214 -> 0 | BB15: =PLANNING!$AJ214 -> 0 | BC15: =PLANNING!$AK214 -> 0 | BD15: =PLANNING!$AL214 -> 0 | BE15: =PLANNING!$AM214 -> 0 | BF15: =PLANNING!$AG234 -> 0 | BG15: =PLANNING!$AJ234 -> 0 | BH15: =PLANNING!$AK234 -> 0 | BI15: =PLANNING!$AL234 -> 0 | BJ15: =PLANNING!$AM234 -> 0 | BK15: =SUM(C15+H15+M15+R15+W15+AB15+AG15+AL15+AQ15+AV15+BA15+BF15) -> 23 | BL15: =SUM(D15+I15+N15+S15+X15+AC15+AH15+AM15+AR15+AW15+BB15+BG15) -> 9 | BM15: =SUM(E15+J15+O15+T15+Y15+AD15+AI15+AN15+AS15+AX15+BC15+BH15) -> 0 | BN15: =F15+K15+P15+U15+Z15+AE15+AJ15+AO15+AT15+AY15+BD15+BI15 -> 9 | BO15: =SUM(G15+L15+Q15+V15+AA15+AF15+AK15+AP15+AU15+AZ15+BE15+BJ15) -> 5
B16: =PLANNING!$A$15 -> MB | C16: =PLANNING!$AG15 -> 12 | D16: =PLANNING!$AJ15 -> 0 | E16: =PLANNING!$AK15 -> 9 | F16: =PLANNING!$AL15 -> 0 | G16: =PLANNING!$AM15 -> 3 | H16: =PLANNING!$AG35 -> 10 | I16: =PLANNING!$AJ35 -> 9 | J16: =PLANNING!$AK35 -> 0 | K16: =PLANNING!$AL35 -> 0 | L16: =PLANNING!$AM35 -> 1 | M16: =PLANNING!$AG55 -> 0 | N16: =PLANNING!$AJ55 -> 0 | O16: =PLANNING!$AK55 -> 0 | P16: =PLANNING!$AL55 -> 0 | Q16: =PLANNING!$AM55 -> 0 | R16: =PLANNING!$AG75 -> 0 | S16: =PLANNING!$AJ75 -> 0 | T16: =PLANNING!$AK75 -> 0 | U16: =PLANNING!$AL75 -> 0 | V16: =PLANNING!$AM75 -> 0 | W16: =PLANNING!$AG95 -> 0 | X16: =PLANNING!$AJ95 -> 0 | Y16: =PLANNING!$AK95 -> 0 | Z16: =PLANNING!$AL95 -> 0 | AA16: =PLANNING!$AM95 -> 0 | AB16: =PLANNING!$AG115 -> 0 | AC16: =PLANNING!$AJ115 -> 0 | AD16: =PLANNING!$AK115 -> 0 | AE16: =PLANNING!$AL115 -> 0 | AF16: =PLANNING!$AM115 -> 0 | AG16: =PLANNING!$AG135 -> 0 | AH16: =PLANNING!$AJ135 -> 0 | AI16: =PLANNING!$AK135 -> 0 | AJ16: =PLANNING!$AL135 -> 0 | AK16: =PLANNING!$AM135 -> 0 | AL16: =PLANNING!$AG155 -> 0 | AM16: =PLANNING!$AJ155 -> 0 | AN16: =PLANNING!$AK155 -> 0 | AO16: =PLANNING!$AL155 -> 0 | AP16: =PLANNING!$AM155 -> 0 | AQ16: =PLANNING!$AG175 -> 0 | AR16: =PLANNING!$AJ175 -> 0 | AS16: =PLANNING!$AK175 -> 0 | AT16: =PLANNING!$AL175 -> 0 | AU16: =PLANNING!$AM175 -> 0 | AV16: =PLANNING!$AG195 -> 0 | AW16: =PLANNING!$AJ195 -> 0 | AX16: =PLANNING!$AK195 -> 0 | AY16: =PLANNING!$AL195 -> 0 | AZ16: =PLANNING!$AM195 -> 0 | BA16: =PLANNING!$AG215 -> 0 | BB16: =PLANNING!$AJ215 -> 0 | BC16: =PLANNING!$AK215 -> 0 | BD16: =PLANNING!$AL215 -> 0 | BE16: =PLANNING!$AM215 -> 0 | BF16: =PLANNING!$AG235 -> 0 | BG16: =PLANNING!$AJ235 -> 0 | BH16: =PLANNING!$AK235 -> 0 | BI16: =PLANNING!$AL235 -> 0 | BJ16: =PLANNING!$AM235 -> 0 | BK16: =SUM(C16+H16+M16+R16+W16+AB16+AG16+AL16+AQ16+AV16+BA16+BF16) -> 22 | BL16: =SUM(D16+I16+N16+S16+X16+AC16+AH16+AM16+AR16+AW16+BB16+BG16) -> 9 | BM16: =SUM(E16+J16+O16+T16+Y16+AD16+AI16+AN16+AS16+AX16+BC16+BH16) -> 9 | BN16: =F16+K16+P16+U16+Z16+AE16+AJ16+AO16+AT16+AY16+BD16+BI16 -> 0 | BO16: =SUM(G16+L16+Q16+V16+AA16+AF16+AK16+AP16+AU16+AZ16+BE16+BJ16) -> 4
B17: =PLANNING!$A$16 -> new | C17: =PLANNING!$AG16 -> 12 | D17: =PLANNING!$AJ16 -> 0 | E17: =PLANNING!$AK16 -> 0 | F17: =PLANNING!$AL16 -> 9 | G17: =PLANNING!$AM16 -> 3 | H17: =PLANNING!$AG36 -> 10 | I17: =PLANNING!$AJ36 -> 0 | J17: =PLANNING!$AK36 -> 9 | K17: =PLANNING!$AL36 -> 0 | L17: =PLANNING!$AM36 -> 1 | M17: =PLANNING!$AG56 -> 0 | N17: =PLANNING!$AJ56 -> 0 | O17: =PLANNING!$AK56 -> 0 | P17: =PLANNING!$AL56 -> 0 | Q17: =PLANNING!$AM56 -> 0 | R17: =PLANNING!$AG76 -> 0 | S17: =PLANNING!$AJ76 -> 0 | T17: =PLANNING!$AK76 -> 0 | U17: =PLANNING!$AL76 -> 0 | V17: =PLANNING!$AM76 -> 0 | W17: =PLANNING!$AG96 -> 0 | X17: =PLANNING!$AJ96 -> 0 | Y17: =PLANNING!$AK96 -> 0 | Z17: =PLANNING!$AL96 -> 0 | AA17: =PLANNING!$AM96 -> 0 | AB17: =PLANNING!$AG116 -> 0 | AC17: =PLANNING!$AJ116 -> 0 | AD17: =PLANNING!$AK116 -> 0 | AE17: =PLANNING!$AL116 -> 0 | AF17: =PLANNING!$AM116 -> 0 | AG17: =PLANNING!$AG136 -> 0 | AH17: =PLANNING!$AJ136 -> 0 | AI17: =PLANNING!$AK136 -> 0 | AJ17: =PLANNING!$AL136 -> 0 | AK17: =PLANNING!$AM136 -> 0 | AL17: =PLANNING!$AG156 -> 0 | AM17: =PLANNING!$AJ156 -> 0 | AN17: =PLANNING!$AK156 -> 0 | AO17: =PLANNING!$AL156 -> 0 | AP17: =PLANNING!$AM156 -> 0 | AQ17: =PLANNING!$AG176 -> 0 | AR17: =PLANNING!$AJ176 -> 0 | AS17: =PLANNING!$AK176 -> 0 | AT17: =PLANNING!$AL176 -> 0 | AU17: =PLANNING!$AM176 -> 0 | AV17: =PLANNING!$AG196 -> 0 | AW17: =PLANNING!$AJ196 -> 0 | AX17: =PLANNING!$AK196 -> 0 | AY17: =PLANNING!$AL196 -> 0 | AZ17: =PLANNING!$AM196 -> 0 | BA17: =PLANNING!$AG216 -> 0 | BB17: =PLANNING!$AJ216 -> 0 | BC17: =PLANNING!$AK216 -> 0 | BD17: =PLANNING!$AL216 -> 0 | BE17: =PLANNING!$AM216 -> 0 | BF17: =PLANNING!$AG236 -> 0 | BG17: =PLANNING!$AJ236 -> 0 | BH17: =PLANNING!$AK236 -> 0 | BI17: =PLANNING!$AL236 -> 0 | BJ17: =PLANNING!$AM236 -> 0 | BK17: =SUM(C17+H17+M17+R17+W17+AB17+AG17+AL17+AQ17+AV17+BA17+BF17) -> 22 | BL17: =SUM(D17+I17+N17+S17+X17+AC17+AH17+AM17+AR17+AW17+BB17+BG17) -> 0 | BM17: =SUM(E17+J17+O17+T17+Y17+AD17+AI17+AN17+AS17+AX17+BC17+BH17) -> 9 | BN17: =F17+K17+P17+U17+Z17+AE17+AJ17+AO17+AT17+AY17+BD17+BI17 -> 9 | BO17: =SUM(G17+L17+Q17+V17+AA17+AF17+AK17+AP17+AU17+AZ17+BE17+BJ17) -> 4
B18: =PLANNING!$A$17 -> REMPL1 | C18: =PLANNING!$AG17 -> 13 | D18: =PLANNING!$AJ17 -> 0 | E18: =PLANNING!$AK17 -> 0 | F18: =PLANNING!$AL17 -> 0 | G18: =PLANNING!$AM17 -> 13 | H18: =PLANNING!$AG37 -> 15 | I18: =PLANNING!$AJ37 -> 0 | J18: =PLANNING!$AK37 -> 0 | K18: =PLANNING!$AL37 -> 0 | L18: =PLANNING!$AM37 -> 15 | M18: =PLANNING!$AG57 -> 0 | N18: =PLANNING!$AJ57 -> 0 | O18: =PLANNING!$AK57 -> 0 | P18: =PLANNING!$AL57 -> 0 | Q18: =PLANNING!$AM57 -> 0 | R18: =PLANNING!$AG77 -> 0 | S18: =PLANNING!$AJ77 -> 0 | T18: =PLANNING!$AK77 -> 0 | U18: =PLANNING!$AL77 -> 0 | V18: =PLANNING!$AM77 -> 0 | W18: =PLANNING!$AG97 -> 0 | X18: =PLANNING!$AJ97 -> 0 | Y18: =PLANNING!$AK97 -> 0 | Z18: =PLANNING!$AL97 -> 0 | AA18: =PLANNING!$AM97 -> 0 | AB18: =PLANNING!$AG117 -> 0 | AC18: =PLANNING!$AJ117 -> 0 | AD18: =PLANNING!$AK117 -> 0 | AE18: =PLANNING!$AL117 -> 0 | AF18: =PLANNING!$AM117 -> 0 | AG18: =PLANNING!$AG137 -> 0 | AH18: =PLANNING!$AJ137 -> 0 | AI18: =PLANNING!$AK137 -> 0 | AJ18: =PLANNING!$AL137 -> 0 | AK18: =PLANNING!$AM137 -> 0 | AL18: =PLANNING!$AG157 -> 0 | AM18: =PLANNING!$AJ157 -> 0 | AN18: =PLANNING!$AK157 -> 0 | AO18: =PLANNING!$AL157 -> 0 | AP18: =PLANNING!$AM157 -> 0 | AQ18: =PLANNING!$AG177 -> 0 | AR18: =PLANNING!$AJ177 -> 0 | AS18: =PLANNING!$AK177 -> 0 | AT18: =PLANNING!$AL177 -> 0 | AU18: =PLANNING!$AM177 -> 0 | AV18: =PLANNING!$AG197 -> 0 | AW18: =PLANNING!$AJ197 -> 0 | AX18: =PLANNING!$AK197 -> 0 | AY18: =PLANNING!$AL197 -> 0 | AZ18: =PLANNING!$AM197 -> 0 | BA18: =PLANNING!$AG217 -> 0 | BB18: =PLANNING!$AJ217 -> 0 | BC18: =PLANNING!$AK217 -> 0 | BD18: =PLANNING!$AL217 -> 0 | BE18: =PLANNING!$AM217 -> 0 | BF18: =PLANNING!$AG237 -> 0 | BG18: =PLANNING!$AJ237 -> 0 | BH18: =PLANNING!$AK237 -> 0 | BI18: =PLANNING!$AL237 -> 0 | BJ18: =PLANNING!$AM237 -> 0 | BK18: =SUM(C18+H18+M18+R18+W18+AB18+AG18+AL18+AQ18+AV18+BA18+BF18) -> 28 | BL18: =SUM(D18+I18+N18+S18+X18+AC18+AH18+AM18+AR18+AW18+BB18+BG18) -> 0 | BM18: =SUM(E18+J18+O18+T18+Y18+AD18+AI18+AN18+AS18+AX18+BC18+BH18) -> 0 | BN18: =F18+K18+P18+U18+Z18+AE18+AJ18+AO18+AT18+AY18+BD18+BI18 -> 0 | BO18: =SUM(G18+L18+Q18+V18+AA18+AF18+AK18+AP18+AU18+AZ18+BE18+BJ18) -> 28
B19: =PLANNING!$A$18 -> REMPL2 | C19: =PLANNING!$AG18 -> 0 | D19: =PLANNING!$AJ18 -> 0 | E19: =PLANNING!$AK18 -> 0 | F19: =PLANNING!$AL18 -> 0 | G19: =PLANNING!$AM18 -> 0 | H19: =PLANNING!$AG38 -> 0 | I19: =PLANNING!$AJ38 -> 0 | J19: =PLANNING!$AK38 -> 0 | K19: =PLANNING!$AL38 -> 0 | L19: =PLANNING!$AM38 -> 0 | M19: =PLANNING!$AG58 -> 0 | N19: =PLANNING!$AJ58 -> 0 | O19: =PLANNING!$AK58 -> 0 | P19: =PLANNING!$AL58 -> 0 | Q19: =PLANNING!$AM58 -> 0 | R19: =PLANNING!$AG78 -> 0 | S19: =PLANNING!$AJ78 -> 0 | T19: =PLANNING!$AK78 -> 0 | U19: =PLANNING!$AL78 -> 0 | V19: =PLANNING!$AM78 -> 0 | W19: =PLANNING!$AG98 -> 0 | X19: =PLANNING!$AJ98 -> 0 | Y19: =PLANNING!$AK98 -> 0 | Z19: =PLANNING!$AL98 -> 0 | AA19: =PLANNING!$AM98 -> 0 | AB19: =PLANNING!$AG118 -> 0 | AC19: =PLANNING!$AJ118 -> 0 | AD19: =PLANNING!$AK118 -> 0 | AE19: =PLANNING!$AL118 -> 0 | AF19: =PLANNING!$AM118 -> 0 | AG19: =PLANNING!$AG138 -> 0 | AH19: =PLANNING!$AJ138 -> 0 | AI19: =PLANNING!$AK138 -> 0 | AJ19: =PLANNING!$AL138 -> 0 | AK19: =PLANNING!$AM138 -> 0 | AL19: =PLANNING!$AG158 -> 0 | AM19: =PLANNING!$AJ158 -> 0 | AN19: =PLANNING!$AK158 -> 0 | AO19: =PLANNING!$AL158 -> 0 | AP19: =PLANNING!$AM158 -> 0 | AQ19: =PLANNING!$AG178 -> 0 | AR19: =PLANNING!$AJ178 -> 0 | AS19: =PLANNING!$AK178 -> 0 | AT19: =PLANNING!$AL178 -> 0 | AU19: =PLANNING!$AM178 -> 0 | AV19: =PLANNING!$AG198 -> 0 | AW19: =PLANNING!$AJ198 -> 0 | AX19: =PLANNING!$AK198 -> 0 | AY19: =PLANNING!$AL198 -> 0 | AZ19: =PLANNING!$AM198 -> 0 | BA19: =PLANNING!$AG218 -> 0 | BB19: =PLANNING!$AJ218 -> 0 | BC19: =PLANNING!$AK218 -> 0 | BD19: =PLANNING!$AL218 -> 0 | BE19: =PLANNING!$AM218 -> 0 | BF19: =PLANNING!$AG238 -> 0 | BG19: =PLANNING!$AJ238 -> 0 | BH19: =PLANNING!$AK238 -> 0 | BI19: =PLANNING!$AL238 -> 0 | BJ19: =PLANNING!$AM238 -> 0 | BK19: =SUM(C19+H19+M19+R19+W19+AB19+AG19+AL19+AQ19+AV19+BA19+BF19) -> 0 | BL19: =SUM(D19+I19+N19+S19+X19+AC19+AH19+AM19+AR19+AW19+BB19+BG19) -> 0 | BM19: =SUM(E19+J19+O19+T19+Y19+AD19+AI19+AN19+AS19+AX19+BC19+BH19) -> 0 | BN19: =F19+K19+P19+U19+Z19+AE19+AJ19+AO19+AT19+AY19+BD19+BI19 -> 0 | BO19: =SUM(G19+L19+Q19+V19+AA19+AF19+AK19+AP19+AU19+AZ19+BE19+BJ19) -> 0
B20: =PLANNING!$A$19 -> MW | C20: =PLANNING!$AG19 -> 2 | D20: =PLANNING!$AJ19 -> 0 | E20: =PLANNING!$AK19 -> 0 | F20: =PLANNING!$AL19 -> 0 | G20: =PLANNING!$AM19 -> 2 | H20: =PLANNING!$AG39 -> 2 | I20: =PLANNING!$AJ39 -> 0 | J20: =PLANNING!$AK39 -> 0 | K20: =PLANNING!$AL39 -> 0 | L20: =PLANNING!$AM39 -> 2 | M20: =PLANNING!$AG59 -> 0 | N20: =PLANNING!$AJ59 -> 0 | O20: =PLANNING!$AK59 -> 0 | P20: =PLANNING!$AL59 -> 0 | Q20: =PLANNING!$AM59 -> 0 | R20: =PLANNING!$AG79 -> 0 | S20: =PLANNING!$AJ79 -> 0 | T20: =PLANNING!$AK79 -> 0 | U20: =PLANNING!$AL79 -> 0 | V20: =PLANNING!$AM79 -> 0 | W20: =PLANNING!$AG99 -> 0 | X20: =PLANNING!$AJ99 -> 0 | Y20: =PLANNING!$AK99 -> 0 | Z20: =PLANNING!$AL99 -> 0 | AA20: =PLANNING!$AM99 -> 0 | AB20: =PLANNING!$AG119 -> 0 | AC20: =PLANNING!$AJ119 -> 0 | AD20: =PLANNING!$AK119 -> 0 | AE20: =PLANNING!$AL119 -> 0 | AF20: =PLANNING!$AM119 -> 0 | AG20: =PLANNING!$AG139 -> 0 | AH20: =PLANNING!$AJ139 -> 0 | AI20: =PLANNING!$AK139 -> 0 | AJ20: =PLANNING!$AL139 -> 0 | AK20: =PLANNING!$AM139 -> 0 | AL20: =PLANNING!$AG159 -> 0 | AM20: =PLANNING!$AJ159 -> 0 | AN20: =PLANNING!$AK159 -> 0 | AO20: =PLANNING!$AL159 -> 0 | AP20: =PLANNING!$AM159 -> 0 | AQ20: =PLANNING!$AG179 -> 0 | AR20: =PLANNING!$AJ179 -> 0 | AS20: =PLANNING!$AK179 -> 0 | AT20: =PLANNING!$AL179 -> 0 | AU20: =PLANNING!$AM179 -> 0 | AV20: =PLANNING!$AG199 -> 0 | AW20: =PLANNING!$AJ199 -> 0 | AX20: =PLANNING!$AK199 -> 0 | AY20: =PLANNING!$AL199 -> 0 | AZ20: =PLANNING!$AM199 -> 0 | BA20: =PLANNING!$AG219 -> 0 | BB20: =PLANNING!$AJ219 -> 0 | BC20: =PLANNING!$AK219 -> 0 | BD20: =PLANNING!$AL219 -> 0 | BE20: =PLANNING!$AM219 -> 0 | BF20: =PLANNING!$AG239 -> 0 | BG20: =PLANNING!$AJ239 -> 0 | BH20: =PLANNING!$AK239 -> 0 | BI20: =PLANNING!$AL239 -> 0 | BJ20: =PLANNING!$AM239 -> 0 | BK20: =SUM(C20+H20+M20+R20+W20+AB20+AG20+AL20+AQ20+AV20+BA20+BF20) -> 4 | BL20: =SUM(D20+I20+N20+S20+X20+AC20+AH20+AM20+AR20+AW20+BB20+BG20) -> 0 | BM20: =SUM(E20+J20+O20+T20+Y20+AD20+AI20+AN20+AS20+AX20+BC20+BH20) -> 0 | BN20: =F20+K20+P20+U20+Z20+AE20+AJ20+AO20+AT20+AY20+BD20+BI20 -> 0 | BO20: =SUM(G20+L20+Q20+V20+AA20+AF20+AK20+AP20+AU20+AZ20+BE20+BJ20) -> 4

Sheet BDD
A2: BASE DE DONNÉES
A4: Mois | C4: Fériés… | D4: =PLANNING!A2 -> 2019
A5: JANVIER | C5: jour de l'an | D5: =DATE($D4,1,1) -> 43466
A6: FÉVRIER | C6: Pâques | D6: =ROUND(DATE($D$4,4,MOD(234-11*MOD($D$4,19),30))/7,)*7-6 -> 43576
A7: MARS | C7: Lundi de pâques | D7: =$D$6+1 -> 43577
A8: AVRIL | C8: Fête du travail | D8: =DATE($D$4,5,1) -> 43586
A9: MAI | C9: Victoire des Alliés | D9: =DATE($D$4,5,8) -> 43593
A10: JUIN | C10: Jeudi de l'Ascension | D10: =$D$6+39 -> 43615
A11: JUILLET | C11: Pentecôte | D11: =$D$6+49 -> 43625
A12: AOUT | C12: Lundi de Pentecôte | D12: =$D$6+50 -> 43626
A13: SEPTEMBRE | C13: Fête Nationale | D13: =DATE($D$4,7,14) -> 43660
A14: OCTOBRE | C14: Assomption | D14: =DATE($D$4,8,15) -> 43692
A15: NOVEMBRE | C15: La Toussaint | D15: =DATE($D$4,11,1) -> 43770
A16: DÉCEMBRE | C16: Armistice | D16: =DATE($D$4,11,11) -> 43780
C17: Noël | D17: =DATE($D$4,12,25) -> 43824
