Workbook

Sheet Takenplanning proces
H1: Week 1 (31/12-6/01)
A2: Nom | B2: N° Pers | C2: Dag/Nacht | D2: Hoofdproces | E2: 2e Proces | F2: 3e Proces | G2: 4e Proces | H2: 31/12/2018 | I2: 1/01/2019 | J2: 2/01/2019 | K2: 3/01/2019 | L2: 4/01/2019 | M2: 5/01/2019 | N2: 6/01/2019
A3: Abdel Karim Laaouaj | B3: 14LC | H3: =IF(SUMPRODUCT(('WR Aanvragen'!$E$2:$E$600='Takenplanning proces'!H$2)*('WR Aanvragen'!$C$2:$C$600='Takenplanning proces'!$B3))=1,"WR","") | I3: =IF(SUMPRODUCT(('WR Aanvragen'!$E$2:$E$600='Takenplanning proces'!I$2)*('WR Aanvragen'!$C$2:$C$600='Takenplanning proces'!$B3))=1,"WR","") | J3: =IF(SUMPRODUCT(('WR Aanvragen'!$E$2:$E$600='Takenplanning proces'!J$2)*('WR Aanvragen'!$C$2:$C$600='Takenplanning proces'!$B3))=1,"WR","") | K3: =IF(SUMPRODUCT(('WR Aanvragen'!$E$2:$E$600='Takenplanning proces'!K$2)*('WR Aanvragen'!$C$2:$C$600='Takenplanning proces'!$B3))=1,"WR","") | L3: =IF(SUMPRODUCT(('WR Aanvragen'!$E$2:$E$600='Takenplanning proces'!L$2)*('WR Aanvragen'!$C$2:$C$600='Takenplanning proces'!$B3))=1,"WR","") | M3: =IF(SUMPRODUCT(('WR Aanvragen'!$E$2:$E$600='Takenplanning proces'!M$2)*('WR Aanvragen'!$C$2:$C$600='Takenplanning proces'!$B3))=1,"WR","") | N3: =IF(SUMPRODUCT(('WR Aanvragen'!$E$2:$E$600='Takenplanning proces'!N$2)*('WR Aanvragen'!$C$2:$C$600='Takenplanning proces'!$B3))=1,"WR","")
A4: Abdelaziz Samir | B4: 8D99 | H4: =IF(SUMPRODUCT(('WR Aanvragen'!$E$2:$E$600='Takenplanning proces'!H$2)*('WR Aanvragen'!$C$2:$C$600='Takenplanning proces'!$B4))=1,"WR","") | I4: =IF(SUMPRODUCT(('WR Aanvragen'!$E$2:$E$600='Takenplanning proces'!I$2)*('WR Aanvragen'!$C$2:$C$600='Takenplanning proces'!$B4))=1,"WR","") | J4: =IF(SUMPRODUCT(('WR Aanvragen'!$E$2:$E$600='Takenplanning proces'!J$2)*('WR Aanvragen'!$C$2:$C$600='Takenplanning proces'!$B4))=1,"WR","") | K4: =IF(SUMPRODUCT(('WR Aanvragen'!$E$2:$E$600='Takenplanning proces'!K$2)*('WR Aanvragen'!$C$2:$C$600='Takenplanning proces'!$B4))=1,"WR","") | L4: =IF(SUMPRODUCT(('WR Aanvragen'!$E$2:$E$600='Takenplanning proces'!L$2)*('WR Aanvragen'!$C$2:$C$600='Takenplanning proces'!$B4))=1,"WR","") | M4: =IF(SUMPRODUCT(('WR Aanvragen'!$E$2:$E$600='Takenplanning proces'!M$2)*('WR Aanvragen'!$C$2:$C$600='Takenplanning proces'!$B4))=1,"WR","") | N4: =IF(SUMPRODUCT(('WR Aanvragen'!$E$2:$E$600='Takenplanning proces'!N$2)*('WR Aanvragen'!$C$2:$C$600='Takenplanning proces'!$B4))=1,"WR","")
A5: Abdelilah Lahliti | B5: 8M48 | H5: =IF(SUMPRODUCT(('WR Aanvragen'!$E$2:$E$600='Takenplanning proces'!H$2)*('WR Aanvragen'!$C$2:$C$600='Takenplanning proces'!$B5))=1,"WR","") | I5: =IF(SUMPRODUCT(('WR Aanvragen'!$E$2:$E$600='Takenplanning proces'!I$2)*('WR Aanvragen'!$C$2:$C$600='Takenplanning proces'!$B5))=1,"WR","") | J5: =IF(SUMPRODUCT(('WR Aanvragen'!$E$2:$E$600='Takenplanning proces'!J$2)*('WR Aanvragen'!$C$2:$C$600='Takenplanning proces'!$B5))=1,"WR","") | K5: =IF(SUMPRODUCT(('WR Aanvragen'!$E$2:$E$600='Takenplanning proces'!K$2)*('WR Aanvragen'!$C$2:$C$600='Takenplanning proces'!$B5))=1,"WR","") | L5: =IF(SUMPRODUCT(('WR Aanvragen'!$E$2:$E$600='Takenplanning proces'!L$2)*('WR Aanvragen'!$C$2:$C$600='Takenplanning proces'!$B5))=1,"WR","") | M5: =IF(SUMPRODUCT(('WR Aanvragen'!$E$2:$E$600='Takenplanning proces'!M$2)*('WR Aanvragen'!$C$2:$C$600='Takenplanning proces'!$B5))=1,"WR","") | N5: =IF(SUMPRODUCT(('WR Aanvragen'!$E$2:$E$600='Takenplanning proces'!N$2)*('WR Aanvragen'!$C$2:$C$600='Takenplanning proces'!$B5))=1,"WR","")
A6: Abdelkader Deraoui | B6: XT57 | H6: =IF(SUMPRODUCT(('WR Aanvragen'!$E$2:$E$600='Takenplanning proces'!H$2)*('WR Aanvragen'!$C$2:$C$600='Takenplanning proces'!$B6))=1,"WR","") | I6: =IF(SUMPRODUCT(('WR Aanvragen'!$E$2:$E$600='Takenplanning proces'!I$2)*('WR Aanvragen'!$C$2:$C$600='Takenplanning proces'!$B6))=1,"WR","") | J6: =IF(SUMPRODUCT(('WR Aanvragen'!$E$2:$E$600='Takenplanning proces'!J$2)*('WR Aanvragen'!$C$2:$C$600='Takenplanning proces'!$B6))=1,"WR","") | K6: =IF(SUMPRODUCT(('WR Aanvragen'!$E$2:$E$600='Takenplanning proces'!K$2)*('WR Aanvragen'!$C$2:$C$600='Takenplanning proces'!$B6))=1,"WR","") | L6: =IF(SUMPRODUCT(('WR Aanvragen'!$E$2:$E$600='Takenplanning proces'!L$2)*('WR Aanvragen'!$C$2:$C$600='Takenplanning proces'!$B6))=1,"WR","") | M6: =IF(SUMPRODUCT(('WR Aanvragen'!$E$2:$E$600='Takenplanning proces'!M$2)*('WR Aanvragen'!$C$2:$C$600='Takenplanning proces'!$B6))=1,"WR","") | N6: =IF(SUMPRODUCT(('WR Aanvragen'!$E$2:$E$600='Takenplanning proces'!N$2)*('WR Aanvragen'!$C$2:$C$600='Takenplanning proces'!$B6))=1,"WR","")
A7: Abdul Wahid | B7: 1C95 | H7: =IF(SUMPRODUCT(('WR Aanvragen'!$E$2:$E$600='Takenplanning proces'!H$2)*('WR Aanvragen'!$C$2:$C$600='Takenplanning proces'!$B7))=1,"WR","") | I7: =IF(SUMPRODUCT(('WR Aanvragen'!$E$2:$E$600='Takenplanning proces'!I$2)*('WR Aanvragen'!$C$2:$C$600='Takenplanning proces'!$B7))=1,"WR","") | J7: =IF(SUMPRODUCT(('WR Aanvragen'!$E$2:$E$600='Takenplanning proces'!J$2)*('WR Aanvragen'!$C$2:$C$600='Takenplanning proces'!$B7))=1,"WR","") | K7: =IF(SUMPRODUCT(('WR Aanvragen'!$E$2:$E$600='Takenplanning proces'!K$2)*('WR Aanvragen'!$C$2:$C$600='Takenplanning proces'!$B7))=1,"WR","") | L7: =IF(SUMPRODUCT(('WR Aanvragen'!$E$2:$E$600='Takenplanning proces'!L$2)*('WR Aanvragen'!$C$2:$C$600='Takenplanning proces'!$B7))=1,"WR","") | M7: =IF(SUMPRODUCT(('WR Aanvragen'!$E$2:$E$600='Takenplanning proces'!M$2)*('WR Aanvragen'!$C$2:$C$600='Takenplanning proces'!$B7))=1,"WR","") | N7: =IF(SUMPRODUCT(('WR Aanvragen'!$E$2:$E$600='Takenplanning proces'!N$2)*('WR Aanvragen'!$C$2:$C$600='Takenplanning proces'!$B7))=1,"WR","")
A8: Abi Williams | B8: 4T66 | H8: =IF(SUMPRODUCT(('WR Aanvragen'!$E$2:$E$600='Takenplanning proces'!H$2)*('WR Aanvragen'!$C$2:$C$600='Takenplanning proces'!$B8))=1,"WR","") | I8: =IF(SUMPRODUCT(('WR Aanvragen'!$E$2:$E$600='Takenplanning proces'!I$2)*('WR Aanvragen'!$C$2:$C$600='Takenplanning proces'!$B8))=1,"WR","") | J8: =IF(SUMPRODUCT(('WR Aanvragen'!$E$2:$E$600='Takenplanning proces'!J$2)*('WR Aanvragen'!$C$2:$C$600='Takenplanning proces'!$B8))=1,"WR","") | K8: =IF(SUMPRODUCT(('WR Aanvragen'!$E$2:$E$600='Takenplanning proces'!K$2)*('WR Aanvragen'!$C$2:$C$600='Takenplanning proces'!$B8))=1,"WR","") | L8: =IF(SUMPRODUCT(('WR Aanvragen'!$E$2:$E$600='Takenplanning proces'!L$2)*('WR Aanvragen'!$C$2:$C$600='Takenplanning proces'!$B8))=1,"WR","") | M8: =IF(SUMPRODUCT(('WR Aanvragen'!$E$2:$E$600='Takenplanning proces'!M$2)*('WR Aanvragen'!$C$2:$C$600='Takenplanning proces'!$B8))=1,"WR","") | N8: =IF(SUMPRODUCT(('WR Aanvragen'!$E$2:$E$600='Takenplanning proces'!N$2)*('WR Aanvragen'!$C$2:$C$600='Takenplanning proces'!$B8))=1,"WR","")
A9: Adel Helmaoui | B9: 7D94 | H9: =IF(SUMPRODUCT(('WR Aanvragen'!$E$2:$E$600='Takenplanning proces'!H$2)*('WR Aanvragen'!$C$2:$C$600='Takenplanning proces'!$B9))=1,"WR","") | I9: =IF(SUMPRODUCT(('WR Aanvragen'!$E$2:$E$600='Takenplanning proces'!I$2)*('WR Aanvragen'!$C$2:$C$600='Takenplanning proces'!$B9))=1,"WR","") | J9: =IF(SUMPRODUCT(('WR Aanvragen'!$E$2:$E$600='Takenplanning proces'!J$2)*('WR Aanvragen'!$C$2:$C$600='Takenplanning proces'!$B9))=1,"WR","") | K9: =IF(SUMPRODUCT(('WR Aanvragen'!$E$2:$E$600='Takenplanning proces'!K$2)*('WR Aanvragen'!$C$2:$C$600='Takenplanning proces'!$B9))=1,"WR","") | L9: =IF(SUMPRODUCT(('WR Aanvragen'!$E$2:$E$600='Takenplanning proces'!L$2)*('WR Aanvragen'!$C$2:$C$600='Takenplanning proces'!$B9))=1,"WR","") | M9: =IF(SUMPRODUCT(('WR Aanvragen'!$E$2:$E$600='Takenplanning proces'!M$2)*('WR Aanvragen'!$C$2:$C$600='Takenplanning proces'!$B9))=1,"WR","") | N9: =IF(SUMPRODUCT(('WR Aanvragen'!$E$2:$E$600='Takenplanning proces'!N$2)*('WR Aanvragen'!$C$2:$C$600='Takenplanning proces'!$B9))=1,"WR","")
A10: Agnieszka Obremska | B10: 7YJ4 | H10: =IF(SUMPRODUCT(('WR Aanvragen'!$E$2:$E$600='Takenplanning proces'!H$2)*('WR Aanvragen'!$C$2:$C$600='Takenplanning proces'!$B10))=1,"WR","") | I10: =IF(SUMPRODUCT(('WR Aanvragen'!$E$2:$E$600='Takenplanning proces'!I$2)*('WR Aanvragen'!$C$2:$C$600='Takenplanning proces'!$B10))=1,"WR","") | J10: =IF(SUMPRODUCT(('WR Aanvragen'!$E$2:$E$600='Takenplanning proces'!J$2)*('WR Aanvragen'!$C$2:$C$600='Takenplanning proces'!$B10))=1,"WR","") | K10: =IF(SUMPRODUCT(('WR Aanvragen'!$E$2:$E$600='Takenplanning proces'!K$2)*('WR Aanvragen'!$C$2:$C$600='Takenplanning proces'!$B10))=1,"WR","") | L10: =IF(SUMPRODUCT(('WR Aanvragen'!$E$2:$E$600='Takenplanning proces'!L$2)*('WR Aanvragen'!$C$2:$C$600='Takenplanning proces'!$B10))=1,"WR","") | M10: =IF(SUMPRODUCT(('WR Aanvragen'!$E$2:$E$600='Takenplanning proces'!M$2)*('WR Aanvragen'!$C$2:$C$600='Takenplanning proces'!$B10))=1,"WR","") | N10: =IF(SUMPRODUCT(('WR Aanvragen'!$E$2:$E$600='Takenplanning proces'!N$2)*('WR Aanvragen'!$C$2:$C$600='Takenplanning proces'!$B10))=1,"WR","")
A11: Alain Ndjankou Nkwanjio | B11: 3TH7 | H11: =IF(SUMPRODUCT(('WR Aanvragen'!$E$2:$E$600='Takenplanning proces'!H$2)*('WR Aanvragen'!$C$2:$C$600='Takenplanning proces'!$B11))=1,"WR","") | I11: =IF(SUMPRODUCT(('WR Aanvragen'!$E$2:$E$600='Takenplanning proces'!I$2)*('WR Aanvragen'!$C$2:$C$600='Takenplanning proces'!$B11))=1,"WR","") | J11: =IF(SUMPRODUCT(('WR Aanvragen'!$E$2:$E$600='Takenplanning proces'!J$2)*('WR Aanvragen'!$C$2:$C$600='Takenplanning proces'!$B11))=1,"WR","") | K11: =IF(SUMPRODUCT(('WR Aanvragen'!$E$2:$E$600='Takenplanning proces'!K$2)*('WR Aanvragen'!$C$2:$C$600='Takenplanning proces'!$B11))=1,"WR","") | L11: =IF(SUMPRODUCT(('WR Aanvragen'!$E$2:$E$600='Takenplanning proces'!L$2)*('WR Aanvragen'!$C$2:$C$600='Takenplanning proces'!$B11))=1,"WR","") | M11: =IF(SUMPRODUCT(('WR Aanvragen'!$E$2:$E$600='Takenplanning proces'!M$2)*('WR Aanvragen'!$C$2:$C$600='Takenplanning proces'!$B11))=1,"WR","") | N11: =IF(SUMPRODUCT(('WR Aanvragen'!$E$2:$E$600='Takenplanning proces'!N$2)*('WR Aanvragen'!$C$2:$C$600='Takenplanning proces'!$B11))=1,"WR","")
A12: Alexandre Pegorer | B12: 4M74 | H12: =IF(SUMPRODUCT(('WR Aanvragen'!$E$2:$E$600='Takenplanning proces'!H$2)*('WR Aanvragen'!$C$2:$C$600='Takenplanning proces'!$B12))=1,"WR","") | I12: =IF(SUMPRODUCT(('WR Aanvragen'!$E$2:$E$600='Takenplanning proces'!I$2)*('WR Aanvragen'!$C$2:$C$600='Takenplanning proces'!$B12))=1,"WR","") | J12: =IF(SUMPRODUCT(('WR Aanvragen'!$E$2:$E$600='Takenplanning proces'!J$2)*('WR Aanvragen'!$C$2:$C$600='Takenplanning proces'!$B12))=1,"WR","") | K12: =IF(SUMPRODUCT(('WR Aanvragen'!$E$2:$E$600='Takenplanning proces'!K$2)*('WR Aanvragen'!$C$2:$C$600='Takenplanning proces'!$B12))=1,"WR","") | L12: =IF(SUMPRODUCT(('WR Aanvragen'!$E$2:$E$600='Takenplanning proces'!L$2)*('WR Aanvragen'!$C$2:$C$600='Takenplanning proces'!$B12))=1,"WR","") | M12: =IF(SUMPRODUCT(('WR Aanvragen'!$E$2:$E$600='Takenplanning proces'!M$2)*('WR Aanvragen'!$C$2:$C$600='Takenplanning proces'!$B12))=1,"WR","") | N12: =IF(SUMPRODUCT(('WR Aanvragen'!$E$2:$E$600='Takenplanning proces'!N$2)*('WR Aanvragen'!$C$2:$C$600='Takenplanning proces'!$B12))=1,"WR","")
A13: Alexandru Muthi | B13: 6A05 | H13: =IF(SUMPRODUCT(('WR Aanvragen'!$E$2:$E$600='Takenplanning proces'!H$2)*('WR Aanvragen'!$C$2:$C$600='Takenplanning proces'!$B13))=1,"WR","") | I13: =IF(SUMPRODUCT(('WR Aanvragen'!$E$2:$E$600='Takenplanning proces'!I$2)*('WR Aanvragen'!$C$2:$C$600='Takenplanning proces'!$B13))=1,"WR","") | J13: =IF(SUMPRODUCT(('WR Aanvragen'!$E$2:$E$600='Takenplanning proces'!J$2)*('WR Aanvragen'!$C$2:$C$600='Takenplanning proces'!$B13))=1,"WR","") | K13: =IF(SUMPRODUCT(('WR Aanvragen'!$E$2:$E$600='Takenplanning proces'!K$2)*('WR Aanvragen'!$C$2:$C$600='Takenplanning proces'!$B13))=1,"WR","") | L13: =IF(SUMPRODUCT(('WR Aanvragen'!$E$2:$E$600='Takenplanning proces'!L$2)*('WR Aanvragen'!$C$2:$C$600='Takenplanning proces'!$B13))=1,"WR","") | M13: =IF(SUMPRODUCT(('WR Aanvragen'!$E$2:$E$600='Takenplanning proces'!M$2)*('WR Aanvragen'!$C$2:$C$600='Takenplanning proces'!$B13))=1,"WR","") | N13: =IF(SUMPRODUCT(('WR Aanvragen'!$E$2:$E$600='Takenplanning proces'!N$2)*('WR Aanvragen'!$C$2:$C$600='Takenplanning proces'!$B13))=1,"WR","")
A14: Angelique Carnicer | B14: 9PD2 | H14: =IF(SUMPRODUCT(('WR Aanvragen'!$E$2:$E$600='Takenplanning proces'!H$2)*('WR Aanvragen'!$C$2:$C$600='Takenplanning proces'!$B14))=1,"WR","") | I14: =IF(SUMPRODUCT(('WR Aanvragen'!$E$2:$E$600='Takenplanning proces'!I$2)*('WR Aanvragen'!$C$2:$C$600='Takenplanning proces'!$B14))=1,"WR","") | J14: =IF(SUMPRODUCT(('WR Aanvragen'!$E$2:$E$600='Takenplanning proces'!J$2)*('WR Aanvragen'!$C$2:$C$600='Takenplanning proces'!$B14))=1,"WR","") | K14: =IF(SUMPRODUCT(('WR Aanvragen'!$E$2:$E$600='Takenplanning proces'!K$2)*('WR Aanvragen'!$C$2:$C$600='Takenplanning proces'!$B14))=1,"WR","") | L14: =IF(SUMPRODUCT(('WR Aanvragen'!$E$2:$E$600='Takenplanning proces'!L$2)*('WR Aanvragen'!$C$2:$C$600='Takenplanning proces'!$B14))=1,"WR","") | M14: =IF(SUMPRODUCT(('WR Aanvragen'!$E$2:$E$600='Takenplanning proces'!M$2)*('WR Aanvragen'!$C$2:$C$600='Takenplanning proces'!$B14))=1,"WR","") | N14: =IF(SUMPRODUCT(('WR Aanvragen'!$E$2:$E$600='Takenplanning proces'!N$2)*('WR Aanvragen'!$C$2:$C$600='Takenplanning proces'!$B14))=1,"WR","")
... A121: Najib Chakour | B121: 8RL1 | H121: =IF(SUMPRODUCT(('WR Aanvragen'!$E$2:$E$600='Takenplanning proces'!H$2)*('WR Aanvragen'!$C$2:$C$600='Takenplanning proces'!$B121))=1,"WR","") | I121: =IF(SUMPRODUCT(('WR Aanvragen'!$E$2:$E$600='Takenplanning proces'!I$2)*('WR Aanvragen'!$C$2:$C$600='Takenplanning proces'!$B121))=1,"WR","") | J121: =IF(SUMPRODUCT(('WR Aanvragen'!$E$2:$E$600='Takenplanning proces'!J$2)*('WR Aanvragen'!$C$2:$C$600='Takenplanning proces'!$B121))=1,"WR","") | K121: =IF(SUMPRODUCT(('WR Aanvragen'!$E$2:$E$600='Takenplanning proces'!K$2)*('WR Aanvragen'!$C$2:$C$600='Takenplanning proces'!$B121))=1,"WR","") | L121: =IF(SUMPRODUCT(('WR Aanvragen'!$E$2:$E$600='Takenplanning proces'!L$2)*('WR Aanvragen'!$C$2:$C$600='Takenplanning proces'!$B121))=1,"WR","") | M121: =IF(SUMPRODUCT(('WR Aanvragen'!$E$2:$E$600='Takenplanning proces'!M$2)*('WR Aanvragen'!$C$2:$C$600='Takenplanning proces'!$B121))=1,"WR","") | N121: =IF(SUMPRODUCT(('WR Aanvragen'!$E$2:$E$600='Takenplanning proces'!N$2)*('WR Aanvragen'!$C$2:$C$600='Takenplanning proces'!$B121))=1,"WR","")
A122: Nicolas Smal | B122: 8e+17 | H122: =IF(SUMPRODUCT(('WR Aanvragen'!$E$2:$E$600='Takenplanning proces'!H$2)*('WR Aanvragen'!$C$2:$C$600='Takenplanning proces'!$B122))=1,"WR","") | I122: =IF(SUMPRODUCT(('WR Aanvragen'!$E$2:$E$600='Takenplanning proces'!I$2)*('WR Aanvragen'!$C$2:$C$600='Takenplanning proces'!$B122))=1,"WR","") | J122: =IF(SUMPRODUCT(('WR Aanvragen'!$E$2:$E$600='Takenplanning proces'!J$2)*('WR Aanvragen'!$C$2:$C$600='Takenplanning proces'!$B122))=1,"WR","") | K122: =IF(SUMPRODUCT(('WR Aanvragen'!$E$2:$E$600='Takenplanning proces'!K$2)*('WR Aanvragen'!$C$2:$C$600='Takenplanning proces'!$B122))=1,"WR","") | L122: =IF(SUMPRODUCT(('WR Aanvragen'!$E$2:$E$600='Takenplanning proces'!L$2)*('WR Aanvragen'!$C$2:$C$600='Takenplanning proces'!$B122))=1,"WR","") | M122: =IF(SUMPRODUCT(('WR Aanvragen'!$E$2:$E$600='Takenplanning proces'!M$2)*('WR Aanvragen'!$C$2:$C$600='Takenplanning proces'!$B122))=1,"WR","") | N122: =IF(SUMPRODUCT(('WR Aanvragen'!$E$2:$E$600='Takenplanning proces'!N$2)*('WR Aanvragen'!$C$2:$C$600='Takenplanning proces'!$B122))=1,"WR","")
A123: Olivier Stas | B123: VKW3 | H123: =IF(SUMPRODUCT(('WR Aanvragen'!$E$2:$E$600='Takenplanning proces'!H$2)*('WR Aanvragen'!$C$2:$C$600='Takenplanning proces'!$B123))=1,"WR","") | I123: =IF(SUMPRODUCT(('WR Aanvragen'!$E$2:$E$600='Takenplanning proces'!I$2)*('WR Aanvragen'!$C$2:$C$600='Takenplanning proces'!$B123))=1,"WR","") | J123: =IF(SUMPRODUCT(('WR Aanvragen'!$E$2:$E$600='Takenplanning proces'!J$2)*('WR Aanvragen'!$C$2:$C$600='Takenplanning proces'!$B123))=1,"WR","") | K123: =IF(SUMPRODUCT(('WR Aanvragen'!$E$2:$E$600='Takenplanning proces'!K$2)*('WR Aanvragen'!$C$2:$C$600='Takenplanning proces'!$B123))=1,"WR","") | L123: =IF(SUMPRODUCT(('WR Aanvragen'!$E$2:$E$600='Takenplanning proces'!L$2)*('WR Aanvragen'!$C$2:$C$600='Takenplanning proces'!$B123))=1,"WR","") | M123: =IF(SUMPRODUCT(('WR Aanvragen'!$E$2:$E$600='Takenplanning proces'!M$2)*('WR Aanvragen'!$C$2:$C$600='Takenplanning proces'!$B123))=1,"WR","") | N123: =IF(SUMPRODUCT(('WR Aanvragen'!$E$2:$E$600='Takenplanning proces'!N$2)*('WR Aanvragen'!$C$2:$C$600='Takenplanning proces'!$B123))=1,"WR","")
A124: Orphée Liwoke | B124: MKM7 | H124: =IF(SUMPRODUCT(('WR Aanvragen'!$E$2:$E$600='Takenplanning proces'!H$2)*('WR Aanvragen'!$C$2:$C$600='Takenplanning proces'!$B124))=1,"WR","") | I124: =IF(SUMPRODUCT(('WR Aanvragen'!$E$2:$E$600='Takenplanning proces'!I$2)*('WR Aanvragen'!$C$2:$C$600='Takenplanning proces'!$B124))=1,"WR","") | J124: =IF(SUMPRODUCT(('WR Aanvragen'!$E$2:$E$600='Takenplanning proces'!J$2)*('WR Aanvragen'!$C$2:$C$600='Takenplanning proces'!$B124))=1,"WR","") | K124: =IF(SUMPRODUCT(('WR Aanvragen'!$E$2:$E$600='Takenplanning proces'!K$2)*('WR Aanvragen'!$C$2:$C$600='Takenplanning proces'!$B124))=1,"WR","") | L124: =IF(SUMPRODUCT(('WR Aanvragen'!$E$2:$E$600='Takenplanning proces'!L$2)*('WR Aanvragen'!$C$2:$C$600='Takenplanning proces'!$B124))=1,"WR","") | M124: =IF(SUMPRODUCT(('WR Aanvragen'!$E$2:$E$600='Takenplanning proces'!M$2)*('WR Aanvragen'!$C$2:$C$600='Takenplanning proces'!$B124))=1,"WR","") | N124: =IF(SUMPRODUCT(('WR Aanvragen'!$E$2:$E$600='Takenplanning proces'!N$2)*('WR Aanvragen'!$C$2:$C$600='Takenplanning proces'!$B124))=1,"WR","")
A125: Patrick Fagot | B125: 7QM2 | H125: =IF(SUMPRODUCT(('WR Aanvragen'!$E$2:$E$600='Takenplanning proces'!H$2)*('WR Aanvragen'!$C$2:$C$600='Takenplanning proces'!$B125))=1,"WR","") | I125: =IF(SUMPRODUCT(('WR Aanvragen'!$E$2:$E$600='Takenplanning proces'!I$2)*('WR Aanvragen'!$C$2:$C$600='Takenplanning proces'!$B125))=1,"WR","") | J125: =IF(SUMPRODUCT(('WR Aanvragen'!$E$2:$E$600='Takenplanning proces'!J$2)*('WR Aanvragen'!$C$2:$C$600='Takenplanning proces'!$B125))=1,"WR","") | K125: =IF(SUMPRODUCT(('WR Aanvragen'!$E$2:$E$600='Takenplanning proces'!K$2)*('WR Aanvragen'!$C$2:$C$600='Takenplanning proces'!$B125))=1,"WR","") | L125: =IF(SUMPRODUCT(('WR Aanvragen'!$E$2:$E$600='Takenplanning proces'!L$2)*('WR Aanvragen'!$C$2:$C$600='Takenplanning proces'!$B125))=1,"WR","") | M125: =IF(SUMPRODUCT(('WR Aanvragen'!$E$2:$E$600='Takenplanning proces'!M$2)*('WR Aanvragen'!$C$2:$C$600='Takenplanning proces'!$B125))=1,"WR","") | N125: =IF(SUMPRODUCT(('WR Aanvragen'!$E$2:$E$600='Takenplanning proces'!N$2)*('WR Aanvragen'!$C$2:$C$600='Takenplanning proces'!$B125))=1,"WR","")
A126: Patrick Feyaerts | B126: QWH2 | H126: =IF(SUMPRODUCT(('WR Aanvragen'!$E$2:$E$600='Takenplanning proces'!H$2)*('WR Aanvragen'!$C$2:$C$600='Takenplanning proces'!$B126))=1,"WR","") | I126: =IF(SUMPRODUCT(('WR Aanvragen'!$E$2:$E$600='Takenplanning proces'!I$2)*('WR Aanvragen'!$C$2:$C$600='Takenplanning proces'!$B126))=1,"WR","") | J126: =IF(SUMPRODUCT(('WR Aanvragen'!$E$2:$E$600='Takenplanning proces'!J$2)*('WR Aanvragen'!$C$2:$C$600='Takenplanning proces'!$B126))=1,"WR","") | K126: =IF(SUMPRODUCT(('WR Aanvragen'!$E$2:$E$600='Takenplanning proces'!K$2)*('WR Aanvragen'!$C$2:$C$600='Takenplanning proces'!$B126))=1,"WR","") | L126: =IF(SUMPRODUCT(('WR Aanvragen'!$E$2:$E$600='Takenplanning proces'!L$2)*('WR Aanvragen'!$C$2:$C$600='Takenplanning proces'!$B126))=1,"WR","") | M126: =IF(SUMPRODUCT(('WR Aanvragen'!$E$2:$E$600='Takenplanning proces'!M$2)*('WR Aanvragen'!$C$2:$C$600='Takenplanning proces'!$B126))=1,"WR","") | N126: =IF(SUMPRODUCT(('WR Aanvragen'!$E$2:$E$600='Takenplanning proces'!N$2)*('WR Aanvragen'!$C$2:$C$600='Takenplanning proces'!$B126))=1,"WR","")
A127: Patthy Mambueni Mengi | B127: 2IY7 | H127: =IF(SUMPRODUCT(('WR Aanvragen'!$E$2:$E$600='Takenplanning proces'!H$2)*('WR Aanvragen'!$C$2:$C$600='Takenplanning proces'!$B127))=1,"WR","") | I127: =IF(SUMPRODUCT(('WR Aanvragen'!$E$2:$E$600='Takenplanning proces'!I$2)*('WR Aanvragen'!$C$2:$C$600='Takenplanning proces'!$B127))=1,"WR","") | J127: =IF(SUMPRODUCT(('WR Aanvragen'!$E$2:$E$600='Takenplanning proces'!J$2)*('WR Aanvragen'!$C$2:$C$600='Takenplanning proces'!$B127))=1,"WR","") | K127: =IF(SUMPRODUCT(('WR Aanvragen'!$E$2:$E$600='Takenplanning proces'!K$2)*('WR Aanvragen'!$C$2:$C$600='Takenplanning proces'!$B127))=1,"WR","") | L127: =IF(SUMPRODUCT(('WR Aanvragen'!$E$2:$E$600='Takenplanning proces'!L$2)*('WR Aanvragen'!$C$2:$C$600='Takenplanning proces'!$B127))=1,"WR","") | M127: =IF(SUMPRODUCT(('WR Aanvragen'!$E$2:$E$600='Takenplanning proces'!M$2)*('WR Aanvragen'!$C$2:$C$600='Takenplanning proces'!$B127))=1,"WR","") | N127: =IF(SUMPRODUCT(('WR Aanvragen'!$E$2:$E$600='Takenplanning proces'!N$2)*('WR Aanvragen'!$C$2:$C$600='Takenplanning proces'!$B127))=1,"WR","")
A128: Philip Van Den Heuvel | B128: VNU5 | H128: =IF(SUMPRODUCT(('WR Aanvragen'!$E$2:$E$600='Takenplanning proces'!H$2)*('WR Aanvragen'!$C$2:$C$600='Takenplanning proces'!$B128))=1,"WR","") | I128: =IF(SUMPRODUCT(('WR Aanvragen'!$E$2:$E$600='Takenplanning proces'!I$2)*('WR Aanvragen'!$C$2:$C$600='Takenplanning proces'!$B128))=1,"WR","") | J128: =IF(SUMPRODUCT(('WR Aanvragen'!$E$2:$E$600='Takenplanning proces'!J$2)*('WR Aanvragen'!$C$2:$C$600='Takenplanning proces'!$B128))=1,"WR","") | K128: =IF(SUMPRODUCT(('WR Aanvragen'!$E$2:$E$600='Takenplanning proces'!K$2)*('WR Aanvragen'!$C$2:$C$600='Takenplanning proces'!$B128))=1,"WR","") | L128: =IF(SUMPRODUCT(('WR Aanvragen'!$E$2:$E$600='Takenplanning proces'!L$2)*('WR Aanvragen'!$C$2:$C$600='Takenplanning proces'!$B128))=1,"WR","") | M128: =IF(SUMPRODUCT(('WR Aanvragen'!$E$2:$E$600='Takenplanning proces'!M$2)*('WR Aanvragen'!$C$2:$C$600='Takenplanning proces'!$B128))=1,"WR","") | N128: =IF(SUMPRODUCT(('WR Aanvragen'!$E$2:$E$600='Takenplanning proces'!N$2)*('WR Aanvragen'!$C$2:$C$600='Takenplanning proces'!$B128))=1,"WR","")
A129: Philippe Da Conceicao Rosa | B129: 1M5I | H129: =IF(SUMPRODUCT(('WR Aanvragen'!$E$2:$E$600='Takenplanning proces'!H$2)*('WR Aanvragen'!$C$2:$C$600='Takenplanning proces'!$B129))=1,"WR","") | I129: =IF(SUMPRODUCT(('WR Aanvragen'!$E$2:$E$600='Takenplanning proces'!I$2)*('WR Aanvragen'!$C$2:$C$600='Takenplanning proces'!$B129))=1,"WR","") | J129: =IF(SUMPRODUCT(('WR Aanvragen'!$E$2:$E$600='Takenplanning proces'!J$2)*('WR Aanvragen'!$C$2:$C$600='Takenplanning proces'!$B129))=1,"WR","") | K129: =IF(SUMPRODUCT(('WR Aanvragen'!$E$2:$E$600='Takenplanning proces'!K$2)*('WR Aanvragen'!$C$2:$C$600='Takenplanning proces'!$B129))=1,"WR","") | L129: =IF(SUMPRODUCT(('WR Aanvragen'!$E$2:$E$600='Takenplanning proces'!L$2)*('WR Aanvragen'!$C$2:$C$600='Takenplanning proces'!$B129))=1,"WR","") | M129: =IF(SUMPRODUCT(('WR Aanvragen'!$E$2:$E$600='Takenplanning proces'!M$2)*('WR Aanvragen'!$C$2:$C$600='Takenplanning proces'!$B129))=1,"WR","") | N129: =IF(SUMPRODUCT(('WR Aanvragen'!$E$2:$E$600='Takenplanning proces'!N$2)*('WR Aanvragen'!$C$2:$C$600='Takenplanning proces'!$B129))=1,"WR","")
A130: Pieter Vrijders | B130: FM78 | H130: =IF(SUMPRODUCT(('WR Aanvragen'!$E$2:$E$600='Takenplanning proces'!H$2)*('WR Aanvragen'!$C$2:$C$600='Takenplanning proces'!$B130))=1,"WR","") | I130: =IF(SUMPRODUCT(('WR Aanvragen'!$E$2:$E$600='Takenplanning proces'!I$2)*('WR Aanvragen'!$C$2:$C$600='Takenplanning proces'!$B130))=1,"WR","") | J130: =IF(SUMPRODUCT(('WR Aanvragen'!$E$2:$E$600='Takenplanning proces'!J$2)*('WR Aanvragen'!$C$2:$C$600='Takenplanning proces'!$B130))=1,"WR","") | K130: =IF(SUMPRODUCT(('WR Aanvragen'!$E$2:$E$600='Takenplanning proces'!K$2)*('WR Aanvragen'!$C$2:$C$600='Takenplanning proces'!$B130))=1,"WR","") | L130: =IF(SUMPRODUCT(('WR Aanvragen'!$E$2:$E$600='Takenplanning proces'!L$2)*('WR Aanvragen'!$C$2:$C$600='Takenplanning proces'!$B130))=1,"WR","") | M130: =IF(SUMPRODUCT(('WR Aanvragen'!$E$2:$E$600='Takenplanning proces'!M$2)*('WR Aanvragen'!$C$2:$C$600='Takenplanning proces'!$B130))=1,"WR","") | N130: =IF(SUMPRODUCT(('WR Aanvragen'!$E$2:$E$600='Takenplanning proces'!N$2)*('WR Aanvragen'!$C$2:$C$600='Takenplanning proces'!$B130))=1,"WR","")
A131: Polycarpe Okolongo Oboy | B131: CK48 | H131: =IF(SUMPRODUCT(('WR Aanvragen'!$E$2:$E$600='Takenplanning proces'!H$2)*('WR Aanvragen'!$C$2:$C$600='Takenplanning proces'!$B131))=1,"WR","") | I131: =IF(SUMPRODUCT(('WR Aanvragen'!$E$2:$E$600='Takenplanning proces'!I$2)*('WR Aanvragen'!$C$2:$C$600='Takenplanning proces'!$B131))=1,"WR","") | J131: =IF(SUMPRODUCT(('WR Aanvragen'!$E$2:$E$600='Takenplanning proces'!J$2)*('WR Aanvragen'!$C$2:$C$600='Takenplanning proces'!$B131))=1,"WR","") | K131: =IF(SUMPRODUCT(('WR Aanvragen'!$E$2:$E$600='Takenplanning proces'!K$2)*('WR Aanvragen'!$C$2:$C$600='Takenplanning proces'!$B131))=1,"WR","") | L131: =IF(SUMPRODUCT(('WR Aanvragen'!$E$2:$E$600='Takenplanning proces'!L$2)*('WR Aanvragen'!$C$2:$C$600='Takenplanning proces'!$B131))=1,"WR","") | M131: =IF(SUMPRODUCT(('WR Aanvragen'!$E$2:$E$600='Takenplanning proces'!M$2)*('WR Aanvragen'!$C$2:$C$600='Takenplanning proces'!$B131))=1,"WR","") | N131: =IF(SUMPRODUCT(('WR Aanvragen'!$E$2:$E$600='Takenplanning proces'!N$2)*('WR Aanvragen'!$C$2:$C$600='Takenplanning proces'!$B131))=1,"WR","")
A132: Quentin Schoovaerts | B132: 6DH7 | H132: =IF(SUMPRODUCT(('WR Aanvragen'!$E$2:$E$600='Takenplanning proces'!H$2)*('WR Aanvragen'!$C$2:$C$600='Takenplanning proces'!$B132))=1,"WR","") | I132: =IF(SUMPRODUCT(('WR Aanvragen'!$E$2:$E$600='Takenplanning proces'!I$2)*('WR Aanvragen'!$C$2:$C$600='Takenplanning proces'!$B132))=1,"WR","") | J132: =IF(SUMPRODUCT(('WR Aanvragen'!$E$2:$E$600='Takenplanning proces'!J$2)*('WR Aanvragen'!$C$2:$C$600='Takenplanning proces'!$B132))=1,"WR","") | K132: =IF(SUMPRODUCT(('WR Aanvragen'!$E$2:$E$600='Takenplanning proces'!K$2)*('WR Aanvragen'!$C$2:$C$600='Takenplanning proces'!$B132))=1,"WR","") | L132: =IF(SUMPRODUCT(('WR Aanvragen'!$E$2:$E$600='Takenplanning proces'!L$2)*('WR Aanvragen'!$C$2:$C$600='Takenplanning proces'!$B132))=1,"WR","") | M132: =IF(SUMPRODUCT(('WR Aanvragen'!$E$2:$E$600='Takenplanning proces'!M$2)*('WR Aanvragen'!$C$2:$C$600='Takenplanning proces'!$B132))=1,"WR","") | N132: =IF(SUMPRODUCT(('WR Aanvragen'!$E$2:$E$600='Takenplanning proces'!N$2)*('WR Aanvragen'!$C$2:$C$600='Takenplanning proces'!$B132))=1,"WR","")
A133: Rachid Harbouchi | B133: 9KQ5 | H133: =IF(SUMPRODUCT(('WR Aanvragen'!$E$2:$E$600='Takenplanning proces'!H$2)*('WR Aanvragen'!$C$2:$C$600='Takenplanning proces'!$B133))=1,"WR","") | I133: =IF(SUMPRODUCT(('WR Aanvragen'!$E$2:$E$600='Takenplanning proces'!I$2)*('WR Aanvragen'!$C$2:$C$600='Takenplanning proces'!$B133))=1,"WR","") | J133: =IF(SUMPRODUCT(('WR Aanvragen'!$E$2:$E$600='Takenplanning proces'!J$2)*('WR Aanvragen'!$C$2:$C$600='Takenplanning proces'!$B133))=1,"WR","") | K133: =IF(SUMPRODUCT(('WR Aanvragen'!$E$2:$E$600='Takenplanning proces'!K$2)*('WR Aanvragen'!$C$2:$C$600='Takenplanning proces'!$B133))=1,"WR","") | L133: =IF(SUMPRODUCT(('WR Aanvragen'!$E$2:$E$600='Takenplanning proces'!L$2)*('WR Aanvragen'!$C$2:$C$600='Takenplanning proces'!$B133))=1,"WR","") | M133: =IF(SUMPRODUCT(('WR Aanvragen'!$E$2:$E$600='Takenplanning proces'!M$2)*('WR Aanvragen'!$C$2:$C$600='Takenplanning proces'!$B133))=1,"WR","") | N133: =IF(SUMPRODUCT(('WR Aanvragen'!$E$2:$E$600='Takenplanning proces'!N$2)*('WR Aanvragen'!$C$2:$C$600='Takenplanning proces'!$B133))=1,"WR","")
A134: Robin Berckmans | B134: 2FM1 | H134: =IF(SUMPRODUCT(('WR Aanvragen'!$E$2:$E$600='Takenplanning proces'!H$2)*('WR Aanvragen'!$C$2:$C$600='Takenplanning proces'!$B134))=1,"WR","") | I134: =IF(SUMPRODUCT(('WR Aanvragen'!$E$2:$E$600='Takenplanning proces'!I$2)*('WR Aanvragen'!$C$2:$C$600='Takenplanning proces'!$B134))=1,"WR","") | J134: =IF(SUMPRODUCT(('WR Aanvragen'!$E$2:$E$600='Takenplanning proces'!J$2)*('WR Aanvragen'!$C$2:$C$600='Takenplanning proces'!$B134))=1,"WR","") | K134: =IF(SUMPRODUCT(('WR Aanvragen'!$E$2:$E$600='Takenplanning proces'!K$2)*('WR Aanvragen'!$C$2:$C$600='Takenplanning proces'!$B134))=1,"WR","") | L134: =IF(SUMPRODUCT(('WR Aanvragen'!$E$2:$E$600='Takenplanning proces'!L$2)*('WR Aanvragen'!$C$2:$C$600='Takenplanning proces'!$B134))=1,"WR","") | M134: =IF(SUMPRODUCT(('WR Aanvragen'!$E$2:$E$600='Takenplanning proces'!M$2)*('WR Aanvragen'!$C$2:$C$600='Takenplanning proces'!$B134))=1,"WR","") | N134: =IF(SUMPRODUCT(('WR Aanvragen'!$E$2:$E$600='Takenplanning proces'!N$2)*('WR Aanvragen'!$C$2:$C$600='Takenplanning proces'!$B134))=1,"WR","")
... A177: Yves Dumont | B177: JW33 | H177: =IF(SUMPRODUCT(('WR Aanvragen'!$E$2:$E$600='Takenplanning proces'!H$2)*('WR Aanvragen'!$C$2:$C$600='Takenplanning proces'!$B177))=1,"WR","") | I177: =IF(SUMPRODUCT(('WR Aanvragen'!$E$2:$E$600='Takenplanning proces'!I$2)*('WR Aanvragen'!$C$2:$C$600='Takenplanning proces'!$B177))=1,"WR","") | J177: =IF(SUMPRODUCT(('WR Aanvragen'!$E$2:$E$600='Takenplanning proces'!J$2)*('WR Aanvragen'!$C$2:$C$600='Takenplanning proces'!$B177))=1,"WR","") | K177: =IF(SUMPRODUCT(('WR Aanvragen'!$E$2:$E$600='Takenplanning proces'!K$2)*('WR Aanvragen'!$C$2:$C$600='Takenplanning proces'!$B177))=1,"WR","") | L177: =IF(SUMPRODUCT(('WR Aanvragen'!$E$2:$E$600='Takenplanning proces'!L$2)*('WR Aanvragen'!$C$2:$C$600='Takenplanning proces'!$B177))=1,"WR","") | M177: =IF(SUMPRODUCT(('WR Aanvragen'!$E$2:$E$600='Takenplanning proces'!M$2)*('WR Aanvragen'!$C$2:$C$600='Takenplanning proces'!$B177))=1,"WR","") | N177: =IF(SUMPRODUCT(('WR Aanvragen'!$E$2:$E$600='Takenplanning proces'!N$2)*('WR Aanvragen'!$C$2:$C$600='Takenplanning proces'!$B177))=1,"WR","")

Sheet WR Aanvragen
A1: Datum aanvraag | B1: Chef | C1: Personneel n° | D1: Aanvrager | E1: datum | F1: Wat | G1: PLGR OK | H1: Week | I1: Dag | T1: G144 | U1: Christophe De Graaf | V1: E1 Wim
B2: =IFERROR(VLOOKUP(C2,$T$1:$V$170,3,FALSE),"") -> E5 Veerle | C2: 6D05 | D2: =IFERROR(VLOOKUP(C2,$T$1:$V$170,2,FALSE),"") -> Maxime Noe | E2: 43466 | H2: =IF(E2=0,"",WEEKNUM(E2,2)) -> 1 | I2: =IF(E2=0,"",TEXT(E2,"jjjj")) -> Tuesday | T2: JW33 | U2: Yves Dumont | V2: E1 Wim
B3: =IFERROR(VLOOKUP(C3,$T$1:$V$170,3,FALSE),"") | D3: =IFERROR(VLOOKUP(C3,$T$1:$V$170,2,FALSE),"") | H3: =IF(E3=0,"",WEEKNUM(E3,2)) | I3: =IF(E3=0,"",TEXT(E3,"jjjj")) | T3: QWH2 | U3: Patrick Feyaerts | V3: E1 Wim
B4: =IFERROR(VLOOKUP(C4,$T$1:$V$170,3,FALSE),"") | D4: =IFERROR(VLOOKUP(C4,$T$1:$V$170,2,FALSE),"") | H4: =IF(E4=0,"",WEEKNUM(E4,2)) | I4: =IF(E4=0,"",TEXT(E4,"jjjj")) | T4: VVM2 | U4: Katia Lanaux | V4: E1 Wim
B5: =IFERROR(VLOOKUP(C5,$T$1:$V$170,3,FALSE),"") | D5: =IFERROR(VLOOKUP(C5,$T$1:$V$170,2,FALSE),"") | H5: =IF(E5=0,"",WEEKNUM(E5,2)) | I5: =IF(E5=0,"",TEXT(E5,"jjjj")) | T5: YRI9 | U5: Mourad Benaissa | V5: E1 Wim
B6: =IFERROR(VLOOKUP(C6,$T$1:$V$170,3,FALSE),"") | D6: =IFERROR(VLOOKUP(C6,$T$1:$V$170,2,FALSE),"") | H6: =IF(E6=0,"",WEEKNUM(E6,2)) | I6: =IF(E6=0,"",TEXT(E6,"jjjj")) | T6: 2FM1 | U6: Robin Berckmans | V6: E1 Wim
T7: 2PV2 | U7: Tom De Vos | V7: E1 Wim
T8: 4H43 | U8: Willy Nkaonzolo Botseyanga | V8: E1 Wim
T9: 5TB2 | U9: Ugur Kutlu | V9: E1 Wim
T10: 6K73 | U10: Nabil Amettouch | V10: E1 Wim
T11: 6ML4 | U11: Mohammed Habib Bendjilali | V11: E1 Wim
T12: 6QM8 | U12: M'Hamed El Afifi | V12: E1 Wim
T13: 7QM2 | U13: Patrick Fagot | V13: E1 Wim
T14: 8B73 | U14: Walid El Asmi | V14: E1 Wim
T15: 8B01 | U15: David Bicakcioglu | V15: E1 Wim
T16: 8E17 | U16: Nicolas Smal | V16: E1 Wim
T17: QTJ3 | U17: Vincent Coquette | V17: E1 Wim
T18: QWW5 | U18: Anissa Bouaouaja | V18: E1 Wim
... T170: XQB9 | U170: Tine Verlinden | V170: E8 Tine
