Workbook
Name Année_civile: Calendrier!$C$3
Name ColumnTitleRegion..AC22.1: Calendrier!$C$19:$E$19
Name lstCongés: JoursFériés[Jours fériés]
Name lstDatesD: 'Suivi des congés des employés'!$D$4:$D$146
Name lstDatesF: 'Suivi des congés des employés'!$C$4:$C$146
Name lstEmployés: Employés[Noms des employés]
Name lstNomsEmpl: 'Suivi des congés des employés'!$B$4:$B$146
Name lstTypesC: 'Suivi des congés des employés'!$E$4:$E$146
Name lstTypesCongés: TypesCongés[Liste des types de congés]
Name Titre1: RegistrePrésence[[#Headers],[Jour de la semaine/mois]]
Name Titre2: 'Suivi des congés des employés'!$B$3
Name TitreColonne3: Employés[[#Headers],[Noms des employés]]
Name TitreColonne4: TypesCongés[[#Headers],[Liste des types de congés]]
Name TitreColonne5: JoursFériés[[#Headers],[Jours fériés]]
Name Types_Heures: #REF!
Name valSelEmployé: Calendrier!$C$2

Sheet STATISTIQUES
A1: PREVOIR STATISTIQUES ANALYSE TCD
A3: TRANCHE AGE
A4: CATEGORIE PROFESSIONNELLE
A5: ANCIENNETE
A6: HOMME/FEMME

Sheet SYNTHESE 2018
A1: 2018 | B1: 43101 | C1: 43132 | D1: 43160 | E1: 43191 | F1: 43221 | G1: 43252 | H1: 43282 | I1: 43313 | J1: 43344 | K1: 43374 | L1: 43405 | M1: 43435
B2: 43131 | C2: 43159 | D2: 43190 | E2: 43220 | F2: 43251 | G2: 43281 | H2: 43312 | I2: 43343 | J2: 43373 | K2: 43404 | L2: 43434 | M2: 43465
B3: JANVIER | C3: FEVRIER | D3: MARS | E3: AVRIL | F3: MAI | G3: JUIN | H3: JUILLET | I3: AOUT | J3: SEPTEMBRE | K3: OCTOBRE | L3: NOVEMBRE | M3: DECEMBRE
A4: ABSENCE | B4: =SUMIFS('Suivi des congés des employés'!$F$4:$F$146,'Suivi des congés des employés'!$H$4:$H$146,"2018",'Suivi des congés des employés'!$E$4:$E$146,"Absence") -> 45
A5: ARRET ACCIDENT DE TRAVAIL
A6: ARRET MALADIE
A7: CONGE DE DECES
A8: CONGE MATERNITE
A9: CONGE NAISSANCE
A10: CONGE PATERNITE
A11: CONGE PAYE
A12: FORMATION
A13: TOTAL

Sheet Calendrier
B1: REGISTRE D'ABSENCE DES SALARIES
B2: Sélectionnez un employé : | C2: Bérengère
B3: Entrez l’année : | C3: 2018
B5: Jour de la semaine/mois | C5: DIM | D5: LUN | E5: MAR | F5: MER | G5: JEU | H5: VEN | I5: SAM | J5: DIM | K5: LUN | L5: MAR | M5: MER | N5: JEU | O5: VEN | P5: SAM | Q5: DIM | R5: LUN | S5: MAR | T5: MER | U5: JEU | V5: VEN | W5: SAM | X5: DIM | Y5: LUN | Z5: MAR | AA5: MER | AB5: JEU | AC5: VEN | AD5: SAM | AE5: DIM | AF5: LUN | AG5: MAR | AH5: MER | AI5: JEU | AJ5: VEN | AK5: SAM | AL5: DIM | AM5: LUN | AN5: MAR | AO5: MER | AP5: JEU 2 | AQ5: VEN | AR5: SAM
B6: Janvier | C6: =IFERROR(IF(TEXT(DATE(Année_civile,ROW($A1),1),"jjj")=LEFT(C$5,3),DATE(Année_civile,ROW($A1),1),""),"") | D6: =IFERROR(IF(TEXT(DATE(Année_civile,ROW($A1),1),"jjj")=LEFT(D$5,3),DATE(Année_civile,ROW($A1),1),IF(C6>=1,C6+1,"")),"") -> 43101 | E6: =IFERROR(IF(TEXT(DATE(Année_civile,ROW($A1),1),"jjj")=LEFT(E$5,3),DATE(Année_civile,ROW($A1),1),IF(D6>=1,D6+1,"")),"") -> 43102 | F6: =IFERROR(IF(TEXT(DATE(Année_civile,ROW($A1),1),"jjj")=LEFT(F$5,3),DATE(Année_civile,ROW($A1),1),IF(E6>=1,E6+1,"")),"") -> 43103 | G6: =IFERROR(IF(TEXT(DATE(Année_civile,ROW($A1),1),"jjj")=LEFT(G$5,3),DATE(Année_civile,ROW($A1),1),IF(F6>=1,F6+1,"")),"") -> 43104 | H6: =IFERROR(IF(TEXT(DATE(Année_civile,ROW($A1),1),"jjj")=LEFT(H$5,3),DATE(Année_civile,ROW($A1),1),IF(G6>=1,G6+1,"")),"") -> 43105 | I6: =IFERROR(IF(TEXT(DATE(Année_civile,ROW($A1),1),"jjj")=LEFT(I$5,3),DATE(Année_civile,ROW($A1),1),IF(H6>=1,H6+1,"")),"") -> 43106 | J6: =IFERROR(IF(I6>=1,I6+1,""),"") -> 43107 | K6: =IFERROR(IF(J6>=1,J6+1,""),"") -> 43108 | L6: =IFERROR(IF(K6>=1,K6+1,""),"") -> 43109 | M6: =IFERROR(IF(L6>=1,L6+1,""),"") -> 43110 | N6: =IFERROR(IF(M6>=1,M6+1,""),"") -> 43111 | O6: =IFERROR(IF(N6>=1,N6+1,""),"") -> 43112 | P6: =IFERROR(IF(O6>=1,O6+1,""),"") -> 43113 | Q6: =IFERROR(IF(P6>=1,P6+1,""),"") -> 43114 | ... AK6: =IFERROR(IF(AJ6>=1,AJ6+1,""),"") -> 43134 | AL6: =IFERROR(IF(AND(AK6>=1,AK6+1<=DATE(Année_civile,ROW($A1)+1,0)),AK6+1,""),"") | AM6: =IFERROR(IF(AND(AL6>=1,AL6+1<=DATE(Année_civile,ROW($A1)+1,0)),AL6+1,""),"") | AN6: =IFERROR(IF(AND(AM6>=1,AM6+1<=DATE(Année_civile,ROW($A1)+1,0)),AM6+1,""),"") | AO6: =IFERROR(IF(AND(AN6>=1,AN6+1<=DATE(Année_civile,ROW($A1)+1,0)),AN6+1,""),"") | AP6: =IFERROR(IF(AND(AO6>=1,AO6+1<=DATE(Année_civile,ROW($A1)+1,0)),AO6+1,""),"") | AQ6: =IFERROR(IF(AND(AP6>=1,AP6+1<=DATE(Année_civile,ROW($A1)+1,0)),AP6+1,""),"") | AR6: =IFERROR(IF(AND(AQ6>=1,AQ6+1<=DATE(Année_civile,ROW($A1)+1,0)),AQ6+1,""),"")
B7: Février | C7: =IFERROR(IF(TEXT(DATE(Année_civile,ROW($A2),1),"jjj")=LEFT(C$5,3),DATE(Année_civile,ROW($A2),1),""),"") | D7: =IFERROR(IF(TEXT(DATE(Année_civile,ROW($A2),1),"jjj")=LEFT(D$5,3),DATE(Année_civile,ROW($A2),1),IF(C7>=1,C7+1,"")),"") | E7: =IFERROR(IF(TEXT(DATE(Année_civile,ROW($A2),1),"jjj")=LEFT(E$5,3),DATE(Année_civile,ROW($A2),1),IF(D7>=1,D7+1,"")),"") | F7: =IFERROR(IF(TEXT(DATE(Année_civile,ROW($A2),1),"jjj")=LEFT(F$5,3),DATE(Année_civile,ROW($A2),1),IF(E7>=1,E7+1,"")),"") | G7: =IFERROR(IF(TEXT(DATE(Année_civile,ROW($A2),1),"jjj")=LEFT(G$5,3),DATE(Année_civile,ROW($A2),1),IF(F7>=1,F7+1,"")),"") -> 43132 | H7: =IFERROR(IF(TEXT(DATE(Année_civile,ROW($A2),1),"jjj")=LEFT(H$5,3),DATE(Année_civile,ROW($A2),1),IF(G7>=1,G7+1,"")),"") -> 43133 | I7: =IFERROR(IF(TEXT(DATE(Année_civile,ROW($A2),1),"jjj")=LEFT(I$5,3),DATE(Année_civile,ROW($A2),1),IF(H7>=1,H7+1,"")),"") -> 43134 | J7: =IFERROR(IF(I7>=1,I7+1,""),"") -> 43135 | K7: =IFERROR(IF(J7>=1,J7+1,""),"") -> 43136 | L7: =IFERROR(IF(K7>=1,K7+1,""),"") -> 43137 | M7: =IFERROR(IF(L7>=1,L7+1,""),"") -> 43138 | N7: =IFERROR(IF(M7>=1,M7+1,""),"") -> 43139 | O7: =IFERROR(IF(N7>=1,N7+1,""),"") -> 43140 | P7: =IFERROR(IF(O7>=1,O7+1,""),"") -> 43141 | Q7: =IFERROR(IF(P7>=1,P7+1,""),"") -> 43142 | ... AK7: =IFERROR(IF(AJ7>=1,AJ7+1,""),"") -> 43162 | AL7: =IFERROR(IF(AND(AK7>=1,AK7+1<=DATE(Année_civile,ROW($A2)+1,0)),AK7+1,""),"") | AM7: =IFERROR(IF(AND(AL7>=1,AL7+1<=DATE(Année_civile,ROW($A2)+1,0)),AL7+1,""),"") | AN7: =IFERROR(IF(AND(AM7>=1,AM7+1<=DATE(Année_civile,ROW($A2)+1,0)),AM7+1,""),"") | AO7: =IFERROR(IF(AND(AN7>=1,AN7+1<=DATE(Année_civile,ROW($A2)+1,0)),AN7+1,""),"") | AP7: =IFERROR(IF(AND(AO7>=1,AO7+1<=DATE(Année_civile,ROW($A2)+1,0)),AO7+1,""),"") | AQ7: =IFERROR(IF(AND(AP7>=1,AP7+1<=DATE(Année_civile,ROW($A2)+1,0)),AP7+1,""),"") | AR7: =IFERROR(IF(AND(AQ7>=1,AQ7+1<=DATE(Année_civile,ROW($A2)+1,0)),AQ7+1,""),"")
B8: Mars | C8: =IFERROR(IF(TEXT(DATE(Année_civile,ROW($A3),1),"jjj")=LEFT(C$5,3),DATE(Année_civile,ROW($A3),1),""),"") | D8: =IFERROR(IF(TEXT(DATE(Année_civile,ROW($A3),1),"jjj")=LEFT(D$5,3),DATE(Année_civile,ROW($A3),1),IF(C8>=1,C8+1,"")),"") | E8: =IFERROR(IF(TEXT(DATE(Année_civile,ROW($A3),1),"jjj")=LEFT(E$5,3),DATE(Année_civile,ROW($A3),1),IF(D8>=1,D8+1,"")),"") | F8: =IFERROR(IF(TEXT(DATE(Année_civile,ROW($A3),1),"jjj")=LEFT(F$5,3),DATE(Année_civile,ROW($A3),1),IF(E8>=1,E8+1,"")),"") | G8: =IFERROR(IF(TEXT(DATE(Année_civile,ROW($A3),1),"jjj")=LEFT(G$5,3),DATE(Année_civile,ROW($A3),1),IF(F8>=1,F8+1,"")),"") -> 43160 | H8: =IFERROR(IF(TEXT(DATE(Année_civile,ROW($A3),1),"jjj")=LEFT(H$5,3),DATE(Année_civile,ROW($A3),1),IF(G8>=1,G8+1,"")),"") -> 43161 | I8: =IFERROR(IF(TEXT(DATE(Année_civile,ROW($A3),1),"jjj")=LEFT(I$5,3),DATE(Année_civile,ROW($A3),1),IF(H8>=1,H8+1,"")),"") -> 43162 | J8: =IFERROR(IF(I8>=1,I8+1,""),"") -> 43163 | K8: =IFERROR(IF(J8>=1,J8+1,""),"") -> 43164 | L8: =IFERROR(IF(K8>=1,K8+1,""),"") -> 43165 | M8: =IFERROR(IF(L8>=1,L8+1,""),"") -> 43166 | N8: =IFERROR(IF(M8>=1,M8+1,""),"") -> 43167 | O8: =IFERROR(IF(N8>=1,N8+1,""),"") -> 43168 | P8: =IFERROR(IF(O8>=1,O8+1,""),"") -> 43169 | Q8: =IFERROR(IF(P8>=1,P8+1,""),"") -> 43170 | ... AK8: =IFERROR(IF(AJ8>=1,AJ8+1,""),"") -> 43190 | AL8: =IFERROR(IF(AND(AK8>=1,AK8+1<=DATE(Année_civile,ROW($A3)+1,0)),AK8+1,""),"") | AM8: =IFERROR(IF(AND(AL8>=1,AL8+1<=DATE(Année_civile,ROW($A3)+1,0)),AL8+1,""),"") | AN8: =IFERROR(IF(AND(AM8>=1,AM8+1<=DATE(Année_civile,ROW($A3)+1,0)),AM8+1,""),"") | AO8: =IFERROR(IF(AND(AN8>=1,AN8+1<=DATE(Année_civile,ROW($A3)+1,0)),AN8+1,""),"") | AP8: =IFERROR(IF(AND(AO8>=1,AO8+1<=DATE(Année_civile,ROW($A3)+1,0)),AO8+1,""),"") | AQ8: =IFERROR(IF(AND(AP8>=1,AP8+1<=DATE(Année_civile,ROW($A3)+1,0)),AP8+1,""),"") | AR8: =IFERROR(IF(AND(AQ8>=1,AQ8+1<=DATE(Année_civile,ROW($A3)+1,0)),AQ8+1,""),"")
B9: Avril | C9: =IFERROR(IF(TEXT(DATE(Année_civile,ROW($A4),1),"jjj")=LEFT(C$5,3),DATE(Année_civile,ROW($A4),1),""),"") -> 43191 | D9: =IFERROR(IF(TEXT(DATE(Année_civile,ROW($A4),1),"jjj")=LEFT(D$5,3),DATE(Année_civile,ROW($A4),1),IF(C9>=1,C9+1,"")),"") -> 43192 | E9: =IFERROR(IF(TEXT(DATE(Année_civile,ROW($A4),1),"jjj")=LEFT(E$5,3),DATE(Année_civile,ROW($A4),1),IF(D9>=1,D9+1,"")),"") -> 43193 | F9: =IFERROR(IF(TEXT(DATE(Année_civile,ROW($A4),1),"jjj")=LEFT(F$5,3),DATE(Année_civile,ROW($A4),1),IF(E9>=1,E9+1,"")),"") -> 43194 | G9: =IFERROR(IF(TEXT(DATE(Année_civile,ROW($A4),1),"jjj")=LEFT(G$5,3),DATE(Année_civile,ROW($A4),1),IF(F9>=1,F9+1,"")),"") -> 43195 | H9: =IFERROR(IF(TEXT(DATE(Année_civile,ROW($A4),1),"jjj")=LEFT(H$5,3),DATE(Année_civile,ROW($A4),1),IF(G9>=1,G9+1,"")),"") -> 43196 | I9: =IFERROR(IF(TEXT(DATE(Année_civile,ROW($A4),1),"jjj")=LEFT(I$5,3),DATE(Année_civile,ROW($A4),1),IF(H9>=1,H9+1,"")),"") -> 43197 | J9: =IFERROR(IF(I9>=1,I9+1,""),"") -> 43198 | K9: =IFERROR(IF(J9>=1,J9+1,""),"") -> 43199 | L9: =IFERROR(IF(K9>=1,K9+1,""),"") -> 43200 | M9: =IFERROR(IF(L9>=1,L9+1,""),"") -> 43201 | N9: =IFERROR(IF(M9>=1,M9+1,""),"") -> 43202 | O9: =IFERROR(IF(N9>=1,N9+1,""),"") -> 43203 | P9: =IFERROR(IF(O9>=1,O9+1,""),"") -> 43204 | Q9: =IFERROR(IF(P9>=1,P9+1,""),"") -> 43205 | ... AK9: =IFERROR(IF(AJ9>=1,AJ9+1,""),"") -> 43225 | AL9: =IFERROR(IF(AND(AK9>=1,AK9+1<=DATE(Année_civile,ROW($A4)+1,0)),AK9+1,""),"") | AM9: =IFERROR(IF(AND(AL9>=1,AL9+1<=DATE(Année_civile,ROW($A4)+1,0)),AL9+1,""),"") | AN9: =IFERROR(IF(AND(AM9>=1,AM9+1<=DATE(Année_civile,ROW($A4)+1,0)),AM9+1,""),"") | AO9: =IFERROR(IF(AND(AN9>=1,AN9+1<=DATE(Année_civile,ROW($A4)+1,0)),AN9+1,""),"") | AP9: =IFERROR(IF(AND(AO9>=1,AO9+1<=DATE(Année_civile,ROW($A4)+1,0)),AO9+1,""),"") | AQ9: =IFERROR(IF(AND(AP9>=1,AP9+1<=DATE(Année_civile,ROW($A4)+1,0)),AP9+1,""),"") | AR9: =IFERROR(IF(AND(AQ9>=1,AQ9+1<=DATE(Année_civile,ROW($A4)+1,0)),AQ9+1,""),"")
B10: Mai | C10: =IFERROR(IF(TEXT(DATE(Année_civile,ROW($A5),1),"jjj")=LEFT(C$5,3),DATE(Année_civile,ROW($A5),1),""),"") | D10: =IFERROR(IF(TEXT(DATE(Année_civile,ROW($A5),1),"jjj")=LEFT(D$5,3),DATE(Année_civile,ROW($A5),1),IF(C10>=1,C10+1,"")),"") | E10: =IFERROR(IF(TEXT(DATE(Année_civile,ROW($A5),1),"jjj")=LEFT(E$5,3),DATE(Année_civile,ROW($A5),1),IF(D10>=1,D10+1,"")),"") -> 43221 | F10: =IFERROR(IF(TEXT(DATE(Année_civile,ROW($A5),1),"jjj")=LEFT(F$5,3),DATE(Année_civile,ROW($A5),1),IF(E10>=1,E10+1,"")),"") -> 43222 | G10: =IFERROR(IF(TEXT(DATE(Année_civile,ROW($A5),1),"jjj")=LEFT(G$5,3),DATE(Année_civile,ROW($A5),1),IF(F10>=1,F10+1,"")),"") -> 43223 | H10: =IFERROR(IF(TEXT(DATE(Année_civile,ROW($A5),1),"jjj")=LEFT(H$5,3),DATE(Année_civile,ROW($A5),1),IF(G10>=1,G10+1,"")),"") -> 43224 | I10: =IFERROR(IF(TEXT(DATE(Année_civile,ROW($A5),1),"jjj")=LEFT(I$5,3),DATE(Année_civile,ROW($A5),1),IF(H10>=1,H10+1,"")),"") -> 43225 | J10: =IFERROR(IF(I10>=1,I10+1,""),"") -> 43226 | K10: =IFERROR(IF(J10>=1,J10+1,""),"") -> 43227 | L10: =IFERROR(IF(K10>=1,K10+1,""),"") -> 43228 | M10: =IFERROR(IF(L10>=1,L10+1,""),"") -> 43229 | N10: =IFERROR(IF(M10>=1,M10+1,""),"") -> 43230 | O10: =IFERROR(IF(N10>=1,N10+1,""),"") -> 43231 | P10: =IFERROR(IF(O10>=1,O10+1,""),"") -> 43232 | Q10: =IFERROR(IF(P10>=1,P10+1,""),"") -> 43233 | ... AK10: =IFERROR(IF(AJ10>=1,AJ10+1,""),"") -> 43253 | AL10: =IFERROR(IF(AND(AK10>=1,AK10+1<=DATE(Année_civile,ROW($A5)+1,0)),AK10+1,""),"") | AM10: =IFERROR(IF(AND(AL10>=1,AL10+1<=DATE(Année_civile,ROW($A5)+1,0)),AL10+1,""),"") | AN10: =IFERROR(IF(AND(AM10>=1,AM10+1<=DATE(Année_civile,ROW($A5)+1,0)),AM10+1,""),"") | AO10: =IFERROR(IF(AND(AN10>=1,AN10+1<=DATE(Année_civile,ROW($A5)+1,0)),AN10+1,""),"") | AP10: =IFERROR(IF(AND(AO10>=1,AO10+1<=DATE(Année_civile,ROW($A5)+1,0)),AO10+1,""),"") | AQ10: =IFERROR(IF(AND(AP10>=1,AP10+1<=DATE(Année_civile,ROW($A5)+1,0)),AP10+1,""),"") | AR10: =IFERROR(IF(AND(AQ10>=1,AQ10+1<=DATE(Année_civile,ROW($A5)+1,0)),AQ10+1,""),"")
B11: Juin | C11: =IFERROR(IF(TEXT(DATE(Année_civile,ROW($A6),1),"jjj")=LEFT(C$5,3),DATE(Année_civile,ROW($A6),1),""),"") | D11: =IFERROR(IF(TEXT(DATE(Année_civile,ROW($A6),1),"jjj")=LEFT(D$5,3),DATE(Année_civile,ROW($A6),1),IF(C11>=1,C11+1,"")),"") | E11: =IFERROR(IF(TEXT(DATE(Année_civile,ROW($A6),1),"jjj")=LEFT(E$5,3),DATE(Année_civile,ROW($A6),1),IF(D11>=1,D11+1,"")),"") | F11: =IFERROR(IF(TEXT(DATE(Année_civile,ROW($A6),1),"jjj")=LEFT(F$5,3),DATE(Année_civile,ROW($A6),1),IF(E11>=1,E11+1,"")),"") | G11: =IFERROR(IF(TEXT(DATE(Année_civile,ROW($A6),1),"jjj")=LEFT(G$5,3),DATE(Année_civile,ROW($A6),1),IF(F11>=1,F11+1,"")),"") | H11: =IFERROR(IF(TEXT(DATE(Année_civile,ROW($A6),1),"jjj")=LEFT(H$5,3),DATE(Année_civile,ROW($A6),1),IF(G11>=1,G11+1,"")),"") -> 43252 | I11: =IFERROR(IF(TEXT(DATE(Année_civile,ROW($A6),1),"jjj")=LEFT(I$5,3),DATE(Année_civile,ROW($A6),1),IF(H11>=1,H11+1,"")),"") -> 43253 | J11: =IFERROR(IF(I11>=1,I11+1,""),"") -> 43254 | K11: =IFERROR(IF(J11>=1,J11+1,""),"") -> 43255 | L11: =IFERROR(IF(K11>=1,K11+1,""),"") -> 43256 | M11: =IFERROR(IF(L11>=1,L11+1,""),"") -> 43257 | N11: =IFERROR(IF(M11>=1,M11+1,""),"") -> 43258 | O11: =IFERROR(IF(N11>=1,N11+1,""),"") -> 43259 | P11: =IFERROR(IF(O11>=1,O11+1,""),"") -> 43260 | Q11: =IFERROR(IF(P11>=1,P11+1,""),"") -> 43261 | ... AK11: =IFERROR(IF(AJ11>=1,AJ11+1,""),"") -> 43281 | AL11: =IFERROR(IF(AND(AK11>=1,AK11+1<=DATE(Année_civile,ROW($A6)+1,0)),AK11+1,""),"") | AM11: =IFERROR(IF(AND(AL11>=1,AL11+1<=DATE(Année_civile,ROW($A6)+1,0)),AL11+1,""),"") | AN11: =IFERROR(IF(AND(AM11>=1,AM11+1<=DATE(Année_civile,ROW($A6)+1,0)),AM11+1,""),"") | AO11: =IFERROR(IF(AND(AN11>=1,AN11+1<=DATE(Année_civile,ROW($A6)+1,0)),AN11+1,""),"") | AP11: =IFERROR(IF(AND(AO11>=1,AO11+1<=DATE(Année_civile,ROW($A6)+1,0)),AO11+1,""),"") | AQ11: =IFERROR(IF(AND(AP11>=1,AP11+1<=DATE(Année_civile,ROW($A6)+1,0)),AP11+1,""),"") | AR11: =IFERROR(IF(AND(AQ11>=1,AQ11+1<=DATE(Année_civile,ROW($A6)+1,0)),AQ11+1,""),"")
B12: Juillet | C12: =IFERROR(IF(TEXT(DATE(Année_civile,ROW($A7),1),"jjj")=LEFT(C$5,3),DATE(Année_civile,ROW($A7),1),""),"") -> 43282 | D12: =IFERROR(IF(TEXT(DATE(Année_civile,ROW($A7),1),"jjj")=LEFT(D$5,3),DATE(Année_civile,ROW($A7),1),IF(C12>=1,C12+1,"")),"") -> 43283 | E12: =IFERROR(IF(TEXT(DATE(Année_civile,ROW($A7),1),"jjj")=LEFT(E$5,3),DATE(Année_civile,ROW($A7),1),IF(D12>=1,D12+1,"")),"") -> 43284 | F12: =IFERROR(IF(TEXT(DATE(Année_civile,ROW($A7),1),"jjj")=LEFT(F$5,3),DATE(Année_civile,ROW($A7),1),IF(E12>=1,E12+1,"")),"") -> 43285 | G12: =IFERROR(IF(TEXT(DATE(Année_civile,ROW($A7),1),"jjj")=LEFT(G$5,3),DATE(Année_civile,ROW($A7),1),IF(F12>=1,F12+1,"")),"") -> 43286 | H12: =IFERROR(IF(TEXT(DATE(Année_civile,ROW($A7),1),"jjj")=LEFT(H$5,3),DATE(Année_civile,ROW($A7),1),IF(G12>=1,G12+1,"")),"") -> 43287 | I12: =IFERROR(IF(TEXT(DATE(Année_civile,ROW($A7),1),"jjj")=LEFT(I$5,3),DATE(Année_civile,ROW($A7),1),IF(H12>=1,H12+1,"")),"") -> 43288 | J12: =IFERROR(IF(I12>=1,I12+1,""),"") -> 43289 | K12: =IFERROR(IF(J12>=1,J12+1,""),"") -> 43290 | L12: =IFERROR(IF(K12>=1,K12+1,""),"") -> 43291 | M12: =IFERROR(IF(L12>=1,L12+1,""),"") -> 43292 | N12: =IFERROR(IF(M12>=1,M12+1,""),"") -> 43293 | O12: =IFERROR(IF(N12>=1,N12+1,""),"") -> 43294 | P12: =IFERROR(IF(O12>=1,O12+1,""),"") -> 43295 | Q12: =IFERROR(IF(P12>=1,P12+1,""),"") -> 43296 | ... AK12: =IFERROR(IF(AJ12>=1,AJ12+1,""),"") -> 43316 | AL12: =IFERROR(IF(AND(AK12>=1,AK12+1<=DATE(Année_civile,ROW($A7)+1,0)),AK12+1,""),"") | AM12: =IFERROR(IF(AND(AL12>=1,AL12+1<=DATE(Année_civile,ROW($A7)+1,0)),AL12+1,""),"") | AN12: =IFERROR(IF(AND(AM12>=1,AM12+1<=DATE(Année_civile,ROW($A7)+1,0)),AM12+1,""),"") | AO12: =IFERROR(IF(AND(AN12>=1,AN12+1<=DATE(Année_civile,ROW($A7)+1,0)),AN12+1,""),"") | AP12: =IFERROR(IF(AND(AO12>=1,AO12+1<=DATE(Année_civile,ROW($A7)+1,0)),AO12+1,""),"") | AQ12: =IFERROR(IF(AND(AP12>=1,AP12+1<=DATE(Année_civile,ROW($A7)+1,0)),AP12+1,""),"") | AR12: =IFERROR(IF(AND(AQ12>=1,AQ12+1<=DATE(Année_civile,ROW($A7)+1,0)),AQ12+1,""),"")
B13: Août | C13: =IFERROR(IF(TEXT(DATE(Année_civile,ROW($A8),1),"jjj")=LEFT(C$5,3),DATE(Année_civile,ROW($A8),1),""),"") | D13: =IFERROR(IF(TEXT(DATE(Année_civile,ROW($A8),1),"jjj")=LEFT(D$5,3),DATE(Année_civile,ROW($A8),1),IF(C13>=1,C13+1,"")),"") | E13: =IFERROR(IF(TEXT(DATE(Année_civile,ROW($A8),1),"jjj")=LEFT(E$5,3),DATE(Année_civile,ROW($A8),1),IF(D13>=1,D13+1,"")),"") | F13: =IFERROR(IF(TEXT(DATE(Année_civile,ROW($A8),1),"jjj")=LEFT(F$5,3),DATE(Année_civile,ROW($A8),1),IF(E13>=1,E13+1,"")),"") -> 43313 | G13: =IFERROR(IF(TEXT(DATE(Année_civile,ROW($A8),1),"jjj")=LEFT(G$5,3),DATE(Année_civile,ROW($A8),1),IF(F13>=1,F13+1,"")),"") -> 43314 | H13: =IFERROR(IF(TEXT(DATE(Année_civile,ROW($A8),1),"jjj")=LEFT(H$5,3),DATE(Année_civile,ROW($A8),1),IF(G13>=1,G13+1,"")),"") -> 43315 | I13: =IFERROR(IF(TEXT(DATE(Année_civile,ROW($A8),1),"jjj")=LEFT(I$5,3),DATE(Année_civile,ROW($A8),1),IF(H13>=1,H13+1,"")),"") -> 43316 | J13: =IFERROR(IF(I13>=1,I13+1,""),"") -> 43317 | K13: =IFERROR(IF(J13>=1,J13+1,""),"") -> 43318 | L13: =IFERROR(IF(K13>=1,K13+1,""),"") -> 43319 | M13: =IFERROR(IF(L13>=1,L13+1,""),"") -> 43320 | N13: =IFERROR(IF(M13>=1,M13+1,""),"") -> 43321 | O13: =IFERROR(IF(N13>=1,N13+1,""),"") -> 43322 | P13: =IFERROR(IF(O13>=1,O13+1,""),"") -> 43323 | Q13: =IFERROR(IF(P13>=1,P13+1,""),"") -> 43324 | ... AK13: =IFERROR(IF(AJ13>=1,AJ13+1,""),"") -> 43344 | AL13: =IFERROR(IF(AND(AK13>=1,AK13+1<=DATE(Année_civile,ROW($A8)+1,0)),AK13+1,""),"") | AM13: =IFERROR(IF(AND(AL13>=1,AL13+1<=DATE(Année_civile,ROW($A8)+1,0)),AL13+1,""),"") | AN13: =IFERROR(IF(AND(AM13>=1,AM13+1<=DATE(Année_civile,ROW($A8)+1,0)),AM13+1,""),"") | AO13: =IFERROR(IF(AND(AN13>=1,AN13+1<=DATE(Année_civile,ROW($A8)+1,0)),AN13+1,""),"") | AP13: =IFERROR(IF(AND(AO13>=1,AO13+1<=DATE(Année_civile,ROW($A8)+1,0)),AO13+1,""),"") | AQ13: =IFERROR(IF(AND(AP13>=1,AP13+1<=DATE(Année_civile,ROW($A8)+1,0)),AP13+1,""),"") | AR13: =IFERROR(IF(AND(AQ13>=1,AQ13+1<=DATE(Année_civile,ROW($A8)+1,0)),AQ13+1,""),"")
B14: Septembre | C14: =IFERROR(IF(TEXT(DATE(Année_civile,ROW($A9),1),"jjj")=LEFT(C$5,3),DATE(Année_civile,ROW($A9),1),""),"") | D14: =IFERROR(IF(TEXT(DATE(Année_civile,ROW($A9),1),"jjj")=LEFT(D$5,3),DATE(Année_civile,ROW($A9),1),IF(C14>=1,C14+1,"")),"") | E14: =IFERROR(IF(TEXT(DATE(Année_civile,ROW($A9),1),"jjj")=LEFT(E$5,3),DATE(Année_civile,ROW($A9),1),IF(D14>=1,D14+1,"")),"") | F14: =IFERROR(IF(TEXT(DATE(Année_civile,ROW($A9),1),"jjj")=LEFT(F$5,3),DATE(Année_civile,ROW($A9),1),IF(E14>=1,E14+1,"")),"") | G14: =IFERROR(IF(TEXT(DATE(Année_civile,ROW($A9),1),"jjj")=LEFT(G$5,3),DATE(Année_civile,ROW($A9),1),IF(F14>=1,F14+1,"")),"") | H14: =IFERROR(IF(TEXT(DATE(Année_civile,ROW($A9),1),"jjj")=LEFT(H$5,3),DATE(Année_civile,ROW($A9),1),IF(G14>=1,G14+1,"")),"") | I14: =IFERROR(IF(TEXT(DATE(Année_civile,ROW($A9),1),"jjj")=LEFT(I$5,3),DATE(Année_civile,ROW($A9),1),IF(H14>=1,H14+1,"")),"") -> 43344 | J14: =IFERROR(IF(I14>=1,I14+1,""),"") -> 43345 | K14: =IFERROR(IF(J14>=1,J14+1,""),"") -> 43346 | L14: =IFERROR(IF(K14>=1,K14+1,""),"") -> 43347 | M14: =IFERROR(IF(L14>=1,L14+1,""),"") -> 43348 | N14: =IFERROR(IF(M14>=1,M14+1,""),"") -> 43349 | O14: =IFERROR(IF(N14>=1,N14+1,""),"") -> 43350 | P14: =IFERROR(IF(O14>=1,O14+1,""),"") -> 43351 | Q14: =IFERROR(IF(P14>=1,P14+1,""),"") -> 43352 | ... AK14: =IFERROR(IF(AJ14>=1,AJ14+1,""),"") -> 43372 | AL14: =IFERROR(IF(AND(AK14>=1,AK14+1<=DATE(Année_civile,ROW($A9)+1,0)),AK14+1,""),"") -> 43373 | AM14: =IFERROR(IF(AND(AL14>=1,AL14+1<=DATE(Année_civile,ROW($A9)+1,0)),AL14+1,""),"") | AN14: =IFERROR(IF(AND(AM14>=1,AM14+1<=DATE(Année_civile,ROW($A9)+1,0)),AM14+1,""),"") | AO14: =IFERROR(IF(AND(AN14>=1,AN14+1<=DATE(Année_civile,ROW($A9)+1,0)),AN14+1,""),"") | AP14: =IFERROR(IF(AND(AO14>=1,AO14+1<=DATE(Année_civile,ROW($A9)+1,0)),AO14+1,""),"") | AQ14: =IFERROR(IF(AND(AP14>=1,AP14+1<=DATE(Année_civile,ROW($A9)+1,0)),AP14+1,""),"") | AR14: =IFERROR(IF(AND(AQ14>=1,AQ14+1<=DATE(Année_civile,ROW($A9)+1,0)),AQ14+1,""),"")
B15: Octobre | C15: =IFERROR(IF(TEXT(DATE(Année_civile,ROW($A10),1),"jjj")=LEFT(C$5,3),DATE(Année_civile,ROW($A10),1),""),"") | D15: =IFERROR(IF(TEXT(DATE(Année_civile,ROW($A10),1),"jjj")=LEFT(D$5,3),DATE(Année_civile,ROW($A10),1),IF(C15>=1,C15+1,"")),"") -> 43374 | E15: =IFERROR(IF(TEXT(DATE(Année_civile,ROW($A10),1),"jjj")=LEFT(E$5,3),DATE(Année_civile,ROW($A10),1),IF(D15>=1,D15+1,"")),"") -> 43375 | F15: =IFERROR(IF(TEXT(DATE(Année_civile,ROW($A10),1),"jjj")=LEFT(F$5,3),DATE(Année_civile,ROW($A10),1),IF(E15>=1,E15+1,"")),"") -> 43376 | G15: =IFERROR(IF(TEXT(DATE(Année_civile,ROW($A10),1),"jjj")=LEFT(G$5,3),DATE(Année_civile,ROW($A10),1),IF(F15>=1,F15+1,"")),"") -> 43377 | H15: =IFERROR(IF(TEXT(DATE(Année_civile,ROW($A10),1),"jjj")=LEFT(H$5,3),DATE(Année_civile,ROW($A10),1),IF(G15>=1,G15+1,"")),"") -> 43378 | I15: =IFERROR(IF(TEXT(DATE(Année_civile,ROW($A10),1),"jjj")=LEFT(I$5,3),DATE(Année_civile,ROW($A10),1),IF(H15>=1,H15+1,"")),"") -> 43379 | J15: =IFERROR(IF(I15>=1,I15+1,""),"") -> 43380 | K15: =IFERROR(IF(J15>=1,J15+1,""),"") -> 43381 | L15: =IFERROR(IF(K15>=1,K15+1,""),"") -> 43382 | M15: =IFERROR(IF(L15>=1,L15+1,""),"") -> 43383 | N15: =IFERROR(IF(M15>=1,M15+1,""),"") -> 43384 | O15: =IFERROR(IF(N15>=1,N15+1,""),"") -> 43385 | P15: =IFERROR(IF(O15>=1,O15+1,""),"") -> 43386 | Q15: =IFERROR(IF(P15>=1,P15+1,""),"") -> 43387 | ... AK15: =IFERROR(IF(AJ15>=1,AJ15+1,""),"") -> 43407 | AL15: =IFERROR(IF(AND(AK15>=1,AK15+1<=DATE(Année_civile,ROW($A10)+1,0)),AK15+1,""),"") | AM15: =IFERROR(IF(AND(AL15>=1,AL15+1<=DATE(Année_civile,ROW($A10)+1,0)),AL15+1,""),"") | AN15: =IFERROR(IF(AND(AM15>=1,AM15+1<=DATE(Année_civile,ROW($A10)+1,0)),AM15+1,""),"") | AO15: =IFERROR(IF(AND(AN15>=1,AN15+1<=DATE(Année_civile,ROW($A10)+1,0)),AN15+1,""),"") | AP15: =IFERROR(IF(AND(AO15>=1,AO15+1<=DATE(Année_civile,ROW($A10)+1,0)),AO15+1,""),"") | AQ15: =IFERROR(IF(AND(AP15>=1,AP15+1<=DATE(Année_civile,ROW($A10)+1,0)),AP15+1,""),"") | AR15: =IFERROR(IF(AND(AQ15>=1,AQ15+1<=DATE(Année_civile,ROW($A10)+1,0)),AQ15+1,""),"")
B16: Novembre | C16: =IFERROR(IF(TEXT(DATE(Année_civile,ROW($A11),1),"jjj")=LEFT(C$5,3),DATE(Année_civile,ROW($A11),1),""),"") | D16: =IFERROR(IF(TEXT(DATE(Année_civile,ROW($A11),1),"jjj")=LEFT(D$5,3),DATE(Année_civile,ROW($A11),1),IF(C16>=1,C16+1,"")),"") | E16: =IFERROR(IF(TEXT(DATE(Année_civile,ROW($A11),1),"jjj")=LEFT(E$5,3),DATE(Année_civile,ROW($A11),1),IF(D16>=1,D16+1,"")),"") | F16: =IFERROR(IF(TEXT(DATE(Année_civile,ROW($A11),1),"jjj")=LEFT(F$5,3),DATE(Année_civile,ROW($A11),1),IF(E16>=1,E16+1,"")),"") | G16: =IFERROR(IF(TEXT(DATE(Année_civile,ROW($A11),1),"jjj")=LEFT(G$5,3),DATE(Année_civile,ROW($A11),1),IF(F16>=1,F16+1,"")),"") -> 43405 | H16: =IFERROR(IF(TEXT(DATE(Année_civile,ROW($A11),1),"jjj")=LEFT(H$5,3),DATE(Année_civile,ROW($A11),1),IF(G16>=1,G16+1,"")),"") -> 43406 | I16: =IFERROR(IF(TEXT(DATE(Année_civile,ROW($A11),1),"jjj")=LEFT(I$5,3),DATE(Année_civile,ROW($A11),1),IF(H16>=1,H16+1,"")),"") -> 43407 | J16: =IFERROR(IF(I16>=1,I16+1,""),"") -> 43408 | K16: =IFERROR(IF(J16>=1,J16+1,""),"") -> 43409 | L16: =IFERROR(IF(K16>=1,K16+1,""),"") -> 43410 | M16: =IFERROR(IF(L16>=1,L16+1,""),"") -> 43411 | N16: =IFERROR(IF(M16>=1,M16+1,""),"") -> 43412 | O16: =IFERROR(IF(N16>=1,N16+1,""),"") -> 43413 | P16: =IFERROR(IF(O16>=1,O16+1,""),"") -> 43414 | Q16: =IFERROR(IF(P16>=1,P16+1,""),"") -> 43415 | ... AK16: =IFERROR(IF(AJ16>=1,AJ16+1,""),"") -> 43435 | AL16: =IFERROR(IF(AND(AK16>=1,AK16+1<=DATE(Année_civile,ROW($A11)+1,0)),AK16+1,""),"") | AM16: =IFERROR(IF(AND(AL16>=1,AL16+1<=DATE(Année_civile,ROW($A11)+1,0)),AL16+1,""),"") | AN16: =IFERROR(IF(AND(AM16>=1,AM16+1<=DATE(Année_civile,ROW($A11)+1,0)),AM16+1,""),"") | AO16: =IFERROR(IF(AND(AN16>=1,AN16+1<=DATE(Année_civile,ROW($A11)+1,0)),AN16+1,""),"") | AP16: =IFERROR(IF(AND(AO16>=1,AO16+1<=DATE(Année_civile,ROW($A11)+1,0)),AO16+1,""),"") | AQ16: =IFERROR(IF(AND(AP16>=1,AP16+1<=DATE(Année_civile,ROW($A11)+1,0)),AP16+1,""),"") | AR16: =IFERROR(IF(AND(AQ16>=1,AQ16+1<=DATE(Année_civile,ROW($A11)+1,0)),AQ16+1,""),"")
B17: Décembre | C17: =IFERROR(IF(TEXT(DATE(Année_civile,ROW($A12),1),"jjj")=LEFT(C$5,3),DATE(Année_civile,ROW($A12),1),""),"") | D17: =IFERROR(IF(TEXT(DATE(Année_civile,ROW($A12),1),"jjj")=LEFT(D$5,3),DATE(Année_civile,ROW($A12),1),IF(C17>=1,C17+1,"")),"") | E17: =IFERROR(IF(TEXT(DATE(Année_civile,ROW($A12),1),"jjj")=LEFT(E$5,3),DATE(Année_civile,ROW($A12),1),IF(D17>=1,D17+1,"")),"") | F17: =IFERROR(IF(TEXT(DATE(Année_civile,ROW($A12),1),"jjj")=LEFT(F$5,3),DATE(Année_civile,ROW($A12),1),IF(E17>=1,E17+1,"")),"") | G17: =IFERROR(IF(TEXT(DATE(Année_civile,ROW($A12),1),"jjj")=LEFT(G$5,3),DATE(Année_civile,ROW($A12),1),IF(F17>=1,F17+1,"")),"") | H17: =IFERROR(IF(TEXT(DATE(Année_civile,ROW($A12),1),"jjj")=LEFT(H$5,3),DATE(Année_civile,ROW($A12),1),IF(G17>=1,G17+1,"")),"") | I17: =IFERROR(IF(TEXT(DATE(Année_civile,ROW($A12),1),"jjj")=LEFT(I$5,3),DATE(Année_civile,ROW($A12),1),IF(H17>=1,H17+1,"")),"") -> 43435 | J17: =IFERROR(IF(I17>=1,I17+1,""),"") -> 43436 | K17: =IFERROR(IF(J17>=1,J17+1,""),"") -> 43437 | L17: =IFERROR(IF(K17>=1,K17+1,""),"") -> 43438 | M17: =IFERROR(IF(L17>=1,L17+1,""),"") -> 43439 | N17: =IFERROR(IF(M17>=1,M17+1,""),"") -> 43440 | O17: =IFERROR(IF(N17>=1,N17+1,""),"") -> 43441 | P17: =IFERROR(IF(O17>=1,O17+1,""),"") -> 43442 | Q17: =IFERROR(IF(P17>=1,P17+1,""),"") -> 43443 | ... AK17: =IFERROR(IF(AJ17>=1,AJ17+1,""),"") -> 43463 | AL17: =IFERROR(IF(AND(AK17>=1,AK17+1<=DATE(Année_civile,ROW($A12)+1,0)),AK17+1,""),"") -> 43464 | AM17: =IFERROR(IF(AND(AL17>=1,AL17+1<=DATE(Année_civile,ROW($A12)+1,0)),AL17+1,""),"") -> 43465 | AN17: =IFERROR(IF(AND(AM17>=1,AM17+1<=DATE(Année_civile,ROW($A12)+1,0)),AM17+1,""),"") | AO17: =IFERROR(IF(AND(AN17>=1,AN17+1<=DATE(Année_civile,ROW($A12)+1,0)),AN17+1,""),"") | AP17: =IFERROR(IF(AND(AO17>=1,AO17+1<=DATE(Année_civile,ROW($A12)+1,0)),AO17+1,""),"") | AQ17: =IFERROR(IF(AND(AP17>=1,AP17+1<=DATE(Année_civile,ROW($A12)+1,0)),AP17+1,""),"") | AR17: =IFERROR(IF(AND(AQ17>=1,AQ17+1<=DATE(Année_civile,ROW($A12)+1,0)),AQ17+1,""),"")
B18: CHIFFRES CLÉS
C19: Jours d'absentésime | H19: Jours travaillés | N19: Jours de congé payé | S19: Jours d'absence | X19: Jours d'arrêt maladie | AC19: Jours d'arrêt accident de travail | AH19: Jour de formation | AM19: Autres
B20: TAUX A CALCULER | C20: =SUMIFS('Suivi des congés des employés'!F:F,'Suivi des congés des employés'!B:B,valSelEmployé,'Suivi des congés des employés'!C:C,">="&DATE(Année_civile,1,1),'Suivi des congés des employés'!D:D,"<"&DATE(Année_civile+1,1,1)) -> 118 | H20: =(NETWORKDAYS(DATE(Année_civile,1,1),EDATE(DATE(Année_civile,1,1),12)-1))-'Jours fériés'!$K$4 -> 252 | N20: =SUMIFS('Suivi des congés des employés'!$F$4:$F$998,'Suivi des congés des employés'!$B$4:$B$998,valSelEmployé,'Suivi des congés des employés'!$C$4:$C$998,">="&DATE(Année_civile,1,1),'Suivi des congés des employés'!$D$4:$D$998,"<"&DATE(Année_civile+1,1,1),'Suivi des congés des employés'!$E$4:$E$998,'Types de congés'!B11) -> 30 | S20: =SUMIFS('Suivi des congés des employés'!$F$4:$F$998,'Suivi des congés des employés'!$B$4:$B$998,valSelEmployé,'Suivi des congés des employés'!$C$4:$C$998,">="&DATE(Année_civile,1,1),'Suivi des congés des employés'!$D$4:$D$998,"<"&DATE(Année_civile+1,1,1),'Suivi des congés des employés'!$E$4:$E$998,'Types de congés'!B4) -> 0 | X20: =SUMIFS('Suivi des congés des employés'!$F$4:$F$998,'Suivi des congés des employés'!$B$4:$B$998,valSelEmployé,'Suivi des congés des employés'!$C$4:$C$998,">="&DATE(Année_civile,1,1),'Suivi des congés des employés'!$D$4:$D$998,"<"&DATE(Année_civile+1,1,1),'Suivi des congés des employés'!$E$4:$E$998,'Types de congés'!B6) -> 11 | AC20: =SUMIFS('Suivi des congés des employés'!$F$4:$F$998,'Suivi des congés des employés'!$B$4:$B$998,valSelEmployé,'Suivi des congés des employés'!$C$4:$C$998,">="&DATE(Année_civile,1,1),'Suivi des congés des employés'!$D$4:$D$998,"<"&DATE(Année_civile+1,1,1),'Suivi des congés des employés'!$E$4:$E$998,'Types de congés'!B5) -> 0 | AH20: =SUMIFS('Suivi des congés des employés'!$F$4:$F$998,'Suivi des congés des employés'!$B$4:$B$998,valSelEmployé,'Suivi des congés des employés'!$C$4:$C$998,">="&DATE(Année_civile,1,1),'Suivi des congés des employés'!$D$4:$D$998,"<"&DATE(Année_civile+1,1,1),'Suivi des congés des employés'!$E$4:$E$998,'Types de congés'!B12) -> 0 | AM20: =SUMIFS('Suivi des congés des employés'!$F$4:$F$146,'Suivi des congés des employés'!$B$4:$B$146,valSelEmployé,'Suivi des congés des employés'!$C$4:$C$146,">="&DATE(Année_civile,1,1),'Suivi des congés des employés'!$D$4:$D$146,"<"&DATE(Année_civile+1,1,1),'Suivi des congés des employés'!$E$4:$E$146,'Types de congés'!L8) -> 0
C23: Jours d'absentésime calculé (hors CP) | N23: Jours de congé maternité | S23: Jours de congé naissance | X23: Jour de congé paternité | AC23: Jours de congé de décès
B24: TAUX A CALCULER | C24: =SUMIFS('Suivi des congés des employés'!$F$4:$F$146,'Suivi des congés des employés'!$B$4:$B$146,valSelEmployé,'Suivi des congés des employés'!$C$4:$C$146,">="&DATE(Année_civile,1,1),'Suivi des congés des employés'!$D$4:$D$146,"<"&DATE(Année_civile+1,1,1),'Suivi des congés des employés'!E4:E146,"<>Congé payé") -> 88 | N24: =SUMIFS('Suivi des congés des employés'!$F$4:$F$998,'Suivi des congés des employés'!$B$4:$B$998,valSelEmployé,'Suivi des congés des employés'!$C$4:$C$998,">="&DATE(Année_civile,1,1),'Suivi des congés des employés'!$D$4:$D$998,"<"&DATE(Année_civile+1,1,1),'Suivi des congés des employés'!$E$4:$E$998,'Types de congés'!B8) -> 77 | S24: =SUMIFS('Suivi des congés des employés'!$F$4:$F$998,'Suivi des congés des employés'!$B$4:$B$998,valSelEmployé,'Suivi des congés des employés'!$C$4:$C$998,">="&DATE(Année_civile,1,1),'Suivi des congés des employés'!$D$4:$D$998,"<"&DATE(Année_civile+1,1,1),'Suivi des congés des employés'!$E$4:$E$998,'Types de congés'!B9) -> 0 | X24: =SUMIFS('Suivi des congés des employés'!$F$4:$F$998,'Suivi des congés des employés'!$B$4:$B$998,valSelEmployé,'Suivi des congés des employés'!$C$4:$C$998,">="&DATE(Année_civile,1,1),'Suivi des congés des employés'!$D$4:$D$998,"<"&DATE(Année_civile+1,1,1),'Suivi des congés des employés'!$E$4:$E$998,'Types de congés'!B10) -> 0 | AC24: =SUMIFS('Suivi des congés des employés'!$F$4:$F$998,'Suivi des congés des employés'!$B$4:$B$998,valSelEmployé,'Suivi des congés des employés'!$C$4:$C$998,">="&DATE(Année_civile,1,1),'Suivi des congés des employés'!$D$4:$D$998,"<"&DATE(Année_civile+1,1,1),'Suivi des congés des employés'!$E$4:$E$998,'Types de congés'!B7) -> 0

Sheet Suivi des congés des employés
B1: Suivi des congés des employés
B3: Nom de l’employé | C3: Date de début | D3: Date de fin | E3: Type de congé | F3: Jours | G3: Observations | H3: ANNEE | I3: MOIS
B4: Vincent | C4: 43102 | D4: 43103 | E4: Congé payé | F4: =NETWORKDAYS('Suivi des congés des employés'!$C4,'Suivi des congés des employés'!$D4,lstCongés) -> 2 | H4: =YEAR('Suivi des congés des employés'!$C4) -> 2018 | I4: =MONTH('Suivi des congés des employés'!$C4) -> 1
B5: Raphaël Raphaël | C5: 43102 | D5: 43102 | E5: Absence | F5: =NETWORKDAYS('Suivi des congés des employés'!$C5,'Suivi des congés des employés'!$D5,lstCongés) -> 1 | H5: =YEAR('Suivi des congés des employés'!$C5) -> 2018 | I5: =MONTH('Suivi des congés des employés'!$C5) -> 1
B6: Patrick | C6: 43102 | D6: 43104 | E6: Congé payé | F6: =NETWORKDAYS('Suivi des congés des employés'!$C6,'Suivi des congés des employés'!$D6,lstCongés) -> 3 | H6: =YEAR('Suivi des congés des employés'!$C6) -> 2018 | I6: =MONTH('Suivi des congés des employés'!$C6) -> 1
B7: Maxence | C7: 43102 | D7: 43273 | E7: Arrêt accident de travail | F7: =NETWORKDAYS('Suivi des congés des employés'!$C7,'Suivi des congés des employés'!$D7,lstCongés) -> 119 | H7: =YEAR('Suivi des congés des employés'!$C7) -> 2018 | I7: =MONTH('Suivi des congés des employés'!$C7) -> 1
B8: Yoan | C8: 43102 | D8: 43251 | E8: Arrêt maladie | F8: =NETWORKDAYS('Suivi des congés des employés'!$C8,'Suivi des congés des employés'!$D8,lstCongés) -> 103 | H8: =YEAR('Suivi des congés des employés'!$C8) -> 2018 | I8: =MONTH('Suivi des congés des employés'!$C8) -> 1
B9: Sylvie | C9: 43102 | D9: 43102 | E9: Congé payé | F9: =NETWORKDAYS('Suivi des congés des employés'!$C9,'Suivi des congés des employés'!$D9,lstCongés) -> 1 | H9: =YEAR('Suivi des congés des employés'!$C9) -> 2018 | I9: =MONTH('Suivi des congés des employés'!$C9) -> 1
B10: Bérengère | C10: 43102 | D10: 43116 | E10: Arrêt maladie | F10: =NETWORKDAYS('Suivi des congés des employés'!$C10,'Suivi des congés des employés'!$D10,lstCongés) -> 11 | H10: =YEAR('Suivi des congés des employés'!$C10) -> 2018 | I10: =MONTH('Suivi des congés des employés'!$C10) -> 1
B11: Fabien | C11: 43109 | D11: 43109 | E11: Congé payé | F11: =NETWORKDAYS('Suivi des congés des employés'!$C11,'Suivi des congés des employés'!$D11,lstCongés) -> 1 | H11: =YEAR('Suivi des congés des employés'!$C11) -> 2018 | I11: =MONTH('Suivi des congés des employés'!$C11) -> 1
B12: Daniel | C12: 43109 | D12: 43109 | E12: Congé payé | F12: =NETWORKDAYS('Suivi des congés des employés'!$C12,'Suivi des congés des employés'!$D12,lstCongés) -> 1 | H12: =YEAR('Suivi des congés des employés'!$C12) -> 2018 | I12: =MONTH('Suivi des congés des employés'!$C12) -> 1
B13: Vincent | C13: 43110 | D13: 43111 | E13: Formation | F13: =NETWORKDAYS('Suivi des congés des employés'!$C13,'Suivi des congés des employés'!$D13,lstCongés) -> 2 | H13: =YEAR('Suivi des congés des employés'!$C13) -> 2018 | I13: =MONTH('Suivi des congés des employés'!$C13) -> 1
B14: Raphaël Raphaël | C14: 43115 | D14: 43115 | E14: Absence | F14: =NETWORKDAYS('Suivi des congés des employés'!$C14,'Suivi des congés des employés'!$D14,lstCongés) -> 1 | H14: =YEAR('Suivi des congés des employés'!$C14) -> 2018 | I14: =MONTH('Suivi des congés des employés'!$C14) -> 1
B15: Daniel | C15: 43115 | D15: 43115 | E15: Absence | F15: =NETWORKDAYS('Suivi des congés des employés'!$C15,'Suivi des congés des employés'!$D15,lstCongés) -> 1 | H15: =YEAR('Suivi des congés des employés'!$C15) -> 2018 | I15: =MONTH('Suivi des congés des employés'!$C15) -> 1
... B55: Florian | C55: 43199 | D55: 43204 | E55: Congé payé | F55: =NETWORKDAYS('Suivi des congés des employés'!$C55,'Suivi des congés des employés'!$D55,lstCongés) -> 5 | H55: =YEAR('Suivi des congés des employés'!$C55) -> 2018 | I55: =MONTH('Suivi des congés des employés'!$C55) -> 4
B56: Céline | C56: 43199 | D56: 43204 | E56: Congé payé | F56: 4 | H56: =YEAR('Suivi des congés des employés'!$C56) -> 2018 | I56: =MONTH('Suivi des congés des employés'!$C56) -> 4
B57: Fabien | C57: 43200 | D57: 43202 | E57: Congé naissance | F57: =NETWORKDAYS('Suivi des congés des employés'!$C57,'Suivi des congés des employés'!$D57,lstCongés) -> 3 | H57: =YEAR('Suivi des congés des employés'!$C57) -> 2018 | I57: =MONTH('Suivi des congés des employés'!$C57) -> 4
B58: Venceslas | C58: 43206 | D58: 43210 | E58: Congé payé | F58: =NETWORKDAYS('Suivi des congés des employés'!$C58,'Suivi des congés des employés'!$D58,lstCongés) -> 5 | H58: =YEAR('Suivi des congés des employés'!$C58) -> 2018 | I58: =MONTH('Suivi des congés des employés'!$C58) -> 4
B59: Sylvie | C59: 43206 | D59: 43211 | E59: Congé payé | F59: =NETWORKDAYS('Suivi des congés des employés'!$C59,'Suivi des congés des employés'!$D59,lstCongés) -> 5 | H59: =YEAR('Suivi des congés des employés'!$C59) -> 2018 | I59: =MONTH('Suivi des congés des employés'!$C59) -> 4
B60: Daniel | C60: 43207 | D60: 43207 | E60: Congé payé | F60: =NETWORKDAYS('Suivi des congés des employés'!$C60,'Suivi des congés des employés'!$D60,lstCongés) -> 1 | H60: =YEAR('Suivi des congés des employés'!$C60) -> 2018 | I60: =MONTH('Suivi des congés des employés'!$C60) -> 4
B61: Daniel | C61: 43214 | D61: 43214 | E61: Absence | F61: =NETWORKDAYS('Suivi des congés des employés'!$C61,'Suivi des congés des employés'!$D61,lstCongés) -> 1 | H61: =YEAR('Suivi des congés des employés'!$C61) -> 2018 | I61: =MONTH('Suivi des congés des employés'!$C61) -> 4
B62: Céline | C62: 43214 | D62: 43217 | E62: Arrêt maladie | F62: =NETWORKDAYS('Suivi des congés des employés'!$C62,'Suivi des congés des employés'!$D62,lstCongés) -> 4 | H62: =YEAR('Suivi des congés des employés'!$C62) -> 2018 | I62: =MONTH('Suivi des congés des employés'!$C62) -> 4
B63: Marc | C63: 43217 | D63: 43217 | E63: Congé payé | F63: =NETWORKDAYS('Suivi des congés des employés'!$C63,'Suivi des congés des employés'!$D63,lstCongés) -> 1 | H63: =YEAR('Suivi des congés des employés'!$C63) -> 2018 | I63: =MONTH('Suivi des congés des employés'!$C63) -> 4
B64: Jean-Michel | C64: 43220 | D64: 43220 | E64: Congé payé | F64: =NETWORKDAYS('Suivi des congés des employés'!$C64,'Suivi des congés des employés'!$D64,lstCongés) -> 1 | H64: =YEAR('Suivi des congés des employés'!$C64) -> 2018 | I64: =MONTH('Suivi des congés des employés'!$C64) -> 4
B65: Marc | C65: 43220 | D65: 43220 | E65: Congé payé | F65: =NETWORKDAYS('Suivi des congés des employés'!$C65,'Suivi des congés des employés'!$D65,lstCongés) -> 1 | H65: =YEAR('Suivi des congés des employés'!$C65) -> 2018 | I65: =MONTH('Suivi des congés des employés'!$C65) -> 4
B66: Raphaël Raphaël | C66: 43222 | D66: 43222 | E66: Absence | F66: =NETWORKDAYS('Suivi des congés des employés'!$C66,'Suivi des congés des employés'!$D66,lstCongés) -> 1 | H66: =YEAR('Suivi des congés des employés'!$C66) -> 2018 | I66: =MONTH('Suivi des congés des employés'!$C66) -> 5
B67: Jean-Michel | C67: 43227 | D67: 43229 | E67: Congé payé | F67: =NETWORKDAYS('Suivi des congés des employés'!$C67,'Suivi des congés des employés'!$D67,lstCongés) -> 2 | H67: =YEAR('Suivi des congés des employés'!$C67) -> 2018 | I67: =MONTH('Suivi des congés des employés'!$C67) -> 5
B68: Céline | C68: 43227 | D68: 43229 | E68: Congé payé | F68: =NETWORKDAYS('Suivi des congés des employés'!$C68,'Suivi des congés des employés'!$D68,lstCongés) -> 2 | H68: =YEAR('Suivi des congés des employés'!$C68) -> 2018 | I68: =MONTH('Suivi des congés des employés'!$C68) -> 5
... B146: Sylvie | C146: 43363 | D146: 43364 | E146: Formation | F146: =NETWORKDAYS('Suivi des congés des employés'!$C146,'Suivi des congés des employés'!$D146,lstCongés) -> 2 | H146: =YEAR('Suivi des congés des employés'!$C146) -> 2018 | I146: =MONTH('Suivi des congés des employés'!$C146) -> 9
A998: PREVOIR MODIFICATIONS FORMULES AU DELA DE CETTE LIGNE - ATTENTION CONTROLER CALCUL

Sheet Liste des employés
B1: Liste des employés
B3: Noms des employés | C3: CODE | D3: DATE D'ENTREE | E3: DATE DE NAISSANCE | F3: FONCTION | G3: CSP | H3: SOCIETE
B4: Vincent | C4: RH000052/P | D4: =VLOOKUP(Employés[Noms des employés],[2]!LISTE_PERSONNEL[#Data],9,FALSE) -> #REF! | E4: =VLOOKUP(Employés[Noms des employés],[2]!LISTE_PERSONNEL[#Data],2,FALSE) -> #REF! | F4: =VLOOKUP(Employés[Noms des employés],[2]!LISTE_PERSONNEL[#Data],5,FALSE) -> #REF! | G4: =VLOOKUP(Employés[Noms des employés],[2]!LISTE_PERSONNEL[#Data],6,FALSE) -> #REF! | H4: =VLOOKUP(Employés[Noms des employés],[2]!LISTE_PERSONNEL[#Data],15,FALSE) -> #REF!
B5: Sullivan | C5: RH000052/P | D5: =VLOOKUP(Employés[Noms des employés],[2]!LISTE_PERSONNEL[#Data],9,FALSE) -> #REF! | E5: =VLOOKUP(Employés[Noms des employés],[2]!LISTE_PERSONNEL[#Data],2,FALSE) -> #REF! | F5: =VLOOKUP(Employés[Noms des employés],[2]!LISTE_PERSONNEL[#Data],5,FALSE) -> #REF! | G5: =VLOOKUP(Employés[Noms des employés],[2]!LISTE_PERSONNEL[#Data],6,FALSE) -> #REF! | H5: =VLOOKUP(Employés[Noms des employés],[2]!LISTE_PERSONNEL[#Data],15,FALSE) -> #REF!
B6: Khaled | C6: RH000054/P | D6: =VLOOKUP(Employés[Noms des employés],[2]!LISTE_PERSONNEL[#Data],9,FALSE) -> #REF! | E6: =VLOOKUP(Employés[Noms des employés],[2]!LISTE_PERSONNEL[#Data],2,FALSE) -> #REF! | F6: =VLOOKUP(Employés[Noms des employés],[2]!LISTE_PERSONNEL[#Data],5,FALSE) -> #REF! | G6: =VLOOKUP(Employés[Noms des employés],[2]!LISTE_PERSONNEL[#Data],6,FALSE) -> #REF! | H6: =VLOOKUP(Employés[Noms des employés],[2]!LISTE_PERSONNEL[#Data],15,FALSE) -> #REF!
B7: Brigitte | C7: RH000015/P | D7: =VLOOKUP(Employés[Noms des employés],[2]!LISTE_PERSONNEL[#Data],9,FALSE) -> #REF! | E7: =VLOOKUP(Employés[Noms des employés],[2]!LISTE_PERSONNEL[#Data],2,FALSE) -> #REF! | F7: =VLOOKUP(Employés[Noms des employés],[2]!LISTE_PERSONNEL[#Data],5,FALSE) -> #REF! | G7: =VLOOKUP(Employés[Noms des employés],[2]!LISTE_PERSONNEL[#Data],6,FALSE) -> #REF! | H7: =VLOOKUP(Employés[Noms des employés],[2]!LISTE_PERSONNEL[#Data],15,FALSE) -> #REF!
B8: Venceslas | C8: RH000031/P | D8: =VLOOKUP(Employés[Noms des employés],[2]!LISTE_PERSONNEL[#Data],9,FALSE) -> #REF! | E8: =VLOOKUP(Employés[Noms des employés],[2]!LISTE_PERSONNEL[#Data],2,FALSE) -> #REF! | F8: =VLOOKUP(Employés[Noms des employés],[2]!LISTE_PERSONNEL[#Data],5,FALSE) -> #REF! | G8: =VLOOKUP(Employés[Noms des employés],[2]!LISTE_PERSONNEL[#Data],6,FALSE) -> #REF! | H8: =VLOOKUP(Employés[Noms des employés],[2]!LISTE_PERSONNEL[#Data],15,FALSE) -> #REF!
B9: Céline | C9: RH000014/P | D9: =VLOOKUP(Employés[Noms des employés],[2]!LISTE_PERSONNEL[#Data],9,FALSE) -> #REF! | E9: =VLOOKUP(Employés[Noms des employés],[2]!LISTE_PERSONNEL[#Data],2,FALSE) -> #REF! | F9: =VLOOKUP(Employés[Noms des employés],[2]!LISTE_PERSONNEL[#Data],5,FALSE) -> #REF! | G9: =VLOOKUP(Employés[Noms des employés],[2]!LISTE_PERSONNEL[#Data],6,FALSE) -> #REF! | H9: =VLOOKUP(Employés[Noms des employés],[2]!LISTE_PERSONNEL[#Data],15,FALSE) -> #REF!
B10: Philippe | C10: RH000017/P | D10: =VLOOKUP(Employés[Noms des employés],[2]!LISTE_PERSONNEL[#Data],9,FALSE) -> #REF! | E10: =VLOOKUP(Employés[Noms des employés],[2]!LISTE_PERSONNEL[#Data],2,FALSE) -> #REF! | F10: =VLOOKUP(Employés[Noms des employés],[2]!LISTE_PERSONNEL[#Data],5,FALSE) -> #REF! | G10: =VLOOKUP(Employés[Noms des employés],[2]!LISTE_PERSONNEL[#Data],6,FALSE) -> #REF! | H10: =VLOOKUP(Employés[Noms des employés],[2]!LISTE_PERSONNEL[#Data],15,FALSE) -> #REF!
B11: Yoan | C11: RH000050/P | D11: =VLOOKUP(Employés[Noms des employés],[2]!LISTE_PERSONNEL[#Data],9,FALSE) -> #REF! | E11: =VLOOKUP(Employés[Noms des employés],[2]!LISTE_PERSONNEL[#Data],2,FALSE) -> #REF! | F11: =VLOOKUP(Employés[Noms des employés],[2]!LISTE_PERSONNEL[#Data],5,FALSE) -> #REF! | G11: =VLOOKUP(Employés[Noms des employés],[2]!LISTE_PERSONNEL[#Data],6,FALSE) -> #REF! | H11: =VLOOKUP(Employés[Noms des employés],[2]!LISTE_PERSONNEL[#Data],15,FALSE) -> #REF!
B12: Maxence | C12: RH000018/P | D12: =VLOOKUP(Employés[Noms des employés],[2]!LISTE_PERSONNEL[#Data],9,FALSE) -> #REF! | E12: =VLOOKUP(Employés[Noms des employés],[2]!LISTE_PERSONNEL[#Data],2,FALSE) -> #REF! | F12: =VLOOKUP(Employés[Noms des employés],[2]!LISTE_PERSONNEL[#Data],5,FALSE) -> #REF! | G12: =VLOOKUP(Employés[Noms des employés],[2]!LISTE_PERSONNEL[#Data],6,FALSE) -> #REF! | H12: =VLOOKUP(Employés[Noms des employés],[2]!LISTE_PERSONNEL[#Data],15,FALSE) -> #REF!
B13: Raphaël | C13: RH000005/P | D13: =VLOOKUP(Employés[Noms des employés],[2]!LISTE_PERSONNEL[#Data],9,FALSE) -> #REF! | E13: =VLOOKUP(Employés[Noms des employés],[2]!LISTE_PERSONNEL[#Data],2,FALSE) -> #REF! | F13: =VLOOKUP(Employés[Noms des employés],[2]!LISTE_PERSONNEL[#Data],5,FALSE) -> #REF! | G13: =VLOOKUP(Employés[Noms des employés],[2]!LISTE_PERSONNEL[#Data],6,FALSE) -> #REF! | H13: =VLOOKUP(Employés[Noms des employés],[2]!LISTE_PERSONNEL[#Data],15,FALSE) -> #REF!
B14: Jean Michel | C14: RH000005/P | D14: =VLOOKUP(Employés[Noms des employés],[2]!LISTE_PERSONNEL[#Data],9,FALSE) -> #REF! | E14: =VLOOKUP(Employés[Noms des employés],[2]!LISTE_PERSONNEL[#Data],2,FALSE) -> #REF! | F14: =VLOOKUP(Employés[Noms des employés],[2]!LISTE_PERSONNEL[#Data],5,FALSE) -> #REF! | G14: =VLOOKUP(Employés[Noms des employés],[2]!LISTE_PERSONNEL[#Data],6,FALSE) -> #REF! | H14: =VLOOKUP(Employés[Noms des employés],[2]!LISTE_PERSONNEL[#Data],15,FALSE) -> #REF!
B15: Sylvie | C15: RH000004/M | D15: =VLOOKUP(Employés[Noms des employés],[2]!LISTE_PERSONNEL[#Data],9,FALSE) -> #REF! | E15: =VLOOKUP(Employés[Noms des employés],[2]!LISTE_PERSONNEL[#Data],2,FALSE) -> #REF! | F15: =VLOOKUP(Employés[Noms des employés],[2]!LISTE_PERSONNEL[#Data],5,FALSE) -> #REF! | G15: =VLOOKUP(Employés[Noms des employés],[2]!LISTE_PERSONNEL[#Data],6,FALSE) -> #REF! | H15: =VLOOKUP(Employés[Noms des employés],[2]!LISTE_PERSONNEL[#Data],15,FALSE) -> #REF!
... B26: Jean-Pierre | C26: RH000002/M | D26: =VLOOKUP(Employés[Noms des employés],[2]!LISTE_PERSONNEL[#Data],9,FALSE) -> #REF! | E26: =VLOOKUP(Employés[Noms des employés],[2]!LISTE_PERSONNEL[#Data],2,FALSE) -> #REF! | F26: =VLOOKUP(Employés[Noms des employés],[2]!LISTE_PERSONNEL[#Data],5,FALSE) -> #REF! | G26: =VLOOKUP(Employés[Noms des employés],[2]!LISTE_PERSONNEL[#Data],6,FALSE) -> #REF! | H26: =VLOOKUP(Employés[Noms des employés],[2]!LISTE_PERSONNEL[#Data],15,FALSE) -> #REF!

Sheet Types de congés
B1: Types de congés
B3: Liste des types de congés
B4: Absence
B5: Arrêt accident de travail
B6: Arrêt maladie
B7: Congé de décès
B8: Congé matérnité
B9: Congé naissance
B10: Congé paternité
B11: Congé payé
B12: Formation

Sheet Jours fériés
B1: Jours fériés
B3: Jours fériés | C3: Description | D3: JOURS OUVRES | E3: ANNEE | J3: ANNEE | K3: NOMBRE DE JOURS FERIES OUVRES
B4: =DATE(YEAR(TODAY()),1,1) -> 43101 | C4: Jour de l'an | D4: OUI | E4: =YEAR(JoursFériés[[#This Row],[Jours fériés]]) -> 2018 | J4: 2018 | K4: =COUNTIFS(E4:E14,"2018",JoursFériés[JOURS OUVRES],"OUI") -> 9
B5: 43192 | C5: Lundi de Pâques | D5: OUI | E5: =YEAR(JoursFériés[[#This Row],[Jours fériés]]) -> 2018
B6: 43221 | C6: Fête du travail | D6: OUI | E6: =YEAR(JoursFériés[[#This Row],[Jours fériés]]) -> 2018
B7: 43228 | C7: Victore 1945 | D7: OUI | E7: =YEAR(JoursFériés[[#This Row],[Jours fériés]]) -> 2018
B8: 43230 | C8: Ascension | D8: OUI | E8: =YEAR(JoursFériés[[#This Row],[Jours fériés]]) -> 2018
B9: 43241 | C9: Pentecôte | D9: OUI | E9: =YEAR(JoursFériés[[#This Row],[Jours fériés]]) -> 2018
B10: 43295 | C10: Fête nationale | D10: NON | E10: =YEAR(JoursFériés[[#This Row],[Jours fériés]]) -> 2018
B11: 43327 | C11: Assomption | D11: OUI | E11: =YEAR(JoursFériés[[#This Row],[Jours fériés]]) -> 2018
B12: 43405 | C12: Toussaint | D12: OUI | E12: =YEAR(JoursFériés[[#This Row],[Jours fériés]]) -> 2018
B13: 43415 | C13: Armistice 1918 | D13: NON | E13: =YEAR(JoursFériés[[#This Row],[Jours fériés]]) -> 2018
B14: 43459 | C14: Jour de Noël | D14: OUI | E14: =YEAR(JoursFériés[[#This Row],[Jours fériés]]) -> 2018
