Workbook
Name action: Feuil2!$B$1:$B$36
Name actions: 'liste action'!$D$1:$D$119
Name Actions1: #REF!
Name Actions2: #REF!
Name B: #REF!
Name code: Feuil2!$A$1:$A$29
Name codeaction: #REF!
Name codeactions: #REF!
Name départements: 'liste action'!#REF!
Name dépt: 'liste action'!#REF!
Name financeurs: 'liste action'!$C$1:$C$119
Name intituaction: 'liste action'!$E$1:$E$65
Name intituléaction: 'liste action'!$E$1:$E$61
Name intituléactions: 'liste action'!$E$1:$E$119
Name secteurs: 'liste action'!$A$1:$A$18
Name y: JANV.!$Q$1

Sheet JANV.
A1: NOM / Prénom : | C1: Nom - Prénom | F1: Secteur | M1: JANVIER | Q1: 2019
F2: IDNZZ80SGE
D5: Temps de travail | E5: 7.4 | K5: Formule de calcul | N5: minutes | O5: centièmes
K6: 15 | L6: =K6/60*100 -> 25 | N6: 15 | O6: =N6/60*100 -> 25
K7: Formule pour traduire les minutes en centièmes : (nbre de minutes / 60) * 100 | N7: 30 | O7: 50 | AR7: 5 | AS7: 7 | AT7: TOTAL
N8: 45 | O8: =N8/60*100 -> 75 | V8: Code : Faire ressortir seulement les codes utilisés dans le mois AF/PR/AC : trouver formule somme si | AR8: 2 | AS8: 3.5 | AT8: Matin
AR9: 3 | AS9: 3.5 | AT9: Après-midi
R10: report 2018
D11: Action matin | E11: Action après-midi | F11: Lieu matin | G11: Lieu après-midi | H11: Secteu matin | I11: Secteur après-midi | J11: Objet | K11: AF matin | L11: PR matin | M11: AC matin | N11: AF après-midi | O11: PR après-midi | P11: AC après-midi | Q11: Total journée | S11: RTT | T11: Congés | V11: Récapitulatif par code
V12: Code | W12: AF | X12: PR | Y12: AC | Z12: Total | AA12: Secteurs | AB12: Fin.1 | AC12: Action1 | AD12: Code 1 | AE12: Secteurs | AF12: Fin.1 | AG12: Action1 | AH12: Code 2 | AI12: AF matin | AJ12: AF après-midi | AK12: PR matin | AL12: PR après-midi | AM12: AC matin | AN12: AC après-midi | AO12: Total | AT12: CP | AU12: RTT Matin | AV12: RTT Après-midi | AW12: Total RTT | AX12: TM Matin | AY12: TM | AZ12: Total TM | BA12: Impact TM s/RTT
A13: 1 | B13: Lundi | C13: {=IF(MONTH(DATE(y,1,1))<>MONTH(DATE(y,1,1)-(WEEKDAY(DATE(y,1,1),3)-1)+{1;2;3;4;5;6;7}+{0,1,2,3,4,5}-2),"",DATE(y,1,1)-(WEEKDAY(DATE(y,1,1),3)-1)+{1;2;3;4;5;6;7}+{0,1,2,3,4,5}-2)} | S13: =IF(C13="","",IF(D13="","",AW13)) | T13: =IF(C13="","",IF(D13="","",AT13)) | Z13: =W13+X13+Y13 -> 0 | AA13: =IF(H13="",LEFT($F$2,3),H13) -> IDN | AB13: =IF(AC13='liste action'!$D$2,'liste action'!$C$2,IF(AC13='liste action'!$D$3,'liste action'!$C$3,IF(AC13='liste action'!$D$4,'liste action'!$C$4,IF(AC13='liste action'!$D$5,'liste action'!$C$5,IF(AC13='liste action'!$D$6,'liste action'!$C$6,IF(AC13='liste action'!$D$7,'liste action'!$C$7,IF(AC13='liste action'!$D$8,'liste action'!$C$8,IF(AC13='liste action'!$D$9,'liste action'!$C$9,IF(AC13='liste action'!$D$10,'liste action'!$C$10,IF(AC13='liste action'!$D$11,'liste action'!$C$11,IF(AC13='liste action'!$D$12,'liste action'!$C$12,IF(AC13='liste action'!$D$13,'liste action'!$C$13,IF(AC13='liste action'!$D$14,'liste action'!$C$14,IF(AC13='liste action'!$D$15,'liste action'!$C$15,IF(AC13='liste action'!$D$16,'liste action'!$C$16,IF(AC13='liste action'!$D$17,'liste action'!$C$17,IF(AC13='liste action'!$D$18,'liste action'!$C$18,IF(AC13='liste action'!$D$19,'liste action'!$C$19,IF(AC13='liste action'!$D$20,'liste action'!$C$20,IF(AC13='liste action'!$D$21,'liste action'!$C$21,IF(AC13='liste action'!$D$22,'liste action'!$C$22,IF(AC13='liste action'!$D$23,'liste action'!$C$23,IF(AC13='liste action'!$D$24,'liste action'!$C$24,IF(AC13='liste action'!$D$25,'liste action'!$C$25,IF(AC13='liste action'!$D$26,'liste action'!$C$26,IF(AC13='liste action'!$D$27,'liste action'!$C$27,IF(AC13='liste action'!$D$28,'liste action'!$C$28,IF(AC13='liste action'!$D$29,'liste action'!$C$29,IF(AC13='liste action'!$D$30,'liste action'!$C$30,IF(AC13='liste action'!$D$31,'liste action'!$C$31,IF(AC13='liste action'!$D$32,'liste action'!$C$32,IF(AC13='liste action'!$D$33,'liste action'!$C$33,IF(AC13='liste action'!$D$34,'liste action'!$C$34,IF(AC13='liste action'!$D$35,'liste action'!$C$35,IF(AC13='liste action'!$D$36,'liste action'!$C$36,IF(AC13='liste action'!$D$37,'liste action'!$C$37,IF(AC13='liste action'!$D$38,'liste action'!$C$38,IF(AC13='liste action'!$D$39,'liste action'!$C$39,IF(AC13='liste action'!$D$40,'liste action'!$C$40,IF(AC13='liste action'!$D$41,'liste action'!$C$41,IF(AC13='liste action'!$D$42,'liste action'!$C$42,IF(AC13='liste action'!$D$43,'liste action'!$C$43,IF(AC13='liste action'!$D$44,'liste action'!$C$44,IF(AC13='liste action'!$D$45,'liste action'!$C$45,IF(AC13='liste action'!$D$46,'liste action'!$C$46,IF(AC13='liste action'!$D$47,'liste action'!$C$47,IF(AC13='liste action'!$D$48,'liste action'!$C$48,IF(AC13='liste action'!$D$49,'liste action'!$C$49,IF(AC13='liste action'!$D$50,'liste action'!$C$50,IF(AC13='liste action'!$D$51,'liste action'!$C$51,IF(AC13='liste action'!$D$52,'liste action'!$C$52,IF(AC13='liste action'!$D$53,'liste action'!$C$53,IF(AC13='liste action'!$D$54,'liste action'!$C$54,IF(AC13='liste action'!$D$55,'liste action'!$C$55,IF(AC13='liste action'!$D$56,'liste action'!$C$56,IF(AC13='liste action'!$D$57,'liste action'!$C$57,IF(AC13='liste action'!$D$58,'liste action'!$C$58,IF(AC13='liste action'!$D$59,'liste action'!$C$59,IF(AC13='liste action'!$D$60,'liste action'!$C$60,IF(AC13='liste action'!$D$61,'liste action'!$C$61,IF(AC13='liste action'!$D$62,'liste action'!$C$62,IF(AC13='liste action'!$D$63,'liste action'!$C$63,IF(AC13='liste action'!$D$64,'liste action'!$C$64,""))))))))))))))))))))))))))))))))))))))))))))))))))))))))))))))) | AC13: =IF(D13='liste action'!$E$2,'liste action'!$D$2,IF(D13='liste action'!$E$3,'liste action'!$D$3,IF(D13='liste action'!$E$4,'liste action'!$D$4,IF(D13='liste action'!$E$5,'liste action'!$D$5,IF(D13='liste action'!$E$6,'liste action'!$D$6,IF(D13='liste action'!$E$7,'liste action'!$D$7,IF(D13='liste action'!$E$8,'liste action'!$D$8,IF(D13='liste action'!$E$9,'liste action'!$D$9,IF(D13='liste action'!$E$10,'liste action'!$D$10,IF(D13='liste action'!$E$11,'liste action'!$D$11,IF(D13='liste action'!$E$12,'liste action'!$D$12,IF(D13='liste action'!$E$13,'liste action'!$D$13,IF(D13='liste action'!$E$14,'liste action'!$D$14,IF(D13='liste action'!$E$15,'liste action'!$D$15,IF(D13='liste action'!$E$16,'liste action'!$D$16,IF(D13='liste action'!$E$17,'liste action'!$D$17,IF(D13='liste action'!$E$18,'liste action'!$D$18,IF(D13='liste action'!$E$19,'liste action'!$D$19,IF(D13='liste action'!$E$20,'liste action'!$D$20,IF(D13='liste action'!$E$21,'liste action'!$D$21,IF(D13='liste action'!$E$22,'liste action'!$D$22,IF(D13='liste action'!$E$23,'liste action'!$D$23,IF(D13='liste action'!$E$24,'liste action'!$D$24,IF(D13='liste action'!$E$25,'liste action'!$D$25,IF(D13='liste action'!$E$26,'liste action'!$D$26,IF(D13='liste action'!$E$27,'liste action'!$D$27,IF(D13='liste action'!$E$28,'liste action'!$D$28,IF(D13='liste action'!$E$29,'liste action'!$D$29,IF(D13='liste action'!$E$30,'liste action'!$D$30,IF(D13='liste action'!$E$31,'liste action'!$D$31,IF(D13='liste action'!$E$32,'liste action'!$D$32,IF(D13='liste action'!$E$33,'liste action'!$D$33,IF(D13='liste action'!$E$34,'liste action'!$D$34,IF(D13='liste action'!$E$35,'liste action'!$D$35,IF(D13='liste action'!$E$36,'liste action'!$D$36,IF(D13='liste action'!$E$37,'liste action'!$D$37,IF(D13='liste action'!$E$38,'liste action'!$D$38,IF(D13='liste action'!$E$39,'liste action'!$D$39,IF(D13='liste action'!$E$40,'liste action'!$D$40,IF(D13='liste action'!$E$41,'liste action'!$D$41,IF(D13='liste action'!$E$42,'liste action'!$D$42,IF(D13='liste action'!$E$43,'liste action'!$D$43,IF(D13='liste action'!$E$44,'liste action'!$D$44,IF(D13='liste action'!$E$45,'liste action'!$D$45,IF(D13='liste action'!$E$46,'liste action'!$D$46,IF(D13='liste action'!$E$47,'liste action'!$D$47,IF(D13='liste action'!$E$48,'liste action'!$D$48,IF(D13='liste action'!$E$49,'liste action'!$D$49,IF(D13='liste action'!$E$50,'liste action'!$D$50,IF(D13='liste action'!$E$51,'liste action'!$D$51,IF(D13='liste action'!$E$52,'liste action'!$D$52,IF(D13='liste action'!$E$53,'liste action'!$D$53,IF(D13='liste action'!$E$54,'liste action'!$D$54,IF(D13='liste action'!$E$55,'liste action'!$D$55,IF(D13='liste action'!$E$56,'liste action'!$D$56,IF(D13='liste action'!$E$57,'liste action'!$D$57,IF(D13='liste action'!$E$58,'liste action'!$D$58,IF(D13='liste action'!$E$59,'liste action'!$D$59,IF(D13='liste action'!$E$60,'liste action'!$D$60,IF(D13='liste action'!$E$61,'liste action'!$D$61,IF(D13='liste action'!$E$62,'liste action'!$D$62,IF(D13='liste action'!$E$63,'liste action'!$D$63,IF(D13='liste action'!$E$64,'liste action'!$D$64,""))))))))))))))))))))))))))))))))))))))))))))))))))))))))))))))) | AD13: =CONCATENATE(AA13,AB13,AC13) -> IDN | AE13: =IF(I13="",LEFT($F$2,3),I13) -> IDN | AF13: =IF(AG13='liste action'!$D$2,'liste action'!$C$2,IF(AG13='liste action'!$D$3,'liste action'!$C$3,IF(AG13='liste action'!$D$4,'liste action'!$C$4,IF(AG13='liste action'!$D$5,'liste action'!$C$5,IF(AG13='liste action'!$D$6,'liste action'!$C$6,IF(AG13='liste action'!$D$7,'liste action'!$C$7,IF(AG13='liste action'!$D$8,'liste action'!$C$8,IF(AG13='liste action'!$D$9,'liste action'!$C$9,IF(AG13='liste action'!$D$10,'liste action'!$C$10,IF(AG13='liste action'!$D$11,'liste action'!$C$11,IF(AG13='liste action'!$D$12,'liste action'!$C$12,IF(AG13='liste action'!$D$13,'liste action'!$C$13,IF(AG13='liste action'!$D$14,'liste action'!$C$14,IF(AG13='liste action'!$D$15,'liste action'!$C$15,IF(AG13='liste action'!$D$16,'liste action'!$C$16,IF(AG13='liste action'!$D$17,'liste action'!$C$17,IF(AG13='liste action'!$D$18,'liste action'!$C$18,IF(AG13='liste action'!$D$19,'liste action'!$C$19,IF(AG13='liste action'!$D$20,'liste action'!$C$20,IF(AG13='liste action'!$D$21,'liste action'!$C$21,IF(AG13='liste action'!$D$22,'liste action'!$C$22,IF(AG13='liste action'!$D$23,'liste action'!$C$23,IF(AG13='liste action'!$D$24,'liste action'!$C$24,IF(AG13='liste action'!$D$25,'liste action'!$C$25,IF(AG13='liste action'!$D$26,'liste action'!$C$26,IF(AG13='liste action'!$D$27,'liste action'!$C$27,IF(AG13='liste action'!$D$28,'liste action'!$C$28,IF(AG13='liste action'!$D$29,'liste action'!$C$29,IF(AG13='liste action'!$D$30,'liste action'!$C$30,IF(AG13='liste action'!$D$31,'liste action'!$C$31,IF(AG13='liste action'!$D$32,'liste action'!$C$32,IF(AG13='liste action'!$D$33,'liste action'!$C$33,IF(AG13='liste action'!$D$34,'liste action'!$C$34,IF(AG13='liste action'!$D$35,'liste action'!$C$35,IF(AG13='liste action'!$D$36,'liste action'!$C$36,IF(AG13='liste action'!$D$37,'liste action'!$C$37,IF(AG13='liste action'!$D$38,'liste action'!$C$38,IF(AG13='liste action'!$D$39,'liste action'!$C$39,IF(AG13='liste action'!$D$40,'liste action'!$C$40,IF(AG13='liste action'!$D$41,'liste action'!$C$41,IF(AG13='liste action'!$D$42,'liste action'!$C$42,IF(AG13='liste action'!$D$43,'liste action'!$C$43,IF(AG13='liste action'!$D$44,'liste action'!$C$44,IF(AG13='liste action'!$D$45,'liste action'!$C$45,IF(AG13='liste action'!$D$46,'liste action'!$C$46,IF(AG13='liste action'!$D$47,'liste action'!$C$47,IF(AG13='liste action'!$D$48,'liste action'!$C$48,IF(AG13='liste action'!$D$49,'liste action'!$C$49,IF(AG13='liste action'!$D$50,'liste action'!$C$50,IF(AG13='liste action'!$D$51,'liste action'!$C$51,IF(AG13='liste action'!$D$52,'liste action'!$C$52,IF(AG13='liste action'!$D$53,'liste action'!$C$53,IF(AG13='liste action'!$D$54,'liste action'!$C$54,IF(AG13='liste action'!$D$55,'liste action'!$C$55,IF(AG13='liste action'!$D$56,'liste action'!$C$56,IF(AG13='liste action'!$D$57,'liste action'!$C$57,IF(AG13='liste action'!$D$58,'liste action'!$C$58,IF(AG13='liste action'!$D$59,'liste action'!$C$59,IF(AG13='liste action'!$D$60,'liste action'!$C$60,IF(AG13='liste action'!$D$61,'liste action'!$C$61,IF(AG13='liste action'!$D$62,'liste action'!$C$62,IF(AG13='liste action'!$D$63,'liste action'!$C$63,IF(AG13='liste action'!$D$64,'liste action'!$C$64,""))))))))))))))))))))))))))))))))))))))))))))))))))))))))))))))) | AG13: =IF(E13='liste action'!$E$2,'liste action'!$D$2,IF(E13='liste action'!$E$3,'liste action'!$D$3,IF(E13='liste action'!$E$4,'liste action'!$D$4,IF(E13='liste action'!$E$5,'liste action'!$D$5,IF(E13='liste action'!$E$6,'liste action'!$D$6,IF(E13='liste action'!$E$7,'liste action'!$D$7,IF(E13='liste action'!$E$8,'liste action'!$D$8,IF(E13='liste action'!$E$9,'liste action'!$D$9,IF(E13='liste action'!$E$10,'liste action'!$D$10,IF(E13='liste action'!$E$11,'liste action'!$D$11,IF(E13='liste action'!$E$12,'liste action'!$D$12,IF(E13='liste action'!$E$13,'liste action'!$D$13,IF(E13='liste action'!$E$14,'liste action'!$D$14,IF(E13='liste action'!$E$15,'liste action'!$D$15,IF(E13='liste action'!$E$16,'liste action'!$D$16,IF(E13='liste action'!$E$17,'liste action'!$D$17,IF(E13='liste action'!$E$18,'liste action'!$D$18,IF(E13='liste action'!$E$19,'liste action'!$D$19,IF(E13='liste action'!$E$20,'liste action'!$D$20,IF(E13='liste action'!$E$21,'liste action'!$D$21,IF(E13='liste action'!$E$22,'liste action'!$D$22,IF(E13='liste action'!$E$23,'liste action'!$D$23,IF(E13='liste action'!$E$24,'liste action'!$D$24,IF(E13='liste action'!$E$25,'liste action'!$D$25,IF(E13='liste action'!$E$26,'liste action'!$D$26,IF(E13='liste action'!$E$27,'liste action'!$D$27,IF(E13='liste action'!$E$28,'liste action'!$D$28,IF(E13='liste action'!$E$29,'liste action'!$D$29,IF(E13='liste action'!$E$30,'liste action'!$D$30,IF(E13='liste action'!$E$31,'liste action'!$D$31,IF(E13='liste action'!$E$32,'liste action'!$D$32,IF(E13='liste action'!$E$33,'liste action'!$D$33,IF(E13='liste action'!$E$34,'liste action'!$D$34,IF(E13='liste action'!$E$35,'liste action'!$D$35,IF(E13='liste action'!$E$36,'liste action'!$D$36,IF(E13='liste action'!$E$37,'liste action'!$D$37,IF(E13='liste action'!$E$38,'liste action'!$D$38,IF(E13='liste action'!$E$39,'liste action'!$D$39,IF(E13='liste action'!$E$40,'liste action'!$D$40,IF(E13='liste action'!$E$41,'liste action'!$D$41,IF(E13='liste action'!$E$42,'liste action'!$D$42,IF(E13='liste action'!$E$43,'liste action'!$D$43,IF(E13='liste action'!$E$44,'liste action'!$D$44,IF(E13='liste action'!$E$45,'liste action'!$D$45,IF(E13='liste action'!$E$46,'liste action'!$D$46,IF(E13='liste action'!$E$47,'liste action'!$D$47,IF(E13='liste action'!$E$48,'liste action'!$D$48,IF(E13='liste action'!$E$49,'liste action'!$D$49,IF(E13='liste action'!$E$50,'liste action'!$D$50,IF(E13='liste action'!$E$51,'liste action'!$D$51,IF(E13='liste action'!$E$52,'liste action'!$D$52,IF(E13='liste action'!$E$53,'liste action'!$D$53,IF(E13='liste action'!$E$54,'liste action'!$D$54,IF(E13='liste action'!$E$55,'liste action'!$D$55,IF(E13='liste action'!$E$56,'liste action'!$D$56,IF(E13='liste action'!$E$57,'liste action'!$D$57,IF(E13='liste action'!$E$58,'liste action'!$D$58,IF(E13='liste action'!$E$59,'liste action'!$D$59,IF(E13='liste action'!$E$60,'liste action'!$D$60,IF(E13='liste action'!$E$61,'liste action'!$D$61,IF(E13='liste action'!$E$62,'liste action'!$D$62,IF(E13='liste action'!$E$63,'liste action'!$D$63,IF(E13='liste action'!$E$64,'liste action'!$D$64,""))))))))))))))))))))))))))))))))))))))))))))))))))))))))))))))) | AH13: =CONCATENATE(AE13,AF13,AG13) -> IDN | AI13: =K13 -> 0 | AJ13: =N13 -> 0 | AK13: =L13 -> 0 | AL13: =O13 -> 0 | AM13: =M13 -> 0 | AN13: =P13 -> 0 | AO13: =SUM(AI13:AN13) -> 0 | AP13: =IF(D13="T",2,IF(D13="CP",0,IF(D13="TF",2,IF(D13="TM",0,IF(D13="JF",0,IF(D13="RTT",0,IF(D13="JNT",0,"0"))))))) -> 0 | AQ13: =IF(E13="T",3,IF(E13="CP",0,IF(E13="TF",3,IF(E13="TM",0,IF(E13="JF",0,IF(E13="RTT",0,IF(E13="JNT",0,"0"))))))) -> 0 | AR13: =AP13+AQ13 -> 0 | AS13: =IF(AR13=5,$AS$7,IF(AR13=2,$AS$8,IF(AR13=3,$AS$9,IF(AR13=0,#REF!)))) -> #REF! | AT13: =IF(AND(D13="CP",E13="CP"),1,IF(AND(D13="CP",E13<>"CP"),0.5,IF(AND(D13<>"CP",E13="CP"),0.5,0))) -> 0 | AU13: =IF(D13="RTT",0.5,0) -> 0 | AV13: =IF(E13="RTT",0.5,0) -> 0 | AW13: =SUM(AU13:AV13) -> 0 | AX13: =IF(D13="TM",0.5,0) -> 0 | AY13: =IF(E13="TM",0.5,0) -> 0 | AZ13: =SUM(AX13:AY13) -> 0 | BA13: =AZ13/1547*17 -> 0
B14: Mardi | C14: 43466 | D14: JF | E14: JF | S14: =IF(C14="","",IF(D14="","",AW14)) -> 0 | T14: =IF(C14="","",IF(D14="","",AT14)) -> 0 | Z14: =W14+X14+Y14 -> 0 | AA14: =IF(H14="",LEFT($F$2,3),H14) -> IDN | AB14: =IF(AC14='liste action'!$D$2,'liste action'!$C$2,IF(AC14='liste action'!$D$3,'liste action'!$C$3,IF(AC14='liste action'!$D$4,'liste action'!$C$4,IF(AC14='liste action'!$D$5,'liste action'!$C$5,IF(AC14='liste action'!$D$6,'liste action'!$C$6,IF(AC14='liste action'!$D$7,'liste action'!$C$7,IF(AC14='liste action'!$D$8,'liste action'!$C$8,IF(AC14='liste action'!$D$9,'liste action'!$C$9,IF(AC14='liste action'!$D$10,'liste action'!$C$10,IF(AC14='liste action'!$D$11,'liste action'!$C$11,IF(AC14='liste action'!$D$12,'liste action'!$C$12,IF(AC14='liste action'!$D$13,'liste action'!$C$13,IF(AC14='liste action'!$D$14,'liste action'!$C$14,IF(AC14='liste action'!$D$15,'liste action'!$C$15,IF(AC14='liste action'!$D$16,'liste action'!$C$16,IF(AC14='liste action'!$D$17,'liste action'!$C$17,IF(AC14='liste action'!$D$18,'liste action'!$C$18,IF(AC14='liste action'!$D$19,'liste action'!$C$19,IF(AC14='liste action'!$D$20,'liste action'!$C$20,IF(AC14='liste action'!$D$21,'liste action'!$C$21,IF(AC14='liste action'!$D$22,'liste action'!$C$22,IF(AC14='liste action'!$D$23,'liste action'!$C$23,IF(AC14='liste action'!$D$24,'liste action'!$C$24,IF(AC14='liste action'!$D$25,'liste action'!$C$25,IF(AC14='liste action'!$D$26,'liste action'!$C$26,IF(AC14='liste action'!$D$27,'liste action'!$C$27,IF(AC14='liste action'!$D$28,'liste action'!$C$28,IF(AC14='liste action'!$D$29,'liste action'!$C$29,IF(AC14='liste action'!$D$30,'liste action'!$C$30,IF(AC14='liste action'!$D$31,'liste action'!$C$31,IF(AC14='liste action'!$D$32,'liste action'!$C$32,IF(AC14='liste action'!$D$33,'liste action'!$C$33,IF(AC14='liste action'!$D$34,'liste action'!$C$34,IF(AC14='liste action'!$D$35,'liste action'!$C$35,IF(AC14='liste action'!$D$36,'liste action'!$C$36,IF(AC14='liste action'!$D$37,'liste action'!$C$37,IF(AC14='liste action'!$D$38,'liste action'!$C$38,IF(AC14='liste action'!$D$39,'liste action'!$C$39,IF(AC14='liste action'!$D$40,'liste action'!$C$40,IF(AC14='liste action'!$D$41,'liste action'!$C$41,IF(AC14='liste action'!$D$42,'liste action'!$C$42,IF(AC14='liste action'!$D$43,'liste action'!$C$43,IF(AC14='liste action'!$D$44,'liste action'!$C$44,IF(AC14='liste action'!$D$45,'liste action'!$C$45,IF(AC14='liste action'!$D$46,'liste action'!$C$46,IF(AC14='liste action'!$D$47,'liste action'!$C$47,IF(AC14='liste action'!$D$48,'liste action'!$C$48,IF(AC14='liste action'!$D$49,'liste action'!$C$49,IF(AC14='liste action'!$D$50,'liste action'!$C$50,IF(AC14='liste action'!$D$51,'liste action'!$C$51,IF(AC14='liste action'!$D$52,'liste action'!$C$52,IF(AC14='liste action'!$D$53,'liste action'!$C$53,IF(AC14='liste action'!$D$54,'liste action'!$C$54,IF(AC14='liste action'!$D$55,'liste action'!$C$55,IF(AC14='liste action'!$D$56,'liste action'!$C$56,IF(AC14='liste action'!$D$57,'liste action'!$C$57,IF(AC14='liste action'!$D$58,'liste action'!$C$58,IF(AC14='liste action'!$D$59,'liste action'!$C$59,IF(AC14='liste action'!$D$60,'liste action'!$C$60,IF(AC14='liste action'!$D$61,'liste action'!$C$61,IF(AC14='liste action'!$D$62,'liste action'!$C$62,IF(AC14='liste action'!$D$63,'liste action'!$C$63,IF(AC14='liste action'!$D$64,'liste action'!$C$64,""))))))))))))))))))))))))))))))))))))))))))))))))))))))))))))))) | AC14: =IF(D14='liste action'!$E$2,'liste action'!$D$2,IF(D14='liste action'!$E$3,'liste action'!$D$3,IF(D14='liste action'!$E$4,'liste action'!$D$4,IF(D14='liste action'!$E$5,'liste action'!$D$5,IF(D14='liste action'!$E$6,'liste action'!$D$6,IF(D14='liste action'!$E$7,'liste action'!$D$7,IF(D14='liste action'!$E$8,'liste action'!$D$8,IF(D14='liste action'!$E$9,'liste action'!$D$9,IF(D14='liste action'!$E$10,'liste action'!$D$10,IF(D14='liste action'!$E$11,'liste action'!$D$11,IF(D14='liste action'!$E$12,'liste action'!$D$12,IF(D14='liste action'!$E$13,'liste action'!$D$13,IF(D14='liste action'!$E$14,'liste action'!$D$14,IF(D14='liste action'!$E$15,'liste action'!$D$15,IF(D14='liste action'!$E$16,'liste action'!$D$16,IF(D14='liste action'!$E$17,'liste action'!$D$17,IF(D14='liste action'!$E$18,'liste action'!$D$18,IF(D14='liste action'!$E$19,'liste action'!$D$19,IF(D14='liste action'!$E$20,'liste action'!$D$20,IF(D14='liste action'!$E$21,'liste action'!$D$21,IF(D14='liste action'!$E$22,'liste action'!$D$22,IF(D14='liste action'!$E$23,'liste action'!$D$23,IF(D14='liste action'!$E$24,'liste action'!$D$24,IF(D14='liste action'!$E$25,'liste action'!$D$25,IF(D14='liste action'!$E$26,'liste action'!$D$26,IF(D14='liste action'!$E$27,'liste action'!$D$27,IF(D14='liste action'!$E$28,'liste action'!$D$28,IF(D14='liste action'!$E$29,'liste action'!$D$29,IF(D14='liste action'!$E$30,'liste action'!$D$30,IF(D14='liste action'!$E$31,'liste action'!$D$31,IF(D14='liste action'!$E$32,'liste action'!$D$32,IF(D14='liste action'!$E$33,'liste action'!$D$33,IF(D14='liste action'!$E$34,'liste action'!$D$34,IF(D14='liste action'!$E$35,'liste action'!$D$35,IF(D14='liste action'!$E$36,'liste action'!$D$36,IF(D14='liste action'!$E$37,'liste action'!$D$37,IF(D14='liste action'!$E$38,'liste action'!$D$38,IF(D14='liste action'!$E$39,'liste action'!$D$39,IF(D14='liste action'!$E$40,'liste action'!$D$40,IF(D14='liste action'!$E$41,'liste action'!$D$41,IF(D14='liste action'!$E$42,'liste action'!$D$42,IF(D14='liste action'!$E$43,'liste action'!$D$43,IF(D14='liste action'!$E$44,'liste action'!$D$44,IF(D14='liste action'!$E$45,'liste action'!$D$45,IF(D14='liste action'!$E$46,'liste action'!$D$46,IF(D14='liste action'!$E$47,'liste action'!$D$47,IF(D14='liste action'!$E$48,'liste action'!$D$48,IF(D14='liste action'!$E$49,'liste action'!$D$49,IF(D14='liste action'!$E$50,'liste action'!$D$50,IF(D14='liste action'!$E$51,'liste action'!$D$51,IF(D14='liste action'!$E$52,'liste action'!$D$52,IF(D14='liste action'!$E$53,'liste action'!$D$53,IF(D14='liste action'!$E$54,'liste action'!$D$54,IF(D14='liste action'!$E$55,'liste action'!$D$55,IF(D14='liste action'!$E$56,'liste action'!$D$56,IF(D14='liste action'!$E$57,'liste action'!$D$57,IF(D14='liste action'!$E$58,'liste action'!$D$58,IF(D14='liste action'!$E$59,'liste action'!$D$59,IF(D14='liste action'!$E$60,'liste action'!$D$60,IF(D14='liste action'!$E$61,'liste action'!$D$61,IF(D14='liste action'!$E$62,'liste action'!$D$62,IF(D14='liste action'!$E$63,'liste action'!$D$63,IF(D14='liste action'!$E$64,'liste action'!$D$64,""))))))))))))))))))))))))))))))))))))))))))))))))))))))))))))))) | AD14: =CONCATENATE(AA14,AB14,AC14) -> IDN | AE14: =IF(I14="",LEFT($F$2,3),I14) -> IDN | AF14: =IF(AG14='liste action'!$D$2,'liste action'!$C$2,IF(AG14='liste action'!$D$3,'liste action'!$C$3,IF(AG14='liste action'!$D$4,'liste action'!$C$4,IF(AG14='liste action'!$D$5,'liste action'!$C$5,IF(AG14='liste action'!$D$6,'liste action'!$C$6,IF(AG14='liste action'!$D$7,'liste action'!$C$7,IF(AG14='liste action'!$D$8,'liste action'!$C$8,IF(AG14='liste action'!$D$9,'liste action'!$C$9,IF(AG14='liste action'!$D$10,'liste action'!$C$10,IF(AG14='liste action'!$D$11,'liste action'!$C$11,IF(AG14='liste action'!$D$12,'liste action'!$C$12,IF(AG14='liste action'!$D$13,'liste action'!$C$13,IF(AG14='liste action'!$D$14,'liste action'!$C$14,IF(AG14='liste action'!$D$15,'liste action'!$C$15,IF(AG14='liste action'!$D$16,'liste action'!$C$16,IF(AG14='liste action'!$D$17,'liste action'!$C$17,IF(AG14='liste action'!$D$18,'liste action'!$C$18,IF(AG14='liste action'!$D$19,'liste action'!$C$19,IF(AG14='liste action'!$D$20,'liste action'!$C$20,IF(AG14='liste action'!$D$21,'liste action'!$C$21,IF(AG14='liste action'!$D$22,'liste action'!$C$22,IF(AG14='liste action'!$D$23,'liste action'!$C$23,IF(AG14='liste action'!$D$24,'liste action'!$C$24,IF(AG14='liste action'!$D$25,'liste action'!$C$25,IF(AG14='liste action'!$D$26,'liste action'!$C$26,IF(AG14='liste action'!$D$27,'liste action'!$C$27,IF(AG14='liste action'!$D$28,'liste action'!$C$28,IF(AG14='liste action'!$D$29,'liste action'!$C$29,IF(AG14='liste action'!$D$30,'liste action'!$C$30,IF(AG14='liste action'!$D$31,'liste action'!$C$31,IF(AG14='liste action'!$D$32,'liste action'!$C$32,IF(AG14='liste action'!$D$33,'liste action'!$C$33,IF(AG14='liste action'!$D$34,'liste action'!$C$34,IF(AG14='liste action'!$D$35,'liste action'!$C$35,IF(AG14='liste action'!$D$36,'liste action'!$C$36,IF(AG14='liste action'!$D$37,'liste action'!$C$37,IF(AG14='liste action'!$D$38,'liste action'!$C$38,IF(AG14='liste action'!$D$39,'liste action'!$C$39,IF(AG14='liste action'!$D$40,'liste action'!$C$40,IF(AG14='liste action'!$D$41,'liste action'!$C$41,IF(AG14='liste action'!$D$42,'liste action'!$C$42,IF(AG14='liste action'!$D$43,'liste action'!$C$43,IF(AG14='liste action'!$D$44,'liste action'!$C$44,IF(AG14='liste action'!$D$45,'liste action'!$C$45,IF(AG14='liste action'!$D$46,'liste action'!$C$46,IF(AG14='liste action'!$D$47,'liste action'!$C$47,IF(AG14='liste action'!$D$48,'liste action'!$C$48,IF(AG14='liste action'!$D$49,'liste action'!$C$49,IF(AG14='liste action'!$D$50,'liste action'!$C$50,IF(AG14='liste action'!$D$51,'liste action'!$C$51,IF(AG14='liste action'!$D$52,'liste action'!$C$52,IF(AG14='liste action'!$D$53,'liste action'!$C$53,IF(AG14='liste action'!$D$54,'liste action'!$C$54,IF(AG14='liste action'!$D$55,'liste action'!$C$55,IF(AG14='liste action'!$D$56,'liste action'!$C$56,IF(AG14='liste action'!$D$57,'liste action'!$C$57,IF(AG14='liste action'!$D$58,'liste action'!$C$58,IF(AG14='liste action'!$D$59,'liste action'!$C$59,IF(AG14='liste action'!$D$60,'liste action'!$C$60,IF(AG14='liste action'!$D$61,'liste action'!$C$61,IF(AG14='liste action'!$D$62,'liste action'!$C$62,IF(AG14='liste action'!$D$63,'liste action'!$C$63,IF(AG14='liste action'!$D$64,'liste action'!$C$64,""))))))))))))))))))))))))))))))))))))))))))))))))))))))))))))))) | AG14: =IF(E14='liste action'!$E$2,'liste action'!$D$2,IF(E14='liste action'!$E$3,'liste action'!$D$3,IF(E14='liste action'!$E$4,'liste action'!$D$4,IF(E14='liste action'!$E$5,'liste action'!$D$5,IF(E14='liste action'!$E$6,'liste action'!$D$6,IF(E14='liste action'!$E$7,'liste action'!$D$7,IF(E14='liste action'!$E$8,'liste action'!$D$8,IF(E14='liste action'!$E$9,'liste action'!$D$9,IF(E14='liste action'!$E$10,'liste action'!$D$10,IF(E14='liste action'!$E$11,'liste action'!$D$11,IF(E14='liste action'!$E$12,'liste action'!$D$12,IF(E14='liste action'!$E$13,'liste action'!$D$13,IF(E14='liste action'!$E$14,'liste action'!$D$14,IF(E14='liste action'!$E$15,'liste action'!$D$15,IF(E14='liste action'!$E$16,'liste action'!$D$16,IF(E14='liste action'!$E$17,'liste action'!$D$17,IF(E14='liste action'!$E$18,'liste action'!$D$18,IF(E14='liste action'!$E$19,'liste action'!$D$19,IF(E14='liste action'!$E$20,'liste action'!$D$20,IF(E14='liste action'!$E$21,'liste action'!$D$21,IF(E14='liste action'!$E$22,'liste action'!$D$22,IF(E14='liste action'!$E$23,'liste action'!$D$23,IF(E14='liste action'!$E$24,'liste action'!$D$24,IF(E14='liste action'!$E$25,'liste action'!$D$25,IF(E14='liste action'!$E$26,'liste action'!$D$26,IF(E14='liste action'!$E$27,'liste action'!$D$27,IF(E14='liste action'!$E$28,'liste action'!$D$28,IF(E14='liste action'!$E$29,'liste action'!$D$29,IF(E14='liste action'!$E$30,'liste action'!$D$30,IF(E14='liste action'!$E$31,'liste action'!$D$31,IF(E14='liste action'!$E$32,'liste action'!$D$32,IF(E14='liste action'!$E$33,'liste action'!$D$33,IF(E14='liste action'!$E$34,'liste action'!$D$34,IF(E14='liste action'!$E$35,'liste action'!$D$35,IF(E14='liste action'!$E$36,'liste action'!$D$36,IF(E14='liste action'!$E$37,'liste action'!$D$37,IF(E14='liste action'!$E$38,'liste action'!$D$38,IF(E14='liste action'!$E$39,'liste action'!$D$39,IF(E14='liste action'!$E$40,'liste action'!$D$40,IF(E14='liste action'!$E$41,'liste action'!$D$41,IF(E14='liste action'!$E$42,'liste action'!$D$42,IF(E14='liste action'!$E$43,'liste action'!$D$43,IF(E14='liste action'!$E$44,'liste action'!$D$44,IF(E14='liste action'!$E$45,'liste action'!$D$45,IF(E14='liste action'!$E$46,'liste action'!$D$46,IF(E14='liste action'!$E$47,'liste action'!$D$47,IF(E14='liste action'!$E$48,'liste action'!$D$48,IF(E14='liste action'!$E$49,'liste action'!$D$49,IF(E14='liste action'!$E$50,'liste action'!$D$50,IF(E14='liste action'!$E$51,'liste action'!$D$51,IF(E14='liste action'!$E$52,'liste action'!$D$52,IF(E14='liste action'!$E$53,'liste action'!$D$53,IF(E14='liste action'!$E$54,'liste action'!$D$54,IF(E14='liste action'!$E$55,'liste action'!$D$55,IF(E14='liste action'!$E$56,'liste action'!$D$56,IF(E14='liste action'!$E$57,'liste action'!$D$57,IF(E14='liste action'!$E$58,'liste action'!$D$58,IF(E14='liste action'!$E$59,'liste action'!$D$59,IF(E14='liste action'!$E$60,'liste action'!$D$60,IF(E14='liste action'!$E$61,'liste action'!$D$61,IF(E14='liste action'!$E$62,'liste action'!$D$62,IF(E14='liste action'!$E$63,'liste action'!$D$63,IF(E14='liste action'!$E$64,'liste action'!$D$64,""))))))))))))))))))))))))))))))))))))))))))))))))))))))))))))))) | AH14: =CONCATENATE(AE14,AF14,AG14) -> IDN | AI14: =K14 -> 0 | AJ14: =N14 -> 0 | AK14: =L14 -> 0 | AL14: =O14 -> 0 | AM14: =M14 -> 0 | AN14: =P14 -> 0 | AO14: =SUM(AI14:AN14) -> 0 | AP14: =IF(D14="T",2,IF(D14="CP",0,IF(D14="TF",2,IF(D14="TM",0,IF(D14="JF",0,IF(D14="RTT",0,IF(D14="JNT",0,"0"))))))) -> 0 | AQ14: =IF(E14="T",3,IF(E14="CP",0,IF(E14="TF",3,IF(E14="TM",0,IF(E14="JF",0,IF(E14="RTT",0,IF(E14="JNT",0,"0"))))))) -> 0 | AR14: =AP14+AQ14 -> 0 | AS14: =IF(AR14=5,$AS$7,IF(AR14=2,$AS$8,IF(AR14=3,$AS$9,IF(AR14=0,#REF!)))) -> #REF! | AT14: =IF(AND(D14="CP",E14="CP"),1,IF(AND(D14="CP",E14<>"CP"),0.5,IF(AND(D14<>"CP",E14="CP"),0.5,0))) -> 0 | AU14: =IF(D14="RTT",0.5,0) -> 0 | AV14: =IF(E14="RTT",0.5,0) -> 0 | AW14: =SUM(AU14:AV14) -> 0 | AX14: =IF(D14="TM",0.5,0) -> 0 | AY14: =IF(E14="TM",0.5,0) -> 0 | AZ14: =SUM(AX14:AY14) -> 0 | BA14: =AZ14/1547*17 -> 0
B15: Mercredi | C15: 43467 | D15: VAE PRE CONSEIL | E15: VEF FC DDP | K15: 3 | L15: 0.7 | M15: 0 | N15: 3 | O15: 0 | P15: 0.7 | Q15: =SUM(K15:P15) -> 7.4 | S15: =IF(C15="","",IF(D15="","",AW15)) -> 0 | T15: =IF(C15="","",IF(D15="","",AT15)) -> 0 | Z15: =W15+X15+Y15 -> 0 | AA15: =IF(H15="",LEFT($F$2,3),H15) -> IDN | AB15: =IF(AC15='liste action'!$D$2,'liste action'!$C$2,IF(AC15='liste action'!$D$3,'liste action'!$C$3,IF(AC15='liste action'!$D$4,'liste action'!$C$4,IF(AC15='liste action'!$D$5,'liste action'!$C$5,IF(AC15='liste action'!$D$6,'liste action'!$C$6,IF(AC15='liste action'!$D$7,'liste action'!$C$7,IF(AC15='liste action'!$D$8,'liste action'!$C$8,IF(AC15='liste action'!$D$9,'liste action'!$C$9,IF(AC15='liste action'!$D$10,'liste action'!$C$10,IF(AC15='liste action'!$D$11,'liste action'!$C$11,IF(AC15='liste action'!$D$12,'liste action'!$C$12,IF(AC15='liste action'!$D$13,'liste action'!$C$13,IF(AC15='liste action'!$D$14,'liste action'!$C$14,IF(AC15='liste action'!$D$15,'liste action'!$C$15,IF(AC15='liste action'!$D$16,'liste action'!$C$16,IF(AC15='liste action'!$D$17,'liste action'!$C$17,IF(AC15='liste action'!$D$18,'liste action'!$C$18,IF(AC15='liste action'!$D$19,'liste action'!$C$19,IF(AC15='liste action'!$D$20,'liste action'!$C$20,IF(AC15='liste action'!$D$21,'liste action'!$C$21,IF(AC15='liste action'!$D$22,'liste action'!$C$22,IF(AC15='liste action'!$D$23,'liste action'!$C$23,IF(AC15='liste action'!$D$24,'liste action'!$C$24,IF(AC15='liste action'!$D$25,'liste action'!$C$25,IF(AC15='liste action'!$D$26,'liste action'!$C$26,IF(AC15='liste action'!$D$27,'liste action'!$C$27,IF(AC15='liste action'!$D$28,'liste action'!$C$28,IF(AC15='liste action'!$D$29,'liste action'!$C$29,IF(AC15='liste action'!$D$30,'liste action'!$C$30,IF(AC15='liste action'!$D$31,'liste action'!$C$31,IF(AC15='liste action'!$D$32,'liste action'!$C$32,IF(AC15='liste action'!$D$33,'liste action'!$C$33,IF(AC15='liste action'!$D$34,'liste action'!$C$34,IF(AC15='liste action'!$D$35,'liste action'!$C$35,IF(AC15='liste action'!$D$36,'liste action'!$C$36,IF(AC15='liste action'!$D$37,'liste action'!$C$37,IF(AC15='liste action'!$D$38,'liste action'!$C$38,IF(AC15='liste action'!$D$39,'liste action'!$C$39,IF(AC15='liste action'!$D$40,'liste action'!$C$40,IF(AC15='liste action'!$D$41,'liste action'!$C$41,IF(AC15='liste action'!$D$42,'liste action'!$C$42,IF(AC15='liste action'!$D$43,'liste action'!$C$43,IF(AC15='liste action'!$D$44,'liste action'!$C$44,IF(AC15='liste action'!$D$45,'liste action'!$C$45,IF(AC15='liste action'!$D$46,'liste action'!$C$46,IF(AC15='liste action'!$D$47,'liste action'!$C$47,IF(AC15='liste action'!$D$48,'liste action'!$C$48,IF(AC15='liste action'!$D$49,'liste action'!$C$49,IF(AC15='liste action'!$D$50,'liste action'!$C$50,IF(AC15='liste action'!$D$51,'liste action'!$C$51,IF(AC15='liste action'!$D$52,'liste action'!$C$52,IF(AC15='liste action'!$D$53,'liste action'!$C$53,IF(AC15='liste action'!$D$54,'liste action'!$C$54,IF(AC15='liste action'!$D$55,'liste action'!$C$55,IF(AC15='liste action'!$D$56,'liste action'!$C$56,IF(AC15='liste action'!$D$57,'liste action'!$C$57,IF(AC15='liste action'!$D$58,'liste action'!$C$58,IF(AC15='liste action'!$D$59,'liste action'!$C$59,IF(AC15='liste action'!$D$60,'liste action'!$C$60,IF(AC15='liste action'!$D$61,'liste action'!$C$61,IF(AC15='liste action'!$D$62,'liste action'!$C$62,IF(AC15='liste action'!$D$63,'liste action'!$C$63,IF(AC15='liste action'!$D$64,'liste action'!$C$64,""))))))))))))))))))))))))))))))))))))))))))))))))))))))))))))))) -> CR10 | AC15: =IF(D15='liste action'!$E$2,'liste action'!$D$2,IF(D15='liste action'!$E$3,'liste action'!$D$3,IF(D15='liste action'!$E$4,'liste action'!$D$4,IF(D15='liste action'!$E$5,'liste action'!$D$5,IF(D15='liste action'!$E$6,'liste action'!$D$6,IF(D15='liste action'!$E$7,'liste action'!$D$7,IF(D15='liste action'!$E$8,'liste action'!$D$8,IF(D15='liste action'!$E$9,'liste action'!$D$9,IF(D15='liste action'!$E$10,'liste action'!$D$10,IF(D15='liste action'!$E$11,'liste action'!$D$11,IF(D15='liste action'!$E$12,'liste action'!$D$12,IF(D15='liste action'!$E$13,'liste action'!$D$13,IF(D15='liste action'!$E$14,'liste action'!$D$14,IF(D15='liste action'!$E$15,'liste action'!$D$15,IF(D15='liste action'!$E$16,'liste action'!$D$16,IF(D15='liste action'!$E$17,'liste action'!$D$17,IF(D15='liste action'!$E$18,'liste action'!$D$18,IF(D15='liste action'!$E$19,'liste action'!$D$19,IF(D15='liste action'!$E$20,'liste action'!$D$20,IF(D15='liste action'!$E$21,'liste action'!$D$21,IF(D15='liste action'!$E$22,'liste action'!$D$22,IF(D15='liste action'!$E$23,'liste action'!$D$23,IF(D15='liste action'!$E$24,'liste action'!$D$24,IF(D15='liste action'!$E$25,'liste action'!$D$25,IF(D15='liste action'!$E$26,'liste action'!$D$26,IF(D15='liste action'!$E$27,'liste action'!$D$27,IF(D15='liste action'!$E$28,'liste action'!$D$28,IF(D15='liste action'!$E$29,'liste action'!$D$29,IF(D15='liste action'!$E$30,'liste action'!$D$30,IF(D15='liste action'!$E$31,'liste action'!$D$31,IF(D15='liste action'!$E$32,'liste action'!$D$32,IF(D15='liste action'!$E$33,'liste action'!$D$33,IF(D15='liste action'!$E$34,'liste action'!$D$34,IF(D15='liste action'!$E$35,'liste action'!$D$35,IF(D15='liste action'!$E$36,'liste action'!$D$36,IF(D15='liste action'!$E$37,'liste action'!$D$37,IF(D15='liste action'!$E$38,'liste action'!$D$38,IF(D15='liste action'!$E$39,'liste action'!$D$39,IF(D15='liste action'!$E$40,'liste action'!$D$40,IF(D15='liste action'!$E$41,'liste action'!$D$41,IF(D15='liste action'!$E$42,'liste action'!$D$42,IF(D15='liste action'!$E$43,'liste action'!$D$43,IF(D15='liste action'!$E$44,'liste action'!$D$44,IF(D15='liste action'!$E$45,'liste action'!$D$45,IF(D15='liste action'!$E$46,'liste action'!$D$46,IF(D15='liste action'!$E$47,'liste action'!$D$47,IF(D15='liste action'!$E$48,'liste action'!$D$48,IF(D15='liste action'!$E$49,'liste action'!$D$49,IF(D15='liste action'!$E$50,'liste action'!$D$50,IF(D15='liste action'!$E$51,'liste action'!$D$51,IF(D15='liste action'!$E$52,'liste action'!$D$52,IF(D15='liste action'!$E$53,'liste action'!$D$53,IF(D15='liste action'!$E$54,'liste action'!$D$54,IF(D15='liste action'!$E$55,'liste action'!$D$55,IF(D15='liste action'!$E$56,'liste action'!$D$56,IF(D15='liste action'!$E$57,'liste action'!$D$57,IF(D15='liste action'!$E$58,'liste action'!$D$58,IF(D15='liste action'!$E$59,'liste action'!$D$59,IF(D15='liste action'!$E$60,'liste action'!$D$60,IF(D15='liste action'!$E$61,'liste action'!$D$61,IF(D15='liste action'!$E$62,'liste action'!$D$62,IF(D15='liste action'!$E$63,'liste action'!$D$63,IF(D15='liste action'!$E$64,'liste action'!$D$64,""))))))))))))))))))))))))))))))))))))))))))))))))))))))))))))))) -> V31 | AD15: =CONCATENATE(AA15,AB15,AC15) -> IDNCR10V31 | AE15: =IF(I15="",LEFT($F$2,3),I15) -> IDN | AF15: =IF(AG15='liste action'!$D$2,'liste action'!$C$2,IF(AG15='liste action'!$D$3,'liste action'!$C$3,IF(AG15='liste action'!$D$4,'liste action'!$C$4,IF(AG15='liste action'!$D$5,'liste action'!$C$5,IF(AG15='liste action'!$D$6,'liste action'!$C$6,IF(AG15='liste action'!$D$7,'liste action'!$C$7,IF(AG15='liste action'!$D$8,'liste action'!$C$8,IF(AG15='liste action'!$D$9,'liste action'!$C$9,IF(AG15='liste action'!$D$10,'liste action'!$C$10,IF(AG15='liste action'!$D$11,'liste action'!$C$11,IF(AG15='liste action'!$D$12,'liste action'!$C$12,IF(AG15='liste action'!$D$13,'liste action'!$C$13,IF(AG15='liste action'!$D$14,'liste action'!$C$14,IF(AG15='liste action'!$D$15,'liste action'!$C$15,IF(AG15='liste action'!$D$16,'liste action'!$C$16,IF(AG15='liste action'!$D$17,'liste action'!$C$17,IF(AG15='liste action'!$D$18,'liste action'!$C$18,IF(AG15='liste action'!$D$19,'liste action'!$C$19,IF(AG15='liste action'!$D$20,'liste action'!$C$20,IF(AG15='liste action'!$D$21,'liste action'!$C$21,IF(AG15='liste action'!$D$22,'liste action'!$C$22,IF(AG15='liste action'!$D$23,'liste action'!$C$23,IF(AG15='liste action'!$D$24,'liste action'!$C$24,IF(AG15='liste action'!$D$25,'liste action'!$C$25,IF(AG15='liste action'!$D$26,'liste action'!$C$26,IF(AG15='liste action'!$D$27,'liste action'!$C$27,IF(AG15='liste action'!$D$28,'liste action'!$C$28,IF(AG15='liste action'!$D$29,'liste action'!$C$29,IF(AG15='liste action'!$D$30,'liste action'!$C$30,IF(AG15='liste action'!$D$31,'liste action'!$C$31,IF(AG15='liste action'!$D$32,'liste action'!$C$32,IF(AG15='liste action'!$D$33,'liste action'!$C$33,IF(AG15='liste action'!$D$34,'liste action'!$C$34,IF(AG15='liste action'!$D$35,'liste action'!$C$35,IF(AG15='liste action'!$D$36,'liste action'!$C$36,IF(AG15='liste action'!$D$37,'liste action'!$C$37,IF(AG15='liste action'!$D$38,'liste action'!$C$38,IF(AG15='liste action'!$D$39,'liste action'!$C$39,IF(AG15='liste action'!$D$40,'liste action'!$C$40,IF(AG15='liste action'!$D$41,'liste action'!$C$41,IF(AG15='liste action'!$D$42,'liste action'!$C$42,IF(AG15='liste action'!$D$43,'liste action'!$C$43,IF(AG15='liste action'!$D$44,'liste action'!$C$44,IF(AG15='liste action'!$D$45,'liste action'!$C$45,IF(AG15='liste action'!$D$46,'liste action'!$C$46,IF(AG15='liste action'!$D$47,'liste action'!$C$47,IF(AG15='liste action'!$D$48,'liste action'!$C$48,IF(AG15='liste action'!$D$49,'liste action'!$C$49,IF(AG15='liste action'!$D$50,'liste action'!$C$50,IF(AG15='liste action'!$D$51,'liste action'!$C$51,IF(AG15='liste action'!$D$52,'liste action'!$C$52,IF(AG15='liste action'!$D$53,'liste action'!$C$53,IF(AG15='liste action'!$D$54,'liste action'!$C$54,IF(AG15='liste action'!$D$55,'liste action'!$C$55,IF(AG15='liste action'!$D$56,'liste action'!$C$56,IF(AG15='liste action'!$D$57,'liste action'!$C$57,IF(AG15='liste action'!$D$58,'liste action'!$C$58,IF(AG15='liste action'!$D$59,'liste action'!$C$59,IF(AG15='liste action'!$D$60,'liste action'!$C$60,IF(AG15='liste action'!$D$61,'liste action'!$C$61,IF(AG15='liste action'!$D$62,'liste action'!$C$62,IF(AG15='liste action'!$D$63,'liste action'!$C$63,IF(AG15='liste action'!$D$64,'liste action'!$C$64,""))))))))))))))))))))))))))))))))))))))))))))))))))))))))))))))) -> OF03 | AG15: =IF(E15='liste action'!$E$2,'liste action'!$D$2,IF(E15='liste action'!$E$3,'liste action'!$D$3,IF(E15='liste action'!$E$4,'liste action'!$D$4,IF(E15='liste action'!$E$5,'liste action'!$D$5,IF(E15='liste action'!$E$6,'liste action'!$D$6,IF(E15='liste action'!$E$7,'liste action'!$D$7,IF(E15='liste action'!$E$8,'liste action'!$D$8,IF(E15='liste action'!$E$9,'liste action'!$D$9,IF(E15='liste action'!$E$10,'liste action'!$D$10,IF(E15='liste action'!$E$11,'liste action'!$D$11,IF(E15='liste action'!$E$12,'liste action'!$D$12,IF(E15='liste action'!$E$13,'liste action'!$D$13,IF(E15='liste action'!$E$14,'liste action'!$D$14,IF(E15='liste action'!$E$15,'liste action'!$D$15,IF(E15='liste action'!$E$16,'liste action'!$D$16,IF(E15='liste action'!$E$17,'liste action'!$D$17,IF(E15='liste action'!$E$18,'liste action'!$D$18,IF(E15='liste action'!$E$19,'liste action'!$D$19,IF(E15='liste action'!$E$20,'liste action'!$D$20,IF(E15='liste action'!$E$21,'liste action'!$D$21,IF(E15='liste action'!$E$22,'liste action'!$D$22,IF(E15='liste action'!$E$23,'liste action'!$D$23,IF(E15='liste action'!$E$24,'liste action'!$D$24,IF(E15='liste action'!$E$25,'liste action'!$D$25,IF(E15='liste action'!$E$26,'liste action'!$D$26,IF(E15='liste action'!$E$27,'liste action'!$D$27,IF(E15='liste action'!$E$28,'liste action'!$D$28,IF(E15='liste action'!$E$29,'liste action'!$D$29,IF(E15='liste action'!$E$30,'liste action'!$D$30,IF(E15='liste action'!$E$31,'liste action'!$D$31,IF(E15='liste action'!$E$32,'liste action'!$D$32,IF(E15='liste action'!$E$33,'liste action'!$D$33,IF(E15='liste action'!$E$34,'liste action'!$D$34,IF(E15='liste action'!$E$35,'liste action'!$D$35,IF(E15='liste action'!$E$36,'liste action'!$D$36,IF(E15='liste action'!$E$37,'liste action'!$D$37,IF(E15='liste action'!$E$38,'liste action'!$D$38,IF(E15='liste action'!$E$39,'liste action'!$D$39,IF(E15='liste action'!$E$40,'liste action'!$D$40,IF(E15='liste action'!$E$41,'liste action'!$D$41,IF(E15='liste action'!$E$42,'liste action'!$D$42,IF(E15='liste action'!$E$43,'liste action'!$D$43,IF(E15='liste action'!$E$44,'liste action'!$D$44,IF(E15='liste action'!$E$45,'liste action'!$D$45,IF(E15='liste action'!$E$46,'liste action'!$D$46,IF(E15='liste action'!$E$47,'liste action'!$D$47,IF(E15='liste action'!$E$48,'liste action'!$D$48,IF(E15='liste action'!$E$49,'liste action'!$D$49,IF(E15='liste action'!$E$50,'liste action'!$D$50,IF(E15='liste action'!$E$51,'liste action'!$D$51,IF(E15='liste action'!$E$52,'liste action'!$D$52,IF(E15='liste action'!$E$53,'liste action'!$D$53,IF(E15='liste action'!$E$54,'liste action'!$D$54,IF(E15='liste action'!$E$55,'liste action'!$D$55,IF(E15='liste action'!$E$56,'liste action'!$D$56,IF(E15='liste action'!$E$57,'liste action'!$D$57,IF(E15='liste action'!$E$58,'liste action'!$D$58,IF(E15='liste action'!$E$59,'liste action'!$D$59,IF(E15='liste action'!$E$60,'liste action'!$D$60,IF(E15='liste action'!$E$61,'liste action'!$D$61,IF(E15='liste action'!$E$62,'liste action'!$D$62,IF(E15='liste action'!$E$63,'liste action'!$D$63,IF(E15='liste action'!$E$64,'liste action'!$D$64,""))))))))))))))))))))))))))))))))))))))))))))))))))))))))))))))) -> V11 | AH15: =CONCATENATE(AE15,AF15,AG15) -> IDNOF03V11 | AI15: =K15 -> 3 | AJ15: =N15 -> 3 | AK15: =L15 -> 0.7 | AL15: =O15 -> 0 | AM15: =M15 -> 0 | AN15: =P15 -> 0.7 | AO15: =SUM(AI15:AN15) -> 7.4 | AP15: =IF(D15="T",2,IF(D15="CP",0,IF(D15="TF",2,IF(D15="TM",0,IF(D15="JF",0,IF(D15="RTT",0,IF(D15="JNT",0,"0"))))))) -> 0 | AQ15: =IF(E15="T",3,IF(E15="CP",0,IF(E15="TF",3,IF(E15="TM",0,IF(E15="JF",0,IF(E15="RTT",0,IF(E15="JNT",0,"0"))))))) -> 0 | AR15: =AP15+AQ15 -> 0 | AS15: =IF(AR15=5,$AS$7,IF(AR15=2,$AS$8,IF(AR15=3,$AS$9,IF(AR15=0,#REF!)))) -> #REF! | AT15: =IF(AND(D15="CP",E15="CP"),1,IF(AND(D15="CP",E15<>"CP"),0.5,IF(AND(D15<>"CP",E15="CP"),0.5,0))) -> 0 | AU15: =IF(D15="RTT",0.5,0) -> 0 | AV15: =IF(E15="RTT",0.5,0) -> 0 | AW15: =SUM(AU15:AV15) -> 0 | AX15: =IF(D15="TM",0.5,0) -> 0 | AY15: =IF(E15="TM",0.5,0) -> 0 | AZ15: =SUM(AX15:AY15) -> 0 | BA15: =AZ15/1547*17 -> 0
B16: Jeudi | C16: 43468 | D16: VEF FC DDP | E16: FLE | K16: 0 | L16: 0 | M16: 3.7 | N16: 0 | O16: 0 | P16: 3.7 | Q16: =SUM(K16:P16) -> 7.4 | S16: =IF(C16="","",IF(D16="","",AW16)) -> 0 | T16: =IF(C16="","",IF(D16="","",AT16)) -> 0 | Z16: =W16+X16+Y16 -> 0 | AA16: =IF(H16="",LEFT($F$2,3),H16) -> IDN | AB16: =IF(AC16='liste action'!$D$2,'liste action'!$C$2,IF(AC16='liste action'!$D$3,'liste action'!$C$3,IF(AC16='liste action'!$D$4,'liste action'!$C$4,IF(AC16='liste action'!$D$5,'liste action'!$C$5,IF(AC16='liste action'!$D$6,'liste action'!$C$6,IF(AC16='liste action'!$D$7,'liste action'!$C$7,IF(AC16='liste action'!$D$8,'liste action'!$C$8,IF(AC16='liste action'!$D$9,'liste action'!$C$9,IF(AC16='liste action'!$D$10,'liste action'!$C$10,IF(AC16='liste action'!$D$11,'liste action'!$C$11,IF(AC16='liste action'!$D$12,'liste action'!$C$12,IF(AC16='liste action'!$D$13,'liste action'!$C$13,IF(AC16='liste action'!$D$14,'liste action'!$C$14,IF(AC16='liste action'!$D$15,'liste action'!$C$15,IF(AC16='liste action'!$D$16,'liste action'!$C$16,IF(AC16='liste action'!$D$17,'liste action'!$C$17,IF(AC16='liste action'!$D$18,'liste action'!$C$18,IF(AC16='liste action'!$D$19,'liste action'!$C$19,IF(AC16='liste action'!$D$20,'liste action'!$C$20,IF(AC16='liste action'!$D$21,'liste action'!$C$21,IF(AC16='liste action'!$D$22,'liste action'!$C$22,IF(AC16='liste action'!$D$23,'liste action'!$C$23,IF(AC16='liste action'!$D$24,'liste action'!$C$24,IF(AC16='liste action'!$D$25,'liste action'!$C$25,IF(AC16='liste action'!$D$26,'liste action'!$C$26,IF(AC16='liste action'!$D$27,'liste action'!$C$27,IF(AC16='liste action'!$D$28,'liste action'!$C$28,IF(AC16='liste action'!$D$29,'liste action'!$C$29,IF(AC16='liste action'!$D$30,'liste action'!$C$30,IF(AC16='liste action'!$D$31,'liste action'!$C$31,IF(AC16='liste action'!$D$32,'liste action'!$C$32,IF(AC16='liste action'!$D$33,'liste action'!$C$33,IF(AC16='liste action'!$D$34,'liste action'!$C$34,IF(AC16='liste action'!$D$35,'liste action'!$C$35,IF(AC16='liste action'!$D$36,'liste action'!$C$36,IF(AC16='liste action'!$D$37,'liste action'!$C$37,IF(AC16='liste action'!$D$38,'liste action'!$C$38,IF(AC16='liste action'!$D$39,'liste action'!$C$39,IF(AC16='liste action'!$D$40,'liste action'!$C$40,IF(AC16='liste action'!$D$41,'liste action'!$C$41,IF(AC16='liste action'!$D$42,'liste action'!$C$42,IF(AC16='liste action'!$D$43,'liste action'!$C$43,IF(AC16='liste action'!$D$44,'liste action'!$C$44,IF(AC16='liste action'!$D$45,'liste action'!$C$45,IF(AC16='liste action'!$D$46,'liste action'!$C$46,IF(AC16='liste action'!$D$47,'liste action'!$C$47,IF(AC16='liste action'!$D$48,'liste action'!$C$48,IF(AC16='liste action'!$D$49,'liste action'!$C$49,IF(AC16='liste action'!$D$50,'liste action'!$C$50,IF(AC16='liste action'!$D$51,'liste action'!$C$51,IF(AC16='liste action'!$D$52,'liste action'!$C$52,IF(AC16='liste action'!$D$53,'liste action'!$C$53,IF(AC16='liste action'!$D$54,'liste action'!$C$54,IF(AC16='liste action'!$D$55,'liste action'!$C$55,IF(AC16='liste action'!$D$56,'liste action'!$C$56,IF(AC16='liste action'!$D$57,'liste action'!$C$57,IF(AC16='liste action'!$D$58,'liste action'!$C$58,IF(AC16='liste action'!$D$59,'liste action'!$C$59,IF(AC16='liste action'!$D$60,'liste action'!$C$60,IF(AC16='liste action'!$D$61,'liste action'!$C$61,IF(AC16='liste action'!$D$62,'liste action'!$C$62,IF(AC16='liste action'!$D$63,'liste action'!$C$63,IF(AC16='liste action'!$D$64,'liste action'!$C$64,""))))))))))))))))))))))))))))))))))))))))))))))))))))))))))))))) -> OF03 | AC16: =IF(D16='liste action'!$E$2,'liste action'!$D$2,IF(D16='liste action'!$E$3,'liste action'!$D$3,IF(D16='liste action'!$E$4,'liste action'!$D$4,IF(D16='liste action'!$E$5,'liste action'!$D$5,IF(D16='liste action'!$E$6,'liste action'!$D$6,IF(D16='liste action'!$E$7,'liste action'!$D$7,IF(D16='liste action'!$E$8,'liste action'!$D$8,IF(D16='liste action'!$E$9,'liste action'!$D$9,IF(D16='liste action'!$E$10,'liste action'!$D$10,IF(D16='liste action'!$E$11,'liste action'!$D$11,IF(D16='liste action'!$E$12,'liste action'!$D$12,IF(D16='liste action'!$E$13,'liste action'!$D$13,IF(D16='liste action'!$E$14,'liste action'!$D$14,IF(D16='liste action'!$E$15,'liste action'!$D$15,IF(D16='liste action'!$E$16,'liste action'!$D$16,IF(D16='liste action'!$E$17,'liste action'!$D$17,IF(D16='liste action'!$E$18,'liste action'!$D$18,IF(D16='liste action'!$E$19,'liste action'!$D$19,IF(D16='liste action'!$E$20,'liste action'!$D$20,IF(D16='liste action'!$E$21,'liste action'!$D$21,IF(D16='liste action'!$E$22,'liste action'!$D$22,IF(D16='liste action'!$E$23,'liste action'!$D$23,IF(D16='liste action'!$E$24,'liste action'!$D$24,IF(D16='liste action'!$E$25,'liste action'!$D$25,IF(D16='liste action'!$E$26,'liste action'!$D$26,IF(D16='liste action'!$E$27,'liste action'!$D$27,IF(D16='liste action'!$E$28,'liste action'!$D$28,IF(D16='liste action'!$E$29,'liste action'!$D$29,IF(D16='liste action'!$E$30,'liste action'!$D$30,IF(D16='liste action'!$E$31,'liste action'!$D$31,IF(D16='liste action'!$E$32,'liste action'!$D$32,IF(D16='liste action'!$E$33,'liste action'!$D$33,IF(D16='liste action'!$E$34,'liste action'!$D$34,IF(D16='liste action'!$E$35,'liste action'!$D$35,IF(D16='liste action'!$E$36,'liste action'!$D$36,IF(D16='liste action'!$E$37,'liste action'!$D$37,IF(D16='liste action'!$E$38,'liste action'!$D$38,IF(D16='liste action'!$E$39,'liste action'!$D$39,IF(D16='liste action'!$E$40,'liste action'!$D$40,IF(D16='liste action'!$E$41,'liste action'!$D$41,IF(D16='liste action'!$E$42,'liste action'!$D$42,IF(D16='liste action'!$E$43,'liste action'!$D$43,IF(D16='liste action'!$E$44,'liste action'!$D$44,IF(D16='liste action'!$E$45,'liste action'!$D$45,IF(D16='liste action'!$E$46,'liste action'!$D$46,IF(D16='liste action'!$E$47,'liste action'!$D$47,IF(D16='liste action'!$E$48,'liste action'!$D$48,IF(D16='liste action'!$E$49,'liste action'!$D$49,IF(D16='liste action'!$E$50,'liste action'!$D$50,IF(D16='liste action'!$E$51,'liste action'!$D$51,IF(D16='liste action'!$E$52,'liste action'!$D$52,IF(D16='liste action'!$E$53,'liste action'!$D$53,IF(D16='liste action'!$E$54,'liste action'!$D$54,IF(D16='liste action'!$E$55,'liste action'!$D$55,IF(D16='liste action'!$E$56,'liste action'!$D$56,IF(D16='liste action'!$E$57,'liste action'!$D$57,IF(D16='liste action'!$E$58,'liste action'!$D$58,IF(D16='liste action'!$E$59,'liste action'!$D$59,IF(D16='liste action'!$E$60,'liste action'!$D$60,IF(D16='liste action'!$E$61,'liste action'!$D$61,IF(D16='liste action'!$E$62,'liste action'!$D$62,IF(D16='liste action'!$E$63,'liste action'!$D$63,IF(D16='liste action'!$E$64,'liste action'!$D$64,""))))))))))))))))))))))))))))))))))))))))))))))))))))))))))))))) -> V11 | AD16: =CONCATENATE(AA16,AB16,AC16) -> IDNOF03V11 | AE16: =IF(I16="",LEFT($F$2,3),I16) -> IDN | AF16: =IF(AG16='liste action'!$D$2,'liste action'!$C$2,IF(AG16='liste action'!$D$3,'liste action'!$C$3,IF(AG16='liste action'!$D$4,'liste action'!$C$4,IF(AG16='liste action'!$D$5,'liste action'!$C$5,IF(AG16='liste action'!$D$6,'liste action'!$C$6,IF(AG16='liste action'!$D$7,'liste action'!$C$7,IF(AG16='liste action'!$D$8,'liste action'!$C$8,IF(AG16='liste action'!$D$9,'liste action'!$C$9,IF(AG16='liste action'!$D$10,'liste action'!$C$10,IF(AG16='liste action'!$D$11,'liste action'!$C$11,IF(AG16='liste action'!$D$12,'liste action'!$C$12,IF(AG16='liste action'!$D$13,'liste action'!$C$13,IF(AG16='liste action'!$D$14,'liste action'!$C$14,IF(AG16='liste action'!$D$15,'liste action'!$C$15,IF(AG16='liste action'!$D$16,'liste action'!$C$16,IF(AG16='liste action'!$D$17,'liste action'!$C$17,IF(AG16='liste action'!$D$18,'liste action'!$C$18,IF(AG16='liste action'!$D$19,'liste action'!$C$19,IF(AG16='liste action'!$D$20,'liste action'!$C$20,IF(AG16='liste action'!$D$21,'liste action'!$C$21,IF(AG16='liste action'!$D$22,'liste action'!$C$22,IF(AG16='liste action'!$D$23,'liste action'!$C$23,IF(AG16='liste action'!$D$24,'liste action'!$C$24,IF(AG16='liste action'!$D$25,'liste action'!$C$25,IF(AG16='liste action'!$D$26,'liste action'!$C$26,IF(AG16='liste action'!$D$27,'liste action'!$C$27,IF(AG16='liste action'!$D$28,'liste action'!$C$28,IF(AG16='liste action'!$D$29,'liste action'!$C$29,IF(AG16='liste action'!$D$30,'liste action'!$C$30,IF(AG16='liste action'!$D$31,'liste action'!$C$31,IF(AG16='liste action'!$D$32,'liste action'!$C$32,IF(AG16='liste action'!$D$33,'liste action'!$C$33,IF(AG16='liste action'!$D$34,'liste action'!$C$34,IF(AG16='liste action'!$D$35,'liste action'!$C$35,IF(AG16='liste action'!$D$36,'liste action'!$C$36,IF(AG16='liste action'!$D$37,'liste action'!$C$37,IF(AG16='liste action'!$D$38,'liste action'!$C$38,IF(AG16='liste action'!$D$39,'liste action'!$C$39,IF(AG16='liste action'!$D$40,'liste action'!$C$40,IF(AG16='liste action'!$D$41,'liste action'!$C$41,IF(AG16='liste action'!$D$42,'liste action'!$C$42,IF(AG16='liste action'!$D$43,'liste action'!$C$43,IF(AG16='liste action'!$D$44,'liste action'!$C$44,IF(AG16='liste action'!$D$45,'liste action'!$C$45,IF(AG16='liste action'!$D$46,'liste action'!$C$46,IF(AG16='liste action'!$D$47,'liste action'!$C$47,IF(AG16='liste action'!$D$48,'liste action'!$C$48,IF(AG16='liste action'!$D$49,'liste action'!$C$49,IF(AG16='liste action'!$D$50,'liste action'!$C$50,IF(AG16='liste action'!$D$51,'liste action'!$C$51,IF(AG16='liste action'!$D$52,'liste action'!$C$52,IF(AG16='liste action'!$D$53,'liste action'!$C$53,IF(AG16='liste action'!$D$54,'liste action'!$C$54,IF(AG16='liste action'!$D$55,'liste action'!$C$55,IF(AG16='liste action'!$D$56,'liste action'!$C$56,IF(AG16='liste action'!$D$57,'liste action'!$C$57,IF(AG16='liste action'!$D$58,'liste action'!$C$58,IF(AG16='liste action'!$D$59,'liste action'!$C$59,IF(AG16='liste action'!$D$60,'liste action'!$C$60,IF(AG16='liste action'!$D$61,'liste action'!$C$61,IF(AG16='liste action'!$D$62,'liste action'!$C$62,IF(AG16='liste action'!$D$63,'liste action'!$C$63,IF(AG16='liste action'!$D$64,'liste action'!$C$64,""))))))))))))))))))))))))))))))))))))))))))))))))))))))))))))))) -> OF04 | AG16: =IF(E16='liste action'!$E$2,'liste action'!$D$2,IF(E16='liste action'!$E$3,'liste action'!$D$3,IF(E16='liste action'!$E$4,'liste action'!$D$4,IF(E16='liste action'!$E$5,'liste action'!$D$5,IF(E16='liste action'!$E$6,'liste action'!$D$6,IF(E16='liste action'!$E$7,'liste action'!$D$7,IF(E16='liste action'!$E$8,'liste action'!$D$8,IF(E16='liste action'!$E$9,'liste action'!$D$9,IF(E16='liste action'!$E$10,'liste action'!$D$10,IF(E16='liste action'!$E$11,'liste action'!$D$11,IF(E16='liste action'!$E$12,'liste action'!$D$12,IF(E16='liste action'!$E$13,'liste action'!$D$13,IF(E16='liste action'!$E$14,'liste action'!$D$14,IF(E16='liste action'!$E$15,'liste action'!$D$15,IF(E16='liste action'!$E$16,'liste action'!$D$16,IF(E16='liste action'!$E$17,'liste action'!$D$17,IF(E16='liste action'!$E$18,'liste action'!$D$18,IF(E16='liste action'!$E$19,'liste action'!$D$19,IF(E16='liste action'!$E$20,'liste action'!$D$20,IF(E16='liste action'!$E$21,'liste action'!$D$21,IF(E16='liste action'!$E$22,'liste action'!$D$22,IF(E16='liste action'!$E$23,'liste action'!$D$23,IF(E16='liste action'!$E$24,'liste action'!$D$24,IF(E16='liste action'!$E$25,'liste action'!$D$25,IF(E16='liste action'!$E$26,'liste action'!$D$26,IF(E16='liste action'!$E$27,'liste action'!$D$27,IF(E16='liste action'!$E$28,'liste action'!$D$28,IF(E16='liste action'!$E$29,'liste action'!$D$29,IF(E16='liste action'!$E$30,'liste action'!$D$30,IF(E16='liste action'!$E$31,'liste action'!$D$31,IF(E16='liste action'!$E$32,'liste action'!$D$32,IF(E16='liste action'!$E$33,'liste action'!$D$33,IF(E16='liste action'!$E$34,'liste action'!$D$34,IF(E16='liste action'!$E$35,'liste action'!$D$35,IF(E16='liste action'!$E$36,'liste action'!$D$36,IF(E16='liste action'!$E$37,'liste action'!$D$37,IF(E16='liste action'!$E$38,'liste action'!$D$38,IF(E16='liste action'!$E$39,'liste action'!$D$39,IF(E16='liste action'!$E$40,'liste action'!$D$40,IF(E16='liste action'!$E$41,'liste action'!$D$41,IF(E16='liste action'!$E$42,'liste action'!$D$42,IF(E16='liste action'!$E$43,'liste action'!$D$43,IF(E16='liste action'!$E$44,'liste action'!$D$44,IF(E16='liste action'!$E$45,'liste action'!$D$45,IF(E16='liste action'!$E$46,'liste action'!$D$46,IF(E16='liste action'!$E$47,'liste action'!$D$47,IF(E16='liste action'!$E$48,'liste action'!$D$48,IF(E16='liste action'!$E$49,'liste action'!$D$49,IF(E16='liste action'!$E$50,'liste action'!$D$50,IF(E16='liste action'!$E$51,'liste action'!$D$51,IF(E16='liste action'!$E$52,'liste action'!$D$52,IF(E16='liste action'!$E$53,'liste action'!$D$53,IF(E16='liste action'!$E$54,'liste action'!$D$54,IF(E16='liste action'!$E$55,'liste action'!$D$55,IF(E16='liste action'!$E$56,'liste action'!$D$56,IF(E16='liste action'!$E$57,'liste action'!$D$57,IF(E16='liste action'!$E$58,'liste action'!$D$58,IF(E16='liste action'!$E$59,'liste action'!$D$59,IF(E16='liste action'!$E$60,'liste action'!$D$60,IF(E16='liste action'!$E$61,'liste action'!$D$61,IF(E16='liste action'!$E$62,'liste action'!$D$62,IF(E16='liste action'!$E$63,'liste action'!$D$63,IF(E16='liste action'!$E$64,'liste action'!$D$64,""))))))))))))))))))))))))))))))))))))))))))))))))))))))))))))))) -> F11 | AH16: =CONCATENATE(AE16,AF16,AG16) -> IDNOF04F11 | AI16: =K16 -> 0 | AJ16: =N16 -> 0 | AK16: =L16 -> 0 | AL16: =O16 -> 0 | AM16: =M16 -> 3.7 | AN16: =P16 -> 3.7 | AO16: =SUM(AI16:AN16) -> 7.4 | AP16: =IF(D16="T",2,IF(D16="CP",0,IF(D16="TF",2,IF(D16="TM",0,IF(D16="JF",0,IF(D16="RTT",0,IF(D16="JNT",0,"0"))))))) -> 0 | AQ16: =IF(E16="T",3,IF(E16="CP",0,IF(E16="TF",3,IF(E16="TM",0,IF(E16="JF",0,IF(E16="RTT",0,IF(E16="JNT",0,"0"))))))) -> 0 | AR16: =AP16+AQ16 -> 0 | AS16: =IF(AR16=5,$AS$7,IF(AR16=2,$AS$8,IF(AR16=3,$AS$9,IF(AR16=0,#REF!)))) -> #REF! | AT16: =IF(AND(D16="CP",E16="CP"),1,IF(AND(D16="CP",E16<>"CP"),0.5,IF(AND(D16<>"CP",E16="CP"),0.5,0))) -> 0 | AU16: =IF(D16="RTT",0.5,0) -> 0 | AV16: =IF(E16="RTT",0.5,0) -> 0 | AW16: =SUM(AU16:AV16) -> 0 | AX16: =IF(D16="TM",0.5,0) -> 0 | AY16: =IF(E16="TM",0.5,0) -> 0 | AZ16: =SUM(AX16:AY16) -> 0 | BA16: =AZ16/1547*17 -> 0
