Workbook

Sheet Ratio dépannage
AA1: =SUM(Z:Z) -> 4277.3757
Y4: =IF(Tableau!K262="oui",VLOOKUP(Tableau!I262,Tableau!I262:K415,1,FALSE),"") -> 120 | Z4: =IF(Y4="","",Y4*1) -> 120
Y5: =IF(Tableau!K263="oui",VLOOKUP(Tableau!I263,Tableau!I263:K416,1,FALSE),"") -> 60 | Z5: =IF(Y5="","",Y5*1) -> 60
Y6: =IF(Tableau!K264="oui",VLOOKUP(Tableau!I264,Tableau!I264:K417,1,FALSE),"") -> 30 | Z6: =IF(Y6="","",Y6*1) -> 30
Y7: =IF(Tableau!K265="oui",VLOOKUP(Tableau!I265,Tableau!I265:K418,1,FALSE),"") -> 60 | Z7: =IF(Y7="","",Y7*1) -> 60
Y8: =IF(Tableau!K266="oui",VLOOKUP(Tableau!I266,Tableau!I266:K419,1,FALSE),"") -> 30 | Z8: =IF(Y8="","",Y8*1) -> 30
Y9: =IF(Tableau!K267="oui",VLOOKUP(Tableau!I267,Tableau!I267:K420,1,FALSE),"") -> 60 | Z9: =IF(Y9="","",Y9*1) -> 60
Y10: =IF(Tableau!K268="oui",VLOOKUP(Tableau!I268,Tableau!I268:K421,1,FALSE),"") | Z10: =IF(Y10="","",Y10*1)
Y11: =IF(Tableau!K269="oui",VLOOKUP(Tableau!I269,Tableau!I269:K422,1,FALSE),"") -> 60 | Z11: =IF(Y11="","",Y11*1) -> 60
Y12: =IF(Tableau!K270="oui",VLOOKUP(Tableau!I270,Tableau!I270:K423,1,FALSE),"") -> 30 | Z12: =IF(Y12="","",Y12*1) -> 30
Y13: =IF(Tableau!K271="oui",VLOOKUP(Tableau!I271,Tableau!I271:K424,1,FALSE),"") -> 30 | Z13: =IF(Y13="","",Y13*1) -> 30
Y14: =IF(Tableau!K272="oui",VLOOKUP(Tableau!I272,Tableau!I272:K425,1,FALSE),"") | Z14: =IF(Y14="","",Y14*1)
A15: Temps d'intervention préventif/amélioratif | B15: =B17-B16 -> -4275.0875 | Y15: =IF(Tableau!K273="oui",VLOOKUP(Tableau!I273,Tableau!I273:K426,1,FALSE),"") -> 30 | Z15: =IF(Y15="","",Y15*1) -> 30
A16: Temps d'intervention total de dépannage | B16: =AA1 -> 4277.3757 | Y16: =IF(Tableau!K274="oui",VLOOKUP(Tableau!I274,Tableau!I274:K427,1,FALSE),"") -> 30 | Z16: =IF(Y16="","",Y16*1) -> 30
A17: Temps total d'intervention | B17: =SUBTOTAL(109,Tableau!I14:I100000) -> 2.2881944 | Y17: =IF(Tableau!K275="oui",VLOOKUP(Tableau!I275,Tableau!I275:K428,1,FALSE),"") -> 30 | Z17: =IF(Y17="","",Y17*1) -> 30
Y18: =IF(Tableau!K276="oui",VLOOKUP(Tableau!I276,Tableau!I276:K429,1,FALSE),"") | Z18: =IF(Y18="","",Y18*1)
Y19: =IF(Tableau!K277="oui",VLOOKUP(Tableau!I277,Tableau!I277:K430,1,FALSE),"") | Z19: =IF(Y19="","",Y19*1)
Y20: =IF(Tableau!K278="oui",VLOOKUP(Tableau!I278,Tableau!I278:K431,1,FALSE),"") | Z20: =IF(Y20="","",Y20*1)
Y21: =IF(Tableau!K279="oui",VLOOKUP(Tableau!I279,Tableau!I279:K432,1,FALSE),"") -> 15 | Z21: =IF(Y21="","",Y21*1) -> 15
Y22: =IF(Tableau!K280="oui",VLOOKUP(Tableau!I280,Tableau!I280:K433,1,FALSE),"") -> 210 | Z22: =IF(Y22="","",Y22*1) -> 210
Y23: =IF(Tableau!K281="oui",VLOOKUP(Tableau!I281,Tableau!I281:K434,1,FALSE),"") | Z23: =IF(Y23="","",Y23*1)
Y24: =IF(Tableau!K282="oui",VLOOKUP(Tableau!I282,Tableau!I282:K435,1,FALSE),"") | Z24: =IF(Y24="","",Y24*1)
Y25: =IF(Tableau!K283="oui",VLOOKUP(Tableau!I283,Tableau!I283:K436,1,FALSE),"") | Z25: =IF(Y25="","",Y25*1)
Y26: =IF(Tableau!K284="oui",VLOOKUP(Tableau!I284,Tableau!I284:K437,1,FALSE),"") | Z26: =IF(Y26="","",Y26*1)
Y27: =IF(Tableau!K285="oui",VLOOKUP(Tableau!I285,Tableau!I285:K438,1,FALSE),"") | Z27: =IF(Y27="","",Y27*1)
Y28: =IF(Tableau!K286="oui",VLOOKUP(Tableau!I286,Tableau!I286:K439,1,FALSE),"") | Z28: =IF(Y28="","",Y28*1)
Y29: =IF(Tableau!K287="oui",VLOOKUP(Tableau!I287,Tableau!I287:K440,1,FALSE),"") | Z29: =IF(Y29="","",Y29*1)
... Y1000: =IF(Tableau!K1258="oui",VLOOKUP(Tableau!I1258,Tableau!I1258:K1411,1,FALSE),"") | Z1000: =IF(Y1000="","",Y1000*1)

Sheet Tableau
Q8: Temps d'intervention non lié a l'automatisme
A13: Semaine | B13: 43451 | C13: Equipement | D13: Atelier | E13: Centre de charge | F13: Description | G13: Technicien | H13: N°DI | I13: Temps d'intervention | J13: Problème automatisme | K13: Dépannage | L13: Demandeur
A14: =IF(B14="","",_xlfn.ISOWEEKNUM(B14)) -> 37 | B14: 43357 | C14: M_COMMITROL | D14: FRUITS | E14: 20302 | F14: demarrage comitrol | G14: L.LOUVET | I14: 15 | J14: non | K14: oui
A15: =IF(B15="","",_xlfn.ISOWEEKNUM(B15)) -> 35 | B15: 43340 | C15: M_HOT_BREACK | D15: FRUITS | E15: 20302 | F15: la pompe ne demarre pas , phase coupée dans moteur+ sectionneu rpas bien enclenché | G15: L.LOUVET | I15: 100 | J15: non | K15: oui
A16: =IF(B16="","",_xlfn.ISOWEEKNUM(B16)) -> 35 | B16: 43341 | C16: M_LIGNE 8 | D16: PRODUCTION | E16: 20304 | F16: changement poulie refroidisseur 1 | G16: L.LOUVET | I16: 100 | J16: non | K16: oui
A17: =IF(B17="","",_xlfn.ISOWEEKNUM(B17)) -> 35 | B17: 43341 | C17: M_HOT_BREACK | D17: FRUITS | E17: 20302 | F17: sectionneur + capteur pompe | G17: L.LOUVET | I17: 30 | J17: non | K17: oui
A18: =IF(B18="","",_xlfn.ISOWEEKNUM(B18)) -> 35 | B18: 43341 | C18: M_BROYEUR 1 | D18: FRUITS | E18: 20302 | F18: ne fonctionne plus | G18: L.LOUVET | I18: 30 | J18: non | K18: oui
A19: =IF(B19="","",_xlfn.ISOWEEKNUM(B19)) -> 35 | B19: 43341 | C19: M_URCHELL 1 | D19: FRUITS | E19: 20302 | F19: redressage goulotte pour capteurs ok | G19: L.LOUVET | I19: 30 | J19: non | K19: oui
A20: =IF(B20="","",_xlfn.ISOWEEKNUM(B20)) -> 35 | B20: 43343 | C20: M_CIP LIGNE 1 | D20: CIP | E20: 20301 | F20: chargement tourne en continu | G20: L.LOUVET | I20: 15 | J20: non | K20: oui
A21: =IF(B21="","",_xlfn.ISOWEEKNUM(B21)) -> 35 | B21: 43343 | C21: M_HOT_BREACK | D21: FRUITS | E21: 20302 | F21: changement capteur verin hachoir | G21: L.LOUVET | I21: 60 | J21: non | K21: oui
A22: =IF(B22="","",_xlfn.ISOWEEKNUM(B22)) -> 35 | B22: 43343 | C22: M_LIGNE 4 | D22: PRODUCTION | E22: 20304 | F22: resserage vanne fond ref 2 | G22: L.LOUVET | I22: 20 | J22: non | K22: oui
A23: =IF(B23="","",_xlfn.ISOWEEKNUM(B23)) -> 37 | B23: 43355 | C23: M_LIGNE 2 | D23: PRODUCTION | E23: 20304 | F23: remplacement joint tuyeau ster col | G23: G.DELANOUE | I23: 30 | J23: non | K23: oui
A24: =IF(B24="","",_xlfn.ISOWEEKNUM(B24)) -> 36 | B24: 43346 | C24: M_ECRASE_FUT | D24: FRUITS | E24: 20302 | F24: disjoncté | G24: G.DELANOUE | I24: 15 | J24: non | K24: oui
A25: =IF(B25="","",_xlfn.ISOWEEKNUM(B25)) -> 36 | B25: 43347 | C25: M_MONTE CHARGE | D25: FRUITS | E25: 20302 | F25: réglage cellule | G25: G.DELANOUE | I25: 30 | J25: non | K25: Oui
... A71: =IF(B71="","",_xlfn.ISOWEEKNUM(B71)) -> 37 | B71: 43354 | C71: M_SUCRE CRISTAL | D71: PRODUCTION | E71: 20304 | F71: Demontage nettoyage remontage | G71: A.AVRIL | I71: 540 | J71: Non | K71: Oui
A72: =IF(B72="","",_xlfn.ISOWEEKNUM(B72)) -> 37 | B72: 43355 | C72: M_EAU USÉE | D72: ENERGIE | E72: 20308 | F72: remplacement hydro injecteur | G72: A.AVRIL | I72: 180 | J72: Non | K72: Oui
A73: =IF(B73="","",_xlfn.ISOWEEKNUM(B73)) -> 37 | B73: 43356 | C73: M_LIGNE 6 | D73: PRODUCTION | E73: 20304 | F73: recherche panne disjonction 24v | G73: L.LOUVET | I73: 120 | J73: Non | K73: Non
A74: =IF(B74="","",_xlfn.ISOWEEKNUM(B74)) -> 37 | B74: 43355 | C74: M_TABLE ELEVATRICE 1 | D74: FRUITS | E74: 20302 | F74: remise en etat table cable hs | G74: L.LOUVET | I74: 120 | J74: Non | K74: Non
A75: =IF(B75="","",_xlfn.ISOWEEKNUM(B75)) -> 37 | B75: 43355 | C75: M_LIGNE 2 | D75: PRODUCTION | E75: 20304 | F75: demontage vanne fond ref2 pour recup embout karcher | G75: L.LOUVET | I75: 120 | J75: Non | K75: Non
A76: =IF(B76="","",_xlfn.ISOWEEKNUM(B76)) -> 37 | B76: 43355 | C76: M_VAPEUR | D76: ENERGIE | E76: 20308 | F76: analyses | G76: L.LOUVET | I76: 120 | J76: Non | K76: Non
A77: =IF(B77="","",_xlfn.ISOWEEKNUM(B77)) -> 37 | B77: 43355 | C77: STOCK MAINTENANCE | D77: MAINTENANCE | E77: 20307 | F77: magasin | G77: L.LOUVET | I77: 120 | J77: Non | K77: Non
A78: =IF(B78="","",_xlfn.ISOWEEKNUM(B78)) -> 37 | B78: 43355 | C78: M_MAINTENANCE | D78: MAINTENANCE | E78: 20307 | F78: nettoyage | G78: L.LOUVET | I78: 120 | J78: Non | K78: Non
A79: =IF(B79="","",_xlfn.ISOWEEKNUM(B79)) -> 37 | B79: 43355 | C79: M_LIGNE 5 | D79: PRODUCTION | E79: 20304 | F79: eau micro eau nettoy ref 1 | G79: L.LOUVET | I79: 120 | J79: Oui | K79: Non
A80: =IF(B80="","",_xlfn.ISOWEEKNUM(B80)) -> 37 | B80: 43357 | C80: M_LIGNE 3 | D80: PRODUCTION | E80: 20304 | F80: RAYON X NETTOYAGE | G80: A.BENBACHIR | I80: 30 | J80: Non | K80: Oui
A81: =IF(B81="","",_xlfn.ISOWEEKNUM(B81)) -> 37 | B81: 43357 | C81: M_SUCRE CRISTAL | D81: PRODUCTION | E81: 20304 | F81: NETTOYAGE ZONE SILO | G81: A.BENBACHIR | I81: 30 | J81: Non | K81: Non
A82: =IF(B82="","",_xlfn.ISOWEEKNUM(B82)) -> 37 | B82: 43357 | C82: M_LIGNE 5 | D82: PRODUCTION | E82: 20304 | F82: SIROP BOUCHER | G82: A.BENBACHIR | I82: 60 | J82: Non | K82: Oui
A83: =IF(B83="","",_xlfn.ISOWEEKNUM(B83)) -> 37 | B83: 43357 | C83: M_BROYEUR 1 | D83: FRUITS | E83: 20302 | F83: TABLETTE EN PLASTIC BLEU COICER SUR COUTEAUX | G83: A.BENBACHIR | I83: 60 | J83: Non | K83: Oui
A84: =IF(B84="","",_xlfn.ISOWEEKNUM(B84)) -> 37 | B84: 43357 | C84: M_LIGNE 5 | D84: PRODUCTION | E84: 20304 | F84: MOTEUR SIRUPEUR DISCJONTE | G84: A.BENBACHIR | I84: 30 | J84: Non | K84: Oui
... A127: =IF(B127="","",_xlfn.ISOWEEKNUM(B127)) -> 38 | B127: 43361 | C127: M_LIGNE 5 | D127: PRODUCTION | E127: 20304 | F127: mis en place d'un noveau capteur couvercle pasto et branchement + test | G127: M.BENDAHMANE | I127: 180 | J127: Non | K127: Non
A128: =IF(B128="","",_xlfn.ISOWEEKNUM(B128)) -> 38 | B128: 43361 | C128: M_LIGNE 5 | D128: PRODUCTION | E128: 20304 | G128: M.BENDAHMANE | H128: rearmement variateur vitesse agit pasto | I128: 15 | J128: Non | K128: Non
A129: =IF(B129="","",_xlfn.ISOWEEKNUM(B129)) -> 38 | B129: 43361 | C129: M_SUCRE CRISTAL | D129: PRODUCTION | E129: 20304 | F129: changement manbrane et netoyage zone sucre | G129: A.BENBACHIR | H129: rearmement variateur vitesse agit pasto | I129: 300 | J129: Non | K129: Non
A130: =IF(B130="","",_xlfn.ISOWEEKNUM(B130)) -> 38 | B130: 43361 | C130: M_LIGNE 5 | D130: PRODUCTION | E130: 20304 | F130: changement flach ref | G130: A.BENBACHIR | H130: rearmement variateur vitesse agit pasto | I130: 30 | J130: Non | K130: Non
A131: =IF(B131="","",_xlfn.ISOWEEKNUM(B131)) -> 38 | B131: 43361 | C131: ATELIER ENTRETIEN | D131: PRODUCTION | E131: 20304 | F131: rengement et netoyage atelier | G131: A.BENBACHIR | I131: 120 | J131: Non | K131: Non
A132: =IF(B132="","",_xlfn.ISOWEEKNUM(B132)) -> 38 | B132: 43361 | C132: M_LIGNE 8 | D132: PRODUCTION | E132: 20304 | F132: moteur pasto disjonte | G132: A.BENBACHIR | I132: 115 | J132: Non | K132: Oui
A133: =IF(B133="","",_xlfn.ISOWEEKNUM(B133)) -> 38 | B133: 43361 | C133: M_LIGNE 8 | D133: PRODUCTION | E133: 20304 | F133: moteu rraccleur pasto disjonte | G133: G.DELANOUE | I133: 30 | J133: Non | K133: Oui
A134: =IF(B134="","",_xlfn.ISOWEEKNUM(B134)) -> 38 | B134: 43361 | C134: M_SUCRE CRISTAL | D134: PRODUCTION | E134: 20304 | F134: réglage capteur vanne sous trémie fine1 | G134: G.DELANOUE | I134: 30 | J134: Non | K134: Oui
A135: =IF(B135="","",_xlfn.ISOWEEKNUM(B135)) -> 38 | B135: 43361 | C135: M_PORTE AUTOMATIQUE | D135: MAINTENANCE | E135: 20307 | F135: réglage capteur hauteur porte et redressage barre porte chambre fut | G135: G.DELANOUE | I135: 60 | J135: Non | K135: Oui
A136: =IF(B136="","",_xlfn.ISOWEEKNUM(B136)) -> 38 | B136: 43361 | C136: RANGEMENT/NETTOYAGE | D136: MAINTENANCE | E136: 20307 | F136: lavage sol et rengement | G136: G.DELANOUE | I136: 120 | J136: Non | K136: Non
A137: =IF(B137="","",_xlfn.ISOWEEKNUM(B137)) -> 38 | B137: 43361 | C137: M_LIGNE 3 | D137: PRODUCTION | E137: 20304 | F137: probleme capteur sécuritée vidange sir | G137: G.DELANOUE | I137: 30 | J137: Non | K137: Non
A138: =IF(B138="","",_xlfn.ISOWEEKNUM(B138)) -> 38 | B138: 43361 | C138: M_LIGNE 5 | D138: PRODUCTION | E138: 20304 | F138: remplacement flash ref 2 | G138: G.DELANOUE | I138: 30 | J138: Non | K138: Non
A139: =IF(B139="","",_xlfn.ISOWEEKNUM(B139)) -> 38 | B139: 43361 | C139: M_LIGNE 6 | D139: PRODUCTION | E139: 20304 | F139: remplacement flash ref 2 | G139: G.DELANOUE | I139: 30 | J139: Non | K139: Non
A140: =IF(B140="","",_xlfn.ISOWEEKNUM(B140)) -> 38 | B140: 43361 | C140: M_ATELIER PREPA | D140: FRUITS | E140: 20302 | F140: rremis en état satélite haute pression | G140: G.DELANOUE | I140: 30 | J140: Non | K140: Non
A141: =IF(B141="","",_xlfn.ISOWEEKNUM(B141)) -> 38 | B141: 43361 | C141: ATELIER ENTRETIEN | D141: maintenance | E141: 20302 | F141: remplacement ampoule flash | G141: G.DELANOUE | I141: 60 | J141: Non | K141: Non
A142: =IF(B142="","",_xlfn.ISOWEEKNUM(B142)) -> 38 | B142: 43361 | C142: M_LIGNE 9 | D142: PRODUCTION | E142: 20304 | F142: probleme chauffe pasto | G142: G.DELANOUE | I142: 30 | J142: Non | K142: Oui
... A250: =IF(B250="","",_xlfn.ISOWEEKNUM(B250)) -> 39 | B250: 43370 | C250: ATELIER_CIP | D250: CIP | E250: 20301 | F250: CHANGEMENT TUYAU D EAU APRES CABINE 1 ET 2 | G250: A.BENBACHIR | I250: 30 | J250: Non | K250: Non
A251: =IF(B251="","",_xlfn.ISOWEEKNUM(B251)) -> 39 | B251: 43370 | C251: ATELIER ENTRETIEN | F251: NETTOYAGE FITRE VAPEUR | G251: A.BENBACHIR | I251: 30 | J251: Non | K251: Non
A252: =IF(B252="","",_xlfn.ISOWEEKNUM(B252)) -> 39 | B252: 43370 | C252: LIGNE 8 | D252: PRODUCTION | E252: 20304 | F252: REMIS PLEIN D HUILE POMPE SOUTIRAGE | G252: A.BENBACHIR | I252: 20 | J252: Non | K252: Non
A253: =IF(B253="","",_xlfn.ISOWEEKNUM(B253)) -> 39 | B253: 43370 | C253: ELECTRICITÉ | D253: ENERGIE | E253: 20308 | F253: NETTOYAGE ZONE TGBT | G253: A.BENBACHIR | I253: 30 | J253: Non | K253: Non
A254: =IF(B254="","",_xlfn.ISOWEEKNUM(B254)) -> 39 | B254: 43370 | C254: EAU DE FORAGE | D254: ENERGIE | E254: 20308 | F254: NETTOYAGE ZONE FORAGE | G254: A BENBACHIR | I254: 60 | J254: Non | K254: Non
A255: =IF(B255="","",_xlfn.ISOWEEKNUM(B255)) -> 39 | B255: 43371 | C255: ATELIER_CIP | D255: CIP | E255: 20301 | F255: probleme ster filtre et réseau le25/09/18 | G255: G.DELANOUE | I255: 360 | J255: Non | K255: Non
A256: =IF(B256="","",_xlfn.ISOWEEKNUM(B256)) -> 39 | B256: 43371 | C256: LIGNE 3 | D256: PRODUCTION | E256: 20304 | F256: détartrage circuit ster sout 26/09/18 | G256: G.DELANOUE | I256: 180 | J256: Non | K256: Oui
A257: =IF(B257="","",_xlfn.ISOWEEKNUM(B257)) -> 39 | B257: 43371 | C257: LABORATOIRE | D257: LABORATOIRE | E257: 20317 | F257: mise en place détecteur méteaux au transfer | G257: G.DELANOUE | I257: 360 | J257: Non | K257: Non
A258: =IF(B258="","",_xlfn.ISOWEEKNUM(B258)) -> 39 | B258: 43371 | C258: RANGEMENT/NETTOYAGE | D258: MAINTENANCE | E258: 20307 | F258: NETTOYAGE ZONE COMPRESEUR | G258: A.BENBACHIR | I258: 120 | J258: Non | K258: Non
A259: =IF(B259="","",_xlfn.ISOWEEKNUM(B259)) -> 40 | B259: 43376 | C259: M_VAPEUR | D259: ENERGIE | E259: 20308 | F259: analyse chaudiere | G259: G.DELANOUE | I259: 30 | J259: non | K259: non
A260: =IF(B260="","",_xlfn.ISOWEEKNUM(B260)) -> 40 | B260: 43375 | C260: LIGNE 5 | D260: PRODUCTION | E260: 20304 | F260: DEFAUT VANNE FOND SIRUPEUR :pasD' air sur tuyau : et reglage des capteurs | G260: M.BENDAHMANE | I260: 45 | J260: Non | K260: Non
A261: =IF(B261="","",_xlfn.ISOWEEKNUM(B261)) -> 40 | B261: 43375 | C261: ATELIER PREPA | D261: FRUITS | E261: 20302 | F261: pas d'eau chaude atelier additif :chaudiere labo a l'arret remis en service!!! | G261: M.BENDAHMANE | I261: 60 | J261: Non | K261: Non
A262: =IF(B262="","",_xlfn.ISOWEEKNUM(B262)) -> 40 | B262: 43375 | C262: ATELIER_CIP | D262: CIP | E262: 20301 | F262: remis en place palette troncon a cip 1 deraillé et disjoncte et rempt chaine troncon b :cassee | G262: M.BENDAHMANE | I262: 120 | J262: Non | K262: Oui
A263: =IF(B263="","",_xlfn.ISOWEEKNUM(B263)) -> 40 | B263: 43375 | C263: MONTE CHARGE | D263: FRUITS | E263: 20302 | F263: reglage des cellules cr02 et 04 | G263: M.BENDAHMANE | I263: 60 | J263: Non | K263: Oui
... A271: =IF(B271="","",_xlfn.ISOWEEKNUM(B271)) -> 40 | B271: 43376 | C271: LIGNE 3 | D271: PRODUCTION | E271: 20304 | F271: vis sucre disjoctee:rearmement | G271: M.BENDAHMANE | I271: 30 | J271: Non | K271: Oui
A272: =IF(B272="","",_xlfn.ISOWEEKNUM(B272)) -> 40 | B272: 43376 | C272: ATELIER ENTRETIEN | F272: RANGEMENT OUTILLAGE NETTOYAGE ETABLI +SOL | G272: M.BENDAHMANE | I272: 120 | J272: Non | K272: Non
A273: =IF(B273="","",_xlfn.ISOWEEKNUM(B273)) -> 40 | B273: 43376 | C273: LIGNE 5 | D273: PRODUCTION | E273: 20304 | F273: vapeur pasto bloquée a 94° | G273: G.DELANOUE | I273: 30 | J273: Oui | K273: Oui
A274: =IF(B274="","",_xlfn.ISOWEEKNUM(B274)) -> 40 | B274: 43376 | C274: LIGNE 8 | D274: PRODUCTION | E274: 20304 | F274: resserrage vis réglette renverseur petit bidon | G274: G.DELANOUE | I274: 30 | J274: Non | K274: Oui
A275: =IF(B275="","",_xlfn.ISOWEEKNUM(B275)) -> 40 | B275: 43376 | C275: SUCRE CRISTAL | D275: PRODUCTION | E275: 20304 | F275: démontage et bettoyage sonde écluse | G275: G.DELANOUE | I275: 30 | J275: Non | K275: Oui
A276: =IF(B276="","",_xlfn.ISOWEEKNUM(B276)) -> 40 | B276: 43376 | C276: VAPEUR | D276: ENERGIE | E276: 20308 | F276: analyse | G276: G.DELANOUE | I276: 60 | J276: Non | K276: Non
A277: =IF(B277="","",_xlfn.ISOWEEKNUM(B277)) -> 40 | B277: 43376 | C277: LABORATOIRE | D277: LABORATOIRE | E277: 20317 | F277: recherche vanne eau fermée | G277: G.DELANOUE | I277: 60 | J277: Non | K277: Non
A278: =IF(B278="","",_xlfn.ISOWEEKNUM(B278)) -> 40 | B278: 43377 | C278: ATELIER ENTRETIEN | F278: REMONTAGE GARNITURE REF PAS TERMINE | G278: M.BENDAHMANE | I278: 90 | J278: Non | K278: Non
A279: =IF(B279="","",_xlfn.ISOWEEKNUM(B279)) -> 40 | B279: 43377 | C279: LIGNE 2 | D279: PRODUCTION | E279: 20304 | F279: AGIT PASTO EN DEFAUT :rearmement variateur | G279: M.BENDAHMANE | I279: 15 | J279: Non | K279: Oui
A280: =IF(B280="","",_xlfn.ISOWEEKNUM(B280)) -> 40 | B280: 43377 | C280: ATELIER_CIP | D280: CIP | E280: 20301 | F280: defaut montee en temperature ligne 1 et defaut temperature refroissement :demontage et verif filtre vapeur :propre verifeication des raccord pepsi ok remplacement sonde temperature cotainer2 ligne 2 +controle four | G280: M.BENDAHMANE | I280: 210 | J280: Non | K280: Oui
A281: =IF(B281="","",_xlfn.ISOWEEKNUM(B281)) -> 40 | B281: 43378 | C281: LIGNE 2 | D281: PRODUCTION | E281: 20304 | F281: CHANGEMENT TUYAU DE POMPE REF 1 ET REF 2 | G281: A.BENBACHIR | I281: 120 | J281: Non | K281: Non
A282: =IF(B282="","",_xlfn.ISOWEEKNUM(B282)) -> 40 | B282: 43378 | C282: LIGNE 4 | D282: PRODUCTION | E282: 20304 | F282: CHANGEMENT D HUILE POMPE 1 ET 2 | G282: A.BENBACHIR | I282: 30 | J282: Non | K282: Non
A283: =IF(B283="","",_xlfn.ISOWEEKNUM(B283)) -> 40 | B283: 43378 | C283: LIGNE 2 | D283: PRODUCTION | E283: 20304 | F283: CHANGEMENT JOINT VANNE PAP AZOTE EMBOUT 1 ET 2 | G283: M.BENDAHMANE | I283: 60 | J283: Non | K283: Non
A284: =IF(B284="","",_xlfn.ISOWEEKNUM(B284)) -> 40 | B284: 43378 | C284: LIGNE 2 | D284: PRODUCTION | E284: 20304 | F284: CHANGEMENT JOINT VANNE PAP AZOTE EMBOUT 1 ET 2 | G284: A.BENBACHIR | I284: 60 | J284: Non | K284: Non
A285: =IF(B285="","",_xlfn.ISOWEEKNUM(B285)) -> 40 | B285: 43378 | C285: LIGNE 2 | D285: PRODUCTION | E285: 20304 | F285: CHANGEMENT JIONT CLAMP COLLECTEUR 1 ET2 | G285: A.BENBACHIR | I285: 60 | J285: Non | K285: Non
A286: =IF(B286="","",_xlfn.ISOWEEKNUM(B286)) -> 40 | B286: 43378 | C286: CIP LIGNE 1 | D286: CIP | E286: 20301 | F286: TEMPS DE REFROIDISSEMENT STERILISATION PASSE A 6MN | G286: D.MUNO | I286: 300 | J286: Non | K286: Non
A287: =IF(B287="","",_xlfn.ISOWEEKNUM(B287)) -> 40 | B287: 43378 | C287: CIP LIGNE 1 | D287: CIP | E287: 20301 | F287: TEMPS DE LAVAGE PASSE A 6MN ETPAS DE RETOUR DANS LE TANK DE LAVAGE | G287: D.MUNO | I287: 600 | J287: Non | K287: Non
A288: =IF(B288="","",_xlfn.ISOWEEKNUM(B288)) -> 41 | B288: 43385 | C288: LIGNE 8 | D288: PRODUCTION | E288: 20304 | F288: vis sucre completement bloquée, | G288: L.LOUVET | I288: 60 | J288: Non | K288: Oui
A289: =IF(B289="","",_xlfn.ISOWEEKNUM(B289)) -> 41 | B289: 43385 | C289: LIGNE 3 | D289: PRODUCTION | E289: 20304 | F289: erreur manip renvoie info ref vide, debranchement des embouts trop tot | G289: L.LOUVET | I289: 60 | J289: Oui | K289: Oui
A290: =IF(B290="","",_xlfn.ISOWEEKNUM(B290)) -> 44 | B290: 43406 | C290: LIGNE 9 | D290: PRODUCTION | E290: 20304 | F290: PAS DE NUMERO CONTAINER SUR EAU MICRO BIO ET REGLAGE VITESSE RACLEUR POUR TEST | G290: M.BENDAHMANE | I290: 30 | J290: Non | K290: Oui
... A394: =IF(B394="","",_xlfn.ISOWEEKNUM(B394)) -> 44 | B394: 43404 | C394: LIGNE 5 | D394: PRODUCTION | E394: 20304 | F394: probleme point froid pasto sondes pleines d'eau | G394: L.LOUVET | I394: 60 | J394: Oui | K394: Oui
A395: =IF(B395="","",_xlfn.ISOWEEKNUM(B395)) | C395: SUCRE CRISTAL | D395: PRODUCTION | E395: 20304 | F395: resserrage maximum garniture ecluse fuite | G395: L.LOUVET | I395: 60 | J395: Oui | K395: Oui
A396: =IF(B396="","",_xlfn.ISOWEEKNUM(B396)) | C396: OUVRE BOITES | D396: FRUITS | E396: 20302 | F396: remplacement du couteau | G396: G.DELANOUE | I396: 60 | J396: non | K396: oui
A397: =IF(B397="","",_xlfn.ISOWEEKNUM(B397)) -> 44 | B397: 43403 | C397: STOCK MAINTENANCE | D397: MAINTENANCE | E397: 20307 | F397: magasin | G397: L.LOUVET | I397: 60 | J397: Oui | K397: Oui
A398: =IF(B398="","",_xlfn.ISOWEEKNUM(B398)) -> 44 | B398: 43404 | C398: SUCRE CRISTAL | D398: PRODUCTION | E398: 20304 | F398: secheur sucre +ecluse garniture | G398: L.LOUVET | I398: 60 | J398: Oui | K398: Oui
A399: =IF(B399="","",_xlfn.ISOWEEKNUM(B399)) -> 44 | B399: 43404 | C399: ATELIER_CIP | D399: CIP | E399: 20301 | F399: ligne 1 convoyeur bit tjrs a 1 | G399: L.LOUVET | I399: 60 | J399: Oui | K399: Oui
A400: =IF(B400="","",_xlfn.ISOWEEKNUM(B400)) -> 44 | B400: 43404 | C400: LIGNE 3 | D400: PRODUCTION | E400: 20304 | F400: xray nettoyag et graissage | G400: L.LOUVET | I400: 60 | J400: Oui | K400: Oui
A401: =IF(B401="","",_xlfn.ISOWEEKNUM(B401)) -> 44 | B401: 43404 | C401: LIGNE 4 | D401: PRODUCTION | E401: 20304 | F401: changement roue entrainement ref 1 | G401: M.BENDAHMANE | I401: 120 | J401: Oui | K401: Oui
A402: =IF(B402="","",_xlfn.ISOWEEKNUM(B402)) -> 44 | B402: 43404 | C402: STOCK MAINTENANCE | D402: MAINTENANCE | E402: 20307 | F402: magasin | G402: L.LOUVET | I402: 60 | J402: Oui | K402: Oui
A403: =IF(B403="","",_xlfn.ISOWEEKNUM(B403)) -> 44 | B403: 43405 | C403: ATELIER_CIP | D403: CIP | E403: 20301 | F403: DEMARRAGE STERFILTRE | G403: M.BENDAHMANE | I403: 30 | J403: Non | K403: Oui
A404: =IF(B404="","",_xlfn.ISOWEEKNUM(B404)) -> 44 | B404: 43405 | C404: BROYEUR 1 | D404: FRUITS | E404: 20302 | F404: REMPT BOUTON ARRET URGENCE | G404: M.BENDAHMANE | I404: 30 | J404: Non | K404: Oui
A405: =IF(B405="","",_xlfn.ISOWEEKNUM(B405)) -> 44 | B405: 43405 | C405: LIGNE 4 | D405: PRODUCTION | E405: 20304 | F405: PAS DE VIDANGE (complement eau) | G405: M.BENDAHMANE | I405: 30 | J405: Non | K405: Oui
A406: =IF(B406="","",_xlfn.ISOWEEKNUM(B406)) -> 44 | B406: 43406 | C406: LIGNE 2 | D406: PRODUCTION | E406: 20304 | F406: modif bug arret soutirage des eaus | G406: M.BENDAHMANE | I406: 60 | J406: Non | K406: Oui
A407: =IF(B407="","",_xlfn.ISOWEEKNUM(B407)) -> 44 | B407: 43406 | C407: ATELIER_CIP | D407: CIP | E407: 20301 | F407: laveuse de pieces ligne1 disjonctée | G407: G.DELANOUE | I407: 30 | J407: Non | K407: Oui
A408: =IF(B408="","",_xlfn.ISOWEEKNUM(B408)) -> 44 | B408: 43406 | C408: VAPEUR | D408: ENERGIE | E408: 20308 | F408: mise en route | G408: G.DELANOUE | I408: 60 | J408: Non | K408: Oui
... A504: =IF(B504="","",_xlfn.ISOWEEKNUM(B504)) -> 46 | B504: 43417 | C504: ATELIER PREPA | D504: FRUITS | E504: 20302 | F504: fil balance ananas arraché: refait | G504: M.BENDAHMANE | I504: 0.041666667 | J504: Non | K504: Non
A505: =IF(B505="","",_xlfn.ISOWEEKNUM(B505)) -> 46 | B505: 43418 | C505: ATELIER ENTRETIEN | D505: KLM | E505: 20307 | F505: CHERCHER LEVE BIDONS POUR VALENCE | G505: A.BENBACHIR | I505: 0.083333333 | J505: Non | K505: Non
A506: =IF(B506="","",_xlfn.ISOWEEKNUM(B506)) -> 46 | B506: 43418 | C506: ATELIER ENTRETIEN | D506: KLM | E506: 20307 | F506: RANGEMENT KLM | G506: A.BENBACHIR | I506: 0.041666667 | J506: Non | K506: Non
A507: =IF(B507="","",_xlfn.ISOWEEKNUM(B507)) -> 46 | B507: 43417 | C507: SUCRE CRISTAL | D507: PRODUCTION | E507: 20304 | F507: CHANGEMENT FUT PLEIN | G507: A.BENBACHIR | I507: 0.041666667 | J507: Non | K507: Non
A508: =IF(B508="","",_xlfn.ISOWEEKNUM(B508)) -> 46 | B508: 43417 | C508: LIGNE 6 | D508: PRODUCTION | E508: 20304 | F508: remplacement capteur vanne égout sirupeur | G508: G.DELANOUE | I508: 0.020833333 | J508: Non | K508: Oui
A509: =IF(B509="","",_xlfn.ISOWEEKNUM(B509)) -> 46 | B509: 43417 | C509: CIP LIGNE 2 | D509: CIP | E509: 20301 | F509: raccourci chaine tronçon B | G509: G.DELANOUE | I509: 0.041666667 | J509: Non | K509: Oui
A510: =IF(B510="","",_xlfn.ISOWEEKNUM(B510)) -> 46 | B510: 43417 | C510: SUCRE CRISTAL | D510: PRODUCTION | E510: 20304 | F510: débarrassé bidon fine | G510: G.DELANOUE | I510: 0.041666667 | J510: Non | K510: Non
...

Sheet Données
A1: Atelier | B1: Temps d'intervention | C1: FRUITS | D1: ENERGIE | E1: ADDITIFS | F1: PRODUCTION | G1: MAINTENANCE | H1: CIP | I1: USINE | J1: MAGASIN | K1: FRUITS | L1: ENERGIE | M1: ADDITIFS | N1: PRODUCTION | O1: MAINTENANCE | P1: CIP | Q1: USINE | R1: MAGASIN
C2: =IF(A2=$C$1,B2,"") | D2: =IF(A2=$D$1,B2,"") | E2: =IF(A2=$E$1,B2,"") | F2: =IF(A2=$F$1,B2,"") | G2: =IF(A2=$G$1,B2,"") | H2: =IF(A2=$H$1,B2,"") | I2: =IF(A2=$I$1,B2,"") | J2: =IF(A2=$J$1,B2,"") | K2: =IF(C2<>"",C2*1,"") | L2: =IF(D2<>"",D2*1,"") | M2: =IF(E2<>"",E2*1,"") | N2: =IF(F2<>"",F2*1,"") | O2: =IF(G2<>"",G2*1,"") | P2: =IF(H2<>"",H2*1,"") | Q2: =IF(I2<>"",I2*1,"") | R2: =IF(J2<>"",J2*1,"")
C3: =IF(A3=$C$1,B3,"") | D3: =IF(A3=$D$1,B3,"") | E3: =IF(A3=$E$1,B3,"") | F3: =IF(A3=$F$1,B3,"") | G3: =IF(A3=$G$1,B3,"") | H3: =IF(A3=$H$1,B3,"") | I3: =IF(A3=$I$1,B3,"") | J3: =IF(A3=$J$1,B3,"") | K3: =IF(C3<>"",C3*1,"") | L3: =IF(D3<>"",D3*1,"") | M3: =IF(E3<>"",E3*1,"") | N3: =IF(F3<>"",F3*1,"") | O3: =IF(G3<>"",G3*1,"") | P3: =IF(H3<>"",H3*1,"") | Q3: =IF(I3<>"",I3*1,"") | R3: =IF(J3<>"",J3*1,"")
C4: =IF(A4=$C$1,B4,"") | D4: =IF(A4=$D$1,B4,"") | E4: =IF(A4=$E$1,B4,"") | F4: =IF(A4=$F$1,B4,"") | G4: =IF(A4=$G$1,B4,"") | H4: =IF(A4=$H$1,B4,"") | I4: =IF(A4=$I$1,B4,"") | J4: =IF(A4=$J$1,B4,"") | K4: =IF(C4<>"",C4*1,"") | L4: =IF(D4<>"",D4*1,"") | M4: =IF(E4<>"",E4*1,"") | N4: =IF(F4<>"",F4*1,"") | O4: =IF(G4<>"",G4*1,"") | P4: =IF(H4<>"",H4*1,"") | Q4: =IF(I4<>"",I4*1,"") | R4: =IF(J4<>"",J4*1,"")
C5: =IF(A5=$C$1,B5,"") | D5: =IF(A5=$D$1,B5,"") | E5: =IF(A5=$E$1,B5,"") | F5: =IF(A5=$F$1,B5,"") | G5: =IF(A5=$G$1,B5,"") | H5: =IF(A5=$H$1,B5,"") | I5: =IF(A5=$I$1,B5,"") | J5: =IF(A5=$J$1,B5,"") | K5: =IF(C5<>"",C5*1,"") | L5: =IF(D5<>"",D5*1,"") | M5: =IF(E5<>"",E5*1,"") | N5: =IF(F5<>"",F5*1,"") | O5: =IF(G5<>"",G5*1,"") | P5: =IF(H5<>"",H5*1,"") | Q5: =IF(I5<>"",I5*1,"") | R5: =IF(J5<>"",J5*1,"")
C6: =IF(A6=$C$1,B6,"") | D6: =IF(A6=$D$1,B6,"") | E6: =IF(A6=$E$1,B6,"") | F6: =IF(A6=$F$1,B6,"") | G6: =IF(A6=$G$1,B6,"") | H6: =IF(A6=$H$1,B6,"") | I6: =IF(A6=$I$1,B6,"") | J6: =IF(A6=$J$1,B6,"") | K6: =IF(C6<>"",C6*1,"") | L6: =IF(D6<>"",D6*1,"") | M6: =IF(E6<>"",E6*1,"") | N6: =IF(F6<>"",F6*1,"") | O6: =IF(G6<>"",G6*1,"") | P6: =IF(H6<>"",H6*1,"") | Q6: =IF(I6<>"",I6*1,"") | R6: =IF(J6<>"",J6*1,"")
C7: =IF(A7=$C$1,B7,"") | D7: =IF(A7=$D$1,B7,"") | E7: =IF(A7=$E$1,B7,"") | F7: =IF(A7=$F$1,B7,"") | G7: =IF(A7=$G$1,B7,"") | H7: =IF(A7=$H$1,B7,"") | I7: =IF(A7=$I$1,B7,"") | J7: =IF(A7=$J$1,B7,"") | K7: =IF(C7<>"",C7*1,"") | L7: =IF(D7<>"",D7*1,"") | M7: =IF(E7<>"",E7*1,"") | N7: =IF(F7<>"",F7*1,"") | O7: =IF(G7<>"",G7*1,"") | P7: =IF(H7<>"",H7*1,"") | Q7: =IF(I7<>"",I7*1,"") | R7: =IF(J7<>"",J7*1,"")
C8: =IF(A8=$C$1,B8,"") | D8: =IF(A8=$D$1,B8,"") | E8: =IF(A8=$E$1,B8,"") | F8: =IF(A8=$F$1,B8,"") | G8: =IF(A8=$G$1,B8,"") | H8: =IF(A8=$H$1,B8,"") | I8: =IF(A8=$I$1,B8,"") | J8: =IF(A8=$J$1,B8,"") | K8: =IF(C8<>"",C8*1,"") | L8: =IF(D8<>"",D8*1,"") | M8: =IF(E8<>"",E8*1,"") | N8: =IF(F8<>"",F8*1,"") | O8: =IF(G8<>"",G8*1,"") | P8: =IF(H8<>"",H8*1,"") | Q8: =IF(I8<>"",I8*1,"") | R8: =IF(J8<>"",J8*1,"")
C9: =IF(A9=$C$1,B9,"") | D9: =IF(A9=$D$1,B9,"") | E9: =IF(A9=$E$1,B9,"") | F9: =IF(A9=$F$1,B9,"") | G9: =IF(A9=$G$1,B9,"") | H9: =IF(A9=$H$1,B9,"") | I9: =IF(A9=$I$1,B9,"") | J9: =IF(A9=$J$1,B9,"") | K9: =IF(C9<>"",C9*1,"") | L9: =IF(D9<>"",D9*1,"") | M9: =IF(E9<>"",E9*1,"") | N9: =IF(F9<>"",F9*1,"") | O9: =IF(G9<>"",G9*1,"") | P9: =IF(H9<>"",H9*1,"") | Q9: =IF(I9<>"",I9*1,"") | R9: =IF(J9<>"",J9*1,"")
C10: =IF(A10=$C$1,B10,"") | D10: =IF(A10=$D$1,B10,"") | E10: =IF(A10=$E$1,B10,"") | F10: =IF(A10=$F$1,B10,"") | G10: =IF(A10=$G$1,B10,"") | H10: =IF(A10=$H$1,B10,"") | I10: =IF(A10=$I$1,B10,"") | J10: =IF(A10=$J$1,B10,"") | K10: =IF(C10<>"",C10*1,"") | L10: =IF(D10<>"",D10*1,"") | M10: =IF(E10<>"",E10*1,"") | N10: =IF(F10<>"",F10*1,"") | O10: =IF(G10<>"",G10*1,"") | P10: =IF(H10<>"",H10*1,"") | Q10: =IF(I10<>"",I10*1,"") | R10: =IF(J10<>"",J10*1,"")
C11: =IF(A11=$C$1,B11,"") | D11: =IF(A11=$D$1,B11,"") | E11: =IF(A11=$E$1,B11,"") | F11: =IF(A11=$F$1,B11,"") | G11: =IF(A11=$G$1,B11,"") | H11: =IF(A11=$H$1,B11,"") | I11: =IF(A11=$I$1,B11,"") | J11: =IF(A11=$J$1,B11,"") | K11: =IF(C11<>"",C11*1,"") | L11: =IF(D11<>"",D11*1,"") | M11: =IF(E11<>"",E11*1,"") | N11: =IF(F11<>"",F11*1,"") | O11: =IF(G11<>"",G11*1,"") | P11: =IF(H11<>"",H11*1,"") | Q11: =IF(I11<>"",I11*1,"") | R11: =IF(J11<>"",J11*1,"")
C12: =IF(A12=$C$1,B12,"") | D12: =IF(A12=$D$1,B12,"") | E12: =IF(A12=$E$1,B12,"") | F12: =IF(A12=$F$1,B12,"") | G12: =IF(A12=$G$1,B12,"") | H12: =IF(A12=$H$1,B12,"") | I12: =IF(A12=$I$1,B12,"") | J12: =IF(A12=$J$1,B12,"") | K12: =IF(C12<>"",C12*1,"") | L12: =IF(D12<>"",D12*1,"") | M12: =IF(E12<>"",E12*1,"") | N12: =IF(F12<>"",F12*1,"") | O12: =IF(G12<>"",G12*1,"") | P12: =IF(H12<>"",H12*1,"") | Q12: =IF(I12<>"",I12*1,"") | R12: =IF(J12<>"",J12*1,"")
C13: =IF(A13=$C$1,B13,"") | D13: =IF(A13=$D$1,B13,"") | E13: =IF(A13=$E$1,B13,"") | F13: =IF(A13=$F$1,B13,"") | G13: =IF(A13=$G$1,B13,"") | H13: =IF(A13=$H$1,B13,"") | I13: =IF(A13=$I$1,B13,"") | J13: =IF(A13=$J$1,B13,"") | K13: =IF(C13<>"",C13*1,"") | L13: =IF(D13<>"",D13*1,"") | M13: =IF(E13<>"",E13*1,"") | N13: =IF(F13<>"",F13*1,"") | O13: =IF(G13<>"",G13*1,"") | P13: =IF(H13<>"",H13*1,"") | Q13: =IF(I13<>"",I13*1,"") | R13: =IF(J13<>"",J13*1,"")
... C300: =IF(A300=$C$1,B300,"") | D300: =IF(A300=$D$1,B300,"") | E300: =IF(A300=$E$1,B300,"") | F300: =IF(A300=$F$1,B300,"") | G300: =IF(A300=$G$1,B300,"") | H300: =IF(A300=$H$1,B300,"") | I300: =IF(A300=$I$1,B300,"") | J300: =IF(A300=$J$1,B300,"") | K300: =IF(C300<>"",C300*1,"") | L300: =IF(D300<>"",D300*1,"") | M300: =IF(E300<>"",E300*1,"") | N300: =IF(F300<>"",F300*1,"") | O300: =IF(G300<>"",G300*1,"") | P300: =IF(H300<>"",H300*1,"") | Q300: =IF(I300<>"",I300*1,"") | R300: =IF(J300<>"",J300*1,"")
K301: =SUM(K2:K300) -> 0 | L301: =SUM(L2:L300) -> 0 | M301: =SUM(M2:M300) -> 0 | N301: =SUM(N2:N300) -> 0 | O301: =SUM(O2:O300) -> 0 | P301: =SUM(P2:P300) -> 0 | Q301: =SUM(Q2:Q300) -> 0 | R301: =SUM(R2:R300) -> 0
K302: FRUITS | L302: ENERGIE | M302: ADDITIFS | N302: PRODUCTION | O302: MAINTENANCE | P302: CIP | Q302: USINE | R302: MAGASIN
K305: Atelier | L305: Temps d'intervention | N305: Temps d'intervention en heure/jour
K306: =K302 -> FRUITS | L306: =K301 -> 0 | N306: =((L306/60)/4)/5 -> 0
K307: =L302 -> ENERGIE | L307: =L301 -> 0 | N307: =((L307/60)/4)/5 -> 0
K308: =M302 -> ADDITIFS | L308: =M301 -> 0 | N308: =((L308/60)/4)/5 -> 0
K309: =N302 -> PRODUCTION | L309: =N301 -> 0 | N309: =((L309/60)/4)/5 -> 0
K310: =O302 -> MAINTENANCE | L310: =O301 -> 0 | N310: =((L310/60)/4)/5 -> 0
K311: =P302 -> CIP | L311: =P301 -> 0 | N311: =((L311/60)/4)/5 -> 0
K312: =Q302 -> USINE | L312: =Q301 -> 0 | N312: =((L312/60)/4)/5 -> 0
K313: =R302 -> MAGASIN | L313: =R301 -> 0 | N313: =((L313/60)/4)/5 -> 0

Sheet Graphique
