Workbook

Sheet Ratio dépannage
AA1: =SUM(Z:Z) -> 4277.3757
Y4: =IF(Tableau!K262="oui",VLOOKUP(Tableau!I262,Tableau!I262:K415,1,FALSE),"") -> 120 | Z4: =IF(Y4="","",Y4*1) -> 120
Y5: =IF(Tableau!K263="oui",VLOOKUP(Tableau!I263,Tableau!I263:K416,1,FALSE),"") -> 60 | Z5: =IF(Y5="","",Y5*1) -> 60
Y6: =IF(Tableau!K264="oui",VLOOKUP(Tableau!I264,Tableau!I264:K417,1,FALSE),"") -> 30 | Z6: =IF(Y6="","",Y6*1) -> 30
Y7: =IF(Tableau!K265="oui",VLOOKUP(Tableau!I265,Tableau!I265:K418,1,FALSE),"") -> 60 | Z7: =IF(Y7="","",Y7*1) -> 60
Y8: =IF(Tableau!K266="oui",VLOOKUP(Tableau!I266,Tableau!I266:K419,1,FALSE),"") -> 30 | Z8: =IF(Y8="","",Y8*1) -> 30
Y9: =IF(Tableau!K267="oui",VLOOKUP(Tableau!I267,Tableau!I267:K420,1,FALSE),"") -> 60 | Z9: =IF(Y9="","",Y9*1) -> 60
Y10: =IF(Tableau!K268="oui",VLOOKUP(Tableau!I268,Tableau!I268:K421,1,FALSE),"") | Z10: =IF(Y10="","",Y10*1)
Y11: =IF(Tableau!K269="oui",VLOOKUP(Tableau!I269,Tableau!I269:K422,1,FALSE),"") -> 60 | Z11: =IF(Y11="","",Y11*1) -> 60
Y12: =IF(Tableau!K270="oui",VLOOKUP(Tableau!I270,Tableau!I270:K423,1,FALSE),"") -> 30 | Z12: =IF(Y12="","",Y12*1) -> 30
Y13: =IF(Tableau!K271="oui",VLOOKUP(Tableau!I271,Tableau!I271:K424,1,FALSE),"") -> 30 | Z13: =IF(Y13="","",Y13*1) -> 30
Y14: =IF(Tableau!K272="oui",VLOOKUP(Tableau!I272,Tableau!I272:K425,1,FALSE),"") | Z14: =IF(Y14="","",Y14*1)
A15: Temps d'intervention préventif/amélioratif | B15: =B17-B16 -> -4275.0875 | Y15: =IF(Tableau!K273="oui",VLOOKUP(Tableau!I273,Tableau!I273:K426,1,FALSE),"") -> 30 | Z15: =IF(Y15="","",Y15*1) -> 30
A16: Temps d'intervention total de dépannage | B16: =AA1 -> 4277.3757 | Y16: =IF(Tableau!K274="oui",VLOOKUP(Tableau!I274,Tableau!I274:K427,1,FALSE),"") -> 30 | Z16: =IF(Y16="","",Y16*1) -> 30
A17: Temps total d'intervention | B17: =SUBTOTAL(109,Tableau!I14:I100000) -> 2.2881944 | Y17: =IF(Tableau!K275="oui",VLOOKUP(Tableau!I275,Tableau!I275:K428,1,FALSE),"") -> 30 | Z17: =IF(Y17="","",Y17*1) -> 30
Y18: =IF(Tableau!K276="oui",VLOOKUP(Tableau!I276,Tableau!I276:K429,1,FALSE),"") | Z18: =IF(Y18="","",Y18*1)
Y19: =IF(Tableau!K277="oui",VLOOKUP(Tableau!I277,Tableau!I277:K430,1,FALSE),"") | Z19: =IF(Y19="","",Y19*1)
Y20: =IF(Tableau!K278="oui",VLOOKUP(Tableau!I278,Tableau!I278:K431,1,FALSE),"") | Z20: =IF(Y20="","",Y20*1)
Y21: =IF(Tableau!K279="oui",VLOOKUP(Tableau!I279,Tableau!I279:K432,1,FALSE),"") -> 15 | Z21: =IF(Y21="","",Y21*1) -> 15
Y22: =IF(Tableau!K280="oui",VLOOKUP(Tableau!I280,Tableau!I280:K433,1,FALSE),"") -> 210 | Z22: =IF(Y22="","",Y22*1) -> 210
Y23: =IF(Tableau!K281="oui",VLOOKUP(Tableau!I281,Tableau!I281:K434,1,FALSE),"") | Z23: =IF(Y23="","",Y23*1)
Y24: =IF(Tableau!K282="oui",VLOOKUP(Tableau!I282,Tableau!I282:K435,1,FALSE),"") | Z24: =IF(Y24="","",Y24*1)
Y25: =IF(Tableau!K283="oui",VLOOKUP(Tableau!I283,Tableau!I283:K436,1,FALSE),"") | Z25: =IF(Y25="","",Y25*1)
Y26: =IF(Tableau!K284="oui",VLOOKUP(Tableau!I284,Tableau!I284:K437,1,FALSE),"") | Z26: =IF(Y26="","",Y26*1)
Y27: =IF(Tableau!K285="oui",VLOOKUP(Tableau!I285,Tableau!I285:K438,1,FALSE),"") | Z27: =IF(Y27="","",Y27*1)
Y28: =IF(Tableau!K286="oui",VLOOKUP(Tableau!I286,Tableau!I286:K439,1,FALSE),"") | Z28: =IF(Y28="","",Y28*1)
Y29: =IF(Tableau!K287="oui",VLOOKUP(Tableau!I287,Tableau!I287:K440,1,FALSE),"") | Z29: =IF(Y29="","",Y29*1)
... Y1000: =IF(Tableau!K1258="oui",VLOOKUP(Tableau!I1258,Tableau!I1258:K1411,1,FALSE),"") | Z1000: =IF(Y1000="","",Y1000*1)

Sheet Tableau
Q8: Temps d'intervention non lié a l'automatisme
A13: Semaine | B13: 43451 | C13: Equipement | D13: Atelier | E13: Centre de charge | F13: Description | G13: Technicien | H13: N°DI | I13: Temps d'intervention | J13: Problème automatisme | K13: Dépannage | L13: Demandeur
A14: =IF(B14="","",_xlfn.ISOWEEKNUM(B14)) -> 37 | B14: 43357 | C14: M_COMMITROL | D14: FRUITS | E14: 20302 | F14: demarrage comitrol | G14: L.LOUVET | I14: 15 | J14: non | K14: oui
A15: =IF(B15="","",_xlfn.ISOWEEKNUM(B15)) -> 35 | B15: 43340 | C15: M_HOT_BREACK | D15: FRUITS | E15: 20302 | F15: la pompe ne demarre pas , phase coupée dans moteur+ sectionneu rpas bien enclenché | G15: L.LOUVET | I15: 100 | J15: non | K15: oui
A16: =IF(B16="","",_xlfn.ISOWEEKNUM(B16)) -> 35 | B16: 43341 | C16: M_LIGNE 8 | D16: PRODUCTION | E16: 20304 | F16: changement poulie refroidisseur 1 | G16: L.LOUVET | I16: 100 | J16: non | K16: oui
A17: =IF(B17="","",_xlfn.ISOWEEKNUM(B17)) -> 35 | B17: 43341 | C17: M_HOT_BREACK | D17: FRUITS | E17: 20302 | F17: sectionneur + capteur pompe | G17: L.LOUVET | I17: 30 | J17: non | K17: oui
A18: =IF(B18="","",_xlfn.ISOWEEKNUM(B18)) -> 35 | B18: 43341 | C18: M_BROYEUR 1 | D18: FRUITS | E18: 20302 | F18: ne fonctionne plus | G18: L.LOUVET | I18: 30 | J18: non | K18: oui
A19: =IF(B19="","",_xlfn.ISOWEEKNUM(B19)) -> 35 | B19: 43341 | C19: M_URCHELL 1 | D19: FRUITS | E19: 20302 | F19: redressage goulotte pour capteurs ok | G19: L.LOUVET | I19: 30 | J19: non | K19: oui
A20: =IF(B20="","",_xlfn.ISOWEEKNUM(B20)) -> 35 | B20: 43343 | C20: M_CIP LIGNE 1 | D20: CIP | E20: 20301 | F20: chargement tourne en continu | G20: L.LOUVET | I20: 15 | J20: non | K20: oui
A21: =IF(B21="","",_xlfn.ISOWEEKNUM(B21)) -> 35 | B21: 43343 | C21: M_HOT_BREACK | D21: FRUITS | E21: 20302 | F21: changement capteur verin hachoir | G21: L.LOUVET | I21: 60 | J21: non | K21: oui
A22: =IF(B22="","",_xlfn.ISOWEEKNUM(B22)) -> 35 | B22: 43343 | C22: M_LIGNE 4 | D22: PRODUCTION | E22: 20304 | F22: resserage vanne fond ref 2 | G22: L.LOUVET | I22: 20 | J22: non | K22: oui
A23: =IF(B23="","",_xlfn.ISOWEEKNUM(B23)) -> 37 | B23: 43355 | C23: M_LIGNE 2 | D23: PRODUCTION | E23: 20304 | F23: remplacement joint tuyeau ster col | G23: G.DELANOUE | I23: 30 | J23: non | K23: oui
A24: =IF(B24="","",_xlfn.ISOWEEKNUM(B24)) -> 36 | B24: 43346 | C24: M_ECRASE_FUT | D24: FRUITS | E24: 20302 | F24: disjoncté | G24: G.DELANOUE | I24: 15 | J24: non | K24: oui
A25: =IF(B25="","",_xlfn.ISOWEEKNUM(B25)) -> 36 | B25: 43347 | C25: M_MONTE CHARGE | D25: FRUITS | E25: 20302 | F25: réglage cellule | G25: G.DELANOUE | I25: 30 | J25: non | K25: Oui
... A71: =IF(B71="","",_xlfn.ISOWEEKNUM(B71)) -> 37 | B71: 43354 | C71: M_SUCRE CRISTAL | D71: PRODUCTION | E71: 20304 | F71: Demontage nettoyage remontage | G71: A.AVRIL | I71: 540 | J71: Non | K71: Oui
A72: =IF(B72="","",_xlfn.ISOWEEKNUM(B72)) -> 37 | B72: 43355 | C72: M_EAU USÉE | D72: ENERGIE | E72: 20308 | F72: remplacement hydro injecteur | G72: A.AVRIL | I72: 180 | J72: Non | K72: Oui
A73: =IF(B73="","",_xlfn.ISOWEEKNUM(B73)) -> 37 | B73: 43356 | C73: M_LIGNE 6 | D73: PRODUCTION | E73: 20304 | F73: recherche panne disjonction 24v | G73: L.LOUVET | I73: 120 | J73: Non | K73: Non
A74: =IF(B74="","",_xlfn.ISOWEEKNUM(B74)) -> 37 | B74: 43355 | C74: M_TABLE ELEVATRICE 1 | D74: FRUITS | E74: 20302 | F74: remise en etat table cable hs | G74: L.LOUVET | I74: 120 | J74: Non | K74: Non
A75: =IF(B75="","",_xlfn.ISOWEEKNUM(B75)) -> 37 | B75: 43355 | C75: M_LIGNE 2 | D75: PRODUCTION | E75: 20304 | F75: demontage vanne fond ref2 pour recup embout karcher | G75: L.LOUVET | I75: 120 | J75: Non | K75: Non
A76: =IF(B76="","",_xlfn.ISOWEEKNUM(B76)) -> 37 | B76: 43355 | C76: M_VAPEUR | D76: ENERGIE | E76: 20308 | F76: analyses | G76: L.LOUVET | I76: 120 | J76: Non | K76: Non
A77: =IF(B77="","",_xlfn.ISOWEEKNUM(B77)) -> 37 | B77: 43355 | C77: STOCK MAINTENANCE | D77: MAINTENANCE | E77: 20307 | F77: magasin | G77: L.LOUVET | I77: 120 | J77: Non | K77: Non
A78: =IF(B78="","",_xlfn.ISOWEEKNUM(B78)) -> 37 | B78: 43355 | C78: M_MAINTENANCE | D78: MAINTENANCE | E78: 20307 | F78: nettoyage | G78: L.LOUVET | I78: 120 | J78: Non | K78: Non
A79: =IF(B79="","",_xlfn.ISOWEEKNUM(B79)) -> 37 | B79: 43355 | C79: M_LIGNE 5 | D79: PRODUCTION | E79: 20304 | F79: eau micro eau nettoy ref 1 | G79: L.LOUVET | I79: 120 | J79: Oui | K79: Non
A80: =IF(B80="","",_xlfn.ISOWEEKNUM(B80)) -> 37 | B80: 43357 | C80: M_LIGNE 3 | D80: PRODUCTION | E80: 20304 | F80: RAYON X NETTOYAGE | G80: A.BENBACHIR | I80: 30 | J80: Non | K80: Oui
A81: =IF(B81="","",_xlfn.ISOWEEKNUM(B81)) -> 37 | B81: 43357 | C81: M_SUCRE CRISTAL | D81: PRODUCTION | E81: 20304 | F81: NETTOYAGE ZONE SILO | G81: A.BENBACHIR | I81: 30 | J81: Non | K81: Non
A82: =IF(B82="","",_xlfn.ISOWEEKNUM(B82)) -> 37 | B82: 43357 | C82: M_LIGNE 5 | D82: PRODUCTION | E82: 20304 | F82: SIROP BOUCHER | G82: A.BENBACHIR | I82: 60 | J82: Non | K82: Oui
A83: =IF(B83="","",_xlfn.ISOWEEKNUM(B83)) -> 37 | B83: 43357 | C83: M_BROYEUR 1 | D83: FRUITS | E83: 20302 | F83: TABLETTE EN PLASTIC BLEU COICER SUR COUTEAUX | G83: A.BENBACHIR | I83: 60 | J83: Non | K83: Oui
A84: =IF(B84="","",_xlfn.ISOWEEKNUM(B84)) -> 37 | B84: 43357 | C84: M_LIGNE 5 | D84: PRODUCTION | E84: 20304 | F84: MOTEUR SIRUPEUR DISCJONTE | G84: A.BENBACHIR | I84: 30 | J84: Non | K84: Oui
... A127: =IF(B127="","",_xlfn.ISOWEEKNUM(B127)) -> 38 | B127: 43361 | C127: M_LIGNE 5 | D127: PRODUCTION | E127: 20304 | F127: mis en place d'un noveau capteur couvercle pasto et branchement + test | G127: M.BENDAHMANE | I127: 180 | J127: Non | K127: Non
A128: =IF(B128="","",_xlfn.ISOWEEKNUM(B128)) -> 38 | B128: 43361 | C128: M_LIGNE 5 | D128: PRODUCTION | E128: 20304 | G128: M.BENDAHMANE | H128: rearmement variateur vitesse agit pasto | I128: 15 | J128: Non | K128: Non
A129: =IF(B129="","",_xlfn.ISOWEEKNUM(B129)) -> 38 | B129: 43361 | C129: M_SUCRE CRISTAL | D129: PRODUCTION | E129: 20304 | F129: changement manbrane et netoyage zone sucre | G129: A.BENBACHIR | H129: rearmement variateur vitesse agit pasto | I129: 300 | J129: Non | K129: Non
A130: =IF(B130="","",_xlfn.ISOWEEKNUM(B130)) -> 38 | B130: 43361 | C130: M_LIGNE 5 | D130: PRODUCTION | E130: 20304 | F130: changement flach ref | G130: A.BENBACHIR | H130: rearmement variateur vitesse agit pasto | I130: 30 | J130: Non | K130: Non
A131: =IF(B131="","",_xlfn.ISOWEEKNUM(B131)) -> 38 | B131: 43361 | C131: ATELIER ENTRETIEN | D131: PRODUCTION | E131: 20304 | F131: rengement et netoyage atelier | G131: A.BENBACHIR | I131: 120 | J131: Non | K131: Non
A132: =IF(B132="","",_xlfn.ISOWEEKNUM(B132)) -> 38 | B132: 43361 | C132: M_LIGNE 8 | D132: PRODUCTION | E132: 20304 | F132: moteur pasto disjonte | G132: A.BENBACHIR | I132: 115 | J132: Non | K132: Oui
A133: =IF(B133="","",_xlfn.ISOWEEKNUM(B133)) -> 38 | B133: 43361 | C133: M_LIGNE 8 | D133: PRODUCTION | E133: 20304 | F133: moteu rraccleur pasto disjonte | G133: G.DELANOUE | I133: 30 | J133: Non | K133: Oui
A134: =IF(B134="","",_xlfn.ISOWEEKNUM(B134)) -> 38 | B134: 43361 | C134: M_SUCRE CRISTAL | D134: PRODUCTION | E134: 20304 | F134: réglage capteur vanne sous trémie fine1 | G134: G.DELANOUE | I134: 30 | J134: Non | K134: Oui
A135: =IF(B135="","",_xlfn.ISOWEEKNUM(B135)) -> 38 | B135: 43361 | C135: M_PORTE AUTOMATIQUE | D135: MAINTENANCE | E135: 20307 | F135: réglage capteur hauteur porte et redressage barre porte chambre fut | G135: G.DELANOUE | I135: 60 | J135: Non | K135: Oui
A136: =IF(B136="","",_xlfn.ISOWEEKNUM(B136)) -> 38 | B136: 43361 | C136: RANGEMENT/NETTOYAGE | D136: MAINTENANCE | E136: 20307 | F136: lavage sol et rengement | G136: G.DELANOUE | I136: 120 | J136: Non | K136: Non
A137: =IF(B137="","",_xlfn.ISOWEEKNUM(B137)) -> 38 | B137: 43361 | C137: M_LIGNE 3 | D137: PRODUCTION | E137: 20304 | F137: probleme capteur sécuritée vidange sir | G137: G.DELANOUE | I137: 30 | J137: Non | K137: Non
A138: =IF(B138="","",_xlfn.ISOWEEKNUM(B138)) -> 38 | B138: 43361 | C138: M_LIGNE 5 | D138: PRODUCTION | E138: 20304 | F138: remplacement flash ref 2 | G138: G.DELANOUE | I138: 30 | J138: Non | K138: Non
...

Sheet Données
A1: Atelier | B1: Temps d'intervention | C1: FRUITS | D1: ENERGIE | E1: ADDITIFS | F1: PRODUCTION | G1: MAINTENANCE | H1: CIP | I1: USINE | J1: MAGASIN | K1: FRUITS | L1: ENERGIE | M1: ADDITIFS | N1: PRODUCTION | O1: MAINTENANCE | P1: CIP | Q1: USINE | R1: MAGASIN
C2: =IF(A2=$C$1,B2,"") | D2: =IF(A2=$D$1,B2,"") | E2: =IF(A2=$E$1,B2,"") | F2: =IF(A2=$F$1,B2,"") | G2: =IF(A2=$G$1,B2,"") | H2: =IF(A2=$H$1,B2,"") | I2: =IF(A2=$I$1,B2,"") | J2: =IF(A2=$J$1,B2,"") | K2: =IF(C2<>"",C2*1,"") | L2: =IF(D2<>"",D2*1,"") | M2: =IF(E2<>"",E2*1,"") | N2: =IF(F2<>"",F2*1,"") | O2: =IF(G2<>"",G2*1,"") | P2: =IF(H2<>"",H2*1,"") | Q2: =IF(I2<>"",I2*1,"") | R2: =IF(J2<>"",J2*1,"")
C3: =IF(A3=$C$1,B3,"") | D3: =IF(A3=$D$1,B3,"") | E3: =IF(A3=$E$1,B3,"") | F3: =IF(A3=$F$1,B3,"") | G3: =IF(A3=$G$1,B3,"") | H3: =IF(A3=$H$1,B3,"") | I3: =IF(A3=$I$1,B3,"") | J3: =IF(A3=$J$1,B3,"") | K3: =IF(C3<>"",C3*1,"") | L3: =IF(D3<>"",D3*1,"") | M3: =IF(E3<>"",E3*1,"") | N3: =IF(F3<>"",F3*1,"") | O3: =IF(G3<>"",G3*1,"") | P3: =IF(H3<>"",H3*1,"") | Q3: =IF(I3<>"",I3*1,"") | R3: =IF(J3<>"",J3*1,"")
C4: =IF(A4=$C$1,B4,"") | D4: =IF(A4=$D$1,B4,"") | E4: =IF(A4=$E$1,B4,"") | F4: =IF(A4=$F$1,B4,"") | G4: =IF(A4=$G$1,B4,"") | H4: =IF(A4=$H$1,B4,"") | I4: =IF(A4=$I$1,B4,"") | J4: =IF(A4=$J$1,B4,"") | K4: =IF(C4<>"",C4*1,"") | L4: =IF(D4<>"",D4*1,"") | M4: =IF(E4<>"",E4*1,"") | N4: =IF(F4<>"",F4*1,"") | O4: =IF(G4<>"",G4*1,"") | P4: =IF(H4<>"",H4*1,"") | Q4: =IF(I4<>"",I4*1,"") | R4: =IF(J4<>"",J4*1,"")
C5: =IF(A5=$C$1,B5,"") | D5: =IF(A5=$D$1,B5,"") | E5: =IF(A5=$E$1,B5,"") | F5: =IF(A5=$F$1,B5,"") | G5: =IF(A5=$G$1,B5,"") | H5: =IF(A5=$H$1,B5,"") | I5: =IF(A5=$I$1,B5,"") | J5: =IF(A5=$J$1,B5,"") | K5: =IF(C5<>"",C5*1,"") | L5: =IF(D5<>"",D5*1,"") | M5: =IF(E5<>"",E5*1,"") | N5: =IF(F5<>"",F5*1,"") | O5: =IF(G5<>"",G5*1,"") | P5: =IF(H5<>"",H5*1,"") | Q5: =IF(I5<>"",I5*1,"") | R5: =IF(J5<>"",J5*1,"")
C6: =IF(A6=$C$1,B6,"") | D6: =IF(A6=$D$1,B6,"") | E6: =IF(A6=$E$1,B6,"") | F6: =IF(A6=$F$1,B6,"") | G6: =IF(A6=$G$1,B6,"") | H6: =IF(A6=$H$1,B6,"") | I6: =IF(A6=$I$1,B6,"") | J6: =IF(A6=$J$1,B6,"") | K6: =IF(C6<>"",C6*1,"") | L6: =IF(D6<>"",D6*1,"") | M6: =IF(E6<>"",E6*1,"") | N6: =IF(F6<>"",F6*1,"") | O6: =IF(G6<>"",G6*1,"") | P6: =IF(H6<>"",H6*1,"") | Q6: =IF(I6<>"",I6*1,"") | R6: =IF(J6<>"",J6*1,"")
C7: =IF(A7=$C$1,B7,"") | D7: =IF(A7=$D$1,B7,"") | E7: =IF(A7=$E$1,B7,"") | F7: =IF(A7=$F$1,B7,"") | G7: =IF(A7=$G$1,B7,"") | H7: =IF(A7=$H$1,B7,"") | I7: =IF(A7=$I$1,B7,"") | J7: =IF(A7=$J$1,B7,"") | K7: =IF(C7<>"",C7*1,"") | L7: =IF(D7<>"",D7*1,"") | M7: =IF(E7<>"",E7*1,"") | N7: =IF(F7<>"",F7*1,"") | O7: =IF(G7<>"",G7*1,"") | P7: =IF(H7<>"",H7*1,"") | Q7: =IF(I7<>"",I7*1,"") | R7: =IF(J7<>"",J7*1,"")
C8: =IF(A8=$C$1,B8,"") | D8: =IF(A8=$D$1,B8,"") | E8: =IF(A8=$E$1,B8,"") | F8: =IF(A8=$F$1,B8,"") | G8: =IF(A8=$G$1,B8,"") | H8: =IF(A8=$H$1,B8,"") | I8: =IF(A8=$I$1,B8,"") | J8: =IF(A8=$J$1,B8,"") | K8: =IF(C8<>"",C8*1,"") | L8: =IF(D8<>"",D8*1,"") | M8: =IF(E8<>"",E8*1,"") | N8: =IF(F8<>"",F8*1,"") | O8: =IF(G8<>"",G8*1,"") | P8: =IF(H8<>"",H8*1,"") | Q8: =IF(I8<>"",I8*1,"") | R8: =IF(J8<>"",J8*1,"")
C9: =IF(A9=$C$1,B9,"") | D9: =IF(A9=$D$1,B9,"") | E9: =IF(A9=$E$1,B9,"") | F9: =IF(A9=$F$1,B9,"") | G9: =IF(A9=$G$1,B9,"") | H9: =IF(A9=$H$1,B9,"") | I9: =IF(A9=$I$1,B9,"") | J9: =IF(A9=$J$1,B9,"") | K9: =IF(C9<>"",C9*1,"") | L9: =IF(D9<>"",D9*1,"") | M9: =IF(E9<>"",E9*1,"") | N9: =IF(F9<>"",F9*1,"") | O9: =IF(G9<>"",G9*1,"") | P9: =IF(H9<>"",H9*1,"") | Q9: =IF(I9<>"",I9*1,"") | R9: =IF(J9<>"",J9*1,"")
C10: =IF(A10=$C$1,B10,"") | D10: =IF(A10=$D$1,B10,"") | E10: =IF(A10=$E$1,B10,"") | F10: =IF(A10=$F$1,B10,"") | G10: =IF(A10=$G$1,B10,"") | H10: =IF(A10=$H$1,B10,"") | I10: =IF(A10=$I$1,B10,"") | J10: =IF(A10=$J$1,B10,"") | K10: =IF(C10<>"",C10*1,"") | L10: =IF(D10<>"",D10*1,"") | M10: =IF(E10<>"",E10*1,"") | N10: =IF(F10<>"",F10*1,"") | O10: =IF(G10<>"",G10*1,"") | P10: =IF(H10<>"",H10*1,"") | Q10: =IF(I10<>"",I10*1,"") | R10: =IF(J10<>"",J10*1,"")
C11: =IF(A11=$C$1,B11,"") | D11: =IF(A11=$D$1,B11,"") | E11: =IF(A11=$E$1,B11,"") | F11: =IF(A11=$F$1,B11,"") | G11: =IF(A11=$G$1,B11,"") | H11: =IF(A11=$H$1,B11,"") | I11: =IF(A11=$I$1,B11,"") | J11: =IF(A11=$J$1,B11,"") | K11: =IF(C11<>"",C11*1,"") | L11: =IF(D11<>"",D11*1,"") | M11: =IF(E11<>"",E11*1,"") | N11: =IF(F11<>"",F11*1,"") | O11: =IF(G11<>"",G11*1,"") | P11: =IF(H11<>"",H11*1,"") | Q11: =IF(I11<>"",I11*1,"") | R11: =IF(J11<>"",J11*1,"")
C12: =IF(A12=$C$1,B12,"") | D12: =IF(A12=$D$1,B12,"") | E12: =IF(A12=$E$1,B12,"") | F12: =IF(A12=$F$1,B12,"") | G12: =IF(A12=$G$1,B12,"") | H12: =IF(A12=$H$1,B12,"") | I12: =IF(A12=$I$1,B12,"") | J12: =IF(A12=$J$1,B12,"") | K12: =IF(C12<>"",C12*1,"") | L12: =IF(D12<>"",D12*1,"") | M12: =IF(E12<>"",E12*1,"") | N12: =IF(F12<>"",F12*1,"") | O12: =IF(G12<>"",G12*1,"") | P12: =IF(H12<>"",H12*1,"") | Q12: =IF(I12<>"",I12*1,"") | R12: =IF(J12<>"",J12*1,"")
C13: =IF(A13=$C$1,B13,"") | D13: =IF(A13=$D$1,B13,"") | E13: =IF(A13=$E$1,B13,"") | F13: =IF(A13=$F$1,B13,"") | G13: =IF(A13=$G$1,B13,"") | H13: =IF(A13=$H$1,B13,"") | I13: =IF(A13=$I$1,B13,"") | J13: =IF(A13=$J$1,B13,"") | K13: =IF(C13<>"",C13*1,"") | L13: =IF(D13<>"",D13*1,"") | M13: =IF(E13<>"",E13*1,"") | N13: =IF(F13<>"",F13*1,"") | O13: =IF(G13<>"",G13*1,"") | P13: =IF(H13<>"",H13*1,"") | Q13: =IF(I13<>"",I13*1,"") | R13: =IF(J13<>"",J13*1,"")
... C300: =IF(A300=$C$1,B300,"") | D300: =IF(A300=$D$1,B300,"") | E300: =IF(A300=$E$1,B300,"") | F300: =IF(A300=$F$1,B300,"") | G300: =IF(A300=$G$1,B300,"") | H300: =IF(A300=$H$1,B300,"") | I300: =IF(A300=$I$1,B300,"") | J300: =IF(A300=$J$1,B300,"") | K300: =IF(C300<>"",C300*1,"") | L300: =IF(D300<>"",D300*1,"") | M300: =IF(E300<>"",E300*1,"") | N300: =IF(F300<>"",F300*1,"") | O300: =IF(G300<>"",G300*1,"") | P300: =IF(H300<>"",H300*1,"") | Q300: =IF(I300<>"",I300*1,"") | R300: =IF(J300<>"",J300*1,"")
K301: =SUM(K2:K300) -> 0 | L301: =SUM(L2:L300) -> 0 | M301: =SUM(M2:M300) -> 0 | N301: =SUM(N2:N300) -> 0 | O301: =SUM(O2:O300) -> 0 | P301: =SUM(P2:P300) -> 0 | Q301: =SUM(Q2:Q300) -> 0 | R301: =SUM(R2:R300) -> 0
K302: FRUITS | L302: ENERGIE | M302: ADDITIFS | N302: PRODUCTION | O302: MAINTENANCE | P302: CIP | Q302: USINE | R302: MAGASIN
K305: Atelier | L305: Temps d'intervention | N305: Temps d'intervention en heure/jour
K306: =K302 -> FRUITS | L306: =K301 -> 0 | N306: =((L306/60)/4)/5 -> 0
K307: =L302 -> ENERGIE | L307: =L301 -> 0 | N307: =((L307/60)/4)/5 -> 0
K308: =M302 -> ADDITIFS | L308: =M301 -> 0 | N308: =((L308/60)/4)/5 -> 0
K309: =N302 -> PRODUCTION | L309: =N301 -> 0 | N309: =((L309/60)/4)/5 -> 0
K310: =O302 -> MAINTENANCE | L310: =O301 -> 0 | N310: =((L310/60)/4)/5 -> 0
K311: =P302 -> CIP | L311: =P301 -> 0 | N311: =((L311/60)/4)/5 -> 0
K312: =Q302 -> USINE | L312: =Q301 -> 0 | N312: =((L312/60)/4)/5 -> 0
K313: =R302 -> MAGASIN | L313: =R301 -> 0 | N313: =((L313/60)/4)/5 -> 0

Sheet Graphique
