Workbook
Name équipements: #REF!

Sheet DEMANDES
P1: Liste des équipements | R1: Techniciens | S1: Temps théorique (en min)
P3: M_ABORD USINE | R3: Amar | S3: 30 min
P4: M_BROYEUR 1 | R4: Alex | S4: 1h
P5: M_BROYEUR 2 | R5: Guy | S5: 1h30
P6: M_BROYEUR 3 | R6: Mohamed | S6: 2h
P7: M_BUREAU | R7: Laurent | S7: 2h30
P8: M_CENTRIFUGEUSE | S8: 3h
P9: M_CH_AROMES | S9: 3h30
P10: M_CH_EXPEDITION | S10: 4h | T10: Validation
P11: M_CH_FROIDERECEPTIO | S11: 4h30
P12: M_CH_FROID_RECEPTION | S12: 5h | T12: Oui
A13: Demandé par | B13: DATE | C13: Détail de la demande | D13: Equipement | E13: Atelier | F13: Centre de charge | G13: N°DI | H13: Technicien en charge | I13: Temps théorique? | J13: Temps réel | K13: Validation demandeur | P13: M_CH_PREPA_FRUITS | S13: 5h30 | T13: Non
A14: David | B14: 43446.371 | C14: Remplacement tube de pompe | D14: M_BROYEUR 1 | E14: =VLOOKUP(D14,'correspondances zones'!$A$1:$B$60,2,0) -> PREPARATION | F14: =VLOOKUP(D14,'CORRESPONDANCE BUDGET'!$A$1:$B$60,2,0) -> 20302 | G14: 1 | H14: Alex | I14: 2h | P14: M_CH_STER_RECEPTION | S14: 6h
A15: Hélène | B15: 43446.38 | C15: changement Néon | D15: M_MAINTENANCE | E15: =VLOOKUP(D15,'correspondances zones'!$A$1:$B$60,2,0) -> MAINTENANCE | F15: =VLOOKUP(D15,'CORRESPONDANCE BUDGET'!$A$1:$B$60,2,0) -> 20307 | G15: 2 | H15: Guy | I15: 3h | P15: M_CIP LIGNE 1 | S15: 6h30
E16: =VLOOKUP(D16,'correspondances zones'!$A$1:$B$60,2,0) -> #N/A | F16: =VLOOKUP(D16,'CORRESPONDANCE BUDGET'!$A$1:$B$60,2,0) -> #N/A | H16: Alex | I16: 1h | P16: M_CIP LIGNE 2 | S16: 7h
A17: s | B17: 43446.398 | D17: M_BROYEUR 3 | E17: =VLOOKUP(D17,'correspondances zones'!$A$1:$B$60,2,0) -> PREPARATION | F17: =VLOOKUP(D17,'CORRESPONDANCE BUDGET'!$A$1:$B$60,2,0) -> 20302 | G17: 13 | H17: Mohamed | I17: 1h30 | P17: M_COMMITROL | S17: 7h30
D18: M_FRUCTOSE CRISTAL | E18: =VLOOKUP(D18,'correspondances zones'!$A$1:$B$60,2,0) -> PREPARATION | F18: =VLOOKUP(D18,'CORRESPONDANCE BUDGET'!$A$1:$B$60,2,0) -> 20304 | P18: M_CRIOVAC | S18: 8h
E19: =VLOOKUP(D19,'correspondances zones'!$A$1:$B$60,2,0) -> #N/A | F19: =VLOOKUP(D19,'CORRESPONDANCE BUDGET'!$A$1:$B$60,2,0) -> #N/A | P19: M_CUVE A COCHON | S19: 8h30
A20: S | B20: 43446.544 | C20: d | D20: M_BROYEUR 1 | E20: =VLOOKUP(D20,'correspondances zones'!$A$1:$B$60,2,0) -> PREPARATION | F20: =VLOOKUP(D20,'CORRESPONDANCE BUDGET'!$A$1:$B$60,2,0) -> 20302 | P20: M_DECHET | S20: 9h
A21: david | B21: 43446.558 | C21: changement pompe | D21: M_CIP LIGNE 2 | E21: =VLOOKUP(D21,'correspondances zones'!$A$1:$B$60,2,0) -> CIP | F21: =VLOOKUP(D21,'CORRESPONDANCE BUDGET'!$A$1:$B$60,2,0) -> 20301 | H21: Guy | I21: 2h30 | P21: M_EAU DE FORAGE | S21: 9h30
E22: =VLOOKUP(D22,'correspondances zones'!$A$1:$B$60,2,0) -> #N/A | F22: =VLOOKUP(D22,'CORRESPONDANCE BUDGET'!$A$1:$B$60,2,0) -> #N/A | P22: M_EAU DE VILLE | S22: 10h
E23: =VLOOKUP(D23,'correspondances zones'!$A$1:$B$60,2,0) -> #N/A | F23: =VLOOKUP(D23,'CORRESPONDANCE BUDGET'!$A$1:$B$60,2,0) -> #N/A | P23: M_EAU USÉE
E24: =VLOOKUP(D24,'correspondances zones'!$A$1:$B$60,2,0) -> #N/A | F24: =VLOOKUP(D24,'CORRESPONDANCE BUDGET'!$A$1:$B$60,2,0) -> #N/A | P24: M_EAU_BUREAU
E25: =VLOOKUP(D25,'correspondances zones'!$A$1:$B$60,2,0) -> #N/A | F25: =VLOOKUP(D25,'CORRESPONDANCE BUDGET'!$A$1:$B$60,2,0) -> #N/A | P25: M_ECRASE_FUT
E26: =VLOOKUP(D26,'correspondances zones'!$A$1:$B$60,2,0) -> #N/A | F26: =VLOOKUP(D26,'CORRESPONDANCE BUDGET'!$A$1:$B$60,2,0) -> #N/A | P26: M_ELECTRICITÉ
E27: =VLOOKUP(D27,'correspondances zones'!$A$1:$B$60,2,0) -> #N/A | F27: =VLOOKUP(D27,'CORRESPONDANCE BUDGET'!$A$1:$B$60,2,0) -> #N/A | P27: M_ELECTRICITÉ_BUREAU
E28: =VLOOKUP(D28,'correspondances zones'!$A$1:$B$60,2,0) -> #N/A | F28: =VLOOKUP(D28,'CORRESPONDANCE BUDGET'!$A$1:$B$60,2,0) -> #N/A | P28: M_ENERGIE
E29: =VLOOKUP(D29,'correspondances zones'!$A$1:$B$60,2,0) -> #N/A | F29: =VLOOKUP(D29,'CORRESPONDANCE BUDGET'!$A$1:$B$60,2,0) -> #N/A | P29: M_EVAPO LIGNE 8
E30: =VLOOKUP(D30,'correspondances zones'!$A$1:$B$60,2,0) -> #N/A | F30: =VLOOKUP(D30,'CORRESPONDANCE BUDGET'!$A$1:$B$60,2,0) -> #N/A | P30: M_FRUCTOSE CRISTAL
E31: =VLOOKUP(D31,'correspondances zones'!$A$1:$B$60,2,0) -> #N/A | F31: =VLOOKUP(D31,'CORRESPONDANCE BUDGET'!$A$1:$B$60,2,0) -> #N/A | P31: M_GAZ
E32: =VLOOKUP(D32,'correspondances zones'!$A$1:$B$60,2,0) -> #N/A | F32: =VLOOKUP(D32,'CORRESPONDANCE BUDGET'!$A$1:$B$60,2,0) -> #N/A | P32: M_GLUCOSE
E33: =VLOOKUP(D33,'correspondances zones'!$A$1:$B$60,2,0) -> #N/A | F33: =VLOOKUP(D33,'CORRESPONDANCE BUDGET'!$A$1:$B$60,2,0) -> #N/A | P33: M_HOT_BREACK
E34: =VLOOKUP(D34,'correspondances zones'!$A$1:$B$60,2,0) -> #N/A | F34: =VLOOKUP(D34,'CORRESPONDANCE BUDGET'!$A$1:$B$60,2,0) -> #N/A | P34: M_KARDEX
... E36: =VLOOKUP(D36,'correspondances zones'!$A$1:$B$60,2,0) -> #N/A | F36: =VLOOKUP(D36,'CORRESPONDANCE BUDGET'!$A$1:$B$60,2,0) -> #N/A | P36: M_LABO QUALITÉ

Sheet Alex
A1: Demandé par | B1: Date | C1: Equipement | D1: Atelier | E1: Centre de charges | F1: détail de la demande | G1: N° DI | H1: Temps théorique | I1: Temps éffectué | Z1: Temps réel
A2: David | B2: 43446.371 | C2: M_BROYEUR 1 | D2: =VLOOKUP(C2,'correspondances zones'!$A$1:$B$60,2,0) -> PREPARATION | E2: =VLOOKUP(C2,'CORRESPONDANCE BUDGET'!$A$1:$B$60,2,0) -> 20302 | F2: Remplacement tube de pompe | G2: 1 | H2: 2h
Z3: 30 min
Z4: 1h
Z5: 1h30
Z6: 2h
Z7: 2h30
Z8: 3h
Z9: 3h30
Z10: 4h
Z11: 4h30
Z12: 5h
Z13: 5h30
Z14: 6h
... Z22: 10h

Sheet Mohamed 
A1: Demandé par | B1: Date | C1: Equipement | D1: Atelier | E1: Centre de charges | F1: détail de la demande | G1: N° DI | H1: Temps théorique | I1: Temps éffectué | Z1: Temps réel
Z3: 30 min
Z4: 1h
Z5: 1h30
Z6: 2h
Z7: 2h30
Z8: 3h
Z9: 3h30
Z10: 4h
Z11: 4h30
Z12: 5h
Z13: 5h30
Z14: 6h
... Z22: 10h

Sheet Laurent
A1: Demandé par | B1: Date | C1: Equipement | D1: Atelier | E1: Centre de charges | F1: détail de la demande | G1: N° DI | H1: Temps théorique | I1: Temps éffectué | Z1: Temps réel
A2: s | B2: 43446.398 | C2: ss | D2: M_BROYEUR 3 | E2: =VLOOKUP(D2,'correspondances zones'!$A$1:$B$60,2,0) -> PREPARATION | F2: =VLOOKUP(D2,'CORRESPONDANCE BUDGET'!$A$1:$B$60,2,0) -> 20302 | G2: 13 | H2: 1h30
Z3: 30 min
Z4: 1h
Z5: 1h30
Z6: 2h
Z7: 2h30
Z8: 3h
Z9: 3h30
Z10: 4h
Z11: 4h30
Z12: 5h
Z13: 5h30
Z14: 6h
... Z22: 10h

Sheet Guy
A1: Demandé par | B1: Date | C1: Equipement | D1: Atelier | E1: Centre de charges | F1: détail de la demande | G1: N° DI | H1: Temps théorique | I1: Temps éffectué | Z1: Temps réel
A2: Hélène | B2: 43446.38 | C2: changement Néon | D2: M_MAINTENANCE | E2: =VLOOKUP(D2,'correspondances zones'!$A$1:$B$60,2,0) -> MAINTENANCE | F2: =VLOOKUP(D2,'CORRESPONDANCE BUDGET'!$A$1:$B$60,2,0) -> 20307 | G2: 2 | H2: 3h
Z3: 30 min
Z4: 1h
Z5: 1h30
Z6: 2h
Z7: 2h30
Z8: 3h
Z9: 3h30
Z10: 4h
Z11: 4h30
Z12: 5h
Z13: 5h30
Z14: 6h
... Z22: 10h

Sheet Amar
A1: Demandé par | B1: Date | C1: Equipement | D1: Atelier | E1: Centre de charges | F1: détail de la demande | G1: N° DI | H1: Temps théorique | I1: Temps éffectué | Z1: Temps réel
Z3: 30 min
Z4: 1h
Z5: 1h30
Z6: 2h
Z7: 2h30
Z8: 3h
Z9: 3h30
Z10: 4h
Z11: 4h30
Z12: 5h
Z13: 5h30
Z14: 6h
... Z22: 10h

Sheet correspondances zones
A1: ATELIER ENTRETIENT | B1: AUTRE | C1: 20307
A2: M_ABORD USINE | B2: AUTRE
A3: M_ASCENSEUR ADDITIF | B3: PREPARATION
A4: M_ASCENSEUR STER | B4: PREPARATION
A5: M_ASCENSEUR QUAI | B5: PREPARATION
A6: M_ATELIER PREPA | B6: PREPARATION
A7: M_ATELIER_CIP | B7: CIP
A8: M_ATLIER PROD | B8: CUISSON
A9: M_AUTOMATES | B9: CUISSON
A10: M_BROYEUR 1 | B10: PREPARATION
A11: M_BROYEUR 2 | B11: PREPARATION
A12: M_BROYEUR 3 | B12: PREPARATION
A13: M_BUREAU | B13: BUREAU / LABO
... A17: M_CH_STER_RECEPTION | B17: LOGISTIQUE
A18: M_CIP LIGNE 1 | B18: CIP | C18: 20301
A19: M_CIP LIGNE 2 | B19: CIP | C19: 20301
A20: M_COMMITROL | B20: PREPARATION
A21: M_CRIOVAC | B21: CUISSON
A22: M_CUVE A COCHON | B22: LOGISTIQUE
A23: M_EAU DE FORAGE | B23: ENERGIE / FLUIDES
A24: M_EAU USÉE | B24: ENERGIE / FLUIDES
A25: M_ECRASE_FUT | B25: PREPARATION
A26: M_ELECTRICITÉ | B26: ENERGIE / FLUIDES
A27: M_ENERGIE | B27: ENERGIE / FLUIDES
A28: M_EVAPO LIGNE 8 | B28: CUISSON
A29: M_FRUCTOSE CRISTAL | B29: PREPARATION
A30: M_GAZ | B30: ENERGIE / FLUIDES
A31: M_GLUCOSE | B31: SUCRE
... A61: M_CH_AROMES | B61: LOGISTIQUE

Sheet CORRESPONDANCE BUDGET
A1: ATELIER ENTRETIENT | B1: 20307
A2: M_ABORD USINE | B2: 20309
A3: M_ASCENSEUR ADDITIF | B3: 20302
A4: M_ASCENSEUR STER | B4: 20302
A5: M_ASCENSEUR QUAI | B5: 20302
A6: M_ATELIER PREPA | B6: 20302
A7: M_ATELIER_CIP | B7: 20301
A8: M_ATLIER PROD | B8: 20304
A9: M_AUTOMATES | B9: 20307
A10: M_BROYEUR 1 | B10: 20302
A11: M_BROYEUR 2 | B11: 20302
A12: M_BROYEUR 3 | B12: 20302
... A60: USINE DE MITRY-MORY | B60: 20312
A61: M_CH_AROMES
