Workbook

Sheet JOURS FERIES
A1: 1er Janvier | B1: =DATE(JANV!$A$1,1,1) -> 43831
A2: Pâques | B2: =DATE(JANV!A1,3,29.56+0.979*MOD(204-11*MOD(JANV!A1,19),30)-WEEKDAY(DATE(JANV!A1,3,28.26+0.979*MOD(204-11*MOD(JANV!A1,19),30)))) -> 43934
A3: Lundi de Pâques | B3: =B2+1 -> 43935
A4: 1er Mai | B4: =DATE(JANV!A1,5,1) -> 43952
A5: 8 Mai | B5: =DATE(JANV!A1,5,8) -> 43959
A6: Ascension | B6: =B2+39 -> 43973
A7: Pentecôte | B7: =B2+49 -> 43983
A8: Lundi de la Pentecôte | B8: =B2+50 -> 43984
A9: 14 Juillet | B9: =DATE(JANV!A1,7,14) -> 44026
A10: 15 Août | B10: =DATE(JANV!A1,8,15) -> 44058
A11: 1er Novembre | B11: =DATE(JANV!A1,11,1) -> 44136
A12: 11 Novembre | B12: =DATE(JANV!A1,11,11) -> 44146
A13: 25 Décembre | B13: =DATE(JANV!A1,12,25) -> 44190

Sheet JANV
A1: 2020 | C1: Réservations chambres | AI1: * | AJ1: Nombre de chambres et coût | AM1: * | AO1: Carte IBIS BUSINESS
B2: 1 | C2: JANVIER | AJ2: PRIX UNITAIRE | AL2: 74 | AO2: Eric | AQ2: *3081432700807952
A3: Mois | AJ3: COÛT | AK3: CHAMBRES | AO3: Paul | AQ3: *3081432662964312
A4: NOMS | B4: PRENOMS | C4: 1 | D4: =C4+1 -> 2 | E4: =D4+1 -> 3 | F4: =E4+1 -> 4 | G4: =F4+1 -> 5 | H4: =G4+1 -> 6 | I4: =H4+1 -> 7 | J4: =I4+1 -> 8 | K4: =J4+1 -> 9 | ... AG4: =AF4+1 -> 31 | AJ4: TOTAL | AK4: NBS | AL4: COÛT | AO4: Chantal | AQ4: *3081432699167947
C5: =DATE($A$1,$B$2,C4) -> 43831 | D5: =C5+1 -> 43832 | E5: =D5+1 -> 43833 | F5: =E5+1 -> 43834 | G5: =F5+1 -> 43835 | H5: =G5+1 -> 43836 | I5: =H5+1 -> 43837 | J5: =I5+1 -> 43838 | K5: =J5+1 -> 43839 | ... AG5: =AF5+1 -> 43861 | AH5: TOTAL | AJ5: Au mois | AK5: Depuis le | AL5: 42736 | AN5: 1 | AO5: RESA IBIS BUDGET
A6: HUGON | B6: Eric | AH6: =SUM(C6:AG6) -> 0 | AJ6: =AH6*$AL$2 -> 0 | AK6: =SUM(AH6) -> 0 | AL6: =SUM(AK6*$AL$2) -> 0 | AN6: 1 | AO6: Annulation à confirmer
A7: DESSOMME | B7: Paul | AH7: =SUM(C7:AG7) -> 0 | AJ7: =AH7*$AL$2 -> 0 | AK7: =SUM(AH7) -> 0 | AL7: =SUM(AK7*$AL$2) -> 0 | AN7: ? | AO7: Réservation à confirmer
A8: GUERMONT | B8: Michèle | AH8: =SUM(C8:AG8) -> 0 | AJ8: =AH8*$AL$2 -> 0 | AK8: =SUM(AH8) -> 0 | AL8: =SUM(AK8*$AL$2) -> 0 | AO8: BN et CS SNTU
A9: ROULLAUD | B9: Chantal | AH9: =SUM(C9:AG9) -> 0 | AJ9: =AH9*$AL$2 -> 0 | AK9: =SUM(AH9) -> 0 | AL9: =SUM(AK9*$AL$2) -> 0 | AO9: SECRETARIAT
A10: Non Affectées | B10: CFDT | AH10: =SUM(C10:AG10) -> 0 | AJ10: =AH10*$AL$2 -> 0 | AK10: =SUM(AH10) -> 0 | AL10: =SUM(AK10*$AL$2) -> 0 | AO10: REUNION
A11: CANTALOUBE | B11: Philippe | AH11: =SUM(C11:AG11) -> 0 | AJ11: =AH11*$AL$2 -> 0 | AK11: =SUM(AH11) -> 0 | AL11: =SUM(AK11*$AL$2) -> 0 | AO11: FORM
A12: CHARRON | B12: Jean Michel | AH12: =SUM(C12:AG12) -> 0 | AJ12: =AH12*$AL$2 -> 0 | AK12: =SUM(AH12) -> 0 | AL12: =SUM(AK12*$AL$2) -> 0 | AN12: CA | AO12: CONGES
A13: LE BONJOUR | B13: Jean Emmanuel | AH13: =SUM(C13:AG13) -> 0 | AJ13: =AH13*$AL$2 -> 0 | AK13: =SUM(AH13) -> 0 | AL13: =SUM(AK13*$AL$2) -> 0 | AO13: Fériés
A14: TERNOIS | B14: Pierrick | AH14: =SUM(C14:AG14) -> 0 | AJ14: =AH14*$AL$2 -> 0 | AK14: =SUM(AH14) -> 0 | AL14: =SUM(AK14*$AL$2) -> 0 | AO14: REUNION SNTU
A15: VANDENBROUCKE | B15: François | AH15: =SUM(C15:AG15) -> 0 | AJ15: =AH15*$AL$2 -> 0 | AK15: =SUM(AH15) -> 0 | AL15: =SUM(AK15*$AL$2) -> 0 | AP15: DU | AQ15: AU
A16: ACHOUR | B16: Souad | AH16: =SUM(C16:AG16) -> 0 | AJ16: =AH16*$AL$2 -> 0 | AK16: =SUM(AH16) -> 0 | AL16: =SUM(AK16*$AL$2) -> 0 | AO16: BN | AP16: 42757 | AQ16: 42758
A17: AUROY | B17: Alain | AH17: =SUM(C17:AG17) -> 0 | AJ17: =AH17*$AL$2 -> 0 | AK17: =SUM(AH17) -> 0 | AL17: =SUM(AK17*$AL$2) -> 0 | AO17: SECRETARIAT | AP17: 42786
A18: BELGOURCH | B18: Abdelmejid | AH18: =SUM(C18:AG18) -> 0 | AJ18: =AH18*$AL$2 -> 0 | AK18: =SUM(AH18) -> 0 | AL18: =SUM(AK18*$AL$2) -> 0 | AO18: BN | AP18: 42808 | AQ18: 42809
A19: CHEMIN | B19: Grégory | AH19: =SUM(C19:AG19) -> 0 | AJ19: =AH19*$AL$2 -> 0 | AK19: =SUM(AH19) -> 0 | AL19: =SUM(AK19*$AL$2) -> 0 | AO19: SECRETARIAT | AP19: 42839
A20: DANIEL | B20: Luc | AH20: =SUM(C20:AG20) -> 0 | AJ20: =AH20*$AL$2 -> 0 | AK20: =SUM(AH20) -> 0 | AL20: =SUM(AK20*$AL$2) -> 0 | AO20: BN + CS | AP20: 42898 | AQ20: 42900
A21: DELALLEAU | B21: Joël | AH21: =SUM(C21:AG21) -> 0 | AJ21: =AH21*$AL$2 -> 0 | AK21: =SUM(AH21) -> 0 | AL21: =SUM(AK21*$AL$2) -> 0 | AO21: SECRETARIAT | AP21: 42920
A22: DESROCHE | B22: Philippe | AH22: =SUM(C22:AG22) -> 0 | AJ22: =AH22*$AL$2 -> 0 | AK22: =SUM(AH22) -> 0 | AL22: =SUM(AK22*$AL$2) -> 0 | AO22: SECRETARIAT | AP22: 42982
A23: DIAS | B23: Patrick | AH23: =SUM(C23:AG23) -> 0 | AJ23: =AH23*$AL$2 -> 0 | AK23: =SUM(AH23) -> 0 | AL23: =SUM(AK23*$AL$2) -> 0 | AO23: BN | AP23: 42989 | AQ23: 42990
A24: GUEROUALI | B24: Mouhcine | AH24: =SUM(C24:AG24) -> 0 | AJ24: =AH24*$AL$2 -> 0 | AK24: =SUM(AH24) -> 0 | AL24: =SUM(AK24*$AL$2) -> 0 | AO24: TRESORIERS | AP24: 42991 | AQ24: PARIS
A25: LARDEUX | B25: Didier | AH25: =SUM(C25:AG25) -> 0 | AJ25: =AH25*$AL$2 -> 0 | AK25: =SUM(AH25) -> 0 | AL25: =SUM(AK25*$AL$2) -> 0 | AO25: SECRETARIAT | AP25: 43017
A26: LE MAUGUEN | B26: Gildas | AH26: =SUM(C26:AG26) -> 0 | AJ26: =AH26*$AL$2 -> 0 | AK26: =SUM(AH26) -> 0 | AL26: =SUM(AK26*$AL$2) -> 0 | AO26: BN | AP26: 43052 | AQ26: 43053
A27: PROVENDIER | B27: Steve | AH27: =SUM(C27:AG27) -> 0 | AJ27: =AH27*$AL$2 -> 0 | AK27: =SUM(AH27) -> 0 | AL27: =SUM(AK27*$AL$2) -> 0 | AO27: SECRETARIAT | AP27: 43080
A28: TAMSNA | B28: Hicham | AH28: =SUM(C28:AG28) -> 0 | AJ28: =AH28*$AL$2 -> 0 | AK28: =SUM(AH28) -> 0 | AL28: =SUM(AK28*$AL$2) -> 0 | AO28: FORMATION SNTU
A29: WERNERT | B29: Michel | AH29: =SUM(C29:AG29) -> 0 | AJ29: =AH29*$AL$2 -> 0 | AK29: =SUM(AH29) -> 0 | AL29: =SUM(AK29*$AL$2) -> 0 | AP29: Du | AQ29: Au
AH30: =SUM(C30:AG30) -> 0 | AJ30: =AH30*$AL$2 -> 0 | AK30: =SUM(AH30) -> 0 | AL30: =SUM(AK30*$AL$2) -> 0 | AO30: IREFE | AP30: 42764 | AQ30: 42767
AH31: =SUM(C31:AG31) -> 0 | AJ31: =AH31*$AL$2 -> 0 | AK31: =SUM(AH31) -> 0 | AL31: =SUM(AK31*$AL$2) -> 0 | AO31: CE | AP31: 42771 | AQ31: 42775
AH32: =SUM(C32:AG32) -> 0 | AJ32: =AH32*$AL$2 -> 0 | AK32: =SUM(AH32) -> 0 | AL32: =SUM(AK32*$AL$2) -> 0 | AO32: DS | AP32: 42779 | AQ32: 42781
A33: CARY | B33: Didier | AH33: =SUM(C33:AG33) -> 0 | AJ33: =AH33*$AL$2 -> 0 | AK33: =SUM(AH33) -> 0 | AL33: =SUM(AK33*$AL$2) -> 0 | AO33: CHSCT NIV 1 | AP33: 42792 | AQ33: 42796
AH34: =SUM(C34:AG34) -> 0 | AJ34: =AH34*$AL$2 -> 0 | AK34: =SUM(AH34) -> 0 | AL34: =SUM(AK34*$AL$2) -> 0 | AO34: CE | AP34: 42834 | AQ34: 42838
AH35: =SUM(C35:AG35) -> 0 | AJ35: =AH35*$AL$2 -> 0 | AK35: =SUM(AH35) -> 0 | AL35: =SUM(AK35*$AL$2) -> 0 | AO35: CHSCT NIV 2 | AP35: 42869 | AQ35: 42873
A36: VERMEESCH | B36: Guy | AH36: =SUM(C36:AG36) -> 0 | AJ36: =AH36*$AL$2 -> 0 | AK36: =SUM(AH36) -> 0 | AL36: =SUM(AK36*$AL$2) -> 0 | AO36: DS | AP36: 42870 | AQ36: 42872
A37: PLOUZENNEC | B37: Pierre | AH37: =SUM(C37:AG37) -> 0 | AJ37: =AH37*$AL$2 -> 0 | AK37: =SUM(AH37) -> 0 | AL37: =SUM(AK37*$AL$2) -> 0 | AO37: CE | AP37: 42911 | AQ37: 42915
AH38: =SUM(C38:AG38) -> 0 | AJ38: =AH38*$AL$2 -> 0 | AK38: =SUM(AH38) -> 0 | AL38: =SUM(AK38*$AL$2) -> 0 | AO38: CE | AP38: 43002 | AQ38: 43006
A39: FERRANDINO | B39: Denis | AH39: =SUM(C39:AG39) -> 0 | AJ39: =AH39*$AL$2 -> 0 | AK39: =SUM(AH39) -> 0 | AL39: =SUM(AK39*$AL$2) -> 0 | AO39: CHSCT NIV 1 | AP39: 43023 | AQ39: 43027
A40: PONZ | B40: Stéphanie | AH40: =SUM(C40:AG40) -> 0 | AJ40: =AH40*$AL$2 -> 0 | AK40: =SUM(AH40) -> 0 | AL40: =SUM(AK40*$AL$2) -> 0 | AO40: DS | AP40: 43024 | AQ40: 43026
AH41: =SUM(C41:AG41) -> 0 | AJ41: =AH41*$AL$2 -> 0 | AK41: =SUM(AH41) -> 0 | AL41: =SUM(AK41*$AL$2) -> 0
AH42: =SUM(C42:AG42) -> 0 | AJ42: =AH42*$AL$2 -> 0 | AK42: =SUM(AH42) -> 0 | AL42: =SUM(AK42*$AL$2) -> 0 | AO42: COORDINATIONS 1er semestre
AH43: =SUM(C43:AG43) -> 0 | AJ43: =AH43*$AL$2 -> 0 | AK43: =SUM(AH43) -> 0 | AL43: =SUM(AK43*$AL$2) -> 0 | AO43: OUEST | AP43: 4/5 avril | AQ43: ANGERS
AH44: =SUM(C44:AG44) -> 0 | AJ44: =AH44*$AL$2 -> 0 | AK44: =SUM(AH44) -> 0 | AL44: =SUM(AK44*$AL$2) -> 0 | AO44: CENTRE | AP44: 10/11 Avril
AH45: =SUM(C45:AG45) -> 0 | AJ45: =AH45*$AL$2 -> 0 | AK45: =SUM(AH45) -> 0 | AL45: =SUM(AK45*$AL$2) -> 0 | AO45: SUD OUEST | AP45: 7/8 Mars
AH46: =SUM(C46:AG46) -> 0 | AJ46: =AH46*$AL$2 -> 0 | AK46: =SUM(AH46) -> 0 | AL46: =SUM(AK46*$AL$2) -> 0 | AO46: NORD | AP46: 17/18 Avril | AQ46: LILLE
AH47: =SUM(C47:AG47) -> 0 | AJ47: =AH47*$AL$2 -> 0 | AK47: =SUM(AH47) -> 0 | AL47: =SUM(AK47*$AL$2) -> 0 | AO47: SUD EST | AP47: 26/27 Avril
AH48: =SUM(C48:AG48) -> 0 | AJ48: =AH48*$AL$2 -> 0 | AK48: =SUM(AH48) -> 0 | AL48: =SUM(AK48*$AL$2) -> 0 | AO48: EST | AP48: 29/30 Mai
AH49: =SUM(C49:AG49) -> 0 | AJ49: =AH49*$AL$2 -> 0 | AK49: =SUM(AH49) -> 0 | AL49: =SUM(AK49*$AL$2) -> 0 | AO49: COORDINATIONS 2ème semestre
AH50: =SUM(C50:AG50) -> 0 | AJ50: =AH50*$AL$2 -> 0 | AK50: =SUM(AH50) -> 0 | AL50: =SUM(AK50*$AL$2) -> 0 | AO50: OUEST | AP50: 3/4 Octobre
AH51: =SUM(C51:AG51) -> 0 | AJ51: =AH51*$AL$2 -> 0 | AK51: =SUM(AH51) -> 0 | AL51: =SUM(AK51*$AL$2) -> 0 | AO51: CENTRE | AP51: 6/7 Novembre
AH52: =SUM(C52:AG52) -> 0 | AJ52: =AH52*$AL$2 -> 0 | AK52: =SUM(AH52) -> 0 | AL52: =SUM(AK52*$AL$2) -> 0 | AO52: SUD OUEST | AP52: 19/20 Septembre
AH53: =SUM(C53:AG53) -> 0 | AJ53: =AH53*$AL$2 -> 0 | AK53: =SUM(AH53) -> 0 | AL53: =SUM(AK53*$AL$2) -> 0 | AO53: NORD | AP53: 26/27 Novembre | AQ53: PARIS
AH54: =SUM(C54:AG54) -> 0 | AJ54: =AH54*$AL$2 -> 0 | AK54: =SUM(AH54) -> 0 | AL54: =SUM(AK54*$AL$2) -> 0 | AO54: SUD EST | AP54: 12/13 Décembre
AH55: =SUM(C55:AG55) -> 0 | AJ55: =AH55*$AL$2 -> 0 | AK55: =SUM(AH55) -> 0 | AL55: =SUM(AK55*$AL$2) -> 0 | AO55: EST | AP55: 6/7 Novembre
AH56: =SUM(C56:AG56) -> 0 | AJ56: =AH56*$AL$2 -> 0 | AK56: =SUM(AH56) -> 0 | AL56: =SUM(AK56*$AL$2) -> 0
AH57: =SUM(C57:AG57) -> 0 | AJ57: =AH57*$AL$2 -> 0 | AK57: =SUM(AH57) -> 0 | AL57: =SUM(AK57*$AL$2) -> 0 | AO57: ! | AP57: A ANNULER
AH58: =SUM(C58:AG58) -> 0 | AJ58: =AH58*$AL$2 -> 0 | AK58: =SUM(AH58) -> 0 | AL58: =SUM(AK58*$AL$2) -> 0 | AO58: ? | AP58: A CONFIRMER
AH59: =SUM(C59:AG59) -> 0 | AJ59: =AH59*$AL$2 -> 0 | AK59: =SUM(AH59) -> 0 | AL59: =SUM(AK59*$AL$2) -> 0 | AO59: 1 | AP59: RESERVATION
AH60: =SUM(C60:AG60) -> 0 | AJ60: =AH60*$AL$2 -> 0 | AK60: =SUM(AH60) -> 0 | AL60: =SUM(AK60*$AL$2) -> 0
AH61: =SUM(C61:AG61) -> 0 | AJ61: =AH61*$AL$2 -> 0 | AK61: =SUM(AH61) -> 0 | AL61: =SUM(AK61*$AL$2) -> 0
AH62: =SUM(C62:AG62) -> 0 | AJ62: =AH62*$AL$2 -> 0 | AK62: =SUM(AH62) -> 0 | AL62: =SUM(AK62*$AL$2) -> 0
AH63: =SUM(C63:AG63) -> 0 | AJ63: =AH63*$AL$2 -> 0 | AK63: =SUM(AH63) -> 0 | AL63: =SUM(AK63*$AL$2) -> 0
AH64: =SUM(C64:AG64) -> 0 | AJ64: =AH64*$AL$2 -> 0 | AK64: =SUM(AH64) -> 0 | AL64: =SUM(AK64*$AL$2) -> 0
AH65: =SUM(C65:AG65) -> 0 | AJ65: =AH65*$AL$2 -> 0 | AK65: =SUM(AH65) -> 0 | AL65: =SUM(AK65*$AL$2) -> 0
AH66: =SUM(C66:AG66) -> 0 | AJ66: =AH66*$AL$2 -> 0 | AK66: =SUM(AH66) -> 0 | AL66: =SUM(AK66*$AL$2) -> 0
AH67: =SUM(C67:AG67) -> 0 | AJ67: =AH67*$AL$2 -> 0 | AK67: =SUM(AH67) -> 0 | AL67: =SUM(AK67*$AL$2) -> 0
AH68: =SUM(C68:AG68) -> 0 | AJ68: =AH68*$AL$2 -> 0 | AK68: =SUM(AH68) -> 0 | AL68: =SUM(AK68*$AL$2) -> 0
AH69: =SUM(C69:AG69) -> 0 | AJ69: =AH69*$AL$2 -> 0 | AK69: =SUM(AH69) -> 0 | AL69: =SUM(AK69*$AL$2) -> 0
AH70: =SUM(C70:AG70) -> 0 | AJ70: =AH70*$AL$2 -> 0 | AK70: =SUM(AH70) -> 0 | AL70: =SUM(AK70*$AL$2) -> 0
AH71: =SUM(C71:AG71) -> 0 | AJ71: =AH71*$AL$2 -> 0 | AK71: =SUM(AH71) -> 0 | AL71: =SUM(AK71*$AL$2) -> 0
... AH77: =SUM(C77:AG77) -> 0 | AJ77: =AH77*$AL$2 -> 0 | AK77: =SUM(AH77) -> 0 | AL77: =SUM(AK77*$AL$2) -> 0
A78: Total | C78: =SUM(C6:C77) -> 0 | D78: =SUM(D6:D77) -> 0 | E78: =SUM(E6:E77) -> 0 | F78: =SUM(F6:F77) -> 0 | G78: =SUM(G6:G77) -> 0 | H78: =SUM(H6:H77) -> 0 | I78: =SUM(I6:I77) -> 0 | J78: =SUM(J6:J77) -> 0 | ... AH78: =SUM(AH6:AH77) -> 0 | AJ78: =SUM(AJ6:AJ77) -> 0 | AK78: =SUM(AK6:AK77) -> 0 | AL78: =SUM(AL6:AL77) -> 0
AJ79: 76960

Sheet FEV
A1: =JANV!A1 -> 2020 | C1: Réservations chambres | AI1: * | AJ1: Nombre de chambres et coût | AM1: * | AO1: Carte IBIS BUSINESS
B2: 2 | C2: FEVRIER | AJ2: PRIX UNITAIRE | AL2: 74 | AO2: Eric | AQ2: *3081432700807952
A3: Mois | AH3: CHAMBRES | AJ3: COÛT | AK3: CHAMBRES | AO3: Paul | AQ3: *3081432662964312
A4: NOMS | B4: PRENOMS | C4: 1 | D4: =C4+1 -> 2 | E4: =D4+1 -> 3 | F4: =E4+1 -> 4 | G4: =F4+1 -> 5 | H4: =G4+1 -> 6 | I4: =H4+1 -> 7 | J4: =I4+1 -> 8 | K4: =J4+1 -> 9 | ... AG4: =AF4+1 -> 31 | AH4: TOTAL | AJ4: TOTAL | AK4: NBS | AL4: COÛT | AO4: Chantal | AQ4: *3081432699167947
C5: =DATE(JANV!$A$1,FEV!$B$2,FEV!C4) -> 43862 | D5: =C5+1 -> 43863 | E5: =D5+1 -> 43864 | F5: =E5+1 -> 43865 | G5: =F5+1 -> 43866 | H5: =G5+1 -> 43867 | I5: =H5+1 -> 43868 | J5: =I5+1 -> 43869 | K5: =J5+1 -> 43870 | ... AG5: =AF5+1 -> 43892 | AH5: au mois | AJ5: Au mois | AK5: Depuis le | AL5: 42736 | AN5: 1 | AO5: RESA IBIS BUDGET
A6: HUGON | B6: Eric | AH6: =SUM(C6:AG6) -> 0 | AJ6: =AH6*$AL$2 -> 0 | AK6: =SUM(AH6) -> 0 | AL6: =SUM(AK6*$AL$2) -> 0 | AN6: ? | AO6: Réservation à confirmer
A7: DESSOMME | B7: Paul
A8: GUERMONT | B8: Michèle | AH8: =SUM(C8:AG8) -> 0 | AJ8: =AH8*$AL$2 -> 0 | AK8: =SUM(AH8) -> 0 | AL8: =SUM(AK8*$AL$2) -> 0 | AO8: BN et CS SNTU
A9: ROULLAUD | B9: Chantal | AH9: =SUM(C9:AG9) -> 0 | AJ9: =AH9*$AL$2 -> 0 | AK9: =SUM(AH9) -> 0 | AL9: =SUM(AK9*$AL$2) -> 0 | AO9: SECRETARIAT
A10: Non Affectées | B10: CFDT | AH10: =SUM(C10:AG10) -> 0 | AJ10: =AH10*$AL$2 -> 0 | AK10: =SUM(AH10) -> 0 | AL10: =SUM(AK10*$AL$2) -> 0 | AO10: REUNION
A11: CANTALOUBE | B11: Philippe | AH11: =SUM(C11:AG11) -> 0 | AJ11: =AH11*$AL$2 -> 0 | AK11: =SUM(AH11) -> 0 | AL11: =SUM(AK11*$AL$2) -> 0 | AO11: FORM
A12: CHARRON | B12: Jean Michel | AH12: =SUM(C12:AG12) -> 0 | AJ12: =AH12*$AL$2 -> 0 | AK12: =SUM(AH12) -> 0 | AL12: =SUM(AK12*$AL$2) -> 0 | AN12: CA | AO12: CONGES
A13: LE BONJOUR | B13: Jean Emmanuel | AH13: =SUM(C13:AG13) -> 0 | AJ13: =AH13*$AL$2 -> 0 | AK13: =SUM(AH13) -> 0 | AL13: =SUM(AK13*$AL$2) -> 0 | AO13: Fériés
A14: TERNOIS | B14: Pierrick | AH14: =SUM(C14:AG14) -> 0 | AJ14: =AH14*$AL$2 -> 0 | AK14: =SUM(AH14) -> 0 | AL14: =SUM(AK14*$AL$2) -> 0 | AO14: REUNION SNTU
A15: VANDENBROUCKE | B15: François | AH15: =SUM(C15:AG15) -> 0 | AJ15: =AH15*$AL$2 -> 0 | AK15: =SUM(AH15) -> 0 | AL15: =SUM(AK15*$AL$2) -> 0 | AP15: DU | AQ15: AU
A16: ACHOUR | B16: Souad | AH16: =SUM(C16:AG16) -> 0 | AJ16: =AH16*$AL$2 -> 0 | AK16: =SUM(AH16) -> 0 | AL16: =SUM(AK16*$AL$2) -> 0 | AO16: BN | AP16: 42757 | AQ16: 42758
A17: AUROY | B17: Alain | AH17: =SUM(C17:AG17) -> 0 | AJ17: =AH17*$AL$2 -> 0 | AK17: =SUM(AH17) -> 0 | AL17: =SUM(AK17*$AL$2) -> 0 | AO17: SECRETARIAT | AP17: 42786
A18: BELGOURCH | B18: Abdelmejid | AH18: =SUM(C18:AG18) -> 0 | AJ18: =AH18*$AL$2 -> 0 | AK18: =SUM(AH18) -> 0 | AL18: =SUM(AK18*$AL$2) -> 0 | AO18: BN | AP18: 42808 | AQ18: 42809
A19: CHEMIN | B19: Grégory | AH19: =SUM(C19:AG19) -> 0 | AJ19: =AH19*$AL$2 -> 0 | AK19: =SUM(AH19) -> 0 | AL19: =SUM(AK19*$AL$2) -> 0 | AO19: SECRETARIAT | AP19: 42839
A20: DANIEL | B20: Luc | AH20: =SUM(C20:AG20) -> 0 | AJ20: =AH20*$AL$2 -> 0 | AK20: =SUM(AH20) -> 0 | AL20: =SUM(AK20*$AL$2) -> 0 | AO20: BN + CS | AP20: 42898 | AQ20: 42900
A21: DELALLEAU | B21: Joël | AH21: =SUM(C21:AG21) -> 0 | AJ21: =AH21*$AL$2 -> 0 | AK21: =SUM(AH21) -> 0 | AL21: =SUM(AK21*$AL$2) -> 0 | AO21: SECRETARIAT | AP21: 42920
A22: DESROCHE | B22: Philippe | AH22: =SUM(C22:AG22) -> 0 | AJ22: =AH22*$AL$2 -> 0 | AK22: =SUM(AH22) -> 0 | AL22: =SUM(AK22*$AL$2) -> 0 | AO22: SECRETARIAT | AP22: 42982
A23: DIAS | B23: Patrick | AH23: =SUM(C23:AG23) -> 0 | AJ23: =AH23*$AL$2 -> 0 | AK23: =SUM(AH23) -> 0 | AL23: =SUM(AK23*$AL$2) -> 0 | AO23: BN | AP23: 42989 | AQ23: 42990
A24: GUEROUALI | B24: Mouhcine | AH24: =SUM(C24:AG24) -> 0 | AJ24: =AH24*$AL$2 -> 0 | AK24: =SUM(AH24) -> 0 | AL24: =SUM(AK24*$AL$2) -> 0 | AO24: TRESORIERS | AP24: 42991 | AQ24: PARIS
A25: LARDEUX | B25: Didier | AH25: =SUM(C25:AG25) -> 0 | AJ25: =AH25*$AL$2 -> 0 | AK25: =SUM(AH25) -> 0 | AL25: =SUM(AK25*$AL$2) -> 0 | AO25: SECRETARIAT | AP25: 43017
A26: LE MAUGUEN | B26: Gildas | AH26: =SUM(C26:AG26) -> 0 | AJ26: =AH26*$AL$2 -> 0 | AK26: =SUM(AH26) -> 0 | AL26: =SUM(AK26*$AL$2) -> 0 | AO26: BN | AP26: 43052 | AQ26: 43053
A27: PROVENDIER | B27: Steve | AH27: =SUM(C27:AG27) -> 0 | AJ27: =AH27*$AL$2 -> 0 | AK27: =SUM(AH27) -> 0 | AL27: =SUM(AK27*$AL$2) -> 0 | AO27: SECRETARIAT | AP27: 43080
A28: TAMSNA | B28: Hicham | AH28: =SUM(C28:AG28) -> 0 | AJ28: =AH28*$AL$2 -> 0 | AK28: =SUM(AH28) -> 0 | AL28: =SUM(AK28*$AL$2) -> 0 | AO28: FORMATION SNTU
A29: WERNERT | B29: Michel | AH29: =SUM(C29:AG29) -> 0 | AJ29: =AH29*$AL$2 -> 0 | AK29: =SUM(AH29) -> 0 | AL29: =SUM(AK29*$AL$2) -> 0 | AP29: Du | AQ29: Au
AH30: =SUM(C30:AG30) -> 0 | AJ30: =AH30*$AL$2 -> 0 | AK30: =SUM(AH30) -> 0 | AL30: =SUM(AK30*$AL$2) -> 0 | AO30: IREFE | AP30: 42764 | AQ30: 42767
AH31: =SUM(C31:AG31) -> 0 | AJ31: =AH31*$AL$2 -> 0 | AK31: =SUM(AH31) -> 0 | AL31: =SUM(AK31*$AL$2) -> 0 | AO31: CE | AP31: 42771 | AQ31: 42775
AH32: =SUM(C32:AG32) -> 0 | AJ32: =AH32*$AL$2 -> 0 | AK32: =SUM(AH32) -> 0 | AL32: =SUM(AK32*$AL$2) -> 0 | AO32: DS | AP32: 42779 | AQ32: 42781
A33: CARY | B33: Didier | AH33: =SUM(C33:AG33) -> 0 | AJ33: =AH33*$AL$2 -> 0 | AK33: =SUM(AH33) -> 0 | AL33: =SUM(AK33*$AL$2) -> 0 | AO33: CHSCT NIV 1 | AP33: 42792 | AQ33: 42796
AH34: =SUM(C34:AG34) -> 0 | AJ34: =AH34*$AL$2 -> 0 | AK34: =SUM(AH34) -> 0 | AL34: =SUM(AK34*$AL$2) -> 0 | AO34: CE | AP34: 42834 | AQ34: 42838
AH35: =SUM(C35:AG35) -> 0 | AJ35: =AH35*$AL$2 -> 0 | AK35: =SUM(AH35) -> 0 | AL35: =SUM(AK35*$AL$2) -> 0 | AO35: CHSCT NIV 2 | AP35: 42869 | AQ35: 42873
A36: VERMEESCH | B36: Guy | AH36: =SUM(C36:AG36) -> 0 | AJ36: =AH36*$AL$2 -> 0 | AK36: =SUM(AH36) -> 0 | AL36: =SUM(AK36*$AL$2) -> 0 | AO36: DS | AP36: 42870 | AQ36: 42872
A37: PLOUZENNEC | B37: Pierre | AH37: =SUM(C37:AG37) -> 0 | AJ37: =AH37*$AL$2 -> 0 | AK37: =SUM(AH37) -> 0 | AL37: =SUM(AK37*$AL$2) -> 0 | AO37: CE | AP37: 42911 | AQ37: 42915
AH38: =SUM(C38:AG38) -> 0 | AJ38: =AH38*$AL$2 -> 0 | AK38: =SUM(AH38) -> 0 | AL38: =SUM(AK38*$AL$2) -> 0 | AO38: CE | AP38: 43002 | AQ38: 43006
A39: FERRANDINO | B39: Denis | AH39: =SUM(C39:AG39) -> 0 | AJ39: =AH39*$AL$2 -> 0 | AK39: =SUM(AH39) -> 0 | AL39: =SUM(AK39*$AL$2) -> 0 | AO39: CHSCT NIV 1 | AP39: 43023 | AQ39: 43027
A40: PONZ | B40: Stéphanie | AH40: =SUM(C40:AG40) -> 0 | AJ40: =AH40*$AL$2 -> 0 | AK40: =SUM(AH40) -> 0 | AL40: =SUM(AK40*$AL$2) -> 0 | AO40: DS | AP40: 43024 | AQ40: 43026
AH41: =SUM(C41:AG41) -> 0 | AJ41: =AH41*$AL$2 -> 0 | AK41: =SUM(AH41) -> 0 | AL41: =SUM(AK41*$AL$2) -> 0
AH42: =SUM(C42:AG42) -> 0 | AJ42: =AH42*$AL$2 -> 0 | AK42: =SUM(AH42) -> 0 | AL42: =SUM(AK42*$AL$2) -> 0 | AO42: COORDINATIONS 1er semestre
AH43: =SUM(C43:AG43) -> 0 | AJ43: =AH43*$AL$2 -> 0 | AK43: =SUM(AH43) -> 0 | AL43: =SUM(AK43*$AL$2) -> 0 | AO43: OUEST | AP43: 4/5 avril | AQ43: ANGERS
AH44: =SUM(C44:AG44) -> 0 | AJ44: =AH44*$AL$2 -> 0 | AK44: =SUM(AH44) -> 0 | AL44: =SUM(AK44*$AL$2) -> 0 | AO44: CENTRE | AP44: 10/11 Avril
AH45: =SUM(C45:AG45) -> 0 | AJ45: =AH45*$AL$2 -> 0 | AK45: =SUM(AH45) -> 0 | AL45: =SUM(AK45*$AL$2) -> 0 | AO45: SUD OUEST | AP45: 7/8 Mars
AH46: =SUM(C46:AG46) -> 0 | AJ46: =AH46*$AL$2 -> 0 | AK46: =SUM(AH46) -> 0 | AL46: =SUM(AK46*$AL$2) -> 0 | AO46: NORD | AP46: 17/18 Avril | AQ46: LILLE
AH47: =SUM(C47:AG47) -> 0 | AJ47: =AH47*$AL$2 -> 0 | AK47: =SUM(AH47) -> 0 | AL47: =SUM(AK47*$AL$2) -> 0 | AO47: SUD EST | AP47: 26/27 Avril
AH48: =SUM(C48:AG48) -> 0 | AJ48: =AH48*$AL$2 -> 0 | AK48: =SUM(AH48) -> 0 | AL48: =SUM(AK48*$AL$2) -> 0 | AO48: EST | AP48: 29/30 Mai
AH49: =SUM(C49:AG49) -> 0 | AJ49: =AH49*$AL$2 -> 0 | AK49: =SUM(AH49) -> 0 | AL49: =SUM(AK49*$AL$2) -> 0 | AO49: COORDINATIONS 2ème semestre
AH50: =SUM(C50:AG50) -> 0 | AJ50: =AH50*$AL$2 -> 0 | AK50: =SUM(AH50) -> 0 | AL50: =SUM(AK50*$AL$2) -> 0 | AO50: OUEST | AP50: 3/4 Octobre
AH51: =SUM(C51:AG51) -> 0 | AJ51: =AH51*$AL$2 -> 0 | AK51: =SUM(AH51) -> 0 | AL51: =SUM(AK51*$AL$2) -> 0 | AO51: CENTRE | AP51: 6/7 Novembre
AH52: =SUM(C52:AG52) -> 0 | AJ52: =AH52*$AL$2 -> 0 | AK52: =SUM(AH52) -> 0 | AL52: =SUM(AK52*$AL$2) -> 0 | AO52: SUD OUEST | AP52: 19/20 Septembre
AH53: =SUM(C53:AG53) -> 0 | AJ53: =AH53*$AL$2 -> 0 | AK53: =SUM(AH53) -> 0 | AL53: =SUM(AK53*$AL$2) -> 0 | AO53: NORD | AP53: 26/27 Novembre | AQ53: PARIS
AH54: =SUM(C54:AG54) -> 0 | AJ54: =AH54*$AL$2 -> 0 | AK54: =SUM(AH54) -> 0 | AL54: =SUM(AK54*$AL$2) -> 0 | AO54: SUD EST | AP54: 12/13 Décembre
AH55: =SUM(C55:AG55) -> 0 | AJ55: =AH55*$AL$2 -> 0 | AK55: =SUM(AH55) -> 0 | AL55: =SUM(AK55*$AL$2) -> 0 | AO55: EST | AP55: 6/7 Novembre
AH56: =SUM(C56:AG56) -> 0 | AJ56: =AH56*$AL$2 -> 0 | AK56: =SUM(AH56) -> 0 | AL56: =SUM(AK56*$AL$2) -> 0
AH57: =SUM(C57:AG57) -> 0 | AJ57: =AH57*$AL$2 -> 0 | AK57: =SUM(AH57) -> 0 | AL57: =SUM(AK57*$AL$2) -> 0 | AO57: ! | AP57: A ANNULER
AH58: =SUM(C58:AG58) -> 0 | AJ58: =AH58*$AL$2 -> 0 | AK58: =SUM(AH58) -> 0 | AL58: =SUM(AK58*$AL$2) -> 0 | AO58: ? | AP58: A CONFIRMER
AH59: =SUM(C59:AG59) -> 0 | AJ59: =AH59*$AL$2 -> 0 | AK59: =SUM(AH59) -> 0 | AL59: =SUM(AK59*$AL$2) -> 0 | AO59: 1 | AP59: RESERVATION
AH60: =SUM(C60:AG60) -> 0 | AJ60: =AH60*$AL$2 -> 0 | AK60: =SUM(AH60) -> 0 | AL60: =SUM(AK60*$AL$2) -> 0
AH61: =SUM(C61:AG61) -> 0 | AJ61: =AH61*$AL$2 -> 0 | AK61: =SUM(AH61) -> 0 | AL61: =SUM(AK61*$AL$2) -> 0
AH62: =SUM(C62:AG62) -> 0 | AJ62: =AH62*$AL$2 -> 0 | AK62: =SUM(AH62) -> 0 | AL62: =SUM(AK62*$AL$2) -> 0
AH63: =SUM(C63:AG63) -> 0 | AJ63: =AH63*$AL$2 -> 0 | AK63: =SUM(AH63) -> 0 | AL63: =SUM(AK63*$AL$2) -> 0
AH64: =SUM(C64:AG64) -> 0 | AJ64: =AH64*$AL$2 -> 0 | AK64: =SUM(AH64) -> 0 | AL64: =SUM(AK64*$AL$2) -> 0
AH65: =SUM(C65:AG65) -> 0 | AJ65: =AH65*$AL$2 -> 0 | AK65: =SUM(AH65) -> 0 | AL65: =SUM(AK65*$AL$2) -> 0
AH66: =SUM(C66:AG66) -> 0 | AJ66: =AH66*$AL$2 -> 0 | AK66: =SUM(AH66) -> 0 | AL66: =SUM(AK66*$AL$2) -> 0
AH67: =SUM(C67:AG67) -> 0 | AJ67: =AH67*$AL$2 -> 0 | AK67: =SUM(AH67) -> 0 | AL67: =SUM(AK67*$AL$2) -> 0
AH68: =SUM(C68:AG68) -> 0 | AJ68: =AH68*$AL$2 -> 0 | AK68: =SUM(AH68) -> 0 | AL68: =SUM(AK68*$AL$2) -> 0
AH69: =SUM(C69:AG69) -> 0 | AJ69: =AH69*$AL$2 -> 0 | AK69: =SUM(AH69) -> 0 | AL69: =SUM(AK69*$AL$2) -> 0
AH70: =SUM(C70:AG70) -> 0 | AJ70: =AH70*$AL$2 -> 0 | AK70: =SUM(AH70) -> 0 | AL70: =SUM(AK70*$AL$2) -> 0
AH71: =SUM(C71:AG71) -> 0 | AJ71: =AH71*$AL$2 -> 0 | AK71: =SUM(AH71) -> 0 | AL71: =SUM(AK71*$AL$2) -> 0
... AH77: =SUM(C77:AG77) -> 0 | AJ77: =AH77*$AL$2 -> 0 | AK77: =SUM(AH77) -> 0 | AL77: =SUM(AK77*$AL$2) -> 0
A78: Total | C78: =SUM(C6:C77) -> 0 | D78: =SUM(D6:D77) -> 0 | E78: =SUM(E6:E77) -> 0 | F78: =SUM(F6:F77) -> 0 | G78: =SUM(G6:G77) -> 0 | H78: =SUM(H6:H77) -> 0 | I78: =SUM(I6:I77) -> 0 | J78: =SUM(J6:J77) -> 0 | ... AG78: =SUM(AG6:AG77) -> 0 | AH78: =SUM(C78:AG78) -> 0 | AJ78: =AH78*$AL$2 -> 0 | AK78: =SUM(AH78) -> 0 | AL78: =SUM(AK78*$AL$2) -> 0
AJ79: =SUM(AJ6:AJ78) -> 0 | AK79: =SUM(AK6:AK78) -> 0 | AL79: =SUM(AL6:AL78) -> 0
AJ80: 76960

Sheet MARS
A1: =JANV!A1 -> 2020 | C1: Réservations chambres | AI1: * | AJ1: Nombre de chambres et coût | AM1: * | AO1: Carte IBIS BUSINESS
B2: 3 | C2: MARS | AJ2: PRIX UNITAIRE | AL2: 74 | AO2: Eric | AQ2: *3081432700807952
A3: Mois | AH3: CHAMBRES | AJ3: COÛT | AK3: CHAMBRES | AO3: Paul | AQ3: *3081432662964312
A4: NOMS | B4: PRENOMS | C4: 1 | D4: =C4+1 -> 2 | E4: =D4+1 -> 3 | F4: =E4+1 -> 4 | G4: =F4+1 -> 5 | H4: =G4+1 -> 6 | I4: =H4+1 -> 7 | J4: =I4+1 -> 8 | K4: =J4+1 -> 9 | ... AG4: =AF4+1 -> 31 | AH4: TOTAL | AJ4: TOTAL | AK4: NBS | AL4: COÛT | AO4: Chantal | AQ4: *3081432699167947
C5: =DATE(JANV!$A$1,MARS!$B$2,MARS!C4) -> 43891 | D5: =C5+1 -> 43892 | E5: =D5+1 -> 43893 | F5: =E5+1 -> 43894 | G5: =F5+1 -> 43895 | H5: =G5+1 -> 43896 | I5: =H5+1 -> 43897 | J5: =I5+1 -> 43898 | K5: =J5+1 -> 43899 | ... AG5: =AF5+1 -> 43921 | AH5: au mois | AJ5: Au mois | AK5: Depuis le | AL5: 42736 | AN5: 1 | AO5: RESA IBIS BUDGET
A6: HUGON | B6: Eric | AH6: =SUM(C6:AG6) -> 0 | AJ6: =AH6*$AL$2 -> 0 | AK6: =SUM(AH6) -> 0 | AL6: =SUM(AK6*$AL$2) -> 0 | AN6: ? | AO6: Réservation à confirmer
A7: DESSOMME | B7: Paul
A8: GUERMONT | B8: Michèle | AH8: =SUM(C8:AG8) -> 0 | AJ8: =AH8*$AL$2 -> 0 | AK8: =SUM(AH8) -> 0 | AL8: =SUM(AK8*$AL$2) -> 0 | AO8: BN et CS SNTU
A9: ROULLAUD | B9: Chantal | AH9: =SUM(C9:AG9) -> 0 | AJ9: =AH9*$AL$2 -> 0 | AK9: =SUM(AH9) -> 0 | AL9: =SUM(AK9*$AL$2) -> 0 | AO9: SECRETARIAT
A10: Non Affectées | B10: CFDT | AH10: =SUM(C10:AG10) -> 0 | AJ10: =AH10*$AL$2 -> 0 | AK10: =SUM(AH10) -> 0 | AL10: =SUM(AK10*$AL$2) -> 0 | AO10: REUNION
A11: CANTALOUBE | B11: Philippe | AH11: =SUM(C11:AG11) -> 0 | AJ11: =AH11*$AL$2 -> 0 | AK11: =SUM(AH11) -> 0 | AL11: =SUM(AK11*$AL$2) -> 0 | AO11: FORM
A12: CHARRON | B12: Jean Michel | AH12: =SUM(C12:AG12) -> 0 | AJ12: =AH12*$AL$2 -> 0 | AK12: =SUM(AH12) -> 0 | AL12: =SUM(AK12*$AL$2) -> 0 | AN12: CA | AO12: CONGES
A13: LE BONJOUR | B13: Jean Emmanuel | AH13: =SUM(C13:AG13) -> 0 | AJ13: =AH13*$AL$2 -> 0 | AK13: =SUM(AH13) -> 0 | AL13: =SUM(AK13*$AL$2) -> 0 | AO13: Fériés
A14: TERNOIS | B14: Pierrick | AH14: =SUM(C14:AG14) -> 0 | AJ14: =AH14*$AL$2 -> 0 | AK14: =SUM(AH14) -> 0 | AL14: =SUM(AK14*$AL$2) -> 0 | AO14: REUNION SNTU
A15: VANDENBROUCKE | B15: François | AH15: =SUM(C15:AG15) -> 0 | AJ15: =AH15*$AL$2 -> 0 | AK15: =SUM(AH15) -> 0 | AL15: =SUM(AK15*$AL$2) -> 0 | AP15: DU | AQ15: AU
A16: ACHOUR | B16: Souad | AH16: =SUM(C16:AG16) -> 0 | AJ16: =AH16*$AL$2 -> 0 | AK16: =SUM(AH16) -> 0 | AL16: =SUM(AK16*$AL$2) -> 0 | AO16: BN | AP16: 42757 | AQ16: 42758
A17: AUROY | B17: Alain | AH17: =SUM(C17:AG17) -> 0 | AJ17: =AH17*$AL$2 -> 0 | AK17: =SUM(AH17) -> 0 | AL17: =SUM(AK17*$AL$2) -> 0 | AO17: SECRETARIAT | AP17: 42786
A18: BELGOURCH | B18: Abdelmejid | AH18: =SUM(C18:AG18) -> 0 | AJ18: =AH18*$AL$2 -> 0 | AK18: =SUM(AH18) -> 0 | AL18: =SUM(AK18*$AL$2) -> 0 | AO18: BN | AP18: 42808 | AQ18: 42809
A19: CHEMIN | B19: Grégory | AH19: =SUM(C19:AG19) -> 0 | AJ19: =AH19*$AL$2 -> 0 | AK19: =SUM(AH19) -> 0 | AL19: =SUM(AK19*$AL$2) -> 0 | AO19: SECRETARIAT | AP19: 42839
A20: DANIEL | B20: Luc | AH20: =SUM(C20:AG20) -> 0 | AJ20: =AH20*$AL$2 -> 0 | AK20: =SUM(AH20) -> 0 | AL20: =SUM(AK20*$AL$2) -> 0 | AO20: BN + CS | AP20: 42898 | AQ20: 42900
A21: DELALLEAU | B21: Joël | AH21: =SUM(C21:AG21) -> 0 | AJ21: =AH21*$AL$2 -> 0 | AK21: =SUM(AH21) -> 0 | AL21: =SUM(AK21*$AL$2) -> 0 | AO21: SECRETARIAT | AP21: 42920
A22: DESROCHE | B22: Philippe | AH22: =SUM(C22:AG22) -> 0 | AJ22: =AH22*$AL$2 -> 0 | AK22: =SUM(AH22) -> 0 | AL22: =SUM(AK22*$AL$2) -> 0 | AO22: SECRETARIAT | AP22: 42982
A23: DIAS | B23: Patrick | AH23: =SUM(C23:AG23) -> 0 | AJ23: =AH23*$AL$2 -> 0 | AK23: =SUM(AH23) -> 0 | AL23: =SUM(AK23*$AL$2) -> 0 | AO23: BN | AP23: 42989 | AQ23: 42990
A24: GUEROUALI | B24: Mouhcine | AH24: =SUM(C24:AG24) -> 0 | AJ24: =AH24*$AL$2 -> 0 | AK24: =SUM(AH24) -> 0 | AL24: =SUM(AK24*$AL$2) -> 0 | AO24: TRESORIERS | AP24: 42991 | AQ24: PARIS
A25: LARDEUX | B25: Didier | AH25: =SUM(C25:AG25) -> 0 | AJ25: =AH25*$AL$2 -> 0 | AK25: =SUM(AH25) -> 0 | AL25: =SUM(AK25*$AL$2) -> 0 | AO25: SECRETARIAT | AP25: 43017
A26: LE MAUGUEN | B26: Gildas | AH26: =SUM(C26:AG26) -> 0 | AJ26: =AH26*$AL$2 -> 0 | AK26: =SUM(AH26) -> 0 | AL26: =SUM(AK26*$AL$2) -> 0 | AO26: BN | AP26: 43052 | AQ26: 43053
A27: PROVENDIER | B27: Steve | AH27: =SUM(C27:AG27) -> 0 | AJ27: =AH27*$AL$2 -> 0 | AK27: =SUM(AH27) -> 0 | AL27: =SUM(AK27*$AL$2) -> 0 | AO27: SECRETARIAT | AP27: 43080
A28: TAMSNA | B28: Hicham | AH28: =SUM(C28:AG28) -> 0 | AJ28: =AH28*$AL$2 -> 0 | AK28: =SUM(AH28) -> 0 | AL28: =SUM(AK28*$AL$2) -> 0 | AO28: FORMATION SNTU
A29: WERNERT | B29: Michel | AH29: =SUM(C29:AG29) -> 0 | AJ29: =AH29*$AL$2 -> 0 | AK29: =SUM(AH29) -> 0 | AL29: =SUM(AK29*$AL$2) -> 0 | AP29: Du | AQ29: Au
AH30: =SUM(C30:AG30) -> 0 | AJ30: =AH30*$AL$2 -> 0 | AK30: =SUM(AH30) -> 0 | AL30: =SUM(AK30*$AL$2) -> 0 | AO30: IREFE | AP30: 42764 | AQ30: 42767
AH31: =SUM(C31:AG31) -> 0 | AJ31: =AH31*$AL$2 -> 0 | AK31: =SUM(AH31) -> 0 | AL31: =SUM(AK31*$AL$2) -> 0 | AO31: CE | AP31: 42771 | AQ31: 42775
AH32: =SUM(C32:AG32) -> 0 | AJ32: =AH32*$AL$2 -> 0 | AK32: =SUM(AH32) -> 0 | AL32: =SUM(AK32*$AL$2) -> 0 | AO32: DS | AP32: 42779 | AQ32: 42781
A33: CARY | B33: Didier | AH33: =SUM(C33:AG33) -> 0 | AJ33: =AH33*$AL$2 -> 0 | AK33: =SUM(AH33) -> 0 | AL33: =SUM(AK33*$AL$2) -> 0 | AO33: CHSCT NIV 1 | AP33: 42792 | AQ33: 42796
AH34: =SUM(C34:AG34) -> 0 | AJ34: =AH34*$AL$2 -> 0 | AK34: =SUM(AH34) -> 0 | AL34: =SUM(AK34*$AL$2) -> 0 | AO34: CE | AP34: 42834 | AQ34: 42838
AH35: =SUM(C35:AG35) -> 0 | AJ35: =AH35*$AL$2 -> 0 | AK35: =SUM(AH35) -> 0 | AL35: =SUM(AK35*$AL$2) -> 0 | AO35: CHSCT NIV 2 | AP35: 42869 | AQ35: 42873
A36: VERMEESCH | B36: Guy | AH36: =SUM(C36:AG36) -> 0 | AJ36: =AH36*$AL$2 -> 0 | AK36: =SUM(AH36) -> 0 | AL36: =SUM(AK36*$AL$2) -> 0 | AO36: DS | AP36: 42870 | AQ36: 42872
A37: PLOUZENNEC | B37: Pierre | AH37: =SUM(C37:AG37) -> 0 | AJ37: =AH37*$AL$2 -> 0 | AK37: =SUM(AH37) -> 0 | AL37: =SUM(AK37*$AL$2) -> 0 | AO37: CE | AP37: 42911 | AQ37: 42915
AH38: =SUM(C38:AG38) -> 0 | AJ38: =AH38*$AL$2 -> 0 | AK38: =SUM(AH38) -> 0 | AL38: =SUM(AK38*$AL$2) -> 0 | AO38: CE | AP38: 43002 | AQ38: 43006
A39: FERRANDINO | B39: Denis | AH39: =SUM(C39:AG39) -> 0 | AJ39: =AH39*$AL$2 -> 0 | AK39: =SUM(AH39) -> 0 | AL39: =SUM(AK39*$AL$2) -> 0 | AO39: CHSCT NIV 1 | AP39: 43023 | AQ39: 43027
A40: PONZ | B40: Stéphanie | AH40: =SUM(C40:AG40) -> 0 | AJ40: =AH40*$AL$2 -> 0 | AK40: =SUM(AH40) -> 0 | AL40: =SUM(AK40*$AL$2) -> 0 | AO40: DS | AP40: 43024 | AQ40: 43026
AH41: =SUM(C41:AG41) -> 0 | AJ41: =AH41*$AL$2 -> 0 | AK41: =SUM(AH41) -> 0 | AL41: =SUM(AK41*$AL$2) -> 0
AH42: =SUM(C42:AG42) -> 0 | AJ42: =AH42*$AL$2 -> 0 | AK42: =SUM(AH42) -> 0 | AL42: =SUM(AK42*$AL$2) -> 0 | AO42: COORDINATIONS 1er semestre
AH43: =SUM(C43:AG43) -> 0 | AJ43: =AH43*$AL$2 -> 0 | AK43: =SUM(AH43) -> 0 | AL43: =SUM(AK43*$AL$2) -> 0 | AO43: OUEST | AP43: 4/5 avril | AQ43: ANGERS
AH44: =SUM(C44:AG44) -> 0 | AJ44: =AH44*$AL$2 -> 0 | AK44: =SUM(AH44) -> 0 | AL44: =SUM(AK44*$AL$2) -> 0 | AO44: CENTRE | AP44: 10/11 Avril
AH45: =SUM(C45:AG45) -> 0 | AJ45: =AH45*$AL$2 -> 0 | AK45: =SUM(AH45) -> 0 | AL45: =SUM(AK45*$AL$2) -> 0 | AO45: SUD OUEST | AP45: 7/8 Mars
AH46: =SUM(C46:AG46) -> 0 | AJ46: =AH46*$AL$2 -> 0 | AK46: =SUM(AH46) -> 0 | AL46: =SUM(AK46*$AL$2) -> 0 | AO46: NORD | AP46: 17/18 Avril | AQ46: LILLE
AH47: =SUM(C47:AG47) -> 0 | AJ47: =AH47*$AL$2 -> 0 | AK47: =SUM(AH47) -> 0 | AL47: =SUM(AK47*$AL$2) -> 0 | AO47: SUD EST | AP47: 26/27 Avril
AH48: =SUM(C48:AG48) -> 0 | AJ48: =AH48*$AL$2 -> 0 | AK48: =SUM(AH48) -> 0 | AL48: =SUM(AK48*$AL$2) -> 0 | AO48: EST | AP48: 29/30 Mai
AH49: =SUM(C49:AG49) -> 0 | AJ49: =AH49*$AL$2 -> 0 | AK49: =SUM(AH49) -> 0 | AL49: =SUM(AK49*$AL$2) -> 0 | AO49: COORDINATIONS 2ème semestre
AH50: =SUM(C50:AG50) -> 0 | AJ50: =AH50*$AL$2 -> 0 | AK50: =SUM(AH50) -> 0 | AL50: =SUM(AK50*$AL$2) -> 0 | AO50: OUEST | AP50: 3/4 Octobre
AH51: =SUM(C51:AG51) -> 0 | AJ51: =AH51*$AL$2 -> 0 | AK51: =SUM(AH51) -> 0 | AL51: =SUM(AK51*$AL$2) -> 0 | AO51: CENTRE | AP51: 6/7 Novembre
AH52: =SUM(C52:AG52) -> 0 | AJ52: =AH52*$AL$2 -> 0 | AK52: =SUM(AH52) -> 0 | AL52: =SUM(AK52*$AL$2) -> 0 | AO52: SUD OUEST | AP52: 19/20 Septembre
AH53: =SUM(C53:AG53) -> 0 | AJ53: =AH53*$AL$2 -> 0 | AK53: =SUM(AH53) -> 0 | AL53: =SUM(AK53*$AL$2) -> 0 | AO53: NORD | AP53: 26/27 Novembre | AQ53: PARIS
AH54: =SUM(C54:AG54) -> 0 | AJ54: =AH54*$AL$2 -> 0 | AK54: =SUM(AH54) -> 0 | AL54: =SUM(AK54*$AL$2) -> 0 | AO54: SUD EST | AP54: 12/13 Décembre
AH55: =SUM(C55:AG55) -> 0 | AJ55: =AH55*$AL$2 -> 0 | AK55: =SUM(AH55) -> 0 | AL55: =SUM(AK55*$AL$2) -> 0 | AO55: EST | AP55: 6/7 Novembre
AH56: =SUM(C56:AG56) -> 0 | AJ56: =AH56*$AL$2 -> 0 | AK56: =SUM(AH56) -> 0 | AL56: =SUM(AK56*$AL$2) -> 0
AH57: =SUM(C57:AG57) -> 0 | AJ57: =AH57*$AL$2 -> 0 | AK57: =SUM(AH57) -> 0 | AL57: =SUM(AK57*$AL$2) -> 0
AH58: =SUM(C58:AG58) -> 0 | AJ58: =AH58*$AL$2 -> 0 | AK58: =SUM(AH58) -> 0 | AL58: =SUM(AK58*$AL$2) -> 0 | AO58: ! | AP58: A ANNULER
AH59: =SUM(C59:AG59) -> 0 | AJ59: =AH59*$AL$2 -> 0 | AK59: =SUM(AH59) -> 0 | AL59: =SUM(AK59*$AL$2) -> 0 | AO59: ? | AP59: A CONFIRMER
AH60: =SUM(C60:AG60) -> 0 | AJ60: =AH60*$AL$2 -> 0 | AK60: =SUM(AH60) -> 0 | AL60: =SUM(AK60*$AL$2) -> 0 | AO60: 1 | AP60: RESERVATION
AH61: =SUM(C61:AG61) -> 0 | AJ61: =AH61*$AL$2 -> 0 | AK61: =SUM(AH61) -> 0 | AL61: =SUM(AK61*$AL$2) -> 0
AH62: =SUM(C62:AG62) -> 0 | AJ62: =AH62*$AL$2 -> 0 | AK62: =SUM(AH62) -> 0 | AL62: =SUM(AK62*$AL$2) -> 0
AH63: =SUM(C63:AG63) -> 0 | AJ63: =AH63*$AL$2 -> 0 | AK63: =SUM(AH63) -> 0 | AL63: =SUM(AK63*$AL$2) -> 0
AH64: =SUM(C64:AG64) -> 0 | AJ64: =AH64*$AL$2 -> 0 | AK64: =SUM(AH64) -> 0 | AL64: =SUM(AK64*$AL$2) -> 0
AH65: =SUM(C65:AG65) -> 0 | AJ65: =AH65*$AL$2 -> 0 | AK65: =SUM(AH65) -> 0 | AL65: =SUM(AK65*$AL$2) -> 0
AH66: =SUM(C66:AG66) -> 0 | AJ66: =AH66*$AL$2 -> 0 | AK66: =SUM(AH66) -> 0 | AL66: =SUM(AK66*$AL$2) -> 0
AH67: =SUM(C67:AG67) -> 0 | AJ67: =AH67*$AL$2 -> 0 | AK67: =SUM(AH67) -> 0 | AL67: =SUM(AK67*$AL$2) -> 0
AH68: =SUM(C68:AG68) -> 0 | AJ68: =AH68*$AL$2 -> 0 | AK68: =SUM(AH68) -> 0 | AL68: =SUM(AK68*$AL$2) -> 0
AH69: =SUM(C69:AG69) -> 0 | AJ69: =AH69*$AL$2 -> 0 | AK69: =SUM(AH69) -> 0 | AL69: =SUM(AK69*$AL$2) -> 0
AH70: =SUM(C70:AG70) -> 0 | AJ70: =AH70*$AL$2 -> 0 | AK70: =SUM(AH70) -> 0 | AL70: =SUM(AK70*$AL$2) -> 0
AH71: =SUM(C71:AG71) -> 0 | AJ71: =AH71*$AL$2 -> 0 | AK71: =SUM(AH71) -> 0 | AL71: =SUM(AK71*$AL$2) -> 0
AH72: =SUM(C72:AG72) -> 0 | AJ72: =AH72*$AL$2 -> 0 | AK72: =SUM(AH72) -> 0 | AL72: =SUM(AK72*$AL$2) -> 0
... AH77: =SUM(C77:AG77) -> 0 | AJ77: =AH77*$AL$2 -> 0 | AK77: =SUM(AH77) -> 0 | AL77: =SUM(AK77*$AL$2) -> 0
A78: Total | C78: =SUM(C6:C77) -> 0 | D78: =SUM(D6:D77) -> 0 | E78: =SUM(E6:E77) -> 0 | F78: =SUM(F6:F77) -> 0 | G78: =SUM(G6:G77) -> 0 | H78: =SUM(H6:H77) -> 0 | I78: =SUM(I6:I77) -> 0 | J78: =SUM(J6:J77) -> 0 | ... AG78: =SUM(AG6:AG77) -> 0 | AH78: =SUM(C78:AG78) -> 0 | AJ78: =AH78*$AL$2 -> 0 | AK78: =SUM(AH78) -> 0 | AL78: =SUM(AK78*$AL$2) -> 0
AJ79: =SUM(AJ6:AJ78) -> 0 | AK79: =SUM(AK6:AK78) -> 0 | AL79: =SUM(AL6:AL78) -> 0
AJ80: 76960

Sheet AVRIL
A1: =JANV!A1 -> 2020 | C1: Réservations chambres | AI1: * | AJ1: Nombre de chambres et coût | AM1: * | AO1: Carte IBIS BUSINESS
B2: 4 | C2: AVRIL | AJ2: PRIX UNITAIRE | AL2: 74 | AO2: Eric | AQ2: *3081432700807952
A3: Mois | AH3: CHAMBRES | AJ3: COÛT | AK3: CHAMBRES | AO3: Paul | AQ3: *3081432662964312
A4: NOMS | B4: PRENOMS | C4: 1 | D4: =C4+1 -> 2 | E4: =D4+1 -> 3 | F4: =E4+1 -> 4 | G4: =F4+1 -> 5 | H4: =G4+1 -> 6 | I4: =H4+1 -> 7 | J4: =I4+1 -> 8 | K4: =J4+1 -> 9 | ... AG4: =AF4+1 -> 31 | AH4: TOTAL | AJ4: TOTAL | AK4: NBS | AL4: COÛT | AO4: Chantal | AQ4: *3081432699167947
C5: =DATE(JANV!$A$1,AVRIL!$B$2,AVRIL!C4) -> 43922 | D5: =C5+1 -> 43923 | E5: =D5+1 -> 43924 | F5: =E5+1 -> 43925 | G5: =F5+1 -> 43926 | H5: =G5+1 -> 43927 | I5: =H5+1 -> 43928 | J5: =I5+1 -> 43929 | K5: =J5+1 -> 43930 | ... AG5: =AF5+1 -> 43952 | AH5: au mois | AJ5: Au mois | AK5: Depuis le | AL5: 42736 | AN5: 1 | AO5: RESA IBIS BUDGET
A6: HUGON | B6: Eric | AH6: =SUM(C6:AG6) -> 0 | AJ6: =AH6*$AL$2 -> 0 | AK6: =SUM(AH6) -> 0 | AL6: =SUM(AK6*$AL$2) -> 0 | AN6: ? | AO6: Réservation à confirmer
A7: DESSOMME | B7: Paul
A8: GUERMONT | B8: Michèle | AH8: =SUM(C8:AG8) -> 0 | AJ8: =AH8*$AL$2 -> 0 | AK8: =SUM(AH8) -> 0 | AL8: =SUM(AK8*$AL$2) -> 0 | AO8: BN et CS SNTU
A9: ROULLAUD | B9: Chantal | AH9: =SUM(C9:AG9) -> 0 | AJ9: =AH9*$AL$2 -> 0 | AK9: =SUM(AH9) -> 0 | AL9: =SUM(AK9*$AL$2) -> 0 | AO9: SECRETARIAT
A10: Non Affectées | B10: CFDT | AH10: =SUM(C10:AG10) -> 0 | AJ10: =AH10*$AL$2 -> 0 | AK10: =SUM(AH10) -> 0 | AL10: =SUM(AK10*$AL$2) -> 0 | AO10: REUNION
A11: CANTALOUBE | B11: Philippe | AH11: =SUM(C11:AG11) -> 0 | AJ11: =AH11*$AL$2 -> 0 | AK11: =SUM(AH11) -> 0 | AL11: =SUM(AK11*$AL$2) -> 0 | AO11: FORM
A12: CHARRON | B12: Jean Michel | AH12: =SUM(C12:AG12) -> 0 | AJ12: =AH12*$AL$2 -> 0 | AK12: =SUM(AH12) -> 0 | AL12: =SUM(AK12*$AL$2) -> 0 | AN12: CA | AO12: CONGES
A13: LE BONJOUR | B13: Jean Emmanuel | AH13: =SUM(C13:AG13) -> 0 | AJ13: =AH13*$AL$2 -> 0 | AK13: =SUM(AH13) -> 0 | AL13: =SUM(AK13*$AL$2) -> 0 | AO13: Fériés
A14: TERNOIS | B14: Pierrick | AH14: =SUM(C14:AG14) -> 0 | AJ14: =AH14*$AL$2 -> 0 | AK14: =SUM(AH14) -> 0 | AL14: =SUM(AK14*$AL$2) -> 0 | AO14: REUNION SNTU
A15: VANDENBROUCKE | B15: François | AH15: =SUM(C15:AG15) -> 0 | AJ15: =AH15*$AL$2 -> 0 | AK15: =SUM(AH15) -> 0 | AL15: =SUM(AK15*$AL$2) -> 0 | AP15: DU | AQ15: AU
A16: ACHOUR | B16: Souad | AH16: =SUM(C16:AG16) -> 0 | AJ16: =AH16*$AL$2 -> 0 | AK16: =SUM(AH16) -> 0 | AL16: =SUM(AK16*$AL$2) -> 0 | AO16: BN | AP16: 42757 | AQ16: 42758
A17: AUROY | B17: Alain | AH17: =SUM(C17:AG17) -> 0 | AJ17: =AH17*$AL$2 -> 0 | AK17: =SUM(AH17) -> 0 | AL17: =SUM(AK17*$AL$2) -> 0 | AO17: SECRETARIAT | AP17: 42786
A18: BELGOURCH | B18: Abdelmejid | AH18: =SUM(C18:AG18) -> 0 | AJ18: =AH18*$AL$2 -> 0 | AK18: =SUM(AH18) -> 0 | AL18: =SUM(AK18*$AL$2) -> 0 | AO18: BN | AP18: 42808 | AQ18: 42809
A19: CHEMIN | B19: Grégory | AH19: =SUM(C19:AG19) -> 0 | AJ19: =AH19*$AL$2 -> 0 | AK19: =SUM(AH19) -> 0 | AL19: =SUM(AK19*$AL$2) -> 0 | AO19: SECRETARIAT | AP19: 42839
A20: DANIEL | B20: Luc | AH20: =SUM(C20:AG20) -> 0 | AJ20: =AH20*$AL$2 -> 0 | AK20: =SUM(AH20) -> 0 | AL20: =SUM(AK20*$AL$2) -> 0 | AO20: BN + CS | AP20: 42898 | AQ20: 42900
A21: DELALLEAU | B21: Joël | AH21: =SUM(C21:AG21) -> 0 | AJ21: =AH21*$AL$2 -> 0 | AK21: =SUM(AH21) -> 0 | AL21: =SUM(AK21*$AL$2) -> 0 | AO21: SECRETARIAT | AP21: 42920
A22: DESROCHE | B22: Philippe | AH22: =SUM(C22:AG22) -> 0 | AJ22: =AH22*$AL$2 -> 0 | AK22: =SUM(AH22) -> 0 | AL22: =SUM(AK22*$AL$2) -> 0 | AO22: SECRETARIAT | AP22: 42982
A23: DIAS | B23: Patrick | AH23: =SUM(C23:AG23) -> 0 | AJ23: =AH23*$AL$2 -> 0 | AK23: =SUM(AH23) -> 0 | AL23: =SUM(AK23*$AL$2) -> 0 | AO23: BN | AP23: 42989 | AQ23: 42990
A24: GUEROUALI | B24: Mouhcine | AH24: =SUM(C24:AG24) -> 0 | AJ24: =AH24*$AL$2 -> 0 | AK24: =SUM(AH24) -> 0 | AL24: =SUM(AK24*$AL$2) -> 0 | AO24: TRESORIERS | AP24: 42991 | AQ24: PARIS
A25: LARDEUX | B25: Didier | AH25: =SUM(C25:AG25) -> 0 | AJ25: =AH25*$AL$2 -> 0 | AK25: =SUM(AH25) -> 0 | AL25: =SUM(AK25*$AL$2) -> 0 | AO25: SECRETARIAT | AP25: 43017
A26: LE MAUGUEN | B26: Gildas | AH26: =SUM(C26:AG26) -> 0 | AJ26: =AH26*$AL$2 -> 0 | AK26: =SUM(AH26) -> 0 | AL26: =SUM(AK26*$AL$2) -> 0 | AO26: BN | AP26: 43052 | AQ26: 43053
A27: PROVENDIER | B27: Steve | AH27: =SUM(C27:AG27) -> 0 | AJ27: =AH27*$AL$2 -> 0 | AK27: =SUM(AH27) -> 0 | AL27: =SUM(AK27*$AL$2) -> 0 | AO27: SECRETARIAT | AP27: 43080
A28: TAMSNA | B28: Hicham | AH28: =SUM(C28:AG28) -> 0 | AJ28: =AH28*$AL$2 -> 0 | AK28: =SUM(AH28) -> 0 | AL28: =SUM(AK28*$AL$2) -> 0 | AO28: FORMATION SNTU
A29: WERNERT | B29: Michel | AH29: =SUM(C29:AG29) -> 0 | AJ29: =AH29*$AL$2 -> 0 | AK29: =SUM(AH29) -> 0 | AL29: =SUM(AK29*$AL$2) -> 0 | AP29: Du | AQ29: Au
AH30: =SUM(C30:AG30) -> 0 | AJ30: =AH30*$AL$2 -> 0 | AK30: =SUM(AH30) -> 0 | AL30: =SUM(AK30*$AL$2) -> 0 | AO30: IREFE | AP30: 42764 | AQ30: 42767
AH31: =SUM(C31:AG31) -> 0 | AJ31: =AH31*$AL$2 -> 0 | AK31: =SUM(AH31) -> 0 | AL31: =SUM(AK31*$AL$2) -> 0 | AO31: CE | AP31: 42771 | AQ31: 42775
AH32: =SUM(C32:AG32) -> 0 | AJ32: =AH32*$AL$2 -> 0 | AK32: =SUM(AH32) -> 0 | AL32: =SUM(AK32*$AL$2) -> 0 | AO32: DS | AP32: 42779 | AQ32: 42781
A33: CARY | B33: Didier | AH33: =SUM(C33:AG33) -> 0 | AJ33: =AH33*$AL$2 -> 0 | AK33: =SUM(AH33) -> 0 | AL33: =SUM(AK33*$AL$2) -> 0 | AO33: CHSCT NIV 1 | AP33: 42792 | AQ33: 42796
AH34: =SUM(C34:AG34) -> 0 | AJ34: =AH34*$AL$2 -> 0 | AK34: =SUM(AH34) -> 0 | AL34: =SUM(AK34*$AL$2) -> 0 | AO34: CE | AP34: 42834 | AQ34: 42838
AH35: =SUM(C35:AG35) -> 0 | AJ35: =AH35*$AL$2 -> 0 | AK35: =SUM(AH35) -> 0 | AL35: =SUM(AK35*$AL$2) -> 0 | AO35: CHSCT NIV 2 | AP35: 42869 | AQ35: 42873
A36: VERMEESCH | B36: Guy | AH36: =SUM(C36:AG36) -> 0 | AJ36: =AH36*$AL$2 -> 0 | AK36: =SUM(AH36) -> 0 | AL36: =SUM(AK36*$AL$2) -> 0 | AO36: DS | AP36: 42870 | AQ36: 42872
A37: PLOUZENNEC | B37: Pierre | AH37: =SUM(C37:AG37) -> 0 | AJ37: =AH37*$AL$2 -> 0 | AK37: =SUM(AH37) -> 0 | AL37: =SUM(AK37*$AL$2) -> 0 | AO37: CE | AP37: 42911 | AQ37: 42915
AH38: =SUM(C38:AG38) -> 0 | AJ38: =AH38*$AL$2 -> 0 | AK38: =SUM(AH38) -> 0 | AL38: =SUM(AK38*$AL$2) -> 0 | AO38: CE | AP38: 43002 | AQ38: 43006
A39: FERRANDINO | B39: Denis | AH39: =SUM(C39:AG39) -> 0 | AJ39: =AH39*$AL$2 -> 0 | AK39: =SUM(AH39) -> 0 | AL39: =SUM(AK39*$AL$2) -> 0 | AO39: CHSCT NIV 1 | AP39: 43023 | AQ39: 43027
A40: PONZ | B40: Stéphanie | AH40: =SUM(C40:AG40) -> 0 | AJ40: =AH40*$AL$2 -> 0 | AK40: =SUM(AH40) -> 0 | AL40: =SUM(AK40*$AL$2) -> 0 | AO40: DS | AP40: 43024 | AQ40: 43026
AH41: =SUM(C41:AG41) -> 0 | AJ41: =AH41*$AL$2 -> 0 | AK41: =SUM(AH41) -> 0 | AL41: =SUM(AK41*$AL$2) -> 0
AH42: =SUM(C42:AG42) -> 0 | AJ42: =AH42*$AL$2 -> 0 | AK42: =SUM(AH42) -> 0 | AL42: =SUM(AK42*$AL$2) -> 0 | AO42: COORDINATIONS 1er semestre
AH43: =SUM(C43:AG43) -> 0 | AJ43: =AH43*$AL$2 -> 0 | AK43: =SUM(AH43) -> 0 | AL43: =SUM(AK43*$AL$2) -> 0 | AO43: OUEST | AP43: 4/5 avril | AQ43: ANGERS
AH44: =SUM(C44:AG44) -> 0 | AJ44: =AH44*$AL$2 -> 0 | AK44: =SUM(AH44) -> 0 | AL44: =SUM(AK44*$AL$2) -> 0 | AO44: CENTRE | AP44: 10/11 Avril
AH45: =SUM(C45:AG45) -> 0 | AJ45: =AH45*$AL$2 -> 0 | AK45: =SUM(AH45) -> 0 | AL45: =SUM(AK45*$AL$2) -> 0 | AO45: SUD OUEST | AP45: 7/8 Mars
AH46: =SUM(C46:AG46) -> 0 | AJ46: =AH46*$AL$2 -> 0 | AK46: =SUM(AH46) -> 0 | AL46: =SUM(AK46*$AL$2) -> 0 | AO46: NORD | AP46: 17/18 Avril | AQ46: LILLE
AH47: =SUM(C47:AG47) -> 0 | AJ47: =AH47*$AL$2 -> 0 | AK47: =SUM(AH47) -> 0 | AL47: =SUM(AK47*$AL$2) -> 0 | AO47: SUD EST | AP47: 26/27 Avril
AH48: =SUM(C48:AG48) -> 0 | AJ48: =AH48*$AL$2 -> 0 | AK48: =SUM(AH48) -> 0 | AL48: =SUM(AK48*$AL$2) -> 0 | AO48: EST | AP48: 29/30 Mai
AH49: =SUM(C49:AG49) -> 0 | AJ49: =AH49*$AL$2 -> 0 | AK49: =SUM(AH49) -> 0 | AL49: =SUM(AK49*$AL$2) -> 0 | AO49: COORDINATIONS 2ème semestre
AH50: =SUM(C50:AG50) -> 0 | AJ50: =AH50*$AL$2 -> 0 | AK50: =SUM(AH50) -> 0 | AL50: =SUM(AK50*$AL$2) -> 0 | AO50: OUEST | AP50: 3/4 Octobre
AH51: =SUM(C51:AG51) -> 0 | AJ51: =AH51*$AL$2 -> 0 | AK51: =SUM(AH51) -> 0 | AL51: =SUM(AK51*$AL$2) -> 0 | AO51: CENTRE | AP51: 6/7 Novembre
AH52: =SUM(C52:AG52) -> 0 | AJ52: =AH52*$AL$2 -> 0 | AK52: =SUM(AH52) -> 0 | AL52: =SUM(AK52*$AL$2) -> 0 | AO52: SUD OUEST | AP52: 19/20 Septembre
AH53: =SUM(C53:AG53) -> 0 | AJ53: =AH53*$AL$2 -> 0 | AK53: =SUM(AH53) -> 0 | AL53: =SUM(AK53*$AL$2) -> 0 | AO53: NORD | AP53: 26/27 Novembre | AQ53: PARIS
AH54: =SUM(C54:AG54) -> 0 | AJ54: =AH54*$AL$2 -> 0 | AK54: =SUM(AH54) -> 0 | AL54: =SUM(AK54*$AL$2) -> 0 | AO54: SUD EST | AP54: 12/13 Décembre
AH55: =SUM(C55:AG55) -> 0 | AJ55: =AH55*$AL$2 -> 0 | AK55: =SUM(AH55) -> 0 | AL55: =SUM(AK55*$AL$2) -> 0 | AO55: EST | AP55: 6/7 Novembre
AH56: =SUM(C56:AG56) -> 0 | AJ56: =AH56*$AL$2 -> 0 | AK56: =SUM(AH56) -> 0 | AL56: =SUM(AK56*$AL$2) -> 0
AH57: =SUM(C57:AG57) -> 0 | AJ57: =AH57*$AL$2 -> 0 | AK57: =SUM(AH57) -> 0 | AL57: =SUM(AK57*$AL$2) -> 0 | AO57: ! | AP57: A ANNULER
AH58: =SUM(C58:AG58) -> 0 | AJ58: =AH58*$AL$2 -> 0 | AK58: =SUM(AH58) -> 0 | AL58: =SUM(AK58*$AL$2) -> 0 | AO58: ? | AP58: A CONFIRMER
AH59: =SUM(C59:AG59) -> 0 | AJ59: =AH59*$AL$2 -> 0 | AK59: =SUM(AH59) -> 0 | AL59: =SUM(AK59*$AL$2) -> 0 | AO59: 1 | AP59: RESERVATION
AH60: =SUM(C60:AG60) -> 0 | AJ60: =AH60*$AL$2 -> 0 | AK60: =SUM(AH60) -> 0 | AL60: =SUM(AK60*$AL$2) -> 0
AH61: =SUM(C61:AG61) -> 0 | AJ61: =AH61*$AL$2 -> 0 | AK61: =SUM(AH61) -> 0 | AL61: =SUM(AK61*$AL$2) -> 0
AH62: =SUM(C62:AG62) -> 0 | AJ62: =AH62*$AL$2 -> 0 | AK62: =SUM(AH62) -> 0 | AL62: =SUM(AK62*$AL$2) -> 0
AH63: =SUM(C63:AG63) -> 0 | AJ63: =AH63*$AL$2 -> 0 | AK63: =SUM(AH63) -> 0 | AL63: =SUM(AK63*$AL$2) -> 0
AH64: =SUM(C64:AG64) -> 0 | AJ64: =AH64*$AL$2 -> 0 | AK64: =SUM(AH64) -> 0 | AL64: =SUM(AK64*$AL$2) -> 0
AH65: =SUM(C65:AG65) -> 0 | AJ65: =AH65*$AL$2 -> 0 | AK65: =SUM(AH65) -> 0 | AL65: =SUM(AK65*$AL$2) -> 0
AH66: =SUM(C66:AG66) -> 0 | AJ66: =AH66*$AL$2 -> 0 | AK66: =SUM(AH66) -> 0 | AL66: =SUM(AK66*$AL$2) -> 0
AH67: =SUM(C67:AG67) -> 0 | AJ67: =AH67*$AL$2 -> 0 | AK67: =SUM(AH67) -> 0 | AL67: =SUM(AK67*$AL$2) -> 0
AH68: =SUM(C68:AG68) -> 0 | AJ68: =AH68*$AL$2 -> 0 | AK68: =SUM(AH68) -> 0 | AL68: =SUM(AK68*$AL$2) -> 0
AH69: =SUM(C69:AG69) -> 0 | AJ69: =AH69*$AL$2 -> 0 | AK69: =SUM(AH69) -> 0 | AL69: =SUM(AK69*$AL$2) -> 0
AH70: =SUM(C70:AG70) -> 0 | AJ70: =AH70*$AL$2 -> 0 | AK70: =SUM(AH70) -> 0 | AL70: =SUM(AK70*$AL$2) -> 0
AH71: =SUM(C71:AG71) -> 0 | AJ71: =AH71*$AL$2 -> 0 | AK71: =SUM(AH71) -> 0 | AL71: =SUM(AK71*$AL$2) -> 0
... AH77: =SUM(C77:AG77) -> 0 | AJ77: =AH77*$AL$2 -> 0 | AK77: =SUM(AH77) -> 0 | AL77: =SUM(AK77*$AL$2) -> 0
A78: Total | C78: =SUM(C6:C77) -> 0 | D78: =SUM(D6:D77) -> 0 | E78: =SUM(E6:E77) -> 0 | F78: =SUM(F6:F77) -> 0 | G78: =SUM(G6:G77) -> 0 | H78: =SUM(H6:H77) -> 0 | I78: =SUM(I6:I77) -> 0 | J78: =SUM(J6:J77) -> 0 | ... AH78: =SUM(AH6:AH77) -> 0 | AJ78: =AH78*$AL$2 -> 0 | AK78: =SUM(AH78) -> 0 | AL78: =SUM(AK78*$AL$2) -> 0
AJ79: =SUM(AJ6:AJ78) -> 0 | AK79: =SUM(AK6:AK78) -> 0 | AL79: =SUM(AL6:AL78) -> 0
AJ80: 76960

Sheet MAI
A1: =JANV!A1 -> 2020 | C1: Réservations chambres | AI1: * | AJ1: Nombre de chambres et coût | AM1: * | AO1: Carte IBIS BUSINESS
B2: 5 | C2: MAI | AJ2: PRIX UNITAIRE | AL2: 74 | AO2: Eric | AQ2: *3081432700807952
A3: Mois | AH3: CHAMBRES | AJ3: COÛT | AK3: CHAMBRES | AO3: Paul | AQ3: *3081432662964312
A4: NOMS | B4: PRENOMS | C4: 1 | D4: =C4+1 -> 2 | E4: =D4+1 -> 3 | F4: =E4+1 -> 4 | G4: =F4+1 -> 5 | H4: =G4+1 -> 6 | I4: =H4+1 -> 7 | J4: =I4+1 -> 8 | K4: =J4+1 -> 9 | ... AG4: =AF4+1 -> 31 | AH4: TOTAL | AJ4: TOTAL | AK4: NBS | AL4: COÛT | AO4: Chantal | AQ4: *3081432699167947
C5: =DATE(JANV!$A$1,MAI!$B$2,MAI!C4) -> 43952 | D5: =C5+1 -> 43953 | E5: =D5+1 -> 43954 | F5: =E5+1 -> 43955 | G5: =F5+1 -> 43956 | H5: =G5+1 -> 43957 | I5: =H5+1 -> 43958 | J5: =I5+1 -> 43959 | K5: =J5+1 -> 43960 | ... AG5: =AF5+1 -> 43982 | AH5: au mois | AJ5: Au mois | AK5: Depuis le | AL5: 42736 | AN5: 1 | AO5: RESA IBIS BUDGET
A6: HUGON | B6: Eric | AH6: =SUM(C6:AG6) -> 0 | AJ6: =AH6*$AL$2 -> 0 | AK6: =SUM(AH6) -> 0 | AL6: =SUM(AK6*$AL$2) -> 0 | AN6: ? | AO6: Réservation à confirmer
A7: DESSOMME | B7: Paul
A8: GUERMONT | B8: Michèle | AH8: =SUM(C8:AG8) -> 0 | AJ8: =AH8*$AL$2 -> 0 | AK8: =SUM(AH8) -> 0 | AL8: =SUM(AK8*$AL$2) -> 0 | AO8: BN et CS SNTU
A9: ROULLAUD | B9: Chantal | AH9: =SUM(C9:AG9) -> 0 | AJ9: =AH9*$AL$2 -> 0 | AK9: =SUM(AH9) -> 0 | AL9: =SUM(AK9*$AL$2) -> 0 | AO9: SECRETARIAT
A10: Non Affectées | B10: CFDT | AH10: =SUM(C10:AG10) -> 0 | AJ10: =AH10*$AL$2 -> 0 | AK10: =SUM(AH10) -> 0 | AL10: =SUM(AK10*$AL$2) -> 0 | AO10: REUNION
A11: CANTALOUBE | B11: Philippe | AH11: =SUM(C11:AG11) -> 0 | AJ11: =AH11*$AL$2 -> 0 | AK11: =SUM(AH11) -> 0 | AL11: =SUM(AK11*$AL$2) -> 0 | AO11: FORM
A12: CHARRON | B12: Jean Michel | AH12: =SUM(C12:AG12) -> 0 | AJ12: =AH12*$AL$2 -> 0 | AK12: =SUM(AH12) -> 0 | AL12: =SUM(AK12*$AL$2) -> 0 | AN12: CA | AO12: CONGES
A13: LE BONJOUR | B13: Jean Emmanuel | AH13: =SUM(C13:AG13) -> 0 | AJ13: =AH13*$AL$2 -> 0 | AK13: =SUM(AH13) -> 0 | AL13: =SUM(AK13*$AL$2) -> 0 | AO13: Fériés
A14: TERNOIS | B14: Pierrick | AH14: =SUM(C14:AG14) -> 0 | AJ14: =AH14*$AL$2 -> 0 | AK14: =SUM(AH14) -> 0 | AL14: =SUM(AK14*$AL$2) -> 0 | AO14: REUNION SNTU
A15: VANDENBROUCKE | B15: François | AH15: =SUM(C15:AG15) -> 0 | AJ15: =AH15*$AL$2 -> 0 | AK15: =SUM(AH15) -> 0 | AL15: =SUM(AK15*$AL$2) -> 0 | AP15: DU | AQ15: AU
A16: ACHOUR | B16: Souad | AH16: =SUM(C16:AG16) -> 0 | AJ16: =AH16*$AL$2 -> 0 | AK16: =SUM(AH16) -> 0 | AL16: =SUM(AK16*$AL$2) -> 0 | AO16: BN | AP16: 42757 | AQ16: 42758
A17: AUROY | B17: Alain | AH17: =SUM(C17:AG17) -> 0 | AJ17: =AH17*$AL$2 -> 0 | AK17: =SUM(AH17) -> 0 | AL17: =SUM(AK17*$AL$2) -> 0 | AO17: SECRETARIAT | AP17: 42786
A18: BELGOURCH | B18: Abdelmejid | AH18: =SUM(C18:AG18) -> 0 | AJ18: =AH18*$AL$2 -> 0 | AK18: =SUM(AH18) -> 0 | AL18: =SUM(AK18*$AL$2) -> 0 | AO18: BN | AP18: 42808 | AQ18: 42809
A19: CHEMIN | B19: Grégory | AH19: =SUM(C19:AG19) -> 0 | AJ19: =AH19*$AL$2 -> 0 | AK19: =SUM(AH19) -> 0 | AL19: =SUM(AK19*$AL$2) -> 0 | AO19: SECRETARIAT | AP19: 42839
A20: DANIEL | B20: Luc | AH20: =SUM(C20:AG20) -> 0 | AJ20: =AH20*$AL$2 -> 0 | AK20: =SUM(AH20) -> 0 | AL20: =SUM(AK20*$AL$2) -> 0 | AO20: BN + CS | AP20: 42898 | AQ20: 42900
A21: DELALLEAU | B21: Joël | AH21: =SUM(C21:AG21) -> 0 | AJ21: =AH21*$AL$2 -> 0 | AK21: =SUM(AH21) -> 0 | AL21: =SUM(AK21*$AL$2) -> 0 | AO21: SECRETARIAT | AP21: 42920
A22: DESROCHE | B22: Philippe | AH22: =SUM(C22:AG22) -> 0 | AJ22: =AH22*$AL$2 -> 0 | AK22: =SUM(AH22) -> 0 | AL22: =SUM(AK22*$AL$2) -> 0 | AO22: SECRETARIAT | AP22: 42982
A23: DIAS | B23: Patrick | AH23: =SUM(C23:AG23) -> 0 | AJ23: =AH23*$AL$2 -> 0 | AK23: =SUM(AH23) -> 0 | AL23: =SUM(AK23*$AL$2) -> 0 | AO23: BN | AP23: 42989 | AQ23: 42990
A24: GUEROUALI | B24: Mouhcine | AH24: =SUM(C24:AG24) -> 0 | AJ24: =AH24*$AL$2 -> 0 | AK24: =SUM(AH24) -> 0 | AL24: =SUM(AK24*$AL$2) -> 0 | AO24: TRESORIERS | AP24: 42991 | AQ24: PARIS
A25: LARDEUX | B25: Didier | AH25: =SUM(C25:AG25) -> 0 | AJ25: =AH25*$AL$2 -> 0 | AK25: =SUM(AH25) -> 0 | AL25: =SUM(AK25*$AL$2) -> 0 | AO25: SECRETARIAT | AP25: 43017
A26: LE MAUGUEN | B26: Gildas | AH26: =SUM(C26:AG26) -> 0 | AJ26: =AH26*$AL$2 -> 0 | AK26: =SUM(AH26) -> 0 | AL26: =SUM(AK26*$AL$2) -> 0 | AO26: BN | AP26: 43052 | AQ26: 43053
A27: PROVENDIER | B27: Steve | AH27: =SUM(C27:AG27) -> 0 | AJ27: =AH27*$AL$2 -> 0 | AK27: =SUM(AH27) -> 0 | AL27: =SUM(AK27*$AL$2) -> 0 | AO27: SECRETARIAT | AP27: 43080
A28: TAMSNA | B28: Hicham | AH28: =SUM(C28:AG28) -> 0 | AJ28: =AH28*$AL$2 -> 0 | AK28: =SUM(AH28) -> 0 | AL28: =SUM(AK28*$AL$2) -> 0 | AO28: FORMATION SNTU
A29: WERNERT | B29: Michel | AH29: =SUM(C29:AG29) -> 0 | AJ29: =AH29*$AL$2 -> 0 | AK29: =SUM(AH29) -> 0 | AL29: =SUM(AK29*$AL$2) -> 0 | AP29: Du | AQ29: Au
AH30: =SUM(C30:AG30) -> 0 | AJ30: =AH30*$AL$2 -> 0 | AK30: =SUM(AH30) -> 0 | AL30: =SUM(AK30*$AL$2) -> 0 | AO30: IREFE | AP30: 42764 | AQ30: 42767
AH31: =SUM(C31:AG31) -> 0 | AJ31: =AH31*$AL$2 -> 0 | AK31: =SUM(AH31) -> 0 | AL31: =SUM(AK31*$AL$2) -> 0 | AO31: CE | AP31: 42771 | AQ31: 42775
AH32: =SUM(C32:AG32) -> 0 | AJ32: =AH32*$AL$2 -> 0 | AK32: =SUM(AH32) -> 0 | AL32: =SUM(AK32*$AL$2) -> 0 | AO32: DS | AP32: 42779 | AQ32: 42781
A33: CARY | B33: Didier | AH33: =SUM(C33:AG33) -> 0 | AJ33: =AH33*$AL$2 -> 0 | AK33: =SUM(AH33) -> 0 | AL33: =SUM(AK33*$AL$2) -> 0 | AO33: CHSCT NIV 1 | AP33: 42792 | AQ33: 42796
AH34: =SUM(C34:AG34) -> 0 | AJ34: =AH34*$AL$2 -> 0 | AK34: =SUM(AH34) -> 0 | AL34: =SUM(AK34*$AL$2) -> 0 | AO34: CE | AP34: 42834 | AQ34: 42838
AH35: =SUM(C35:AG35) -> 0 | AJ35: =AH35*$AL$2 -> 0 | AK35: =SUM(AH35) -> 0 | AL35: =SUM(AK35*$AL$2) -> 0 | AO35: CHSCT NIV 2 | AP35: 42869 | AQ35: 42873
A36: VERMEESCH | B36: Guy | AH36: =SUM(C36:AG36) -> 0 | AJ36: =AH36*$AL$2 -> 0 | AK36: =SUM(AH36) -> 0 | AL36: =SUM(AK36*$AL$2) -> 0 | AO36: DS | AP36: 42870 | AQ36: 42872
A37: PLOUZENNEC | B37: Pierre | AH37: =SUM(C37:AG37) -> 0 | AJ37: =AH37*$AL$2 -> 0 | AK37: =SUM(AH37) -> 0 | AL37: =SUM(AK37*$AL$2) -> 0 | AO37: CE | AP37: 42911 | AQ37: 42915
AH38: =SUM(C38:AG38) -> 0 | AJ38: =AH38*$AL$2 -> 0 | AK38: =SUM(AH38) -> 0 | AL38: =SUM(AK38*$AL$2) -> 0 | AO38: CE | AP38: 43002 | AQ38: 43006
A39: FERRANDINO | B39: Denis | AH39: =SUM(C39:AG39) -> 0 | AJ39: =AH39*$AL$2 -> 0 | AK39: =SUM(AH39) -> 0 | AL39: =SUM(AK39*$AL$2) -> 0 | AO39: CHSCT NIV 1 | AP39: 43023 | AQ39: 43027
A40: PONZ | B40: Stéphanie | AH40: =SUM(C40:AG40) -> 0 | AJ40: =AH40*$AL$2 -> 0 | AK40: =SUM(AH40) -> 0 | AL40: =SUM(AK40*$AL$2) -> 0 | AO40: DS | AP40: 43024 | AQ40: 43026
AH41: =SUM(C41:AG41) -> 0 | AJ41: =AH41*$AL$2 -> 0 | AK41: =SUM(AH41) -> 0 | AL41: =SUM(AK41*$AL$2) -> 0
AH42: =SUM(C42:AG42) -> 0 | AJ42: =AH42*$AL$2 -> 0 | AK42: =SUM(AH42) -> 0 | AL42: =SUM(AK42*$AL$2) -> 0 | AO42: COORDINATIONS 1er semestre
AH43: =SUM(C43:AG43) -> 0 | AJ43: =AH43*$AL$2 -> 0 | AK43: =SUM(AH43) -> 0 | AL43: =SUM(AK43*$AL$2) -> 0 | AO43: OUEST | AP43: 4/5 avril | AQ43: ANGERS
AH44: =SUM(C44:AG44) -> 0 | AJ44: =AH44*$AL$2 -> 0 | AK44: =SUM(AH44) -> 0 | AL44: =SUM(AK44*$AL$2) -> 0 | AO44: CENTRE | AP44: 10/11 Avril
AH45: =SUM(C45:AG45) -> 0 | AJ45: =AH45*$AL$2 -> 0 | AK45: =SUM(AH45) -> 0 | AL45: =SUM(AK45*$AL$2) -> 0 | AO45: SUD OUEST | AP45: 7/8 Mars
AH46: =SUM(C46:AG46) -> 0 | AJ46: =AH46*$AL$2 -> 0 | AK46: =SUM(AH46) -> 0 | AL46: =SUM(AK46*$AL$2) -> 0 | AO46: NORD | AP46: 17/18 Avril | AQ46: LILLE
AH47: =SUM(C47:AG47) -> 0 | AJ47: =AH47*$AL$2 -> 0 | AK47: =SUM(AH47) -> 0 | AL47: =SUM(AK47*$AL$2) -> 0 | AO47: SUD EST | AP47: 26/27 Avril
AH48: =SUM(C48:AG48) -> 0 | AJ48: =AH48*$AL$2 -> 0 | AK48: =SUM(AH48) -> 0 | AL48: =SUM(AK48*$AL$2) -> 0 | AO48: EST | AP48: 29/30 Mai
AH49: =SUM(C49:AG49) -> 0 | AJ49: =AH49*$AL$2 -> 0 | AK49: =SUM(AH49) -> 0 | AL49: =SUM(AK49*$AL$2) -> 0 | AO49: COORDINATIONS 2ème semestre
AH50: =SUM(C50:AG50) -> 0 | AJ50: =AH50*$AL$2 -> 0 | AK50: =SUM(AH50) -> 0 | AL50: =SUM(AK50*$AL$2) -> 0 | AO50: OUEST | AP50: 3/4 Octobre
AH51: =SUM(C51:AG51) -> 0 | AJ51: =AH51*$AL$2 -> 0 | AK51: =SUM(AH51) -> 0 | AL51: =SUM(AK51*$AL$2) -> 0 | AO51: CENTRE | AP51: 6/7 Novembre
AH52: =SUM(C52:AG52) -> 0 | AJ52: =AH52*$AL$2 -> 0 | AK52: =SUM(AH52) -> 0 | AL52: =SUM(AK52*$AL$2) -> 0 | AO52: SUD OUEST | AP52: 19/20 Septembre
AH53: =SUM(C53:AG53) -> 0 | AJ53: =AH53*$AL$2 -> 0 | AK53: =SUM(AH53) -> 0 | AL53: =SUM(AK53*$AL$2) -> 0 | AO53: NORD | AP53: 26/27 Novembre | AQ53: PARIS
AH54: =SUM(C54:AG54) -> 0 | AJ54: =AH54*$AL$2 -> 0 | AK54: =SUM(AH54) -> 0 | AL54: =SUM(AK54*$AL$2) -> 0 | AO54: SUD EST | AP54: 12/13 Décembre
AH55: =SUM(C55:AG55) -> 0 | AJ55: =AH55*$AL$2 -> 0 | AK55: =SUM(AH55) -> 0 | AL55: =SUM(AK55*$AL$2) -> 0 | AO55: EST | AP55: 6/7 Novembre
AH56: =SUM(C56:AG56) -> 0 | AJ56: =AH56*$AL$2 -> 0 | AK56: =SUM(AH56) -> 0 | AL56: =SUM(AK56*$AL$2) -> 0
AH57: =SUM(C57:AG57) -> 0 | AJ57: =AH57*$AL$2 -> 0 | AK57: =SUM(AH57) -> 0 | AL57: =SUM(AK57*$AL$2) -> 0
AH58: =SUM(C58:AG58) -> 0 | AJ58: =AH58*$AL$2 -> 0 | AK58: =SUM(AH58) -> 0 | AL58: =SUM(AK58*$AL$2) -> 0 | AO58: ! | AP58: A ANNULER
AH59: =SUM(C59:AG59) -> 0 | AJ59: =AH59*$AL$2 -> 0 | AK59: =SUM(AH59) -> 0 | AL59: =SUM(AK59*$AL$2) -> 0 | AO59: ? | AP59: A CONFIRMER
AH60: =SUM(C60:AG60) -> 0 | AJ60: =AH60*$AL$2 -> 0 | AK60: =SUM(AH60) -> 0 | AL60: =SUM(AK60*$AL$2) -> 0 | AO60: 1 | AP60: RESERVATION
AH61: =SUM(C61:AG61) -> 0 | AJ61: =AH61*$AL$2 -> 0 | AK61: =SUM(AH61) -> 0 | AL61: =SUM(AK61*$AL$2) -> 0
AH62: =SUM(C62:AG62) -> 0 | AJ62: =AH62*$AL$2 -> 0 | AK62: =SUM(AH62) -> 0 | AL62: =SUM(AK62*$AL$2) -> 0
AH63: =SUM(C63:AG63) -> 0 | AJ63: =AH63*$AL$2 -> 0 | AK63: =SUM(AH63) -> 0 | AL63: =SUM(AK63*$AL$2) -> 0
AH64: =SUM(C64:AG64) -> 0 | AJ64: =AH64*$AL$2 -> 0 | AK64: =SUM(AH64) -> 0 | AL64: =SUM(AK64*$AL$2) -> 0
AH65: =SUM(C65:AG65) -> 0 | AJ65: =AH65*$AL$2 -> 0 | AK65: =SUM(AH65) -> 0 | AL65: =SUM(AK65*$AL$2) -> 0
AH66: =SUM(C66:AG66) -> 0 | AJ66: =AH66*$AL$2 -> 0 | AK66: =SUM(AH66) -> 0 | AL66: =SUM(AK66*$AL$2) -> 0
AH67: =SUM(C67:AG67) -> 0 | AJ67: =AH67*$AL$2 -> 0 | AK67: =SUM(AH67) -> 0 | AL67: =SUM(AK67*$AL$2) -> 0
AH68: =SUM(C68:AG68) -> 0 | AJ68: =AH68*$AL$2 -> 0 | AK68: =SUM(AH68) -> 0 | AL68: =SUM(AK68*$AL$2) -> 0
AH69: =SUM(C69:AG69) -> 0 | AJ69: =AH69*$AL$2 -> 0 | AK69: =SUM(AH69) -> 0 | AL69: =SUM(AK69*$AL$2) -> 0
AH70: =SUM(C70:AG70) -> 0 | AJ70: =AH70*$AL$2 -> 0 | AK70: =SUM(AH70) -> 0 | AL70: =SUM(AK70*$AL$2) -> 0
AH71: =SUM(C71:AG71) -> 0 | AJ71: =AH71*$AL$2 -> 0 | AK71: =SUM(AH71) -> 0 | AL71: =SUM(AK71*$AL$2) -> 0
AH72: =SUM(C72:AG72) -> 0 | AJ72: =AH72*$AL$2 -> 0 | AK72: =SUM(AH72) -> 0 | AL72: =SUM(AK72*$AL$2) -> 0
... AH77: =SUM(C77:AG77) -> 0 | AJ77: =AH77*$AL$2 -> 0 | AK77: =SUM(AH77) -> 0 | AL77: =SUM(AK77*$AL$2) -> 0
A78: Total | C78: =SUM(C6:C77) -> 0 | D78: =SUM(D6:D77) -> 0 | E78: =SUM(E6:E77) -> 0 | F78: =SUM(F6:F77) -> 0 | G78: =SUM(G6:G77) -> 0 | H78: =SUM(H6:H77) -> 0 | I78: =SUM(I6:I77) -> 0 | J78: =SUM(J6:J77) -> 0 | ... AG78: =SUM(AG6:AG77) -> 0 | AH78: =SUM(C78:AG78) -> 0 | AJ78: =AH78*$AL$2 -> 0 | AK78: =SUM(AH78) -> 0 | AL78: =SUM(AK78*$AL$2) -> 0
AJ79: =SUM(AJ6:AJ78) -> 0 | AK79: =SUM(AK6:AK78) -> 0 | AL79: =SUM(AL6:AL78) -> 0
AJ80: 76960

Sheet JUIN
A1: =JANV!A1 -> 2020 | C1: Réservations chambres | AI1: * | AJ1: Nombre de chambres et coût | AM1: * | AO1: Carte IBIS BUSINESS
B2: 6 | C2: JUIN | AJ2: PRIX UNITAIRE | AL2: 74 | AO2: Eric | AQ2: *3081432700807952
A3: Mois | AH3: CHAMBRES | AJ3: COÛT | AK3: CHAMBRES | AO3: Paul | AQ3: *3081432662964312
A4: NOMS | B4: PRENOMS | C4: 1 | D4: =C4+1 -> 2 | E4: =D4+1 -> 3 | F4: =E4+1 -> 4 | G4: =F4+1 -> 5 | H4: =G4+1 -> 6 | I4: =H4+1 -> 7 | J4: =I4+1 -> 8 | K4: =J4+1 -> 9 | ... AG4: =AF4+1 -> 31 | AH4: TOTAL | AJ4: TOTAL | AK4: NBS | AL4: COÛT | AO4: Chantal | AQ4: *3081432699167947
C5: =DATE(JANV!$A$1,JUIN!$B$2,JUIN!C4) -> 43983 | D5: =C5+1 -> 43984 | E5: =D5+1 -> 43985 | F5: =E5+1 -> 43986 | G5: =F5+1 -> 43987 | H5: =G5+1 -> 43988 | I5: =H5+1 -> 43989 | J5: =I5+1 -> 43990 | K5: =J5+1 -> 43991 | ... AG5: =AF5+1 -> 44013 | AH5: au mois | AJ5: Au mois | AK5: Depuis le | AL5: 42736 | AN5: 1 | AO5: RESA IBIS BUDGET
A6: HUGON | B6: Eric | AH6: =SUM(C6:AG6) -> 0 | AJ6: =AH6*$AL$2 -> 0 | AK6: =SUM(AH6) -> 0 | AL6: =SUM(AK6*$AL$2) -> 0 | AN6: ? | AO6: Réservation à confirmer
A7: DESSOMME | B7: Paul
A8: GUERMONT | B8: Michèle | AH8: =SUM(C8:AG8) -> 0 | AJ8: =AH8*$AL$2 -> 0 | AK8: =SUM(AH8) -> 0 | AL8: =SUM(AK8*$AL$2) -> 0 | AO8: BN et CS SNTU
A9: ROULLAUD | B9: Chantal | AH9: =SUM(C9:AG9) -> 0 | AJ9: =AH9*$AL$2 -> 0 | AK9: =SUM(AH9) -> 0 | AL9: =SUM(AK9*$AL$2) -> 0 | AO9: SECRETARIAT
A10: Non Affectées | B10: CFDT | AH10: =SUM(C10:AG10) -> 0 | AJ10: =AH10*$AL$2 -> 0 | AK10: =SUM(AH10) -> 0 | AL10: =SUM(AK10*$AL$2) -> 0 | AO10: REUNION
A11: CANTALOUBE | B11: Philippe | AH11: =SUM(C11:AG11) -> 0 | AJ11: =AH11*$AL$2 -> 0 | AK11: =SUM(AH11) -> 0 | AL11: =SUM(AK11*$AL$2) -> 0 | AO11: FORM
A12: CHARRON | B12: Jean Michel | AH12: =SUM(C12:AG12) -> 0 | AJ12: =AH12*$AL$2 -> 0 | AK12: =SUM(AH12) -> 0 | AL12: =SUM(AK12*$AL$2) -> 0 | AN12: CA | AO12: CONGES
A13: LE BONJOUR | B13: Jean Emmanuel | AH13: =SUM(C13:AG13) -> 0 | AJ13: =AH13*$AL$2 -> 0 | AK13: =SUM(AH13) -> 0 | AL13: =SUM(AK13*$AL$2) -> 0 | AO13: Fériés
A14: TERNOIS | B14: Pierrick | AH14: =SUM(C14:AG14) -> 0 | AJ14: =AH14*$AL$2 -> 0 | AK14: =SUM(AH14) -> 0 | AL14: =SUM(AK14*$AL$2) -> 0 | AO14: REUNION SNTU
A15: VANDENBROUCKE | B15: François | AH15: =SUM(C15:AG15) -> 0 | AJ15: =AH15*$AL$2 -> 0 | AK15: =SUM(AH15) -> 0 | AL15: =SUM(AK15*$AL$2) -> 0 | AP15: DU | AQ15: AU
A16: ACHOUR | B16: Souad | AH16: =SUM(C16:AG16) -> 0 | AJ16: =AH16*$AL$2 -> 0 | AK16: =SUM(AH16) -> 0 | AL16: =SUM(AK16*$AL$2) -> 0 | AO16: BN | AP16: 42757 | AQ16: 42758
A17: AUROY | B17: Alain | AH17: =SUM(C17:AG17) -> 0 | AJ17: =AH17*$AL$2 -> 0 | AK17: =SUM(AH17) -> 0 | AL17: =SUM(AK17*$AL$2) -> 0 | AO17: SECRETARIAT | AP17: 42786
A18: BELGOURCH | B18: Abdelmejid | AH18: =SUM(C18:AG18) -> 0 | AJ18: =AH18*$AL$2 -> 0 | AK18: =SUM(AH18) -> 0 | AL18: =SUM(AK18*$AL$2) -> 0 | AO18: BN | AP18: 42808 | AQ18: 42809
A19: CHEMIN | B19: Grégory | AH19: =SUM(C19:AG19) -> 0 | AJ19: =AH19*$AL$2 -> 0 | AK19: =SUM(AH19) -> 0 | AL19: =SUM(AK19*$AL$2) -> 0 | AO19: SECRETARIAT | AP19: 42839
A20: DANIEL | B20: Luc | AH20: =SUM(C20:AG20) -> 0 | AJ20: =AH20*$AL$2 -> 0 | AK20: =SUM(AH20) -> 0 | AL20: =SUM(AK20*$AL$2) -> 0 | AO20: BN + CS | AP20: 42898 | AQ20: 42900
A21: DELALLEAU | B21: Joël | AH21: =SUM(C21:AG21) -> 0 | AJ21: =AH21*$AL$2 -> 0 | AK21: =SUM(AH21) -> 0 | AL21: =SUM(AK21*$AL$2) -> 0 | AO21: SECRETARIAT | AP21: 42920
A22: DESROCHE | B22: Philippe | AH22: =SUM(C22:AG22) -> 0 | AJ22: =AH22*$AL$2 -> 0 | AK22: =SUM(AH22) -> 0 | AL22: =SUM(AK22*$AL$2) -> 0 | AO22: SECRETARIAT | AP22: 42982
A23: DIAS | B23: Patrick | AH23: =SUM(C23:AG23) -> 0 | AJ23: =AH23*$AL$2 -> 0 | AK23: =SUM(AH23) -> 0 | AL23: =SUM(AK23*$AL$2) -> 0 | AO23: BN | AP23: 42989 | AQ23: 42990
A24: GUEROUALI | B24: Mouhcine | AH24: =SUM(C24:AG24) -> 0 | AJ24: =AH24*$AL$2 -> 0 | AK24: =SUM(AH24) -> 0 | AL24: =SUM(AK24*$AL$2) -> 0 | AO24: TRESORIERS | AP24: 42991 | AQ24: PARIS
A25: LARDEUX | B25: Didier | AH25: =SUM(C25:AG25) -> 0 | AJ25: =AH25*$AL$2 -> 0 | AK25: =SUM(AH25) -> 0 | AL25: =SUM(AK25*$AL$2) -> 0 | AO25: SECRETARIAT | AP25: 43017
A26: LE MAUGUEN | B26: Gildas | AH26: =SUM(C26:AG26) -> 0 | AJ26: =AH26*$AL$2 -> 0 | AK26: =SUM(AH26) -> 0 | AL26: =SUM(AK26*$AL$2) -> 0 | AO26: BN | AP26: 43052 | AQ26: 43053
A27: PROVENDIER | B27: Steve | AH27: =SUM(C27:AG27) -> 0 | AJ27: =AH27*$AL$2 -> 0 | AK27: =SUM(AH27) -> 0 | AL27: =SUM(AK27*$AL$2) -> 0 | AO27: SECRETARIAT | AP27: 43080
A28: TAMSNA | B28: Hicham | AH28: =SUM(C28:AG28) -> 0 | AJ28: =AH28*$AL$2 -> 0 | AK28: =SUM(AH28) -> 0 | AL28: =SUM(AK28*$AL$2) -> 0 | AO28: FORMATION SNTU
A29: WERNERT | B29: Michel | AH29: =SUM(C29:AG29) -> 0 | AJ29: =AH29*$AL$2 -> 0 | AK29: =SUM(AH29) -> 0 | AL29: =SUM(AK29*$AL$2) -> 0 | AP29: Du | AQ29: Au
AH30: =SUM(C30:AG30) -> 0 | AJ30: =AH30*$AL$2 -> 0 | AK30: =SUM(AH30) -> 0 | AL30: =SUM(AK30*$AL$2) -> 0 | AO30: IREFE | AP30: 42764 | AQ30: 42767
AH31: =SUM(C31:AG31) -> 0 | AJ31: =AH31*$AL$2 -> 0 | AK31: =SUM(AH31) -> 0 | AL31: =SUM(AK31*$AL$2) -> 0 | AO31: CE | AP31: 42771 | AQ31: 42775
AH32: =SUM(C32:AG32) -> 0 | AJ32: =AH32*$AL$2 -> 0 | AK32: =SUM(AH32) -> 0 | AL32: =SUM(AK32*$AL$2) -> 0 | AO32: DS | AP32: 42779 | AQ32: 42781
A33: CARY | B33: Didier | AH33: =SUM(C33:AG33) -> 0 | AJ33: =AH33*$AL$2 -> 0 | AK33: =SUM(AH33) -> 0 | AL33: =SUM(AK33*$AL$2) -> 0 | AO33: CHSCT NIV 1 | AP33: 42792 | AQ33: 42796
AH34: =SUM(C34:AG34) -> 0 | AJ34: =AH34*$AL$2 -> 0 | AK34: =SUM(AH34) -> 0 | AL34: =SUM(AK34*$AL$2) -> 0 | AO34: CE | AP34: 42834 | AQ34: 42838
AH35: =SUM(C35:AG35) -> 0 | AJ35: =AH35*$AL$2 -> 0 | AK35: =SUM(AH35) -> 0 | AL35: =SUM(AK35*$AL$2) -> 0 | AO35: CHSCT NIV 2 | AP35: 42869 | AQ35: 42873
A36: VERMEESCH | B36: Guy | AH36: =SUM(C36:AG36) -> 0 | AJ36: =AH36*$AL$2 -> 0 | AK36: =SUM(AH36) -> 0 | AL36: =SUM(AK36*$AL$2) -> 0 | AO36: DS | AP36: 42870 | AQ36: 42872
A37: PLOUZENNEC | B37: Pierre | AH37: =SUM(C37:AG37) -> 0 | AJ37: =AH37*$AL$2 -> 0 | AK37: =SUM(AH37) -> 0 | AL37: =SUM(AK37*$AL$2) -> 0 | AO37: CE | AP37: 42911 | AQ37: 42915
AH38: =SUM(C38:AG38) -> 0 | AJ38: =AH38*$AL$2 -> 0 | AK38: =SUM(AH38) -> 0 | AL38: =SUM(AK38*$AL$2) -> 0 | AO38: CE | AP38: 43002 | AQ38: 43006
A39: FERRANDINO | B39: Denis | AH39: =SUM(C39:AG39) -> 0 | AJ39: =AH39*$AL$2 -> 0 | AK39: =SUM(AH39) -> 0 | AL39: =SUM(AK39*$AL$2) -> 0 | AO39: CHSCT NIV 1 | AP39: 43023 | AQ39: 43027
A40: PONZ | B40: Stéphanie | AH40: =SUM(C40:AG40) -> 0 | AJ40: =AH40*$AL$2 -> 0 | AK40: =SUM(AH40) -> 0 | AL40: =SUM(AK40*$AL$2) -> 0 | AO40: DS | AP40: 43024 | AQ40: 43026
AH41: =SUM(C41:AG41) -> 0 | AJ41: =AH41*$AL$2 -> 0 | AK41: =SUM(AH41) -> 0 | AL41: =SUM(AK41*$AL$2) -> 0
AH42: =SUM(C42:AG42) -> 0 | AJ42: =AH42*$AL$2 -> 0 | AK42: =SUM(AH42) -> 0 | AL42: =SUM(AK42*$AL$2) -> 0 | AO42: COORDINATIONS 1er semestre
AH43: =SUM(C43:AG43) -> 0 | AJ43: =AH43*$AL$2 -> 0 | AK43: =SUM(AH43) -> 0 | AL43: =SUM(AK43*$AL$2) -> 0 | AO43: OUEST | AP43: 4/5 avril | AQ43: ANGERS
AH44: =SUM(C44:AG44) -> 0 | AJ44: =AH44*$AL$2 -> 0 | AK44: =SUM(AH44) -> 0 | AL44: =SUM(AK44*$AL$2) -> 0 | AO44: CENTRE | AP44: 10/11 Avril
AH45: =SUM(C45:AG45) -> 0 | AJ45: =AH45*$AL$2 -> 0 | AK45: =SUM(AH45) -> 0 | AL45: =SUM(AK45*$AL$2) -> 0 | AO45: SUD OUEST | AP45: 7/8 Mars
AH46: =SUM(C46:AG46) -> 0 | AJ46: =AH46*$AL$2 -> 0 | AK46: =SUM(AH46) -> 0 | AL46: =SUM(AK46*$AL$2) -> 0 | AO46: NORD | AP46: 17/18 Avril | AQ46: LILLE
AH47: =SUM(C47:AG47) -> 0 | AJ47: =AH47*$AL$2 -> 0 | AK47: =SUM(AH47) -> 0 | AL47: =SUM(AK47*$AL$2) -> 0 | AO47: SUD EST | AP47: 26/27 Avril
AH48: =SUM(C48:AG48) -> 0 | AJ48: =AH48*$AL$2 -> 0 | AK48: =SUM(AH48) -> 0 | AL48: =SUM(AK48*$AL$2) -> 0 | AO48: EST | AP48: 29/30 Mai
AH49: =SUM(C49:AG49) -> 0 | AJ49: =AH49*$AL$2 -> 0 | AK49: =SUM(AH49) -> 0 | AL49: =SUM(AK49*$AL$2) -> 0 | AO49: COORDINATIONS 2ème semestre
AH50: =SUM(C50:AG50) -> 0 | AJ50: =AH50*$AL$2 -> 0 | AK50: =SUM(AH50) -> 0 | AL50: =SUM(AK50*$AL$2) -> 0 | AO50: OUEST | AP50: 3/4 Octobre
AH51: =SUM(C51:AG51) -> 0 | AJ51: =AH51*$AL$2 -> 0 | AK51: =SUM(AH51) -> 0 | AL51: =SUM(AK51*$AL$2) -> 0 | AO51: CENTRE | AP51: 6/7 Novembre
AH52: =SUM(C52:AG52) -> 0 | AJ52: =AH52*$AL$2 -> 0 | AK52: =SUM(AH52) -> 0 | AL52: =SUM(AK52*$AL$2) -> 0 | AO52: SUD OUEST | AP52: 19/20 Septembre
AH53: =SUM(C53:AG53) -> 0 | AJ53: =AH53*$AL$2 -> 0 | AK53: =SUM(AH53) -> 0 | AL53: =SUM(AK53*$AL$2) -> 0 | AO53: NORD | AP53: 26/27 Novembre | AQ53: PARIS
AH54: =SUM(C54:AG54) -> 0 | AJ54: =AH54*$AL$2 -> 0 | AK54: =SUM(AH54) -> 0 | AL54: =SUM(AK54*$AL$2) -> 0 | AO54: SUD EST | AP54: 12/13 Décembre
AH55: =SUM(C55:AG55) -> 0 | AJ55: =AH55*$AL$2 -> 0 | AK55: =SUM(AH55) -> 0 | AL55: =SUM(AK55*$AL$2) -> 0 | AO55: EST | AP55: 6/7 Novembre
AH56: =SUM(C56:AG56) -> 0 | AJ56: =AH56*$AL$2 -> 0 | AK56: =SUM(AH56) -> 0 | AL56: =SUM(AK56*$AL$2) -> 0
AH57: =SUM(C57:AG57) -> 0 | AJ57: =AH57*$AL$2 -> 0 | AK57: =SUM(AH57) -> 0 | AL57: =SUM(AK57*$AL$2) -> 0
AH58: =SUM(C58:AG58) -> 0 | AJ58: =AH58*$AL$2 -> 0 | AK58: =SUM(AH58) -> 0 | AL58: =SUM(AK58*$AL$2) -> 0
AH59: =SUM(C59:AG59) -> 0 | AJ59: =AH59*$AL$2 -> 0 | AK59: =SUM(AH59) -> 0 | AL59: =SUM(AK59*$AL$2) -> 0
AH60: =SUM(C60:AG60) -> 0 | AJ60: =AH60*$AL$2 -> 0 | AK60: =SUM(AH60) -> 0 | AL60: =SUM(AK60*$AL$2) -> 0 | AO60: ! | AP60: A ANNULER
AH61: =SUM(C61:AG61) -> 0 | AJ61: =AH61*$AL$2 -> 0 | AK61: =SUM(AH61) -> 0 | AL61: =SUM(AK61*$AL$2) -> 0 | AO61: ? | AP61: A CONFIRMER
AH62: =SUM(C62:AG62) -> 0 | AJ62: =AH62*$AL$2 -> 0 | AK62: =SUM(AH62) -> 0 | AL62: =SUM(AK62*$AL$2) -> 0 | AO62: 1 | AP62: RESERVATION
AH63: =SUM(C63:AG63) -> 0 | AJ63: =AH63*$AL$2 -> 0 | AK63: =SUM(AH63) -> 0 | AL63: =SUM(AK63*$AL$2) -> 0
AH64: =SUM(C64:AG64) -> 0 | AJ64: =AH64*$AL$2 -> 0 | AK64: =SUM(AH64) -> 0 | AL64: =SUM(AK64*$AL$2) -> 0
AH65: =SUM(C65:AG65) -> 0 | AJ65: =AH65*$AL$2 -> 0 | AK65: =SUM(AH65) -> 0 | AL65: =SUM(AK65*$AL$2) -> 0
AH66: =SUM(C66:AG66) -> 0 | AJ66: =AH66*$AL$2 -> 0 | AK66: =SUM(AH66) -> 0 | AL66: =SUM(AK66*$AL$2) -> 0
AH67: =SUM(C67:AG67) -> 0 | AJ67: =AH67*$AL$2 -> 0 | AK67: =SUM(AH67) -> 0 | AL67: =SUM(AK67*$AL$2) -> 0
AH68: =SUM(C68:AG68) -> 0 | AJ68: =AH68*$AL$2 -> 0 | AK68: =SUM(AH68) -> 0 | AL68: =SUM(AK68*$AL$2) -> 0
AH69: =SUM(C69:AG69) -> 0 | AJ69: =AH69*$AL$2 -> 0 | AK69: =SUM(AH69) -> 0 | AL69: =SUM(AK69*$AL$2) -> 0
AH70: =SUM(C70:AG70) -> 0 | AJ70: =AH70*$AL$2 -> 0 | AK70: =SUM(AH70) -> 0 | AL70: =SUM(AK70*$AL$2) -> 0
AH71: =SUM(C71:AG71) -> 0 | AJ71: =AH71*$AL$2 -> 0 | AK71: =SUM(AH71) -> 0 | AL71: =SUM(AK71*$AL$2) -> 0
AH72: =SUM(C72:AG72) -> 0 | AJ72: =AH72*$AL$2 -> 0 | AK72: =SUM(AH72) -> 0 | AL72: =SUM(AK72*$AL$2) -> 0
AH73: =SUM(C73:AG73) -> 0 | AJ73: =AH73*$AL$2 -> 0 | AK73: =SUM(AH73) -> 0 | AL73: =SUM(AK73*$AL$2) -> 0
AH74: =SUM(C74:AG74) -> 0 | AJ74: =AH74*$AL$2 -> 0 | AK74: =SUM(AH74) -> 0 | AL74: =SUM(AK74*$AL$2) -> 0
... AH77: =SUM(C77:AG77) -> 0 | AJ77: =AH77*$AL$2 -> 0 | AK77: =SUM(AH77) -> 0 | AL77: =SUM(AK77*$AL$2) -> 0
A78: Total | C78: =SUM(C6:C77) -> 0 | D78: =SUM(D6:D77) -> 0 | E78: =SUM(E6:E77) -> 0 | F78: =SUM(F6:F77) -> 0 | G78: =SUM(G6:G77) -> 0 | H78: =SUM(H6:H77) -> 0 | I78: =SUM(I6:I77) -> 0 | J78: =SUM(J6:J77) -> 0 | ... AG78: =SUM(AG6:AG77) -> 0 | AH78: =SUM(C78:AG78) -> 0 | AJ78: =AH78*$AL$2 -> 0 | AK78: =SUM(AH78) -> 0 | AL78: =SUM(AK78*$AL$2) -> 0
AJ79: =SUM(AJ6:AJ78) -> 0 | AK79: =SUM(AK6:AK78) -> 0 | AL79: =SUM(AL6:AL78) -> 0
AJ80: 76960

Sheet JUIL
A1: =JANV!A1 -> 2020 | C1: Réservations chambres | AI1: * | AJ1: Nombre de chambres et coût | AM1: * | AO1: Carte IBIS BUSINESS
B2: 7 | C2: JUILLET | AJ2: PRIX UNITAIRE | AL2: 74 | AO2: Eric | AQ2: *3081432700807952
A3: Mois | AH3: CHAMBRES | AJ3: COÛT | AK3: CHAMBRES | AO3: Paul | AQ3: *3081432662964312
A4: NOMS | B4: PRENOMS | C4: 1 | D4: =C4+1 -> 2 | E4: =D4+1 -> 3 | F4: =E4+1 -> 4 | G4: =F4+1 -> 5 | H4: =G4+1 -> 6 | I4: =H4+1 -> 7 | J4: =I4+1 -> 8 | K4: =J4+1 -> 9 | ... AG4: =AF4+1 -> 31 | AH4: TOTAL | AJ4: TOTAL | AK4: NBS | AL4: COÛT | AO4: Chantal | AQ4: *3081432699167947
C5: =DATE(JANV!$A$1,JUIL!$B$2,JUIL!C4) -> 44013 | D5: =C5+1 -> 44014 | E5: =D5+1 -> 44015 | F5: =E5+1 -> 44016 | G5: =F5+1 -> 44017 | H5: =G5+1 -> 44018 | I5: =H5+1 -> 44019 | J5: =I5+1 -> 44020 | K5: =J5+1 -> 44021 | ... AG5: =AF5+1 -> 44043 | AH5: au mois | AJ5: Au mois | AK5: Depuis le | AL5: 42736 | AN5: 1 | AO5: RESA IBIS BUDGET
A6: HUGON | B6: Eric | AH6: =SUM(C6:AG6) -> 0 | AJ6: =AH6*$AL$2 -> 0 | AK6: =SUM(AH6) -> 0 | AL6: =SUM(AK6*$AL$2) -> 0 | AN6: ? | AO6: Réservation à confirmer
A7: DESSOMME | B7: Paul
A8: GUERMONT | B8: Michèle | AH8: =SUM(C8:AG8) -> 0 | AJ8: =AH8*$AL$2 -> 0 | AK8: =SUM(AH8) -> 0 | AL8: =SUM(AK8*$AL$2) -> 0 | AO8: BN et CS SNTU
A9: ROULLAUD | B9: Chantal | AH9: =SUM(C9:AG9) -> 0 | AJ9: =AH9*$AL$2 -> 0 | AK9: =SUM(AH9) -> 0 | AL9: =SUM(AK9*$AL$2) -> 0 | AO9: SECRETARIAT
A10: Non Affectées | B10: CFDT | AH10: =SUM(C10:AG10) -> 0 | AJ10: =AH10*$AL$2 -> 0 | AK10: =SUM(AH10) -> 0 | AL10: =SUM(AK10*$AL$2) -> 0 | AO10: REUNION
A11: CANTALOUBE | B11: Philippe | AH11: =SUM(C11:AG11) -> 0 | AJ11: =AH11*$AL$2 -> 0 | AK11: =SUM(AH11) -> 0 | AL11: =SUM(AK11*$AL$2) -> 0 | AO11: FORM
A12: CHARRON | B12: Jean Michel | AH12: =SUM(C12:AG12) -> 0 | AJ12: =AH12*$AL$2 -> 0 | AK12: =SUM(AH12) -> 0 | AL12: =SUM(AK12*$AL$2) -> 0 | AN12: CA | AO12: CONGES
A13: LE BONJOUR | B13: Jean Emmanuel | AH13: =SUM(C13:AG13) -> 0 | AJ13: =AH13*$AL$2 -> 0 | AK13: =SUM(AH13) -> 0 | AL13: =SUM(AK13*$AL$2) -> 0 | AO13: Fériés
A14: TERNOIS | B14: Pierrick | AH14: =SUM(C14:AG14) -> 0 | AJ14: =AH14*$AL$2 -> 0 | AK14: =SUM(AH14) -> 0 | AL14: =SUM(AK14*$AL$2) -> 0 | AO14: REUNION SNTU
A15: VANDENBROUCKE | B15: François | AH15: =SUM(C15:AG15) -> 0 | AJ15: =AH15*$AL$2 -> 0 | AK15: =SUM(AH15) -> 0 | AL15: =SUM(AK15*$AL$2) -> 0 | AP15: DU | AQ15: AU
A16: ACHOUR | B16: Souad | AH16: =SUM(C16:AG16) -> 0 | AJ16: =AH16*$AL$2 -> 0 | AK16: =SUM(AH16) -> 0 | AL16: =SUM(AK16*$AL$2) -> 0 | AO16: BN | AP16: 42757 | AQ16: 42758
A17: AUROY | B17: Alain | AH17: =SUM(C17:AG17) -> 0 | AJ17: =AH17*$AL$2 -> 0 | AK17: =SUM(AH17) -> 0 | AL17: =SUM(AK17*$AL$2) -> 0 | AO17: SECRETARIAT | AP17: 42786
A18: BELGOURCH | B18: Abdelmejid | AH18: =SUM(C18:AG18) -> 0 | AJ18: =AH18*$AL$2 -> 0 | AK18: =SUM(AH18) -> 0 | AL18: =SUM(AK18*$AL$2) -> 0 | AO18: BN | AP18: 42808 | AQ18: 42809
A19: CHEMIN | B19: Grégory | AH19: =SUM(C19:AG19) -> 0 | AJ19: =AH19*$AL$2 -> 0 | AK19: =SUM(AH19) -> 0 | AL19: =SUM(AK19*$AL$2) -> 0 | AO19: SECRETARIAT | AP19: 42839
A20: DANIEL | B20: Luc | AH20: =SUM(C20:AG20) -> 0 | AJ20: =AH20*$AL$2 -> 0 | AK20: =SUM(AH20) -> 0 | AL20: =SUM(AK20*$AL$2) -> 0 | AO20: BN + CS | AP20: 42898 | AQ20: 42900
A21: DELALLEAU | B21: Joël | AH21: =SUM(C21:AG21) -> 0 | AJ21: =AH21*$AL$2 -> 0 | AK21: =SUM(AH21) -> 0 | AL21: =SUM(AK21*$AL$2) -> 0 | AO21: SECRETARIAT | AP21: 42920
A22: DESROCHE | B22: Philippe | AH22: =SUM(C22:AG22) -> 0 | AJ22: =AH22*$AL$2 -> 0 | AK22: =SUM(AH22) -> 0 | AL22: =SUM(AK22*$AL$2) -> 0 | AO22: SECRETARIAT | AP22: 42982
A23: DIAS | B23: Patrick | AH23: =SUM(C23:AG23) -> 0 | AJ23: =AH23*$AL$2 -> 0 | AK23: =SUM(AH23) -> 0 | AL23: =SUM(AK23*$AL$2) -> 0 | AO23: BN | AP23: 42989 | AQ23: 42990
A24: GUEROUALI | B24: Mouhcine | AH24: =SUM(C24:AG24) -> 0 | AJ24: =AH24*$AL$2 -> 0 | AK24: =SUM(AH24) -> 0 | AL24: =SUM(AK24*$AL$2) -> 0 | AO24: TRESORIERS | AP24: 42991 | AQ24: PARIS
A25: LARDEUX | B25: Didier | AH25: =SUM(C25:AG25) -> 0 | AJ25: =AH25*$AL$2 -> 0 | AK25: =SUM(AH25) -> 0 | AL25: =SUM(AK25*$AL$2) -> 0 | AO25: SECRETARIAT | AP25: 43017
A26: LE MAUGUEN | B26: Gildas | AH26: =SUM(C26:AG26) -> 0 | AJ26: =AH26*$AL$2 -> 0 | AK26: =SUM(AH26) -> 0 | AL26: =SUM(AK26*$AL$2) -> 0 | AO26: BN | AP26: 43052 | AQ26: 43053
A27: PROVENDIER | B27: Steve | AH27: =SUM(C27:AG27) -> 0 | AJ27: =AH27*$AL$2 -> 0 | AK27: =SUM(AH27) -> 0 | AL27: =SUM(AK27*$AL$2) -> 0 | AO27: SECRETARIAT | AP27: 43080
A28: TAMSNA | B28: Hicham | AH28: =SUM(C28:AG28) -> 0 | AJ28: =AH28*$AL$2 -> 0 | AK28: =SUM(AH28) -> 0 | AL28: =SUM(AK28*$AL$2) -> 0 | AO28: FORMATION SNTU
A29: WERNERT | B29: Michel | AH29: =SUM(C29:AG29) -> 0 | AJ29: =AH29*$AL$2 -> 0 | AK29: =SUM(AH29) -> 0 | AL29: =SUM(AK29*$AL$2) -> 0 | AP29: Du | AQ29: Au
AH30: =SUM(C30:AG30) -> 0 | AJ30: =AH30*$AL$2 -> 0 | AK30: =SUM(AH30) -> 0 | AL30: =SUM(AK30*$AL$2) -> 0 | AO30: IREFE | AP30: 42764 | AQ30: 42767
AH31: =SUM(C31:AG31) -> 0 | AJ31: =AH31*$AL$2 -> 0 | AK31: =SUM(AH31) -> 0 | AL31: =SUM(AK31*$AL$2) -> 0 | AO31: CE | AP31: 42771 | AQ31: 42775
AH32: =SUM(C32:AG32) -> 0 | AJ32: =AH32*$AL$2 -> 0 | AK32: =SUM(AH32) -> 0 | AL32: =SUM(AK32*$AL$2) -> 0 | AO32: DS | AP32: 42779 | AQ32: 42781
A33: CARY | B33: Didier | AH33: =SUM(C33:AG33) -> 0 | AJ33: =AH33*$AL$2 -> 0 | AK33: =SUM(AH33) -> 0 | AL33: =SUM(AK33*$AL$2) -> 0 | AO33: CHSCT NIV 1 | AP33: 42792 | AQ33: 42796
AH34: =SUM(C34:AG34) -> 0 | AJ34: =AH34*$AL$2 -> 0 | AK34: =SUM(AH34) -> 0 | AL34: =SUM(AK34*$AL$2) -> 0 | AO34: CE | AP34: 42834 | AQ34: 42838
AH35: =SUM(C35:AG35) -> 0 | AJ35: =AH35*$AL$2 -> 0 | AK35: =SUM(AH35) -> 0 | AL35: =SUM(AK35*$AL$2) -> 0 | AO35: CHSCT NIV 2 | AP35: 42869 | AQ35: 42873
A36: VERMEESCH | B36: Guy | AH36: =SUM(C36:AG36) -> 0 | AJ36: =AH36*$AL$2 -> 0 | AK36: =SUM(AH36) -> 0 | AL36: =SUM(AK36*$AL$2) -> 0 | AO36: DS | AP36: 42870 | AQ36: 42872
A37: PLOUZENNEC | B37: Pierre | AH37: =SUM(C37:AG37) -> 0 | AJ37: =AH37*$AL$2 -> 0 | AK37: =SUM(AH37) -> 0 | AL37: =SUM(AK37*$AL$2) -> 0 | AO37: CE | AP37: 42911 | AQ37: 42915
AH38: =SUM(C38:AG38) -> 0 | AJ38: =AH38*$AL$2 -> 0 | AK38: =SUM(AH38) -> 0 | AL38: =SUM(AK38*$AL$2) -> 0 | AO38: CE | AP38: 43002 | AQ38: 43006
A39: FERRANDINO | B39: Denis | AH39: =SUM(C39:AG39) -> 0 | AJ39: =AH39*$AL$2 -> 0 | AK39: =SUM(AH39) -> 0 | AL39: =SUM(AK39*$AL$2) -> 0 | AO39: CHSCT NIV 1 | AP39: 43023 | AQ39: 43027
A40: PONZ | B40: Stéphanie | AH40: =SUM(C40:AG40) -> 0 | AJ40: =AH40*$AL$2 -> 0 | AK40: =SUM(AH40) -> 0 | AL40: =SUM(AK40*$AL$2) -> 0 | AO40: DS | AP40: 43024 | AQ40: 43026
AH41: =SUM(C41:AG41) -> 0 | AJ41: =AH41*$AL$2 -> 0 | AK41: =SUM(AH41) -> 0 | AL41: =SUM(AK41*$AL$2) -> 0
AH42: =SUM(C42:AG42) -> 0 | AJ42: =AH42*$AL$2 -> 0 | AK42: =SUM(AH42) -> 0 | AL42: =SUM(AK42*$AL$2) -> 0 | AO42: COORDINATIONS 1er semestre
AH43: =SUM(C43:AG43) -> 0 | AJ43: =AH43*$AL$2 -> 0 | AK43: =SUM(AH43) -> 0 | AL43: =SUM(AK43*$AL$2) -> 0 | AO43: OUEST | AP43: 4/5 avril | AQ43: ANGERS
AH44: =SUM(C44:AG44) -> 0 | AJ44: =AH44*$AL$2 -> 0 | AK44: =SUM(AH44) -> 0 | AL44: =SUM(AK44*$AL$2) -> 0 | AO44: CENTRE | AP44: 10/11 Avril
AH45: =SUM(C45:AG45) -> 0 | AJ45: =AH45*$AL$2 -> 0 | AK45: =SUM(AH45) -> 0 | AL45: =SUM(AK45*$AL$2) -> 0 | AO45: SUD OUEST | AP45: 7/8 Mars
AH46: =SUM(C46:AG46) -> 0 | AJ46: =AH46*$AL$2 -> 0 | AK46: =SUM(AH46) -> 0 | AL46: =SUM(AK46*$AL$2) -> 0 | AO46: NORD | AP46: 17/18 Avril | AQ46: LILLE
AH47: =SUM(C47:AG47) -> 0 | AJ47: =AH47*$AL$2 -> 0 | AK47: =SUM(AH47) -> 0 | AL47: =SUM(AK47*$AL$2) -> 0 | AO47: SUD EST | AP47: 26/27 Avril
AH48: =SUM(C48:AG48) -> 0 | AJ48: =AH48*$AL$2 -> 0 | AK48: =SUM(AH48) -> 0 | AL48: =SUM(AK48*$AL$2) -> 0 | AO48: EST | AP48: 29/30 Mai
AH49: =SUM(C49:AG49) -> 0 | AJ49: =AH49*$AL$2 -> 0 | AK49: =SUM(AH49) -> 0 | AL49: =SUM(AK49*$AL$2) -> 0 | AO49: COORDINATIONS 2ème semestre
AH50: =SUM(C50:AG50) -> 0 | AJ50: =AH50*$AL$2 -> 0 | AK50: =SUM(AH50) -> 0 | AL50: =SUM(AK50*$AL$2) -> 0 | AO50: OUEST | AP50: 3/4 Octobre
AH51: =SUM(C51:AG51) -> 0 | AJ51: =AH51*$AL$2 -> 0 | AK51: =SUM(AH51) -> 0 | AL51: =SUM(AK51*$AL$2) -> 0 | AO51: CENTRE | AP51: 6/7 Novembre
AH52: =SUM(C52:AG52) -> 0 | AJ52: =AH52*$AL$2 -> 0 | AK52: =SUM(AH52) -> 0 | AL52: =SUM(AK52*$AL$2) -> 0 | AO52: SUD OUEST | AP52: 19/20 Septembre
AH53: =SUM(C53:AG53) -> 0 | AJ53: =AH53*$AL$2 -> 0 | AK53: =SUM(AH53) -> 0 | AL53: =SUM(AK53*$AL$2) -> 0 | AO53: NORD | AP53: 26/27 Novembre | AQ53: PARIS
AH54: =SUM(C54:AG54) -> 0 | AJ54: =AH54*$AL$2 -> 0 | AK54: =SUM(AH54) -> 0 | AL54: =SUM(AK54*$AL$2) -> 0 | AO54: SUD EST | AP54: 12/13 Décembre
AH55: =SUM(C55:AG55) -> 0 | AJ55: =AH55*$AL$2 -> 0 | AK55: =SUM(AH55) -> 0 | AL55: =SUM(AK55*$AL$2) -> 0 | AO55: EST | AP55: 6/7 Novembre
AH56: =SUM(C56:AG56) -> 0 | AJ56: =AH56*$AL$2 -> 0 | AK56: =SUM(AH56) -> 0 | AL56: =SUM(AK56*$AL$2) -> 0
AH57: =SUM(C57:AG57) -> 0 | AJ57: =AH57*$AL$2 -> 0 | AK57: =SUM(AH57) -> 0 | AL57: =SUM(AK57*$AL$2) -> 0 | AO57: ! | AP57: A ANNULER
AH58: =SUM(C58:AG58) -> 0 | AJ58: =AH58*$AL$2 -> 0 | AK58: =SUM(AH58) -> 0 | AL58: =SUM(AK58*$AL$2) -> 0 | AO58: ? | AP58: A CONFIRMER
AH59: =SUM(C59:AG59) -> 0 | AJ59: =AH59*$AL$2 -> 0 | AK59: =SUM(AH59) -> 0 | AL59: =SUM(AK59*$AL$2) -> 0 | AO59: 1 | AP59: RESERVATION
AH60: =SUM(C60:AG60) -> 0 | AJ60: =AH60*$AL$2 -> 0 | AK60: =SUM(AH60) -> 0 | AL60: =SUM(AK60*$AL$2) -> 0
AH61: =SUM(C61:AG61) -> 0 | AJ61: =AH61*$AL$2 -> 0 | AK61: =SUM(AH61) -> 0 | AL61: =SUM(AK61*$AL$2) -> 0
AH62: =SUM(C62:AG62) -> 0 | AJ62: =AH62*$AL$2 -> 0 | AK62: =SUM(AH62) -> 0 | AL62: =SUM(AK62*$AL$2) -> 0
AH63: =SUM(C63:AG63) -> 0 | AJ63: =AH63*$AL$2 -> 0 | AK63: =SUM(AH63) -> 0 | AL63: =SUM(AK63*$AL$2) -> 0
AH64: =SUM(C64:AG64) -> 0 | AJ64: =AH64*$AL$2 -> 0 | AK64: =SUM(AH64) -> 0 | AL64: =SUM(AK64*$AL$2) -> 0
AH65: =SUM(C65:AG65) -> 0 | AJ65: =AH65*$AL$2 -> 0 | AK65: =SUM(AH65) -> 0 | AL65: =SUM(AK65*$AL$2) -> 0
AH66: =SUM(C66:AG66) -> 0 | AJ66: =AH66*$AL$2 -> 0 | AK66: =SUM(AH66) -> 0 | AL66: =SUM(AK66*$AL$2) -> 0
AH67: =SUM(C67:AG67) -> 0 | AJ67: =AH67*$AL$2 -> 0 | AK67: =SUM(AH67) -> 0 | AL67: =SUM(AK67*$AL$2) -> 0
AH68: =SUM(C68:AG68) -> 0 | AJ68: =AH68*$AL$2 -> 0 | AK68: =SUM(AH68) -> 0 | AL68: =SUM(AK68*$AL$2) -> 0
AH69: =SUM(C69:AG69) -> 0 | AJ69: =AH69*$AL$2 -> 0 | AK69: =SUM(AH69) -> 0 | AL69: =SUM(AK69*$AL$2) -> 0
AH70: =SUM(C70:AG70) -> 0 | AJ70: =AH70*$AL$2 -> 0 | AK70: =SUM(AH70) -> 0 | AL70: =SUM(AK70*$AL$2) -> 0
AH71: =SUM(C71:AG71) -> 0 | AJ71: =AH71*$AL$2 -> 0 | AK71: =SUM(AH71) -> 0 | AL71: =SUM(AK71*$AL$2) -> 0
... AH77: =SUM(C77:AG77) -> 0 | AJ77: =AH77*$AL$2 -> 0 | AK77: =SUM(AH77) -> 0 | AL77: =SUM(AK77*$AL$2) -> 0
A78: Total | C78: =SUM(C6:C77) -> 0 | D78: =SUM(D6:D77) -> 0 | E78: =SUM(E6:E77) -> 0 | F78: =SUM(F6:F77) -> 0 | G78: =SUM(G6:G77) -> 0 | H78: =SUM(H6:H77) -> 0 | I78: =SUM(I6:I77) -> 0 | J78: =SUM(J6:J77) -> 0 | ... AG78: =SUM(AG6:AG77) -> 0 | AH78: =SUM(C78:AG78) -> 0 | AJ78: =AH78*$AL$2 -> 0 | AK78: =SUM(AH78) -> 0 | AL78: =SUM(AK78*$AL$2) -> 0
AJ79: =SUM(AJ6:AJ78) -> 0 | AK79: =SUM(AK6:AK78) -> 0 | AL79: =SUM(AL6:AL78) -> 0
AJ80: 76960

Sheet AOUT
A1: =JANV!A1 -> 2020 | C1: Réservations chambres | AI1: * | AJ1: Nombre de chambres et coût | AM1: * | AO1: Carte IBIS BUSINESS
B2: 8 | C2: AOUT | AJ2: PRIX UNITAIRE | AL2: 74 | AO2: Eric | AQ2: *3081432700807952
A3: Mois | AH3: CHAMBRES | AJ3: COÛT | AK3: CHAMBRES | AO3: Paul | AQ3: *3081432662964312
A4: NOMS | B4: PRENOMS | C4: 1 | D4: =C4+1 -> 2 | E4: =D4+1 -> 3 | F4: =E4+1 -> 4 | G4: =F4+1 -> 5 | H4: =G4+1 -> 6 | I4: =H4+1 -> 7 | J4: =I4+1 -> 8 | K4: =J4+1 -> 9 | ... AG4: =AF4+1 -> 31 | AH4: TOTAL | AJ4: TOTAL | AK4: NBS | AL4: COÛT | AO4: Chantal | AQ4: *3081432699167947
C5: =DATE(JANV!$A$1,AOUT!$B$2,AOUT!C4) -> 44044 | D5: =C5+1 -> 44045 | E5: =D5+1 -> 44046 | F5: =E5+1 -> 44047 | G5: =F5+1 -> 44048 | H5: =G5+1 -> 44049 | I5: =H5+1 -> 44050 | J5: =I5+1 -> 44051 | K5: =J5+1 -> 44052 | ... AG5: =AF5+1 -> 44074 | AH5: au mois | AJ5: Au mois | AK5: Depuis le | AL5: 42736 | AN5: 1 | AO5: RESA IBIS BUDGET
A6: HUGON | B6: Eric | AH6: =SUM(C6:AG6) -> 0 | AJ6: =AH6*$AL$2 -> 0 | AK6: =SUM(AH6) -> 0 | AL6: =SUM(AK6*$AL$2) -> 0 | AN6: ? | AO6: Réservation à confirmer
A7: DESSOMME | B7: Paul
A8: GUERMONT | B8: Michèle | AH8: =SUM(C8:AG8) -> 0 | AJ8: =AH8*$AL$2 -> 0 | AK8: =SUM(AH8) -> 0 | AL8: =SUM(AK8*$AL$2) -> 0 | AO8: BN et CS SNTU
A9: ROULLAUD | B9: Chantal | AH9: =SUM(C9:AG9) -> 0 | AJ9: =AH9*$AL$2 -> 0 | AK9: =SUM(AH9) -> 0 | AL9: =SUM(AK9*$AL$2) -> 0 | AO9: SECRETARIAT
A10: Non Affectées | B10: CFDT | AH10: =SUM(C10:AG10) -> 0 | AJ10: =AH10*$AL$2 -> 0 | AK10: =SUM(AH10) -> 0 | AL10: =SUM(AK10*$AL$2) -> 0 | AO10: REUNION
A11: CANTALOUBE | B11: Philippe | AH11: =SUM(C11:AG11) -> 0 | AJ11: =AH11*$AL$2 -> 0 | AK11: =SUM(AH11) -> 0 | AL11: =SUM(AK11*$AL$2) -> 0 | AO11: FORM
A12: CHARRON | B12: Jean Michel | AH12: =SUM(C12:AG12) -> 0 | AJ12: =AH12*$AL$2 -> 0 | AK12: =SUM(AH12) -> 0 | AL12: =SUM(AK12*$AL$2) -> 0 | AN12: CA | AO12: CONGES
A13: LE BONJOUR | B13: Jean Emmanuel | AH13: =SUM(C13:AG13) -> 0 | AJ13: =AH13*$AL$2 -> 0 | AK13: =SUM(AH13) -> 0 | AL13: =SUM(AK13*$AL$2) -> 0 | AO13: Fériés
A14: TERNOIS | B14: Pierrick | AH14: =SUM(C14:AG14) -> 0 | AJ14: =AH14*$AL$2 -> 0 | AK14: =SUM(AH14) -> 0 | AL14: =SUM(AK14*$AL$2) -> 0 | AO14: REUNION SNTU
A15: VANDENBROUCKE | B15: François | AH15: =SUM(C15:AG15) -> 0 | AJ15: =AH15*$AL$2 -> 0 | AK15: =SUM(AH15) -> 0 | AL15: =SUM(AK15*$AL$2) -> 0 | AP15: DU | AQ15: AU
A16: ACHOUR | B16: Souad | AH16: =SUM(C16:AG16) -> 0 | AJ16: =AH16*$AL$2 -> 0 | AK16: =SUM(AH16) -> 0 | AL16: =SUM(AK16*$AL$2) -> 0 | AO16: BN | AP16: 42757 | AQ16: 42758
A17: AUROY | B17: Alain | AH17: =SUM(C17:AG17) -> 0 | AJ17: =AH17*$AL$2 -> 0 | AK17: =SUM(AH17) -> 0 | AL17: =SUM(AK17*$AL$2) -> 0 | AO17: SECRETARIAT | AP17: 42786
A18: BELGOURCH | B18: Abdelmejid | AH18: =SUM(C18:AG18) -> 0 | AJ18: =AH18*$AL$2 -> 0 | AK18: =SUM(AH18) -> 0 | AL18: =SUM(AK18*$AL$2) -> 0 | AO18: BN | AP18: 42808 | AQ18: 42809
A19: CHEMIN | B19: Grégory | AH19: =SUM(C19:AG19) -> 0 | AJ19: =AH19*$AL$2 -> 0 | AK19: =SUM(AH19) -> 0 | AL19: =SUM(AK19*$AL$2) -> 0 | AO19: SECRETARIAT | AP19: 42839
A20: DANIEL | B20: Luc | AH20: =SUM(C20:AG20) -> 0 | AJ20: =AH20*$AL$2 -> 0 | AK20: =SUM(AH20) -> 0 | AL20: =SUM(AK20*$AL$2) -> 0 | AO20: BN + CS | AP20: 42898 | AQ20: 42900
A21: DELALLEAU | B21: Joël | AH21: =SUM(C21:AG21) -> 0 | AJ21: =AH21*$AL$2 -> 0 | AK21: =SUM(AH21) -> 0 | AL21: =SUM(AK21*$AL$2) -> 0 | AO21: SECRETARIAT | AP21: 42920
A22: DESROCHE | B22: Philippe | AH22: =SUM(C22:AG22) -> 0 | AJ22: =AH22*$AL$2 -> 0 | AK22: =SUM(AH22) -> 0 | AL22: =SUM(AK22*$AL$2) -> 0 | AO22: SECRETARIAT | AP22: 42982
A23: DIAS | B23: Patrick | AH23: =SUM(C23:AG23) -> 0 | AJ23: =AH23*$AL$2 -> 0 | AK23: =SUM(AH23) -> 0 | AL23: =SUM(AK23*$AL$2) -> 0 | AO23: BN | AP23: 42989 | AQ23: 42990
A24: GUEROUALI | B24: Mouhcine | AH24: =SUM(C24:AG24) -> 0 | AJ24: =AH24*$AL$2 -> 0 | AK24: =SUM(AH24) -> 0 | AL24: =SUM(AK24*$AL$2) -> 0 | AO24: TRESORIERS | AP24: 42991 | AQ24: PARIS
A25: LARDEUX | B25: Didier | AH25: =SUM(C25:AG25) -> 0 | AJ25: =AH25*$AL$2 -> 0 | AK25: =SUM(AH25) -> 0 | AL25: =SUM(AK25*$AL$2) -> 0 | AO25: SECRETARIAT | AP25: 43017
A26: LE MAUGUEN | B26: Gildas | AH26: =SUM(C26:AG26) -> 0 | AJ26: =AH26*$AL$2 -> 0 | AK26: =SUM(AH26) -> 0 | AL26: =SUM(AK26*$AL$2) -> 0 | AO26: BN | AP26: 43052 | AQ26: 43053
A27: PROVENDIER | B27: Steve | AH27: =SUM(C27:AG27) -> 0 | AJ27: =AH27*$AL$2 -> 0 | AK27: =SUM(AH27) -> 0 | AL27: =SUM(AK27*$AL$2) -> 0 | AO27: SECRETARIAT | AP27: 43080
A28: TAMSNA | B28: Hicham | AH28: =SUM(C28:AG28) -> 0 | AJ28: =AH28*$AL$2 -> 0 | AK28: =SUM(AH28) -> 0 | AL28: =SUM(AK28*$AL$2) -> 0 | AO28: FORMATION SNTU
A29: WERNERT | B29: Michel | AH29: =SUM(C29:AG29) -> 0 | AJ29: =AH29*$AL$2 -> 0 | AK29: =SUM(AH29) -> 0 | AL29: =SUM(AK29*$AL$2) -> 0 | AP29: Du | AQ29: Au
AH30: =SUM(C30:AG30) -> 0 | AJ30: =AH30*$AL$2 -> 0 | AK30: =SUM(AH30) -> 0 | AL30: =SUM(AK30*$AL$2) -> 0 | AO30: IREFE | AP30: 42764 | AQ30: 42767
AH31: =SUM(C31:AG31) -> 0 | AJ31: =AH31*$AL$2 -> 0 | AK31: =SUM(AH31) -> 0 | AL31: =SUM(AK31*$AL$2) -> 0 | AO31: CE | AP31: 42771 | AQ31: 42775
AH32: =SUM(C32:AG32) -> 0 | AJ32: =AH32*$AL$2 -> 0 | AK32: =SUM(AH32) -> 0 | AL32: =SUM(AK32*$AL$2) -> 0 | AO32: DS | AP32: 42779 | AQ32: 42781
A33: CARY | B33: Didier | AH33: =SUM(C33:AG33) -> 0 | AJ33: =AH33*$AL$2 -> 0 | AK33: =SUM(AH33) -> 0 | AL33: =SUM(AK33*$AL$2) -> 0 | AO33: CHSCT NIV 1 | AP33: 42792 | AQ33: 42796
AH34: =SUM(C34:AG34) -> 0 | AJ34: =AH34*$AL$2 -> 0 | AK34: =SUM(AH34) -> 0 | AL34: =SUM(AK34*$AL$2) -> 0 | AO34: CE | AP34: 42834 | AQ34: 42838
AH35: =SUM(C35:AG35) -> 0 | AJ35: =AH35*$AL$2 -> 0 | AK35: =SUM(AH35) -> 0 | AL35: =SUM(AK35*$AL$2) -> 0 | AO35: CHSCT NIV 2 | AP35: 42869 | AQ35: 42873
A36: VERMEESCH | B36: Guy | AH36: =SUM(C36:AG36) -> 0 | AJ36: =AH36*$AL$2 -> 0 | AK36: =SUM(AH36) -> 0 | AL36: =SUM(AK36*$AL$2) -> 0 | AO36: DS | AP36: 42870 | AQ36: 42872
A37: PLOUZENNEC | B37: Pierre | AH37: =SUM(C37:AG37) -> 0 | AJ37: =AH37*$AL$2 -> 0 | AK37: =SUM(AH37) -> 0 | AL37: =SUM(AK37*$AL$2) -> 0 | AO37: CE | AP37: 42911 | AQ37: 42915
AH38: =SUM(C38:AG38) -> 0 | AJ38: =AH38*$AL$2 -> 0 | AK38: =SUM(AH38) -> 0 | AL38: =SUM(AK38*$AL$2) -> 0 | AO38: CE | AP38: 43002 | AQ38: 43006
A39: FERRANDINO | B39: Denis | AH39: =SUM(C39:AG39) -> 0 | AJ39: =AH39*$AL$2 -> 0 | AK39: =SUM(AH39) -> 0 | AL39: =SUM(AK39*$AL$2) -> 0 | AO39: CHSCT NIV 1 | AP39: 43023 | AQ39: 43027
A40: PONZ | B40: Stéphanie | AH40: =SUM(C40:AG40) -> 0 | AJ40: =AH40*$AL$2 -> 0 | AK40: =SUM(AH40) -> 0 | AL40: =SUM(AK40*$AL$2) -> 0 | AO40: DS | AP40: 43024 | AQ40: 43026
AH41: =SUM(C41:AG41) -> 0 | AJ41: =AH41*$AL$2 -> 0 | AK41: =SUM(AH41) -> 0 | AL41: =SUM(AK41*$AL$2) -> 0
AH42: =SUM(C42:AG42) -> 0 | AJ42: =AH42*$AL$2 -> 0 | AK42: =SUM(AH42) -> 0 | AL42: =SUM(AK42*$AL$2) -> 0 | AO42: COORDINATIONS 1er semestre
AH43: =SUM(C43:AG43) -> 0 | AJ43: =AH43*$AL$2 -> 0 | AK43: =SUM(AH43) -> 0 | AL43: =SUM(AK43*$AL$2) -> 0 | AO43: OUEST | AP43: 4/5 avril | AQ43: ANGERS
AH44: =SUM(C44:AG44) -> 0 | AJ44: =AH44*$AL$2 -> 0 | AK44: =SUM(AH44) -> 0 | AL44: =SUM(AK44*$AL$2) -> 0 | AO44: CENTRE | AP44: 10/11 Avril
AH45: =SUM(C45:AG45) -> 0 | AJ45: =AH45*$AL$2 -> 0 | AK45: =SUM(AH45) -> 0 | AL45: =SUM(AK45*$AL$2) -> 0 | AO45: SUD OUEST | AP45: 7/8 Mars
AH46: =SUM(C46:AG46) -> 0 | AJ46: =AH46*$AL$2 -> 0 | AK46: =SUM(AH46) -> 0 | AL46: =SUM(AK46*$AL$2) -> 0 | AO46: NORD | AP46: 17/18 Avril | AQ46: LILLE
AH47: =SUM(C47:AG47) -> 0 | AJ47: =AH47*$AL$2 -> 0 | AK47: =SUM(AH47) -> 0 | AL47: =SUM(AK47*$AL$2) -> 0 | AO47: SUD EST | AP47: 26/27 Avril
AH48: =SUM(C48:AG48) -> 0 | AJ48: =AH48*$AL$2 -> 0 | AK48: =SUM(AH48) -> 0 | AL48: =SUM(AK48*$AL$2) -> 0 | AO48: EST | AP48: 29/30 Mai
AH49: =SUM(C49:AG49) -> 0 | AJ49: =AH49*$AL$2 -> 0 | AK49: =SUM(AH49) -> 0 | AL49: =SUM(AK49*$AL$2) -> 0 | AO49: COORDINATIONS 2ème semestre
AH50: =SUM(C50:AG50) -> 0 | AJ50: =AH50*$AL$2 -> 0 | AK50: =SUM(AH50) -> 0 | AL50: =SUM(AK50*$AL$2) -> 0 | AO50: OUEST | AP50: 3/4 Octobre
AH51: =SUM(C51:AG51) -> 0 | AJ51: =AH51*$AL$2 -> 0 | AK51: =SUM(AH51) -> 0 | AL51: =SUM(AK51*$AL$2) -> 0 | AO51: CENTRE | AP51: 6/7 Novembre
AH52: =SUM(C52:AG52) -> 0 | AJ52: =AH52*$AL$2 -> 0 | AK52: =SUM(AH52) -> 0 | AL52: =SUM(AK52*$AL$2) -> 0 | AO52: SUD OUEST | AP52: 19/20 Septembre
AH53: =SUM(C53:AG53) -> 0 | AJ53: =AH53*$AL$2 -> 0 | AK53: =SUM(AH53) -> 0 | AL53: =SUM(AK53*$AL$2) -> 0 | AO53: NORD | AP53: 26/27 Novembre | AQ53: PARIS
AH54: =SUM(C54:AG54) -> 0 | AJ54: =AH54*$AL$2 -> 0 | AK54: =SUM(AH54) -> 0 | AL54: =SUM(AK54*$AL$2) -> 0 | AO54: SUD EST | AP54: 12/13 Décembre
AH55: =SUM(C55:AG55) -> 0 | AJ55: =AH55*$AL$2 -> 0 | AK55: =SUM(AH55) -> 0 | AL55: =SUM(AK55*$AL$2) -> 0 | AO55: EST | AP55: 6/7 Novembre
AH56: =SUM(C56:AG56) -> 0 | AJ56: =AH56*$AL$2 -> 0 | AK56: =SUM(AH56) -> 0 | AL56: =SUM(AK56*$AL$2) -> 0
AH57: =SUM(C57:AG57) -> 0 | AJ57: =AH57*$AL$2 -> 0 | AK57: =SUM(AH57) -> 0 | AL57: =SUM(AK57*$AL$2) -> 0
AH58: =SUM(C58:AG58) -> 0 | AJ58: =AH58*$AL$2 -> 0 | AK58: =SUM(AH58) -> 0 | AL58: =SUM(AK58*$AL$2) -> 0 | AO58: ! | AP58: A ANNULER
AH59: =SUM(C59:AG59) -> 0 | AJ59: =AH59*$AL$2 -> 0 | AK59: =SUM(AH59) -> 0 | AL59: =SUM(AK59*$AL$2) -> 0 | AO59: ? | AP59: A CONFIRMER
AH60: =SUM(C60:AG60) -> 0 | AJ60: =AH60*$AL$2 -> 0 | AK60: =SUM(AH60) -> 0 | AL60: =SUM(AK60*$AL$2) -> 0 | AO60: 1 | AP60: RESERVATION
AH61: =SUM(C61:AG61) -> 0 | AJ61: =AH61*$AL$2 -> 0 | AK61: =SUM(AH61) -> 0 | AL61: =SUM(AK61*$AL$2) -> 0
AH62: =SUM(C62:AG62) -> 0 | AJ62: =AH62*$AL$2 -> 0 | AK62: =SUM(AH62) -> 0 | AL62: =SUM(AK62*$AL$2) -> 0
AH63: =SUM(C63:AG63) -> 0 | AJ63: =AH63*$AL$2 -> 0 | AK63: =SUM(AH63) -> 0 | AL63: =SUM(AK63*$AL$2) -> 0
AH64: =SUM(C64:AG64) -> 0 | AJ64: =AH64*$AL$2 -> 0 | AK64: =SUM(AH64) -> 0 | AL64: =SUM(AK64*$AL$2) -> 0
AH65: =SUM(C65:AG65) -> 0 | AJ65: =AH65*$AL$2 -> 0 | AK65: =SUM(AH65) -> 0 | AL65: =SUM(AK65*$AL$2) -> 0
AH66: =SUM(C66:AG66) -> 0 | AJ66: =AH66*$AL$2 -> 0 | AK66: =SUM(AH66) -> 0 | AL66: =SUM(AK66*$AL$2) -> 0
AH67: =SUM(C67:AG67) -> 0 | AJ67: =AH67*$AL$2 -> 0 | AK67: =SUM(AH67) -> 0 | AL67: =SUM(AK67*$AL$2) -> 0
AH68: =SUM(C68:AG68) -> 0 | AJ68: =AH68*$AL$2 -> 0 | AK68: =SUM(AH68) -> 0 | AL68: =SUM(AK68*$AL$2) -> 0
AH69: =SUM(C69:AG69) -> 0 | AJ69: =AH69*$AL$2 -> 0 | AK69: =SUM(AH69) -> 0 | AL69: =SUM(AK69*$AL$2) -> 0
AH70: =SUM(C70:AG70) -> 0 | AJ70: =AH70*$AL$2 -> 0 | AK70: =SUM(AH70) -> 0 | AL70: =SUM(AK70*$AL$2) -> 0
AH71: =SUM(C71:AG71) -> 0 | AJ71: =AH71*$AL$2 -> 0 | AK71: =SUM(AH71) -> 0 | AL71: =SUM(AK71*$AL$2) -> 0
AH72: =SUM(C72:AG72) -> 0 | AJ72: =AH72*$AL$2 -> 0 | AK72: =SUM(AH72) -> 0 | AL72: =SUM(AK72*$AL$2) -> 0
... AH77: =SUM(C77:AG77) -> 0 | AJ77: =AH77*$AL$2 -> 0 | AK77: =SUM(AH77) -> 0 | AL77: =SUM(AK77*$AL$2) -> 0
A78: Total | C78: =SUM(C6:C77) -> 0 | D78: =SUM(D6:D77) -> 0 | E78: =SUM(E6:E77) -> 0 | F78: =SUM(F6:F77) -> 0 | G78: =SUM(G6:G77) -> 0 | H78: =SUM(H6:H77) -> 0 | I78: =SUM(I6:I77) -> 0 | J78: =SUM(J6:J77) -> 0 | ... AG78: =SUM(AG6:AG77) -> 0 | AH78: =SUM(C78:AG78) -> 0 | AJ78: =AH78*$AL$2 -> 0 | AK78: =SUM(AH78) -> 0 | AL78: =SUM(AK78*$AL$2) -> 0
AJ79: =SUM(AJ6:AJ78) -> 0 | AK79: =SUM(AK6:AK78) -> 0 | AL79: =SUM(AL6:AL78) -> 0
AJ80: 76960

Sheet SEPT
A1: =JANV!A1 -> 2020 | C1: Réservations chambres | AI1: * | AJ1: Nombre de chambres et coût | AM1: * | AO1: Carte IBIS BUSINESS
B2: 9 | C2: SEPTEMBRE | AJ2: PRIX UNITAIRE | AL2: 74 | AO2: Eric | AQ2: *3081432700807952
A3: Mois | AH3: CHAMBRES | AJ3: COÛT | AK3: CHAMBRES | AO3: Paul | AQ3: *3081432662964312
A4: NOMS | B4: PRENOMS | C4: 1 | D4: =C4+1 -> 2 | E4: =D4+1 -> 3 | F4: =E4+1 -> 4 | G4: =F4+1 -> 5 | H4: =G4+1 -> 6 | I4: =H4+1 -> 7 | J4: =I4+1 -> 8 | K4: =J4+1 -> 9 | ... AG4: =AF4+1 -> 31 | AH4: TOTAL | AJ4: TOTAL | AK4: NBS | AL4: COÛT | AO4: Chantal | AQ4: *3081432699167947
C5: =DATE(JANV!$A$1,SEPT!$B$2,SEPT!C4) -> 44075 | D5: =C5+1 -> 44076 | E5: =D5+1 -> 44077 | F5: =E5+1 -> 44078 | G5: =F5+1 -> 44079 | H5: =G5+1 -> 44080 | I5: =H5+1 -> 44081 | J5: =I5+1 -> 44082 | K5: =J5+1 -> 44083 | ... AG5: =AF5+1 -> 44105 | AH5: au mois | AJ5: Au mois | AK5: Depuis le | AL5: 42736 | AN5: 1 | AO5: RESA IBIS BUDGET
A6: HUGON | B6: Eric | AH6: =SUM(C6:AG6) -> 0 | AJ6: =AH6*$AL$2 -> 0 | AK6: =SUM(AH6) -> 0 | AL6: =SUM(AK6*$AL$2) -> 0 | AN6: ? | AO6: Réservation à confirmer
A7: DESSOMME | B7: Paul
A8: GUERMONT | B8: Michèle | AH8: =SUM(C8:AG8) -> 0 | AJ8: =AH8*$AL$2 -> 0 | AK8: =SUM(AH8) -> 0 | AL8: =SUM(AK8*$AL$2) -> 0 | AO8: BN et CS SNTU
A9: ROULLAUD | B9: Chantal | AH9: =SUM(C9:AG9) -> 0 | AJ9: =AH9*$AL$2 -> 0 | AK9: =SUM(AH9) -> 0 | AL9: =SUM(AK9*$AL$2) -> 0 | AO9: SECRETARIAT
A10: Non Affectées | B10: CFDT | AH10: =SUM(C10:AG10) -> 0 | AJ10: =AH10*$AL$2 -> 0 | AK10: =SUM(AH10) -> 0 | AL10: =SUM(AK10*$AL$2) -> 0 | AO10: REUNION
A11: CANTALOUBE | B11: Philippe | AH11: =SUM(C11:AG11) -> 0 | AJ11: =AH11*$AL$2 -> 0 | AK11: =SUM(AH11) -> 0 | AL11: =SUM(AK11*$AL$2) -> 0 | AO11: FORM
A12: CHARRON | B12: Jean Michel | AH12: =SUM(C12:AG12) -> 0 | AJ12: =AH12*$AL$2 -> 0 | AK12: =SUM(AH12) -> 0 | AL12: =SUM(AK12*$AL$2) -> 0 | AN12: CA | AO12: CONGES
A13: LE BONJOUR | B13: Jean Emmanuel | AH13: =SUM(C13:AG13) -> 0 | AJ13: =AH13*$AL$2 -> 0 | AK13: =SUM(AH13) -> 0 | AL13: =SUM(AK13*$AL$2) -> 0 | AO13: Fériés
A14: TERNOIS | B14: Pierrick | AH14: =SUM(C14:AG14) -> 0 | AJ14: =AH14*$AL$2 -> 0 | AK14: =SUM(AH14) -> 0 | AL14: =SUM(AK14*$AL$2) -> 0 | AO14: REUNION SNTU
A15: VANDENBROUCKE | B15: François | AH15: =SUM(C15:AG15) -> 0 | AJ15: =AH15*$AL$2 -> 0 | AK15: =SUM(AH15) -> 0 | AL15: =SUM(AK15*$AL$2) -> 0 | AP15: DU | AQ15: AU
A16: ACHOUR | B16: Souad | AH16: =SUM(C16:AG16) -> 0 | AJ16: =AH16*$AL$2 -> 0 | AK16: =SUM(AH16) -> 0 | AL16: =SUM(AK16*$AL$2) -> 0 | AO16: BN | AP16: 42757 | AQ16: 42758
A17: AUROY | B17: Alain | AH17: =SUM(C17:AG17) -> 0 | AJ17: =AH17*$AL$2 -> 0 | AK17: =SUM(AH17) -> 0 | AL17: =SUM(AK17*$AL$2) -> 0 | AO17: SECRETARIAT | AP17: 42786
A18: BELGOURCH | B18: Abdelmejid | AH18: =SUM(C18:AG18) -> 0 | AJ18: =AH18*$AL$2 -> 0 | AK18: =SUM(AH18) -> 0 | AL18: =SUM(AK18*$AL$2) -> 0 | AO18: BN | AP18: 42808 | AQ18: 42809
A19: CHEMIN | B19: Grégory | AH19: =SUM(C19:AG19) -> 0 | AJ19: =AH19*$AL$2 -> 0 | AK19: =SUM(AH19) -> 0 | AL19: =SUM(AK19*$AL$2) -> 0 | AO19: SECRETARIAT | AP19: 42839
A20: DANIEL | B20: Luc | AH20: =SUM(C20:AG20) -> 0 | AJ20: =AH20*$AL$2 -> 0 | AK20: =SUM(AH20) -> 0 | AL20: =SUM(AK20*$AL$2) -> 0 | AO20: BN + CS | AP20: 42898 | AQ20: 42900
A21: DELALLEAU | B21: Joël | AH21: =SUM(C21:AG21) -> 0 | AJ21: =AH21*$AL$2 -> 0 | AK21: =SUM(AH21) -> 0 | AL21: =SUM(AK21*$AL$2) -> 0 | AO21: SECRETARIAT | AP21: 42920
A22: DESROCHE | B22: Philippe | AH22: =SUM(C22:AG22) -> 0 | AJ22: =AH22*$AL$2 -> 0 | AK22: =SUM(AH22) -> 0 | AL22: =SUM(AK22*$AL$2) -> 0 | AO22: SECRETARIAT | AP22: 42982
A23: DIAS | B23: Patrick | AH23: =SUM(C23:AG23) -> 0 | AJ23: =AH23*$AL$2 -> 0 | AK23: =SUM(AH23) -> 0 | AL23: =SUM(AK23*$AL$2) -> 0 | AO23: BN | AP23: 42989 | AQ23: 42990
A24: GUEROUALI | B24: Mouhcine | AH24: =SUM(C24:AG24) -> 0 | AJ24: =AH24*$AL$2 -> 0 | AK24: =SUM(AH24) -> 0 | AL24: =SUM(AK24*$AL$2) -> 0 | AO24: TRESORIERS | AP24: 42991 | AQ24: PARIS
A25: LARDEUX | B25: Didier | AH25: =SUM(C25:AG25) -> 0 | AJ25: =AH25*$AL$2 -> 0 | AK25: =SUM(AH25) -> 0 | AL25: =SUM(AK25*$AL$2) -> 0 | AO25: SECRETARIAT | AP25: 43017
A26: LE MAUGUEN | B26: Gildas | AH26: =SUM(C26:AG26) -> 0 | AJ26: =AH26*$AL$2 -> 0 | AK26: =SUM(AH26) -> 0 | AL26: =SUM(AK26*$AL$2) -> 0 | AO26: BN | AP26: 43052 | AQ26: 43053
A27: PROVENDIER | B27: Steve | AH27: =SUM(C27:AG27) -> 0 | AJ27: =AH27*$AL$2 -> 0 | AK27: =SUM(AH27) -> 0 | AL27: =SUM(AK27*$AL$2) -> 0 | AO27: SECRETARIAT | AP27: 43080
A28: TAMSNA | B28: Hicham | AH28: =SUM(C28:AG28) -> 0 | AJ28: =AH28*$AL$2 -> 0 | AK28: =SUM(AH28) -> 0 | AL28: =SUM(AK28*$AL$2) -> 0 | AO28: FORMATION SNTU
A29: WERNERT | B29: Michel | AH29: =SUM(C29:AG29) -> 0 | AJ29: =AH29*$AL$2 -> 0 | AK29: =SUM(AH29) -> 0 | AL29: =SUM(AK29*$AL$2) -> 0 | AP29: Du | AQ29: Au
AH30: =SUM(C30:AG30) -> 0 | AJ30: =AH30*$AL$2 -> 0 | AK30: =SUM(AH30) -> 0 | AL30: =SUM(AK30*$AL$2) -> 0 | AO30: IREFE | AP30: 42764 | AQ30: 42767
AH31: =SUM(C31:AG31) -> 0 | AJ31: =AH31*$AL$2 -> 0 | AK31: =SUM(AH31) -> 0 | AL31: =SUM(AK31*$AL$2) -> 0 | AO31: CE | AP31: 42771 | AQ31: 42775
AH32: =SUM(C32:AG32) -> 0 | AJ32: =AH32*$AL$2 -> 0 | AK32: =SUM(AH32) -> 0 | AL32: =SUM(AK32*$AL$2) -> 0 | AO32: DS | AP32: 42779 | AQ32: 42781
A33: CARY | B33: Didier | AH33: =SUM(C33:AG33) -> 0 | AJ33: =AH33*$AL$2 -> 0 | AK33: =SUM(AH33) -> 0 | AL33: =SUM(AK33*$AL$2) -> 0 | AO33: CHSCT NIV 1 | AP33: 42792 | AQ33: 42796
AH34: =SUM(C34:AG34) -> 0 | AJ34: =AH34*$AL$2 -> 0 | AK34: =SUM(AH34) -> 0 | AL34: =SUM(AK34*$AL$2) -> 0 | AO34: CE | AP34: 42834 | AQ34: 42838
AH35: =SUM(C35:AG35) -> 0 | AJ35: =AH35*$AL$2 -> 0 | AK35: =SUM(AH35) -> 0 | AL35: =SUM(AK35*$AL$2) -> 0 | AO35: CHSCT NIV 2 | AP35: 42869 | AQ35: 42873
A36: VERMEESCH | B36: Guy | AH36: =SUM(C36:AG36) -> 0 | AJ36: =AH36*$AL$2 -> 0 | AK36: =SUM(AH36) -> 0 | AL36: =SUM(AK36*$AL$2) -> 0 | AO36: DS | AP36: 42870 | AQ36: 42872
A37: PLOUZENNEC | B37: Pierre | AH37: =SUM(C37:AG37) -> 0 | AJ37: =AH37*$AL$2 -> 0 | AK37: =SUM(AH37) -> 0 | AL37: =SUM(AK37*$AL$2) -> 0 | AO37: CE | AP37: 42911 | AQ37: 42915
AH38: =SUM(C38:AG38) -> 0 | AJ38: =AH38*$AL$2 -> 0 | AK38: =SUM(AH38) -> 0 | AL38: =SUM(AK38*$AL$2) -> 0 | AO38: CE | AP38: 43002 | AQ38: 43006
A39: FERRANDINO | B39: Denis | AH39: =SUM(C39:AG39) -> 0 | AJ39: =AH39*$AL$2 -> 0 | AK39: =SUM(AH39) -> 0 | AL39: =SUM(AK39*$AL$2) -> 0 | AO39: CHSCT NIV 1 | AP39: 43023 | AQ39: 43027
A40: PONZ | B40: Stéphanie | AH40: =SUM(C40:AG40) -> 0 | AJ40: =AH40*$AL$2 -> 0 | AK40: =SUM(AH40) -> 0 | AL40: =SUM(AK40*$AL$2) -> 0 | AO40: DS | AP40: 43024 | AQ40: 43026
AH41: =SUM(C41:AG41) -> 0 | AJ41: =AH41*$AL$2 -> 0 | AK41: =SUM(AH41) -> 0 | AL41: =SUM(AK41*$AL$2) -> 0
AH42: =SUM(C42:AG42) -> 0 | AJ42: =AH42*$AL$2 -> 0 | AK42: =SUM(AH42) -> 0 | AL42: =SUM(AK42*$AL$2) -> 0 | AO42: COORDINATIONS 1er semestre
AH43: =SUM(C43:AG43) -> 0 | AJ43: =AH43*$AL$2 -> 0 | AK43: =SUM(AH43) -> 0 | AL43: =SUM(AK43*$AL$2) -> 0 | AO43: OUEST | AP43: 4/5 avril | AQ43: ANGERS
AH44: =SUM(C44:AG44) -> 0 | AJ44: =AH44*$AL$2 -> 0 | AK44: =SUM(AH44) -> 0 | AL44: =SUM(AK44*$AL$2) -> 0 | AO44: CENTRE | AP44: 10/11 Avril
AH45: =SUM(C45:AG45) -> 0 | AJ45: =AH45*$AL$2 -> 0 | AK45: =SUM(AH45) -> 0 | AL45: =SUM(AK45*$AL$2) -> 0 | AO45: SUD OUEST | AP45: 7/8 Mars
AH46: =SUM(C46:AG46) -> 0 | AJ46: =AH46*$AL$2 -> 0 | AK46: =SUM(AH46) -> 0 | AL46: =SUM(AK46*$AL$2) -> 0 | AO46: NORD | AP46: 17/18 Avril | AQ46: LILLE
AH47: =SUM(C47:AG47) -> 0 | AJ47: =AH47*$AL$2 -> 0 | AK47: =SUM(AH47) -> 0 | AL47: =SUM(AK47*$AL$2) -> 0 | AO47: SUD EST | AP47: 26/27 Avril
AH48: =SUM(C48:AG48) -> 0 | AJ48: =AH48*$AL$2 -> 0 | AK48: =SUM(AH48) -> 0 | AL48: =SUM(AK48*$AL$2) -> 0 | AO48: EST | AP48: 29/30 Mai
AH49: =SUM(C49:AG49) -> 0 | AJ49: =AH49*$AL$2 -> 0 | AK49: =SUM(AH49) -> 0 | AL49: =SUM(AK49*$AL$2) -> 0 | AO49: COORDINATIONS 2ème semestre
AH50: =SUM(C50:AG50) -> 0 | AJ50: =AH50*$AL$2 -> 0 | AK50: =SUM(AH50) -> 0 | AL50: =SUM(AK50*$AL$2) -> 0 | AO50: OUEST | AP50: 3/4 Octobre
AH51: =SUM(C51:AG51) -> 0 | AJ51: =AH51*$AL$2 -> 0 | AK51: =SUM(AH51) -> 0 | AL51: =SUM(AK51*$AL$2) -> 0 | AO51: CENTRE | AP51: 6/7 Novembre
AH52: =SUM(C52:AG52) -> 0 | AJ52: =AH52*$AL$2 -> 0 | AK52: =SUM(AH52) -> 0 | AL52: =SUM(AK52*$AL$2) -> 0 | AO52: SUD OUEST | AP52: 19/20 Septembre
AH53: =SUM(C53:AG53) -> 0 | AJ53: =AH53*$AL$2 -> 0 | AK53: =SUM(AH53) -> 0 | AL53: =SUM(AK53*$AL$2) -> 0 | AO53: NORD | AP53: 26/27 Novembre | AQ53: PARIS
AH54: =SUM(C54:AG54) -> 0 | AJ54: =AH54*$AL$2 -> 0 | AK54: =SUM(AH54) -> 0 | AL54: =SUM(AK54*$AL$2) -> 0 | AO54: SUD EST | AP54: 12/13 Décembre
AH55: =SUM(C55:AG55) -> 0 | AJ55: =AH55*$AL$2 -> 0 | AK55: =SUM(AH55) -> 0 | AL55: =SUM(AK55*$AL$2) -> 0 | AO55: EST | AP55: 6/7 Novembre
AH56: =SUM(C56:AG56) -> 0 | AJ56: =AH56*$AL$2 -> 0 | AK56: =SUM(AH56) -> 0 | AL56: =SUM(AK56*$AL$2) -> 0
AH57: =SUM(C57:AG57) -> 0 | AJ57: =AH57*$AL$2 -> 0 | AK57: =SUM(AH57) -> 0 | AL57: =SUM(AK57*$AL$2) -> 0
AH58: =SUM(C58:AG58) -> 0 | AJ58: =AH58*$AL$2 -> 0 | AK58: =SUM(AH58) -> 0 | AL58: =SUM(AK58*$AL$2) -> 0 | AO58: ! | AP58: A ANNULER
AH59: =SUM(C59:AG59) -> 0 | AJ59: =AH59*$AL$2 -> 0 | AK59: =SUM(AH59) -> 0 | AL59: =SUM(AK59*$AL$2) -> 0 | AO59: ? | AP59: A CONFIRMER
AH60: =SUM(C60:AG60) -> 0 | AJ60: =AH60*$AL$2 -> 0 | AK60: =SUM(AH60) -> 0 | AL60: =SUM(AK60*$AL$2) -> 0 | AO60: 1 | AP60: RESERVATION
AH61: =SUM(C61:AG61) -> 0 | AJ61: =AH61*$AL$2 -> 0 | AK61: =SUM(AH61) -> 0 | AL61: =SUM(AK61*$AL$2) -> 0
AH62: =SUM(C62:AG62) -> 0 | AJ62: =AH62*$AL$2 -> 0 | AK62: =SUM(AH62) -> 0 | AL62: =SUM(AK62*$AL$2) -> 0
AH63: =SUM(C63:AG63) -> 0 | AJ63: =AH63*$AL$2 -> 0 | AK63: =SUM(AH63) -> 0 | AL63: =SUM(AK63*$AL$2) -> 0
AH64: =SUM(C64:AG64) -> 0 | AJ64: =AH64*$AL$2 -> 0 | AK64: =SUM(AH64) -> 0 | AL64: =SUM(AK64*$AL$2) -> 0
AH65: =SUM(C65:AG65) -> 0 | AJ65: =AH65*$AL$2 -> 0 | AK65: =SUM(AH65) -> 0 | AL65: =SUM(AK65*$AL$2) -> 0
AH66: =SUM(C66:AG66) -> 0 | AJ66: =AH66*$AL$2 -> 0 | AK66: =SUM(AH66) -> 0 | AL66: =SUM(AK66*$AL$2) -> 0
AH67: =SUM(C67:AG67) -> 0 | AJ67: =AH67*$AL$2 -> 0 | AK67: =SUM(AH67) -> 0 | AL67: =SUM(AK67*$AL$2) -> 0
AH68: =SUM(C68:AG68) -> 0 | AJ68: =AH68*$AL$2 -> 0 | AK68: =SUM(AH68) -> 0 | AL68: =SUM(AK68*$AL$2) -> 0
AH69: =SUM(C69:AG69) -> 0 | AJ69: =AH69*$AL$2 -> 0 | AK69: =SUM(AH69) -> 0 | AL69: =SUM(AK69*$AL$2) -> 0
AH70: =SUM(C70:AG70) -> 0 | AJ70: =AH70*$AL$2 -> 0 | AK70: =SUM(AH70) -> 0 | AL70: =SUM(AK70*$AL$2) -> 0
AH71: =SUM(C71:AG71) -> 0 | AJ71: =AH71*$AL$2 -> 0 | AK71: =SUM(AH71) -> 0 | AL71: =SUM(AK71*$AL$2) -> 0
AH72: =SUM(C72:AG72) -> 0 | AJ72: =AH72*$AL$2 -> 0 | AK72: =SUM(AH72) -> 0 | AL72: =SUM(AK72*$AL$2) -> 0
... AH77: =SUM(C77:AG77) -> 0 | AJ77: =AH77*$AL$2 -> 0 | AK77: =SUM(AH77) -> 0 | AL77: =SUM(AK77*$AL$2) -> 0
A78: Total | C78: =SUM(C6:C77) -> 0 | D78: =SUM(D6:D77) -> 0 | E78: =SUM(E6:E77) -> 0 | F78: =SUM(F6:F77) -> 0 | G78: =SUM(G6:G77) -> 0 | H78: =SUM(H6:H77) -> 0 | I78: =SUM(I6:I77) -> 0 | J78: =SUM(J6:J77) -> 0 | ... AG78: =SUM(AG6:AG77) -> 0 | AH78: =SUM(C78:AG78) -> 0 | AJ78: =AH78*$AL$2 -> 0 | AK78: =SUM(AH78) -> 0 | AL78: =SUM(AK78*$AL$2) -> 0
AJ79: =SUM(AJ6:AJ78) -> 0 | AK79: =SUM(AK6:AK78) -> 0 | AL79: =SUM(AL6:AL78) -> 0
AJ80: 76960

Sheet OCT
A1: =JANV!A1 -> 2020 | C1: Réservations chambres | AI1: * | AJ1: Nombre de chambres et coût | AM1: * | AO1: Carte IBIS BUSINESS
B2: 10 | C2: OCTOBRE | AJ2: PRIX UNITAIRE | AL2: 74 | AO2: Eric | AQ2: *3081432700807952
A3: Mois | AH3: CHAMBRES | AJ3: COÛT | AK3: CHAMBRES | AO3: Paul | AQ3: *3081432662964312
A4: NOMS | B4: PRENOMS | C4: 1 | D4: =C4+1 -> 2 | E4: =D4+1 -> 3 | F4: =E4+1 -> 4 | G4: =F4+1 -> 5 | H4: =G4+1 -> 6 | I4: =H4+1 -> 7 | J4: =I4+1 -> 8 | K4: =J4+1 -> 9 | ... AG4: =AF4+1 -> 31 | AH4: TOTAL | AJ4: TOTAL | AK4: NBS | AL4: COÛT | AO4: Chantal | AQ4: *3081432699167947
C5: =DATE(JANV!$A$1,OCT!$B$2,OCT!C4) -> 44105 | D5: =C5+1 -> 44106 | E5: =D5+1 -> 44107 | F5: =E5+1 -> 44108 | G5: =F5+1 -> 44109 | H5: =G5+1 -> 44110 | I5: =H5+1 -> 44111 | J5: =I5+1 -> 44112 | K5: =J5+1 -> 44113 | ... AG5: =AF5+1 -> 44135 | AH5: au mois | AJ5: Au mois | AK5: Depuis le | AL5: 42736 | AN5: 1 | AO5: RESA IBIS BUDGET
A6: HUGON | B6: Eric | AH6: =SUM(C6:AG6) -> 0 | AJ6: =AH6*$AL$2 -> 0 | AK6: =SUM(AH6) -> 0 | AL6: =SUM(AK6*$AL$2) -> 0 | AN6: ? | AO6: Réservation à confirmer
A7: DESSOMME | B7: Paul
A8: GUERMONT | B8: Michèle | AH8: =SUM(C8:AG8) -> 0 | AJ8: =AH8*$AL$2 -> 0 | AK8: =SUM(AH8) -> 0 | AL8: =SUM(AK8*$AL$2) -> 0 | AO8: BN et CS SNTU
A9: ROULLAUD | B9: Chantal | AH9: =SUM(C9:AG9) -> 0 | AJ9: =AH9*$AL$2 -> 0 | AK9: =SUM(AH9) -> 0 | AL9: =SUM(AK9*$AL$2) -> 0 | AO9: SECRETARIAT
A10: Non Affectées | B10: CFDT | AH10: =SUM(C10:AG10) -> 0 | AJ10: =AH10*$AL$2 -> 0 | AK10: =SUM(AH10) -> 0 | AL10: =SUM(AK10*$AL$2) -> 0 | AO10: REUNION
A11: CANTALOUBE | B11: Philippe | AH11: =SUM(C11:AG11) -> 0 | AJ11: =AH11*$AL$2 -> 0 | AK11: =SUM(AH11) -> 0 | AL11: =SUM(AK11*$AL$2) -> 0 | AO11: FORM
A12: CHARRON | B12: Jean Michel | AH12: =SUM(C12:AG12) -> 0 | AJ12: =AH12*$AL$2 -> 0 | AK12: =SUM(AH12) -> 0 | AL12: =SUM(AK12*$AL$2) -> 0 | AN12: CA | AO12: CONGES
A13: LE BONJOUR | B13: Jean Emmanuel | AH13: =SUM(C13:AG13) -> 0 | AJ13: =AH13*$AL$2 -> 0 | AK13: =SUM(AH13) -> 0 | AL13: =SUM(AK13*$AL$2) -> 0 | AO13: Fériés
A14: TERNOIS | B14: Pierrick | AH14: =SUM(C14:AG14) -> 0 | AJ14: =AH14*$AL$2 -> 0 | AK14: =SUM(AH14) -> 0 | AL14: =SUM(AK14*$AL$2) -> 0 | AO14: REUNION SNTU
A15: VANDENBROUCKE | B15: François | AH15: =SUM(C15:AG15) -> 0 | AJ15: =AH15*$AL$2 -> 0 | AK15: =SUM(AH15) -> 0 | AL15: =SUM(AK15*$AL$2) -> 0 | AP15: DU | AQ15: AU
A16: ACHOUR | B16: Souad | AH16: =SUM(C16:AG16) -> 0 | AJ16: =AH16*$AL$2 -> 0 | AK16: =SUM(AH16) -> 0 | AL16: =SUM(AK16*$AL$2) -> 0 | AO16: BN | AP16: 42757 | AQ16: 42758
A17: AUROY | B17: Alain | AH17: =SUM(C17:AG17) -> 0 | AJ17: =AH17*$AL$2 -> 0 | AK17: =SUM(AH17) -> 0 | AL17: =SUM(AK17*$AL$2) -> 0 | AO17: SECRETARIAT | AP17: 42786
A18: BELGOURCH | B18: Abdelmejid | AH18: =SUM(C18:AG18) -> 0 | AJ18: =AH18*$AL$2 -> 0 | AK18: =SUM(AH18) -> 0 | AL18: =SUM(AK18*$AL$2) -> 0 | AO18: BN | AP18: 42808 | AQ18: 42809
A19: CHEMIN | B19: Grégory | AH19: =SUM(C19:AG19) -> 0 | AJ19: =AH19*$AL$2 -> 0 | AK19: =SUM(AH19) -> 0 | AL19: =SUM(AK19*$AL$2) -> 0 | AO19: SECRETARIAT | AP19: 42839
A20: DANIEL | B20: Luc | AH20: =SUM(C20:AG20) -> 0 | AJ20: =AH20*$AL$2 -> 0 | AK20: =SUM(AH20) -> 0 | AL20: =SUM(AK20*$AL$2) -> 0 | AO20: BN + CS | AP20: 42898 | AQ20: 42900
A21: DELALLEAU | B21: Joël | AH21: =SUM(C21:AG21) -> 0 | AJ21: =AH21*$AL$2 -> 0 | AK21: =SUM(AH21) -> 0 | AL21: =SUM(AK21*$AL$2) -> 0 | AO21: SECRETARIAT | AP21: 42920
A22: DESROCHE | B22: Philippe | AH22: =SUM(C22:AG22) -> 0 | AJ22: =AH22*$AL$2 -> 0 | AK22: =SUM(AH22) -> 0 | AL22: =SUM(AK22*$AL$2) -> 0 | AO22: SECRETARIAT | AP22: 42982
A23: DIAS | B23: Patrick | AH23: =SUM(C23:AG23) -> 0 | AJ23: =AH23*$AL$2 -> 0 | AK23: =SUM(AH23) -> 0 | AL23: =SUM(AK23*$AL$2) -> 0 | AO23: BN | AP23: 42989 | AQ23: 42990
A24: GUEROUALI | B24: Mouhcine | AH24: =SUM(C24:AG24) -> 0 | AJ24: =AH24*$AL$2 -> 0 | AK24: =SUM(AH24) -> 0 | AL24: =SUM(AK24*$AL$2) -> 0 | AO24: TRESORIERS | AP24: 42991 | AQ24: PARIS
A25: LARDEUX | B25: Didier | AH25: =SUM(C25:AG25) -> 0 | AJ25: =AH25*$AL$2 -> 0 | AK25: =SUM(AH25) -> 0 | AL25: =SUM(AK25*$AL$2) -> 0 | AO25: SECRETARIAT | AP25: 43017
A26: LE MAUGUEN | B26: Gildas | AH26: =SUM(C26:AG26) -> 0 | AJ26: =AH26*$AL$2 -> 0 | AK26: =SUM(AH26) -> 0 | AL26: =SUM(AK26*$AL$2) -> 0 | AO26: BN | AP26: 43052 | AQ26: 43053
A27: PROVENDIER | B27: Steve | AH27: =SUM(C27:AG27) -> 0 | AJ27: =AH27*$AL$2 -> 0 | AK27: =SUM(AH27) -> 0 | AL27: =SUM(AK27*$AL$2) -> 0 | AO27: SECRETARIAT | AP27: 43080
A28: TAMSNA | B28: Hicham | AH28: =SUM(C28:AG28) -> 0 | AJ28: =AH28*$AL$2 -> 0 | AK28: =SUM(AH28) -> 0 | AL28: =SUM(AK28*$AL$2) -> 0 | AO28: FORMATION SNTU
A29: WERNERT | B29: Michel | AH29: =SUM(C29:AG29) -> 0 | AJ29: =AH29*$AL$2 -> 0 | AK29: =SUM(AH29) -> 0 | AL29: =SUM(AK29*$AL$2) -> 0 | AP29: Du | AQ29: Au
AH30: =SUM(C30:AG30) -> 0 | AJ30: =AH30*$AL$2 -> 0 | AK30: =SUM(AH30) -> 0 | AL30: =SUM(AK30*$AL$2) -> 0 | AO30: IREFE | AP30: 42764 | AQ30: 42767
AH31: =SUM(C31:AG31) -> 0 | AJ31: =AH31*$AL$2 -> 0 | AK31: =SUM(AH31) -> 0 | AL31: =SUM(AK31*$AL$2) -> 0 | AO31: CE | AP31: 42771 | AQ31: 42775
AH32: =SUM(C32:AG32) -> 0 | AJ32: =AH32*$AL$2 -> 0 | AK32: =SUM(AH32) -> 0 | AL32: =SUM(AK32*$AL$2) -> 0 | AO32: DS | AP32: 42779 | AQ32: 42781
A33: CARY | B33: Didier | AH33: =SUM(C33:AG33) -> 0 | AJ33: =AH33*$AL$2 -> 0 | AK33: =SUM(AH33) -> 0 | AL33: =SUM(AK33*$AL$2) -> 0 | AO33: CHSCT NIV 1 | AP33: 42792 | AQ33: 42796
AH34: =SUM(C34:AG34) -> 0 | AJ34: =AH34*$AL$2 -> 0 | AK34: =SUM(AH34) -> 0 | AL34: =SUM(AK34*$AL$2) -> 0 | AO34: CE | AP34: 42834 | AQ34: 42838
AH35: =SUM(C35:AG35) -> 0 | AJ35: =AH35*$AL$2 -> 0 | AK35: =SUM(AH35) -> 0 | AL35: =SUM(AK35*$AL$2) -> 0 | AO35: CHSCT NIV 2 | AP35: 42869 | AQ35: 42873
A36: VERMEESCH | B36: Guy | AH36: =SUM(C36:AG36) -> 0 | AJ36: =AH36*$AL$2 -> 0 | AK36: =SUM(AH36) -> 0 | AL36: =SUM(AK36*$AL$2) -> 0 | AO36: DS | AP36: 42870 | AQ36: 42872
A37: PLOUZENNEC | B37: Pierre | AH37: =SUM(C37:AG37) -> 0 | AJ37: =AH37*$AL$2 -> 0 | AK37: =SUM(AH37) -> 0 | AL37: =SUM(AK37*$AL$2) -> 0 | AO37: CE | AP37: 42911 | AQ37: 42915
AH38: =SUM(C38:AG38) -> 0 | AJ38: =AH38*$AL$2 -> 0 | AK38: =SUM(AH38) -> 0 | AL38: =SUM(AK38*$AL$2) -> 0 | AO38: CE | AP38: 43002 | AQ38: 43006
A39: FERRANDINO | B39: Denis | AH39: =SUM(C39:AG39) -> 0 | AJ39: =AH39*$AL$2 -> 0 | AK39: =SUM(AH39) -> 0 | AL39: =SUM(AK39*$AL$2) -> 0 | AO39: CHSCT NIV 1 | AP39: 43023 | AQ39: 43027
A40: PONZ | B40: Stéphanie | AH40: =SUM(C40:AG40) -> 0 | AJ40: =AH40*$AL$2 -> 0 | AK40: =SUM(AH40) -> 0 | AL40: =SUM(AK40*$AL$2) -> 0 | AO40: DS | AP40: 43024 | AQ40: 43026
AH41: =SUM(C41:AG41) -> 0 | AJ41: =AH41*$AL$2 -> 0 | AK41: =SUM(AH41) -> 0 | AL41: =SUM(AK41*$AL$2) -> 0
AH42: =SUM(C42:AG42) -> 0 | AJ42: =AH42*$AL$2 -> 0 | AK42: =SUM(AH42) -> 0 | AL42: =SUM(AK42*$AL$2) -> 0 | AO42: COORDINATIONS 1er semestre
AH43: =SUM(C43:AG43) -> 0 | AJ43: =AH43*$AL$2 -> 0 | AK43: =SUM(AH43) -> 0 | AL43: =SUM(AK43*$AL$2) -> 0 | AO43: OUEST | AP43: 4/5 avril | AQ43: ANGERS
AH44: =SUM(C44:AG44) -> 0 | AJ44: =AH44*$AL$2 -> 0 | AK44: =SUM(AH44) -> 0 | AL44: =SUM(AK44*$AL$2) -> 0 | AO44: CENTRE | AP44: 10/11 Avril
AH45: =SUM(C45:AG45) -> 0 | AJ45: =AH45*$AL$2 -> 0 | AK45: =SUM(AH45) -> 0 | AL45: =SUM(AK45*$AL$2) -> 0 | AO45: SUD OUEST | AP45: 7/8 Mars
AH46: =SUM(C46:AG46) -> 0 | AJ46: =AH46*$AL$2 -> 0 | AK46: =SUM(AH46) -> 0 | AL46: =SUM(AK46*$AL$2) -> 0 | AO46: NORD | AP46: 17/18 Avril | AQ46: LILLE
AH47: =SUM(C47:AG47) -> 0 | AJ47: =AH47*$AL$2 -> 0 | AK47: =SUM(AH47) -> 0 | AL47: =SUM(AK47*$AL$2) -> 0 | AO47: SUD EST | AP47: 26/27 Avril
AH48: =SUM(C48:AG48) -> 0 | AJ48: =AH48*$AL$2 -> 0 | AK48: =SUM(AH48) -> 0 | AL48: =SUM(AK48*$AL$2) -> 0 | AO48: EST | AP48: 29/30 Mai
AH49: =SUM(C49:AG49) -> 0 | AJ49: =AH49*$AL$2 -> 0 | AK49: =SUM(AH49) -> 0 | AL49: =SUM(AK49*$AL$2) -> 0 | AO49: COORDINATIONS 2ème semestre
AH50: =SUM(C50:AG50) -> 0 | AJ50: =AH50*$AL$2 -> 0 | AK50: =SUM(AH50) -> 0 | AL50: =SUM(AK50*$AL$2) -> 0 | AO50: OUEST | AP50: 3/4 Octobre
AH51: =SUM(C51:AG51) -> 0 | AJ51: =AH51*$AL$2 -> 0 | AK51: =SUM(AH51) -> 0 | AL51: =SUM(AK51*$AL$2) -> 0 | AO51: CENTRE | AP51: 6/7 Novembre
AH52: =SUM(C52:AG52) -> 0 | AJ52: =AH52*$AL$2 -> 0 | AK52: =SUM(AH52) -> 0 | AL52: =SUM(AK52*$AL$2) -> 0 | AO52: SUD OUEST | AP52: 19/20 Septembre
AH53: =SUM(C53:AG53) -> 0 | AJ53: =AH53*$AL$2 -> 0 | AK53: =SUM(AH53) -> 0 | AL53: =SUM(AK53*$AL$2) -> 0 | AO53: NORD | AP53: 26/27 Novembre | AQ53: PARIS
AH54: =SUM(C54:AG54) -> 0 | AJ54: =AH54*$AL$2 -> 0 | AK54: =SUM(AH54) -> 0 | AL54: =SUM(AK54*$AL$2) -> 0 | AO54: SUD EST | AP54: 12/13 Décembre
AH55: =SUM(C55:AG55) -> 0 | AJ55: =AH55*$AL$2 -> 0 | AK55: =SUM(AH55) -> 0 | AL55: =SUM(AK55*$AL$2) -> 0 | AO55: EST | AP55: 6/7 Novembre
AH56: =SUM(C56:AG56) -> 0 | AJ56: =AH56*$AL$2 -> 0 | AK56: =SUM(AH56) -> 0 | AL56: =SUM(AK56*$AL$2) -> 0
AH57: =SUM(C57:AG57) -> 0 | AJ57: =AH57*$AL$2 -> 0 | AK57: =SUM(AH57) -> 0 | AL57: =SUM(AK57*$AL$2) -> 0
AH58: =SUM(C58:AG58) -> 0 | AJ58: =AH58*$AL$2 -> 0 | AK58: =SUM(AH58) -> 0 | AL58: =SUM(AK58*$AL$2) -> 0
AH59: =SUM(C59:AG59) -> 0 | AJ59: =AH59*$AL$2 -> 0 | AK59: =SUM(AH59) -> 0 | AL59: =SUM(AK59*$AL$2) -> 0
AH60: =SUM(C60:AG60) -> 0 | AJ60: =AH60*$AL$2 -> 0 | AK60: =SUM(AH60) -> 0 | AL60: =SUM(AK60*$AL$2) -> 0
AH61: =SUM(C61:AG61) -> 0 | AJ61: =AH61*$AL$2 -> 0 | AK61: =SUM(AH61) -> 0 | AL61: =SUM(AK61*$AL$2) -> 0
AH62: =SUM(C62:AG62) -> 0 | AJ62: =AH62*$AL$2 -> 0 | AK62: =SUM(AH62) -> 0 | AL62: =SUM(AK62*$AL$2) -> 0
AH63: =SUM(C63:AG63) -> 0 | AJ63: =AH63*$AL$2 -> 0 | AK63: =SUM(AH63) -> 0 | AL63: =SUM(AK63*$AL$2) -> 0
AH64: =SUM(C64:AG64) -> 0 | AJ64: =AH64*$AL$2 -> 0 | AK64: =SUM(AH64) -> 0 | AL64: =SUM(AK64*$AL$2) -> 0
AH65: =SUM(C65:AG65) -> 0 | AJ65: =AH65*$AL$2 -> 0 | AK65: =SUM(AH65) -> 0 | AL65: =SUM(AK65*$AL$2) -> 0
AH66: =SUM(C66:AG66) -> 0 | AJ66: =AH66*$AL$2 -> 0 | AK66: =SUM(AH66) -> 0 | AL66: =SUM(AK66*$AL$2) -> 0
AH67: =SUM(C67:AG67) -> 0 | AJ67: =AH67*$AL$2 -> 0 | AK67: =SUM(AH67) -> 0 | AL67: =SUM(AK67*$AL$2) -> 0
AH68: =SUM(C68:AG68) -> 0 | AJ68: =AH68*$AL$2 -> 0 | AK68: =SUM(AH68) -> 0 | AL68: =SUM(AK68*$AL$2) -> 0 | AP68: ! | AQ68: A ANNULER
AH69: =SUM(C69:AG69) -> 0 | AJ69: =AH69*$AL$2 -> 0 | AK69: =SUM(AH69) -> 0 | AL69: =SUM(AK69*$AL$2) -> 0 | AP69: ? | AQ69: A CONFIRMER
AH70: =SUM(C70:AG70) -> 0 | AJ70: =AH70*$AL$2 -> 0 | AK70: =SUM(AH70) -> 0 | AL70: =SUM(AK70*$AL$2) -> 0 | AP70: 1 | AQ70: RESERVATION
AH71: =SUM(C71:AG71) -> 0 | AJ71: =AH71*$AL$2 -> 0 | AK71: =SUM(AH71) -> 0 | AL71: =SUM(AK71*$AL$2) -> 0
AH72: =SUM(C72:AG72) -> 0 | AJ72: =AH72*$AL$2 -> 0 | AK72: =SUM(AH72) -> 0 | AL72: =SUM(AK72*$AL$2) -> 0
AH73: =SUM(C73:AG73) -> 0 | AJ73: =AH73*$AL$2 -> 0 | AK73: =SUM(AH73) -> 0 | AL73: =SUM(AK73*$AL$2) -> 0
AH74: =SUM(C74:AG74) -> 0 | AJ74: =AH74*$AL$2 -> 0 | AK74: =SUM(AH74) -> 0 | AL74: =SUM(AK74*$AL$2) -> 0
AH75: =SUM(C75:AG75) -> 0 | AJ75: =AH75*$AL$2 -> 0 | AK75: =SUM(AH75) -> 0 | AL75: =SUM(AK75*$AL$2) -> 0
AH76: =SUM(C76:AG76) -> 0 | AJ76: =AH76*$AL$2 -> 0 | AK76: =SUM(AH76) -> 0 | AL76: =SUM(AK76*$AL$2) -> 0
AH77: =SUM(C77:AG77) -> 0 | AJ77: =AH77*$AL$2 -> 0 | AK77: =SUM(AH77) -> 0 | AL77: =SUM(AK77*$AL$2) -> 0
A78: Total | C78: =SUM(C6:C77) -> 0 | D78: =SUM(D6:D77) -> 0 | E78: =SUM(E6:E77) -> 0 | F78: =SUM(F6:F77) -> 0 | G78: =SUM(G6:G77) -> 0 | H78: =SUM(H6:H77) -> 0 | I78: =SUM(I6:I77) -> 0 | J78: =SUM(J6:J77) -> 0 | ... AG78: =SUM(AG6:AG77) -> 0 | AH78: =SUM(C78:AG78) -> 0 | AJ78: =AH78*$AL$2 -> 0 | AK78: =SUM(AH78) -> 0 | AL78: =SUM(AK78*$AL$2) -> 0
AJ79: =SUM(AJ6:AJ78) -> 0 | AK79: =SUM(AK6:AK78) -> 0 | AL79: =SUM(AL6:AL78) -> 0
AJ80: 76960

Sheet NOV
A1: =JANV!A1 -> 2020 | C1: Réservations chambres | AI1: * | AJ1: Nombre de chambres et coût | AM1: * | AO1: Carte IBIS BUSINESS
B2: 11 | C2: NOVEMBRE | AJ2: PRIX UNITAIRE | AL2: 74 | AO2: Eric | AQ2: *3081432700807952
A3: Mois | AH3: CHAMBRES | AJ3: COÛT | AK3: CHAMBRES | AO3: Paul | AQ3: *3081432662964312
A4: NOMS | B4: PRENOMS | C4: 1 | D4: =C4+1 -> 2 | E4: =D4+1 -> 3 | F4: =E4+1 -> 4 | G4: =F4+1 -> 5 | H4: =G4+1 -> 6 | I4: =H4+1 -> 7 | J4: =I4+1 -> 8 | K4: =J4+1 -> 9 | ... AG4: =AF4+1 -> 31 | AH4: TOTAL | AJ4: TOTAL | AK4: NBS | AL4: COÛT | AO4: Chantal | AQ4: *3081432699167947
C5: =DATE(JANV!$A$1,NOV!$B$2,NOV!C4) -> 44136 | D5: =C5+1 -> 44137 | E5: =D5+1 -> 44138 | F5: =E5+1 -> 44139 | G5: =F5+1 -> 44140 | H5: =G5+1 -> 44141 | I5: =H5+1 -> 44142 | J5: =I5+1 -> 44143 | K5: =J5+1 -> 44144 | ... AG5: =AF5+1 -> 44166 | AH5: au mois | AJ5: Au mois | AK5: Depuis le | AL5: 42736 | AN5: 1 | AO5: RESA IBIS BUDGET
A6: HUGON | B6: Eric | AH6: =SUM(C6:AG6) -> 0 | AJ6: =AH6*$AL$2 -> 0 | AK6: =SUM(AH6) -> 0 | AL6: =SUM(AK6*$AL$2) -> 0 | AN6: 1 | AO6: Annulation à confirmer
A7: DESSOMME | B7: Paul
A8: GUERMONT | B8: Michèle | AH8: =SUM(C8:AG8) -> 0 | AJ8: =AH8*$AL$2 -> 0 | AK8: =SUM(AH8) -> 0 | AL8: =SUM(AK8*$AL$2) -> 0 | AN8: ? | AO8: Réservation à confirmer
A9: ROULLAUD | B9: Chantal | AH9: =SUM(C9:AG9) -> 0 | AJ9: =AH9*$AL$2 -> 0 | AK9: =SUM(AH9) -> 0 | AL9: =SUM(AK9*$AL$2) -> 0 | AO9: BN et CS SNTU
A10: Non Affectées | B10: CFDT | AH10: =SUM(C10:AG10) -> 0 | AJ10: =AH10*$AL$2 -> 0 | AK10: =SUM(AH10) -> 0 | AL10: =SUM(AK10*$AL$2) -> 0 | AO10: SECRETARIAT
A11: CANTALOUBE | B11: Philippe | AH11: =SUM(C11:AG11) -> 0 | AJ11: =AH11*$AL$2 -> 0 | AK11: =SUM(AH11) -> 0 | AL11: =SUM(AK11*$AL$2) -> 0 | AO11: REUNION
A12: CHARRON | B12: Jean Michel | AH12: =SUM(C12:AG12) -> 0 | AJ12: =AH12*$AL$2 -> 0 | AK12: =SUM(AH12) -> 0 | AL12: =SUM(AK12*$AL$2) -> 0 | AO12: FORM
A13: LE BONJOUR | B13: Jean Emmanuel | AH13: =SUM(C13:AG13) -> 0 | AJ13: =AH13*$AL$2 -> 0 | AK13: =SUM(AH13) -> 0 | AL13: =SUM(AK13*$AL$2) -> 0 | AN13: CA | AO13: CONGES
A14: TERNOIS | B14: Pierrick | AH14: =SUM(C14:AG14) -> 0 | AJ14: =AH14*$AL$2 -> 0 | AK14: =SUM(AH14) -> 0 | AL14: =SUM(AK14*$AL$2) -> 0 | AO14: Fériés
A15: VANDENBROUCKE | B15: François | AH15: =SUM(C15:AG15) -> 0 | AJ15: =AH15*$AL$2 -> 0 | AK15: =SUM(AH15) -> 0 | AL15: =SUM(AK15*$AL$2) -> 0 | AO15: REUNION SNTU
A16: ACHOUR | B16: Souad | AH16: =SUM(C16:AG16) -> 0 | AJ16: =AH16*$AL$2 -> 0 | AK16: =SUM(AH16) -> 0 | AL16: =SUM(AK16*$AL$2) -> 0 | AP16: DU | AQ16: AU
A17: AUROY | B17: Alain | AH17: =SUM(C17:AG17) -> 0 | AJ17: =AH17*$AL$2 -> 0 | AK17: =SUM(AH17) -> 0 | AL17: =SUM(AK17*$AL$2) -> 0 | AO17: BN | AP17: 42757 | AQ17: 42758
A18: BELGOURCH | B18: Abdelmejid | AH18: =SUM(C18:AG18) -> 0 | AJ18: =AH18*$AL$2 -> 0 | AK18: =SUM(AH18) -> 0 | AL18: =SUM(AK18*$AL$2) -> 0 | AO18: SECRETARIAT | AP18: 42786
A19: CHEMIN | B19: Grégory | AH19: =SUM(C19:AG19) -> 0 | AJ19: =AH19*$AL$2 -> 0 | AK19: =SUM(AH19) -> 0 | AL19: =SUM(AK19*$AL$2) -> 0 | AO19: BN | AP19: 42808 | AQ19: 42809
A20: DANIEL | B20: Luc | AH20: =SUM(C20:AG20) -> 0 | AJ20: =AH20*$AL$2 -> 0 | AK20: =SUM(AH20) -> 0 | AL20: =SUM(AK20*$AL$2) -> 0 | AO20: SECRETARIAT | AP20: 42839
A21: DELALLEAU | B21: Joël | AH21: =SUM(C21:AG21) -> 0 | AJ21: =AH21*$AL$2 -> 0 | AK21: =SUM(AH21) -> 0 | AL21: =SUM(AK21*$AL$2) -> 0 | AO21: BN + CS | AP21: 42898 | AQ21: 42900
A22: DESROCHE | B22: Philippe | AH22: =SUM(C22:AG22) -> 0 | AJ22: =AH22*$AL$2 -> 0 | AK22: =SUM(AH22) -> 0 | AL22: =SUM(AK22*$AL$2) -> 0 | AO22: SECRETARIAT | AP22: 42920
A23: DIAS | B23: Patrick | AH23: =SUM(C23:AG23) -> 0 | AJ23: =AH23*$AL$2 -> 0 | AK23: =SUM(AH23) -> 0 | AL23: =SUM(AK23*$AL$2) -> 0 | AO23: SECRETARIAT | AP23: 42982
A24: GUEROUALI | B24: Mouhcine | AH24: =SUM(C24:AG24) -> 0 | AJ24: =AH24*$AL$2 -> 0 | AK24: =SUM(AH24) -> 0 | AL24: =SUM(AK24*$AL$2) -> 0 | AO24: BN | AP24: 42989 | AQ24: 42990
A25: LARDEUX | B25: Didier | AH25: =SUM(C25:AG25) -> 0 | AJ25: =AH25*$AL$2 -> 0 | AK25: =SUM(AH25) -> 0 | AL25: =SUM(AK25*$AL$2) -> 0 | AO25: TRESORIERS | AP25: 42991 | AQ25: PARIS
A26: LE MAUGUEN | B26: Gildas | AH26: =SUM(C26:AG26) -> 0 | AJ26: =AH26*$AL$2 -> 0 | AK26: =SUM(AH26) -> 0 | AL26: =SUM(AK26*$AL$2) -> 0 | AO26: SECRETARIAT | AP26: 43017
A27: PROVENDIER | B27: Steve | AH27: =SUM(C27:AG27) -> 0 | AJ27: =AH27*$AL$2 -> 0 | AK27: =SUM(AH27) -> 0 | AL27: =SUM(AK27*$AL$2) -> 0 | AO27: BN | AP27: 43052 | AQ27: 43053
A28: TAMSNA | B28: Hicham | AH28: =SUM(C28:AG28) -> 0 | AJ28: =AH28*$AL$2 -> 0 | AK28: =SUM(AH28) -> 0 | AL28: =SUM(AK28*$AL$2) -> 0 | AO28: SECRETARIAT | AP28: 43080
A29: WERNERT | B29: Michel | AH29: =SUM(C29:AG29) -> 0 | AJ29: =AH29*$AL$2 -> 0 | AK29: =SUM(AH29) -> 0 | AL29: =SUM(AK29*$AL$2) -> 0 | AO29: FORMATION SNTU
AH30: =SUM(C30:AG30) -> 0 | AJ30: =AH30*$AL$2 -> 0 | AK30: =SUM(AH30) -> 0 | AL30: =SUM(AK30*$AL$2) -> 0 | AP30: Du | AQ30: Au
AH31: =SUM(C31:AG31) -> 0 | AJ31: =AH31*$AL$2 -> 0 | AK31: =SUM(AH31) -> 0 | AL31: =SUM(AK31*$AL$2) -> 0 | AO31: IREFE | AP31: 42764 | AQ31: 42767
AH32: =SUM(C32:AG32) -> 0 | AJ32: =AH32*$AL$2 -> 0 | AK32: =SUM(AH32) -> 0 | AL32: =SUM(AK32*$AL$2) -> 0 | AO32: CE | AP32: 42771 | AQ32: 42775
A33: CARY | B33: Didier | AH33: =SUM(C33:AG33) -> 0 | AJ33: =AH33*$AL$2 -> 0 | AK33: =SUM(AH33) -> 0 | AL33: =SUM(AK33*$AL$2) -> 0 | AO33: DS | AP33: 42779 | AQ33: 42781
AH34: =SUM(C34:AG34) -> 0 | AJ34: =AH34*$AL$2 -> 0 | AK34: =SUM(AH34) -> 0 | AL34: =SUM(AK34*$AL$2) -> 0 | AO34: CHSCT NIV 1 | AP34: 42792 | AQ34: 42796
AH35: =SUM(C35:AG35) -> 0 | AJ35: =AH35*$AL$2 -> 0 | AK35: =SUM(AH35) -> 0 | AL35: =SUM(AK35*$AL$2) -> 0 | AO35: CE | AP35: 42834 | AQ35: 42838
A36: VERMEESCH | B36: Guy | AH36: =SUM(C36:AG36) -> 0 | AJ36: =AH36*$AL$2 -> 0 | AK36: =SUM(AH36) -> 0 | AL36: =SUM(AK36*$AL$2) -> 0 | AO36: CHSCT NIV 2 | AP36: 42869 | AQ36: 42873
A37: PLOUZENNEC | B37: Pierre | AH37: =SUM(C37:AG37) -> 0 | AJ37: =AH37*$AL$2 -> 0 | AK37: =SUM(AH37) -> 0 | AL37: =SUM(AK37*$AL$2) -> 0 | AO37: DS | AP37: 42870 | AQ37: 42872
AH38: =SUM(C38:AG38) -> 0 | AJ38: =AH38*$AL$2 -> 0 | AK38: =SUM(AH38) -> 0 | AL38: =SUM(AK38*$AL$2) -> 0 | AO38: CE | AP38: 42911 | AQ38: 42915
A39: FERRANDINO | B39: Denis | AH39: =SUM(C39:AG39) -> 0 | AJ39: =AH39*$AL$2 -> 0 | AK39: =SUM(AH39) -> 0 | AL39: =SUM(AK39*$AL$2) -> 0 | AO39: CE | AP39: 43002 | AQ39: 43006
A40: PONZ | B40: Stéphanie | AH40: =SUM(C40:AG40) -> 0 | AJ40: =AH40*$AL$2 -> 0 | AK40: =SUM(AH40) -> 0 | AL40: =SUM(AK40*$AL$2) -> 0 | AO40: CHSCT NIV 1 | AP40: 43023 | AQ40: 43027
AH41: =SUM(C41:AG41) -> 0 | AJ41: =AH41*$AL$2 -> 0 | AK41: =SUM(AH41) -> 0 | AL41: =SUM(AK41*$AL$2) -> 0 | AO41: DS | AP41: 43024 | AQ41: 43026
AH42: =SUM(C42:AG42) -> 0 | AJ42: =AH42*$AL$2 -> 0 | AK42: =SUM(AH42) -> 0 | AL42: =SUM(AK42*$AL$2) -> 0
AH43: =SUM(C43:AG43) -> 0 | AJ43: =AH43*$AL$2 -> 0 | AK43: =SUM(AH43) -> 0 | AL43: =SUM(AK43*$AL$2) -> 0 | AO43: COORDINATIONS 1er semestre
AH44: =SUM(C44:AG44) -> 0 | AJ44: =AH44*$AL$2 -> 0 | AK44: =SUM(AH44) -> 0 | AL44: =SUM(AK44*$AL$2) -> 0 | AO44: OUEST | AP44: 4/5 avril | AQ44: ANGERS
AH45: =SUM(C45:AG45) -> 0 | AJ45: =AH45*$AL$2 -> 0 | AK45: =SUM(AH45) -> 0 | AL45: =SUM(AK45*$AL$2) -> 0 | AO45: CENTRE | AP45: 10/11 Avril
AH46: =SUM(C46:AG46) -> 0 | AJ46: =AH46*$AL$2 -> 0 | AK46: =SUM(AH46) -> 0 | AL46: =SUM(AK46*$AL$2) -> 0 | AO46: SUD OUEST | AP46: 7/8 Mars
AH47: =SUM(C47:AG47) -> 0 | AJ47: =AH47*$AL$2 -> 0 | AK47: =SUM(AH47) -> 0 | AL47: =SUM(AK47*$AL$2) -> 0 | AO47: NORD | AP47: 17/18 Avril | AQ47: LILLE
AH48: =SUM(C48:AG48) -> 0 | AJ48: =AH48*$AL$2 -> 0 | AK48: =SUM(AH48) -> 0 | AL48: =SUM(AK48*$AL$2) -> 0 | AO48: SUD EST | AP48: 26/27 Avril
AH49: =SUM(C49:AG49) -> 0 | AJ49: =AH49*$AL$2 -> 0 | AK49: =SUM(AH49) -> 0 | AL49: =SUM(AK49*$AL$2) -> 0 | AO49: EST | AP49: 29/30 Mai
AH50: =SUM(C50:AG50) -> 0 | AJ50: =AH50*$AL$2 -> 0 | AK50: =SUM(AH50) -> 0 | AL50: =SUM(AK50*$AL$2) -> 0 | AO50: COORDINATIONS 2ème semestre
AH51: =SUM(C51:AG51) -> 0 | AJ51: =AH51*$AL$2 -> 0 | AK51: =SUM(AH51) -> 0 | AL51: =SUM(AK51*$AL$2) -> 0 | AO51: OUEST | AP51: 3/4 Octobre
AH52: =SUM(C52:AG52) -> 0 | AJ52: =AH52*$AL$2 -> 0 | AK52: =SUM(AH52) -> 0 | AL52: =SUM(AK52*$AL$2) -> 0 | AO52: CENTRE | AP52: 6/7 Novembre
AH53: =SUM(C53:AG53) -> 0 | AJ53: =AH53*$AL$2 -> 0 | AK53: =SUM(AH53) -> 0 | AL53: =SUM(AK53*$AL$2) -> 0 | AO53: SUD OUEST | AP53: 19/20 Septembre
AH54: =SUM(C54:AG54) -> 0 | AJ54: =AH54*$AL$2 -> 0 | AK54: =SUM(AH54) -> 0 | AL54: =SUM(AK54*$AL$2) -> 0 | AO54: NORD | AP54: 26/27 Novembre | AQ54: PARIS
AH55: =SUM(C55:AG55) -> 0 | AJ55: =AH55*$AL$2 -> 0 | AK55: =SUM(AH55) -> 0 | AL55: =SUM(AK55*$AL$2) -> 0 | AO55: SUD EST | AP55: 12/13 Décembre
AH56: =SUM(C56:AG56) -> 0 | AJ56: =AH56*$AL$2 -> 0 | AK56: =SUM(AH56) -> 0 | AL56: =SUM(AK56*$AL$2) -> 0 | AO56: EST | AP56: 6/7 Novembre
AH57: =SUM(C57:AG57) -> 0 | AJ57: =AH57*$AL$2 -> 0 | AK57: =SUM(AH57) -> 0 | AL57: =SUM(AK57*$AL$2) -> 0
AH58: =SUM(C58:AG58) -> 0 | AJ58: =AH58*$AL$2 -> 0 | AK58: =SUM(AH58) -> 0 | AL58: =SUM(AK58*$AL$2) -> 0
AH59: =SUM(C59:AG59) -> 0 | AJ59: =AH59*$AL$2 -> 0 | AK59: =SUM(AH59) -> 0 | AL59: =SUM(AK59*$AL$2) -> 0
AH60: =SUM(C60:AG60) -> 0 | AJ60: =AH60*$AL$2 -> 0 | AK60: =SUM(AH60) -> 0 | AL60: =SUM(AK60*$AL$2) -> 0
AH61: =SUM(C61:AG61) -> 0 | AJ61: =AH61*$AL$2 -> 0 | AK61: =SUM(AH61) -> 0 | AL61: =SUM(AK61*$AL$2) -> 0 | AO61: ! | AP61: A ANNULER
AH62: =SUM(C62:AG62) -> 0 | AJ62: =AH62*$AL$2 -> 0 | AK62: =SUM(AH62) -> 0 | AL62: =SUM(AK62*$AL$2) -> 0 | AO62: ? | AP62: A CONFIRMER
AH63: =SUM(C63:AG63) -> 0 | AJ63: =AH63*$AL$2 -> 0 | AK63: =SUM(AH63) -> 0 | AL63: =SUM(AK63*$AL$2) -> 0 | AO63: 1 | AP63: RESERVATION
AH64: =SUM(C64:AG64) -> 0 | AJ64: =AH64*$AL$2 -> 0 | AK64: =SUM(AH64) -> 0 | AL64: =SUM(AK64*$AL$2) -> 0
AH65: =SUM(C65:AG65) -> 0 | AJ65: =AH65*$AL$2 -> 0 | AK65: =SUM(AH65) -> 0 | AL65: =SUM(AK65*$AL$2) -> 0
AH66: =SUM(C66:AG66) -> 0 | AJ66: =AH66*$AL$2 -> 0 | AK66: =SUM(AH66) -> 0 | AL66: =SUM(AK66*$AL$2) -> 0
AH67: =SUM(C67:AG67) -> 0 | AJ67: =AH67*$AL$2 -> 0 | AK67: =SUM(AH67) -> 0 | AL67: =SUM(AK67*$AL$2) -> 0
AH68: =SUM(C68:AG68) -> 0 | AJ68: =AH68*$AL$2 -> 0 | AK68: =SUM(AH68) -> 0 | AL68: =SUM(AK68*$AL$2) -> 0
AH69: =SUM(C69:AG69) -> 0 | AJ69: =AH69*$AL$2 -> 0 | AK69: =SUM(AH69) -> 0 | AL69: =SUM(AK69*$AL$2) -> 0
AH70: =SUM(C70:AG70) -> 0 | AJ70: =AH70*$AL$2 -> 0 | AK70: =SUM(AH70) -> 0 | AL70: =SUM(AK70*$AL$2) -> 0
AH71: =SUM(C71:AG71) -> 0 | AJ71: =AH71*$AL$2 -> 0 | AK71: =SUM(AH71) -> 0 | AL71: =SUM(AK71*$AL$2) -> 0
AH72: =SUM(C72:AG72) -> 0 | AJ72: =AH72*$AL$2 -> 0 | AK72: =SUM(AH72) -> 0 | AL72: =SUM(AK72*$AL$2) -> 0
AH73: =SUM(C73:AG73) -> 0 | AJ73: =AH73*$AL$2 -> 0 | AK73: =SUM(AH73) -> 0 | AL73: =SUM(AK73*$AL$2) -> 0
AH74: =SUM(C74:AG74) -> 0 | AJ74: =AH74*$AL$2 -> 0 | AK74: =SUM(AH74) -> 0 | AL74: =SUM(AK74*$AL$2) -> 0
AH75: =SUM(C75:AG75) -> 0 | AJ75: =AH75*$AL$2 -> 0 | AK75: =SUM(AH75) -> 0 | AL75: =SUM(AK75*$AL$2) -> 0
... AH77: =SUM(C77:AG77) -> 0 | AJ77: =AH77*$AL$2 -> 0 | AK77: =SUM(AH77) -> 0 | AL77: =SUM(AK77*$AL$2) -> 0
A78: Total | C78: =SUM(C6:C77) -> 0 | D78: =SUM(D6:D77) -> 0 | E78: =SUM(E6:E77) -> 0 | F78: =SUM(F6:F77) -> 0 | G78: =SUM(G6:G77) -> 0 | H78: =SUM(H6:H77) -> 0 | I78: =SUM(I6:I77) -> 0 | J78: =SUM(J6:J77) -> 0 | ... AG78: =SUM(AG6:AG77) -> 0 | AH78: =SUM(C78:AG78) -> 0 | AJ78: =AH78*$AL$2 -> 0 | AK78: =SUM(AH78) -> 0 | AL78: =SUM(AK78*$AL$2) -> 0
AJ79: =SUM(AJ6:AJ78) -> 0 | AK79: =SUM(AK6:AK78) -> 0 | AL79: =SUM(AL6:AL78) -> 0
AJ80: 76960

Sheet DEC
A1: =JANV!A1 -> 2020 | C1: Réservations chambres | AI1: * | AJ1: Nombre de chambres et coût | AM1: * | AO1: Carte IBIS BUSINESS
B2: 12 | C2: DECEMBRE | AJ2: PRIX UNITAIRE | AL2: 74 | AO2: Eric | AQ2: *3081432700807952
A3: Mois | AH3: CHAMBRES | AJ3: COÛT | AK3: CHAMBRES | AO3: Paul | AQ3: *3081432662964312
A4: NOMS | B4: PRENOMS | C4: 1 | D4: =C4+1 -> 2 | E4: =D4+1 -> 3 | F4: =E4+1 -> 4 | G4: =F4+1 -> 5 | H4: =G4+1 -> 6 | I4: =H4+1 -> 7 | J4: =I4+1 -> 8 | K4: =J4+1 -> 9 | ... AG4: =AF4+1 -> 31 | AH4: TOTAL | AJ4: TOTAL | AK4: NBS | AL4: COÛT | AO4: Chantal | AQ4: *3081432699167947
C5: =DATE(JANV!$A$1,DEC!$B$2,DEC!C4) -> 44166 | D5: =C5+1 -> 44167 | E5: =D5+1 -> 44168 | F5: =E5+1 -> 44169 | G5: =F5+1 -> 44170 | H5: =G5+1 -> 44171 | I5: =H5+1 -> 44172 | J5: =I5+1 -> 44173 | K5: =J5+1 -> 44174 | ... AG5: =AF5+1 -> 44196 | AH5: au mois | AJ5: Au mois | AK5: Depuis le | AL5: 42736 | AN5: 1 | AO5: RESA IBIS BUDGET
A6: HUGON | B6: Eric | AH6: =SUM(C6:AG6) -> 0 | AJ6: =AH6*$AL$2 -> 0 | AK6: =SUM(AH6) -> 0 | AL6: =SUM(AK6*$AL$2) -> 0 | AN6: 1 | AO6: Annulation à confirmer
A7: DESSOMME | B7: Paul
A8: GUERMONT | B8: Michèle | AH8: =SUM(C8:AG8) -> 0 | AJ8: =AH8*$AL$2 -> 0 | AK8: =SUM(AH8) -> 0 | AL8: =SUM(AK8*$AL$2) -> 0 | AN8: ? | AO8: Réservation à confirmer
A9: ROULLAUD | B9: Chantal | AH9: =SUM(C9:AG9) -> 0 | AJ9: =AH9*$AL$2 -> 0 | AK9: =SUM(AH9) -> 0 | AL9: =SUM(AK9*$AL$2) -> 0 | AO9: BN et CS SNTU
A10: Non Affectées | B10: CFDT | AH10: =SUM(C10:AG10) -> 0 | AJ10: =AH10*$AL$2 -> 0 | AK10: =SUM(AH10) -> 0 | AL10: =SUM(AK10*$AL$2) -> 0 | AO10: SECRETARIAT
A11: CANTALOUBE | B11: Philippe | AH11: =SUM(C11:AG11) -> 0 | AJ11: =AH11*$AL$2 -> 0 | AK11: =SUM(AH11) -> 0 | AL11: =SUM(AK11*$AL$2) -> 0 | AO11: REUNION
A12: CHARRON | B12: Jean Michel | AH12: =SUM(C12:AG12) -> 0 | AJ12: =AH12*$AL$2 -> 0 | AK12: =SUM(AH12) -> 0 | AL12: =SUM(AK12*$AL$2) -> 0 | AO12: FORM
A13: LE BONJOUR | B13: Jean Emmanuel | AH13: =SUM(C13:AG13) -> 0 | AJ13: =AH13*$AL$2 -> 0 | AK13: =SUM(AH13) -> 0 | AL13: =SUM(AK13*$AL$2) -> 0 | AN13: CA | AO13: CONGES
A14: TERNOIS | B14: Pierrick | AH14: =SUM(C14:AG14) -> 0 | AJ14: =AH14*$AL$2 -> 0 | AK14: =SUM(AH14) -> 0 | AL14: =SUM(AK14*$AL$2) -> 0 | AO14: Fériés
A15: VANDENBROUCKE | B15: François | AH15: =SUM(C15:AG15) -> 0 | AJ15: =AH15*$AL$2 -> 0 | AK15: =SUM(AH15) -> 0 | AL15: =SUM(AK15*$AL$2) -> 0 | AO15: REUNION SNTU
A16: ACHOUR | B16: Souad | AH16: =SUM(C16:AG16) -> 0 | AJ16: =AH16*$AL$2 -> 0 | AK16: =SUM(AH16) -> 0 | AL16: =SUM(AK16*$AL$2) -> 0 | AP16: DU | AQ16: AU
A17: AUROY | B17: Alain | AH17: =SUM(C17:AG17) -> 0 | AJ17: =AH17*$AL$2 -> 0 | AK17: =SUM(AH17) -> 0 | AL17: =SUM(AK17*$AL$2) -> 0 | AO17: BN | AP17: 42757 | AQ17: 42758
A18: BELGOURCH | B18: Abdelmejid | AH18: =SUM(C18:AG18) -> 0 | AJ18: =AH18*$AL$2 -> 0 | AK18: =SUM(AH18) -> 0 | AL18: =SUM(AK18*$AL$2) -> 0 | AO18: SECRETARIAT | AP18: 42786
A19: CHEMIN | B19: Grégory | AH19: =SUM(C19:AG19) -> 0 | AJ19: =AH19*$AL$2 -> 0 | AK19: =SUM(AH19) -> 0 | AL19: =SUM(AK19*$AL$2) -> 0 | AO19: BN | AP19: 42808 | AQ19: 42809
A20: DANIEL | B20: Luc | AH20: =SUM(C20:AG20) -> 0 | AJ20: =AH20*$AL$2 -> 0 | AK20: =SUM(AH20) -> 0 | AL20: =SUM(AK20*$AL$2) -> 0 | AO20: SECRETARIAT | AP20: 42839
A21: DELALLEAU | B21: Joël | AH21: =SUM(C21:AG21) -> 0 | AJ21: =AH21*$AL$2 -> 0 | AK21: =SUM(AH21) -> 0 | AL21: =SUM(AK21*$AL$2) -> 0 | AO21: BN + CS | AP21: 42898 | AQ21: 42900
A22: DESROCHE | B22: Philippe | AH22: =SUM(C22:AG22) -> 0 | AJ22: =AH22*$AL$2 -> 0 | AK22: =SUM(AH22) -> 0 | AL22: =SUM(AK22*$AL$2) -> 0 | AO22: SECRETARIAT | AP22: 42920
A23: DIAS | B23: Patrick | AH23: =SUM(C23:AG23) -> 0 | AJ23: =AH23*$AL$2 -> 0 | AK23: =SUM(AH23) -> 0 | AL23: =SUM(AK23*$AL$2) -> 0 | AO23: SECRETARIAT | AP23: 42982
A24: GUEROUALI | B24: Mouhcine | AH24: =SUM(C24:AG24) -> 0 | AJ24: =AH24*$AL$2 -> 0 | AK24: =SUM(AH24) -> 0 | AL24: =SUM(AK24*$AL$2) -> 0 | AO24: BN | AP24: 42989 | AQ24: 42990
A25: LARDEUX | B25: Didier | AH25: =SUM(C25:AG25) -> 0 | AJ25: =AH25*$AL$2 -> 0 | AK25: =SUM(AH25) -> 0 | AL25: =SUM(AK25*$AL$2) -> 0 | AO25: TRESORIERS | AP25: 42991 | AQ25: PARIS
A26: LE MAUGUEN | B26: Gildas | AH26: =SUM(C26:AG26) -> 0 | AJ26: =AH26*$AL$2 -> 0 | AK26: =SUM(AH26) -> 0 | AL26: =SUM(AK26*$AL$2) -> 0 | AO26: SECRETARIAT | AP26: 43017
A27: PROVENDIER | B27: Steve | AH27: =SUM(C27:AG27) -> 0 | AJ27: =AH27*$AL$2 -> 0 | AK27: =SUM(AH27) -> 0 | AL27: =SUM(AK27*$AL$2) -> 0 | AO27: BN | AP27: 43052 | AQ27: 43053
A28: TAMSNA | B28: Hicham | AH28: =SUM(C28:AG28) -> 0 | AJ28: =AH28*$AL$2 -> 0 | AK28: =SUM(AH28) -> 0 | AL28: =SUM(AK28*$AL$2) -> 0 | AO28: SECRETARIAT | AP28: 43080
A29: WERNERT | B29: Michel | AH29: =SUM(C29:AG29) -> 0 | AJ29: =AH29*$AL$2 -> 0 | AK29: =SUM(AH29) -> 0 | AL29: =SUM(AK29*$AL$2) -> 0 | AO29: FORMATION SNTU
AH30: =SUM(C30:AG30) -> 0 | AJ30: =AH30*$AL$2 -> 0 | AK30: =SUM(AH30) -> 0 | AL30: =SUM(AK30*$AL$2) -> 0 | AP30: Du | AQ30: Au
AH31: =SUM(C31:AG31) -> 0 | AJ31: =AH31*$AL$2 -> 0 | AK31: =SUM(AH31) -> 0 | AL31: =SUM(AK31*$AL$2) -> 0 | AO31: IREFE | AP31: 42764 | AQ31: 42767
AH32: =SUM(C32:AG32) -> 0 | AJ32: =AH32*$AL$2 -> 0 | AK32: =SUM(AH32) -> 0 | AL32: =SUM(AK32*$AL$2) -> 0 | AO32: CE | AP32: 42771 | AQ32: 42775
A33: CARY | B33: Didier | AH33: =SUM(C33:AG33) -> 0 | AJ33: =AH33*$AL$2 -> 0 | AK33: =SUM(AH33) -> 0 | AL33: =SUM(AK33*$AL$2) -> 0 | AO33: DS | AP33: 42779 | AQ33: 42781
AH34: =SUM(C34:AG34) -> 0 | AJ34: =AH34*$AL$2 -> 0 | AK34: =SUM(AH34) -> 0 | AL34: =SUM(AK34*$AL$2) -> 0 | AO34: CHSCT NIV 1 | AP34: 42792 | AQ34: 42796
AH35: =SUM(C35:AG35) -> 0 | AJ35: =AH35*$AL$2 -> 0 | AK35: =SUM(AH35) -> 0 | AL35: =SUM(AK35*$AL$2) -> 0 | AO35: CE | AP35: 42834 | AQ35: 42838
A36: VERMEESCH | B36: Guy | AH36: =SUM(C36:AG36) -> 0 | AJ36: =AH36*$AL$2 -> 0 | AK36: =SUM(AH36) -> 0 | AL36: =SUM(AK36*$AL$2) -> 0 | AO36: CHSCT NIV 2 | AP36: 42869 | AQ36: 42873
A37: PLOUZENNEC | B37: Pierre | AH37: =SUM(C37:AG37) -> 0 | AJ37: =AH37*$AL$2 -> 0 | AK37: =SUM(AH37) -> 0 | AL37: =SUM(AK37*$AL$2) -> 0 | AO37: DS | AP37: 42870 | AQ37: 42872
AH38: =SUM(C38:AG38) -> 0 | AJ38: =AH38*$AL$2 -> 0 | AK38: =SUM(AH38) -> 0 | AL38: =SUM(AK38*$AL$2) -> 0 | AO38: CE | AP38: 42911 | AQ38: 42915
A39: FERRANDINO | B39: Denis | AH39: =SUM(C39:AG39) -> 0 | AJ39: =AH39*$AL$2 -> 0 | AK39: =SUM(AH39) -> 0 | AL39: =SUM(AK39*$AL$2) -> 0 | AO39: CE | AP39: 43002 | AQ39: 43006
A40: PONZ | B40: Stéphanie | AH40: =SUM(C40:AG40) -> 0 | AJ40: =AH40*$AL$2 -> 0 | AK40: =SUM(AH40) -> 0 | AL40: =SUM(AK40*$AL$2) -> 0 | AO40: CHSCT NIV 1 | AP40: 43023 | AQ40: 43027
AH41: =SUM(C41:AG41) -> 0 | AJ41: =AH41*$AL$2 -> 0 | AK41: =SUM(AH41) -> 0 | AL41: =SUM(AK41*$AL$2) -> 0 | AO41: DS | AP41: 43024 | AQ41: 43026
AH42: =SUM(C42:AG42) -> 0 | AJ42: =AH42*$AL$2 -> 0 | AK42: =SUM(AH42) -> 0 | AL42: =SUM(AK42*$AL$2) -> 0
AH43: =SUM(C43:AG43) -> 0 | AJ43: =AH43*$AL$2 -> 0 | AK43: =SUM(AH43) -> 0 | AL43: =SUM(AK43*$AL$2) -> 0 | AO43: COORDINATIONS 1er semestre
AH44: =SUM(C44:AG44) -> 0 | AJ44: =AH44*$AL$2 -> 0 | AK44: =SUM(AH44) -> 0 | AL44: =SUM(AK44*$AL$2) -> 0 | AO44: OUEST | AP44: 4/5 avril | AQ44: ANGERS
AH45: =SUM(C45:AG45) -> 0 | AJ45: =AH45*$AL$2 -> 0 | AK45: =SUM(AH45) -> 0 | AL45: =SUM(AK45*$AL$2) -> 0 | AO45: CENTRE | AP45: 10/11 Avril
AH46: =SUM(C46:AG46) -> 0 | AJ46: =AH46*$AL$2 -> 0 | AK46: =SUM(AH46) -> 0 | AL46: =SUM(AK46*$AL$2) -> 0 | AO46: SUD OUEST | AP46: 7/8 Mars
AH47: =SUM(C47:AG47) -> 0 | AJ47: =AH47*$AL$2 -> 0 | AK47: =SUM(AH47) -> 0 | AL47: =SUM(AK47*$AL$2) -> 0 | AO47: NORD | AP47: 17/18 Avril | AQ47: LILLE
AH48: =SUM(C48:AG48) -> 0 | AJ48: =AH48*$AL$2 -> 0 | AK48: =SUM(AH48) -> 0 | AL48: =SUM(AK48*$AL$2) -> 0 | AO48: SUD EST | AP48: 26/27 Avril
AH49: =SUM(C49:AG49) -> 0 | AJ49: =AH49*$AL$2 -> 0 | AK49: =SUM(AH49) -> 0 | AL49: =SUM(AK49*$AL$2) -> 0 | AO49: EST | AP49: 29/30 Mai
AH50: =SUM(C50:AG50) -> 0 | AJ50: =AH50*$AL$2 -> 0 | AK50: =SUM(AH50) -> 0 | AL50: =SUM(AK50*$AL$2) -> 0 | AO50: COORDINATIONS 2ème semestre
AH51: =SUM(C51:AG51) -> 0 | AJ51: =AH51*$AL$2 -> 0 | AK51: =SUM(AH51) -> 0 | AL51: =SUM(AK51*$AL$2) -> 0 | AO51: OUEST | AP51: 3/4 Octobre
AH52: =SUM(C52:AG52) -> 0 | AJ52: =AH52*$AL$2 -> 0 | AK52: =SUM(AH52) -> 0 | AL52: =SUM(AK52*$AL$2) -> 0 | AO52: CENTRE | AP52: 6/7 Novembre
AH53: =SUM(C53:AG53) -> 0 | AJ53: =AH53*$AL$2 -> 0 | AK53: =SUM(AH53) -> 0 | AL53: =SUM(AK53*$AL$2) -> 0 | AO53: SUD OUEST | AP53: 19/20 Septembre
AH54: =SUM(C54:AG54) -> 0 | AJ54: =AH54*$AL$2 -> 0 | AK54: =SUM(AH54) -> 0 | AL54: =SUM(AK54*$AL$2) -> 0 | AO54: NORD | AP54: 26/27 Novembre | AQ54: PARIS
AH55: =SUM(C55:AG55) -> 0 | AJ55: =AH55*$AL$2 -> 0 | AK55: =SUM(AH55) -> 0 | AL55: =SUM(AK55*$AL$2) -> 0 | AO55: SUD EST | AP55: 12/13 Décembre
AH56: =SUM(C56:AG56) -> 0 | AJ56: =AH56*$AL$2 -> 0 | AK56: =SUM(AH56) -> 0 | AL56: =SUM(AK56*$AL$2) -> 0 | AO56: EST | AP56: 6/7 Novembre
AH57: =SUM(C57:AG57) -> 0 | AJ57: =AH57*$AL$2 -> 0 | AK57: =SUM(AH57) -> 0 | AL57: =SUM(AK57*$AL$2) -> 0
AH58: =SUM(C58:AG58) -> 0 | AJ58: =AH58*$AL$2 -> 0 | AK58: =SUM(AH58) -> 0 | AL58: =SUM(AK58*$AL$2) -> 0 | AO58: ! | AP58: A ANNULER
AH59: =SUM(C59:AG59) -> 0 | AJ59: =AH59*$AL$2 -> 0 | AK59: =SUM(AH59) -> 0 | AL59: =SUM(AK59*$AL$2) -> 0 | AO59: ? | AP59: A CONFIRMER
AH60: =SUM(C60:AG60) -> 0 | AJ60: =AH60*$AL$2 -> 0 | AK60: =SUM(AH60) -> 0 | AL60: =SUM(AK60*$AL$2) -> 0 | AO60: 1 | AP60: RESERVATION
AH61: =SUM(C61:AG61) -> 0 | AJ61: =AH61*$AL$2 -> 0 | AK61: =SUM(AH61) -> 0 | AL61: =SUM(AK61*$AL$2) -> 0
AH62: =SUM(C62:AG62) -> 0 | AJ62: =AH62*$AL$2 -> 0 | AK62: =SUM(AH62) -> 0 | AL62: =SUM(AK62*$AL$2) -> 0
AH63: =SUM(C63:AG63) -> 0 | AJ63: =AH63*$AL$2 -> 0 | AK63: =SUM(AH63) -> 0 | AL63: =SUM(AK63*$AL$2) -> 0
AH64: =SUM(C64:AG64) -> 0 | AJ64: =AH64*$AL$2 -> 0 | AK64: =SUM(AH64) -> 0 | AL64: =SUM(AK64*$AL$2) -> 0
AH65: =SUM(C65:AG65) -> 0 | AJ65: =AH65*$AL$2 -> 0 | AK65: =SUM(AH65) -> 0 | AL65: =SUM(AK65*$AL$2) -> 0
AH66: =SUM(C66:AG66) -> 0 | AJ66: =AH66*$AL$2 -> 0 | AK66: =SUM(AH66) -> 0 | AL66: =SUM(AK66*$AL$2) -> 0
AH67: =SUM(C67:AG67) -> 0 | AJ67: =AH67*$AL$2 -> 0 | AK67: =SUM(AH67) -> 0 | AL67: =SUM(AK67*$AL$2) -> 0
AH68: =SUM(C68:AG68) -> 0 | AJ68: =AH68*$AL$2 -> 0 | AK68: =SUM(AH68) -> 0 | AL68: =SUM(AK68*$AL$2) -> 0
AH69: =SUM(C69:AG69) -> 0 | AJ69: =AH69*$AL$2 -> 0 | AK69: =SUM(AH69) -> 0 | AL69: =SUM(AK69*$AL$2) -> 0
AH70: =SUM(C70:AG70) -> 0 | AJ70: =AH70*$AL$2 -> 0 | AK70: =SUM(AH70) -> 0 | AL70: =SUM(AK70*$AL$2) -> 0
AH71: =SUM(C71:AG71) -> 0 | AJ71: =AH71*$AL$2 -> 0 | AK71: =SUM(AH71) -> 0 | AL71: =SUM(AK71*$AL$2) -> 0
AH72: =SUM(C72:AG72) -> 0 | AJ72: =AH72*$AL$2 -> 0 | AK72: =SUM(AH72) -> 0 | AL72: =SUM(AK72*$AL$2) -> 0
... AH77: =SUM(C77:AG77) -> 0 | AJ77: =AH77*$AL$2 -> 0 | AK77: =SUM(AH77) -> 0 | AL77: =SUM(AK77*$AL$2) -> 0
A78: Total | C78: =SUM(C6:C77) -> 0 | D78: =SUM(D6:D77) -> 0 | E78: =SUM(E6:E77) -> 0 | F78: =SUM(F6:F77) -> 0 | G78: =SUM(G6:G77) -> 0 | H78: =SUM(H6:H77) -> 0 | I78: =SUM(I6:I77) -> 0 | J78: =SUM(J6:J77) -> 0 | ... AG78: =SUM(AG6:AG77) -> 0 | AH78: =SUM(C78:AG78) -> 0 | AJ78: =AH78*$AL$2 -> 0 | AK78: =SUM(AH78) -> 0 | AL78: =SUM(AK78*$AL$2) -> 0
AJ79: =SUM(AJ6:AJ78) -> 0 | AK79: =SUM(AK6:AK78) -> 0 | AL79: =SUM(AL6:AL78) -> 0
AJ80: 76960
