Workbook

Sheet Tab Habilitation
A2: Entité | B2: NNI | C2: NOM | D2: PRENOM | E2: Metier | F2: Visite médicale | G2: Aptitude | H2: AAMEDS0001 | I2: AAMEDS0002 | J2: AERDFT907 | K2: ADNTINO | L2: AAMEDT908 | M2: ADNTSTBATI | N2: DATE DE VALIDITE | O2: ADNTSTEME | P2: DATE DE VALIDITE | Q2: ADNTSTRTI | R2: DATE DE VALIDITE | S2: ANDTSTTRIC | T2: DATE DE VALIDITE | U2: ADNTSTSOU | V2: DATE DE VALIDITE | W2: ADNTSTBRT | X2: DATE DE VALIDITE | Y2: ADNTSTAER | Z2: DATE DE VALIDITE | AA2: ADNTSTCIS | AB2: DATE DE VALIDITE | AC2: ADNTSTRAET | AD2: DATE DE VALIDITE | AE2: ADNTSTRTOT | AF2: DATE DE VALIDITE | AG2: ADNTSTCCFC | AH2: DATE DE VALIDITE | AI2: ADNRDCBT | AJ2: ADNTIP02B | AK2: ADNTIP00B | AL2: ADNTIP02A | AM2: ANDT001 | AN2: DATE DE VALIDITE | AO2: ANDT002 | AP2: DATE DE VALIDITE | AQ2: ANDT003 | AR2: DATE DE VALIDITE | AS2: ANDT004 | AT2: DATE DE VALIDITE | AU2: AERDFPEMPI | AV2: AERDFPEMPR | AW2: DATE DE VALIDITE | AX2: AERDFGRUA1 | AY2: AERDFGRUR1 | AZ2: DATE DE VALIDITE | BA2: AEMEDP0001 | BB2: DATE DE VALIDITE | BC2: AEMEDEP015 | BE2: DATE DE VALIDITE | BF2: ADN2993 | BG2: ADN2995 | BH2: DATE DE VALIDITE | BI2: ADN2994 | BJ2: ADN2996 | BK2: DATE DE VALIDITE | BL2: AERDFT941B | BM2: DATE DE VALIDITE | BN2: ACDLY08 | BO2: ACDLY13 | BP2: ACDCKO07 | BQ2: ACDLY11 | BR2: AAMEDLINK1 | BS2: ACDTIPINTV | BT2: AAMEDFADTC | BU2: AEDRVA | BV2: AEDRVAR | BW2: ADN8064 | BX2: AERDFT934 | BY2: N° | BZ2: TYPE A | CA2: TYPE B | CB2: TYPE C | CC2: TYPE D | CD2: TYPE E(B) | CE2: TYPE E(C ) | CF2: TYPE E(D) | CG2: DATE DE DELIVRANCE | CH2: DATE DE VALIDITE | CI2: VILLE DE DELIVRANCE | CJ2: Date Test Sphinx | CK2: Sphinx Bonne Réponse | CL2: Sphinx Total | CM2: Sphinx %
A3: Entité | B3: NNI | C3: NOM | D3: PRENOM | E3: Metier | F3: 2 ans | H3: (initial) | I3: (annuel) | J3: (recyclage 2ans) | K3: date de réalisation | L3: date de réalisation | M3: TIR = 4 ans / TER = 2 ans | O3: TIR = 4 ans / TER = 2 ans | Q3: TIR = 4 ans | S3: TIR = 4 ans | U3: TIR = 4 ans | W3: TIR = 4 ans | Y3: TIR = 4 ans / TER = 2 ans | AA3: TIR = 4 ans | AC3: TIR = 4 ans / TER = 2 ans | AE3: TIR = 4 ans | AI3: Pas de recyclage | AJ3: résaux aériens | AK3: terminal individuel | AL3: aérien tx en hauteur | AM3: 2 ans | AO3: 2 ans | AQ3: 2 ans | AS3: 2 ans | AU3: 5 ans | AX3: 5 ans | BA3: 5 ans | BC3: 5 ans | BF3: 3 ans | BI3: 3 ans | BL3: 3 ans | BN3: date de réalisation | BO3: date de réalisation | BP3: date de réalisation | BQ3: date de réalisation | BR3: date de réalisation | BS3: date de réalisation | BT3: date de réalisation | BU3: date de réalisation | BV3: date de réalisation | BW3: date de réalisation | BX3: date de réalisation | CB3: 5 ans
A4: TOULON | B4: A1 | E4: TIR | H4: {=IFERROR(INDEX('Fichier E-Formation'!DP:DP,MATCH('Tab Habilitation'!B4&"AAMEDS0001",'Fichier E-Formation'!DM:DM&'Fichier E-Formation'!DO:DO,0)),"")} | I4: {=IFERROR(INDEX('Fichier E-Formation'!DP:DP,MATCH('Tab Habilitation'!B4&"AAMEDS0002",'Fichier E-Formation'!DM:DM&'Fichier E-Formation'!DO:DO,0)),"")} | J4: {=IFERROR(INDEX('Fichier E-Formation'!DP:DP,MATCH('Tab Habilitation'!B4&"AERDFT907",'Fichier E-Formation'!DM:DM&'Fichier E-Formation'!DO:DO,0)),"")} | K4: {=IFERROR(INDEX('Fichier E-Formation'!DP:DP,MATCH('Tab Habilitation'!B4&"ADNTINO",'Fichier E-Formation'!DM:DM&'Fichier E-Formation'!DO:DO,0)),"")} | L4: {=IFERROR(INDEX('Fichier E-Formation'!DP:DP,MATCH('Tab Habilitation'!B4&"AAMEDT908",'Fichier E-Formation'!DM:DM&'Fichier E-Formation'!DO:DO,0)),"")} | M4: {=IFERROR(INDEX('Fichier E-Formation'!DP:DP,MATCH('Tab Habilitation'!B4&"ADNTSTBATI",'Fichier E-Formation'!DM:DM&'Fichier E-Formation'!DO:DO,0)),"")} | O4: {=IFERROR(INDEX('Fichier E-Formation'!DP:DP,MATCH('Tab Habilitation'!B4&"ADNTSTEME",'Fichier E-Formation'!DM:DM&'Fichier E-Formation'!DO:DO,0)),"")} | Q4: {=IFERROR(INDEX('Fichier E-Formation'!DP:DP,MATCH('Tab Habilitation'!B4&"ADNTSTRTI",'Fichier E-Formation'!DM:DM&'Fichier E-Formation'!DO:DO,0)),"")} | S4: {=IFERROR(INDEX('Fichier E-Formation'!DP:DP,MATCH('Tab Habilitation'!B4&"ADNTSTTRIC",'Fichier E-Formation'!DM:DM&'Fichier E-Formation'!DO:DO,0)),"")} | U4: {=IFERROR(INDEX('Fichier E-Formation'!DP:DP,MATCH('Tab Habilitation'!B4&"ADNTSTSOU",'Fichier E-Formation'!DM:DM&'Fichier E-Formation'!DO:DO,0)),"")} | W4: {=IFERROR(INDEX('Fichier E-Formation'!DP:DP,MATCH('Tab Habilitation'!B4&"ADNTSTBRT",'Fichier E-Formation'!DM:DM&'Fichier E-Formation'!DO:DO,0)),"")} | Y4: {=IFERROR(INDEX('Fichier E-Formation'!DP:DP,MATCH('Tab Habilitation'!B4&"ADNTSTAER",'Fichier E-Formation'!DM:DM&'Fichier E-Formation'!DO:DO,0)),"")} | AA4: {=IFERROR(INDEX('Fichier E-Formation'!DP:DP,MATCH('Tab Habilitation'!B4&"ADNTSTCIS",'Fichier E-Formation'!DM:DM&'Fichier E-Formation'!DO:DO,0)),"")} | AC4: {=IFERROR(INDEX('Fichier E-Formation'!DP:DP,MATCH('Tab Habilitation'!B4&"ADNTSTRAET",'Fichier E-Formation'!DM:DM&'Fichier E-Formation'!DO:DO,0)),"")} | AE4: {=IFERROR(INDEX('Fichier E-Formation'!DP:DP,MATCH('Tab Habilitation'!B4&"ADNTSTRTOT",'Fichier E-Formation'!DM:DM&'Fichier E-Formation'!DO:DO,0)),"")} | AG4: {=IFERROR(INDEX('Fichier E-Formation'!DP:DP,MATCH('Tab Habilitation'!B4&"ADNTSTCCFC",'Fichier E-Formation'!DM:DM&'Fichier E-Formation'!DO:DO,0)),"")} | AI4: {=IFERROR(INDEX('Fichier E-Formation'!DP:DP,MATCH('Tab Habilitation'!B4&"ADNRDCBT",'Fichier E-Formation'!DM:DM&'Fichier E-Formation'!DO:DO,0)),"")} | AJ4: {=IFERROR(INDEX('Fichier E-Formation'!DP:DP,MATCH('Tab Habilitation'!B4&"ADNTIP02B",'Fichier E-Formation'!DM:DM&'Fichier E-Formation'!DO:DO,0)),"")} | AK4: {=IFERROR(INDEX('Fichier E-Formation'!DP:DP,MATCH('Tab Habilitation'!B4&"ADNTIP00B",'Fichier E-Formation'!DM:DM&'Fichier E-Formation'!DO:DO,0)),"")} | AL4: {=IFERROR(INDEX('Fichier E-Formation'!DP:DP,MATCH('Tab Habilitation'!B4&"ADNTIP02AI",'Fichier E-Formation'!DM:DM&'Fichier E-Formation'!DO:DO,0)),"")} | AM4: {=IFERROR(INDEX('Fichier E-Formation'!DP:DP,MATCH('Tab Habilitation'!B4&"ADNT001",'Fichier E-Formation'!DM:DM&'Fichier E-Formation'!DO:DO,0)),"")} | AO4: {=IFERROR(INDEX('Fichier E-Formation'!DP:DP,MATCH('Tab Habilitation'!B4&"ADNT002",'Fichier E-Formation'!DM:DM&'Fichier E-Formation'!DO:DO,0)),"")} | AQ4: {=IFERROR(INDEX('Fichier E-Formation'!DP:DP,MATCH('Tab Habilitation'!B4&"ADNT003",'Fichier E-Formation'!DM:DM&'Fichier E-Formation'!DO:DO,0)),"")} | AS4: {=IFERROR(INDEX('Fichier E-Formation'!DP:DP,MATCH('Tab Habilitation'!B4&"ADNT004",'Fichier E-Formation'!DM:DM&'Fichier E-Formation'!DO:DO,0)),"")} -> 42894 | AU4: {=IFERROR(INDEX('Fichier E-Formation'!DP:DP,MATCH('Tab Habilitation'!B4&"AERDFFPEMPI",'Fichier E-Formation'!DM:DM&'Fichier E-Formation'!DO:DO,0)),"")} | AV4: {=IFERROR(INDEX('Fichier E-Formation'!DP:DP,MATCH('Tab Habilitation'!B4&"AERDFPEMPR",'Fichier E-Formation'!DM:DM&'Fichier E-Formation'!DO:DO,0)),"")} -> 42992 | AX4: {=IFERROR(INDEX('Fichier E-Formation'!DP:DP,MATCH('Tab Habilitation'!B4&"AERDFGRUA1",'Fichier E-Formation'!DM:DM&'Fichier E-Formation'!DO:DO,0)),"")} | AY4: {=IFERROR(INDEX('Fichier E-Formation'!DP:DP,MATCH('Tab Habilitation'!B4&"AERDFGRUR1",'Fichier E-Formation'!DM:DM&'Fichier E-Formation'!DO:DO,0)),"")} -> 43125 | BA4: {=IFERROR(INDEX('Fichier E-Formation'!DP:DP,MATCH('Tab Habilitation'!B4&"AEMEDP0001",'Fichier E-Formation'!DM:DM&'Fichier E-Formation'!DO:DO,0)),"")} | BC4: {=IFERROR(INDEX('Fichier E-Formation'!DP:DP,MATCH('Tab Habilitation'!B4&"AEMEDEP015",'Fichier E-Formation'!DM:DM&'Fichier E-Formation'!DO:DO,0)),"")} | BF4: {=IFERROR(INDEX('Fichier E-Formation'!DP:DP,MATCH('Tab Habilitation'!B4&"ADN2993",'Fichier E-Formation'!DM:DM&'Fichier E-Formation'!DO:DO,0)),"")} | BG4: {=IFERROR(INDEX('Fichier E-Formation'!DP:DP,MATCH('Tab Habilitation'!B4&"ADN2995",'Fichier E-Formation'!DM:DM&'Fichier E-Formation'!DO:DO,0)),"")} | BI4: {=IFERROR(INDEX('Fichier E-Formation'!DP:DP,MATCH('Tab Habilitation'!B4&"ADN2994",'Fichier E-Formation'!DM:DM&'Fichier E-Formation'!DO:DO,0)),"")} | BJ4: {=IFERROR(INDEX('Fichier E-Formation'!DP:DP,MATCH('Tab Habilitation'!B4&"ADN2996",'Fichier E-Formation'!DM:DM&'Fichier E-Formation'!DO:DO,0)),"")} | BL4: {=IFERROR(INDEX('Fichier E-Formation'!DP:DP,MATCH('Tab Habilitation'!B4&"AERDFFT941B",'Fichier E-Formation'!DM:DM&'Fichier E-Formation'!DO:DO,0)),"")} | BN4: {=IFERROR(INDEX('Fichier E-Formation'!DP:DP,MATCH('Tab Habilitation'!B4&"ACDLY08",'Fichier E-Formation'!DM:DM&'Fichier E-Formation'!DO:DO,0)),"")} | BO4: {=IFERROR(INDEX('Fichier E-Formation'!DP:DP,MATCH('Tab Habilitation'!B4&"ACDLY13",'Fichier E-Formation'!DM:DM&'Fichier E-Formation'!DO:DO,0)),"")} | BP4: {=IFERROR(INDEX('Fichier E-Formation'!DP:DP,MATCH('Tab Habilitation'!B4&"ACDCK007",'Fichier E-Formation'!DM:DM&'Fichier E-Formation'!DO:DO,0)),"")} | BQ4: {=IFERROR(INDEX('Fichier E-Formation'!DP:DP,MATCH('Tab Habilitation'!B4&"ACDLY1",'Fichier E-Formation'!DM:DM&'Fichier E-Formation'!DO:DO,0)),"")} | BR4: {=IFERROR(INDEX('Fichier E-Formation'!DP:DP,MATCH('Tab Habilitation'!B4&"AAMEDLINK1",'Fichier E-Formation'!DM:DM&'Fichier E-Formation'!DO:DO,0)),"")} | BS4: {=IFERROR(INDEX('Fichier E-Formation'!DP:DP,MATCH('Tab Habilitation'!B4&"ACDTIPINTV",'Fichier E-Formation'!DM:DM&'Fichier E-Formation'!DO:DO,0)),"")} | BT4: {=IFERROR(INDEX('Fichier E-Formation'!DP:DP,MATCH('Tab Habilitation'!B4&"AAMEDFADTC",'Fichier E-Formation'!DM:DM&'Fichier E-Formation'!DO:DO,0)),"")} | BU4: {=IFERROR(INDEX('Fichier E-Formation'!DP:DP,MATCH('Tab Habilitation'!B4&"AEDRVA",'Fichier E-Formation'!DM:DM&'Fichier E-Formation'!DO:DO,0)),"")} | BV4: {=IFERROR(INDEX('Fichier E-Formation'!DP:DP,MATCH('Tab Habilitation'!B4&"AEDRVAR",'Fichier E-Formation'!DM:DM&'Fichier E-Formation'!DO:DO,0)),"")} | BW4: {=IFERROR(INDEX('Fichier E-Formation'!DP:DP,MATCH('Tab Habilitation'!B4&"ADN8064",'Fichier E-Formation'!DM:DM&'Fichier E-Formation'!DO:DO,0)),"")} | BX4: {=IFERROR(INDEX('Fichier E-Formation'!DP:DP,MATCH('Tab Habilitation'!B4&"AERDFT934",'Fichier E-Formation'!DM:DM&'Fichier E-Formation'!DO:DO,0)),"")}
A5: TOULON | B5: A2 | E5: TIR | H5: {=IFERROR(INDEX('Fichier E-Formation'!DP:DP,MATCH('Tab Habilitation'!B5&"AAMEDS0001",'Fichier E-Formation'!DM:DM&'Fichier E-Formation'!DO:DO,0)),"")} | I5: {=IFERROR(INDEX('Fichier E-Formation'!DP:DP,MATCH('Tab Habilitation'!B5&"AAMEDS0002",'Fichier E-Formation'!DM:DM&'Fichier E-Formation'!DO:DO,0)),"")} | J5: {=IFERROR(INDEX('Fichier E-Formation'!DP:DP,MATCH('Tab Habilitation'!B5&"AERDFT907",'Fichier E-Formation'!DM:DM&'Fichier E-Formation'!DO:DO,0)),"")} | K5: {=IFERROR(INDEX('Fichier E-Formation'!DP:DP,MATCH('Tab Habilitation'!B5&"ADNTINO",'Fichier E-Formation'!DM:DM&'Fichier E-Formation'!DO:DO,0)),"")} | L5: {=IFERROR(INDEX('Fichier E-Formation'!DP:DP,MATCH('Tab Habilitation'!B5&"AAMEDT908",'Fichier E-Formation'!DM:DM&'Fichier E-Formation'!DO:DO,0)),"")} | M5: {=IFERROR(INDEX('Fichier E-Formation'!DP:DP,MATCH('Tab Habilitation'!B5&"ADNTSTBATI",'Fichier E-Formation'!DM:DM&'Fichier E-Formation'!DO:DO,0)),"")} | O5: {=IFERROR(INDEX('Fichier E-Formation'!DP:DP,MATCH('Tab Habilitation'!B5&"ADNTSTEME",'Fichier E-Formation'!DM:DM&'Fichier E-Formation'!DO:DO,0)),"")} | Q5: {=IFERROR(INDEX('Fichier E-Formation'!DP:DP,MATCH('Tab Habilitation'!B5&"ADNTSTRTI",'Fichier E-Formation'!DM:DM&'Fichier E-Formation'!DO:DO,0)),"")} | S5: {=IFERROR(INDEX('Fichier E-Formation'!DP:DP,MATCH('Tab Habilitation'!B5&"ADNTSTTRIC",'Fichier E-Formation'!DM:DM&'Fichier E-Formation'!DO:DO,0)),"")} | U5: {=IFERROR(INDEX('Fichier E-Formation'!DP:DP,MATCH('Tab Habilitation'!B5&"ADNTSTSOU",'Fichier E-Formation'!DM:DM&'Fichier E-Formation'!DO:DO,0)),"")} | W5: {=IFERROR(INDEX('Fichier E-Formation'!DP:DP,MATCH('Tab Habilitation'!B5&"ADNTSTBRT",'Fichier E-Formation'!DM:DM&'Fichier E-Formation'!DO:DO,0)),"")} | Y5: {=IFERROR(INDEX('Fichier E-Formation'!DP:DP,MATCH('Tab Habilitation'!B5&"ADNTSTAER",'Fichier E-Formation'!DM:DM&'Fichier E-Formation'!DO:DO,0)),"")} | AA5: {=IFERROR(INDEX('Fichier E-Formation'!DP:DP,MATCH('Tab Habilitation'!B5&"ADNTSTCIS",'Fichier E-Formation'!DM:DM&'Fichier E-Formation'!DO:DO,0)),"")} | AC5: {=IFERROR(INDEX('Fichier E-Formation'!DP:DP,MATCH('Tab Habilitation'!B5&"ADNTSTRAET",'Fichier E-Formation'!DM:DM&'Fichier E-Formation'!DO:DO,0)),"")} | AE5: {=IFERROR(INDEX('Fichier E-Formation'!DP:DP,MATCH('Tab Habilitation'!B5&"ADNTSTRTOT",'Fichier E-Formation'!DM:DM&'Fichier E-Formation'!DO:DO,0)),"")} | AG5: {=IFERROR(INDEX('Fichier E-Formation'!DP:DP,MATCH('Tab Habilitation'!B5&"ADNTSTCCFC",'Fichier E-Formation'!DM:DM&'Fichier E-Formation'!DO:DO,0)),"")} | AI5: {=IFERROR(INDEX('Fichier E-Formation'!DP:DP,MATCH('Tab Habilitation'!B5&"ADNRDCBT",'Fichier E-Formation'!DM:DM&'Fichier E-Formation'!DO:DO,0)),"")} | AJ5: {=IFERROR(INDEX('Fichier E-Formation'!DP:DP,MATCH('Tab Habilitation'!B5&"ADNTIP02B",'Fichier E-Formation'!DM:DM&'Fichier E-Formation'!DO:DO,0)),"")} | AK5: {=IFERROR(INDEX('Fichier E-Formation'!DP:DP,MATCH('Tab Habilitation'!B5&"ADNTIP00B",'Fichier E-Formation'!DM:DM&'Fichier E-Formation'!DO:DO,0)),"")} | AL5: {=IFERROR(INDEX('Fichier E-Formation'!DP:DP,MATCH('Tab Habilitation'!B5&"ADNTIP02AI",'Fichier E-Formation'!DM:DM&'Fichier E-Formation'!DO:DO,0)),"")} | AM5: {=IFERROR(INDEX('Fichier E-Formation'!DP:DP,MATCH('Tab Habilitation'!B5&"ADNT001",'Fichier E-Formation'!DM:DM&'Fichier E-Formation'!DO:DO,0)),"")} | AO5: {=IFERROR(INDEX('Fichier E-Formation'!DP:DP,MATCH('Tab Habilitation'!B5&"ADNT002",'Fichier E-Formation'!DM:DM&'Fichier E-Formation'!DO:DO,0)),"")} | AQ5: {=IFERROR(INDEX('Fichier E-Formation'!DP:DP,MATCH('Tab Habilitation'!B5&"ADNT003",'Fichier E-Formation'!DM:DM&'Fichier E-Formation'!DO:DO,0)),"")} | AS5: {=IFERROR(INDEX('Fichier E-Formation'!DP:DP,MATCH('Tab Habilitation'!B5&"ADNT004",'Fichier E-Formation'!DM:DM&'Fichier E-Formation'!DO:DO,0)),"")} | AU5: {=IFERROR(INDEX('Fichier E-Formation'!DP:DP,MATCH('Tab Habilitation'!B5&"AERDFFPEMPI",'Fichier E-Formation'!DM:DM&'Fichier E-Formation'!DO:DO,0)),"")} | AV5: {=IFERROR(INDEX('Fichier E-Formation'!DP:DP,MATCH('Tab Habilitation'!B5&"AERDFPEMPR",'Fichier E-Formation'!DM:DM&'Fichier E-Formation'!DO:DO,0)),"")} | AX5: {=IFERROR(INDEX('Fichier E-Formation'!DP:DP,MATCH('Tab Habilitation'!B5&"AERDFGRUA1",'Fichier E-Formation'!DM:DM&'Fichier E-Formation'!DO:DO,0)),"")} | AY5: {=IFERROR(INDEX('Fichier E-Formation'!DP:DP,MATCH('Tab Habilitation'!B5&"AERDFGRUR1",'Fichier E-Formation'!DM:DM&'Fichier E-Formation'!DO:DO,0)),"")} | BA5: {=IFERROR(INDEX('Fichier E-Formation'!DP:DP,MATCH('Tab Habilitation'!B5&"AEMEDP0001",'Fichier E-Formation'!DM:DM&'Fichier E-Formation'!DO:DO,0)),"")} | BC5: {=IFERROR(INDEX('Fichier E-Formation'!DP:DP,MATCH('Tab Habilitation'!B5&"AEMEDEP015",'Fichier E-Formation'!DM:DM&'Fichier E-Formation'!DO:DO,0)),"")} | BF5: {=IFERROR(INDEX('Fichier E-Formation'!DP:DP,MATCH('Tab Habilitation'!B5&"ADN2993",'Fichier E-Formation'!DM:DM&'Fichier E-Formation'!DO:DO,0)),"")} | BG5: {=IFERROR(INDEX('Fichier E-Formation'!DP:DP,MATCH('Tab Habilitation'!B5&"ADN2995",'Fichier E-Formation'!DM:DM&'Fichier E-Formation'!DO:DO,0)),"")} | BI5: {=IFERROR(INDEX('Fichier E-Formation'!DP:DP,MATCH('Tab Habilitation'!B5&"ADN2994",'Fichier E-Formation'!DM:DM&'Fichier E-Formation'!DO:DO,0)),"")} | BJ5: {=IFERROR(INDEX('Fichier E-Formation'!DP:DP,MATCH('Tab Habilitation'!B5&"ADN2996",'Fichier E-Formation'!DM:DM&'Fichier E-Formation'!DO:DO,0)),"")} | BL5: {=IFERROR(INDEX('Fichier E-Formation'!DP:DP,MATCH('Tab Habilitation'!B5&"AERDFFT941B",'Fichier E-Formation'!DM:DM&'Fichier E-Formation'!DO:DO,0)),"")} | BN5: {=IFERROR(INDEX('Fichier E-Formation'!DP:DP,MATCH('Tab Habilitation'!B5&"ACDLY08",'Fichier E-Formation'!DM:DM&'Fichier E-Formation'!DO:DO,0)),"")} | BO5: {=IFERROR(INDEX('Fichier E-Formation'!DP:DP,MATCH('Tab Habilitation'!B5&"ACDLY13",'Fichier E-Formation'!DM:DM&'Fichier E-Formation'!DO:DO,0)),"")} | BP5: {=IFERROR(INDEX('Fichier E-Formation'!DP:DP,MATCH('Tab Habilitation'!B5&"ACDCK007",'Fichier E-Formation'!DM:DM&'Fichier E-Formation'!DO:DO,0)),"")} | BQ5: {=IFERROR(INDEX('Fichier E-Formation'!DP:DP,MATCH('Tab Habilitation'!B5&"ACDLY1",'Fichier E-Formation'!DM:DM&'Fichier E-Formation'!DO:DO,0)),"")} | BR5: {=IFERROR(INDEX('Fichier E-Formation'!DP:DP,MATCH('Tab Habilitation'!B5&"AAMEDLINK1",'Fichier E-Formation'!DM:DM&'Fichier E-Formation'!DO:DO,0)),"")} | BS5: {=IFERROR(INDEX('Fichier E-Formation'!DP:DP,MATCH('Tab Habilitation'!B5&"ACDTIPINTV",'Fichier E-Formation'!DM:DM&'Fichier E-Formation'!DO:DO,0)),"")} | BT5: {=IFERROR(INDEX('Fichier E-Formation'!DP:DP,MATCH('Tab Habilitation'!B5&"AAMEDFADTC",'Fichier E-Formation'!DM:DM&'Fichier E-Formation'!DO:DO,0)),"")} | BU5: {=IFERROR(INDEX('Fichier E-Formation'!DP:DP,MATCH('Tab Habilitation'!B5&"AEDRVA",'Fichier E-Formation'!DM:DM&'Fichier E-Formation'!DO:DO,0)),"")} | BV5: {=IFERROR(INDEX('Fichier E-Formation'!DP:DP,MATCH('Tab Habilitation'!B5&"AEDRVAR",'Fichier E-Formation'!DM:DM&'Fichier E-Formation'!DO:DO,0)),"")} | BW5: {=IFERROR(INDEX('Fichier E-Formation'!DP:DP,MATCH('Tab Habilitation'!B5&"ADN8064",'Fichier E-Formation'!DM:DM&'Fichier E-Formation'!DO:DO,0)),"")} | BX5: {=IFERROR(INDEX('Fichier E-Formation'!DP:DP,MATCH('Tab Habilitation'!B5&"AERDFT934",'Fichier E-Formation'!DM:DM&'Fichier E-Formation'!DO:DO,0)),"")}
A6: TOULON | B6: A3 | E6: TIP | H6: {=IFERROR(INDEX('Fichier E-Formation'!DP:DP,MATCH('Tab Habilitation'!B6&"AAMEDS0001",'Fichier E-Formation'!DM:DM&'Fichier E-Formation'!DO:DO,0)),"")} | I6: {=IFERROR(INDEX('Fichier E-Formation'!DP:DP,MATCH('Tab Habilitation'!B6&"AAMEDS0002",'Fichier E-Formation'!DM:DM&'Fichier E-Formation'!DO:DO,0)),"")} -> 42626 | J6: {=IFERROR(INDEX('Fichier E-Formation'!DP:DP,MATCH('Tab Habilitation'!B6&"AERDFT907",'Fichier E-Formation'!DM:DM&'Fichier E-Formation'!DO:DO,0)),"")} | K6: {=IFERROR(INDEX('Fichier E-Formation'!DP:DP,MATCH('Tab Habilitation'!B6&"ADNTINO",'Fichier E-Formation'!DM:DM&'Fichier E-Formation'!DO:DO,0)),"")} | L6: {=IFERROR(INDEX('Fichier E-Formation'!DP:DP,MATCH('Tab Habilitation'!B6&"AAMEDT908",'Fichier E-Formation'!DM:DM&'Fichier E-Formation'!DO:DO,0)),"")} | M6: {=IFERROR(INDEX('Fichier E-Formation'!DP:DP,MATCH('Tab Habilitation'!B6&"ADNTSTBATI",'Fichier E-Formation'!DM:DM&'Fichier E-Formation'!DO:DO,0)),"")} | O6: {=IFERROR(INDEX('Fichier E-Formation'!DP:DP,MATCH('Tab Habilitation'!B6&"ADNTSTEME",'Fichier E-Formation'!DM:DM&'Fichier E-Formation'!DO:DO,0)),"")} | Q6: {=IFERROR(INDEX('Fichier E-Formation'!DP:DP,MATCH('Tab Habilitation'!B6&"ADNTSTRTI",'Fichier E-Formation'!DM:DM&'Fichier E-Formation'!DO:DO,0)),"")} | S6: {=IFERROR(INDEX('Fichier E-Formation'!DP:DP,MATCH('Tab Habilitation'!B6&"ADNTSTTRIC",'Fichier E-Formation'!DM:DM&'Fichier E-Formation'!DO:DO,0)),"")} | U6: {=IFERROR(INDEX('Fichier E-Formation'!DP:DP,MATCH('Tab Habilitation'!B6&"ADNTSTSOU",'Fichier E-Formation'!DM:DM&'Fichier E-Formation'!DO:DO,0)),"")} | W6: {=IFERROR(INDEX('Fichier E-Formation'!DP:DP,MATCH('Tab Habilitation'!B6&"ADNTSTBRT",'Fichier E-Formation'!DM:DM&'Fichier E-Formation'!DO:DO,0)),"")} | Y6: {=IFERROR(INDEX('Fichier E-Formation'!DP:DP,MATCH('Tab Habilitation'!B6&"ADNTSTAER",'Fichier E-Formation'!DM:DM&'Fichier E-Formation'!DO:DO,0)),"")} | AA6: {=IFERROR(INDEX('Fichier E-Formation'!DP:DP,MATCH('Tab Habilitation'!B6&"ADNTSTCIS",'Fichier E-Formation'!DM:DM&'Fichier E-Formation'!DO:DO,0)),"")} | AC6: {=IFERROR(INDEX('Fichier E-Formation'!DP:DP,MATCH('Tab Habilitation'!B6&"ADNTSTRAET",'Fichier E-Formation'!DM:DM&'Fichier E-Formation'!DO:DO,0)),"")} | AE6: {=IFERROR(INDEX('Fichier E-Formation'!DP:DP,MATCH('Tab Habilitation'!B6&"ADNTSTRTOT",'Fichier E-Formation'!DM:DM&'Fichier E-Formation'!DO:DO,0)),"")} | AG6: {=IFERROR(INDEX('Fichier E-Formation'!DP:DP,MATCH('Tab Habilitation'!B6&"ADNTSTCCFC",'Fichier E-Formation'!DM:DM&'Fichier E-Formation'!DO:DO,0)),"")} | AI6: {=IFERROR(INDEX('Fichier E-Formation'!DP:DP,MATCH('Tab Habilitation'!B6&"ADNRDCBT",'Fichier E-Formation'!DM:DM&'Fichier E-Formation'!DO:DO,0)),"")} | AJ6: {=IFERROR(INDEX('Fichier E-Formation'!DP:DP,MATCH('Tab Habilitation'!B6&"ADNTIP02B",'Fichier E-Formation'!DM:DM&'Fichier E-Formation'!DO:DO,0)),"")} | AK6: {=IFERROR(INDEX('Fichier E-Formation'!DP:DP,MATCH('Tab Habilitation'!B6&"ADNTIP00B",'Fichier E-Formation'!DM:DM&'Fichier E-Formation'!DO:DO,0)),"")} | AL6: {=IFERROR(INDEX('Fichier E-Formation'!DP:DP,MATCH('Tab Habilitation'!B6&"ADNTIP02AI",'Fichier E-Formation'!DM:DM&'Fichier E-Formation'!DO:DO,0)),"")} | AM6: {=IFERROR(INDEX('Fichier E-Formation'!DP:DP,MATCH('Tab Habilitation'!B6&"ADNT001",'Fichier E-Formation'!DM:DM&'Fichier E-Formation'!DO:DO,0)),"")} | AO6: {=IFERROR(INDEX('Fichier E-Formation'!DP:DP,MATCH('Tab Habilitation'!B6&"ADNT002",'Fichier E-Formation'!DM:DM&'Fichier E-Formation'!DO:DO,0)),"")} | AQ6: {=IFERROR(INDEX('Fichier E-Formation'!DP:DP,MATCH('Tab Habilitation'!B6&"ADNT003",'Fichier E-Formation'!DM:DM&'Fichier E-Formation'!DO:DO,0)),"")} | AS6: {=IFERROR(INDEX('Fichier E-Formation'!DP:DP,MATCH('Tab Habilitation'!B6&"ADNT004",'Fichier E-Formation'!DM:DM&'Fichier E-Formation'!DO:DO,0)),"")} | AU6: {=IFERROR(INDEX('Fichier E-Formation'!DP:DP,MATCH('Tab Habilitation'!B6&"AERDFFPEMPI",'Fichier E-Formation'!DM:DM&'Fichier E-Formation'!DO:DO,0)),"")} | AV6: {=IFERROR(INDEX('Fichier E-Formation'!DP:DP,MATCH('Tab Habilitation'!B6&"AERDFPEMPR",'Fichier E-Formation'!DM:DM&'Fichier E-Formation'!DO:DO,0)),"")} | AX6: {=IFERROR(INDEX('Fichier E-Formation'!DP:DP,MATCH('Tab Habilitation'!B6&"AERDFGRUA1",'Fichier E-Formation'!DM:DM&'Fichier E-Formation'!DO:DO,0)),"")} | AY6: {=IFERROR(INDEX('Fichier E-Formation'!DP:DP,MATCH('Tab Habilitation'!B6&"AERDFGRUR1",'Fichier E-Formation'!DM:DM&'Fichier E-Formation'!DO:DO,0)),"")} | BA6: {=IFERROR(INDEX('Fichier E-Formation'!DP:DP,MATCH('Tab Habilitation'!B6&"AEMEDP0001",'Fichier E-Formation'!DM:DM&'Fichier E-Formation'!DO:DO,0)),"")} | BC6: {=IFERROR(INDEX('Fichier E-Formation'!DP:DP,MATCH('Tab Habilitation'!B6&"AEMEDEP015",'Fichier E-Formation'!DM:DM&'Fichier E-Formation'!DO:DO,0)),"")} | BF6: {=IFERROR(INDEX('Fichier E-Formation'!DP:DP,MATCH('Tab Habilitation'!B6&"ADN2993",'Fichier E-Formation'!DM:DM&'Fichier E-Formation'!DO:DO,0)),"")} | BG6: {=IFERROR(INDEX('Fichier E-Formation'!DP:DP,MATCH('Tab Habilitation'!B6&"ADN2995",'Fichier E-Formation'!DM:DM&'Fichier E-Formation'!DO:DO,0)),"")} | BI6: {=IFERROR(INDEX('Fichier E-Formation'!DP:DP,MATCH('Tab Habilitation'!B6&"ADN2994",'Fichier E-Formation'!DM:DM&'Fichier E-Formation'!DO:DO,0)),"")} | BJ6: {=IFERROR(INDEX('Fichier E-Formation'!DP:DP,MATCH('Tab Habilitation'!B6&"ADN2996",'Fichier E-Formation'!DM:DM&'Fichier E-Formation'!DO:DO,0)),"")} | BL6: {=IFERROR(INDEX('Fichier E-Formation'!DP:DP,MATCH('Tab Habilitation'!B6&"AERDFFT941B",'Fichier E-Formation'!DM:DM&'Fichier E-Formation'!DO:DO,0)),"")} | BN6: {=IFERROR(INDEX('Fichier E-Formation'!DP:DP,MATCH('Tab Habilitation'!B6&"ACDLY08",'Fichier E-Formation'!DM:DM&'Fichier E-Formation'!DO:DO,0)),"")} | BO6: {=IFERROR(INDEX('Fichier E-Formation'!DP:DP,MATCH('Tab Habilitation'!B6&"ACDLY13",'Fichier E-Formation'!DM:DM&'Fichier E-Formation'!DO:DO,0)),"")} | BP6: {=IFERROR(INDEX('Fichier E-Formation'!DP:DP,MATCH('Tab Habilitation'!B6&"ACDCK007",'Fichier E-Formation'!DM:DM&'Fichier E-Formation'!DO:DO,0)),"")} | BQ6: {=IFERROR(INDEX('Fichier E-Formation'!DP:DP,MATCH('Tab Habilitation'!B6&"ACDLY1",'Fichier E-Formation'!DM:DM&'Fichier E-Formation'!DO:DO,0)),"")} | BR6: {=IFERROR(INDEX('Fichier E-Formation'!DP:DP,MATCH('Tab Habilitation'!B6&"AAMEDLINK1",'Fichier E-Formation'!DM:DM&'Fichier E-Formation'!DO:DO,0)),"")} | BS6: {=IFERROR(INDEX('Fichier E-Formation'!DP:DP,MATCH('Tab Habilitation'!B6&"ACDTIPINTV",'Fichier E-Formation'!DM:DM&'Fichier E-Formation'!DO:DO,0)),"")} | BT6: {=IFERROR(INDEX('Fichier E-Formation'!DP:DP,MATCH('Tab Habilitation'!B6&"AAMEDFADTC",'Fichier E-Formation'!DM:DM&'Fichier E-Formation'!DO:DO,0)),"")} | BU6: {=IFERROR(INDEX('Fichier E-Formation'!DP:DP,MATCH('Tab Habilitation'!B6&"AEDRVA",'Fichier E-Formation'!DM:DM&'Fichier E-Formation'!DO:DO,0)),"")} | BV6: {=IFERROR(INDEX('Fichier E-Formation'!DP:DP,MATCH('Tab Habilitation'!B6&"AEDRVAR",'Fichier E-Formation'!DM:DM&'Fichier E-Formation'!DO:DO,0)),"")} | BW6: {=IFERROR(INDEX('Fichier E-Formation'!DP:DP,MATCH('Tab Habilitation'!B6&"ADN8064",'Fichier E-Formation'!DM:DM&'Fichier E-Formation'!DO:DO,0)),"")} | BX6: {=IFERROR(INDEX('Fichier E-Formation'!DP:DP,MATCH('Tab Habilitation'!B6&"AERDFT934",'Fichier E-Formation'!DM:DM&'Fichier E-Formation'!DO:DO,0)),"")}
A7: TOULON | B7: A4 | E7: TE | H7: {=IFERROR(INDEX('Fichier E-Formation'!DP:DP,MATCH('Tab Habilitation'!B7&"AAMEDS0001",'Fichier E-Formation'!DM:DM&'Fichier E-Formation'!DO:DO,0)),"")} | I7: {=IFERROR(INDEX('Fichier E-Formation'!DP:DP,MATCH('Tab Habilitation'!B7&"AAMEDS0002",'Fichier E-Formation'!DM:DM&'Fichier E-Formation'!DO:DO,0)),"")} | J7: {=IFERROR(INDEX('Fichier E-Formation'!DP:DP,MATCH('Tab Habilitation'!B7&"AERDFT907",'Fichier E-Formation'!DM:DM&'Fichier E-Formation'!DO:DO,0)),"")} | K7: {=IFERROR(INDEX('Fichier E-Formation'!DP:DP,MATCH('Tab Habilitation'!B7&"ADNTINO",'Fichier E-Formation'!DM:DM&'Fichier E-Formation'!DO:DO,0)),"")} | L7: {=IFERROR(INDEX('Fichier E-Formation'!DP:DP,MATCH('Tab Habilitation'!B7&"AAMEDT908",'Fichier E-Formation'!DM:DM&'Fichier E-Formation'!DO:DO,0)),"")} | M7: {=IFERROR(INDEX('Fichier E-Formation'!DP:DP,MATCH('Tab Habilitation'!B7&"ADNTSTBATI",'Fichier E-Formation'!DM:DM&'Fichier E-Formation'!DO:DO,0)),"")} | O7: {=IFERROR(INDEX('Fichier E-Formation'!DP:DP,MATCH('Tab Habilitation'!B7&"ADNTSTEME",'Fichier E-Formation'!DM:DM&'Fichier E-Formation'!DO:DO,0)),"")} | Q7: {=IFERROR(INDEX('Fichier E-Formation'!DP:DP,MATCH('Tab Habilitation'!B7&"ADNTSTRTI",'Fichier E-Formation'!DM:DM&'Fichier E-Formation'!DO:DO,0)),"")} | S7: {=IFERROR(INDEX('Fichier E-Formation'!DP:DP,MATCH('Tab Habilitation'!B7&"ADNTSTTRIC",'Fichier E-Formation'!DM:DM&'Fichier E-Formation'!DO:DO,0)),"")} | U7: {=IFERROR(INDEX('Fichier E-Formation'!DP:DP,MATCH('Tab Habilitation'!B7&"ADNTSTSOU",'Fichier E-Formation'!DM:DM&'Fichier E-Formation'!DO:DO,0)),"")} | W7: {=IFERROR(INDEX('Fichier E-Formation'!DP:DP,MATCH('Tab Habilitation'!B7&"ADNTSTBRT",'Fichier E-Formation'!DM:DM&'Fichier E-Formation'!DO:DO,0)),"")} | Y7: {=IFERROR(INDEX('Fichier E-Formation'!DP:DP,MATCH('Tab Habilitation'!B7&"ADNTSTAER",'Fichier E-Formation'!DM:DM&'Fichier E-Formation'!DO:DO,0)),"")} | AA7: {=IFERROR(INDEX('Fichier E-Formation'!DP:DP,MATCH('Tab Habilitation'!B7&"ADNTSTCIS",'Fichier E-Formation'!DM:DM&'Fichier E-Formation'!DO:DO,0)),"")} | AC7: {=IFERROR(INDEX('Fichier E-Formation'!DP:DP,MATCH('Tab Habilitation'!B7&"ADNTSTRAET",'Fichier E-Formation'!DM:DM&'Fichier E-Formation'!DO:DO,0)),"")} | AE7: {=IFERROR(INDEX('Fichier E-Formation'!DP:DP,MATCH('Tab Habilitation'!B7&"ADNTSTRTOT",'Fichier E-Formation'!DM:DM&'Fichier E-Formation'!DO:DO,0)),"")} | AG7: {=IFERROR(INDEX('Fichier E-Formation'!DP:DP,MATCH('Tab Habilitation'!B7&"ADNTSTCCFC",'Fichier E-Formation'!DM:DM&'Fichier E-Formation'!DO:DO,0)),"")} | AI7: {=IFERROR(INDEX('Fichier E-Formation'!DP:DP,MATCH('Tab Habilitation'!B7&"ADNRDCBT",'Fichier E-Formation'!DM:DM&'Fichier E-Formation'!DO:DO,0)),"")} | AJ7: {=IFERROR(INDEX('Fichier E-Formation'!DP:DP,MATCH('Tab Habilitation'!B7&"ADNTIP02B",'Fichier E-Formation'!DM:DM&'Fichier E-Formation'!DO:DO,0)),"")} | AK7: {=IFERROR(INDEX('Fichier E-Formation'!DP:DP,MATCH('Tab Habilitation'!B7&"ADNTIP00B",'Fichier E-Formation'!DM:DM&'Fichier E-Formation'!DO:DO,0)),"")} | AL7: {=IFERROR(INDEX('Fichier E-Formation'!DP:DP,MATCH('Tab Habilitation'!B7&"ADNTIP02AI",'Fichier E-Formation'!DM:DM&'Fichier E-Formation'!DO:DO,0)),"")} | AM7: {=IFERROR(INDEX('Fichier E-Formation'!DP:DP,MATCH('Tab Habilitation'!B7&"ADNT001",'Fichier E-Formation'!DM:DM&'Fichier E-Formation'!DO:DO,0)),"")} | AO7: {=IFERROR(INDEX('Fichier E-Formation'!DP:DP,MATCH('Tab Habilitation'!B7&"ADNT002",'Fichier E-Formation'!DM:DM&'Fichier E-Formation'!DO:DO,0)),"")} -> 42550 | AQ7: {=IFERROR(INDEX('Fichier E-Formation'!DP:DP,MATCH('Tab Habilitation'!B7&"ADNT003",'Fichier E-Formation'!DM:DM&'Fichier E-Formation'!DO:DO,0)),"")} | AS7: {=IFERROR(INDEX('Fichier E-Formation'!DP:DP,MATCH('Tab Habilitation'!B7&"ADNT004",'Fichier E-Formation'!DM:DM&'Fichier E-Formation'!DO:DO,0)),"")} | AU7: {=IFERROR(INDEX('Fichier E-Formation'!DP:DP,MATCH('Tab Habilitation'!B7&"AERDFFPEMPI",'Fichier E-Formation'!DM:DM&'Fichier E-Formation'!DO:DO,0)),"")} | AV7: {=IFERROR(INDEX('Fichier E-Formation'!DP:DP,MATCH('Tab Habilitation'!B7&"AERDFPEMPR",'Fichier E-Formation'!DM:DM&'Fichier E-Formation'!DO:DO,0)),"")} | AX7: {=IFERROR(INDEX('Fichier E-Formation'!DP:DP,MATCH('Tab Habilitation'!B7&"AERDFGRUA1",'Fichier E-Formation'!DM:DM&'Fichier E-Formation'!DO:DO,0)),"")} | AY7: {=IFERROR(INDEX('Fichier E-Formation'!DP:DP,MATCH('Tab Habilitation'!B7&"AERDFGRUR1",'Fichier E-Formation'!DM:DM&'Fichier E-Formation'!DO:DO,0)),"")} | BA7: {=IFERROR(INDEX('Fichier E-Formation'!DP:DP,MATCH('Tab Habilitation'!B7&"AEMEDP0001",'Fichier E-Formation'!DM:DM&'Fichier E-Formation'!DO:DO,0)),"")} | BC7: {=IFERROR(INDEX('Fichier E-Formation'!DP:DP,MATCH('Tab Habilitation'!B7&"AEMEDEP015",'Fichier E-Formation'!DM:DM&'Fichier E-Formation'!DO:DO,0)),"")} | BF7: {=IFERROR(INDEX('Fichier E-Formation'!DP:DP,MATCH('Tab Habilitation'!B7&"ADN2993",'Fichier E-Formation'!DM:DM&'Fichier E-Formation'!DO:DO,0)),"")} | BG7: {=IFERROR(INDEX('Fichier E-Formation'!DP:DP,MATCH('Tab Habilitation'!B7&"ADN2995",'Fichier E-Formation'!DM:DM&'Fichier E-Formation'!DO:DO,0)),"")} | BI7: {=IFERROR(INDEX('Fichier E-Formation'!DP:DP,MATCH('Tab Habilitation'!B7&"ADN2994",'Fichier E-Formation'!DM:DM&'Fichier E-Formation'!DO:DO,0)),"")} | BJ7: {=IFERROR(INDEX('Fichier E-Formation'!DP:DP,MATCH('Tab Habilitation'!B7&"ADN2996",'Fichier E-Formation'!DM:DM&'Fichier E-Formation'!DO:DO,0)),"")} | BL7: {=IFERROR(INDEX('Fichier E-Formation'!DP:DP,MATCH('Tab Habilitation'!B7&"AERDFFT941B",'Fichier E-Formation'!DM:DM&'Fichier E-Formation'!DO:DO,0)),"")} | BN7: {=IFERROR(INDEX('Fichier E-Formation'!DP:DP,MATCH('Tab Habilitation'!B7&"ACDLY08",'Fichier E-Formation'!DM:DM&'Fichier E-Formation'!DO:DO,0)),"")} | BO7: {=IFERROR(INDEX('Fichier E-Formation'!DP:DP,MATCH('Tab Habilitation'!B7&"ACDLY13",'Fichier E-Formation'!DM:DM&'Fichier E-Formation'!DO:DO,0)),"")} | BP7: {=IFERROR(INDEX('Fichier E-Formation'!DP:DP,MATCH('Tab Habilitation'!B7&"ACDCK007",'Fichier E-Formation'!DM:DM&'Fichier E-Formation'!DO:DO,0)),"")} | BQ7: {=IFERROR(INDEX('Fichier E-Formation'!DP:DP,MATCH('Tab Habilitation'!B7&"ACDLY1",'Fichier E-Formation'!DM:DM&'Fichier E-Formation'!DO:DO,0)),"")} | BR7: {=IFERROR(INDEX('Fichier E-Formation'!DP:DP,MATCH('Tab Habilitation'!B7&"AAMEDLINK1",'Fichier E-Formation'!DM:DM&'Fichier E-Formation'!DO:DO,0)),"")} | BS7: {=IFERROR(INDEX('Fichier E-Formation'!DP:DP,MATCH('Tab Habilitation'!B7&"ACDTIPINTV",'Fichier E-Formation'!DM:DM&'Fichier E-Formation'!DO:DO,0)),"")} | BT7: {=IFERROR(INDEX('Fichier E-Formation'!DP:DP,MATCH('Tab Habilitation'!B7&"AAMEDFADTC",'Fichier E-Formation'!DM:DM&'Fichier E-Formation'!DO:DO,0)),"")} | BU7: {=IFERROR(INDEX('Fichier E-Formation'!DP:DP,MATCH('Tab Habilitation'!B7&"AEDRVA",'Fichier E-Formation'!DM:DM&'Fichier E-Formation'!DO:DO,0)),"")} | BV7: {=IFERROR(INDEX('Fichier E-Formation'!DP:DP,MATCH('Tab Habilitation'!B7&"AEDRVAR",'Fichier E-Formation'!DM:DM&'Fichier E-Formation'!DO:DO,0)),"")} | BW7: {=IFERROR(INDEX('Fichier E-Formation'!DP:DP,MATCH('Tab Habilitation'!B7&"ADN8064",'Fichier E-Formation'!DM:DM&'Fichier E-Formation'!DO:DO,0)),"")} | BX7: {=IFERROR(INDEX('Fichier E-Formation'!DP:DP,MATCH('Tab Habilitation'!B7&"AERDFT934",'Fichier E-Formation'!DM:DM&'Fichier E-Formation'!DO:DO,0)),"")}
A8: TOULON | B8: A5 | E8: TIR | H8: {=IFERROR(INDEX('Fichier E-Formation'!DP:DP,MATCH('Tab Habilitation'!B8&"AAMEDS0001",'Fichier E-Formation'!DM:DM&'Fichier E-Formation'!DO:DO,0)),"")} | I8: {=IFERROR(INDEX('Fichier E-Formation'!DP:DP,MATCH('Tab Habilitation'!B8&"AAMEDS0002",'Fichier E-Formation'!DM:DM&'Fichier E-Formation'!DO:DO,0)),"")} | J8: {=IFERROR(INDEX('Fichier E-Formation'!DP:DP,MATCH('Tab Habilitation'!B8&"AERDFT907",'Fichier E-Formation'!DM:DM&'Fichier E-Formation'!DO:DO,0)),"")} | K8: {=IFERROR(INDEX('Fichier E-Formation'!DP:DP,MATCH('Tab Habilitation'!B8&"ADNTINO",'Fichier E-Formation'!DM:DM&'Fichier E-Formation'!DO:DO,0)),"")} | L8: {=IFERROR(INDEX('Fichier E-Formation'!DP:DP,MATCH('Tab Habilitation'!B8&"AAMEDT908",'Fichier E-Formation'!DM:DM&'Fichier E-Formation'!DO:DO,0)),"")} -> 42508 | M8: {=IFERROR(INDEX('Fichier E-Formation'!DP:DP,MATCH('Tab Habilitation'!B8&"ADNTSTBATI",'Fichier E-Formation'!DM:DM&'Fichier E-Formation'!DO:DO,0)),"")} | O8: {=IFERROR(INDEX('Fichier E-Formation'!DP:DP,MATCH('Tab Habilitation'!B8&"ADNTSTEME",'Fichier E-Formation'!DM:DM&'Fichier E-Formation'!DO:DO,0)),"")} | Q8: {=IFERROR(INDEX('Fichier E-Formation'!DP:DP,MATCH('Tab Habilitation'!B8&"ADNTSTRTI",'Fichier E-Formation'!DM:DM&'Fichier E-Formation'!DO:DO,0)),"")} | S8: {=IFERROR(INDEX('Fichier E-Formation'!DP:DP,MATCH('Tab Habilitation'!B8&"ADNTSTTRIC",'Fichier E-Formation'!DM:DM&'Fichier E-Formation'!DO:DO,0)),"")} | U8: {=IFERROR(INDEX('Fichier E-Formation'!DP:DP,MATCH('Tab Habilitation'!B8&"ADNTSTSOU",'Fichier E-Formation'!DM:DM&'Fichier E-Formation'!DO:DO,0)),"")} | W8: {=IFERROR(INDEX('Fichier E-Formation'!DP:DP,MATCH('Tab Habilitation'!B8&"ADNTSTBRT",'Fichier E-Formation'!DM:DM&'Fichier E-Formation'!DO:DO,0)),"")} | Y8: {=IFERROR(INDEX('Fichier E-Formation'!DP:DP,MATCH('Tab Habilitation'!B8&"ADNTSTAER",'Fichier E-Formation'!DM:DM&'Fichier E-Formation'!DO:DO,0)),"")} | AA8: {=IFERROR(INDEX('Fichier E-Formation'!DP:DP,MATCH('Tab Habilitation'!B8&"ADNTSTCIS",'Fichier E-Formation'!DM:DM&'Fichier E-Formation'!DO:DO,0)),"")} | AC8: {=IFERROR(INDEX('Fichier E-Formation'!DP:DP,MATCH('Tab Habilitation'!B8&"ADNTSTRAET",'Fichier E-Formation'!DM:DM&'Fichier E-Formation'!DO:DO,0)),"")} | AE8: {=IFERROR(INDEX('Fichier E-Formation'!DP:DP,MATCH('Tab Habilitation'!B8&"ADNTSTRTOT",'Fichier E-Formation'!DM:DM&'Fichier E-Formation'!DO:DO,0)),"")} | AG8: {=IFERROR(INDEX('Fichier E-Formation'!DP:DP,MATCH('Tab Habilitation'!B8&"ADNTSTCCFC",'Fichier E-Formation'!DM:DM&'Fichier E-Formation'!DO:DO,0)),"")} | AI8: {=IFERROR(INDEX('Fichier E-Formation'!DP:DP,MATCH('Tab Habilitation'!B8&"ADNRDCBT",'Fichier E-Formation'!DM:DM&'Fichier E-Formation'!DO:DO,0)),"")} | AJ8: {=IFERROR(INDEX('Fichier E-Formation'!DP:DP,MATCH('Tab Habilitation'!B8&"ADNTIP02B",'Fichier E-Formation'!DM:DM&'Fichier E-Formation'!DO:DO,0)),"")} | AK8: {=IFERROR(INDEX('Fichier E-Formation'!DP:DP,MATCH('Tab Habilitation'!B8&"ADNTIP00B",'Fichier E-Formation'!DM:DM&'Fichier E-Formation'!DO:DO,0)),"")} | AL8: {=IFERROR(INDEX('Fichier E-Formation'!DP:DP,MATCH('Tab Habilitation'!B8&"ADNTIP02AI",'Fichier E-Formation'!DM:DM&'Fichier E-Formation'!DO:DO,0)),"")} | AM8: {=IFERROR(INDEX('Fichier E-Formation'!DP:DP,MATCH('Tab Habilitation'!B8&"ADNT001",'Fichier E-Formation'!DM:DM&'Fichier E-Formation'!DO:DO,0)),"")} | AO8: {=IFERROR(INDEX('Fichier E-Formation'!DP:DP,MATCH('Tab Habilitation'!B8&"ADNT002",'Fichier E-Formation'!DM:DM&'Fichier E-Formation'!DO:DO,0)),"")} | AQ8: {=IFERROR(INDEX('Fichier E-Formation'!DP:DP,MATCH('Tab Habilitation'!B8&"ADNT003",'Fichier E-Formation'!DM:DM&'Fichier E-Formation'!DO:DO,0)),"")} | AS8: {=IFERROR(INDEX('Fichier E-Formation'!DP:DP,MATCH('Tab Habilitation'!B8&"ADNT004",'Fichier E-Formation'!DM:DM&'Fichier E-Formation'!DO:DO,0)),"")} | AU8: {=IFERROR(INDEX('Fichier E-Formation'!DP:DP,MATCH('Tab Habilitation'!B8&"AERDFFPEMPI",'Fichier E-Formation'!DM:DM&'Fichier E-Formation'!DO:DO,0)),"")} | AV8: {=IFERROR(INDEX('Fichier E-Formation'!DP:DP,MATCH('Tab Habilitation'!B8&"AERDFPEMPR",'Fichier E-Formation'!DM:DM&'Fichier E-Formation'!DO:DO,0)),"")} | AX8: {=IFERROR(INDEX('Fichier E-Formation'!DP:DP,MATCH('Tab Habilitation'!B8&"AERDFGRUA1",'Fichier E-Formation'!DM:DM&'Fichier E-Formation'!DO:DO,0)),"")} | AY8: {=IFERROR(INDEX('Fichier E-Formation'!DP:DP,MATCH('Tab Habilitation'!B8&"AERDFGRUR1",'Fichier E-Formation'!DM:DM&'Fichier E-Formation'!DO:DO,0)),"")} | BA8: {=IFERROR(INDEX('Fichier E-Formation'!DP:DP,MATCH('Tab Habilitation'!B8&"AEMEDP0001",'Fichier E-Formation'!DM:DM&'Fichier E-Formation'!DO:DO,0)),"")} | BC8: {=IFERROR(INDEX('Fichier E-Formation'!DP:DP,MATCH('Tab Habilitation'!B8&"AEMEDEP015",'Fichier E-Formation'!DM:DM&'Fichier E-Formation'!DO:DO,0)),"")} | BF8: {=IFERROR(INDEX('Fichier E-Formation'!DP:DP,MATCH('Tab Habilitation'!B8&"ADN2993",'Fichier E-Formation'!DM:DM&'Fichier E-Formation'!DO:DO,0)),"")} | BG8: {=IFERROR(INDEX('Fichier E-Formation'!DP:DP,MATCH('Tab Habilitation'!B8&"ADN2995",'Fichier E-Formation'!DM:DM&'Fichier E-Formation'!DO:DO,0)),"")} | BI8: {=IFERROR(INDEX('Fichier E-Formation'!DP:DP,MATCH('Tab Habilitation'!B8&"ADN2994",'Fichier E-Formation'!DM:DM&'Fichier E-Formation'!DO:DO,0)),"")} | BJ8: {=IFERROR(INDEX('Fichier E-Formation'!DP:DP,MATCH('Tab Habilitation'!B8&"ADN2996",'Fichier E-Formation'!DM:DM&'Fichier E-Formation'!DO:DO,0)),"")} | BL8: {=IFERROR(INDEX('Fichier E-Formation'!DP:DP,MATCH('Tab Habilitation'!B8&"AERDFFT941B",'Fichier E-Formation'!DM:DM&'Fichier E-Formation'!DO:DO,0)),"")} | BN8: {=IFERROR(INDEX('Fichier E-Formation'!DP:DP,MATCH('Tab Habilitation'!B8&"ACDLY08",'Fichier E-Formation'!DM:DM&'Fichier E-Formation'!DO:DO,0)),"")} | BO8: {=IFERROR(INDEX('Fichier E-Formation'!DP:DP,MATCH('Tab Habilitation'!B8&"ACDLY13",'Fichier E-Formation'!DM:DM&'Fichier E-Formation'!DO:DO,0)),"")} | BP8: {=IFERROR(INDEX('Fichier E-Formation'!DP:DP,MATCH('Tab Habilitation'!B8&"ACDCK007",'Fichier E-Formation'!DM:DM&'Fichier E-Formation'!DO:DO,0)),"")} | BQ8: {=IFERROR(INDEX('Fichier E-Formation'!DP:DP,MATCH('Tab Habilitation'!B8&"ACDLY1",'Fichier E-Formation'!DM:DM&'Fichier E-Formation'!DO:DO,0)),"")} | BR8: {=IFERROR(INDEX('Fichier E-Formation'!DP:DP,MATCH('Tab Habilitation'!B8&"AAMEDLINK1",'Fichier E-Formation'!DM:DM&'Fichier E-Formation'!DO:DO,0)),"")} | BS8: {=IFERROR(INDEX('Fichier E-Formation'!DP:DP,MATCH('Tab Habilitation'!B8&"ACDTIPINTV",'Fichier E-Formation'!DM:DM&'Fichier E-Formation'!DO:DO,0)),"")} | BT8: {=IFERROR(INDEX('Fichier E-Formation'!DP:DP,MATCH('Tab Habilitation'!B8&"AAMEDFADTC",'Fichier E-Formation'!DM:DM&'Fichier E-Formation'!DO:DO,0)),"")} | BU8: {=IFERROR(INDEX('Fichier E-Formation'!DP:DP,MATCH('Tab Habilitation'!B8&"AEDRVA",'Fichier E-Formation'!DM:DM&'Fichier E-Formation'!DO:DO,0)),"")} | BV8: {=IFERROR(INDEX('Fichier E-Formation'!DP:DP,MATCH('Tab Habilitation'!B8&"AEDRVAR",'Fichier E-Formation'!DM:DM&'Fichier E-Formation'!DO:DO,0)),"")} | BW8: {=IFERROR(INDEX('Fichier E-Formation'!DP:DP,MATCH('Tab Habilitation'!B8&"ADN8064",'Fichier E-Formation'!DM:DM&'Fichier E-Formation'!DO:DO,0)),"")} | BX8: {=IFERROR(INDEX('Fichier E-Formation'!DP:DP,MATCH('Tab Habilitation'!B8&"AERDFT934",'Fichier E-Formation'!DM:DM&'Fichier E-Formation'!DO:DO,0)),"")}
A9: TOULON | B9: A6 | E9: TIP | H9: {=IFERROR(INDEX('Fichier E-Formation'!DP:DP,MATCH('Tab Habilitation'!B9&"AAMEDS0001",'Fichier E-Formation'!DM:DM&'Fichier E-Formation'!DO:DO,0)),"")} | I9: {=IFERROR(INDEX('Fichier E-Formation'!DP:DP,MATCH('Tab Habilitation'!B9&"AAMEDS0002",'Fichier E-Formation'!DM:DM&'Fichier E-Formation'!DO:DO,0)),"")} | J9: {=IFERROR(INDEX('Fichier E-Formation'!DP:DP,MATCH('Tab Habilitation'!B9&"AERDFT907",'Fichier E-Formation'!DM:DM&'Fichier E-Formation'!DO:DO,0)),"")} | K9: {=IFERROR(INDEX('Fichier E-Formation'!DP:DP,MATCH('Tab Habilitation'!B9&"ADNTINO",'Fichier E-Formation'!DM:DM&'Fichier E-Formation'!DO:DO,0)),"")} | L9: {=IFERROR(INDEX('Fichier E-Formation'!DP:DP,MATCH('Tab Habilitation'!B9&"AAMEDT908",'Fichier E-Formation'!DM:DM&'Fichier E-Formation'!DO:DO,0)),"")} | M9: {=IFERROR(INDEX('Fichier E-Formation'!DP:DP,MATCH('Tab Habilitation'!B9&"ADNTSTBATI",'Fichier E-Formation'!DM:DM&'Fichier E-Formation'!DO:DO,0)),"")} | O9: {=IFERROR(INDEX('Fichier E-Formation'!DP:DP,MATCH('Tab Habilitation'!B9&"ADNTSTEME",'Fichier E-Formation'!DM:DM&'Fichier E-Formation'!DO:DO,0)),"")} | Q9: {=IFERROR(INDEX('Fichier E-Formation'!DP:DP,MATCH('Tab Habilitation'!B9&"ADNTSTRTI",'Fichier E-Formation'!DM:DM&'Fichier E-Formation'!DO:DO,0)),"")} | S9: {=IFERROR(INDEX('Fichier E-Formation'!DP:DP,MATCH('Tab Habilitation'!B9&"ADNTSTTRIC",'Fichier E-Formation'!DM:DM&'Fichier E-Formation'!DO:DO,0)),"")} | U9: {=IFERROR(INDEX('Fichier E-Formation'!DP:DP,MATCH('Tab Habilitation'!B9&"ADNTSTSOU",'Fichier E-Formation'!DM:DM&'Fichier E-Formation'!DO:DO,0)),"")} | W9: {=IFERROR(INDEX('Fichier E-Formation'!DP:DP,MATCH('Tab Habilitation'!B9&"ADNTSTBRT",'Fichier E-Formation'!DM:DM&'Fichier E-Formation'!DO:DO,0)),"")} | Y9: {=IFERROR(INDEX('Fichier E-Formation'!DP:DP,MATCH('Tab Habilitation'!B9&"ADNTSTAER",'Fichier E-Formation'!DM:DM&'Fichier E-Formation'!DO:DO,0)),"")} | AA9: {=IFERROR(INDEX('Fichier E-Formation'!DP:DP,MATCH('Tab Habilitation'!B9&"ADNTSTCIS",'Fichier E-Formation'!DM:DM&'Fichier E-Formation'!DO:DO,0)),"")} | AC9: {=IFERROR(INDEX('Fichier E-Formation'!DP:DP,MATCH('Tab Habilitation'!B9&"ADNTSTRAET",'Fichier E-Formation'!DM:DM&'Fichier E-Formation'!DO:DO,0)),"")} | AE9: {=IFERROR(INDEX('Fichier E-Formation'!DP:DP,MATCH('Tab Habilitation'!B9&"ADNTSTRTOT",'Fichier E-Formation'!DM:DM&'Fichier E-Formation'!DO:DO,0)),"")} | AG9: {=IFERROR(INDEX('Fichier E-Formation'!DP:DP,MATCH('Tab Habilitation'!B9&"ADNTSTCCFC",'Fichier E-Formation'!DM:DM&'Fichier E-Formation'!DO:DO,0)),"")} | AI9: {=IFERROR(INDEX('Fichier E-Formation'!DP:DP,MATCH('Tab Habilitation'!B9&"ADNRDCBT",'Fichier E-Formation'!DM:DM&'Fichier E-Formation'!DO:DO,0)),"")} | AJ9: {=IFERROR(INDEX('Fichier E-Formation'!DP:DP,MATCH('Tab Habilitation'!B9&"ADNTIP02B",'Fichier E-Formation'!DM:DM&'Fichier E-Formation'!DO:DO,0)),"")} | AK9: {=IFERROR(INDEX('Fichier E-Formation'!DP:DP,MATCH('Tab Habilitation'!B9&"ADNTIP00B",'Fichier E-Formation'!DM:DM&'Fichier E-Formation'!DO:DO,0)),"")} | AL9: {=IFERROR(INDEX('Fichier E-Formation'!DP:DP,MATCH('Tab Habilitation'!B9&"ADNTIP02AI",'Fichier E-Formation'!DM:DM&'Fichier E-Formation'!DO:DO,0)),"")} | AM9: {=IFERROR(INDEX('Fichier E-Formation'!DP:DP,MATCH('Tab Habilitation'!B9&"ADNT001",'Fichier E-Formation'!DM:DM&'Fichier E-Formation'!DO:DO,0)),"")} | AO9: {=IFERROR(INDEX('Fichier E-Formation'!DP:DP,MATCH('Tab Habilitation'!B9&"ADNT002",'Fichier E-Formation'!DM:DM&'Fichier E-Formation'!DO:DO,0)),"")} | AQ9: {=IFERROR(INDEX('Fichier E-Formation'!DP:DP,MATCH('Tab Habilitation'!B9&"ADNT003",'Fichier E-Formation'!DM:DM&'Fichier E-Formation'!DO:DO,0)),"")} | AS9: {=IFERROR(INDEX('Fichier E-Formation'!DP:DP,MATCH('Tab Habilitation'!B9&"ADNT004",'Fichier E-Formation'!DM:DM&'Fichier E-Formation'!DO:DO,0)),"")} | AU9: {=IFERROR(INDEX('Fichier E-Formation'!DP:DP,MATCH('Tab Habilitation'!B9&"AERDFFPEMPI",'Fichier E-Formation'!DM:DM&'Fichier E-Formation'!DO:DO,0)),"")} | AV9: {=IFERROR(INDEX('Fichier E-Formation'!DP:DP,MATCH('Tab Habilitation'!B9&"AERDFPEMPR",'Fichier E-Formation'!DM:DM&'Fichier E-Formation'!DO:DO,0)),"")} | AX9: {=IFERROR(INDEX('Fichier E-Formation'!DP:DP,MATCH('Tab Habilitation'!B9&"AERDFGRUA1",'Fichier E-Formation'!DM:DM&'Fichier E-Formation'!DO:DO,0)),"")} | AY9: {=IFERROR(INDEX('Fichier E-Formation'!DP:DP,MATCH('Tab Habilitation'!B9&"AERDFGRUR1",'Fichier E-Formation'!DM:DM&'Fichier E-Formation'!DO:DO,0)),"")} | BA9: {=IFERROR(INDEX('Fichier E-Formation'!DP:DP,MATCH('Tab Habilitation'!B9&"AEMEDP0001",'Fichier E-Formation'!DM:DM&'Fichier E-Formation'!DO:DO,0)),"")} | BC9: {=IFERROR(INDEX('Fichier E-Formation'!DP:DP,MATCH('Tab Habilitation'!B9&"AEMEDEP015",'Fichier E-Formation'!DM:DM&'Fichier E-Formation'!DO:DO,0)),"")} | BF9: {=IFERROR(INDEX('Fichier E-Formation'!DP:DP,MATCH('Tab Habilitation'!B9&"ADN2993",'Fichier E-Formation'!DM:DM&'Fichier E-Formation'!DO:DO,0)),"")} | BG9: {=IFERROR(INDEX('Fichier E-Formation'!DP:DP,MATCH('Tab Habilitation'!B9&"ADN2995",'Fichier E-Formation'!DM:DM&'Fichier E-Formation'!DO:DO,0)),"")} | BI9: {=IFERROR(INDEX('Fichier E-Formation'!DP:DP,MATCH('Tab Habilitation'!B9&"ADN2994",'Fichier E-Formation'!DM:DM&'Fichier E-Formation'!DO:DO,0)),"")} -> 42153 | BJ9: {=IFERROR(INDEX('Fichier E-Formation'!DP:DP,MATCH('Tab Habilitation'!B9&"ADN2996",'Fichier E-Formation'!DM:DM&'Fichier E-Formation'!DO:DO,0)),"")} | BL9: {=IFERROR(INDEX('Fichier E-Formation'!DP:DP,MATCH('Tab Habilitation'!B9&"AERDFFT941B",'Fichier E-Formation'!DM:DM&'Fichier E-Formation'!DO:DO,0)),"")} | BN9: {=IFERROR(INDEX('Fichier E-Formation'!DP:DP,MATCH('Tab Habilitation'!B9&"ACDLY08",'Fichier E-Formation'!DM:DM&'Fichier E-Formation'!DO:DO,0)),"")} | BO9: {=IFERROR(INDEX('Fichier E-Formation'!DP:DP,MATCH('Tab Habilitation'!B9&"ACDLY13",'Fichier E-Formation'!DM:DM&'Fichier E-Formation'!DO:DO,0)),"")} | BP9: {=IFERROR(INDEX('Fichier E-Formation'!DP:DP,MATCH('Tab Habilitation'!B9&"ACDCK007",'Fichier E-Formation'!DM:DM&'Fichier E-Formation'!DO:DO,0)),"")} | BQ9: {=IFERROR(INDEX('Fichier E-Formation'!DP:DP,MATCH('Tab Habilitation'!B9&"ACDLY1",'Fichier E-Formation'!DM:DM&'Fichier E-Formation'!DO:DO,0)),"")} | BR9: {=IFERROR(INDEX('Fichier E-Formation'!DP:DP,MATCH('Tab Habilitation'!B9&"AAMEDLINK1",'Fichier E-Formation'!DM:DM&'Fichier E-Formation'!DO:DO,0)),"")} | BS9: {=IFERROR(INDEX('Fichier E-Formation'!DP:DP,MATCH('Tab Habilitation'!B9&"ACDTIPINTV",'Fichier E-Formation'!DM:DM&'Fichier E-Formation'!DO:DO,0)),"")} | BT9: {=IFERROR(INDEX('Fichier E-Formation'!DP:DP,MATCH('Tab Habilitation'!B9&"AAMEDFADTC",'Fichier E-Formation'!DM:DM&'Fichier E-Formation'!DO:DO,0)),"")} | BU9: {=IFERROR(INDEX('Fichier E-Formation'!DP:DP,MATCH('Tab Habilitation'!B9&"AEDRVA",'Fichier E-Formation'!DM:DM&'Fichier E-Formation'!DO:DO,0)),"")} | BV9: {=IFERROR(INDEX('Fichier E-Formation'!DP:DP,MATCH('Tab Habilitation'!B9&"AEDRVAR",'Fichier E-Formation'!DM:DM&'Fichier E-Formation'!DO:DO,0)),"")} | BW9: {=IFERROR(INDEX('Fichier E-Formation'!DP:DP,MATCH('Tab Habilitation'!B9&"ADN8064",'Fichier E-Formation'!DM:DM&'Fichier E-Formation'!DO:DO,0)),"")} | BX9: {=IFERROR(INDEX('Fichier E-Formation'!DP:DP,MATCH('Tab Habilitation'!B9&"AERDFT934",'Fichier E-Formation'!DM:DM&'Fichier E-Formation'!DO:DO,0)),"")}
A10: TOULON | B10: A7 | E10: TIP | H10: {=IFERROR(INDEX('Fichier E-Formation'!DP:DP,MATCH('Tab Habilitation'!B10&"AAMEDS0001",'Fichier E-Formation'!DM:DM&'Fichier E-Formation'!DO:DO,0)),"")} | I10: {=IFERROR(INDEX('Fichier E-Formation'!DP:DP,MATCH('Tab Habilitation'!B10&"AAMEDS0002",'Fichier E-Formation'!DM:DM&'Fichier E-Formation'!DO:DO,0)),"")} | J10: {=IFERROR(INDEX('Fichier E-Formation'!DP:DP,MATCH('Tab Habilitation'!B10&"AERDFT907",'Fichier E-Formation'!DM:DM&'Fichier E-Formation'!DO:DO,0)),"")} | K10: {=IFERROR(INDEX('Fichier E-Formation'!DP:DP,MATCH('Tab Habilitation'!B10&"ADNTINO",'Fichier E-Formation'!DM:DM&'Fichier E-Formation'!DO:DO,0)),"")} | L10: {=IFERROR(INDEX('Fichier E-Formation'!DP:DP,MATCH('Tab Habilitation'!B10&"AAMEDT908",'Fichier E-Formation'!DM:DM&'Fichier E-Formation'!DO:DO,0)),"")} | M10: {=IFERROR(INDEX('Fichier E-Formation'!DP:DP,MATCH('Tab Habilitation'!B10&"ADNTSTBATI",'Fichier E-Formation'!DM:DM&'Fichier E-Formation'!DO:DO,0)),"")} | O10: {=IFERROR(INDEX('Fichier E-Formation'!DP:DP,MATCH('Tab Habilitation'!B10&"ADNTSTEME",'Fichier E-Formation'!DM:DM&'Fichier E-Formation'!DO:DO,0)),"")} | Q10: {=IFERROR(INDEX('Fichier E-Formation'!DP:DP,MATCH('Tab Habilitation'!B10&"ADNTSTRTI",'Fichier E-Formation'!DM:DM&'Fichier E-Formation'!DO:DO,0)),"")} | S10: {=IFERROR(INDEX('Fichier E-Formation'!DP:DP,MATCH('Tab Habilitation'!B10&"ADNTSTTRIC",'Fichier E-Formation'!DM:DM&'Fichier E-Formation'!DO:DO,0)),"")} | U10: {=IFERROR(INDEX('Fichier E-Formation'!DP:DP,MATCH('Tab Habilitation'!B10&"ADNTSTSOU",'Fichier E-Formation'!DM:DM&'Fichier E-Formation'!DO:DO,0)),"")} | W10: {=IFERROR(INDEX('Fichier E-Formation'!DP:DP,MATCH('Tab Habilitation'!B10&"ADNTSTBRT",'Fichier E-Formation'!DM:DM&'Fichier E-Formation'!DO:DO,0)),"")} | Y10: {=IFERROR(INDEX('Fichier E-Formation'!DP:DP,MATCH('Tab Habilitation'!B10&"ADNTSTAER",'Fichier E-Formation'!DM:DM&'Fichier E-Formation'!DO:DO,0)),"")} | AA10: {=IFERROR(INDEX('Fichier E-Formation'!DP:DP,MATCH('Tab Habilitation'!B10&"ADNTSTCIS",'Fichier E-Formation'!DM:DM&'Fichier E-Formation'!DO:DO,0)),"")} | AC10: {=IFERROR(INDEX('Fichier E-Formation'!DP:DP,MATCH('Tab Habilitation'!B10&"ADNTSTRAET",'Fichier E-Formation'!DM:DM&'Fichier E-Formation'!DO:DO,0)),"")} | AE10: {=IFERROR(INDEX('Fichier E-Formation'!DP:DP,MATCH('Tab Habilitation'!B10&"ADNTSTRTOT",'Fichier E-Formation'!DM:DM&'Fichier E-Formation'!DO:DO,0)),"")} -> 42146 | AG10: {=IFERROR(INDEX('Fichier E-Formation'!DP:DP,MATCH('Tab Habilitation'!B10&"ADNTSTCCFC",'Fichier E-Formation'!DM:DM&'Fichier E-Formation'!DO:DO,0)),"")} | AI10: {=IFERROR(INDEX('Fichier E-Formation'!DP:DP,MATCH('Tab Habilitation'!B10&"ADNRDCBT",'Fichier E-Formation'!DM:DM&'Fichier E-Formation'!DO:DO,0)),"")} | AJ10: {=IFERROR(INDEX('Fichier E-Formation'!DP:DP,MATCH('Tab Habilitation'!B10&"ADNTIP02B",'Fichier E-Formation'!DM:DM&'Fichier E-Formation'!DO:DO,0)),"")} | AK10: {=IFERROR(INDEX('Fichier E-Formation'!DP:DP,MATCH('Tab Habilitation'!B10&"ADNTIP00B",'Fichier E-Formation'!DM:DM&'Fichier E-Formation'!DO:DO,0)),"")} | AL10: {=IFERROR(INDEX('Fichier E-Formation'!DP:DP,MATCH('Tab Habilitation'!B10&"ADNTIP02AI",'Fichier E-Formation'!DM:DM&'Fichier E-Formation'!DO:DO,0)),"")} | AM10: {=IFERROR(INDEX('Fichier E-Formation'!DP:DP,MATCH('Tab Habilitation'!B10&"ADNT001",'Fichier E-Formation'!DM:DM&'Fichier E-Formation'!DO:DO,0)),"")} | AO10: {=IFERROR(INDEX('Fichier E-Formation'!DP:DP,MATCH('Tab Habilitation'!B10&"ADNT002",'Fichier E-Formation'!DM:DM&'Fichier E-Formation'!DO:DO,0)),"")} | AQ10: {=IFERROR(INDEX('Fichier E-Formation'!DP:DP,MATCH('Tab Habilitation'!B10&"ADNT003",'Fichier E-Formation'!DM:DM&'Fichier E-Formation'!DO:DO,0)),"")} | AS10: {=IFERROR(INDEX('Fichier E-Formation'!DP:DP,MATCH('Tab Habilitation'!B10&"ADNT004",'Fichier E-Formation'!DM:DM&'Fichier E-Formation'!DO:DO,0)),"")} | AU10: {=IFERROR(INDEX('Fichier E-Formation'!DP:DP,MATCH('Tab Habilitation'!B10&"AERDFFPEMPI",'Fichier E-Formation'!DM:DM&'Fichier E-Formation'!DO:DO,0)),"")} | AV10: {=IFERROR(INDEX('Fichier E-Formation'!DP:DP,MATCH('Tab Habilitation'!B10&"AERDFPEMPR",'Fichier E-Formation'!DM:DM&'Fichier E-Formation'!DO:DO,0)),"")} | AX10: {=IFERROR(INDEX('Fichier E-Formation'!DP:DP,MATCH('Tab Habilitation'!B10&"AERDFGRUA1",'Fichier E-Formation'!DM:DM&'Fichier E-Formation'!DO:DO,0)),"")} | AY10: {=IFERROR(INDEX('Fichier E-Formation'!DP:DP,MATCH('Tab Habilitation'!B10&"AERDFGRUR1",'Fichier E-Formation'!DM:DM&'Fichier E-Formation'!DO:DO,0)),"")} | BA10: {=IFERROR(INDEX('Fichier E-Formation'!DP:DP,MATCH('Tab Habilitation'!B10&"AEMEDP0001",'Fichier E-Formation'!DM:DM&'Fichier E-Formation'!DO:DO,0)),"")} | BC10: {=IFERROR(INDEX('Fichier E-Formation'!DP:DP,MATCH('Tab Habilitation'!B10&"AEMEDEP015",'Fichier E-Formation'!DM:DM&'Fichier E-Formation'!DO:DO,0)),"")} | BF10: {=IFERROR(INDEX('Fichier E-Formation'!DP:DP,MATCH('Tab Habilitation'!B10&"ADN2993",'Fichier E-Formation'!DM:DM&'Fichier E-Formation'!DO:DO,0)),"")} | BG10: {=IFERROR(INDEX('Fichier E-Formation'!DP:DP,MATCH('Tab Habilitation'!B10&"ADN2995",'Fichier E-Formation'!DM:DM&'Fichier E-Formation'!DO:DO,0)),"")} | BI10: {=IFERROR(INDEX('Fichier E-Formation'!DP:DP,MATCH('Tab Habilitation'!B10&"ADN2994",'Fichier E-Formation'!DM:DM&'Fichier E-Formation'!DO:DO,0)),"")} | BJ10: {=IFERROR(INDEX('Fichier E-Formation'!DP:DP,MATCH('Tab Habilitation'!B10&"ADN2996",'Fichier E-Formation'!DM:DM&'Fichier E-Formation'!DO:DO,0)),"")} | BL10: {=IFERROR(INDEX('Fichier E-Formation'!DP:DP,MATCH('Tab Habilitation'!B10&"AERDFFT941B",'Fichier E-Formation'!DM:DM&'Fichier E-Formation'!DO:DO,0)),"")} | BN10: {=IFERROR(INDEX('Fichier E-Formation'!DP:DP,MATCH('Tab Habilitation'!B10&"ACDLY08",'Fichier E-Formation'!DM:DM&'Fichier E-Formation'!DO:DO,0)),"")} | BO10: {=IFERROR(INDEX('Fichier E-Formation'!DP:DP,MATCH('Tab Habilitation'!B10&"ACDLY13",'Fichier E-Formation'!DM:DM&'Fichier E-Formation'!DO:DO,0)),"")} | BP10: {=IFERROR(INDEX('Fichier E-Formation'!DP:DP,MATCH('Tab Habilitation'!B10&"ACDCK007",'Fichier E-Formation'!DM:DM&'Fichier E-Formation'!DO:DO,0)),"")} | BQ10: {=IFERROR(INDEX('Fichier E-Formation'!DP:DP,MATCH('Tab Habilitation'!B10&"ACDLY1",'Fichier E-Formation'!DM:DM&'Fichier E-Formation'!DO:DO,0)),"")} | BR10: {=IFERROR(INDEX('Fichier E-Formation'!DP:DP,MATCH('Tab Habilitation'!B10&"AAMEDLINK1",'Fichier E-Formation'!DM:DM&'Fichier E-Formation'!DO:DO,0)),"")} | BS10: {=IFERROR(INDEX('Fichier E-Formation'!DP:DP,MATCH('Tab Habilitation'!B10&"ACDTIPINTV",'Fichier E-Formation'!DM:DM&'Fichier E-Formation'!DO:DO,0)),"")} | BT10: {=IFERROR(INDEX('Fichier E-Formation'!DP:DP,MATCH('Tab Habilitation'!B10&"AAMEDFADTC",'Fichier E-Formation'!DM:DM&'Fichier E-Formation'!DO:DO,0)),"")} | BU10: {=IFERROR(INDEX('Fichier E-Formation'!DP:DP,MATCH('Tab Habilitation'!B10&"AEDRVA",'Fichier E-Formation'!DM:DM&'Fichier E-Formation'!DO:DO,0)),"")} | BV10: {=IFERROR(INDEX('Fichier E-Formation'!DP:DP,MATCH('Tab Habilitation'!B10&"AEDRVAR",'Fichier E-Formation'!DM:DM&'Fichier E-Formation'!DO:DO,0)),"")} | BW10: {=IFERROR(INDEX('Fichier E-Formation'!DP:DP,MATCH('Tab Habilitation'!B10&"ADN8064",'Fichier E-Formation'!DM:DM&'Fichier E-Formation'!DO:DO,0)),"")} | BX10: {=IFERROR(INDEX('Fichier E-Formation'!DP:DP,MATCH('Tab Habilitation'!B10&"AERDFT934",'Fichier E-Formation'!DM:DM&'Fichier E-Formation'!DO:DO,0)),"")}
