Workbook

Sheet Base_données
A1: Lieu | B1: Date montage | C1: Date démontage | D1: Matériel | E1: Nombre | F1: Etat | G1: Date montage | H1: Date démontage
A2: Loge | B2: Mercredi 27/08/25 | C2: Jeudi 28/08/25 | D2: Bouilloire | E2: 3 | F2: Sortie inventaire | G2: =--RIGHT(B2,8) -> 45896 | H2: =--RIGHT(C2,8) -> 45897
A3: Loge | B3: Mercredi 27/08/25 | C3: Jeudi 28/08/25 | D3: Cafetière | E3: 1 | F3: Sortie inventaire | G3: =--RIGHT(B3,8) -> 45896 | H3: =--RIGHT(C3,8) -> 45897
A4: Loge | B4: Mercredi 27/08/25 | C4: Jeudi 28/08/25 | D4: Lampe | E4: 1 | F4: Sortie inventaire | G4: =--RIGHT(B4,8) -> 45896 | H4: =--RIGHT(C4,8) -> 45897
A5: Loge | B5: Mercredi 27/08/25 | C5: Jeudi 28/08/25 | D5: Miroir petit | E5: 1 | F5: Sortie inventaire | G5: =--RIGHT(B5,8) -> 45896 | H5: =--RIGHT(C5,8) -> 45897
A6: Loge | B6: Mardi 26/08/25 | C6: Vendredi 29/08/25 | D6: Bouilloire | E6: 1 | F6: Sortie inventaire | G6: =--RIGHT(B6,8) -> 45895 | H6: =--RIGHT(C6,8) -> 45898
A7: Loge | B7: Mardi 26/08/25 | C7: Vendredi 29/08/25 | D7: Cafetière | E7: 1 | F7: Sortie inventaire | G7: =--RIGHT(B7,8) -> 45895 | H7: =--RIGHT(C7,8) -> 45898
A8: Loge | B8: Mardi 26/08/25 | C8: Vendredi 29/08/25 | D8: Machine à laver | E8: 1 | F8: Sortie inventaire | G8: =--RIGHT(B8,8) -> 45895 | H8: =--RIGHT(C8,8) -> 45898
A9: Loge | B9: Mardi 26/08/25 | C9: Vendredi 29/08/25 | D9: Sèche linge | E9: 1 | F9: Sortie inventaire | G9: =--RIGHT(B9,8) -> 45895 | H9: =--RIGHT(C9,8) -> 45898
A10: Loge | B10: Mardi 26/08/25 | C10: Vendredi 29/08/25 | D10: Bouilloire | E10: 1 | F10: Sortie inventaire | G10: =--RIGHT(B10,8) -> 45895 | H10: =--RIGHT(C10,8) -> 45898
A11: Loge | B11: Mardi 26/08/25 | C11: Vendredi 29/08/25 | D11: Cafetière | E11: 1 | F11: Sortie inventaire | G11: =--RIGHT(B11,8) -> 45895 | H11: =--RIGHT(C11,8) -> 45898
A12: Espace resto | B12: Jeudi 28/08/25 | C12: Dimanche 31/08/25 | D12: Percolateur | E12: 1 | F12: Prêt ville | G12: =--RIGHT(B12,8) -> 45897 | H12: =--RIGHT(C12,8) -> 45900
A13: Espace resto | B13: Mardi 26/08/25 | C13: Vendredi 29/08/25 | D13: Bouilloire | E13: 1 | F13: Sortie inventaire | G13: =--RIGHT(B13,8) -> 45895 | H13: =--RIGHT(C13,8) -> 45898
... A76: Loge | B76: Mercredi 27/08/25 | C76: Jeudi 28/08/25 | D76: Cafetière | E76: 1 | F76: Sortie inventaire | G76: =--RIGHT(B76,8) -> 45896 | H76: =--RIGHT(C76,8) -> 45897
A77: Loge | B77: Mercredi 27/08/25 | C77: Jeudi 28/08/25 | D77: Miroir Psyché | E77: 1 | G77: =--RIGHT(B77,8) -> 45896 | H77: =--RIGHT(C77,8) -> 45897
A78: Loge | B78: Mercredi 27/08/25 | C78: Jeudi 28/08/25 | D78: Machine à laver | E78: 1 | F78: Sortie inventaire | G78: =--RIGHT(B78,8) -> 45896 | H78: =--RIGHT(C78,8) -> 45897
A79: Loge | B79: Mercredi 27/08/25 | C79: Jeudi 28/08/25 | D79: Miroir petit | E79: 4 | F79: Sortie inventaire | G79: =--RIGHT(B79,8) -> 45896 | H79: =--RIGHT(C79,8) -> 45897
A80: Espace resto | B80: Vendredi 29/08/25 | C80: Samedi 30/08/25 | D80: Percolateur | E80: 1 | F80: Prêt ville | G80: =--RIGHT(B80,8) -> 45898 | H80: =--RIGHT(C80,8) -> 45899
A81: Espace resto | B81: Vendredi 29/08/25 | C81: Samedi 30/08/25 | D81: Cafetière | E81: 1 | F81: Prêt ville | G81: =--RIGHT(B81,8) -> 45898 | H81: =--RIGHT(C81,8) -> 45899
A82: Espace resto | B82: Vendredi 29/08/25 | C82: Samedi 30/08/25 | D82: Bouilloire | E82: 1 | F82: Prêt ville | G82: =--RIGHT(B82,8) -> 45898 | H82: =--RIGHT(C82,8) -> 45899
A83: Espace resto | B83: Vendredi 29/08/25 | C83: Samedi 30/08/25 | D83: Micro-ondes | E83: 1 | F83: Prêt ville | G83: =--RIGHT(B83,8) -> 45898 | H83: =--RIGHT(C83,8) -> 45899
A84: Loge | B84: Vendredi 29/08/25 | C84: Samedi 30/08/25 | D84: Bouilloire | E84: 1 | F84: Sortie inventaire | G84: =--RIGHT(B84,8) -> 45898 | H84: =--RIGHT(C84,8) -> 45899
A85: Loge | B85: Vendredi 29/08/25 | C85: Samedi 30/08/25 | D85: Cafetière | E85: 1 | F85: Sortie inventaire | G85: =--RIGHT(B85,8) -> 45898 | H85: =--RIGHT(C85,8) -> 45899
A86: Loge | B86: Vendredi 29/08/25 | C86: Samedi 30/08/25 | D86: Cafetière | E86: 1 | F86: Sortie inventaire | G86: =--RIGHT(B86,8) -> 45898 | H86: =--RIGHT(C86,8) -> 45899
A87: Loge | B87: Vendredi 29/08/25 | C87: Samedi 30/08/25 | D87: Bouilloire | E87: 1 | F87: Sortie inventaire | G87: =--RIGHT(B87,8) -> 45898 | H87: =--RIGHT(C87,8) -> 45899
A88: Espace resto | B88: Vendredi 29/08/25 | C88: Samedi 30/08/25 | D88: Bouilloire | E88: 1 | F88: Sortie inventaire | G88: =--RIGHT(B88,8) -> 45898 | H88: =--RIGHT(C88,8) -> 45899
A89: Espace resto | B89: Vendredi 29/08/25 | C89: Samedi 30/08/25 | D89: Cafetière | E89: 1 | F89: Sortie inventaire | G89: =--RIGHT(B89,8) -> 45898 | H89: =--RIGHT(C89,8) -> 45899
... A108: Loge | B108: Mardi 26/08/25 | C108: Jeudi 28/08/25 | D108: Miroir petit | E108: 2 | F108: Sortie inventaire | G108: =--RIGHT(B108,8) -> 45895 | H108: =--RIGHT(C108,8) -> 45897

Sheet Stock
A1: REFERENCE | B1: STOCK INITIAL | C1: MAINTENANT | D1: =TODAY() -> 45849 | E1: 45895 | F1: 45896 | G1: 45897 | H1: 45898 | I1: 45899 | J1: 45900
A2: Bouilloire | B2: 16 | C2: =B2-D2 -> 16 | D2: =SUMIFS(Base_données!$E:$E, Base_données!$G:$G,"<="&D$1, Base_données!$H:$H,">="&D$1, Base_données!$D:$D,$A2, Base_données!$F:$F,"Sortie inventaire") -> 0 | E2: =$B2-SUMIFS(Base_données!$E:$E, Base_données!$G:$G,"<="&E$1, Base_données!$H:$H,">="&E$1, Base_données!$D:$D,$A2, Base_données!$F:$F,"Sortie inventaire") -> 13 | F2: =$B2-SUMIFS(Base_données!$E:$E, Base_données!$G:$G,"<="&F$1, Base_données!$H:$H,">="&F$1, Base_données!$D:$D,$A2, Base_données!$F:$F,"Sortie inventaire") -> 7 | G2: =$B2-SUMIFS(Base_données!$E:$E, Base_données!$G:$G,"<="&G$1, Base_données!$H:$H,">="&G$1, Base_données!$D:$D,$A2, Base_données!$F:$F,"Sortie inventaire") -> 7 | H2: =$B2-SUMIFS(Base_données!$E:$E, Base_données!$G:$G,"<="&H$1, Base_données!$H:$H,">="&H$1, Base_données!$D:$D,$A2, Base_données!$F:$F,"Sortie inventaire") -> 6 | I2: =$B2-SUMIFS(Base_données!$E:$E, Base_données!$G:$G,"<="&I$1, Base_données!$H:$H,">="&I$1, Base_données!$D:$D,$A2, Base_données!$F:$F,"Sortie inventaire") -> 9 | J2: =$B2-SUMIFS(Base_données!$E:$E, Base_données!$G:$G,"<="&J$1, Base_données!$H:$H,">="&J$1, Base_données!$D:$D,$A2, Base_données!$F:$F,"Sortie inventaire") -> 16
A3: Cafetière | B3: 9 | C3: =B3-D3 -> 9 | D3: =SUMIFS(Base_données!$E:$E, Base_données!$G:$G,"<="&D$1, Base_données!$H:$H,">="&D$1, Base_données!$D:$D,$A3, Base_données!$F:$F,"Sortie inventaire") -> 0 | E3: =$B3-SUMIFS(Base_données!$E:$E, Base_données!$G:$G,"<="&E$1, Base_données!$H:$H,">="&E$1, Base_données!$D:$D,$A3, Base_données!$F:$F,"Sortie inventaire") -> 7 | F3: =$B3-SUMIFS(Base_données!$E:$E, Base_données!$G:$G,"<="&F$1, Base_données!$H:$H,">="&F$1, Base_données!$D:$D,$A3, Base_données!$F:$F,"Sortie inventaire") -> 3 | G3: =$B3-SUMIFS(Base_données!$E:$E, Base_données!$G:$G,"<="&G$1, Base_données!$H:$H,">="&G$1, Base_données!$D:$D,$A3, Base_données!$F:$F,"Sortie inventaire") -> 3 | H3: =$B3-SUMIFS(Base_données!$E:$E, Base_données!$G:$G,"<="&H$1, Base_données!$H:$H,">="&H$1, Base_données!$D:$D,$A3, Base_données!$F:$F,"Sortie inventaire") -> 1 | I3: =$B3-SUMIFS(Base_données!$E:$E, Base_données!$G:$G,"<="&I$1, Base_données!$H:$H,">="&I$1, Base_données!$D:$D,$A3, Base_données!$F:$F,"Sortie inventaire") -> 3 | J3: =$B3-SUMIFS(Base_données!$E:$E, Base_données!$G:$G,"<="&J$1, Base_données!$H:$H,">="&J$1, Base_données!$D:$D,$A3, Base_données!$F:$F,"Sortie inventaire") -> 9
A4: Cintres | B4: 208 | C4: =B4-D4 -> 208 | D4: =SUMIFS(Base_données!$E:$E, Base_données!$G:$G,"<="&D$1, Base_données!$H:$H,">="&D$1, Base_données!$D:$D,$A4, Base_données!$F:$F,"Sortie inventaire") -> 0 | E4: =$B4-SUMIFS(Base_données!$E:$E, Base_données!$G:$G,"<="&E$1, Base_données!$H:$H,">="&E$1, Base_données!$D:$D,$A4, Base_données!$F:$F,"Sortie inventaire") -> 193 | F4: =$B4-SUMIFS(Base_données!$E:$E, Base_données!$G:$G,"<="&F$1, Base_données!$H:$H,">="&F$1, Base_données!$D:$D,$A4, Base_données!$F:$F,"Sortie inventaire") -> 193 | G4: =$B4-SUMIFS(Base_données!$E:$E, Base_données!$G:$G,"<="&G$1, Base_données!$H:$H,">="&G$1, Base_données!$D:$D,$A4, Base_données!$F:$F,"Sortie inventaire") -> 163 | H4: =$B4-SUMIFS(Base_données!$E:$E, Base_données!$G:$G,"<="&H$1, Base_données!$H:$H,">="&H$1, Base_données!$D:$D,$A4, Base_données!$F:$F,"Sortie inventaire") -> 178 | I4: =$B4-SUMIFS(Base_données!$E:$E, Base_données!$G:$G,"<="&I$1, Base_données!$H:$H,">="&I$1, Base_données!$D:$D,$A4, Base_données!$F:$F,"Sortie inventaire") -> 178 | J4: =$B4-SUMIFS(Base_données!$E:$E, Base_données!$G:$G,"<="&J$1, Base_données!$H:$H,">="&J$1, Base_données!$D:$D,$A4, Base_données!$F:$F,"Sortie inventaire") -> 178
A5: Fer à repasser | B5: 4 | C5: =B5-D5 -> 4 | D5: =SUMIFS(Base_données!$E:$E, Base_données!$G:$G,"<="&D$1, Base_données!$H:$H,">="&D$1, Base_données!$D:$D,$A5, Base_données!$F:$F,"Sortie inventaire") -> 0 | E5: =$B5-SUMIFS(Base_données!$E:$E, Base_données!$G:$G,"<="&E$1, Base_données!$H:$H,">="&E$1, Base_données!$D:$D,$A5, Base_données!$F:$F,"Sortie inventaire") -> 4 | F5: =$B5-SUMIFS(Base_données!$E:$E, Base_données!$G:$G,"<="&F$1, Base_données!$H:$H,">="&F$1, Base_données!$D:$D,$A5, Base_données!$F:$F,"Sortie inventaire") -> 4 | G5: =$B5-SUMIFS(Base_données!$E:$E, Base_données!$G:$G,"<="&G$1, Base_données!$H:$H,">="&G$1, Base_données!$D:$D,$A5, Base_données!$F:$F,"Sortie inventaire") -> 2 | H5: =$B5-SUMIFS(Base_données!$E:$E, Base_données!$G:$G,"<="&H$1, Base_données!$H:$H,">="&H$1, Base_données!$D:$D,$A5, Base_données!$F:$F,"Sortie inventaire") -> 0 | I5: =$B5-SUMIFS(Base_données!$E:$E, Base_données!$G:$G,"<="&I$1, Base_données!$H:$H,">="&I$1, Base_données!$D:$D,$A5, Base_données!$F:$F,"Sortie inventaire") -> 0 | J5: =$B5-SUMIFS(Base_données!$E:$E, Base_données!$G:$G,"<="&J$1, Base_données!$H:$H,">="&J$1, Base_données!$D:$D,$A5, Base_données!$F:$F,"Sortie inventaire") -> 2
A6: Grandes serviettes | B6: 17 | C6: =B6-D6 -> 17 | D6: =SUMIFS(Base_données!$E:$E, Base_données!$G:$G,"<="&D$1, Base_données!$H:$H,">="&D$1, Base_données!$D:$D,$A6, Base_données!$F:$F,"Sortie inventaire") -> 0 | E6: =$B6-SUMIFS(Base_données!$E:$E, Base_données!$G:$G,"<="&E$1, Base_données!$H:$H,">="&E$1, Base_données!$D:$D,$A6, Base_données!$F:$F,"Sortie inventaire") -> 15 | F6: =$B6-SUMIFS(Base_données!$E:$E, Base_données!$G:$G,"<="&F$1, Base_données!$H:$H,">="&F$1, Base_données!$D:$D,$A6, Base_données!$F:$F,"Sortie inventaire") -> 12 | G6: =$B6-SUMIFS(Base_données!$E:$E, Base_données!$G:$G,"<="&G$1, Base_données!$H:$H,">="&G$1, Base_données!$D:$D,$A6, Base_données!$F:$F,"Sortie inventaire") -> 9 | H6: =$B6-SUMIFS(Base_données!$E:$E, Base_données!$G:$G,"<="&H$1, Base_données!$H:$H,">="&H$1, Base_données!$D:$D,$A6, Base_données!$F:$F,"Sortie inventaire") -> 11 | I6: =$B6-SUMIFS(Base_données!$E:$E, Base_données!$G:$G,"<="&I$1, Base_données!$H:$H,">="&I$1, Base_données!$D:$D,$A6, Base_données!$F:$F,"Sortie inventaire") -> 11 | J6: =$B6-SUMIFS(Base_données!$E:$E, Base_données!$G:$G,"<="&J$1, Base_données!$H:$H,">="&J$1, Base_données!$D:$D,$A6, Base_données!$F:$F,"Sortie inventaire") -> 14
A7: Jerrican 10L | B7: 4 | C7: =B7-D7 -> 4 | D7: =SUMIFS(Base_données!$E:$E, Base_données!$G:$G,"<="&D$1, Base_données!$H:$H,">="&D$1, Base_données!$D:$D,$A7, Base_données!$F:$F,"Sortie inventaire") -> 0 | E7: =$B7-SUMIFS(Base_données!$E:$E, Base_données!$G:$G,"<="&E$1, Base_données!$H:$H,">="&E$1, Base_données!$D:$D,$A7, Base_données!$F:$F,"Sortie inventaire") -> 4 | F7: =$B7-SUMIFS(Base_données!$E:$E, Base_données!$G:$G,"<="&F$1, Base_données!$H:$H,">="&F$1, Base_données!$D:$D,$A7, Base_données!$F:$F,"Sortie inventaire") -> 4 | G7: =$B7-SUMIFS(Base_données!$E:$E, Base_données!$G:$G,"<="&G$1, Base_données!$H:$H,">="&G$1, Base_données!$D:$D,$A7, Base_données!$F:$F,"Sortie inventaire") -> 4 | H7: =$B7-SUMIFS(Base_données!$E:$E, Base_données!$G:$G,"<="&H$1, Base_données!$H:$H,">="&H$1, Base_données!$D:$D,$A7, Base_données!$F:$F,"Sortie inventaire") -> 4 | I7: =$B7-SUMIFS(Base_données!$E:$E, Base_données!$G:$G,"<="&I$1, Base_données!$H:$H,">="&I$1, Base_données!$D:$D,$A7, Base_données!$F:$F,"Sortie inventaire") -> 4 | J7: =$B7-SUMIFS(Base_données!$E:$E, Base_données!$G:$G,"<="&J$1, Base_données!$H:$H,">="&J$1, Base_données!$D:$D,$A7, Base_données!$F:$F,"Sortie inventaire") -> 4
A8: Jerrican 3L | B8: 7 | C8: =B8-D8 -> 7 | D8: =SUMIFS(Base_données!$E:$E, Base_données!$G:$G,"<="&D$1, Base_données!$H:$H,">="&D$1, Base_données!$D:$D,$A8, Base_données!$F:$F,"Sortie inventaire") -> 0 | E8: =$B8-SUMIFS(Base_données!$E:$E, Base_données!$G:$G,"<="&E$1, Base_données!$H:$H,">="&E$1, Base_données!$D:$D,$A8, Base_données!$F:$F,"Sortie inventaire") -> 7 | F8: =$B8-SUMIFS(Base_données!$E:$E, Base_données!$G:$G,"<="&F$1, Base_données!$H:$H,">="&F$1, Base_données!$D:$D,$A8, Base_données!$F:$F,"Sortie inventaire") -> 7 | G8: =$B8-SUMIFS(Base_données!$E:$E, Base_données!$G:$G,"<="&G$1, Base_données!$H:$H,">="&G$1, Base_données!$D:$D,$A8, Base_données!$F:$F,"Sortie inventaire") -> 7 | H8: =$B8-SUMIFS(Base_données!$E:$E, Base_données!$G:$G,"<="&H$1, Base_données!$H:$H,">="&H$1, Base_données!$D:$D,$A8, Base_données!$F:$F,"Sortie inventaire") -> 7 | I8: =$B8-SUMIFS(Base_données!$E:$E, Base_données!$G:$G,"<="&I$1, Base_données!$H:$H,">="&I$1, Base_données!$D:$D,$A8, Base_données!$F:$F,"Sortie inventaire") -> 7 | J8: =$B8-SUMIFS(Base_données!$E:$E, Base_données!$G:$G,"<="&J$1, Base_données!$H:$H,">="&J$1, Base_données!$D:$D,$A8, Base_données!$F:$F,"Sortie inventaire") -> 7
A9: Micro-ondes | B9: 2 | C9: =B9-D9 -> 2 | D9: =SUMIFS(Base_données!$E:$E, Base_données!$G:$G,"<="&D$1, Base_données!$H:$H,">="&D$1, Base_données!$D:$D,$A9, Base_données!$F:$F,"Sortie inventaire") -> 0 | E9: =$B9-SUMIFS(Base_données!$E:$E, Base_données!$G:$G,"<="&E$1, Base_données!$H:$H,">="&E$1, Base_données!$D:$D,$A9, Base_données!$F:$F,"Sortie inventaire") -> 1 | F9: =$B9-SUMIFS(Base_données!$E:$E, Base_données!$G:$G,"<="&F$1, Base_données!$H:$H,">="&F$1, Base_données!$D:$D,$A9, Base_données!$F:$F,"Sortie inventaire") -> 1 | G9: =$B9-SUMIFS(Base_données!$E:$E, Base_données!$G:$G,"<="&G$1, Base_données!$H:$H,">="&G$1, Base_données!$D:$D,$A9, Base_données!$F:$F,"Sortie inventaire") -> 1 | H9: =$B9-SUMIFS(Base_données!$E:$E, Base_données!$G:$G,"<="&H$1, Base_données!$H:$H,">="&H$1, Base_données!$D:$D,$A9, Base_données!$F:$F,"Sortie inventaire") -> 1 | I9: =$B9-SUMIFS(Base_données!$E:$E, Base_données!$G:$G,"<="&I$1, Base_données!$H:$H,">="&I$1, Base_données!$D:$D,$A9, Base_données!$F:$F,"Sortie inventaire") -> 2 | J9: =$B9-SUMIFS(Base_données!$E:$E, Base_données!$G:$G,"<="&J$1, Base_données!$H:$H,">="&J$1, Base_données!$D:$D,$A9, Base_données!$F:$F,"Sortie inventaire") -> 2
A10: Miroir petit | B10: 23 | C10: =B10-D10 -> 23 | D10: =SUMIFS(Base_données!$E:$E, Base_données!$G:$G,"<="&D$1, Base_données!$H:$H,">="&D$1, Base_données!$D:$D,$A10, Base_données!$F:$F,"Sortie inventaire") -> 0 | E10: =$B10-SUMIFS(Base_données!$E:$E, Base_données!$G:$G,"<="&E$1, Base_données!$H:$H,">="&E$1, Base_données!$D:$D,$A10, Base_données!$F:$F,"Sortie inventaire") -> 17 | F10: =$B10-SUMIFS(Base_données!$E:$E, Base_données!$G:$G,"<="&F$1, Base_données!$H:$H,">="&F$1, Base_données!$D:$D,$A10, Base_données!$F:$F,"Sortie inventaire") -> -1 | G10: =$B10-SUMIFS(Base_données!$E:$E, Base_données!$G:$G,"<="&G$1, Base_données!$H:$H,">="&G$1, Base_données!$D:$D,$A10, Base_données!$F:$F,"Sortie inventaire") -> -5 | H10: =$B10-SUMIFS(Base_données!$E:$E, Base_données!$G:$G,"<="&H$1, Base_données!$H:$H,">="&H$1, Base_données!$D:$D,$A10, Base_données!$F:$F,"Sortie inventaire") -> 6 | I10: =$B10-SUMIFS(Base_données!$E:$E, Base_données!$G:$G,"<="&I$1, Base_données!$H:$H,">="&I$1, Base_données!$D:$D,$A10, Base_données!$F:$F,"Sortie inventaire") -> 6 | J10: =$B10-SUMIFS(Base_données!$E:$E, Base_données!$G:$G,"<="&J$1, Base_données!$H:$H,">="&J$1, Base_données!$D:$D,$A10, Base_données!$F:$F,"Sortie inventaire") -> 19
A11: Miroir Psyché | B11: 6 | C11: =B11-D11 -> 6 | D11: =SUMIFS(Base_données!$E:$E, Base_données!$G:$G,"<="&D$1, Base_données!$H:$H,">="&D$1, Base_données!$D:$D,$A11, Base_données!$F:$F,"Sortie inventaire") -> 0 | E11: =$B11-SUMIFS(Base_données!$E:$E, Base_données!$G:$G,"<="&E$1, Base_données!$H:$H,">="&E$1, Base_données!$D:$D,$A11, Base_données!$F:$F,"Sortie inventaire") -> 4 | F11: =$B11-SUMIFS(Base_données!$E:$E, Base_données!$G:$G,"<="&F$1, Base_données!$H:$H,">="&F$1, Base_données!$D:$D,$A11, Base_données!$F:$F,"Sortie inventaire") -> 4 | G11: =$B11-SUMIFS(Base_données!$E:$E, Base_données!$G:$G,"<="&G$1, Base_données!$H:$H,">="&G$1, Base_données!$D:$D,$A11, Base_données!$F:$F,"Sortie inventaire") -> 3 | H11: =$B11-SUMIFS(Base_données!$E:$E, Base_données!$G:$G,"<="&H$1, Base_données!$H:$H,">="&H$1, Base_données!$D:$D,$A11, Base_données!$F:$F,"Sortie inventaire") -> 4 | I11: =$B11-SUMIFS(Base_données!$E:$E, Base_données!$G:$G,"<="&I$1, Base_données!$H:$H,">="&I$1, Base_données!$D:$D,$A11, Base_données!$F:$F,"Sortie inventaire") -> 4 | J11: =$B11-SUMIFS(Base_données!$E:$E, Base_données!$G:$G,"<="&J$1, Base_données!$H:$H,">="&J$1, Base_données!$D:$D,$A11, Base_données!$F:$F,"Sortie inventaire") -> 5
A12: Percolateur | B12: 4 | C12: =B12-D12 -> 4 | D12: =SUMIFS(Base_données!$E:$E, Base_données!$G:$G,"<="&D$1, Base_données!$H:$H,">="&D$1, Base_données!$D:$D,$A12, Base_données!$F:$F,"Sortie inventaire") -> 0 | E12: =$B12-SUMIFS(Base_données!$E:$E, Base_données!$G:$G,"<="&E$1, Base_données!$H:$H,">="&E$1, Base_données!$D:$D,$A12, Base_données!$F:$F,"Sortie inventaire") -> 4 | F12: =$B12-SUMIFS(Base_données!$E:$E, Base_données!$G:$G,"<="&F$1, Base_données!$H:$H,">="&F$1, Base_données!$D:$D,$A12, Base_données!$F:$F,"Sortie inventaire") -> 4 | G12: =$B12-SUMIFS(Base_données!$E:$E, Base_données!$G:$G,"<="&G$1, Base_données!$H:$H,">="&G$1, Base_données!$D:$D,$A12, Base_données!$F:$F,"Sortie inventaire") -> 4 | H12: =$B12-SUMIFS(Base_données!$E:$E, Base_données!$G:$G,"<="&H$1, Base_données!$H:$H,">="&H$1, Base_données!$D:$D,$A12, Base_données!$F:$F,"Sortie inventaire") -> 3 | I12: =$B12-SUMIFS(Base_données!$E:$E, Base_données!$G:$G,"<="&I$1, Base_données!$H:$H,">="&I$1, Base_données!$D:$D,$A12, Base_données!$F:$F,"Sortie inventaire") -> 3 | J12: =$B12-SUMIFS(Base_données!$E:$E, Base_données!$G:$G,"<="&J$1, Base_données!$H:$H,">="&J$1, Base_données!$D:$D,$A12, Base_données!$F:$F,"Sortie inventaire") -> 4
A13: Petites serviettes | B13: 15 | C13: =B13-D13 -> 15 | D13: =SUMIFS(Base_données!$E:$E, Base_données!$G:$G,"<="&D$1, Base_données!$H:$H,">="&D$1, Base_données!$D:$D,$A13, Base_données!$F:$F,"Sortie inventaire") -> 0 | E13: =$B13-SUMIFS(Base_données!$E:$E, Base_données!$G:$G,"<="&E$1, Base_données!$H:$H,">="&E$1, Base_données!$D:$D,$A13, Base_données!$F:$F,"Sortie inventaire") -> 15 | F13: =$B13-SUMIFS(Base_données!$E:$E, Base_données!$G:$G,"<="&F$1, Base_données!$H:$H,">="&F$1, Base_données!$D:$D,$A13, Base_données!$F:$F,"Sortie inventaire") -> 15 | G13: =$B13-SUMIFS(Base_données!$E:$E, Base_données!$G:$G,"<="&G$1, Base_données!$H:$H,">="&G$1, Base_données!$D:$D,$A13, Base_données!$F:$F,"Sortie inventaire") -> 15 | H13: =$B13-SUMIFS(Base_données!$E:$E, Base_données!$G:$G,"<="&H$1, Base_données!$H:$H,">="&H$1, Base_données!$D:$D,$A13, Base_données!$F:$F,"Sortie inventaire") -> 15 | I13: =$B13-SUMIFS(Base_données!$E:$E, Base_données!$G:$G,"<="&I$1, Base_données!$H:$H,">="&I$1, Base_données!$D:$D,$A13, Base_données!$F:$F,"Sortie inventaire") -> 15 | J13: =$B13-SUMIFS(Base_données!$E:$E, Base_données!$G:$G,"<="&J$1, Base_données!$H:$H,">="&J$1, Base_données!$D:$D,$A13, Base_données!$F:$F,"Sortie inventaire") -> 15
... A16: Thermos pompe | B16: 2 | C16: =B16-D16 -> 2 | D16: =SUMIFS(Base_données!$E:$E, Base_données!$G:$G,"<="&D$1, Base_données!$H:$H,">="&D$1, Base_données!$D:$D,$A16, Base_données!$F:$F,"Sortie inventaire") -> 0 | E16: =$B16-SUMIFS(Base_données!$E:$E, Base_données!$G:$G,"<="&E$1, Base_données!$H:$H,">="&E$1, Base_données!$D:$D,$A16, Base_données!$F:$F,"Sortie inventaire") -> 2 | F16: =$B16-SUMIFS(Base_données!$E:$E, Base_données!$G:$G,"<="&F$1, Base_données!$H:$H,">="&F$1, Base_données!$D:$D,$A16, Base_données!$F:$F,"Sortie inventaire") -> 2 | G16: =$B16-SUMIFS(Base_données!$E:$E, Base_données!$G:$G,"<="&G$1, Base_données!$H:$H,">="&G$1, Base_données!$D:$D,$A16, Base_données!$F:$F,"Sortie inventaire") -> 1 | H16: =$B16-SUMIFS(Base_données!$E:$E, Base_données!$G:$G,"<="&H$1, Base_données!$H:$H,">="&H$1, Base_données!$D:$D,$A16, Base_données!$F:$F,"Sortie inventaire") -> 1 | I16: =$B16-SUMIFS(Base_données!$E:$E, Base_données!$G:$G,"<="&I$1, Base_données!$H:$H,">="&I$1, Base_données!$D:$D,$A16, Base_données!$F:$F,"Sortie inventaire") -> 1 | J16: =$B16-SUMIFS(Base_données!$E:$E, Base_données!$G:$G,"<="&J$1, Base_données!$H:$H,">="&J$1, Base_données!$D:$D,$A16, Base_données!$F:$F,"Sortie inventaire") -> 1
