Workbook
Name ListeIntermittents: OFFSET(Données!$D$2,0,0,COUNTA(Données!$D:$D)-1,1)

Sheet Données
A1: Date de début : | B1: 45413 | D1: Liste inter
A2: Date de fin : | B2: =EOMONTH(B1,0) -> 45443 | D2: ARNO
A3: Mois de : | B3: =TEXT(B1,"mmmm aaaa") -> mai 2024 | D3: CALI
D4: CAM
D5: DEB
D6: DEN
D7: ERIC
D8: ETIE
D9: FEL
D10: FRA
D11: GEN
D12: J.V.
D13: JUL
D14: JUST
D15: LAUR
... D26: TOJ

Sheet EDTglobal
C1: Affectation des salariés intermittents
C2: DEN | D2: REMI | E2: MEH | F2: ETIE | G2: TOJ | H2: TOC | I2: J.V. | J2: JUST | K2: DEB | L2: LAUR | M2: CALI | N2: CAM | O2: OLIV | P2: GEN | Q2: FEL | R2: FRA | S2: PAUL | T2: THIB | U2: ARNO | V2: MATC | W2: MAL | X2: MANU | Y2: ERIC | Z2: PIER | AA2: JUL
A3: =Données!B1 -> 45413 | B3: 1 | C3: jouv | F3: CSL | G3: CSL
A4: =A3 -> 45413 | B4: 2 | F4: jouv | G4: CSl
A5: =A4 -> 45413 | B5: 3 | F5: CRE | G5: CSL
A6: =IFERROR(IF(A3+1>Données!$B$2,"",A3+1),"") -> 45414 | B6: 1
A7: =A6 -> 45414 | B7: 2
A8: =A7 -> 45414 | B8: 3
A9: =IFERROR(IF(A6+1>Données!$B$2,"",A6+1),"") -> 45415 | B9: 1 | F9: jouv | G9: CSL
A10: =A9 -> 45415 | B10: 2 | F10: jouv | G10: CSL
A11: =A10 -> 45415 | B11: 3
A12: =IFERROR(IF(A9+1>Données!$B$2,"",A9+1),"") -> 45416 | B12: 1 | F12: jouv | G12: CSl
A13: =A12 -> 45416 | B13: 2 | F13: jouv | G13: CSl
A14: =A13 -> 45416 | B14: 3
A15: =IFERROR(IF(A12+1>Données!$B$2,"",A12+1),"") -> 45417 | B15: 1
A16: =A15 -> 45417 | B16: 2
A17: =A16 -> 45417 | B17: 3
A18: =IFERROR(IF(A15+1>Données!$B$2,"",A15+1),"") -> 45418 | B18: 1
A19: =A18 -> 45418 | B19: 2
A20: =A19 -> 45418 | B20: 3
A21: =IFERROR(IF(A18+1>Données!$B$2,"",A18+1),"") -> 45419 | B21: 1
A22: =A21 -> 45419 | B22: 2
A23: =A22 -> 45419 | B23: 3
A24: =IFERROR(IF(A21+1>Données!$B$2,"",A21+1),"") -> 45420 | B24: 1
A25: =A24 -> 45420 | B25: 2
A26: =A25 -> 45420 | B26: 3
A27: =IFERROR(IF(A24+1>Données!$B$2,"",A24+1),"") -> 45421 | B27: 1
A28: =A27 -> 45421 | B28: 2
A29: =A28 -> 45421 | B29: 3
A30: =IFERROR(IF(A27+1>Données!$B$2,"",A27+1),"") -> 45422 | B30: 1
A31: =A30 -> 45422 | B31: 2
A32: =A31 -> 45422 | B32: 3
A33: =IFERROR(IF(A30+1>Données!$B$2,"",A30+1),"") -> 45423 | B33: 1
A34: =A33 -> 45423 | B34: 2
A35: =A34 -> 45423 | B35: 3
A36: =IFERROR(IF(A33+1>Données!$B$2,"",A33+1),"") -> 45424 | B36: 1
A37: =A36 -> 45424 | B37: 2
A38: =A37 -> 45424 | B38: 3
A39: =IFERROR(IF(A36+1>Données!$B$2,"",A36+1),"") -> 45425 | B39: 1
A40: =A39 -> 45425 | B40: 2
...

Sheet EDT Individuel
A1: =Données!B3 -> mai 2024 | B1: L'Étincelle | H1: Salarié | I1: ETIE
B4: Services | C4: Lieu | D4: Horaire | E4: Position de la première tranche horaire
A5: =EDTglobal!$A$3 -> 45413 | B5: =COUNTIFS(INDIRECT("EDTglobal!"&SUBSTITUTE(ADDRESS(1,MATCH($I$1,EDTglobal!$2:$2,0),4),"1","")&":"&SUBSTITUTE(ADDRESS(1,MATCH($I$1,EDTglobal!$2:$2,0),4),"1","")),"*",EDTglobal!$A:$A,'EDT Individuel'!$A5) -> 3 | C5: {=IFERROR(INDEX(EDTglobal!$A$2:$AA$95,MATCH('EDT Individuel'!$A5&'EDT Individuel'!$E5,EDTglobal!$A$2:$A$95&EDTglobal!$B$2:$B$95,0),MATCH($I$1,EDTglobal!$2:$2,0)),"")} -> CSL | D5: {=IFERROR(_xlfn.IFS(E5=1,"9h",E5=2,"14h",E5=3,"19h"),"")} -> 9h | E5: {=MIN(IF(INDIRECT("EDTglobal!"&SUBSTITUTE(ADDRESS(1,MATCH($I$1,EDTglobal!$2:$2,0),4),"1","")&MATCH(A5,EDTglobal!A:A,0)&":"&SUBSTITUTE(ADDRESS(1,MATCH($I$1,EDTglobal!$2:$2,0),4),"1","")&MATCH(A5,EDTglobal!A:A,0)+2)<>"", INDIRECT("EDTglobal!B"&MATCH(A5,EDTglobal!A:A,0)&":B"&MATCH(A5,EDTglobal!A:A,0)+2), ""))} -> 1
A6: =IFERROR(IF(A5+1>Données!$B$2,"",A5+1),"") -> 45414 | B6: =COUNTIFS(INDIRECT("EDTglobal!"&SUBSTITUTE(ADDRESS(1,MATCH($I$1,EDTglobal!$2:$2,0),4),"1","")&":"&SUBSTITUTE(ADDRESS(1,MATCH($I$1,EDTglobal!$2:$2,0),4),"1","")),"*",EDTglobal!$A:$A,'EDT Individuel'!$A6) -> 0 | C6: {=IFERROR(INDEX(EDTglobal!$A$2:$AA$95,MATCH('EDT Individuel'!$A6&'EDT Individuel'!$E6,EDTglobal!$A$2:$A$95&EDTglobal!$B$2:$B$95,0),MATCH($I$1,EDTglobal!$2:$2,0)),"")} | D6: {=IFERROR(_xlfn.IFS(E6=1,"9h",E6=2,"14h",E6=3,"19h"),"")} | E6: {=MIN(IF(INDIRECT("EDTglobal!"&SUBSTITUTE(ADDRESS(1,MATCH($I$1,EDTglobal!$2:$2,0),4),"1","")&MATCH(A6,EDTglobal!A:A,0)&":"&SUBSTITUTE(ADDRESS(1,MATCH($I$1,EDTglobal!$2:$2,0),4),"1","")&MATCH(A6,EDTglobal!A:A,0)+2)<>"", INDIRECT("EDTglobal!B"&MATCH(A6,EDTglobal!A:A,0)&":B"&MATCH(A6,EDTglobal!A:A,0)+2), ""))} -> 0
A7: =IFERROR(IF(A6+1>Données!$B$2,"",A6+1),"") -> 45415 | B7: =COUNTIFS(INDIRECT("EDTglobal!"&SUBSTITUTE(ADDRESS(1,MATCH($I$1,EDTglobal!$2:$2,0),4),"1","")&":"&SUBSTITUTE(ADDRESS(1,MATCH($I$1,EDTglobal!$2:$2,0),4),"1","")),"*",EDTglobal!$A:$A,'EDT Individuel'!$A7) -> 2 | C7: {=IFERROR(INDEX(EDTglobal!$A$2:$AA$95,MATCH('EDT Individuel'!$A7&'EDT Individuel'!$E7,EDTglobal!$A$2:$A$95&EDTglobal!$B$2:$B$95,0),MATCH($I$1,EDTglobal!$2:$2,0)),"")} -> jouv | D7: {=IFERROR(_xlfn.IFS(E7=1,"9h",E7=2,"14h",E7=3,"19h"),"")} -> 9h | E7: {=MIN(IF(INDIRECT("EDTglobal!"&SUBSTITUTE(ADDRESS(1,MATCH($I$1,EDTglobal!$2:$2,0),4),"1","")&MATCH(A7,EDTglobal!A:A,0)&":"&SUBSTITUTE(ADDRESS(1,MATCH($I$1,EDTglobal!$2:$2,0),4),"1","")&MATCH(A7,EDTglobal!A:A,0)+2)<>"", INDIRECT("EDTglobal!B"&MATCH(A7,EDTglobal!A:A,0)&":B"&MATCH(A7,EDTglobal!A:A,0)+2), ""))} -> 1
A8: =IFERROR(IF(A7+1>Données!$B$2,"",A7+1),"") -> 45416 | B8: =COUNTIFS(INDIRECT("EDTglobal!"&SUBSTITUTE(ADDRESS(1,MATCH($I$1,EDTglobal!$2:$2,0),4),"1","")&":"&SUBSTITUTE(ADDRESS(1,MATCH($I$1,EDTglobal!$2:$2,0),4),"1","")),"*",EDTglobal!$A:$A,'EDT Individuel'!$A8) -> 2 | C8: {=IFERROR(INDEX(EDTglobal!$A$2:$AA$95,MATCH('EDT Individuel'!$A8&'EDT Individuel'!$E8,EDTglobal!$A$2:$A$95&EDTglobal!$B$2:$B$95,0),MATCH($I$1,EDTglobal!$2:$2,0)),"")} -> jouv | D8: {=IFERROR(_xlfn.IFS(E8=1,"9h",E8=2,"14h",E8=3,"19h"),"")} -> 9h | E8: {=MIN(IF(INDIRECT("EDTglobal!"&SUBSTITUTE(ADDRESS(1,MATCH($I$1,EDTglobal!$2:$2,0),4),"1","")&MATCH(A8,EDTglobal!A:A,0)&":"&SUBSTITUTE(ADDRESS(1,MATCH($I$1,EDTglobal!$2:$2,0),4),"1","")&MATCH(A8,EDTglobal!A:A,0)+2)<>"", INDIRECT("EDTglobal!B"&MATCH(A8,EDTglobal!A:A,0)&":B"&MATCH(A8,EDTglobal!A:A,0)+2), ""))} -> 1
A9: =IFERROR(IF(A8+1>Données!$B$2,"",A8+1),"") -> 45417 | B9: =COUNTIFS(INDIRECT("EDTglobal!"&SUBSTITUTE(ADDRESS(1,MATCH($I$1,EDTglobal!$2:$2,0),4),"1","")&":"&SUBSTITUTE(ADDRESS(1,MATCH($I$1,EDTglobal!$2:$2,0),4),"1","")),"*",EDTglobal!$A:$A,'EDT Individuel'!$A9) -> 0 | C9: {=IFERROR(INDEX(EDTglobal!$A$2:$AA$95,MATCH('EDT Individuel'!$A9&'EDT Individuel'!$E9,EDTglobal!$A$2:$A$95&EDTglobal!$B$2:$B$95,0),MATCH($I$1,EDTglobal!$2:$2,0)),"")} | D9: {=IFERROR(_xlfn.IFS(E9=1,"9h",E9=2,"14h",E9=3,"19h"),"")} | E9: {=MIN(IF(INDIRECT("EDTglobal!"&SUBSTITUTE(ADDRESS(1,MATCH($I$1,EDTglobal!$2:$2,0),4),"1","")&MATCH(A9,EDTglobal!A:A,0)&":"&SUBSTITUTE(ADDRESS(1,MATCH($I$1,EDTglobal!$2:$2,0),4),"1","")&MATCH(A9,EDTglobal!A:A,0)+2)<>"", INDIRECT("EDTglobal!B"&MATCH(A9,EDTglobal!A:A,0)&":B"&MATCH(A9,EDTglobal!A:A,0)+2), ""))} -> 0
A10: =IFERROR(IF(A9+1>Données!$B$2,"",A9+1),"") -> 45418 | B10: =COUNTIFS(INDIRECT("EDTglobal!"&SUBSTITUTE(ADDRESS(1,MATCH($I$1,EDTglobal!$2:$2,0),4),"1","")&":"&SUBSTITUTE(ADDRESS(1,MATCH($I$1,EDTglobal!$2:$2,0),4),"1","")),"*",EDTglobal!$A:$A,'EDT Individuel'!$A10) -> 0 | C10: {=IFERROR(INDEX(EDTglobal!$A$2:$AA$95,MATCH('EDT Individuel'!$A10&'EDT Individuel'!$E10,EDTglobal!$A$2:$A$95&EDTglobal!$B$2:$B$95,0),MATCH($I$1,EDTglobal!$2:$2,0)),"")} | D10: {=IFERROR(_xlfn.IFS(E10=1,"9h",E10=2,"14h",E10=3,"19h"),"")} | E10: {=MIN(IF(INDIRECT("EDTglobal!"&SUBSTITUTE(ADDRESS(1,MATCH($I$1,EDTglobal!$2:$2,0),4),"1","")&MATCH(A10,EDTglobal!A:A,0)&":"&SUBSTITUTE(ADDRESS(1,MATCH($I$1,EDTglobal!$2:$2,0),4),"1","")&MATCH(A10,EDTglobal!A:A,0)+2)<>"", INDIRECT("EDTglobal!B"&MATCH(A10,EDTglobal!A:A,0)&":B"&MATCH(A10,EDTglobal!A:A,0)+2), ""))} -> 0
A11: =IFERROR(IF(A10+1>Données!$B$2,"",A10+1),"") -> 45419 | B11: =COUNTIFS(INDIRECT("EDTglobal!"&SUBSTITUTE(ADDRESS(1,MATCH($I$1,EDTglobal!$2:$2,0),4),"1","")&":"&SUBSTITUTE(ADDRESS(1,MATCH($I$1,EDTglobal!$2:$2,0),4),"1","")),"*",EDTglobal!$A:$A,'EDT Individuel'!$A11) -> 0 | C11: {=IFERROR(INDEX(EDTglobal!$A$2:$AA$95,MATCH('EDT Individuel'!$A11&'EDT Individuel'!$E11,EDTglobal!$A$2:$A$95&EDTglobal!$B$2:$B$95,0),MATCH($I$1,EDTglobal!$2:$2,0)),"")} | D11: {=IFERROR(_xlfn.IFS(E11=1,"9h",E11=2,"14h",E11=3,"19h"),"")} | E11: {=MIN(IF(INDIRECT("EDTglobal!"&SUBSTITUTE(ADDRESS(1,MATCH($I$1,EDTglobal!$2:$2,0),4),"1","")&MATCH(A11,EDTglobal!A:A,0)&":"&SUBSTITUTE(ADDRESS(1,MATCH($I$1,EDTglobal!$2:$2,0),4),"1","")&MATCH(A11,EDTglobal!A:A,0)+2)<>"", INDIRECT("EDTglobal!B"&MATCH(A11,EDTglobal!A:A,0)&":B"&MATCH(A11,EDTglobal!A:A,0)+2), ""))} -> 0
A12: =IFERROR(IF(A11+1>Données!$B$2,"",A11+1),"") -> 45420 | B12: =COUNTIFS(INDIRECT("EDTglobal!"&SUBSTITUTE(ADDRESS(1,MATCH($I$1,EDTglobal!$2:$2,0),4),"1","")&":"&SUBSTITUTE(ADDRESS(1,MATCH($I$1,EDTglobal!$2:$2,0),4),"1","")),"*",EDTglobal!$A:$A,'EDT Individuel'!$A12) -> 0 | C12: {=IFERROR(INDEX(EDTglobal!$A$2:$AA$95,MATCH('EDT Individuel'!$A12&'EDT Individuel'!$E12,EDTglobal!$A$2:$A$95&EDTglobal!$B$2:$B$95,0),MATCH($I$1,EDTglobal!$2:$2,0)),"")} | D12: {=IFERROR(_xlfn.IFS(E12=1,"9h",E12=2,"14h",E12=3,"19h"),"")} | E12: {=MIN(IF(INDIRECT("EDTglobal!"&SUBSTITUTE(ADDRESS(1,MATCH($I$1,EDTglobal!$2:$2,0),4),"1","")&MATCH(A12,EDTglobal!A:A,0)&":"&SUBSTITUTE(ADDRESS(1,MATCH($I$1,EDTglobal!$2:$2,0),4),"1","")&MATCH(A12,EDTglobal!A:A,0)+2)<>"", INDIRECT("EDTglobal!B"&MATCH(A12,EDTglobal!A:A,0)&":B"&MATCH(A12,EDTglobal!A:A,0)+2), ""))} -> 0
A13: =IFERROR(IF(A12+1>Données!$B$2,"",A12+1),"") -> 45421 | B13: =COUNTIFS(INDIRECT("EDTglobal!"&SUBSTITUTE(ADDRESS(1,MATCH($I$1,EDTglobal!$2:$2,0),4),"1","")&":"&SUBSTITUTE(ADDRESS(1,MATCH($I$1,EDTglobal!$2:$2,0),4),"1","")),"*",EDTglobal!$A:$A,'EDT Individuel'!$A13) -> 0 | C13: {=IFERROR(INDEX(EDTglobal!$A$2:$AA$95,MATCH('EDT Individuel'!$A13&'EDT Individuel'!$E13,EDTglobal!$A$2:$A$95&EDTglobal!$B$2:$B$95,0),MATCH($I$1,EDTglobal!$2:$2,0)),"")} | D13: {=IFERROR(_xlfn.IFS(E13=1,"9h",E13=2,"14h",E13=3,"19h"),"")} | E13: {=MIN(IF(INDIRECT("EDTglobal!"&SUBSTITUTE(ADDRESS(1,MATCH($I$1,EDTglobal!$2:$2,0),4),"1","")&MATCH(A13,EDTglobal!A:A,0)&":"&SUBSTITUTE(ADDRESS(1,MATCH($I$1,EDTglobal!$2:$2,0),4),"1","")&MATCH(A13,EDTglobal!A:A,0)+2)<>"", INDIRECT("EDTglobal!B"&MATCH(A13,EDTglobal!A:A,0)&":B"&MATCH(A13,EDTglobal!A:A,0)+2), ""))} -> 0
A14: =IFERROR(IF(A13+1>Données!$B$2,"",A13+1),"") -> 45422 | B14: =COUNTIFS(INDIRECT("EDTglobal!"&SUBSTITUTE(ADDRESS(1,MATCH($I$1,EDTglobal!$2:$2,0),4),"1","")&":"&SUBSTITUTE(ADDRESS(1,MATCH($I$1,EDTglobal!$2:$2,0),4),"1","")),"*",EDTglobal!$A:$A,'EDT Individuel'!$A14) -> 0 | C14: {=IFERROR(INDEX(EDTglobal!$A$2:$AA$95,MATCH('EDT Individuel'!$A14&'EDT Individuel'!$E14,EDTglobal!$A$2:$A$95&EDTglobal!$B$2:$B$95,0),MATCH($I$1,EDTglobal!$2:$2,0)),"")} | D14: {=IFERROR(_xlfn.IFS(E14=1,"9h",E14=2,"14h",E14=3,"19h"),"")} | E14: {=MIN(IF(INDIRECT("EDTglobal!"&SUBSTITUTE(ADDRESS(1,MATCH($I$1,EDTglobal!$2:$2,0),4),"1","")&MATCH(A14,EDTglobal!A:A,0)&":"&SUBSTITUTE(ADDRESS(1,MATCH($I$1,EDTglobal!$2:$2,0),4),"1","")&MATCH(A14,EDTglobal!A:A,0)+2)<>"", INDIRECT("EDTglobal!B"&MATCH(A14,EDTglobal!A:A,0)&":B"&MATCH(A14,EDTglobal!A:A,0)+2), ""))} -> 0
A15: =IFERROR(IF(A14+1>Données!$B$2,"",A14+1),"") -> 45423 | B15: =COUNTIFS(INDIRECT("EDTglobal!"&SUBSTITUTE(ADDRESS(1,MATCH($I$1,EDTglobal!$2:$2,0),4),"1","")&":"&SUBSTITUTE(ADDRESS(1,MATCH($I$1,EDTglobal!$2:$2,0),4),"1","")),"*",EDTglobal!$A:$A,'EDT Individuel'!$A15) -> 0 | C15: {=IFERROR(INDEX(EDTglobal!$A$2:$AA$95,MATCH('EDT Individuel'!$A15&'EDT Individuel'!$E15,EDTglobal!$A$2:$A$95&EDTglobal!$B$2:$B$95,0),MATCH($I$1,EDTglobal!$2:$2,0)),"")} | D15: {=IFERROR(_xlfn.IFS(E15=1,"9h",E15=2,"14h",E15=3,"19h"),"")} | E15: {=MIN(IF(INDIRECT("EDTglobal!"&SUBSTITUTE(ADDRESS(1,MATCH($I$1,EDTglobal!$2:$2,0),4),"1","")&MATCH(A15,EDTglobal!A:A,0)&":"&SUBSTITUTE(ADDRESS(1,MATCH($I$1,EDTglobal!$2:$2,0),4),"1","")&MATCH(A15,EDTglobal!A:A,0)+2)<>"", INDIRECT("EDTglobal!B"&MATCH(A15,EDTglobal!A:A,0)&":B"&MATCH(A15,EDTglobal!A:A,0)+2), ""))} -> 0
A16: =IFERROR(IF(A15+1>Données!$B$2,"",A15+1),"") -> 45424 | B16: =COUNTIFS(INDIRECT("EDTglobal!"&SUBSTITUTE(ADDRESS(1,MATCH($I$1,EDTglobal!$2:$2,0),4),"1","")&":"&SUBSTITUTE(ADDRESS(1,MATCH($I$1,EDTglobal!$2:$2,0),4),"1","")),"*",EDTglobal!$A:$A,'EDT Individuel'!$A16) -> 0 | C16: {=IFERROR(INDEX(EDTglobal!$A$2:$AA$95,MATCH('EDT Individuel'!$A16&'EDT Individuel'!$E16,EDTglobal!$A$2:$A$95&EDTglobal!$B$2:$B$95,0),MATCH($I$1,EDTglobal!$2:$2,0)),"")} | D16: {=IFERROR(_xlfn.IFS(E16=1,"9h",E16=2,"14h",E16=3,"19h"),"")} | E16: {=MIN(IF(INDIRECT("EDTglobal!"&SUBSTITUTE(ADDRESS(1,MATCH($I$1,EDTglobal!$2:$2,0),4),"1","")&MATCH(A16,EDTglobal!A:A,0)&":"&SUBSTITUTE(ADDRESS(1,MATCH($I$1,EDTglobal!$2:$2,0),4),"1","")&MATCH(A16,EDTglobal!A:A,0)+2)<>"", INDIRECT("EDTglobal!B"&MATCH(A16,EDTglobal!A:A,0)&":B"&MATCH(A16,EDTglobal!A:A,0)+2), ""))} -> 0
A17: =IFERROR(IF(A16+1>Données!$B$2,"",A16+1),"") -> 45425 | B17: =COUNTIFS(INDIRECT("EDTglobal!"&SUBSTITUTE(ADDRESS(1,MATCH($I$1,EDTglobal!$2:$2,0),4),"1","")&":"&SUBSTITUTE(ADDRESS(1,MATCH($I$1,EDTglobal!$2:$2,0),4),"1","")),"*",EDTglobal!$A:$A,'EDT Individuel'!$A17) -> 0 | C17: {=IFERROR(INDEX(EDTglobal!$A$2:$AA$95,MATCH('EDT Individuel'!$A17&'EDT Individuel'!$E17,EDTglobal!$A$2:$A$95&EDTglobal!$B$2:$B$95,0),MATCH($I$1,EDTglobal!$2:$2,0)),"")} | D17: {=IFERROR(_xlfn.IFS(E17=1,"9h",E17=2,"14h",E17=3,"19h"),"")} | E17: {=MIN(IF(INDIRECT("EDTglobal!"&SUBSTITUTE(ADDRESS(1,MATCH($I$1,EDTglobal!$2:$2,0),4),"1","")&MATCH(A17,EDTglobal!A:A,0)&":"&SUBSTITUTE(ADDRESS(1,MATCH($I$1,EDTglobal!$2:$2,0),4),"1","")&MATCH(A17,EDTglobal!A:A,0)+2)<>"", INDIRECT("EDTglobal!B"&MATCH(A17,EDTglobal!A:A,0)&":B"&MATCH(A17,EDTglobal!A:A,0)+2), ""))} -> 0
... A35: =IFERROR(IF(A34+1>Données!$B$2,"",A34+1),"") -> 45443 | B35: =COUNTIFS(INDIRECT("EDTglobal!"&SUBSTITUTE(ADDRESS(1,MATCH($I$1,EDTglobal!$2:$2,0),4),"1","")&":"&SUBSTITUTE(ADDRESS(1,MATCH($I$1,EDTglobal!$2:$2,0),4),"1","")),"*",EDTglobal!$A:$A,'EDT Individuel'!$A35) -> 0 | C35: {=IFERROR(INDEX(EDTglobal!$A$2:$AA$95,MATCH('EDT Individuel'!$A35&'EDT Individuel'!$E35,EDTglobal!$A$2:$A$95&EDTglobal!$B$2:$B$95,0),MATCH($I$1,EDTglobal!$2:$2,0)),"")} | D35: {=IFERROR(_xlfn.IFS(E35=1,"9h",E35=2,"14h",E35=3,"19h"),"")} | E35: {=MIN(IF(INDIRECT("EDTglobal!"&SUBSTITUTE(ADDRESS(1,MATCH($I$1,EDTglobal!$2:$2,0),4),"1","")&MATCH(A35,EDTglobal!A:A,0)&":"&SUBSTITUTE(ADDRESS(1,MATCH($I$1,EDTglobal!$2:$2,0),4),"1","")&MATCH(A35,EDTglobal!A:A,0)+2)<>"", INDIRECT("EDTglobal!B"&MATCH(A35,EDTglobal!A:A,0)&":B"&MATCH(A35,EDTglobal!A:A,0)+2), ""))} -> 0
A36: Total services : | B36: =SUM(B5:B35) -> 7
A37: =IFERROR(IF(#REF!+1>Données!$B$2,"",#REF!+1),"")
A38: =IFERROR(IF(A37+1>Données!$B$2,"",A37+1),"")
A39: =IFERROR(IF(A38+1>Données!$B$2,"",A38+1),"")
A40: =IFERROR(IF(A39+1>Données!$B$2,"",A39+1),"")
A41: =IFERROR(IF(A40+1>Données!$B$2,"",A40+1),"")
A42: =IFERROR(IF(A41+1>Données!$B$2,"",A41+1),"")
A43: =IFERROR(IF(A42+1>Données!$B$2,"",A42+1),"")
A44: =IFERROR(IF(A43+1>Données!$B$2,"",A43+1),"")
A45: =IFERROR(IF(A44+1>Données!$B$2,"",A44+1),"")
A46: =IFERROR(IF(A45+1>Données!$B$2,"",A45+1),"")
A47: =IFERROR(IF(A46+1>Données!$B$2,"",A46+1),"")
A48: =IFERROR(IF(A47+1>Données!$B$2,"",A47+1),"")
A49: =IFERROR(IF(A48+1>Données!$B$2,"",A48+1),"")
... A96: =IFERROR(IF(A95+1>Données!$B$2,"",A95+1),"")
A97: =IFERROR(IF(A94+1>Données!$B$2,"",A94+1),"")
A100: =IFERROR(IF(A97+1>Données!$B$2,"",A97+1),"")
A103: =IFERROR(IF(A100+1>Données!$B$2,"",A100+1),"")
