Workbook

Sheet Feuil1
B1: 1er mois | C1: 2ème mois | D1: 3ème mois | E1: 4ème mois | F1: 5ème mois | G1: 6ème mois | H1: 7ème mois | I1: 8ème mois | J1: 9ème mois | K1: 10ème mois | L1: 11ème mois | M1: 12ème mois
B2: 1 | C2: 2 | D2: 3 | E2: 4 | F2: 5 | G2: 6 | H2: 7 | I2: 8 | J2: 9 | K2: 10 | L2: 11 | M2: 12
A4: avec les somme.si : OK | B4: =SUMIF(Feuil2!$A$2:$A$9,">="&B$2,Feuil2!$B$2:$B$9) -> 29 | C4: =SUMIF(Feuil2!$A$2:$A$9,">="&C$2,Feuil2!$B$2:$B$9) -> 27 | D4: =SUMIF(Feuil2!$A$2:$A$9,">="&D$2,Feuil2!$B$2:$B$9) -> 26.5 | E4: =SUMIF(Feuil2!$A$2:$A$9,">="&E$2,Feuil2!$B$2:$B$9) -> 25 | F4: =SUMIF(Feuil2!$A$2:$A$9,">="&F$2,Feuil2!$B$2:$B$9) -> 25 | G4: =SUMIF(Feuil2!$A$2:$A$9,">="&G$2,Feuil2!$B$2:$B$9) -> 25 | H4: =SUMIF(Feuil2!$A$2:$A$9,">="&H$2,Feuil2!$B$2:$B$9) -> 25 | I4: =SUMIF(Feuil2!$A$2:$A$9,">="&I$2,Feuil2!$B$2:$B$9) -> 22 | ... M4: =SUMIF(Feuil2!$A$2:$A$9,">="&M$2,Feuil2!$B$2:$B$9) -> 18
A6: avec les somme.si.ens : pas OK
A7: Pommes | B7: =SUMIFS(Feuil2!$B:$B,Feuil2!$A:$A,">="&B$2,Feuil2!$C:$C,Feuil1!$A7) -> 9.5 | C7: =SUMIFS(Feuil2!$B:$B,Feuil2!$A:$A,">="&C$2,Feuil2!$C:$C,Feuil1!$A7) -> 7.5 | D7: =SUMIFS(Feuil2!$B:$B,Feuil2!$A:$A,">="&D$2,Feuil2!$C:$C,Feuil1!$A7) -> 7.5 | E7: =SUMIFS(Feuil2!$B:$B,Feuil2!$A:$A,">="&E$2,Feuil2!$C:$C,Feuil1!$A7) -> 6 | F7: =SUMIFS(Feuil2!$B:$B,Feuil2!$A:$A,">="&F$2,Feuil2!$C:$C,Feuil1!$A7) -> 6 | G7: =SUMIFS(Feuil2!$B:$B,Feuil2!$A:$A,">="&G$2,Feuil2!$C:$C,Feuil1!$A7) -> 6 | H7: =SUMIFS(Feuil2!$B:$B,Feuil2!$A:$A,">="&H$2,Feuil2!$C:$C,Feuil1!$A7) -> 6 | I7: =SUMIFS(Feuil2!$B:$B,Feuil2!$A:$A,">="&I$2,Feuil2!$C:$C,Feuil1!$A7) -> 6 | ... M7: =SUMIFS(Feuil2!$B:$B,Feuil2!$A:$A,">="&M$2,Feuil2!$C:$C,Feuil1!$A7) -> 2
A8: Poires | B8: =SUMIFS(Feuil2!$B:$B,Feuil2!$A:$A,">="&B$2,Feuil2!$C:$C,Feuil1!$A8) -> 19.5 | C8: =SUMIFS(Feuil2!$B:$B,Feuil2!$A:$A,">="&C$2,Feuil2!$C:$C,Feuil1!$A8) -> 19.5 | D8: =SUMIFS(Feuil2!$B:$B,Feuil2!$A:$A,">="&D$2,Feuil2!$C:$C,Feuil1!$A8) -> 19 | E8: =SUMIFS(Feuil2!$B:$B,Feuil2!$A:$A,">="&E$2,Feuil2!$C:$C,Feuil1!$A8) -> 19 | F8: =SUMIFS(Feuil2!$B:$B,Feuil2!$A:$A,">="&F$2,Feuil2!$C:$C,Feuil1!$A8) -> 19 | G8: =SUMIFS(Feuil2!$B:$B,Feuil2!$A:$A,">="&G$2,Feuil2!$C:$C,Feuil1!$A8) -> 19 | H8: =SUMIFS(Feuil2!$B:$B,Feuil2!$A:$A,">="&H$2,Feuil2!$C:$C,Feuil1!$A8) -> 19 | I8: =SUMIFS(Feuil2!$B:$B,Feuil2!$A:$A,">="&I$2,Feuil2!$C:$C,Feuil1!$A8) -> 16 | ... M8: =SUMIFS(Feuil2!$B:$B,Feuil2!$A:$A,">="&M$2,Feuil2!$C:$C,Feuil1!$A8) -> 16

Sheet Feuil2
A1: Nombre de mois | B1: solde par mois restant
A2: 1 | B2: 2 | C2: pommes
A3: 7 | B3: 3 | C3: poires
A4: 9 | B4: 4 | C4: pommes
A5: 12 | B5: 2 | C5: pommes
A6: 15 | B6: 7 | C6: poires
A7: 2 | B7: 0.5 | C7: poires
A8: 3 | B8: 1.5 | C8: pommes
A9: 18 | B9: 9 | C9: poires

Sheet Feuil3
