Workbook
Name Connaissance_rando: Données!$D$3:$D$14
Name Dessert: Données!$G$4:$G$5
Name payé: Bénévoles!$L$15:$L$16
Name personne: Bénévoles!$L$8:$L$9
Name Prix: 'Hello Asso'!$AA$7:$AA$24
Name randonnée: 'Sur place'!$AI$6:$AI$8
Name repas: Bénévoles!$L$5:$L$6

Sheet Sur place
A1: RANDONNEE GOURMANDE - ECOLE NOEL PINOT
A5: Nom - prénoms | B5: Commune (département) | C5: Mail | D5: Randonnée choisie | E5: Nombre de randonneurs enfants | F5: Nombres de randonneurs adultes | G5: Total | H5: Comment avez-vous connu la randonnée ?
K6: Enfants | L6: Adultes | AI6: 5,5 kms
J7: 5,5 kms | K7: =SUMIFS($E$10:$E$351,$D$10:$D$351,J7) -> 0 | L7: =SUMIFS($F$10:$F$351,$D$10:$D$351,J7) -> 0 | AI7: 8,5 kms
J8: 8,5 kms | K8: =SUMIFS($E$10:$E$351,$D$10:$D$351,J8) -> 0 | L8: =SUMIFS($F$10:$F$351,$D$10:$D$351,J8) -> 0 | AI8: 12 kms
E9: 2 | F9: 4 | J9: 12 kms | K9: =SUMIFS($E$10:$E$351,$D$10:$D$351,J9) -> 0 | L9: =SUMIFS($F$10:$F$351,$D$10:$D$351,J9) -> 0
G10: =(E10*E9)+(F10*F9) -> 0
G11: =(E11*E10)+(F11*F10) -> 0 | J11: Total | K11: =SUM(K7:K9) -> 0 | L11: =SUM(L7:L9) -> 0 | M11: =SUM(K11:L11) -> 0
G12: =(E12*E11)+(F12*F11) -> 0 | J12: Total € | K12: =K11*E9 -> 0 | L12: =L11*F9 -> 0 | M12: =SUM(K12:L12) -> 0
G13: =(E13*E12)+(F13*F12) -> 0
G14: =(E14*E13)+(F14*F13) -> 0 | J14: Comment avez-vous connu la rando ?
G15: =(E15*E14)+(F15*F14) -> 0 | J15: Facebook | M15: =COUNTIF($H$10:$H$284,"Facebook") -> 0
G16: =(E16*E15)+(F16*F15) -> 0 | J16: Bouche à oreille | M16: =COUNTIF($H$10:$H$284,"Bouche à oreille") -> 0
G17: =(E17*E16)+(F17*F16) -> 0 | J17: Connaissance de l'école | M17: =COUNTIF($H$10:$H$284,"Connaissances de l'école") -> 0
G18: =(E18*E17)+(F18*F17) -> 0 | J18: FM | M18: =COUNTIF($H$10:$H$284,"FM") -> 0
G19: =(E19*E18)+(F19*F18) -> 0 | J19: Affiche - Communication | M19: =COUNTIF($H$10:$H$284,"Affiches - Communication") -> 0
G20: =(E20*E19)+(F20*F19) -> 0 | J20: Autres | M20: =COUNTIF($H$10:$H$284,"Autres") -> 0
G21: =(E21*E20)+(F21*F20) -> 0
G22: =(E22*E21)+(F22*F21) -> 0
G23: =(E23*E22)+(F23*F22) -> 0
G24: =(E24*E23)+(F24*F23) -> 0
G25: =(E25*E24)+(F25*F24) -> 0
G26: =(E26*E25)+(F26*F25) -> 0
G27: =(E27*E26)+(F27*F26) -> 0
G28: =(E28*E27)+(F28*F27) -> 0
G29: =(E29*E28)+(F29*F28) -> 0
G30: =(E30*E29)+(F30*F29) -> 0
G31: =(E31*E30)+(F31*F30) -> 0
G32: =(E32*E31)+(F32*F31) -> 0
... G351: =(E351*E350)+(F351*F350) -> 0

Sheet Pré inscription rando pédestre
A1: RANDONNEE PEDESTRE - ECOLE NOEL PINOT
A5: Nom | B5: Choix rando | C5: Nombre de randonneurs enfants | D5: Nombres de randonneurs adultes | E5: Total | F5: Payé?
I6: Enfants | J6: Adultes
H7: 5,5 kms | I7: =SUMIFS(C10:C351,B10:B351,H7) -> 0 | J7: =SUMIFS($D$10:$D$351,$B$10:$B$351,H7) -> 0
H8: 8,5 kms | I8: =SUMIFS($C$10:$C$351,$B$10:$B$351,H8) -> 0 | J8: =SUMIFS($D$10:$D$351,$B$10:$B$351,H8) -> 0
C9: 2 | D9: 4 | H9: 12 kms | I9: =SUMIFS($C$10:$C$351,$B$10:$B$351,H9) -> 0 | J9: =SUMIFS($D$10:$D$351,$B$10:$B$351,H9) -> 0
E10: =(C10*2)+(D10*4) -> 0
E11: =(C11*2)+(D11*4) -> 0 | H11: Total | I11: =SUM(I7:I9) -> 0 | J11: =SUM(J7:J9) -> 0 | K11: =SUM(I11:J11) -> 0
E12: =(C12*2)+(D12*4) -> 0 | H12: Total € | I12: =I11*C9 -> 0 | J12: =J11*D9 -> 0 | K12: =SUM(I12:J12) -> 0
E13: =(C13*2)+(D13*4) -> 0
E14: =(C14*2)+(D14*4) -> 0
E15: =(C15*2)+(D15*4) -> 0
E16: =(C16*2)+(D16*4) -> 0
E17: =(C17*2)+(D17*4) -> 0
E18: =(C18*2)+(D18*4) -> 0
E19: =(C19*2)+(D19*4) -> 0
E20: =(C20*2)+(D20*4) -> 0
E21: =(C21*2)+(D21*4) -> 0
E22: =(C22*2)+(D22*4) -> 0
E23: =(C23*2)+(D23*4) -> 0
E24: =(C24*2)+(D24*4) -> 0
... E333: =(C333*2)+(D333*4) -> 0
E334: =(C334*2)+(D334*4) -> 0 | AH334: 5,5 kms
E335: =(C335*2)+(D335*4) -> 0 | AH335: 8,5 kms
E336: =(C336*2)+(D336*4) -> 0 | AH336: 12 kms
E337: =(C337*2)+(D337*4) -> 0
E338: =(C338*2)+(D338*4) -> 0
E339: =(C339*2)+(D339*4) -> 0
E340: =(C340*2)+(D340*4) -> 0
E341: =(C341*2)+(D341*4) -> 0
E342: =(C342*2)+(D342*4) -> 0
E343: =(C343*2)+(D343*4) -> 0
E344: =(C344*2)+(D344*4) -> 0
E345: =(C345*2)+(D345*4) -> 0
E346: =(C346*2)+(D346*4) -> 0
E347: =(C347*2)+(D347*4) -> 0
E348: =(C348*2)+(D348*4) -> 0
... E351: =(C351*2)+(D351*4) -> 0

Sheet Données
D3: Facebook
D4: Bouche à oreille | G4: Eclair chocolat
D5: Connaissances de l'école | G5: Tarte aux fruits
D6: FM
D7: Affiches - Communication
D8: Autres

Sheet Pré inscription Rando Gourmande
A1: RANDONNEE GOURMANDE - ECOLE NOEL PINOT
A5: Nom | B5: Choix randonnée | C5: Nombre de randonneurs enfants | D5: Nombres de randonneurs adultes | E5: Total | F5: Payé? | G5: Choix dessert
L6: Enfants | M6: Adultes
K7: 5,5 kms | L7: =SUMIFS($C$10:$C$351,$B$10:$B$351,K7) -> 0 | M7: =SUMIFS($D$10:$D$351,$B$10:$B$351,K7) -> 0
K8: 8,5 kms | L8: =SUMIFS($C$10:$C$351,$B$10:$B$351,K8) -> 0 | M8: =SUMIFS($D$10:$D$351,$B$10:$B$351,K8) -> 0
C9: 2 | D9: 4 | G9: Eclair chocolat | H9: Tarte aux fruits | K9: 12 kms | L9: =SUMIFS($C$10:$C$351,$B$10:$B$351,K9) -> 0 | M9: =SUMIFS($D$10:$D$351,$B$10:$B$351,K9) -> 0
E10: =(C10*C9)+(D9*D10) -> 0 | K10: Total repas | L10: =SUM(L7:L9) -> 0 | M10: =SUM(M7:M9) -> 0 | N10: =SUM(L10:M10) -> 0
E11: =(C11*C10)+(D10*D11) -> 0 | K11: Total € | L11: =L10*C9 -> 0 | M11: =M10*D9 -> 0 | N11: =L11+M11 -> 0
E12: =(C12*C11)+(D11*D12) -> 0
E13: =(C13*C12)+(D12*D13) -> 0 | K13: Total desserts | L13: Eclair chocolat | M13: Tarte aux fruits
E14: =(C14*C13)+(D13*D14) -> 0 | L14: =SUM(G10:G351) -> 0 | M14: =SUM(H10:H351) -> 0 | N14: =SUM(L14:M14) -> 0
E15: =(C15*C14)+(D14*D15) -> 0
E16: =(C16*C15)+(D15*D16) -> 0
E17: =(C17*C16)+(D16*D17) -> 0
E18: =(C18*C17)+(D17*D18) -> 0
E19: =(C19*C18)+(D18*D19) -> 0
E20: =(C20*C19)+(D19*D20) -> 0
E21: =(C21*C20)+(D20*D21) -> 0
E22: =(C22*C21)+(D21*D22) -> 0
E23: =(C23*C22)+(D22*D23) -> 0
E24: =(C24*C23)+(D23*D24) -> 0
E25: =(C25*C24)+(D24*D25) -> 0
E26: =(C26*C25)+(D25*D26) -> 0
... E351: =(C351*C350)+(D350*D351) -> 0

Sheet Hello Asso
A1: RANDONNEE GOURMANDE - ECOLE NOEL PINOT
A5: Nom | B5: Choix randonnée | C5: Nombre de randonneurs enfants | D5: Nombres de randonneurs adultes | E5: Total | F5: Payé? | G5: Choix dessert
L6: Enfants | M6: Adultes
K7: 5,5 kms | L7: =SUMIFS($C$10:$C$351,$B$10:$B$351,K7) -> 0 | M7: =SUMIFS($D$10:$D$351,$B$10:$B$351,K7) -> 0 | AA7: 2
K8: 8,5 kms | L8: =SUMIFS($C$10:$C$351,$B$10:$B$351,K8) -> 0 | M8: =SUMIFS($D$10:$D$351,$B$10:$B$351,K8) -> 0 | AA8: 3
C9: 10 | D9: 15 | G9: Eclair chocolat | H9: Tarte aux fruits | K9: 12 kms | L9: =SUMIFS($C$10:$C$351,$B$10:$B$351,K9) -> 0 | M9: =SUMIFS($D$10:$D$351,$B$10:$B$351,K9) -> 0 | AA9: 4
E10: =(C10*$C$9)+(D10*$D$9) -> 0 | K10: Total repas | L10: =SUM(L7:L9) -> 0 | M10: =SUM(M7:M9) -> 0 | N10: =SUM(L10:M10) -> 0 | AA10: 5
E11: =(C11*$C$9)+(D11*$D$9) -> 0 | K11: Total € | L11: =L10*C9 -> 0 | M11: =M10*D9 -> 0 | N11: =SUM(L11:M11) -> 0 | AA11: 6
E12: =(C12*$C$9)+(D12*$D$9) -> 0 | AA12: 7
E13: =(C13*$C$9)+(D13*$D$9) -> 0 | K13: Total desserts | L13: Eclair chocolat | M13: Tarte aux fruits | AA13: 8
E14: =(C14*$C$9)+(D14*$D$9) -> 0 | L14: =SUM(G10:G351) -> 0 | M14: =SUM(H10:H351) -> 0 | N14: =SUM(L14:M14) -> 0 | AA14: 9
E15: =(C15*$C$9)+(D15*$D$9) -> 0 | AA15: 10
E16: =(C16*$C$9)+(D16*$D$9) -> 0 | AA16: 11
E17: =(C17*$C$9)+(D17*$D$9) -> 0 | AA17: 12
E18: =(C18*$C$9)+(D18*$D$9) -> 0 | AA18: 13
E19: =(C19*$C$9)+(D19*$D$9) -> 0 | AA19: 14
E20: =(C20*$C$9)+(D20*$D$9) -> 0 | AA20: 15
E21: =(C21*$C$9)+(D21*$D$9) -> 0 | AA21: 16
E22: =(C22*$C$9)+(D22*$D$9) -> 0 | AA22: 17
E23: =(C23*$C$9)+(D23*$D$9) -> 0
E24: =(C24*$C$9)+(D24*$D$9) -> 0
E25: =(C25*$C$9)+(D25*$D$9) -> 0
E26: =(C26*$C$9)+(D26*$D$9) -> 0
E27: =(C27*$C$9)+(D27*$D$9) -> 0
E28: =(C28*$C$9)+(D28*$D$9) -> 0
E29: =(C29*$C$9)+(D29*$D$9) -> 0
E30: =(C30*$C$9)+(D30*$D$9) -> 0
E31: =(C31*$C$9)+(D31*$D$9) -> 0
E32: =(C32*$C$9)+(D32*$D$9) -> 0
E33: =(C33*$C$9)+(D33*$D$9) -> 0
E34: =(C34*$C$9)+(D34*$D$9) -> 0
... E351: =(C351*$C$9)+(D351*$D$9) -> 0

Sheet Bénévoles
B1: Choix des repas bénévoles
B4: Bénévoles | C4: Personne (adulte ou enfant) | D4: Repas | E4: Dessert | F4: Somme | G4: Payé ?
B5: sbgf | C5: Adulte | D5: Repas | F5: =IF(D5="Sandwichs",0,I5) -> 10 | G5: oui | I5: =IF(C5="Adulte",10,IF(C5="Enfant",6)) -> 10 | L5: Sandwichs
B6: rgq | C6: Enfant | D6: Sandwichs | E6: Eclair chocolat | F6: =IF(D6="Sandwichs",0,I6) -> 0 | G6: non | I6: =IF(C6="Adulte",10,IF(C6="Enfant",6)) -> 6 | L6: Repas
C7: Enfant | D7: Sandwichs | F7: =IF(D7="Sandwichs",0,I7) -> 0 | G7: non | I7: =IF(C7="Adulte",10,IF(C7="Enfant",6)) -> 6
C8: Adulte | D8: Repas | E8: Tarte aux fruits | F8: =IF(D8="Sandwichs",0,I8) -> 10 | G8: oui | I8: =IF(C8="Adulte",10,IF(C8="Enfant",6)) -> 10 | L8: Enfant
F9: =IF(D9="Sandwichs",0,I9) -> FALSE | G9: non | I9: =IF(C9="Adulte",10,IF(C9="Enfant",6)) -> FALSE | L9: Adulte
F10: =IF(D10="Sandwichs",0,I10) -> FALSE | G10: non | I10: =IF(C10="Adulte",10,IF(C10="Enfant",6)) -> FALSE
F11: =IF(D11="Sandwichs",0,I11) -> FALSE | G11: non | I11: =IF(C11="Adulte",10,IF(C11="Enfant",6)) -> FALSE | L11: Eclair au chocolat
F12: =IF(D12="Sandwichs",0,I12) -> FALSE | G12: non | I12: =IF(C12="Adulte",10,IF(C12="Enfant",6)) -> FALSE | L12: Tartelette aux pommes
F13: =IF(D13="Sandwichs",0,I13) -> FALSE | G13: non | I13: =IF(C13="Adulte",10,IF(C13="Enfant",6)) -> FALSE
F14: =IF(D14="Sandwichs",0,I14) -> FALSE | G14: non | I14: =IF(C14="Adulte",10,IF(C14="Enfant",6)) -> FALSE
F15: =IF(D15="Sandwichs",0,I15) -> FALSE | G15: non | I15: =IF(C15="Adulte",10,IF(C15="Enfant",6)) -> FALSE | L15: oui
F16: =IF(D16="Sandwichs",0,I16) -> FALSE | G16: non | I16: =IF(C16="Adulte",10,IF(C16="Enfant",6)) -> FALSE | L16: non
F17: =IF(D17="Sandwichs",0,I17) -> FALSE | G17: non | I17: =IF(C17="Adulte",10,IF(C17="Enfant",6)) -> FALSE
F18: =IF(D18="Sandwichs",0,I18) -> FALSE | G18: non | I18: =IF(C18="Adulte",10,IF(C18="Enfant",6)) -> FALSE
F19: =IF(D19="Sandwichs",0,I19) -> FALSE | G19: non | I19: =IF(C19="Adulte",10,IF(C19="Enfant",6)) -> FALSE
F20: =IF(D20="Sandwichs",0,I20) -> FALSE | G20: non | I20: =IF(C20="Adulte",10,IF(C20="Enfant",6)) -> FALSE
F21: =IF(D21="Sandwichs",0,I21) -> FALSE | G21: non | I21: =IF(C21="Adulte",10,IF(C21="Enfant",6)) -> FALSE
F22: =IF(D22="Sandwichs",0,I22) -> FALSE | G22: non | I22: =IF(C22="Adulte",10,IF(C22="Enfant",6)) -> FALSE
F23: =IF(D23="Sandwichs",0,I23) -> FALSE | G23: non | I23: =IF(C23="Adulte",10,IF(C23="Enfant",6)) -> FALSE
F24: =IF(D24="Sandwichs",0,I24) -> FALSE | G24: non | I24: =IF(C24="Adulte",10,IF(C24="Enfant",6)) -> FALSE
F25: =IF(D25="Sandwichs",0,I25) -> FALSE | G25: non | I25: =IF(C25="Adulte",10,IF(C25="Enfant",6)) -> FALSE
B27: Total de bénévoles | C27: =COUNTA(B5:B25) -> 2 | E27: Total à percevoir | F27: =SUM(F5:F25) -> 20
E28: Total perçu | F28: =SUMIFS(F5:F25,G5:G25,G28) -> 20 | G28: oui
E30: Enfant | F30: Adulte
D31: Repas | E31: =COUNTIFS($D$5:$D$25,$D31,$C$5:$C$25,E$30) -> 0 | F31: =COUNTIFS($D$5:$D$25,$D31,$C$5:$C$25,F$30) -> 2
D32: Sandwichs | E32: =COUNTIFS($D$5:$D$25,$D32,$C$5:$C$25,E$30) -> 2 | F32: =COUNTIFS($D$5:$D$25,$D32,$C$5:$C$25,F$30) -> 0

Sheet Total repas
B1: Total commande repas Chili Con Carne et desserts
C5: Enfants | D5: Adultes | E5: Desserts
E6: Eclair au chocolat | F6: Tarte aux fruits
B7: Pré-inscription papier | C7: ='Pré inscription Rando Gourmande'!L10 -> 0 | D7: ='Pré inscription Rando Gourmande'!M10 -> 0 | E7: ='Pré inscription Rando Gourmande'!L14 -> 0 | F7: ='Pré inscription Rando Gourmande'!M14 -> 0 | J7: =C7*10 -> 0 | K7: =D7*15 -> 0
B8: Hello-Asso | C8: ='Hello Asso'!L10 -> 0 | D8: ='Hello Asso'!M10 -> 0 | E8: ='Hello Asso'!L14 -> 0 | F8: ='Hello Asso'!M14 -> 0 | J8: =C8*10 -> 0 | K8: =D8*15 -> 0
B9: Total randonneurs | C9: =SUM(C7:C8) -> 0 | D9: =SUM(D7:D8) -> 0 | E9: =SUM(E7:E8) -> 0 | F9: =SUM(F7:F8) -> 0 | J9: =C9*6 -> 0 | K9: =D9*10 -> 0
C10: =C9+D9 -> 0 | E10: =E9+F9 -> 0
B12: Bénévoles repas | C12: =Bénévoles!#REF! -> #REF! | D12: =Bénévoles!D27 -> 0 | E12: =Bénévoles!E27 -> Total à percevoir | F12: =Bénévoles!#REF! -> #REF!
B13: Bénévoles sandwichs
B15: Total | C15: =C9+C12 -> #REF! | D15: =D9+D12 -> 0 | E15: =E9+E12+E13 -> #VALUE! | F15: =F9+F12+F13 -> #REF!
C16: =C15+D15 -> #REF! | E16: =E15+F15 -> #VALUE!

Sheet Total randonneurs
C3: Enfants | G3: Adultes
C4: Pédestre | E4: Gourmande | G4: Pédestre | I4: Gourmande
C5: Pré inscription | D5: Sur place | E5: Pré inscription | F5: Hello Asso | G5: Pré inscription | H5: Sur place | I5: Pré inscription | J5: Hello Asso
B6: 5,5 kms | C6: ='Pré inscription rando pédestre'!I7 -> 0 | D6: ='Sur place'!K7 -> 0 | E6: ='Pré inscription Rando Gourmande'!L7 -> 0 | F6: ='Hello Asso'!L7 -> 0 | G6: ='Pré inscription rando pédestre'!J7 -> 0 | H6: ='Sur place'!L7 -> 0 | I6: ='Pré inscription Rando Gourmande'!M7 -> 0 | J6: ='Hello Asso'!M7 -> 0
B7: 8,5 kms | C7: ='Pré inscription rando pédestre'!I8 -> 0 | D7: ='Sur place'!K8 -> 0 | E7: ='Pré inscription Rando Gourmande'!L8 -> 0 | F7: ='Hello Asso'!L8 -> 0 | G7: ='Pré inscription rando pédestre'!J8 -> 0 | H7: ='Sur place'!L8 -> 0 | I7: ='Pré inscription Rando Gourmande'!M8 -> 0 | J7: ='Hello Asso'!M8 -> 0
B8: 12 kms | C8: ='Pré inscription rando pédestre'!I9 -> 0 | D8: ='Sur place'!K9 -> 0 | E8: ='Pré inscription Rando Gourmande'!L9 -> 0 | F8: ='Hello Asso'!L9 -> 0 | G8: ='Pré inscription rando pédestre'!J9 -> 0 | H8: ='Sur place'!L9 -> 0 | I8: ='Pré inscription Rando Gourmande'!M9 -> 0 | J8: ='Hello Asso'!M9 -> 0
B10: Total | C10: =SUM(C6:C8) -> 0 | D10: =SUM(D6:D8) -> 0 | E10: =SUM(E6:E8) -> 0 | F10: =SUM(F6:F8) -> 0 | G10: =SUM(G6:G8) -> 0 | H10: =SUM(H6:H8) -> 0 | I10: =SUM(I6:I8) -> 0 | J10: =SUM(J6:J8) -> 0
B13: Pré-inscription | C13: =SUM(C10,E10,G10,I10) -> 0 | D13: =C13/C27 -> #DIV/0!
B14: Sur place | C14: =SUM(D10,H10) -> 0 | D14: =C14/C27 -> #DIV/0!
B15: Hello Asso | C15: =SUM(F10,J10) -> 0 | D15: =C15/C27 -> #DIV/0!
B17: Pédestre | C17: =SUM(C10,D10,G10,H10) -> 0 | D17: =C17/C27 -> #DIV/0!
B18: Gourmande | C18: =SUM(E10,F10,I10,J10) -> 0 | D18: =C18/C27 -> #DIV/0!
B20: Enfants | C20: =SUM(C10:F10) -> 0 | D20: =C20/C27 -> #DIV/0!
B21: Adultes | C21: =SUM(G10:J10) -> 0 | D21: =C21/C27 -> #DIV/0!
B23: 5,5 kms | C23: =SUM(C6,D6,E6,F6,G6,H6,I6,J6) -> 0 | D23: =C23/C27 -> #DIV/0!
B24: 8,5 kms | C24: =SUM(C7,D7,E7,F7,G7,H7,I7,J7,) -> 0 | D24: =C24/C27 -> #DIV/0!
B25: 12 kms | C25: =SUM(C8,D8,E8,F8,G8,H8,I8,J8) -> 0 | D25: =C25/C27 -> #DIV/0!
B27: Randonneurs total | C27: =SUM(C10:J10) -> 0

Sheet Bilan financier
B3: Recettes
B6: Inscriptions
C7: Enfants | D7: Adultes | E7: Total
B8: Hello Asso | C8: ='Hello Asso'!L10 -> 0 | D8: ='Hello Asso'!M10 -> 0 | E8: =(C8*10)+(D8*15) -> 0
B9: Pré-inscription | C9: ='Pré inscription Rando Gourmande'!L10 -> 0 | D9: ='Pré inscription Rando Gourmande'!M10 -> 0 | E9: =(C9*10)+(D9*15) -> 0 | G9: Bilan total
B10: Sur place | C10: ='Sur place'!K11 -> 0 | D10: ='Sur place'!L11 -> 0 | E10: =(C10*2)+(D10*4) -> 0
B11: Bénévoles (repas) | C11: =Bénévoles!#REF! -> #REF! | D11: =Bénévoles!D27 -> 0 | E11: =(C11*6)+(D11*10) -> #REF! | G11: =(E13+E17)-(E25+E30+E37+E44+E51+E58) -> 0
B12: Dons | E12: 0
E13: =SUM(E8:E12) -> #REF!
B15: Jour de randonnée
D16: Bar
E17: =E16 -> 0
B19: Dépenses
B22: Prestataire 1 :
C23: Enfants | D23: Adultes | E23: Total
B24: Repas | C24: ='Total repas'!C15 -> #REF! | D24: ='Total repas'!D15 -> 0 | E24: =(C24*3)+(D24*6) -> #REF!
E25: =SUM(E24) -> #REF!
B27: Prestataire 2 :
B28: Descriptif | C28: Nombre
D30: Total | E30: =SUM(E29:E32) -> 0
B34: Prestataire 3 :
B35: Descriptif | C35: Nombre
D37: Total | E37: =SUM(E36:E39) -> 0
B41: Prestataire 4 :
B42: Descriptif | C42: Nombre
D44: Total | E44: =SUM(E43:E46) -> 0
B48: Fruits
B49: Descriptif | C49: Nombre
D51: Total | E51: =SUM(E50:E53) -> 0
B55: Terrena
B56: Descriptif | C56: Nombre
D58: Total | E58: =SUM(E57:E60) -> 0
