Workbook

Sheet Sortie
A1: Produit | B1: Type | C1: Date | D1: Quantité
A2: X1 | B2: Sortie | C2: 44940 | D2: 129
A3: X1 | B3: Sortie | C3: 44881 | D3: 137
A4: X1 | B4: Sortie | C4: 44915 | D4: 48
A5: X1 | B5: Sortie | C5: 44992 | D5: 92
A6: X2 | B6: Sortie | C6: 44937 | D6: 10
A7: X2 | B7: Sortie SAV | C7: 45019 | D7: 112
A8: X2 | B8: Sortie | C8: 44975 | D8: 172
A9: X2 | B9: Sortie | C9: 44848 | D9: 88
A10: X2 | B10: Sortie SAV | C10: 44842 | D10: 35
A11: X2 | B11: Sortie | C11: 44978 | D11: 176
A12: X2 | B12: Sortie | C12: 44989 | D12: 118
A13: X3 | B13: Sortie | C13: 44846 | D13: 72
... A33: X10 | B33: Sortie | C33: 44957 | D33: 54

Sheet Entree
A1: Produit | B1: Type | C1: Date | D1: Quantité
A2: X1 | B2: Entree SAV | C2: 44871 | D2: 2
A3: X1 | B3: Entree | C3: 44849 | D3: 12
A4: X1 | B4: Entree | C4: 44992 | D4: 26
A5: X1 | B5: Entree SAV | C5: 44855 | D5: 4
A6: X1 | B6: Entree | C6: 44838 | D6: 2
A7: X2 | B7: Entree | C7: 45023 | D7: 2
A8: X2 | B8: Entree SAV | C8: 44987 | D8: 16
A9: X2 | B9: Entree | C9: 44920 | D9: 4
A10: X3 | B10: Entree | C10: 44890 | D10: 2
A11: X4 | B11: Entree | C11: 44854 | D11: 6
A12: X4 | B12: Entree | C12: 44920 | D12: 100
A13: X4 | B13: Entree SAV | C13: 44865 | D13: 147
... A41: X10 | B41: Entree | C41: 45012 | D41: 6

Sheet Jours repos
B1: Semaine | C1: Jours non travaillés | F1: Année
B2: S12 | C2: 2 | F2: 2023
B3: S31 | C3: 5 | F3: 2024
B4: S32 | C4: 5 | F4: 2025
B5: S33 | C5: 5 | F5: 2026
B6: S38 | C6: 2 | F6: 2027
B7: S52 | C7: 5 | F7: 2028
C8: =SUM(C2:C7) -> 24 | F8: 2029
F9: 2030
F10: 2031
F11: 2032
F12: 2033

Sheet Résultat attendu
A1: Produit | B1: Date de dernière sortie | C1: Date de dernière entrée | D1: Somme sorties sur les 3 derniers mois | E1: Somme sorties sur les 6 derniers mois | F1: Somme entrées sur les 3 derniers mois | G1: Somme entrées sur les 6 derniers mois | H1: Sorties mensuelles moyennes (se basant sur les 3 derniers mois et en prenant en compte les jours non travaillés) | I1: Entrées mensuelles moyennes (se basant sur les 3 derniers mois et en prenant en compte les jours non travaillés)
A2: X1 | B2: =Sortie!C5 -> 44992 | C2: =Entree!C4 -> 44992
A3: X2 | B3: =Sortie!C7 -> 45019 | C3: =Entree!C7 -> 45023
A4: X3 | B4: =Sortie!C15 -> 44894 | C4: =Entree!C10 -> 44890
A5: X4 | B5: =Sortie!C19 -> 44981 | C5: =Entree!C16 -> 45039
A6: X5 | B6: =Sortie!C23 -> 44908 | C6: =Entree!C19 -> 45027
A7: X6 | B7: =Sortie!C24 -> 44995 | C7: =Entree!C22 -> 45028
A8: X7 | B8: =Sortie!C25 -> 44992 | C8: =Entree!C25 -> 44849
A9: X8 | B9: =Sortie!C27 -> 45023 | C9: =Entree!C28 -> 44974
A10: X9 | B10: =Sortie!C31 -> 44972 | C10: =Entree!C33 -> 45010
A11: X10 | B11: =Sortie!C33 -> 44957 | C11: =Entree!C40 -> 45026
A14: Produit | B14: Dernière date sortie | C14: Dernière date entrée | D14: Sorties 3 mois | E14: Sorties 6 mois | F14: Entrées 3 mois | G14: Entrées 6 mois | H14: Sorties mensuelles moyenne 3 mois | I14: Entrees mensuelles moyenne 3 mois
A15: X1 | B15: 44992 | C15: 44992 | D15: 92 | E15: 406 | F15: 26 | G15: 26 | H15: 31.672131 | I15: 8.9508197
A16: X2 | B16: 45019 | C16: 45023 | D16: 578 | E16: 588 | F16: 18 | G16: 22 | H16: 198.98361 | I16: 6.1967213
A17: X3 | B17: 44894 | C17: 44890 | E17: 3 | G17: 2
A18: X4 | B18: 44981 | C18: 45039 | D18: 17 | E18: 199 | F18: 188 | G18: 729 | H18: 5.852459 | I18: 64.721311
A19: X5 | B19: 44908 | C19: 45027 | E19: 175 | F19: 319 | G19: 321 | I19: 109.81967
A20: X6 | B20: 44995 | C20: 45028 | D20: 39 | E20: 39 | F20: 83 | G20: 83 | H20: 13.42623 | I20: 28.57377
A21: X7 | B21: 44992 | C21: 44849 | D21: 246 | E21: 246 | H21: 84.688525
A22: X8 | B22: 45023 | C22: 44974 | D22: 162 | E22: 162 | F22: 8 | G22: 9 | H22: 55.770492 | I22: 2.7540984
A23: X9 | B23: 44972 | C23: 45010 | D23: 37 | E23: 132 | F23: 11 | G23: 12 | H23: 12.737705 | I23: 3.7868852
A24: X10 | B24: 44957 | C24: 45026 | E24: 54 | F24: 19 | G24: 71 | I24: 6.5409836
