Workbook
Name année: Données!$C$4
Name chômés: Données!$I$7:$I$21

Sheet PROB
B1: 44927 | C1: S01 - 02/01/23 | J1: S02 - 09/01/23 | Q1: S03 - 16/01/23 | X1: S04 - 23/01/23 | AE1: S05 - 30/01/23 | AL1: S06 - 06/02/23 | AS1: S07 - 13/02/23 | AZ1: S08 - 20/02/23 | BG1: S09 - 27/02/23 | BN1: S10 - 06/03/23 | BU1: S11 - 13/03/23 | CB1: S12 - 20/03/23 | CI1: S13 - 27/03/23 | CP1: S14 - 03/04/23 | CW1: S15 - 10/04/23 | DD1: S16 - 17/04/23 | DK1: S17 - 24/04/23 | DR1: S18 - 01/05/23 | DY1: S19 - 08/05/23 | EF1: S20 - 15/05/23 | EM1: S21 - 22/05/23 | ET1: S22 - 29/05/23 | FA1: S23 - 05/06/23 | FH1: S24 - 12/06/23 | FO1: S25 - 19/06/23 | FV1: S26 - 26/06/23 | GC1: S27 - 03/07/23 | GJ1: S28 - 10/07/23 | GQ1: S29 - 17/07/23 | GX1: S30 - 24/07/23 | HE1: S31 - 31/07/23 | HL1: S32 - 07/08/23 | HS1: S33 - 14/08/23 | HZ1: S34 - 21/08/23 | IG1: S35 - 28/08/23 | IN1: S36 - 04/09/23 | IU1: S37 - 11/09/23 | JB1: S38 - 18/09/23 | JI1: S39 - 25/09/23 | JP1: S40 - 02/10/23 | JW1: S41 - 09/10/23 | KD1: S42 - 16/10/23 | KK1: S43 - 23/10/23 | KR1: S44 - 30/10/23 | KY1: S45 - 06/11/23 | LF1: S46 - 13/11/23 | LM1: S47 - 20/11/23 | LT1: S48 - 27/11/23 | MA1: S49 - 04/12/23 | MH1: S50 - 11/12/23 | MO1: S51 - 18/12/23 | MV1: S52 - 25/12/23
A2: Site 1 | C2: 44928 | D2: =C2+1 -> 44929 | E2: =D2+1 -> 44930 | F2: =E2+1 -> 44931 | G2: =F2+1 -> 44932 | H2: =G2+1 -> 44933 | I2: =H2+1 -> 44934 | J2: =I2+1 -> 44935 | K2: =J2+1 -> 44936 | ... NB2: =NA2+1 -> 45291
A3: Nb postes | B3: Bureau A | C3: =CHOOSE(WEEKDAY(C2,1),"Di","Lu","Ma","Me","Je","Ve","Sa") -> Lu | D3: =CHOOSE(WEEKDAY(D2,1),"Di","Lu","Ma","Me","Je","Ve","Sa") -> Ma | E3: =CHOOSE(WEEKDAY(E2,1),"Di","Lu","Ma","Me","Je","Ve","Sa") -> Me | F3: =CHOOSE(WEEKDAY(F2,1),"Di","Lu","Ma","Me","Je","Ve","Sa") -> Je | G3: =CHOOSE(WEEKDAY(G2,1),"Di","Lu","Ma","Me","Je","Ve","Sa") -> Ve | H3: =CHOOSE(WEEKDAY(H2,1),"Di","Lu","Ma","Me","Je","Ve","Sa") -> Sa | I3: =CHOOSE(WEEKDAY(I2,1),"Di","Lu","Ma","Me","Je","Ve","Sa") -> Di | J3: =CHOOSE(WEEKDAY(J2,1),"Di","Lu","Ma","Me","Je","Ve","Sa") -> Lu | ... NB3: =CHOOSE(WEEKDAY(NB2,1),"Di","Lu","Ma","Me","Je","Ve","Sa") -> Di
A4: 1 | B4: Agent 1
A6: 2 | B6: Agent 2
A8: 3 | B8: Agent 3
A10: 4 | B10: Agent 4
A12: 5 | B12: Agent 5
A14: 6 | B14: Agent 6
A16: 7 | B16: Agent 7
A18: 8 | B18: Agent 8
A20: 9 | C20: A | D20: A | E20: A | F20: A | G20: A | H20: A | I20: A | J20: A | K20: A | L20: A | M20: A | N20: A | O20: A | P20: A | Q20: A | R20: A | S20: A | T20: A | U20: A | V20: A | W20: A | X20: A | Y20: A | Z20: A | AA20: A | AB20: A | AC20: A | AD20: A | AE20: A | AF20: A | AG20: A | AH20: A | AI20: A | AJ20: A | AK20: A | AL20: A | AM20: A | AN20: A | AO20: A | AP20: A | AQ20: A | AR20: A | AS20: A | AT20: A | AU20: A | AV20: A | AW20: A | AX20: A | AY20: A | AZ20: A | BA20: A | BB20: A | BC20: A | BD20: A | BE20: A | BF20: A | BG20: A | BH20: A | BI20: A | BJ20: A | BK20: A | BL20: A | BM20: A | BN20: A | BO20: A | BP20: A | BQ20: A | BR20: A | BS20: A | BT20: A | BU20: A | BV20: A | BW20: A | BX20: A | BY20: A | BZ20: A | CA20: A | CB20: A | CC20: A | CD20: A | CE20: A | CF20: A | CG20: A | CH20: A | CI20: A | CJ20: A | CK20: A | CL20: A | CM20: A | CN20: A | CO20: A
C21: A | D21: A | E21: A | F21: A | G21: A | H21: A | I21: A | J21: A | K21: A | L21: A | M21: A | N21: A | O21: A | P21: A | Q21: A | R21: A | S21: A | T21: A | U21: A | V21: A | W21: A | X21: A | Y21: A | Z21: A | AA21: A | AB21: A | AC21: A | AD21: A | AE21: A | AF21: A | AG21: A | AH21: A | AI21: A | AJ21: A | AK21: A | AL21: A | AM21: A | AN21: A | AO21: A | AP21: A | AQ21: A | AR21: A | AS21: A | AT21: A | AU21: A | AV21: A | AW21: A | AX21: A | AY21: A | AZ21: A | BA21: A | BB21: A | BC21: A | BD21: A | BE21: A | BF21: A | BG21: A | BH21: A | BI21: A | BJ21: A | BK21: A | BL21: A | BM21: A | BN21: A | BO21: A | BP21: A | BQ21: A | BR21: A | BS21: A | BT21: A | BU21: A | BV21: A | BW21: A | BX21: A | BY21: A | BZ21: A | CA21: A | CB21: A | CC21: A | CD21: A | CE21: A | CF21: A | CG21: A | CH21: A | CI21: A | CJ21: A | CK21: A | CL21: A | CM21: A | CN21: A | CO21: A
A22: 10 | C22: A | D22: A | E22: A | F22: A | G22: A | H22: A | I22: A | J22: A | K22: A | L22: A | M22: A | N22: A | O22: A | P22: A | Q22: A | R22: A | S22: A | T22: A | U22: A | V22: A | W22: A | X22: A | Y22: A | Z22: A | AA22: A | AB22: A | AC22: A | AD22: A | AE22: A | AF22: A | AG22: A | AH22: A | AI22: A | AJ22: A | AK22: A | AL22: A | AM22: A | AN22: A | AO22: A | AP22: A | AQ22: A | AR22: A | AS22: A | AT22: A | AU22: A | AV22: A | AW22: A | AX22: A | AY22: A | AZ22: A | BA22: A | BB22: A | BC22: A | BD22: A | BE22: A | BF22: A | BG22: A | BH22: A | BI22: A | BJ22: A | BK22: A | BL22: A | BM22: A | BN22: A | BO22: A | BP22: A | BQ22: A | BR22: A | BS22: A | BT22: A | BU22: A | BV22: A | BW22: A | BX22: A | BY22: A | BZ22: A | CA22: A | CB22: A | CC22: A | CD22: A | CE22: A | CF22: A | CG22: A | CH22: A | CI22: A | CJ22: A | CK22: A | CL22: A | CM22: A | CN22: A | CO22: A | CP22: A | CQ22: A | CR22: A | CS22: A | CT22: A | CU22: A | CV22: A | CW22: A | CX22: A | CY22: A | CZ22: A | DA22: A | DB22: A | DC22: A | DD22: A | DE22: A | DF22: A | DG22: A | DH22: A | DI22: A | DJ22: A | DK22: A | DL22: A | DM22: A | DN22: A | DO22: A | DP22: A | DQ22: A | DR22: A | DS22: A | DT22: A | DU22: A | DV22: A | DW22: A | DX22: A | DY22: A | DZ22: A | EA22: A | EB22: A | EC22: A | ED22: A | EE22: A | EF22: A | EG22: A | EH22: A | EI22: A | EJ22: A | EK22: A | EL22: A | EM22: A | EN22: A | EO22: A | EP22: A | EQ22: A | ER22: A | ES22: A | ET22: A | EU22: A | EV22: A | EW22: A | EX22: A | EY22: A | EZ22: A | FA22: A | FB22: A | FC22: A | FD22: A | FE22: A | FF22: A | FG22: A | FH22: A | FI22: A | FJ22: A | FK22: A | FL22: A | FM22: A | FN22: A | FO22: A | FP22: A | FQ22: A | FR22: A | FS22: A | FT22: A | FU22: A | FV22: A | FW22: A | FX22: A | FY22: A | FZ22: A | GA22: A | GB22: A | GC22: A | GD22: A | GE22: A | GF22: A | GG22: A | GH22: A | GI22: A | GJ22: A | GK22: A | GL22: A | GM22: A | GN22: A | GO22: A | GP22: A | GQ22: A | GR22: A | GS22: A | GT22: A | GU22: A | GV22: A | GW22: A | GX22: A | GY22: A | GZ22: A | HA22: A | HB22: A | HC22: A | HD22: A | HE22: A | HF22: A | HG22: A | HH22: A | HI22: A | HJ22: A | HK22: A | HL22: A | HM22: A | HN22: A | HO22: A | HP22: A | HQ22: A | HR22: A | HS22: A | HT22: A | HU22: A | HV22: A | HW22: A | HX22: A | HY22: A | HZ22: A | IA22: A | IB22: A | IC22: A | ID22: A | IE22: A | IF22: A | IG22: A | IH22: A | II22: A | IJ22: A | IK22: A | IL22: A | IM22: A | IN22: A | IO22: A | IP22: A | IQ22: A | IR22: A | IS22: A | IT22: A | IU22: A | IV22: A | IW22: A | IX22: A | IY22: A | IZ22: A | JA22: A | JB22: A | JC22: A | JD22: A | JE22: A | JF22: A | JG22: A | JH22: A | JI22: A | JJ22: A | JK22: A | JL22: A | JM22: A | JN22: A | JO22: A | JP22: A | JQ22: A | JR22: A | JS22: A | JT22: A | JU22: A | JV22: A | JW22: A | JX22: A | JY22: A | JZ22: A | KA22: A | KB22: A | KC22: A | KD22: A | KE22: A | KF22: A | KG22: A | KH22: A | KI22: A | KJ22: A | KK22: A | KL22: A | KM22: A | KN22: A | KO22: A | KP22: A | KQ22: A | KR22: A | KS22: A | KT22: A | KU22: A | KV22: A | KW22: A | KX22: A | KY22: A | KZ22: A | LA22: A | LB22: A | LC22: A | LD22: A | LE22: A | LF22: A | LG22: A | LH22: A | LI22: A | LJ22: A | LK22: A | LL22: A | LM22: A | LN22: A | LO22: A | LP22: A | LQ22: A | LR22: A | LS22: A | LT22: A | LU22: A | LV22: A | LW22: A | LX22: A | LY22: A | LZ22: A | MA22: A | MB22: A | MC22: A | MD22: A | ME22: A | MF22: A | MG22: A | MH22: A | MI22: A | MJ22: A | MK22: A | ML22: A | MM22: A | MN22: A | MO22: A | MP22: A | MQ22: A | MR22: A | MS22: A | MT22: A | MU22: A | MV22: A | MW22: A | MX22: A | MY22: A | MZ22: A | NA22: A | NB22: A
C23: A | D23: A | E23: A | F23: A | G23: A | H23: A | I23: A | J23: A | K23: A | L23: A | M23: A | N23: A | O23: A | P23: A | Q23: A | R23: A | S23: A | T23: A | U23: A | V23: A | W23: A | X23: A | Y23: A | Z23: A | AA23: A | AB23: A | AC23: A | AD23: A | AE23: A | AF23: A | AG23: A | AH23: A | AI23: A | AJ23: A | AK23: A | AL23: A | AM23: A | AN23: A | AO23: A | AP23: A | AQ23: A | AR23: A | AS23: A | AT23: A | AU23: A | AV23: A | AW23: A | AX23: A | AY23: A | AZ23: A | BA23: A | BB23: A | BC23: A | BD23: A | BE23: A | BF23: A | BG23: A | BH23: A | BI23: A | BJ23: A | BK23: A | BL23: A | BM23: A | BN23: A | BO23: A | BP23: A | BQ23: A | BR23: A | BS23: A | BT23: A | BU23: A | BV23: A | BW23: A | BX23: A | BY23: A | BZ23: A | CA23: A | CB23: A | CC23: A | CD23: A | CE23: A | CF23: A | CG23: A | CH23: A | CI23: A | CJ23: A | CK23: A | CL23: A | CM23: A | CN23: A | CO23: A | CP23: A | CQ23: A | CR23: A | CS23: A | CT23: A | CU23: A | CV23: A | CW23: A | CX23: A | CY23: A | CZ23: A | DA23: A | DB23: A | DC23: A | DD23: A | DE23: A | DF23: A | DG23: A | DH23: A | DI23: A | DJ23: A | DK23: A | DL23: A | DM23: A | DN23: A | DO23: A | DP23: A | DQ23: A | DR23: A | DS23: A | DT23: A | DU23: A | DV23: A | DW23: A | DX23: A | DY23: A | DZ23: A | EA23: A | EB23: A | EC23: A | ED23: A | EE23: A | EF23: A | EG23: A | EH23: A | EI23: A | EJ23: A | EK23: A | EL23: A | EM23: A | EN23: A | EO23: A | EP23: A | EQ23: A | ER23: A | ES23: A | ET23: A | EU23: A | EV23: A | EW23: A | EX23: A | EY23: A | EZ23: A | FA23: A | FB23: A | FC23: A | FD23: A | FE23: A | FF23: A | FG23: A | FH23: A | FI23: A | FJ23: A | FK23: A | FL23: A | FM23: A | FN23: A | FO23: A | FP23: A | FQ23: A | FR23: A | FS23: A | FT23: A | FU23: A | FV23: A | FW23: A | FX23: A | FY23: A | FZ23: A | GA23: A | GB23: A | GC23: A | GD23: A | GE23: A | GF23: A | GG23: A | GH23: A | GI23: A | GJ23: A | GK23: A | GL23: A | GM23: A | GN23: A | GO23: A | GP23: A | GQ23: A | GR23: A | GS23: A | GT23: A | GU23: A | GV23: A | GW23: A | GX23: A | GY23: A | GZ23: A | HA23: A | HB23: A | HC23: A | HD23: A | HE23: A | HF23: A | HG23: A | HH23: A | HI23: A | HJ23: A | HK23: A | HL23: A | HM23: A | HN23: A | HO23: A | HP23: A | HQ23: A | HR23: A | HS23: A | HT23: A | HU23: A | HV23: A | HW23: A | HX23: A | HY23: A | HZ23: A | IA23: A | IB23: A | IC23: A | ID23: A | IE23: A | IF23: A | IG23: A | IH23: A | II23: A | IJ23: A | IK23: A | IL23: A | IM23: A | IN23: A | IO23: A | IP23: A | IQ23: A | IR23: A | IS23: A | IT23: A | IU23: A | IV23: A | IW23: A | IX23: A | IY23: A | IZ23: A | JA23: A | JB23: A | JC23: A | JD23: A | JE23: A | JF23: A | JG23: A | JH23: A | JI23: A | JJ23: A | JK23: A | JL23: A | JM23: A | JN23: A | JO23: A | JP23: A | JQ23: A | JR23: A | JS23: A | JT23: A | JU23: A | JV23: A | JW23: A | JX23: A | JY23: A | JZ23: A | KA23: A | KB23: A | KC23: A | KD23: A | KE23: A | KF23: A | KG23: A | KH23: A | KI23: A | KJ23: A | KK23: A | KL23: A | KM23: A | KN23: A | KO23: A | KP23: A | KQ23: A | KR23: A | KS23: A | KT23: A | KU23: A | KV23: A | KW23: A | KX23: A | KY23: A | KZ23: A | LA23: A | LB23: A | LC23: A | LD23: A | LE23: A | LF23: A | LG23: A | LH23: A | LI23: A | LJ23: A | LK23: A | LL23: A | LM23: A | LN23: A | LO23: A | LP23: A | LQ23: A | LR23: A | LS23: A | LT23: A | LU23: A | LV23: A | LW23: A | LX23: A | LY23: A | LZ23: A | MA23: A | MB23: A | MC23: A | MD23: A | ME23: A | MF23: A | MG23: A | MH23: A | MI23: A | MJ23: A | MK23: A | ML23: A | MM23: A | MN23: A | MO23: A | MP23: A | MQ23: A | MR23: A | MS23: A | MT23: A | MU23: A | MV23: A | MW23: A | MX23: A | MY23: A | MZ23: A | NA23: A | NB23: A
A24: 11 | C24: A | D24: A | E24: A | F24: A | G24: A | H24: A | I24: A | J24: A | K24: A | L24: A | M24: A | N24: A | O24: A | P24: A | Q24: A | R24: A | S24: A | T24: A | U24: A | V24: A | W24: A | X24: A | Y24: A | Z24: A | AA24: A | AB24: A | AC24: A | AD24: A | AE24: A | AF24: A | AG24: A | AH24: A | AI24: A | AJ24: A | AK24: A | AL24: A | AM24: A | AN24: A | AO24: A | AP24: A | AQ24: A | AR24: A | AS24: A | AT24: A | AU24: A | AV24: A | AW24: A | AX24: A | AY24: A | AZ24: A | BA24: A | BB24: A | BC24: A | BD24: A | BE24: A | BF24: A | BG24: A | BH24: A | BI24: A | BJ24: A | BK24: A | BL24: A | BM24: A | BN24: A | BO24: A | BP24: A | BQ24: A | BR24: A | BS24: A | BT24: A | BU24: A | BV24: A | BW24: A | BX24: A | BY24: A | BZ24: A | CA24: A | CB24: A | CC24: A | CD24: A | CE24: A | CF24: A | CG24: A | CH24: A | CI24: A | CJ24: A | CK24: A | CL24: A | CM24: A | CN24: A | CO24: A | CP24: A | CQ24: A | CR24: A | CS24: A | CT24: A | CU24: A | CV24: A | CW24: A | CX24: A | CY24: A | CZ24: A | DA24: A | DB24: A | DC24: A | DD24: A | DE24: A | DF24: A | DG24: A | DH24: A | DI24: A | DJ24: A | DK24: A | DL24: A | DM24: A | DN24: A | DO24: A | DP24: A | DQ24: A | DR24: A | DS24: A | DT24: A | DU24: A | DV24: A | DW24: A | DX24: A | DY24: A | DZ24: A | EA24: A | EB24: A | EC24: A | ED24: A | EE24: A | EF24: A | EG24: A | EH24: A | EI24: A | EJ24: A | EK24: A | EL24: A | EM24: A | EN24: A | EO24: A | EP24: A | EQ24: A | ER24: A | ES24: A | ET24: A | EU24: A | EV24: A | EW24: A | EX24: A | EY24: A | EZ24: A | FA24: A | FB24: A | FC24: A | FD24: A | FE24: A | FF24: A | FG24: A | FH24: A | FI24: A | FJ24: A | FK24: A | FL24: A | FM24: A | FN24: A | FO24: A | FP24: A | FQ24: A | FR24: A | FS24: A | FT24: A | FU24: A | FV24: A | FW24: A | FX24: A | FY24: A | FZ24: A | GA24: A | GB24: A | GC24: A | GD24: A | GE24: A | GF24: A | GG24: A | GH24: A | GI24: A | GJ24: A | GK24: A | GL24: A | GM24: A | GN24: A | GO24: A | GP24: A | GQ24: A | GR24: A | GS24: A | GT24: A | GU24: A | GV24: A | GW24: A | GX24: A | GY24: A | GZ24: A | HA24: A | HB24: A | HC24: A | HD24: A | HE24: A | HF24: A | HG24: A | HH24: A | HI24: A | HJ24: A | HK24: A | HL24: A | HM24: A | HN24: A | HO24: A | HP24: A | HQ24: A | HR24: A | HS24: A | HT24: A | HU24: A | HV24: A | HW24: A | HX24: A | HY24: A | HZ24: A | IA24: A | IB24: A | IC24: A | ID24: A | IE24: A | IF24: A | IG24: A | IH24: A | II24: A | IJ24: A | IK24: A | IL24: A | IM24: A | IN24: A | IO24: A | IP24: A | IQ24: A | IR24: A | IS24: A | IT24: A | IU24: A | IV24: A | IW24: A | IX24: A | IY24: A | IZ24: A | JA24: A | JB24: A | JC24: A | JD24: A | JE24: A | JF24: A | JG24: A | JH24: A | JI24: A | JJ24: A | JK24: A | JL24: A | JM24: A | JN24: A | JO24: A | JP24: A | JQ24: A | JR24: A | JS24: A | JT24: A | JU24: A | JV24: A | JW24: A | JX24: A | JY24: A | JZ24: A | KA24: A | KB24: A | KC24: A | KD24: A | KE24: A | KF24: A | KG24: A | KH24: A | KI24: A | KJ24: A | KK24: A | KL24: A | KM24: A | KN24: A | KO24: A | KP24: A | KQ24: A | KR24: A | KS24: A | KT24: A | KU24: A | KV24: A | KW24: A | KX24: A | KY24: A | KZ24: A | LA24: A | LB24: A | LC24: A | LD24: A | LE24: A | LF24: A | LG24: A | LH24: A | LI24: A | LJ24: A | LK24: A | LL24: A | LM24: A | LN24: A | LO24: A | LP24: A | LQ24: A | LR24: A | LS24: A | LT24: A | LU24: A | LV24: A | LW24: A | LX24: A | LY24: A | LZ24: A | MA24: A | MB24: A | MC24: A | MD24: A | ME24: A | MF24: A | MG24: A | MH24: A | MI24: A | MJ24: A | MK24: A | ML24: A | MM24: A | MN24: A | MO24: A | MP24: A | MQ24: A | MR24: A | MS24: A | MT24: A | MU24: A | MV24: A | MW24: A | MX24: A | MY24: A | MZ24: A | NA24: A | NB24: A
C25: A | D25: A | E25: A | F25: A | G25: A | H25: A | I25: A | J25: A | K25: A | L25: A | M25: A | N25: A | O25: A | P25: A | Q25: A | R25: A | S25: A | T25: A | U25: A | V25: A | W25: A | X25: A | Y25: A | Z25: A | AA25: A | AB25: A | AC25: A | AD25: A | AE25: A | AF25: A | AG25: A | AH25: A | AI25: A | AJ25: A | AK25: A | AL25: A | AM25: A | AN25: A | AO25: A | AP25: A | AQ25: A | AR25: A | AS25: A | AT25: A | AU25: A | AV25: A | AW25: A | AX25: A | AY25: A | AZ25: A | BA25: A | BB25: A | BC25: A | BD25: A | BE25: A | BF25: A | BG25: A | BH25: A | BI25: A | BJ25: A | BK25: A | BL25: A | BM25: A | BN25: A | BO25: A | BP25: A | BQ25: A | BR25: A | BS25: A | BT25: A | BU25: A | BV25: A | BW25: A | BX25: A | BY25: A | BZ25: A | CA25: A | CB25: A | CC25: A | CD25: A | CE25: A | CF25: A | CG25: A | CH25: A | CI25: A | CJ25: A | CK25: A | CL25: A | CM25: A | CN25: A | CO25: A | CP25: A | CQ25: A | CR25: A | CS25: A | CT25: A | CU25: A | CV25: A | CW25: A | CX25: A | CY25: A | CZ25: A | DA25: A | DB25: A | DC25: A | DD25: A | DE25: A | DF25: A | DG25: A | DH25: A | DI25: A | DJ25: A | DK25: A | DL25: A | DM25: A | DN25: A | DO25: A | DP25: A | DQ25: A | DR25: A | DS25: A | DT25: A | DU25: A | DV25: A | DW25: A | DX25: A | DY25: A | DZ25: A | EA25: A | EB25: A | EC25: A | ED25: A | EE25: A | EF25: A | EG25: A | EH25: A | EI25: A | EJ25: A | EK25: A | EL25: A | EM25: A | EN25: A | EO25: A | EP25: A | EQ25: A | ER25: A | ES25: A | ET25: A | EU25: A | EV25: A | EW25: A | EX25: A | EY25: A | EZ25: A | FA25: A | FB25: A | FC25: A | FD25: A | FE25: A | FF25: A | FG25: A | FH25: A | FI25: A | FJ25: A | FK25: A | FL25: A | FM25: A | FN25: A | FO25: A | FP25: A | FQ25: A | FR25: A | FS25: A | FT25: A | FU25: A | FV25: A | FW25: A | FX25: A | FY25: A | FZ25: A | GA25: A | GB25: A | GC25: A | GD25: A | GE25: A | GF25: A | GG25: A | GH25: A | GI25: A | GJ25: A | GK25: A | GL25: A | GM25: A | GN25: A | GO25: A | GP25: A | GQ25: A | GR25: A | GS25: A | GT25: A | GU25: A | GV25: A | GW25: A | GX25: A | GY25: A | GZ25: A | HA25: A | HB25: A | HC25: A | HD25: A | HE25: A | HF25: A | HG25: A | HH25: A | HI25: A | HJ25: A | HK25: A | HL25: A | HM25: A | HN25: A | HO25: A | HP25: A | HQ25: A | HR25: A | HS25: A | HT25: A | HU25: A | HV25: A | HW25: A | HX25: A | HY25: A | HZ25: A | IA25: A | IB25: A | IC25: A | ID25: A | IE25: A | IF25: A | IG25: A | IH25: A | II25: A | IJ25: A | IK25: A | IL25: A | IM25: A | IN25: A | IO25: A | IP25: A | IQ25: A | IR25: A | IS25: A | IT25: A | IU25: A | IV25: A | IW25: A | IX25: A | IY25: A | IZ25: A | JA25: A | JB25: A | JC25: A | JD25: A | JE25: A | JF25: A | JG25: A | JH25: A | JI25: A | JJ25: A | JK25: A | JL25: A | JM25: A | JN25: A | JO25: A | JP25: A | JQ25: A | JR25: A | JS25: A | JT25: A | JU25: A | JV25: A | JW25: A | JX25: A | JY25: A | JZ25: A | KA25: A | KB25: A | KC25: A | KD25: A | KE25: A | KF25: A | KG25: A | KH25: A | KI25: A | KJ25: A | KK25: A | KL25: A | KM25: A | KN25: A | KO25: A | KP25: A | KQ25: A | KR25: A | KS25: A | KT25: A | KU25: A | KV25: A | KW25: A | KX25: A | KY25: A | KZ25: A | LA25: A | LB25: A | LC25: A | LD25: A | LE25: A | LF25: A | LG25: A | LH25: A | LI25: A | LJ25: A | LK25: A | LL25: A | LM25: A | LN25: A | LO25: A | LP25: A | LQ25: A | LR25: A | LS25: A | LT25: A | LU25: A | LV25: A | LW25: A | LX25: A | LY25: A | LZ25: A | MA25: A | MB25: A | MC25: A | MD25: A | ME25: A | MF25: A | MG25: A | MH25: A | MI25: A | MJ25: A | MK25: A | ML25: A | MM25: A | MN25: A | MO25: A | MP25: A | MQ25: A | MR25: A | MS25: A | MT25: A | MU25: A | MV25: A | MW25: A | MX25: A | MY25: A | MZ25: A | NA25: A | NB25: A
A26: 12 | C26: A | D26: A | E26: A | F26: A | G26: A | H26: A | I26: A | J26: A | K26: A | L26: A | M26: A | N26: A | O26: A | P26: A | Q26: A | R26: A | S26: A | T26: A | U26: A | V26: A | W26: A | X26: A | Y26: A | Z26: A | AA26: A | AB26: A | AC26: A | AD26: A | AE26: A | AF26: A | AG26: A | AH26: A | AI26: A | AJ26: A | AK26: A | AL26: A | AM26: A | AN26: A | AO26: A | AP26: A | AQ26: A | AR26: A | AS26: A | AT26: A | AU26: A | AV26: A | AW26: A | AX26: A | AY26: A | AZ26: A | BA26: A | BB26: A | BC26: A | BD26: A | BE26: A | BF26: A | BG26: A | BH26: A | BI26: A | BJ26: A | BK26: A | BL26: A | BM26: A | BN26: A | BO26: A | BP26: A | BQ26: A | BR26: A | BS26: A | BT26: A | BU26: A | BV26: A | BW26: A | BX26: A | BY26: A | BZ26: A | CA26: A | CB26: A | CC26: A | CD26: A | CE26: A | CF26: A | CG26: A | CH26: A | CI26: A | CJ26: A | CK26: A | CL26: A | CM26: A | CN26: A | CO26: A | CP26: A | CQ26: A | CR26: A | CS26: A | CT26: A | CU26: A | CV26: A | CW26: A | CX26: A | CY26: A | CZ26: A | DA26: A | DB26: A | DC26: A | DD26: A | DE26: A | DF26: A | DG26: A | DH26: A | DI26: A | DJ26: A | DK26: A | DL26: A | DM26: A | DN26: A | DO26: A | DP26: A | DQ26: A | DR26: A | DS26: A | DT26: A | DU26: A | DV26: A | DW26: A | DX26: A | DY26: A | DZ26: A | EA26: A | EB26: A | EC26: A | ED26: A | EE26: A | EF26: A | EG26: A | EH26: A | EI26: A | EJ26: A | EK26: A | EL26: A | EM26: A | EN26: A | EO26: A | EP26: A | EQ26: A | ER26: A | ES26: A | ET26: A | EU26: A | EV26: A | EW26: A | EX26: A | EY26: A | EZ26: A | FA26: A | FB26: A | FC26: A | FD26: A | FE26: A | FF26: A | FG26: A | FH26: A | FI26: A | FJ26: A | FK26: A | FL26: A | FM26: A | FN26: A | FO26: A | FP26: A | FQ26: A | FR26: A | FS26: A | FT26: A | FU26: A | FV26: A | FW26: A | FX26: A | FY26: A | FZ26: A | GA26: A | GB26: A | GC26: A | GD26: A | GE26: A | GF26: A | GG26: A | GH26: A | GI26: A | GJ26: A | GK26: A | GL26: A | GM26: A | GN26: A | GO26: A | GP26: A | GQ26: A | GR26: A | GS26: A | GT26: A | GU26: A | GV26: A | GW26: A | GX26: A | GY26: A | GZ26: A | HA26: A | HB26: A | HC26: A | HD26: A | HE26: A | HF26: A | HG26: A | HH26: A | HI26: A | HJ26: A | HK26: A | HL26: A | HM26: A | HN26: A | HO26: A | HP26: A | HQ26: A | HR26: A | HS26: A | HT26: A | HU26: A | HV26: A | HW26: A | HX26: A | HY26: A | HZ26: A | IA26: A | IB26: A | IC26: A | ID26: A | IE26: A | IF26: A | IG26: A | IH26: A | II26: A | IJ26: A | IK26: A | IL26: A | IM26: A | IN26: A | IO26: A | IP26: A | IQ26: A | IR26: A | IS26: A | IT26: A | IU26: A | IV26: A | IW26: A | IX26: A | IY26: A | IZ26: A | JA26: A | JB26: A | JC26: A | JD26: A | JE26: A | JF26: A | JG26: A | JH26: A | JI26: A | JJ26: A | JK26: A | JL26: A | JM26: A | JN26: A | JO26: A | JP26: A | JQ26: A | JR26: A | JS26: A | JT26: A | JU26: A | JV26: A | JW26: A | JX26: A | JY26: A | JZ26: A | KA26: A | KB26: A | KC26: A | KD26: A | KE26: A | KF26: A | KG26: A | KH26: A | KI26: A | KJ26: A | KK26: A | KL26: A | KM26: A | KN26: A | KO26: A | KP26: A | KQ26: A | KR26: A | KS26: A | KT26: A | KU26: A | KV26: A | KW26: A | KX26: A | KY26: A | KZ26: A | LA26: A | LB26: A | LC26: A | LD26: A | LE26: A | LF26: A | LG26: A | LH26: A | LI26: A | LJ26: A | LK26: A | LL26: A | LM26: A | LN26: A | LO26: A | LP26: A | LQ26: A | LR26: A | LS26: A | LT26: A | LU26: A | LV26: A | LW26: A | LX26: A | LY26: A | LZ26: A | MA26: A | MB26: A | MC26: A | MD26: A | ME26: A | MF26: A | MG26: A | MH26: A | MI26: A | MJ26: A | MK26: A | ML26: A | MM26: A | MN26: A | MO26: A | MP26: A | MQ26: A | MR26: A | MS26: A | MT26: A | MU26: A | MV26: A | MW26: A | MX26: A | MY26: A | MZ26: A | NA26: A | NB26: A
C27: A | D27: A | E27: A | F27: A | G27: A | H27: A | I27: A | J27: A | K27: A | L27: A | M27: A | N27: A | O27: A | P27: A | Q27: A | R27: A | S27: A | T27: A | U27: A | V27: A | W27: A | X27: A | Y27: A | Z27: A | AA27: A | AB27: A | AC27: A | AD27: A | AE27: A | AF27: A | AG27: A | AH27: A | AI27: A | AJ27: A | AK27: A | AL27: A | AM27: A | AN27: A | AO27: A | AP27: A | AQ27: A | AR27: A | AS27: A | AT27: A | AU27: A | AV27: A | AW27: A | AX27: A | AY27: A | AZ27: A | BA27: A | BB27: A | BC27: A | BD27: A | BE27: A | BF27: A | BG27: A | BH27: A | BI27: A | BJ27: A | BK27: A | BL27: A | BM27: A | BN27: A | BO27: A | BP27: A | BQ27: A | BR27: A | BS27: A | BT27: A | BU27: A | BV27: A | BW27: A | BX27: A | BY27: A | BZ27: A | CA27: A | CB27: A | CC27: A | CD27: A | CE27: A | CF27: A | CG27: A | CH27: A | CI27: A | CJ27: A | CK27: A | CL27: A | CM27: A | CN27: A | CO27: A | CP27: A | CQ27: A | CR27: A | CS27: A | CT27: A | CU27: A | CV27: A | CW27: A | CX27: A | CY27: A | CZ27: A | DA27: A | DB27: A | DC27: A | DD27: A | DE27: A | DF27: A | DG27: A | DH27: A | DI27: A | DJ27: A | DK27: A | DL27: A | DM27: A | DN27: A | DO27: A | DP27: A | DQ27: A | DR27: A | DS27: A | DT27: A | DU27: A | DV27: A | DW27: A | DX27: A | DY27: A | DZ27: A | EA27: A | EB27: A | EC27: A | ED27: A | EE27: A | EF27: A | EG27: A | EH27: A | EI27: A | EJ27: A | EK27: A | EL27: A | EM27: A | EN27: A | EO27: A | EP27: A | EQ27: A | ER27: A | ES27: A | ET27: A | EU27: A | EV27: A | EW27: A | EX27: A | EY27: A | EZ27: A | FA27: A | FB27: A | FC27: A | FD27: A | FE27: A | FF27: A | FG27: A | FH27: A | FI27: A | FJ27: A | FK27: A | FL27: A | FM27: A | FN27: A | FO27: A | FP27: A | FQ27: A | FR27: A | FS27: A | FT27: A | FU27: A | FV27: A | FW27: A | FX27: A | FY27: A | FZ27: A | GA27: A | GB27: A | GC27: A | GD27: A | GE27: A | GF27: A | GG27: A | GH27: A | GI27: A | GJ27: A | GK27: A | GL27: A | GM27: A | GN27: A | GO27: A | GP27: A | GQ27: A | GR27: A | GS27: A | GT27: A | GU27: A | GV27: A | GW27: A | GX27: A | GY27: A | GZ27: A | HA27: A | HB27: A | HC27: A | HD27: A | HE27: A | HF27: A | HG27: A | HH27: A | HI27: A | HJ27: A | HK27: A | HL27: A | HM27: A | HN27: A | HO27: A | HP27: A | HQ27: A | HR27: A | HS27: A | HT27: A | HU27: A | HV27: A | HW27: A | HX27: A | HY27: A | HZ27: A | IA27: A | IB27: A | IC27: A | ID27: A | IE27: A | IF27: A | IG27: A | IH27: A | II27: A | IJ27: A | IK27: A | IL27: A | IM27: A | IN27: A | IO27: A | IP27: A | IQ27: A | IR27: A | IS27: A | IT27: A | IU27: A | IV27: A | IW27: A | IX27: A | IY27: A | IZ27: A | JA27: A | JB27: A | JC27: A | JD27: A | JE27: A | JF27: A | JG27: A | JH27: A | JI27: A | JJ27: A | JK27: A | JL27: A | JM27: A | JN27: A | JO27: A | JP27: A | JQ27: A | JR27: A | JS27: A | JT27: A | JU27: A | JV27: A | JW27: A | JX27: A | JY27: A | JZ27: A | KA27: A | KB27: A | KC27: A | KD27: A | KE27: A | KF27: A | KG27: A | KH27: A | KI27: A | KJ27: A | KK27: A | KL27: A | KM27: A | KN27: A | KO27: A | KP27: A | KQ27: A | KR27: A | KS27: A | KT27: A | KU27: A | KV27: A | KW27: A | KX27: A | KY27: A | KZ27: A | LA27: A | LB27: A | LC27: A | LD27: A | LE27: A | LF27: A | LG27: A | LH27: A | LI27: A | LJ27: A | LK27: A | LL27: A | LM27: A | LN27: A | LO27: A | LP27: A | LQ27: A | LR27: A | LS27: A | LT27: A | LU27: A | LV27: A | LW27: A | LX27: A | LY27: A | LZ27: A | MA27: A | MB27: A | MC27: A | MD27: A | ME27: A | MF27: A | MG27: A | MH27: A | MI27: A | MJ27: A | MK27: A | ML27: A | MM27: A | MN27: A | MO27: A | MP27: A | MQ27: A | MR27: A | MS27: A | MT27: A | MU27: A | MV27: A | MW27: A | MX27: A | MY27: A | MZ27: A | NA27: A | NB27: A
A28: Total Centre A | C28: =COUNTA(C4:C27)/2 -> 4 | D28: =COUNTA(D4:D27)/2 -> 4 | E28: =COUNTA(E4:E27)/2 -> 4 | F28: =COUNTA(F4:F27)/2 -> 4 | G28: =COUNTA(G4:G27)/2 -> 4 | H28: =COUNTA(H4:H27)/2 -> 4 | I28: =COUNTA(I4:I27)/2 -> 4 | J28: =COUNTA(J4:J27)/2 -> 4 | ... NB28: =COUNTA(NB4:NB27)/2 -> 3
A29: Moyenne semaine | C29: =SUM(D28:G28)/4 -> 4 | J29: =SUM(J28:N28)/5 -> 4 | Q29: =SUM(Q28:U28)/5 -> 4 | X29: =SUM(X28:AB28)/5 -> 4 | AE29: =SUM(AE28:AI28)/5 -> 4 | AL29: =SUM(AL28:AP28)/5 -> 4 | AS29: =SUM(AS28:AW28)/5 -> 4 | AZ29: =SUM(AZ28:BD28)/5 -> 4 | BG29: =SUM(BG28:BK28)/5 -> 4 | BN29: =SUM(BN28:BR28)/5 -> 4 | BU29: =SUM(BU28:BY28)/5 -> 4 | CB29: =SUM(CB28:CF28)/5 -> 4 | CI29: =SUM(CI28:CM28)/5 -> 4 | CP29: =SUM(CP28:CT28)/5 -> 3 | CW29: =SUM(CX28:DA28)/4 -> 3 | DD29: =SUM(DD28:DH28)/5 -> 3 | DK29: =SUM(DK28:DO28)/5 -> 3 | DR29: =SUM(DS28:DV28)/4 -> 3 | DY29: =SUM(DZ28:EC28)/4 -> 3 | EF29: =SUM(EF28:EH28)/3 -> 3 | EM29: =SUM(EM28:EQ28)/5 -> 3 | ET29: =SUM(EU28:EX28)/4 -> 3 | FA29: =SUM(FA28:FE28)/5 -> 3 | FH29: =SUM(FH28:FL28)/5 -> 3 | FO29: =SUM(FO28:FS28)/5 -> 3 | FV29: =SUM(FV28:FZ28)/5 -> 3 | GC29: =SUM(GC28:GG28)/5 -> 3 | GJ29: =SUM(GJ28:GM28)/4 -> 3 | GQ29: =SUM(GQ28:GU28)/5 -> 3 | GX29: =SUM(GX28:HB28)/5 -> 3 | HE29: =SUM(HE28:HI28)/5 -> 3 | HL29: =SUM(HL28:HP28)/5 -> 3 | HS29: =SUM(HU28:HW28)/3 -> 3 | HZ29: =SUM(HZ28:ID28)/5 -> 3 | IG29: =SUM(IG28:IK28)/5 -> 3 | IN29: =SUM(IN28:IR28)/5 -> 3 | IU29: =SUM(IU28:IY28)/5 -> 3 | JB29: =SUM(JB28:JF28)/5 -> 3 | JI29: =SUM(JI28:JM28)/5 -> 3 | JP29: =SUM(JP28:JT28)/5 -> 3 | JW29: =SUM(JW28:KA28)/5 -> 3 | KD29: =SUM(KD28:KH28)/5 -> 3 | KK29: =SUM(KK28:KO28)/5 -> 3 | KR29: =SUM(KR28:KS28,KU28:KV28)/4 -> 3 | KY29: =SUM(KY28:LC28)/5 -> 3 | LF29: =SUM(LF28:LJ28)/5 -> 3 | LM29: =SUM(LM28:LQ28)/5 -> 3 | LT29: =SUM(LT28:LX28)/5 -> 3 | MA29: =SUM(MA28:ME28)/5 -> 3 | MH29: =SUM(MH28:ML28)/5 -> 3 | MO29: =SUM(MO28:MS28)/5 -> 3 | MV29: =SUM(MX28:MZ28)/3 -> 3

Sheet Sheet1
C2: ="S"&TEXT(_xlfn.ISOWEEKNUM(C4),"00") -> S01 | D2: ="S"&TEXT(_xlfn.ISOWEEKNUM(D4),"00") -> S01 | E2: ="S"&TEXT(_xlfn.ISOWEEKNUM(E4),"00") -> S01 | F2: ="S"&TEXT(_xlfn.ISOWEEKNUM(F4),"00") -> S01 | G2: ="S"&TEXT(_xlfn.ISOWEEKNUM(G4),"00") -> S01 | H2: ="S"&TEXT(_xlfn.ISOWEEKNUM(H4),"00") -> S01 | I2: ="S"&TEXT(_xlfn.ISOWEEKNUM(I4),"00") -> S01 | J2: ="S"&TEXT(_xlfn.ISOWEEKNUM(J4),"00") -> S02 | ... NB2: ="S"&TEXT(_xlfn.ISOWEEKNUM(NB4),"00") -> S52
C3: ="S"&TEXT(_xlfn.ISOWEEKNUM(C4),"00")&" - "&TEXT(C4,"jj/mm/aaaa") -> S01 - 02/01/2023 | J3: ="S"&TEXT(_xlfn.ISOWEEKNUM(J4),"00")&" - "&TEXT(J4,"jj/mm/aaaa") -> S02 - 09/01/2023 | Q3: ="S"&TEXT(_xlfn.ISOWEEKNUM(Q4),"00")&" - "&TEXT(Q4,"jj/mm/aaaa") -> S03 - 16/01/2023 | X3: ="S"&TEXT(_xlfn.ISOWEEKNUM(X4),"00")&" - "&TEXT(X4,"jj/mm/aaaa") -> S04 - 23/01/2023 | AE3: ="S"&TEXT(_xlfn.ISOWEEKNUM(AE4),"00")&" - "&TEXT(AE4,"jj/mm/aaaa") -> S05 - 30/01/2023 | AL3: ="S"&TEXT(_xlfn.ISOWEEKNUM(AL4),"00")&" - "&TEXT(AL4,"jj/mm/aaaa") -> S06 - 06/02/2023 | AS3: ="S"&TEXT(_xlfn.ISOWEEKNUM(AS4),"00")&" - "&TEXT(AS4,"jj/mm/aaaa") -> S07 - 13/02/2023 | AZ3: ="S"&TEXT(_xlfn.ISOWEEKNUM(AZ4),"00")&" - "&TEXT(AZ4,"jj/mm/aaaa") -> S08 - 20/02/2023 | BG3: ="S"&TEXT(_xlfn.ISOWEEKNUM(BG4),"00")&" - "&TEXT(BG4,"jj/mm/aaaa") -> S09 - 27/02/2023 | BN3: ="S"&TEXT(_xlfn.ISOWEEKNUM(BN4),"00")&" - "&TEXT(BN4,"jj/mm/aaaa") -> S10 - 06/03/2023 | BU3: ="S"&TEXT(_xlfn.ISOWEEKNUM(BU4),"00")&" - "&TEXT(BU4,"jj/mm/aaaa") -> S11 - 13/03/2023 | CB3: ="S"&TEXT(_xlfn.ISOWEEKNUM(CB4),"00")&" - "&TEXT(CB4,"jj/mm/aaaa") -> S12 - 20/03/2023 | CI3: ="S"&TEXT(_xlfn.ISOWEEKNUM(CI4),"00")&" - "&TEXT(CI4,"jj/mm/aaaa") -> S13 - 27/03/2023 | CP3: ="S"&TEXT(_xlfn.ISOWEEKNUM(CP4),"00")&" - "&TEXT(CP4,"jj/mm/aaaa") -> S14 - 03/04/2023 | CW3: ="S"&TEXT(_xlfn.ISOWEEKNUM(CW4),"00")&" - "&TEXT(CW4,"jj/mm/aaaa") -> S15 - 10/04/2023 | DD3: ="S"&TEXT(_xlfn.ISOWEEKNUM(DD4),"00")&" - "&TEXT(DD4,"jj/mm/aaaa") -> S16 - 17/04/2023 | DK3: ="S"&TEXT(_xlfn.ISOWEEKNUM(DK4),"00")&" - "&TEXT(DK4,"jj/mm/aaaa") -> S17 - 24/04/2023 | DR3: ="S"&TEXT(_xlfn.ISOWEEKNUM(DR4),"00")&" - "&TEXT(DR4,"jj/mm/aaaa") -> S18 - 01/05/2023 | DY3: ="S"&TEXT(_xlfn.ISOWEEKNUM(DY4),"00")&" - "&TEXT(DY4,"jj/mm/aaaa") -> S19 - 08/05/2023 | EF3: ="S"&TEXT(_xlfn.ISOWEEKNUM(EF4),"00")&" - "&TEXT(EF4,"jj/mm/aaaa") -> S20 - 15/05/2023 | EM3: ="S"&TEXT(_xlfn.ISOWEEKNUM(EM4),"00")&" - "&TEXT(EM4,"jj/mm/aaaa") -> S21 - 22/05/2023 | ET3: ="S"&TEXT(_xlfn.ISOWEEKNUM(ET4),"00")&" - "&TEXT(ET4,"jj/mm/aaaa") -> S22 - 29/05/2023 | FA3: ="S"&TEXT(_xlfn.ISOWEEKNUM(FA4),"00")&" - "&TEXT(FA4,"jj/mm/aaaa") -> S23 - 05/06/2023 | FH3: ="S"&TEXT(_xlfn.ISOWEEKNUM(FH4),"00")&" - "&TEXT(FH4,"jj/mm/aaaa") -> S24 - 12/06/2023 | FO3: ="S"&TEXT(_xlfn.ISOWEEKNUM(FO4),"00")&" - "&TEXT(FO4,"jj/mm/aaaa") -> S25 - 19/06/2023 | FV3: ="S"&TEXT(_xlfn.ISOWEEKNUM(FV4),"00")&" - "&TEXT(FV4,"jj/mm/aaaa") -> S26 - 26/06/2023 | GC3: ="S"&TEXT(_xlfn.ISOWEEKNUM(GC4),"00")&" - "&TEXT(GC4,"jj/mm/aaaa") -> S27 - 03/07/2023 | GJ3: ="S"&TEXT(_xlfn.ISOWEEKNUM(GJ4),"00")&" - "&TEXT(GJ4,"jj/mm/aaaa") -> S28 - 10/07/2023 | GQ3: ="S"&TEXT(_xlfn.ISOWEEKNUM(GQ4),"00")&" - "&TEXT(GQ4,"jj/mm/aaaa") -> S29 - 17/07/2023 | GX3: ="S"&TEXT(_xlfn.ISOWEEKNUM(GX4),"00")&" - "&TEXT(GX4,"jj/mm/aaaa") -> S30 - 24/07/2023 | HE3: ="S"&TEXT(_xlfn.ISOWEEKNUM(HE4),"00")&" - "&TEXT(HE4,"jj/mm/aaaa") -> S31 - 31/07/2023 | HL3: ="S"&TEXT(_xlfn.ISOWEEKNUM(HL4),"00")&" - "&TEXT(HL4,"jj/mm/aaaa") -> S32 - 07/08/2023 | HS3: ="S"&TEXT(_xlfn.ISOWEEKNUM(HS4),"00")&" - "&TEXT(HS4,"jj/mm/aaaa") -> S33 - 14/08/2023 | HZ3: ="S"&TEXT(_xlfn.ISOWEEKNUM(HZ4),"00")&" - "&TEXT(HZ4,"jj/mm/aaaa") -> S34 - 21/08/2023 | IG3: ="S"&TEXT(_xlfn.ISOWEEKNUM(IG4),"00")&" - "&TEXT(IG4,"jj/mm/aaaa") -> S35 - 28/08/2023 | IN3: ="S"&TEXT(_xlfn.ISOWEEKNUM(IN4),"00")&" - "&TEXT(IN4,"jj/mm/aaaa") -> S36 - 04/09/2023 | IU3: ="S"&TEXT(_xlfn.ISOWEEKNUM(IU4),"00")&" - "&TEXT(IU4,"jj/mm/aaaa") -> S37 - 11/09/2023 | JB3: ="S"&TEXT(_xlfn.ISOWEEKNUM(JB4),"00")&" - "&TEXT(JB4,"jj/mm/aaaa") -> S38 - 18/09/2023 | JI3: ="S"&TEXT(_xlfn.ISOWEEKNUM(JI4),"00")&" - "&TEXT(JI4,"jj/mm/aaaa") -> S39 - 25/09/2023 | JP3: ="S"&TEXT(_xlfn.ISOWEEKNUM(JP4),"00")&" - "&TEXT(JP4,"jj/mm/aaaa") -> S40 - 02/10/2023 | JW3: ="S"&TEXT(_xlfn.ISOWEEKNUM(JW4),"00")&" - "&TEXT(JW4,"jj/mm/aaaa") -> S41 - 09/10/2023 | KD3: ="S"&TEXT(_xlfn.ISOWEEKNUM(KD4),"00")&" - "&TEXT(KD4,"jj/mm/aaaa") -> S42 - 16/10/2023 | KK3: ="S"&TEXT(_xlfn.ISOWEEKNUM(KK4),"00")&" - "&TEXT(KK4,"jj/mm/aaaa") -> S43 - 23/10/2023 | KR3: ="S"&TEXT(_xlfn.ISOWEEKNUM(KR4),"00")&" - "&TEXT(KR4,"jj/mm/aaaa") -> S44 - 30/10/2023 | KY3: ="S"&TEXT(_xlfn.ISOWEEKNUM(KY4),"00")&" - "&TEXT(KY4,"jj/mm/aaaa") -> S45 - 06/11/2023 | LF3: ="S"&TEXT(_xlfn.ISOWEEKNUM(LF4),"00")&" - "&TEXT(LF4,"jj/mm/aaaa") -> S46 - 13/11/2023 | LM3: ="S"&TEXT(_xlfn.ISOWEEKNUM(LM4),"00")&" - "&TEXT(LM4,"jj/mm/aaaa") -> S47 - 20/11/2023 | LT3: ="S"&TEXT(_xlfn.ISOWEEKNUM(LT4),"00")&" - "&TEXT(LT4,"jj/mm/aaaa") -> S48 - 27/11/2023 | MA3: ="S"&TEXT(_xlfn.ISOWEEKNUM(MA4),"00")&" - "&TEXT(MA4,"jj/mm/aaaa") -> S49 - 04/12/2023 | MH3: ="S"&TEXT(_xlfn.ISOWEEKNUM(MH4),"00")&" - "&TEXT(MH4,"jj/mm/aaaa") -> S50 - 11/12/2023 | MO3: ="S"&TEXT(_xlfn.ISOWEEKNUM(MO4),"00")&" - "&TEXT(MO4,"jj/mm/aaaa") -> S51 - 18/12/2023 | MV3: ="S"&TEXT(_xlfn.ISOWEEKNUM(MV4),"00")&" - "&TEXT(MV4,"jj/mm/aaaa") -> S52 - 25/12/2023 | NC3: =IF(_xlfn.ISOWEEKNUM(DATE(année,12,28))=52,"","S"&TEXT(_xlfn.ISOWEEKNUM(NC4),"00")&" - "&TEXT(NC4,"jj/mm/aaaa"))
C4: {=_xlfn.SEQUENCE(,_xlfn.ISOWEEKNUM(DATE(année,12,28))*7,DATE(année,1,5)-WEEKDAY(DATE(année,1,3)))} -> 44928 | D4: 44929 | E4: 44930 | F4: 44931 | G4: 44932 | H4: 44933 | I4: 44934 | J4: 44935 | K4: 44936 | L4: 44937 | M4: 44938 | N4: 44939 | O4: 44940 | P4: 44941 | Q4: 44942 | R4: 44943 | S4: 44944 | T4: 44945 | U4: 44946 | V4: 44947 | W4: 44948 | X4: 44949 | Y4: 44950 | Z4: 44951 | AA4: 44952 | AB4: 44953 | AC4: 44954 | AD4: 44955 | AE4: 44956 | AF4: 44957 | AG4: 44958 | AH4: 44959 | AI4: 44960 | AJ4: 44961 | AK4: 44962 | AL4: 44963 | AM4: 44964 | AN4: 44965 | AO4: 44966 | AP4: 44967 | AQ4: 44968 | AR4: 44969 | AS4: 44970 | AT4: 44971 | AU4: 44972 | AV4: 44973 | AW4: 44974 | AX4: 44975 | AY4: 44976 | AZ4: 44977 | BA4: 44978 | BB4: 44979 | BC4: 44980 | BD4: 44981 | BE4: 44982 | BF4: 44983 | BG4: 44984 | BH4: 44985 | BI4: 44986 | BJ4: 44987 | BK4: 44988 | BL4: 44989 | BM4: 44990 | BN4: 44991 | BO4: 44992 | BP4: 44993 | BQ4: 44994 | BR4: 44995 | BS4: 44996 | BT4: 44997 | BU4: 44998 | BV4: 44999 | BW4: 45000 | BX4: 45001 | BY4: 45002 | BZ4: 45003 | CA4: 45004 | CB4: 45005 | CC4: 45006 | CD4: 45007 | CE4: 45008 | CF4: 45009 | CG4: 45010 | CH4: 45011 | CI4: 45012 | CJ4: 45013 | CK4: 45014 | CL4: 45015 | CM4: 45016 | CN4: 45017 | CO4: 45018 | CP4: 45019 | CQ4: 45020 | CR4: 45021 | CS4: 45022 | CT4: 45023 | CU4: 45024 | CV4: 45025 | CW4: 45026 | CX4: 45027 | CY4: 45028 | CZ4: 45029 | DA4: 45030 | DB4: 45031 | DC4: 45032 | DD4: 45033 | DE4: 45034 | DF4: 45035 | DG4: 45036 | DH4: 45037 | DI4: 45038 | DJ4: 45039 | DK4: 45040 | DL4: 45041 | DM4: 45042 | DN4: 45043 | DO4: 45044 | DP4: 45045 | DQ4: 45046 | DR4: 45047 | DS4: 45048 | DT4: 45049 | DU4: 45050 | DV4: 45051 | DW4: 45052 | DX4: 45053 | DY4: 45054 | DZ4: 45055 | EA4: 45056 | EB4: 45057 | EC4: 45058 | ED4: 45059 | EE4: 45060 | EF4: 45061 | EG4: 45062 | EH4: 45063 | EI4: 45064 | EJ4: 45065 | EK4: 45066 | EL4: 45067 | EM4: 45068 | EN4: 45069 | EO4: 45070 | EP4: 45071 | EQ4: 45072 | ER4: 45073 | ES4: 45074 | ET4: 45075 | EU4: 45076 | EV4: 45077 | EW4: 45078 | EX4: 45079 | EY4: 45080 | EZ4: 45081 | FA4: 45082 | FB4: 45083 | FC4: 45084 | FD4: 45085 | FE4: 45086 | FF4: 45087 | FG4: 45088 | FH4: 45089 | FI4: 45090 | FJ4: 45091 | FK4: 45092 | FL4: 45093 | FM4: 45094 | FN4: 45095 | FO4: 45096 | FP4: 45097 | FQ4: 45098 | FR4: 45099 | FS4: 45100 | FT4: 45101 | FU4: 45102 | FV4: 45103 | FW4: 45104 | FX4: 45105 | FY4: 45106 | FZ4: 45107 | GA4: 45108 | GB4: 45109 | GC4: 45110 | GD4: 45111 | GE4: 45112 | GF4: 45113 | GG4: 45114 | GH4: 45115 | GI4: 45116 | GJ4: 45117 | GK4: 45118 | GL4: 45119 | GM4: 45120 | GN4: 45121 | GO4: 45122 | GP4: 45123 | GQ4: 45124 | GR4: 45125 | GS4: 45126 | GT4: 45127 | GU4: 45128 | GV4: 45129 | GW4: 45130 | GX4: 45131 | GY4: 45132 | GZ4: 45133 | HA4: 45134 | HB4: 45135 | HC4: 45136 | HD4: 45137 | HE4: 45138 | HF4: 45139 | HG4: 45140 | HH4: 45141 | HI4: 45142 | HJ4: 45143 | HK4: 45144 | HL4: 45145 | HM4: 45146 | HN4: 45147 | HO4: 45148 | HP4: 45149 | HQ4: 45150 | HR4: 45151 | HS4: 45152 | HT4: 45153 | HU4: 45154 | HV4: 45155 | HW4: 45156 | HX4: 45157 | HY4: 45158 | HZ4: 45159 | IA4: 45160 | IB4: 45161 | IC4: 45162 | ID4: 45163 | IE4: 45164 | IF4: 45165 | IG4: 45166 | IH4: 45167 | II4: 45168 | IJ4: 45169 | IK4: 45170 | IL4: 45171 | IM4: 45172 | IN4: 45173 | IO4: 45174 | IP4: 45175 | IQ4: 45176 | IR4: 45177 | IS4: 45178 | IT4: 45179 | IU4: 45180 | IV4: 45181 | IW4: 45182 | IX4: 45183 | IY4: 45184 | IZ4: 45185 | JA4: 45186 | JB4: 45187 | JC4: 45188 | JD4: 45189 | JE4: 45190 | JF4: 45191 | JG4: 45192 | JH4: 45193 | JI4: 45194 | JJ4: 45195 | JK4: 45196 | JL4: 45197 | JM4: 45198 | JN4: 45199 | JO4: 45200 | JP4: 45201 | JQ4: 45202 | JR4: 45203 | JS4: 45204 | JT4: 45205 | JU4: 45206 | JV4: 45207 | JW4: 45208 | JX4: 45209 | JY4: 45210 | JZ4: 45211 | KA4: 45212 | KB4: 45213 | KC4: 45214 | KD4: 45215 | KE4: 45216 | KF4: 45217 | KG4: 45218 | KH4: 45219 | KI4: 45220 | KJ4: 45221 | KK4: 45222 | KL4: 45223 | KM4: 45224 | KN4: 45225 | KO4: 45226 | KP4: 45227 | KQ4: 45228 | KR4: 45229 | KS4: 45230 | KT4: 45231 | KU4: 45232 | KV4: 45233 | KW4: 45234 | KX4: 45235 | KY4: 45236 | KZ4: 45237 | LA4: 45238 | LB4: 45239 | LC4: 45240 | LD4: 45241 | LE4: 45242 | LF4: 45243 | LG4: 45244 | LH4: 45245 | LI4: 45246 | LJ4: 45247 | LK4: 45248 | LL4: 45249 | LM4: 45250 | LN4: 45251 | LO4: 45252 | LP4: 45253 | LQ4: 45254 | LR4: 45255 | LS4: 45256 | LT4: 45257 | LU4: 45258 | LV4: 45259 | LW4: 45260 | LX4: 45261 | LY4: 45262 | LZ4: 45263 | MA4: 45264 | MB4: 45265 | MC4: 45266 | MD4: 45267 | ME4: 45268 | MF4: 45269 | MG4: 45270 | MH4: 45271 | MI4: 45272 | MJ4: 45273 | MK4: 45274 | ML4: 45275 | MM4: 45276 | MN4: 45277 | MO4: 45278 | MP4: 45279 | MQ4: 45280 | MR4: 45281 | MS4: 45282 | MT4: 45283 | MU4: 45284 | MV4: 45285 | MW4: 45286 | MX4: 45287 | MY4: 45288 | MZ4: 45289 | NA4: 45290 | NB4: 45291
A5: Nb postes | B5: Bureau A | C5: {=CHOOSE(WEEKDAY(_xlfn.ANCHORARRAY(C4),1),"Di","Lu","Ma","Me","Je","Ve","Sa")} -> Lu | D5: Ma | E5: Me | F5: Je | G5: Ve | H5: Sa | I5: Di | J5: Lu | K5: Ma | L5: Me | M5: Je | N5: Ve | O5: Sa | P5: Di | Q5: Lu | R5: Ma | S5: Me | T5: Je | U5: Ve | V5: Sa | W5: Di | X5: Lu | Y5: Ma | Z5: Me | AA5: Je | AB5: Ve | AC5: Sa | AD5: Di | AE5: Lu | AF5: Ma | AG5: Me | AH5: Je | AI5: Ve | AJ5: Sa | AK5: Di | AL5: Lu | AM5: Ma | AN5: Me | AO5: Je | AP5: Ve | AQ5: Sa | AR5: Di | AS5: Lu | AT5: Ma | AU5: Me | AV5: Je | AW5: Ve | AX5: Sa | AY5: Di | AZ5: Lu | BA5: Ma | BB5: Me | BC5: Je | BD5: Ve | BE5: Sa | BF5: Di | BG5: Lu | BH5: Ma | BI5: Me | BJ5: Je | BK5: Ve | BL5: Sa | BM5: Di | BN5: Lu | BO5: Ma | BP5: Me | BQ5: Je | BR5: Ve | BS5: Sa | BT5: Di | BU5: Lu | BV5: Ma | BW5: Me | BX5: Je | BY5: Ve | BZ5: Sa | CA5: Di | CB5: Lu | CC5: Ma | CD5: Me | CE5: Je | CF5: Ve | CG5: Sa | CH5: Di | CI5: Lu | CJ5: Ma | CK5: Me | CL5: Je | CM5: Ve | CN5: Sa | CO5: Di | CP5: Lu | CQ5: Ma | CR5: Me | CS5: Je | CT5: Ve | CU5: Sa | CV5: Di | CW5: Lu | CX5: Ma | CY5: Me | CZ5: Je | DA5: Ve | DB5: Sa | DC5: Di | DD5: Lu | DE5: Ma | DF5: Me | DG5: Je | DH5: Ve | DI5: Sa | DJ5: Di | DK5: Lu | DL5: Ma | DM5: Me | DN5: Je | DO5: Ve | DP5: Sa | DQ5: Di | DR5: Lu | DS5: Ma | DT5: Me | DU5: Je | DV5: Ve | DW5: Sa | DX5: Di | DY5: Lu | DZ5: Ma | EA5: Me | EB5: Je | EC5: Ve | ED5: Sa | EE5: Di | EF5: Lu | EG5: Ma | EH5: Me | EI5: Je | EJ5: Ve | EK5: Sa | EL5: Di | EM5: Lu | EN5: Ma | EO5: Me | EP5: Je | EQ5: Ve | ER5: Sa | ES5: Di | ET5: Lu | EU5: Ma | EV5: Me | EW5: Je | EX5: Ve | EY5: Sa | EZ5: Di | FA5: Lu | FB5: Ma | FC5: Me | FD5: Je | FE5: Ve | FF5: Sa | FG5: Di | FH5: Lu | FI5: Ma | FJ5: Me | FK5: Je | FL5: Ve | FM5: Sa | FN5: Di | FO5: Lu | FP5: Ma | FQ5: Me | FR5: Je | FS5: Ve | FT5: Sa | FU5: Di | FV5: Lu | FW5: Ma | FX5: Me | FY5: Je | FZ5: Ve | GA5: Sa | GB5: Di | GC5: Lu | GD5: Ma | GE5: Me | GF5: Je | GG5: Ve | GH5: Sa | GI5: Di | GJ5: Lu | GK5: Ma | GL5: Me | GM5: Je | GN5: Ve | GO5: Sa | GP5: Di | GQ5: Lu | GR5: Ma | GS5: Me | GT5: Je | GU5: Ve | GV5: Sa | GW5: Di | GX5: Lu | GY5: Ma | GZ5: Me | HA5: Je | HB5: Ve | HC5: Sa | HD5: Di | HE5: Lu | HF5: Ma | HG5: Me | HH5: Je | HI5: Ve | HJ5: Sa | HK5: Di | HL5: Lu | HM5: Ma | HN5: Me | HO5: Je | HP5: Ve | HQ5: Sa | HR5: Di | HS5: Lu | HT5: Ma | HU5: Me | HV5: Je | HW5: Ve | HX5: Sa | HY5: Di | HZ5: Lu | IA5: Ma | IB5: Me | IC5: Je | ID5: Ve | IE5: Sa | IF5: Di | IG5: Lu | IH5: Ma | II5: Me | IJ5: Je | IK5: Ve | IL5: Sa | IM5: Di | IN5: Lu | IO5: Ma | IP5: Me | IQ5: Je | IR5: Ve | IS5: Sa | IT5: Di | IU5: Lu | IV5: Ma | IW5: Me | IX5: Je | IY5: Ve | IZ5: Sa | JA5: Di | JB5: Lu | JC5: Ma | JD5: Me | JE5: Je | JF5: Ve | JG5: Sa | JH5: Di | JI5: Lu | JJ5: Ma | JK5: Me | JL5: Je | JM5: Ve | JN5: Sa | JO5: Di | JP5: Lu | JQ5: Ma | JR5: Me | JS5: Je | JT5: Ve | JU5: Sa | JV5: Di | JW5: Lu | JX5: Ma | JY5: Me | JZ5: Je | KA5: Ve | KB5: Sa | KC5: Di | KD5: Lu | KE5: Ma | KF5: Me | KG5: Je | KH5: Ve | KI5: Sa | KJ5: Di | KK5: Lu | KL5: Ma | KM5: Me | KN5: Je | KO5: Ve | KP5: Sa | KQ5: Di | KR5: Lu | KS5: Ma | KT5: Me | KU5: Je | KV5: Ve | KW5: Sa | KX5: Di | KY5: Lu | KZ5: Ma | LA5: Me | LB5: Je | LC5: Ve | LD5: Sa | LE5: Di | LF5: Lu | LG5: Ma | LH5: Me | LI5: Je | LJ5: Ve | LK5: Sa | LL5: Di | LM5: Lu | LN5: Ma | LO5: Me | LP5: Je | LQ5: Ve | LR5: Sa | LS5: Di | LT5: Lu | LU5: Ma | LV5: Me | LW5: Je | LX5: Ve | LY5: Sa | LZ5: Di | MA5: Lu | MB5: Ma | MC5: Me | MD5: Je | ME5: Ve | MF5: Sa | MG5: Di | MH5: Lu | MI5: Ma | MJ5: Me | MK5: Je | ML5: Ve | MM5: Sa | MN5: Di | MO5: Lu | MP5: Ma | MQ5: Me | MR5: Je | MS5: Ve | MT5: Sa | MU5: Di | MV5: Lu | MW5: Ma | MX5: Me | MY5: Je | MZ5: Ve | NA5: Sa | NB5: Di
A6: 1 | B6: Agent 1
A8: 2 | B8: Agent 2
A10: 3 | B10: Agent 3
A12: 4 | B12: Agent 4
A14: 5 | B14: Agent 5
A16: 6 | B16: Agent 6 | E16: B
A18: 7 | B18: Agent 7
A20: 8 | B20: Agent 8
A22: 9
F23: A
A24: 10 | D24: A
A26: 11
A28: 12
A30: Total centre A | B30: A | C30: =COUNTIF(C$6:I$29,$B30)/INDEX(Données!$A:$D,MATCH(Sheet1!C$2,Données!$A:$A,0),4) -> 0.5 | J30: =COUNTIF(J$6:P$29,$B30)/INDEX(Données!$A:$D,MATCH(Sheet1!J$2,Données!$A:$A,0),4) -> 0 | Q30: =COUNTIF(Q$6:W$29,$B30)/INDEX(Données!$A:$D,MATCH(Sheet1!Q$2,Données!$A:$A,0),4) -> 0 | X30: =COUNTIF(X$6:AD$29,$B30)/INDEX(Données!$A:$D,MATCH(Sheet1!X$2,Données!$A:$A,0),4) -> 0 | AE30: =COUNTIF(AE$6:AK$29,$B30)/INDEX(Données!$A:$D,MATCH(Sheet1!AE$2,Données!$A:$A,0),4) -> 0 | AL30: =COUNTIF(AL$6:AR$29,$B30)/INDEX(Données!$A:$D,MATCH(Sheet1!AL$2,Données!$A:$A,0),4) -> 0 | AS30: =COUNTIF(AS$6:AY$29,$B30)/INDEX(Données!$A:$D,MATCH(Sheet1!AS$2,Données!$A:$A,0),4) -> 0 | AZ30: =COUNTIF(AZ$6:BF$29,$B30)/INDEX(Données!$A:$D,MATCH(Sheet1!AZ$2,Données!$A:$A,0),4) -> 0 | BG30: =COUNTIF(BG$6:BM$29,$B30)/INDEX(Données!$A:$D,MATCH(Sheet1!BG$2,Données!$A:$A,0),4) -> 0 | BN30: =COUNTIF(BN$6:BT$29,$B30)/INDEX(Données!$A:$D,MATCH(Sheet1!BN$2,Données!$A:$A,0),4) -> 0 | BU30: =COUNTIF(BU$6:CA$29,$B30)/INDEX(Données!$A:$D,MATCH(Sheet1!BU$2,Données!$A:$A,0),4) -> 0 | CB30: =COUNTIF(CB$6:CH$29,$B30)/INDEX(Données!$A:$D,MATCH(Sheet1!CB$2,Données!$A:$A,0),4) -> 0 | CI30: =COUNTIF(CI$6:CO$29,$B30)/INDEX(Données!$A:$D,MATCH(Sheet1!CI$2,Données!$A:$A,0),4) -> 0 | CP30: =COUNTIF(CP$6:CV$29,$B30)/INDEX(Données!$A:$D,MATCH(Sheet1!CP$2,Données!$A:$A,0),4) -> 0 | CW30: =COUNTIF(CW$6:DC$29,$B30)/INDEX(Données!$A:$D,MATCH(Sheet1!CW$2,Données!$A:$A,0),4) -> 0 | DD30: =COUNTIF(DD$6:DJ$29,$B30)/INDEX(Données!$A:$D,MATCH(Sheet1!DD$2,Données!$A:$A,0),4) -> 0 | DK30: =COUNTIF(DK$6:DQ$29,$B30)/INDEX(Données!$A:$D,MATCH(Sheet1!DK$2,Données!$A:$A,0),4) -> 0 | DR30: =COUNTIF(DR$6:DX$29,$B30)/INDEX(Données!$A:$D,MATCH(Sheet1!DR$2,Données!$A:$A,0),4) -> 0 | DY30: =COUNTIF(DY$6:EE$29,$B30)/INDEX(Données!$A:$D,MATCH(Sheet1!DY$2,Données!$A:$A,0),4) -> 0 | EF30: =COUNTIF(EF$6:EL$29,$B30)/INDEX(Données!$A:$D,MATCH(Sheet1!EF$2,Données!$A:$A,0),4) -> 0 | EM30: =COUNTIF(EM$6:ES$29,$B30)/INDEX(Données!$A:$D,MATCH(Sheet1!EM$2,Données!$A:$A,0),4) -> 0 | ET30: =COUNTIF(ET$6:EZ$29,$B30)/INDEX(Données!$A:$D,MATCH(Sheet1!ET$2,Données!$A:$A,0),4) -> 0 | FA30: =COUNTIF(FA$6:FG$29,$B30)/INDEX(Données!$A:$D,MATCH(Sheet1!FA$2,Données!$A:$A,0),4) -> 0 | FH30: =COUNTIF(FH$6:FN$29,$B30)/INDEX(Données!$A:$D,MATCH(Sheet1!FH$2,Données!$A:$A,0),4) -> 0 | FO30: =COUNTIF(FO$6:FU$29,$B30)/INDEX(Données!$A:$D,MATCH(Sheet1!FO$2,Données!$A:$A,0),4) -> 0 | FV30: =COUNTIF(FV$6:GB$29,$B30)/INDEX(Données!$A:$D,MATCH(Sheet1!FV$2,Données!$A:$A,0),4) -> 0 | GC30: =COUNTIF(GC$6:GI$29,$B30)/INDEX(Données!$A:$D,MATCH(Sheet1!GC$2,Données!$A:$A,0),4) -> 0 | GJ30: =COUNTIF(GJ$6:GP$29,$B30)/INDEX(Données!$A:$D,MATCH(Sheet1!GJ$2,Données!$A:$A,0),4) -> 0 | GQ30: =COUNTIF(GQ$6:GW$29,$B30)/INDEX(Données!$A:$D,MATCH(Sheet1!GQ$2,Données!$A:$A,0),4) -> 0 | GX30: =COUNTIF(GX$6:HD$29,$B30)/INDEX(Données!$A:$D,MATCH(Sheet1!GX$2,Données!$A:$A,0),4) -> 0 | HE30: =COUNTIF(HE$6:HK$29,$B30)/INDEX(Données!$A:$D,MATCH(Sheet1!HE$2,Données!$A:$A,0),4) -> 0 | HL30: =COUNTIF(HL$6:HR$29,$B30)/INDEX(Données!$A:$D,MATCH(Sheet1!HL$2,Données!$A:$A,0),4) -> 0 | HS30: =COUNTIF(HS$6:HY$29,$B30)/INDEX(Données!$A:$D,MATCH(Sheet1!HS$2,Données!$A:$A,0),4) -> 0 | HZ30: =COUNTIF(HZ$6:IF$29,$B30)/INDEX(Données!$A:$D,MATCH(Sheet1!HZ$2,Données!$A:$A,0),4) -> 0 | IG30: =COUNTIF(IG$6:IM$29,$B30)/INDEX(Données!$A:$D,MATCH(Sheet1!IG$2,Données!$A:$A,0),4) -> 0 | IN30: =COUNTIF(IN$6:IT$29,$B30)/INDEX(Données!$A:$D,MATCH(Sheet1!IN$2,Données!$A:$A,0),4) -> 0 | IU30: =COUNTIF(IU$6:JA$29,$B30)/INDEX(Données!$A:$D,MATCH(Sheet1!IU$2,Données!$A:$A,0),4) -> 0 | JB30: =COUNTIF(JB$6:JH$29,$B30)/INDEX(Données!$A:$D,MATCH(Sheet1!JB$2,Données!$A:$A,0),4) -> 0 | JI30: =COUNTIF(JI$6:JO$29,$B30)/INDEX(Données!$A:$D,MATCH(Sheet1!JI$2,Données!$A:$A,0),4) -> 0 | JP30: =COUNTIF(JP$6:JV$29,$B30)/INDEX(Données!$A:$D,MATCH(Sheet1!JP$2,Données!$A:$A,0),4) -> 0 | JW30: =COUNTIF(JW$6:KC$29,$B30)/INDEX(Données!$A:$D,MATCH(Sheet1!JW$2,Données!$A:$A,0),4) -> 0 | KD30: =COUNTIF(KD$6:KJ$29,$B30)/INDEX(Données!$A:$D,MATCH(Sheet1!KD$2,Données!$A:$A,0),4) -> 0 | KK30: =COUNTIF(KK$6:KQ$29,$B30)/INDEX(Données!$A:$D,MATCH(Sheet1!KK$2,Données!$A:$A,0),4) -> 0 | KR30: =COUNTIF(KR$6:KX$29,$B30)/INDEX(Données!$A:$D,MATCH(Sheet1!KR$2,Données!$A:$A,0),4) -> 0 | KY30: =COUNTIF(KY$6:LE$29,$B30)/INDEX(Données!$A:$D,MATCH(Sheet1!KY$2,Données!$A:$A,0),4) -> 0 | LF30: =COUNTIF(LF$6:LL$29,$B30)/INDEX(Données!$A:$D,MATCH(Sheet1!LF$2,Données!$A:$A,0),4) -> 0 | LM30: =COUNTIF(LM$6:LS$29,$B30)/INDEX(Données!$A:$D,MATCH(Sheet1!LM$2,Données!$A:$A,0),4) -> 0 | LT30: =COUNTIF(LT$6:LZ$29,$B30)/INDEX(Données!$A:$D,MATCH(Sheet1!LT$2,Données!$A:$A,0),4) -> 0 | MA30: =COUNTIF(MA$6:MG$29,$B30)/INDEX(Données!$A:$D,MATCH(Sheet1!MA$2,Données!$A:$A,0),4) -> 0 | MH30: =COUNTIF(MH$6:MN$29,$B30)/INDEX(Données!$A:$D,MATCH(Sheet1!MH$2,Données!$A:$A,0),4) -> 0 | MO30: =COUNTIF(MO$6:MU$29,$B30)/INDEX(Données!$A:$D,MATCH(Sheet1!MO$2,Données!$A:$A,0),4) -> 0 | MV30: =COUNTIF(MV$6:NB$29,$B30)/INDEX(Données!$A:$D,MATCH(Sheet1!MV$2,Données!$A:$A,0),4) -> 0
A31: Total centre B | B31: B | C31: =COUNTIF(C$6:I$29,$B31)/INDEX(Données!$A:$D,MATCH(Sheet1!C$2,Données!$A:$A,0),4) -> 0.25 | J31: =COUNTIF(J$6:P$29,$B31)/INDEX(Données!$A:$D,MATCH(Sheet1!J$2,Données!$A:$A,0),4) -> 0 | Q31: =COUNTIF(Q$6:W$29,$B31)/INDEX(Données!$A:$D,MATCH(Sheet1!Q$2,Données!$A:$A,0),4) -> 0 | X31: =COUNTIF(X$6:AD$29,$B31)/INDEX(Données!$A:$D,MATCH(Sheet1!X$2,Données!$A:$A,0),4) -> 0 | AE31: =COUNTIF(AE$6:AK$29,$B31)/INDEX(Données!$A:$D,MATCH(Sheet1!AE$2,Données!$A:$A,0),4) -> 0 | AL31: =COUNTIF(AL$6:AR$29,$B31)/INDEX(Données!$A:$D,MATCH(Sheet1!AL$2,Données!$A:$A,0),4) -> 0 | AS31: =COUNTIF(AS$6:AY$29,$B31)/INDEX(Données!$A:$D,MATCH(Sheet1!AS$2,Données!$A:$A,0),4) -> 0 | AZ31: =COUNTIF(AZ$6:BF$29,$B31)/INDEX(Données!$A:$D,MATCH(Sheet1!AZ$2,Données!$A:$A,0),4) -> 0 | BG31: =COUNTIF(BG$6:BM$29,$B31)/INDEX(Données!$A:$D,MATCH(Sheet1!BG$2,Données!$A:$A,0),4) -> 0 | BN31: =COUNTIF(BN$6:BT$29,$B31)/INDEX(Données!$A:$D,MATCH(Sheet1!BN$2,Données!$A:$A,0),4) -> 0 | BU31: =COUNTIF(BU$6:CA$29,$B31)/INDEX(Données!$A:$D,MATCH(Sheet1!BU$2,Données!$A:$A,0),4) -> 0 | CB31: =COUNTIF(CB$6:CH$29,$B31)/INDEX(Données!$A:$D,MATCH(Sheet1!CB$2,Données!$A:$A,0),4) -> 0 | CI31: =COUNTIF(CI$6:CO$29,$B31)/INDEX(Données!$A:$D,MATCH(Sheet1!CI$2,Données!$A:$A,0),4) -> 0 | CP31: =COUNTIF(CP$6:CV$29,$B31)/INDEX(Données!$A:$D,MATCH(Sheet1!CP$2,Données!$A:$A,0),4) -> 0 | CW31: =COUNTIF(CW$6:DC$29,$B31)/INDEX(Données!$A:$D,MATCH(Sheet1!CW$2,Données!$A:$A,0),4) -> 0 | DD31: =COUNTIF(DD$6:DJ$29,$B31)/INDEX(Données!$A:$D,MATCH(Sheet1!DD$2,Données!$A:$A,0),4) -> 0 | DK31: =COUNTIF(DK$6:DQ$29,$B31)/INDEX(Données!$A:$D,MATCH(Sheet1!DK$2,Données!$A:$A,0),4) -> 0 | DR31: =COUNTIF(DR$6:DX$29,$B31)/INDEX(Données!$A:$D,MATCH(Sheet1!DR$2,Données!$A:$A,0),4) -> 0 | DY31: =COUNTIF(DY$6:EE$29,$B31)/INDEX(Données!$A:$D,MATCH(Sheet1!DY$2,Données!$A:$A,0),4) -> 0 | EF31: =COUNTIF(EF$6:EL$29,$B31)/INDEX(Données!$A:$D,MATCH(Sheet1!EF$2,Données!$A:$A,0),4) -> 0 | EM31: =COUNTIF(EM$6:ES$29,$B31)/INDEX(Données!$A:$D,MATCH(Sheet1!EM$2,Données!$A:$A,0),4) -> 0 | ET31: =COUNTIF(ET$6:EZ$29,$B31)/INDEX(Données!$A:$D,MATCH(Sheet1!ET$2,Données!$A:$A,0),4) -> 0 | FA31: =COUNTIF(FA$6:FG$29,$B31)/INDEX(Données!$A:$D,MATCH(Sheet1!FA$2,Données!$A:$A,0),4) -> 0 | FH31: =COUNTIF(FH$6:FN$29,$B31)/INDEX(Données!$A:$D,MATCH(Sheet1!FH$2,Données!$A:$A,0),4) -> 0 | FO31: =COUNTIF(FO$6:FU$29,$B31)/INDEX(Données!$A:$D,MATCH(Sheet1!FO$2,Données!$A:$A,0),4) -> 0 | FV31: =COUNTIF(FV$6:GB$29,$B31)/INDEX(Données!$A:$D,MATCH(Sheet1!FV$2,Données!$A:$A,0),4) -> 0 | GC31: =COUNTIF(GC$6:GI$29,$B31)/INDEX(Données!$A:$D,MATCH(Sheet1!GC$2,Données!$A:$A,0),4) -> 0 | GJ31: =COUNTIF(GJ$6:GP$29,$B31)/INDEX(Données!$A:$D,MATCH(Sheet1!GJ$2,Données!$A:$A,0),4) -> 0 | GQ31: =COUNTIF(GQ$6:GW$29,$B31)/INDEX(Données!$A:$D,MATCH(Sheet1!GQ$2,Données!$A:$A,0),4) -> 0 | GX31: =COUNTIF(GX$6:HD$29,$B31)/INDEX(Données!$A:$D,MATCH(Sheet1!GX$2,Données!$A:$A,0),4) -> 0 | HE31: =COUNTIF(HE$6:HK$29,$B31)/INDEX(Données!$A:$D,MATCH(Sheet1!HE$2,Données!$A:$A,0),4) -> 0 | HL31: =COUNTIF(HL$6:HR$29,$B31)/INDEX(Données!$A:$D,MATCH(Sheet1!HL$2,Données!$A:$A,0),4) -> 0 | HS31: =COUNTIF(HS$6:HY$29,$B31)/INDEX(Données!$A:$D,MATCH(Sheet1!HS$2,Données!$A:$A,0),4) -> 0 | HZ31: =COUNTIF(HZ$6:IF$29,$B31)/INDEX(Données!$A:$D,MATCH(Sheet1!HZ$2,Données!$A:$A,0),4) -> 0 | IG31: =COUNTIF(IG$6:IM$29,$B31)/INDEX(Données!$A:$D,MATCH(Sheet1!IG$2,Données!$A:$A,0),4) -> 0 | IN31: =COUNTIF(IN$6:IT$29,$B31)/INDEX(Données!$A:$D,MATCH(Sheet1!IN$2,Données!$A:$A,0),4) -> 0 | IU31: =COUNTIF(IU$6:JA$29,$B31)/INDEX(Données!$A:$D,MATCH(Sheet1!IU$2,Données!$A:$A,0),4) -> 0 | JB31: =COUNTIF(JB$6:JH$29,$B31)/INDEX(Données!$A:$D,MATCH(Sheet1!JB$2,Données!$A:$A,0),4) -> 0 | JI31: =COUNTIF(JI$6:JO$29,$B31)/INDEX(Données!$A:$D,MATCH(Sheet1!JI$2,Données!$A:$A,0),4) -> 0 | JP31: =COUNTIF(JP$6:JV$29,$B31)/INDEX(Données!$A:$D,MATCH(Sheet1!JP$2,Données!$A:$A,0),4) -> 0 | JW31: =COUNTIF(JW$6:KC$29,$B31)/INDEX(Données!$A:$D,MATCH(Sheet1!JW$2,Données!$A:$A,0),4) -> 0 | KD31: =COUNTIF(KD$6:KJ$29,$B31)/INDEX(Données!$A:$D,MATCH(Sheet1!KD$2,Données!$A:$A,0),4) -> 0 | KK31: =COUNTIF(KK$6:KQ$29,$B31)/INDEX(Données!$A:$D,MATCH(Sheet1!KK$2,Données!$A:$A,0),4) -> 0 | KR31: =COUNTIF(KR$6:KX$29,$B31)/INDEX(Données!$A:$D,MATCH(Sheet1!KR$2,Données!$A:$A,0),4) -> 0 | KY31: =COUNTIF(KY$6:LE$29,$B31)/INDEX(Données!$A:$D,MATCH(Sheet1!KY$2,Données!$A:$A,0),4) -> 0 | LF31: =COUNTIF(LF$6:LL$29,$B31)/INDEX(Données!$A:$D,MATCH(Sheet1!LF$2,Données!$A:$A,0),4) -> 0 | LM31: =COUNTIF(LM$6:LS$29,$B31)/INDEX(Données!$A:$D,MATCH(Sheet1!LM$2,Données!$A:$A,0),4) -> 0 | LT31: =COUNTIF(LT$6:LZ$29,$B31)/INDEX(Données!$A:$D,MATCH(Sheet1!LT$2,Données!$A:$A,0),4) -> 0 | MA31: =COUNTIF(MA$6:MG$29,$B31)/INDEX(Données!$A:$D,MATCH(Sheet1!MA$2,Données!$A:$A,0),4) -> 0 | MH31: =COUNTIF(MH$6:MN$29,$B31)/INDEX(Données!$A:$D,MATCH(Sheet1!MH$2,Données!$A:$A,0),4) -> 0 | MO31: =COUNTIF(MO$6:MU$29,$B31)/INDEX(Données!$A:$D,MATCH(Sheet1!MO$2,Données!$A:$A,0),4) -> 0 | MV31: =COUNTIF(MV$6:NB$29,$B31)/INDEX(Données!$A:$D,MATCH(Sheet1!MV$2,Données!$A:$A,0),4) -> 0
C33: =ADDRESS(ROW(C3),COLUMN(C3),4)&" : "&_xlfn.FORMULATEXT(C3) -> C3 : ="S"&TEXTE(NO.SEMAINE.ISO(C4);"00")&" - "&TEXTE(C4;"jj/mm/aaaa")
C34: =ADDRESS(ROW(C4),COLUMN(C4),4)&" : "&_xlfn.FORMULATEXT(C4) -> C4 : =SEQUENCE(;NO.SEMAINE.ISO(DATE(année;12;28))*7;DATE(année;1;5)-JOURSEM(DATE(année;1;3)))
C35: =ADDRESS(ROW(C5),COLUMN(C5),4)&" : "&_xlfn.FORMULATEXT(C5) -> C5 : =CHOISIR(JOURSEM(C4#;1);"Di";"Lu";"Ma";"Me";"Je";"Ve";"Sa")

Sheet Données
B4: Année | C4: 2023
B5: N° semaine | C5: 44927 | D5: NB.J.O | G5: =_xlfn.ISOWEEKNUM(DATE(année,12,28)) -> 52 | I5: Pâques | J5: 01/01/2023
A6: ="S"&TEXT(B6,"00") -> S01 | B6: 1 | C6: =7*B6+DATE($C$4,1,1)-WEEKDAY(DATE($C$4,1,1))-5 -> 44928 | D6: =NETWORKDAYS.INTL(C$6,C6+6,1,$I$6:$I$21) -> 4 | I6: =ROUND(DATE(YEAR(J5),4,MOD(234-11*MOD(YEAR(J5),19),30))/7,0)*7-6 -> 45025 | J6: =YEAR(J5) -> 2023
A7: ="S"&TEXT(B7,"00") -> S02 | B7: 2 | C7: =7*B7+DATE($C$4,1,1)-WEEKDAY(DATE($C$4,1,1))-5 -> 44935 | D7: =NETWORKDAYS.INTL(C7,C7+6,1,$I$6:$I$21) -> 5 | I7: =DATE(J6,1,1) -> 44927
A8: ="S"&TEXT(B8,"00") -> S03 | B8: 3 | C8: =7*B8+DATE($C$4,1,1)-WEEKDAY(DATE($C$4,1,1))-5 -> 44942 | D8: =NETWORKDAYS.INTL(C8,C8+6,1,$I$6:$I$21) -> 5 | I8: =DATE(J6,5,1) -> 45047
A9: ="S"&TEXT(B9,"00") -> S04 | B9: 4 | C9: =7*B9+DATE($C$4,1,1)-WEEKDAY(DATE($C$4,1,1))-5 -> 44949 | D9: =NETWORKDAYS.INTL(C9,C9+6,1,$I$6:$I$21) -> 5 | I9: =DATE(J6,5,8) -> 45054
A10: ="S"&TEXT(B10,"00") -> S05 | B10: 5 | C10: =7*B10+DATE($C$4,1,1)-WEEKDAY(DATE($C$4,1,1))-5 -> 44956 | D10: =NETWORKDAYS.INTL(C10,C10+6,1,$I$6:$I$21) -> 5 | I10: =DATE(J6,7,14) -> 45121
A11: ="S"&TEXT(B11,"00") -> S06 | B11: 6 | C11: =7*B11+DATE($C$4,1,1)-WEEKDAY(DATE($C$4,1,1))-5 -> 44963 | D11: =NETWORKDAYS.INTL(C11,C11+6,1,$I$6:$I$21) -> 5 | I11: =DATE(J6,8,15) -> 45153
A12: ="S"&TEXT(B12,"00") -> S07 | B12: 7 | C12: =7*B12+DATE($C$4,1,1)-WEEKDAY(DATE($C$4,1,1))-5 -> 44970 | D12: =NETWORKDAYS.INTL(C12,C12+6,1,$I$6:$I$21) -> 5 | I12: =DATE(J6,11,1) -> 45231
A13: ="S"&TEXT(B13,"00") -> S08 | B13: 8 | C13: =7*B13+DATE($C$4,1,1)-WEEKDAY(DATE($C$4,1,1))-5 -> 44977 | D13: =NETWORKDAYS.INTL(C13,C13+6,1,$I$6:$I$21) -> 5 | I13: =DATE(J6,11,11) -> 45241
A14: ="S"&TEXT(B14,"00") -> S09 | B14: 9 | C14: =7*B14+DATE($C$4,1,1)-WEEKDAY(DATE($C$4,1,1))-5 -> 44984 | D14: =NETWORKDAYS.INTL(C14,C14+6,1,$I$6:$I$21) -> 5 | I14: =DATE(J6,12,25) -> 45285
A15: ="S"&TEXT(B15,"00") -> S10 | B15: 10 | C15: =7*B15+DATE($C$4,1,1)-WEEKDAY(DATE($C$4,1,1))-5 -> 44991 | D15: =NETWORKDAYS.INTL(C15,C15+6,1,$I$6:$I$21) -> 5 | I15: =I6+1 -> 45026
A16: ="S"&TEXT(B16,"00") -> S11 | B16: 11 | C16: =7*B16+DATE($C$4,1,1)-WEEKDAY(DATE($C$4,1,1))-5 -> 44998 | D16: =NETWORKDAYS.INTL(C16,C16+6,1,$I$6:$I$21) -> 5 | I16: =I6+39 -> 45064
A17: ="S"&TEXT(B17,"00") -> S12 | B17: 12 | C17: =7*B17+DATE($C$4,1,1)-WEEKDAY(DATE($C$4,1,1))-5 -> 45005 | D17: =NETWORKDAYS.INTL(C17,C17+6,1,$I$6:$I$21) -> 5 | I17: =I6+50 -> 45075
A18: ="S"&TEXT(B18,"00") -> S13 | B18: 13 | C18: =7*B18+DATE($C$4,1,1)-WEEKDAY(DATE($C$4,1,1))-5 -> 45012 | D18: =NETWORKDAYS.INTL(C18,C18+6,1,$I$6:$I$21) -> 5 | I18: =I7+1 -> 44928
A19: ="S"&TEXT(B19,"00") -> S14 | B19: 14 | C19: =7*B19+DATE($C$4,1,1)-WEEKDAY(DATE($C$4,1,1))-5 -> 45019 | D19: =NETWORKDAYS.INTL(C19,C19+6,1,$I$6:$I$21) -> 5 | I19: =I16+1 -> 45065
A20: ="S"&TEXT(B20,"00") -> S15 | B20: 15 | C20: =7*B20+DATE($C$4,1,1)-WEEKDAY(DATE($C$4,1,1))-5 -> 45026 | D20: =NETWORKDAYS.INTL(C20,C20+6,1,$I$6:$I$21) -> 4 | I20: =I11-1 -> 45152
A21: ="S"&TEXT(B21,"00") -> S16 | B21: 16 | C21: =7*B21+DATE($C$4,1,1)-WEEKDAY(DATE($C$4,1,1))-5 -> 45033 | D21: =NETWORKDAYS.INTL(C21,C21+6,1,$I$6:$I$21) -> 5 | I21: =I14+1 -> 45286
A22: ="S"&TEXT(B22,"00") -> S17 | B22: 17 | C22: =7*B22+DATE($C$4,1,1)-WEEKDAY(DATE($C$4,1,1))-5 -> 45040 | D22: =NETWORKDAYS.INTL(C22,C22+6,1,$I$6:$I$21) -> 5
A23: ="S"&TEXT(B23,"00") -> S18 | B23: 18 | C23: =7*B23+DATE($C$4,1,1)-WEEKDAY(DATE($C$4,1,1))-5 -> 45047 | D23: =NETWORKDAYS.INTL(C23,C23+6,1,$I$6:$I$21) -> 4
A24: ="S"&TEXT(B24,"00") -> S19 | B24: 19 | C24: =7*B24+DATE($C$4,1,1)-WEEKDAY(DATE($C$4,1,1))-5 -> 45054 | D24: =NETWORKDAYS.INTL(C24,C24+6,1,$I$6:$I$21) -> 4
A25: ="S"&TEXT(B25,"00") -> S20 | B25: 20 | C25: =7*B25+DATE($C$4,1,1)-WEEKDAY(DATE($C$4,1,1))-5 -> 45061 | D25: =NETWORKDAYS.INTL(C25,C25+6,1,$I$6:$I$21) -> 3
A26: ="S"&TEXT(B26,"00") -> S21 | B26: 21 | C26: =7*B26+DATE($C$4,1,1)-WEEKDAY(DATE($C$4,1,1))-5 -> 45068 | D26: =NETWORKDAYS.INTL(C26,C26+6,1,$I$6:$I$21) -> 5
A27: ="S"&TEXT(B27,"00") -> S22 | B27: 22 | C27: =7*B27+DATE($C$4,1,1)-WEEKDAY(DATE($C$4,1,1))-5 -> 45075 | D27: =NETWORKDAYS.INTL(C27,C27+6,1,$I$6:$I$21) -> 4
A28: ="S"&TEXT(B28,"00") -> S23 | B28: 23 | C28: =7*B28+DATE($C$4,1,1)-WEEKDAY(DATE($C$4,1,1))-5 -> 45082 | D28: =NETWORKDAYS.INTL(C28,C28+6,1,$I$6:$I$21) -> 5
A29: ="S"&TEXT(B29,"00") -> S24 | B29: 24 | C29: =7*B29+DATE($C$4,1,1)-WEEKDAY(DATE($C$4,1,1))-5 -> 45089 | D29: =NETWORKDAYS.INTL(C29,C29+6,1,$I$6:$I$21) -> 5
A30: ="S"&TEXT(B30,"00") -> S25 | B30: 25 | C30: =7*B30+DATE($C$4,1,1)-WEEKDAY(DATE($C$4,1,1))-5 -> 45096 | D30: =NETWORKDAYS.INTL(C30,C30+6,1,$I$6:$I$21) -> 5
A31: ="S"&TEXT(B31,"00") -> S26 | B31: 26 | C31: =7*B31+DATE($C$4,1,1)-WEEKDAY(DATE($C$4,1,1))-5 -> 45103 | D31: =NETWORKDAYS.INTL(C31,C31+6,1,$I$6:$I$21) -> 5
A32: ="S"&TEXT(B32,"00") -> S27 | B32: 27 | C32: =7*B32+DATE($C$4,1,1)-WEEKDAY(DATE($C$4,1,1))-5 -> 45110 | D32: =NETWORKDAYS.INTL(C32,C32+6,1,$I$6:$I$21) -> 5
A33: ="S"&TEXT(B33,"00") -> S28 | B33: 28 | C33: =7*B33+DATE($C$4,1,1)-WEEKDAY(DATE($C$4,1,1))-5 -> 45117 | D33: =NETWORKDAYS.INTL(C33,C33+6,1,$I$6:$I$21) -> 4
... A57: ="S"&TEXT(B57,"00") -> S52 | B57: 52 | C57: =7*B57+DATE($C$4,1,1)-WEEKDAY(DATE($C$4,1,1))-5 -> 45285 | D57: =NETWORKDAYS.INTL(C57,C57+6,1,$I$6:$I$21) -> 3
