Workbook

Sheet Salaire Janvier
A1: GESTION DES DEPENSES | F1: BUDGET : | G1: =SUM(D:D) -> 6922000
F3: Total dépense : | G3: =SUM(E:E) -> 10922000
A4: Date | B4: Type | C4: Détails | D4: Entrées | E4: Sorties | F4: DEPENSE : | G4: =SUM(E:E) -> 10922000
A5: 44562 | B5: Opération divers | C5: Budget | D5: 6922000
A6: 44563 | B6: Salaire | C6: Kaldyw | E6: 1500000
A7: 44564 | B7: Salaire | C7: Mkswtqhxe | E7: 2000000
A8: 44565 | B8: Salaire | C8: Odjbphsca gqaskf | E8: 2000000
A9: 44566 | B9: Salaire | C9: Cseyiuidcfybx Mmvlg | E9: 1222000
A10: 44567 | B10: Salaire | C10: Mbei Sgiyqr | E10: 200000
A11: 44568 | B11: Salaire | C11: Eblbjh | E11: 2000000
A12: 44569 | B12: Salaire | C12: Wjduudqgg | E12: 2000000

Sheet Salaire Février
A1: GESTION DES DEPENSES | F1: BUDGET : | G1: =SUM(D:D) -> 20000000
F3: Total dépense : | G3: =SUM(E:E) -> 18500000
A4: Date | B4: Type | C4: Détails | D4: Entrées | E4: Sorties | F4: DEPENSE : | G4: =SUM(E:E) -> 18500000
A5: 44593 | B5: Opération divers | C5: Budget | D5: 20000000
A6: 44594 | B6: Salaire | C6: Kaldyw | E6: 2000000
A7: 44595 | B7: Salaire | C7: Mkswtqhxe | E7: 2500000
A8: 44596 | B8: Salaire | C8: Odjbphsca gqaskf | E8: 3000000
A9: 44597 | B9: Salaire | C9: Cseyiuidcfybx Mmvlg | E9: 2600000
A10: 44598 | B10: Salaire | C10: Mbei Sgiyqr | E10: 400000
A11: 44599 | B11: Salaire | C11: Eblbjh | E11: 4000000
A12: 44600 | B12: Salaire | C12: Wjduudqgg | E12: 4000000

Sheet Salaire Mars
A1: GESTION DES DEPENSES | F1: BUDGET : | G1: =SUM(D:D) -> 35000000
F3: Total dépense : | G3: =SUM(E:E) -> 31100000
A4: Date | B4: Type | C4: Détails | D4: Entrées | E4: Sorties | F4: DEPENSE : | G4: =SUM(E:E) -> 31100000
A5: 44621 | B5: Opération divers | C5: Budget | D5: 35000000
A6: 44622 | B6: Salaire | C6: Kaldyw | E6: 3000000
A7: 44623 | B7: Salaire | C7: Mkswtqhxe | E7: 4500000
A8: 44624 | B8: Salaire | C8: Odjbphsca gqaskf | E8: 0
A9: 44625 | B9: Salaire | C9: Cseyiuidcfybx Mmvlg | E9: 10600000
A10: 44626 | B10: Salaire | C10: Mbei Sgiyqr | E10: 1000000
A11: 44627 | B11: Salaire | C11: Eblbjh | E11: 7000000
A12: 44628 | B12: Salaire | C12: Wjduudqgg | E12: 5000000

Sheet Récapitulatif
A1: RECAPITULATIF
A4: Mois | B4: Janvier | C4: Janvier | D4: Février | E4: Février | F4: Mars | G4: Mars
A5: Nom | B5: Date | C5: Salaire | D5: Date | E5: Salaire | F5: Date | G5: Salaire | I5: Sous-Total
A6: Kaldyw | B6: =INDEX(INDIRECT("'Salaire "&B$4&"'!$A:$E"),MATCH(Récapitulatif!$A6,INDIRECT("'Salaire "&B$4&"'!$C:$C"),0),1) -> 44563 | C6: =INDEX(INDIRECT("'Salaire "&C$4&"'!$A:$E"),MATCH(Récapitulatif!$A6,INDIRECT("'Salaire "&C$4&"'!$C:$C"),0),5) -> 1500000 | D6: =INDEX(INDIRECT("'Salaire "&D$4&"'!$A:$E"),MATCH(Récapitulatif!$A6,INDIRECT("'Salaire "&D$4&"'!$C:$C"),0),1) -> 44594 | E6: =INDEX(INDIRECT("'Salaire "&E$4&"'!$A:$E"),MATCH(Récapitulatif!$A6,INDIRECT("'Salaire "&E$4&"'!$C:$C"),0),5) -> 2000000 | F6: =INDEX(INDIRECT("'Salaire "&F$4&"'!$A:$E"),MATCH(Récapitulatif!$A6,INDIRECT("'Salaire "&F$4&"'!$C:$C"),0),1) -> 44622 | G6: =INDEX(INDIRECT("'Salaire "&G$4&"'!$A:$E"),MATCH(Récapitulatif!$A6,INDIRECT("'Salaire "&G$4&"'!$C:$C"),0),5) -> 3000000 | I6: =SUMIFS($B6:$G6,$B$5:$G$5,"Salaire") -> 6500000
A7: Mkswtqhxe | B7: =INDEX(INDIRECT("'Salaire "&B$4&"'!$A:$E"),MATCH(Récapitulatif!$A7,INDIRECT("'Salaire "&B$4&"'!$C:$C"),0),1) -> 44564 | C7: =INDEX(INDIRECT("'Salaire "&C$4&"'!$A:$E"),MATCH(Récapitulatif!$A7,INDIRECT("'Salaire "&C$4&"'!$C:$C"),0),5) -> 2000000 | D7: =INDEX(INDIRECT("'Salaire "&D$4&"'!$A:$E"),MATCH(Récapitulatif!$A7,INDIRECT("'Salaire "&D$4&"'!$C:$C"),0),1) -> 44595 | E7: =INDEX(INDIRECT("'Salaire "&E$4&"'!$A:$E"),MATCH(Récapitulatif!$A7,INDIRECT("'Salaire "&E$4&"'!$C:$C"),0),5) -> 2500000 | F7: =INDEX(INDIRECT("'Salaire "&F$4&"'!$A:$E"),MATCH(Récapitulatif!$A7,INDIRECT("'Salaire "&F$4&"'!$C:$C"),0),1) -> 44623 | G7: =INDEX(INDIRECT("'Salaire "&G$4&"'!$A:$E"),MATCH(Récapitulatif!$A7,INDIRECT("'Salaire "&G$4&"'!$C:$C"),0),5) -> 4500000 | I7: =SUMIFS($B7:$G7,$B$5:$G$5,"Salaire") -> 9000000
A8: Odjbphsca gqaskf | B8: =INDEX(INDIRECT("'Salaire "&B$4&"'!$A:$E"),MATCH(Récapitulatif!$A8,INDIRECT("'Salaire "&B$4&"'!$C:$C"),0),1) -> 44565 | C8: =INDEX(INDIRECT("'Salaire "&C$4&"'!$A:$E"),MATCH(Récapitulatif!$A8,INDIRECT("'Salaire "&C$4&"'!$C:$C"),0),5) -> 2000000 | D8: =INDEX(INDIRECT("'Salaire "&D$4&"'!$A:$E"),MATCH(Récapitulatif!$A8,INDIRECT("'Salaire "&D$4&"'!$C:$C"),0),1) -> 44596 | E8: =INDEX(INDIRECT("'Salaire "&E$4&"'!$A:$E"),MATCH(Récapitulatif!$A8,INDIRECT("'Salaire "&E$4&"'!$C:$C"),0),5) -> 3000000 | F8: =INDEX(INDIRECT("'Salaire "&F$4&"'!$A:$E"),MATCH(Récapitulatif!$A8,INDIRECT("'Salaire "&F$4&"'!$C:$C"),0),1) -> 44624 | G8: =INDEX(INDIRECT("'Salaire "&G$4&"'!$A:$E"),MATCH(Récapitulatif!$A8,INDIRECT("'Salaire "&G$4&"'!$C:$C"),0),5) -> 0 | I8: =SUMIFS($B8:$G8,$B$5:$G$5,"Salaire") -> 5000000
A9: Cseyiuidcfybx Mmvlg | B9: =INDEX(INDIRECT("'Salaire "&B$4&"'!$A:$E"),MATCH(Récapitulatif!$A9,INDIRECT("'Salaire "&B$4&"'!$C:$C"),0),1) -> 44566 | C9: =INDEX(INDIRECT("'Salaire "&C$4&"'!$A:$E"),MATCH(Récapitulatif!$A9,INDIRECT("'Salaire "&C$4&"'!$C:$C"),0),5) -> 1222000 | D9: =INDEX(INDIRECT("'Salaire "&D$4&"'!$A:$E"),MATCH(Récapitulatif!$A9,INDIRECT("'Salaire "&D$4&"'!$C:$C"),0),1) -> 44597 | E9: =INDEX(INDIRECT("'Salaire "&E$4&"'!$A:$E"),MATCH(Récapitulatif!$A9,INDIRECT("'Salaire "&E$4&"'!$C:$C"),0),5) -> 2600000 | F9: =INDEX(INDIRECT("'Salaire "&F$4&"'!$A:$E"),MATCH(Récapitulatif!$A9,INDIRECT("'Salaire "&F$4&"'!$C:$C"),0),1) -> 44625 | G9: =INDEX(INDIRECT("'Salaire "&G$4&"'!$A:$E"),MATCH(Récapitulatif!$A9,INDIRECT("'Salaire "&G$4&"'!$C:$C"),0),5) -> 10600000 | I9: =SUMIFS($B9:$G9,$B$5:$G$5,"Salaire") -> 14422000
A10: Mbei Sgiyqr | B10: =INDEX(INDIRECT("'Salaire "&B$4&"'!$A:$E"),MATCH(Récapitulatif!$A10,INDIRECT("'Salaire "&B$4&"'!$C:$C"),0),1) -> 44567 | C10: =INDEX(INDIRECT("'Salaire "&C$4&"'!$A:$E"),MATCH(Récapitulatif!$A10,INDIRECT("'Salaire "&C$4&"'!$C:$C"),0),5) -> 200000 | D10: =INDEX(INDIRECT("'Salaire "&D$4&"'!$A:$E"),MATCH(Récapitulatif!$A10,INDIRECT("'Salaire "&D$4&"'!$C:$C"),0),1) -> 44598 | E10: =INDEX(INDIRECT("'Salaire "&E$4&"'!$A:$E"),MATCH(Récapitulatif!$A10,INDIRECT("'Salaire "&E$4&"'!$C:$C"),0),5) -> 400000 | F10: =INDEX(INDIRECT("'Salaire "&F$4&"'!$A:$E"),MATCH(Récapitulatif!$A10,INDIRECT("'Salaire "&F$4&"'!$C:$C"),0),1) -> 44626 | G10: =INDEX(INDIRECT("'Salaire "&G$4&"'!$A:$E"),MATCH(Récapitulatif!$A10,INDIRECT("'Salaire "&G$4&"'!$C:$C"),0),5) -> 1000000 | I10: =SUMIFS($B10:$G10,$B$5:$G$5,"Salaire") -> 1600000
A11: Eblbjh | B11: =INDEX(INDIRECT("'Salaire "&B$4&"'!$A:$E"),MATCH(Récapitulatif!$A11,INDIRECT("'Salaire "&B$4&"'!$C:$C"),0),1) -> 44568 | C11: =INDEX(INDIRECT("'Salaire "&C$4&"'!$A:$E"),MATCH(Récapitulatif!$A11,INDIRECT("'Salaire "&C$4&"'!$C:$C"),0),5) -> 2000000 | D11: =INDEX(INDIRECT("'Salaire "&D$4&"'!$A:$E"),MATCH(Récapitulatif!$A11,INDIRECT("'Salaire "&D$4&"'!$C:$C"),0),1) -> 44599 | E11: =INDEX(INDIRECT("'Salaire "&E$4&"'!$A:$E"),MATCH(Récapitulatif!$A11,INDIRECT("'Salaire "&E$4&"'!$C:$C"),0),5) -> 4000000 | F11: =INDEX(INDIRECT("'Salaire "&F$4&"'!$A:$E"),MATCH(Récapitulatif!$A11,INDIRECT("'Salaire "&F$4&"'!$C:$C"),0),1) -> 44627 | G11: =INDEX(INDIRECT("'Salaire "&G$4&"'!$A:$E"),MATCH(Récapitulatif!$A11,INDIRECT("'Salaire "&G$4&"'!$C:$C"),0),5) -> 7000000 | I11: =SUMIFS($B11:$G11,$B$5:$G$5,"Salaire") -> 13000000
A12: Wjduudqgg | B12: =INDEX(INDIRECT("'Salaire "&B$4&"'!$A:$E"),MATCH(Récapitulatif!$A12,INDIRECT("'Salaire "&B$4&"'!$C:$C"),0),1) -> 44569 | C12: =INDEX(INDIRECT("'Salaire "&C$4&"'!$A:$E"),MATCH(Récapitulatif!$A12,INDIRECT("'Salaire "&C$4&"'!$C:$C"),0),5) -> 2000000 | D12: =INDEX(INDIRECT("'Salaire "&D$4&"'!$A:$E"),MATCH(Récapitulatif!$A12,INDIRECT("'Salaire "&D$4&"'!$C:$C"),0),1) -> 44600 | E12: =INDEX(INDIRECT("'Salaire "&E$4&"'!$A:$E"),MATCH(Récapitulatif!$A12,INDIRECT("'Salaire "&E$4&"'!$C:$C"),0),5) -> 4000000 | F12: =INDEX(INDIRECT("'Salaire "&F$4&"'!$A:$E"),MATCH(Récapitulatif!$A12,INDIRECT("'Salaire "&F$4&"'!$C:$C"),0),1) -> 44628 | G12: =INDEX(INDIRECT("'Salaire "&G$4&"'!$A:$E"),MATCH(Récapitulatif!$A12,INDIRECT("'Salaire "&G$4&"'!$C:$C"),0),5) -> 5000000 | I12: =SUMIFS($B12:$G12,$B$5:$G$5,"Salaire") -> 11000000
A13: Sous-Total | C13: =SUM(C6:C12) -> 10922000 | E13: =SUM(E6:E12) -> 18500000 | G13: =SUM(G6:G12) -> 31100000 | H13: GRAND TOTAL | I13: =SUM(I6:I12) -> 60522000
