Workbook

Sheet Feuil2
A1: domaine | B1: profil | C1: seniorité | D1: TJM Moyen | E1: TJM LE MOINS DISANT | F1: CABINETS
A2: Conseil en strategie & management | B2: Consultant | C2: junior | D2: =AVERAGE(Feuil3!D2,Feuil3!F2,Feuil3!G2,Feuil3!I2,Feuil3!J2,Feuil3!K2,Feuil3!O2,Feuil3!P2,Feuil3!R2,Feuil3!T2,Feuil3!V2,Feuil3!W2,Feuil3!X2,Feuil3!Y2,Feuil3!Z2,Feuil3!AB2,Feuil3!AD2,Feuil3!AF2,Feuil3!AH2,Feuil3!AJ2,Feuil3!AL2,Feuil3!AM2,Feuil3!AN2,Feuil3!AP2,Feuil3!AR2,Feuil3!AS2,Feuil3!AU2,Feuil3!AV2,Feuil3!AX2,Feuil3!AY2,Feuil3!BA2,Feuil3!BC2,Feuil3!BE2,Feuil3!BG2,Feuil3!BI2,Feuil3!BK2,Feuil3!BL2) -> 4585.7143 | E2: =MIN(Feuil3!D2,Feuil3!F2,Feuil3!G2,Feuil3!I2,Feuil3!J2,Feuil3!K2,Feuil3!O2,Feuil3!P2,Feuil3!R2,Feuil3!T2,Feuil3!V2,Feuil3!W2,Feuil3!X2,Feuil3!Y2,Feuil3!Z2,Feuil3!AB2,Feuil3!AD2,Feuil3!AF2,Feuil3!AH2,Feuil3!AJ2,Feuil3!AL2,Feuil3!AM2,Feuil3!AN2,Feuil3!AP2,Feuil3!AR2,Feuil3!AS2,Feuil3!AU2,Feuil3!AV2,Feuil3!AX2,Feuil3!AY2,Feuil3!BA2,Feuil3!BC2,Feuil3!BE2,Feuil3!BG2,Feuil3!BI2,Feuil3!BK2,Feuil3!BL2) -> 3000 | F2: Colonne1
C3: confirme | D3: =AVERAGE(Feuil3!D3,Feuil3!F3,Feuil3!G3,Feuil3!I3,Feuil3!J3,Feuil3!K3,Feuil3!O3,Feuil3!P3,Feuil3!R3,Feuil3!T3,Feuil3!V3,Feuil3!W3,Feuil3!X3,Feuil3!Y3,Feuil3!Z3,Feuil3!AB3,Feuil3!AD3,Feuil3!AF3,Feuil3!AH3,Feuil3!AJ3,Feuil3!AL3,Feuil3!AM3,Feuil3!AN3,Feuil3!AP3,Feuil3!AR3,Feuil3!AS3,Feuil3!AU3,Feuil3!AV3,Feuil3!AX3,Feuil3!AY3,Feuil3!BA3,Feuil3!BC3,Feuil3!BE3,Feuil3!BG3,Feuil3!BI3,Feuil3!BK3,Feuil3!BL3) -> 6250 | E3: =MIN(Feuil3!D3,Feuil3!F3,Feuil3!G3,Feuil3!I3,Feuil3!J3,Feuil3!K3,Feuil3!O3,Feuil3!P3,Feuil3!R3,Feuil3!T3,Feuil3!V3,Feuil3!W3,Feuil3!X3,Feuil3!Y3,Feuil3!Z3,Feuil3!AB3,Feuil3!AD3,Feuil3!AF3,Feuil3!AH3,Feuil3!AJ3,Feuil3!AL3,Feuil3!AM3,Feuil3!AN3,Feuil3!AP3,Feuil3!AR3,Feuil3!AS3,Feuil3!AU3,Feuil3!AV3,Feuil3!AX3,Feuil3!AY3,Feuil3!BA3,Feuil3!BC3,Feuil3!BE3,Feuil3!BG3,Feuil3!BI3,Feuil3!BK3,Feuil3!BL3) -> 5000
C4: senior | D4: =AVERAGE(Feuil3!D4,Feuil3!F4,Feuil3!G4,Feuil3!I4,Feuil3!J4,Feuil3!K4,Feuil3!O4,Feuil3!P4,Feuil3!R4,Feuil3!T4,Feuil3!V4,Feuil3!W4,Feuil3!X4,Feuil3!Y4,Feuil3!Z4,Feuil3!AB4,Feuil3!AD4,Feuil3!AF4,Feuil3!AH4,Feuil3!AJ4,Feuil3!AL4,Feuil3!AM4,Feuil3!AN4,Feuil3!AP4,Feuil3!AR4,Feuil3!AS4,Feuil3!AU4,Feuil3!AV4,Feuil3!AX4,Feuil3!AY4,Feuil3!BA4,Feuil3!BC4,Feuil3!BE4,Feuil3!BG4,Feuil3!BI4,Feuil3!BK4,Feuil3!BL4) -> 6457.1429 | E4: =MIN(Feuil3!D4,Feuil3!F4,Feuil3!G4,Feuil3!I4,Feuil3!J4,Feuil3!K4,Feuil3!O4,Feuil3!P4,Feuil3!R4,Feuil3!T4,Feuil3!V4,Feuil3!W4,Feuil3!X4,Feuil3!Y4,Feuil3!Z4,Feuil3!AB4,Feuil3!AD4,Feuil3!AF4,Feuil3!AH4,Feuil3!AJ4,Feuil3!AL4,Feuil3!AM4,Feuil3!AN4,Feuil3!AP4,Feuil3!AR4,Feuil3!AS4,Feuil3!AU4,Feuil3!AV4,Feuil3!AX4,Feuil3!AY4,Feuil3!BA4,Feuil3!BC4,Feuil3!BE4,Feuil3!BG4,Feuil3!BI4,Feuil3!BK4,Feuil3!BL4) -> 4000
C5: manager | D5: =AVERAGE(Feuil3!D5,Feuil3!F5,Feuil3!G5,Feuil3!I5,Feuil3!J5,Feuil3!K5,Feuil3!O5,Feuil3!P5,Feuil3!R5,Feuil3!T5,Feuil3!V5,Feuil3!W5,Feuil3!X5,Feuil3!Y5,Feuil3!Z5,Feuil3!AB5,Feuil3!AD5,Feuil3!AF5,Feuil3!AH5,Feuil3!AJ5,Feuil3!AL5,Feuil3!AM5,Feuil3!AN5,Feuil3!AP5,Feuil3!AR5,Feuil3!AS5,Feuil3!AU5,Feuil3!AV5,Feuil3!AX5,Feuil3!AY5,Feuil3!BA5,Feuil3!BC5,Feuil3!BE5,Feuil3!BG5,Feuil3!BI5,Feuil3!BK5,Feuil3!BL5) -> 7890.9091 | E5: =MIN(Feuil3!D5,Feuil3!F5,Feuil3!G5,Feuil3!I5,Feuil3!J5,Feuil3!K5,Feuil3!O5,Feuil3!P5,Feuil3!R5,Feuil3!T5,Feuil3!V5,Feuil3!W5,Feuil3!X5,Feuil3!Y5,Feuil3!Z5,Feuil3!AB5,Feuil3!AD5,Feuil3!AF5,Feuil3!AH5,Feuil3!AJ5,Feuil3!AL5,Feuil3!AM5,Feuil3!AN5,Feuil3!AP5,Feuil3!AR5,Feuil3!AS5,Feuil3!AU5,Feuil3!AV5,Feuil3!AX5,Feuil3!AY5,Feuil3!BA5,Feuil3!BC5,Feuil3!BE5,Feuil3!BG5,Feuil3!BI5,Feuil3!BK5,Feuil3!BL5) -> 4500
C6: senior manager | D6: =AVERAGE(Feuil3!D6,Feuil3!F6,Feuil3!G6,Feuil3!I6,Feuil3!J6,Feuil3!K6,Feuil3!O6,Feuil3!P6,Feuil3!R6,Feuil3!T6,Feuil3!V6,Feuil3!W6,Feuil3!X6,Feuil3!Y6,Feuil3!Z6,Feuil3!AB6,Feuil3!AD6,Feuil3!AF6,Feuil3!AH6,Feuil3!AJ6,Feuil3!AL6,Feuil3!AM6,Feuil3!AN6,Feuil3!AP6,Feuil3!AR6,Feuil3!AS6,Feuil3!AU6,Feuil3!AV6,Feuil3!AX6,Feuil3!AY6,Feuil3!BA6,Feuil3!BC6,Feuil3!BE6,Feuil3!BG6,Feuil3!BI6,Feuil3!BK6,Feuil3!BL6) -> 10300 | E6: =MIN(Feuil3!D6,Feuil3!F6,Feuil3!G6,Feuil3!I6,Feuil3!J6,Feuil3!K6,Feuil3!O6,Feuil3!P6,Feuil3!R6,Feuil3!T6,Feuil3!V6,Feuil3!W6,Feuil3!X6,Feuil3!Y6,Feuil3!Z6,Feuil3!AB6,Feuil3!AD6,Feuil3!AF6,Feuil3!AH6,Feuil3!AJ6,Feuil3!AL6,Feuil3!AM6,Feuil3!AN6,Feuil3!AP6,Feuil3!AR6,Feuil3!AS6,Feuil3!AU6,Feuil3!AV6,Feuil3!AX6,Feuil3!AY6,Feuil3!BA6,Feuil3!BC6,Feuil3!BE6,Feuil3!BG6,Feuil3!BI6,Feuil3!BK6,Feuil3!BL6) -> 5400
C7: Partner | D7: =AVERAGE(Feuil3!D7,Feuil3!F7,Feuil3!G7,Feuil3!I7,Feuil3!J7,Feuil3!K7,Feuil3!O7,Feuil3!P7,Feuil3!R7,Feuil3!T7,Feuil3!V7,Feuil3!W7,Feuil3!X7,Feuil3!Y7,Feuil3!Z7,Feuil3!AB7,Feuil3!AD7,Feuil3!AF7,Feuil3!AH7,Feuil3!AJ7,Feuil3!AL7,Feuil3!AM7,Feuil3!AN7,Feuil3!AP7,Feuil3!AR7,Feuil3!AS7,Feuil3!AU7,Feuil3!AV7,Feuil3!AX7,Feuil3!AY7,Feuil3!BA7,Feuil3!BC7,Feuil3!BE7,Feuil3!BG7,Feuil3!BI7,Feuil3!BK7,Feuil3!BL7) -> 13666.667 | E7: =MIN(Feuil3!D7,Feuil3!F7,Feuil3!G7,Feuil3!I7,Feuil3!J7,Feuil3!K7,Feuil3!O7,Feuil3!P7,Feuil3!R7,Feuil3!T7,Feuil3!V7,Feuil3!W7,Feuil3!X7,Feuil3!Y7,Feuil3!Z7,Feuil3!AB7,Feuil3!AD7,Feuil3!AF7,Feuil3!AH7,Feuil3!AJ7,Feuil3!AL7,Feuil3!AM7,Feuil3!AN7,Feuil3!AP7,Feuil3!AR7,Feuil3!AS7,Feuil3!AU7,Feuil3!AV7,Feuil3!AX7,Feuil3!AY7,Feuil3!BA7,Feuil3!BC7,Feuil3!BE7,Feuil3!BG7,Feuil3!BI7,Feuil3!BK7,Feuil3!BL7) -> 10000
B8: PMO | C8: junior | D8: =AVERAGE(Feuil3!D8,Feuil3!F8,Feuil3!G8,Feuil3!I8,Feuil3!J8,Feuil3!K8,Feuil3!O8,Feuil3!P8,Feuil3!R8,Feuil3!T8,Feuil3!V8,Feuil3!W8,Feuil3!X8,Feuil3!Y8,Feuil3!Z8,Feuil3!AB8,Feuil3!AD8,Feuil3!AF8,Feuil3!AH8,Feuil3!AJ8,Feuil3!AL8,Feuil3!AM8,Feuil3!AN8,Feuil3!AP8,Feuil3!AR8,Feuil3!AS8,Feuil3!AU8,Feuil3!AV8,Feuil3!AX8,Feuil3!AY8,Feuil3!BA8,Feuil3!BC8,Feuil3!BE8,Feuil3!BG8,Feuil3!BI8,Feuil3!BK8,Feuil3!BL8) -> 3807.5 | E8: =MIN(Feuil3!D8,Feuil3!F8,Feuil3!G8,Feuil3!I8,Feuil3!J8,Feuil3!K8,Feuil3!O8,Feuil3!P8,Feuil3!R8,Feuil3!T8,Feuil3!V8,Feuil3!W8,Feuil3!X8,Feuil3!Y8,Feuil3!Z8,Feuil3!AB8,Feuil3!AD8,Feuil3!AF8,Feuil3!AH8,Feuil3!AJ8,Feuil3!AL8,Feuil3!AM8,Feuil3!AN8,Feuil3!AP8,Feuil3!AR8,Feuil3!AS8,Feuil3!AU8,Feuil3!AV8,Feuil3!AX8,Feuil3!AY8,Feuil3!BA8,Feuil3!BC8,Feuil3!BE8,Feuil3!BG8,Feuil3!BI8,Feuil3!BK8,Feuil3!BL8) -> 2500
C9: senior | D9: =AVERAGE(Feuil3!D9,Feuil3!F9,Feuil3!G9,Feuil3!I9,Feuil3!J9,Feuil3!K9,Feuil3!O9,Feuil3!P9,Feuil3!R9,Feuil3!T9,Feuil3!V9,Feuil3!W9,Feuil3!X9,Feuil3!Y9,Feuil3!Z9,Feuil3!AB9,Feuil3!AD9,Feuil3!AF9,Feuil3!AH9,Feuil3!AJ9,Feuil3!AL9,Feuil3!AM9,Feuil3!AN9,Feuil3!AP9,Feuil3!AR9,Feuil3!AS9,Feuil3!AU9,Feuil3!AV9,Feuil3!AX9,Feuil3!AY9,Feuil3!BA9,Feuil3!BC9,Feuil3!BE9,Feuil3!BG9,Feuil3!BI9,Feuil3!BK9,Feuil3!BL9) -> 5204.7619 | E9: =MIN(Feuil3!D9,Feuil3!F9,Feuil3!G9,Feuil3!I9,Feuil3!J9,Feuil3!K9,Feuil3!O9,Feuil3!P9,Feuil3!R9,Feuil3!T9,Feuil3!V9,Feuil3!W9,Feuil3!X9,Feuil3!Y9,Feuil3!Z9,Feuil3!AB9,Feuil3!AD9,Feuil3!AF9,Feuil3!AH9,Feuil3!AJ9,Feuil3!AL9,Feuil3!AM9,Feuil3!AN9,Feuil3!AP9,Feuil3!AR9,Feuil3!AS9,Feuil3!AU9,Feuil3!AV9,Feuil3!AX9,Feuil3!AY9,Feuil3!BA9,Feuil3!BC9,Feuil3!BE9,Feuil3!BG9,Feuil3!BI9,Feuil3!BK9,Feuil3!BL9) -> 4000
C10: expert | D10: =AVERAGE(Feuil3!D10,Feuil3!F10,Feuil3!G10,Feuil3!I10,Feuil3!J10,Feuil3!K10,Feuil3!O10,Feuil3!P10,Feuil3!R10,Feuil3!T10,Feuil3!V10,Feuil3!W10,Feuil3!X10,Feuil3!Y10,Feuil3!Z10,Feuil3!AB10,Feuil3!AD10,Feuil3!AF10,Feuil3!AH10,Feuil3!AJ10,Feuil3!AL10,Feuil3!AM10,Feuil3!AN10,Feuil3!AP10,Feuil3!AR10,Feuil3!AS10,Feuil3!AU10,Feuil3!AV10,Feuil3!AX10,Feuil3!AY10,Feuil3!BA10,Feuil3!BC10,Feuil3!BE10,Feuil3!BG10,Feuil3!BI10,Feuil3!BK10,Feuil3!BL10) -> 6671.4286 | E10: =MIN(Feuil3!D10,Feuil3!F10,Feuil3!G10,Feuil3!I10,Feuil3!J10,Feuil3!K10,Feuil3!O10,Feuil3!P10,Feuil3!R10,Feuil3!T10,Feuil3!V10,Feuil3!W10,Feuil3!X10,Feuil3!Y10,Feuil3!Z10,Feuil3!AB10,Feuil3!AD10,Feuil3!AF10,Feuil3!AH10,Feuil3!AJ10,Feuil3!AL10,Feuil3!AM10,Feuil3!AN10,Feuil3!AP10,Feuil3!AR10,Feuil3!AS10,Feuil3!AU10,Feuil3!AV10,Feuil3!AX10,Feuil3!AY10,Feuil3!BA10,Feuil3!BC10,Feuil3!BE10,Feuil3!BG10,Feuil3!BI10,Feuil3!BK10,Feuil3!BL10) -> 4500
B11: Organisation | C11: junior | D11: =AVERAGE(Feuil3!D11,Feuil3!F11,Feuil3!G11,Feuil3!I11,Feuil3!J11,Feuil3!K11,Feuil3!O11,Feuil3!P11,Feuil3!R11,Feuil3!T11,Feuil3!V11,Feuil3!W11,Feuil3!X11,Feuil3!Y11,Feuil3!Z11,Feuil3!AB11,Feuil3!AD11,Feuil3!AF11,Feuil3!AH11,Feuil3!AJ11,Feuil3!AL11,Feuil3!AM11,Feuil3!AN11,Feuil3!AP11,Feuil3!AR11,Feuil3!AS11,Feuil3!AU11,Feuil3!AV11,Feuil3!AX11,Feuil3!AY11,Feuil3!BA11,Feuil3!BC11,Feuil3!BE11,Feuil3!BG11,Feuil3!BI11,Feuil3!BK11,Feuil3!BL11) -> 3940.9091 | E11: =MIN(Feuil3!D11,Feuil3!F11,Feuil3!G11,Feuil3!I11,Feuil3!J11,Feuil3!K11,Feuil3!O11,Feuil3!P11,Feuil3!R11,Feuil3!T11,Feuil3!V11,Feuil3!W11,Feuil3!X11,Feuil3!Y11,Feuil3!Z11,Feuil3!AB11,Feuil3!AD11,Feuil3!AF11,Feuil3!AH11,Feuil3!AJ11,Feuil3!AL11,Feuil3!AM11,Feuil3!AN11,Feuil3!AP11,Feuil3!AR11,Feuil3!AS11,Feuil3!AU11,Feuil3!AV11,Feuil3!AX11,Feuil3!AY11,Feuil3!BA11,Feuil3!BC11,Feuil3!BE11,Feuil3!BG11,Feuil3!BI11,Feuil3!BK11,Feuil3!BL11) -> 2750
C12: senior | D12: =AVERAGE(Feuil3!D12,Feuil3!F12,Feuil3!G12,Feuil3!I12,Feuil3!J12,Feuil3!K12,Feuil3!O12,Feuil3!P12,Feuil3!R12,Feuil3!T12,Feuil3!V12,Feuil3!W12,Feuil3!X12,Feuil3!Y12,Feuil3!Z12,Feuil3!AB12,Feuil3!AD12,Feuil3!AF12,Feuil3!AH12,Feuil3!AJ12,Feuil3!AL12,Feuil3!AM12,Feuil3!AN12,Feuil3!AP12,Feuil3!AR12,Feuil3!AS12,Feuil3!AU12,Feuil3!AV12,Feuil3!AX12,Feuil3!AY12,Feuil3!BA12,Feuil3!BC12,Feuil3!BE12,Feuil3!BG12,Feuil3!BI12,Feuil3!BK12,Feuil3!BL12) -> 5091.6667 | E12: =MIN(Feuil3!D12,Feuil3!F12,Feuil3!G12,Feuil3!I12,Feuil3!J12,Feuil3!K12,Feuil3!O12,Feuil3!P12,Feuil3!R12,Feuil3!T12,Feuil3!V12,Feuil3!W12,Feuil3!X12,Feuil3!Y12,Feuil3!Z12,Feuil3!AB12,Feuil3!AD12,Feuil3!AF12,Feuil3!AH12,Feuil3!AJ12,Feuil3!AL12,Feuil3!AM12,Feuil3!AN12,Feuil3!AP12,Feuil3!AR12,Feuil3!AS12,Feuil3!AU12,Feuil3!AV12,Feuil3!AX12,Feuil3!AY12,Feuil3!BA12,Feuil3!BC12,Feuil3!BE12,Feuil3!BG12,Feuil3!BI12,Feuil3!BK12,Feuil3!BL12) -> 4000
C13: expert | D13: =AVERAGE(Feuil3!D13,Feuil3!F13,Feuil3!G13,Feuil3!I13,Feuil3!J13,Feuil3!K13,Feuil3!O13,Feuil3!P13,Feuil3!R13,Feuil3!T13,Feuil3!V13,Feuil3!W13,Feuil3!X13,Feuil3!Y13,Feuil3!Z13,Feuil3!AB13,Feuil3!AD13,Feuil3!AF13,Feuil3!AH13,Feuil3!AJ13,Feuil3!AL13,Feuil3!AM13,Feuil3!AN13,Feuil3!AP13,Feuil3!AR13,Feuil3!AS13,Feuil3!AU13,Feuil3!AV13,Feuil3!AX13,Feuil3!AY13,Feuil3!BA13,Feuil3!BC13,Feuil3!BE13,Feuil3!BG13,Feuil3!BI13,Feuil3!BK13,Feuil3!BL13) -> 6616.6667 | E13: =MIN(Feuil3!D13,Feuil3!F13,Feuil3!G13,Feuil3!I13,Feuil3!J13,Feuil3!K13,Feuil3!O13,Feuil3!P13,Feuil3!R13,Feuil3!T13,Feuil3!V13,Feuil3!W13,Feuil3!X13,Feuil3!Y13,Feuil3!Z13,Feuil3!AB13,Feuil3!AD13,Feuil3!AF13,Feuil3!AH13,Feuil3!AJ13,Feuil3!AL13,Feuil3!AM13,Feuil3!AN13,Feuil3!AP13,Feuil3!AR13,Feuil3!AS13,Feuil3!AU13,Feuil3!AV13,Feuil3!AX13,Feuil3!AY13,Feuil3!BA13,Feuil3!BC13,Feuil3!BE13,Feuil3!BG13,Feuil3!BI13,Feuil3!BK13,Feuil3!BL13) -> 4700
B14: management de projet | C14: junior | D14: =AVERAGE(Feuil3!D14,Feuil3!F14,Feuil3!G14,Feuil3!I14,Feuil3!J14,Feuil3!K14,Feuil3!O14,Feuil3!P14,Feuil3!R14,Feuil3!T14,Feuil3!V14,Feuil3!W14,Feuil3!X14,Feuil3!Y14,Feuil3!Z14,Feuil3!AB14,Feuil3!AD14,Feuil3!AF14,Feuil3!AH14,Feuil3!AJ14,Feuil3!AL14,Feuil3!AM14,Feuil3!AN14,Feuil3!AP14,Feuil3!AR14,Feuil3!AS14,Feuil3!AU14,Feuil3!AV14,Feuil3!AX14,Feuil3!AY14,Feuil3!BA14,Feuil3!BC14,Feuil3!BE14,Feuil3!BG14,Feuil3!BI14,Feuil3!BK14,Feuil3!BL14) -> 3900 | E14: =MIN(Feuil3!D14,Feuil3!F14,Feuil3!G14,Feuil3!I14,Feuil3!J14,Feuil3!K14,Feuil3!O14,Feuil3!P14,Feuil3!R14,Feuil3!T14,Feuil3!V14,Feuil3!W14,Feuil3!X14,Feuil3!Y14,Feuil3!Z14,Feuil3!AB14,Feuil3!AD14,Feuil3!AF14,Feuil3!AH14,Feuil3!AJ14,Feuil3!AL14,Feuil3!AM14,Feuil3!AN14,Feuil3!AP14,Feuil3!AR14,Feuil3!AS14,Feuil3!AU14,Feuil3!AV14,Feuil3!AX14,Feuil3!AY14,Feuil3!BA14,Feuil3!BC14,Feuil3!BE14,Feuil3!BG14,Feuil3!BI14,Feuil3!BK14,Feuil3!BL14) -> 3000
C15: senior | D15: =AVERAGE(Feuil3!D15,Feuil3!F15,Feuil3!G15,Feuil3!I15,Feuil3!J15,Feuil3!K15,Feuil3!O15,Feuil3!P15,Feuil3!R15,Feuil3!T15,Feuil3!V15,Feuil3!W15,Feuil3!X15,Feuil3!Y15,Feuil3!Z15,Feuil3!AB15,Feuil3!AD15,Feuil3!AF15,Feuil3!AH15,Feuil3!AJ15,Feuil3!AL15,Feuil3!AM15,Feuil3!AN15,Feuil3!AP15,Feuil3!AR15,Feuil3!AS15,Feuil3!AU15,Feuil3!AV15,Feuil3!AX15,Feuil3!AY15,Feuil3!BA15,Feuil3!BC15,Feuil3!BE15,Feuil3!BG15,Feuil3!BI15,Feuil3!BK15,Feuil3!BL15) -> 5111.1111 | E15: =MIN(Feuil3!D15,Feuil3!F15,Feuil3!G15,Feuil3!I15,Feuil3!J15,Feuil3!K15,Feuil3!O15,Feuil3!P15,Feuil3!R15,Feuil3!T15,Feuil3!V15,Feuil3!W15,Feuil3!X15,Feuil3!Y15,Feuil3!Z15,Feuil3!AB15,Feuil3!AD15,Feuil3!AF15,Feuil3!AH15,Feuil3!AJ15,Feuil3!AL15,Feuil3!AM15,Feuil3!AN15,Feuil3!AP15,Feuil3!AR15,Feuil3!AS15,Feuil3!AU15,Feuil3!AV15,Feuil3!AX15,Feuil3!AY15,Feuil3!BA15,Feuil3!BC15,Feuil3!BE15,Feuil3!BG15,Feuil3!BI15,Feuil3!BK15,Feuil3!BL15) -> 4000
C16: expert | D16: =AVERAGE(Feuil3!D16,Feuil3!F16,Feuil3!G16,Feuil3!I16,Feuil3!J16,Feuil3!K16,Feuil3!O16,Feuil3!P16,Feuil3!R16,Feuil3!T16,Feuil3!V16,Feuil3!W16,Feuil3!X16,Feuil3!Y16,Feuil3!Z16,Feuil3!AB16,Feuil3!AD16,Feuil3!AF16,Feuil3!AH16,Feuil3!AJ16,Feuil3!AL16,Feuil3!AM16,Feuil3!AN16,Feuil3!AP16,Feuil3!AR16,Feuil3!AS16,Feuil3!AU16,Feuil3!AV16,Feuil3!AX16,Feuil3!AY16,Feuil3!BA16,Feuil3!BC16,Feuil3!BE16,Feuil3!BG16,Feuil3!BI16,Feuil3!BK16,Feuil3!BL16) -> 6600 | E16: =MIN(Feuil3!D16,Feuil3!F16,Feuil3!G16,Feuil3!I16,Feuil3!J16,Feuil3!K16,Feuil3!O16,Feuil3!P16,Feuil3!R16,Feuil3!T16,Feuil3!V16,Feuil3!W16,Feuil3!X16,Feuil3!Y16,Feuil3!Z16,Feuil3!AB16,Feuil3!AD16,Feuil3!AF16,Feuil3!AH16,Feuil3!AJ16,Feuil3!AL16,Feuil3!AM16,Feuil3!AN16,Feuil3!AP16,Feuil3!AR16,Feuil3!AS16,Feuil3!AU16,Feuil3!AV16,Feuil3!AX16,Feuil3!AY16,Feuil3!BA16,Feuil3!BC16,Feuil3!BE16,Feuil3!BG16,Feuil3!BI16,Feuil3!BK16,Feuil3!BL16) -> 4500
B17: Conseil en strategie & management | C17: junior | D17: =AVERAGE(Feuil3!D17,Feuil3!F17,Feuil3!G17,Feuil3!I17,Feuil3!J17,Feuil3!K17,Feuil3!O17,Feuil3!P17,Feuil3!R17,Feuil3!T17,Feuil3!V17,Feuil3!W17,Feuil3!X17,Feuil3!Y17,Feuil3!Z17,Feuil3!AB17,Feuil3!AD17,Feuil3!AF17,Feuil3!AH17,Feuil3!AJ17,Feuil3!AL17,Feuil3!AM17,Feuil3!AN17,Feuil3!AP17,Feuil3!AR17,Feuil3!AS17,Feuil3!AU17,Feuil3!AV17,Feuil3!AX17,Feuil3!AY17,Feuil3!BA17,Feuil3!BC17,Feuil3!BE17,Feuil3!BG17,Feuil3!BI17,Feuil3!BK17,Feuil3!BL17) -> 4119.2308 | E17: =MIN(Feuil3!D17,Feuil3!F17,Feuil3!G17,Feuil3!I17,Feuil3!J17,Feuil3!K17,Feuil3!O17,Feuil3!P17,Feuil3!R17,Feuil3!T17,Feuil3!V17,Feuil3!W17,Feuil3!X17,Feuil3!Y17,Feuil3!Z17,Feuil3!AB17,Feuil3!AD17,Feuil3!AF17,Feuil3!AH17,Feuil3!AJ17,Feuil3!AL17,Feuil3!AM17,Feuil3!AN17,Feuil3!AP17,Feuil3!AR17,Feuil3!AS17,Feuil3!AU17,Feuil3!AV17,Feuil3!AX17,Feuil3!AY17,Feuil3!BA17,Feuil3!BC17,Feuil3!BE17,Feuil3!BG17,Feuil3!BI17,Feuil3!BK17,Feuil3!BL17) -> 2750
C18: senior | D18: =AVERAGE(Feuil3!D18,Feuil3!F18,Feuil3!G18,Feuil3!I18,Feuil3!J18,Feuil3!K18,Feuil3!O18,Feuil3!P18,Feuil3!R18,Feuil3!T18,Feuil3!V18,Feuil3!W18,Feuil3!X18,Feuil3!Y18,Feuil3!Z18,Feuil3!AB18,Feuil3!AD18,Feuil3!AF18,Feuil3!AH18,Feuil3!AJ18,Feuil3!AL18,Feuil3!AM18,Feuil3!AN18,Feuil3!AP18,Feuil3!AR18,Feuil3!AS18,Feuil3!AU18,Feuil3!AV18,Feuil3!AX18,Feuil3!AY18,Feuil3!BA18,Feuil3!BC18,Feuil3!BE18,Feuil3!BG18,Feuil3!BI18,Feuil3!BK18,Feuil3!BL18) -> 5578.5714 | E18: =MIN(Feuil3!D18,Feuil3!F18,Feuil3!G18,Feuil3!I18,Feuil3!J18,Feuil3!K18,Feuil3!O18,Feuil3!P18,Feuil3!R18,Feuil3!T18,Feuil3!V18,Feuil3!W18,Feuil3!X18,Feuil3!Y18,Feuil3!Z18,Feuil3!AB18,Feuil3!AD18,Feuil3!AF18,Feuil3!AH18,Feuil3!AJ18,Feuil3!AL18,Feuil3!AM18,Feuil3!AN18,Feuil3!AP18,Feuil3!AR18,Feuil3!AS18,Feuil3!AU18,Feuil3!AV18,Feuil3!AX18,Feuil3!AY18,Feuil3!BA18,Feuil3!BC18,Feuil3!BE18,Feuil3!BG18,Feuil3!BI18,Feuil3!BK18,Feuil3!BL18) -> 4000
C19: expert | D19: =AVERAGE(Feuil3!D19,Feuil3!F19,Feuil3!G19,Feuil3!I19,Feuil3!J19,Feuil3!K19,Feuil3!O19,Feuil3!P19,Feuil3!R19,Feuil3!T19,Feuil3!V19,Feuil3!W19,Feuil3!X19,Feuil3!Y19,Feuil3!Z19,Feuil3!AB19,Feuil3!AD19,Feuil3!AF19,Feuil3!AH19,Feuil3!AJ19,Feuil3!AL19,Feuil3!AM19,Feuil3!AN19,Feuil3!AP19,Feuil3!AR19,Feuil3!AS19,Feuil3!AU19,Feuil3!AV19,Feuil3!AX19,Feuil3!AY19,Feuil3!BA19,Feuil3!BC19,Feuil3!BE19,Feuil3!BG19,Feuil3!BI19,Feuil3!BK19,Feuil3!BL19) -> 6885.7143 | E19: =MIN(Feuil3!D19,Feuil3!F19,Feuil3!G19,Feuil3!I19,Feuil3!J19,Feuil3!K19,Feuil3!O19,Feuil3!P19,Feuil3!R19,Feuil3!T19,Feuil3!V19,Feuil3!W19,Feuil3!X19,Feuil3!Y19,Feuil3!Z19,Feuil3!AB19,Feuil3!AD19,Feuil3!AF19,Feuil3!AH19,Feuil3!AJ19,Feuil3!AL19,Feuil3!AM19,Feuil3!AN19,Feuil3!AP19,Feuil3!AR19,Feuil3!AS19,Feuil3!AU19,Feuil3!AV19,Feuil3!AX19,Feuil3!AY19,Feuil3!BA19,Feuil3!BC19,Feuil3!BE19,Feuil3!BG19,Feuil3!BI19,Feuil3!BK19,Feuil3!BL19) -> 5000
B20: formations | C20: junior | D20: =AVERAGE(Feuil3!D20,Feuil3!F20,Feuil3!G20,Feuil3!I20,Feuil3!J20,Feuil3!K20,Feuil3!O20,Feuil3!P20,Feuil3!R20,Feuil3!T20,Feuil3!V20,Feuil3!W20,Feuil3!X20,Feuil3!Y20,Feuil3!Z20,Feuil3!AB20,Feuil3!AD20,Feuil3!AF20,Feuil3!AH20,Feuil3!AJ20,Feuil3!AL20,Feuil3!AM20,Feuil3!AN20,Feuil3!AP20,Feuil3!AR20,Feuil3!AS20,Feuil3!AU20,Feuil3!AV20,Feuil3!AX20,Feuil3!AY20,Feuil3!BA20,Feuil3!BC20,Feuil3!BE20,Feuil3!BG20,Feuil3!BI20,Feuil3!BK20,Feuil3!BL20) -> 4028.5714 | E20: =MIN(Feuil3!D20,Feuil3!F20,Feuil3!G20,Feuil3!I20,Feuil3!J20,Feuil3!K20,Feuil3!O20,Feuil3!P20,Feuil3!R20,Feuil3!T20,Feuil3!V20,Feuil3!W20,Feuil3!X20,Feuil3!Y20,Feuil3!Z20,Feuil3!AB20,Feuil3!AD20,Feuil3!AF20,Feuil3!AH20,Feuil3!AJ20,Feuil3!AL20,Feuil3!AM20,Feuil3!AN20,Feuil3!AP20,Feuil3!AR20,Feuil3!AS20,Feuil3!AU20,Feuil3!AV20,Feuil3!AX20,Feuil3!AY20,Feuil3!BA20,Feuil3!BC20,Feuil3!BE20,Feuil3!BG20,Feuil3!BI20,Feuil3!BK20,Feuil3!BL20) -> 2700
C21: senior | D21: =AVERAGE(Feuil3!D21,Feuil3!F21,Feuil3!G21,Feuil3!I21,Feuil3!J21,Feuil3!K21,Feuil3!O21,Feuil3!P21,Feuil3!R21,Feuil3!T21,Feuil3!V21,Feuil3!W21,Feuil3!X21,Feuil3!Y21,Feuil3!Z21,Feuil3!AB21,Feuil3!AD21,Feuil3!AF21,Feuil3!AH21,Feuil3!AJ21,Feuil3!AL21,Feuil3!AM21,Feuil3!AN21,Feuil3!AP21,Feuil3!AR21,Feuil3!AS21,Feuil3!AU21,Feuil3!AV21,Feuil3!AX21,Feuil3!AY21,Feuil3!BA21,Feuil3!BC21,Feuil3!BE21,Feuil3!BG21,Feuil3!BI21,Feuil3!BK21,Feuil3!BL21) -> 5469.2308 | E21: =MIN(Feuil3!D21,Feuil3!F21,Feuil3!G21,Feuil3!I21,Feuil3!J21,Feuil3!K21,Feuil3!O21,Feuil3!P21,Feuil3!R21,Feuil3!T21,Feuil3!V21,Feuil3!W21,Feuil3!X21,Feuil3!Y21,Feuil3!Z21,Feuil3!AB21,Feuil3!AD21,Feuil3!AF21,Feuil3!AH21,Feuil3!AJ21,Feuil3!AL21,Feuil3!AM21,Feuil3!AN21,Feuil3!AP21,Feuil3!AR21,Feuil3!AS21,Feuil3!AU21,Feuil3!AV21,Feuil3!AX21,Feuil3!AY21,Feuil3!BA21,Feuil3!BC21,Feuil3!BE21,Feuil3!BG21,Feuil3!BI21,Feuil3!BK21,Feuil3!BL21) -> 3900
C22: expert | D22: =AVERAGE(Feuil3!D22,Feuil3!F22,Feuil3!G22,Feuil3!I22,Feuil3!J22,Feuil3!K22,Feuil3!O22,Feuil3!P22,Feuil3!R22,Feuil3!T22,Feuil3!V22,Feuil3!W22,Feuil3!X22,Feuil3!Y22,Feuil3!Z22,Feuil3!AB22,Feuil3!AD22,Feuil3!AF22,Feuil3!AH22,Feuil3!AJ22,Feuil3!AL22,Feuil3!AM22,Feuil3!AN22,Feuil3!AP22,Feuil3!AR22,Feuil3!AS22,Feuil3!AU22,Feuil3!AV22,Feuil3!AX22,Feuil3!AY22,Feuil3!BA22,Feuil3!BC22,Feuil3!BE22,Feuil3!BG22,Feuil3!BI22,Feuil3!BK22,Feuil3!BL22) -> 7021.4286 | E22: =MIN(Feuil3!D22,Feuil3!F22,Feuil3!G22,Feuil3!I22,Feuil3!J22,Feuil3!K22,Feuil3!O22,Feuil3!P22,Feuil3!R22,Feuil3!T22,Feuil3!V22,Feuil3!W22,Feuil3!X22,Feuil3!Y22,Feuil3!Z22,Feuil3!AB22,Feuil3!AD22,Feuil3!AF22,Feuil3!AH22,Feuil3!AJ22,Feuil3!AL22,Feuil3!AM22,Feuil3!AN22,Feuil3!AP22,Feuil3!AR22,Feuil3!AS22,Feuil3!AU22,Feuil3!AV22,Feuil3!AX22,Feuil3!AY22,Feuil3!BA22,Feuil3!BC22,Feuil3!BE22,Feuil3!BG22,Feuil3!BI22,Feuil3!BK22,Feuil3!BL22) -> 4900
B23: Consultant strategie &transformation | C23: junior | D23: =AVERAGE(Feuil3!D23,Feuil3!F23,Feuil3!G23,Feuil3!I23,Feuil3!J23,Feuil3!K23,Feuil3!O23,Feuil3!P23,Feuil3!R23,Feuil3!T23,Feuil3!V23,Feuil3!W23,Feuil3!X23,Feuil3!Y23,Feuil3!Z23,Feuil3!AB23,Feuil3!AD23,Feuil3!AF23,Feuil3!AH23,Feuil3!AJ23,Feuil3!AL23,Feuil3!AM23,Feuil3!AN23,Feuil3!AP23,Feuil3!AR23,Feuil3!AS23,Feuil3!AU23,Feuil3!AV23,Feuil3!AX23,Feuil3!AY23,Feuil3!BA23,Feuil3!BC23,Feuil3!BE23,Feuil3!BG23,Feuil3!BI23,Feuil3!BK23,Feuil3!BL23) -> 4700 | E23: =MIN(Feuil3!D23,Feuil3!F23,Feuil3!G23,Feuil3!I23,Feuil3!J23,Feuil3!K23,Feuil3!O23,Feuil3!P23,Feuil3!R23,Feuil3!T23,Feuil3!V23,Feuil3!W23,Feuil3!X23,Feuil3!Y23,Feuil3!Z23,Feuil3!AB23,Feuil3!AD23,Feuil3!AF23,Feuil3!AH23,Feuil3!AJ23,Feuil3!AL23,Feuil3!AM23,Feuil3!AN23,Feuil3!AP23,Feuil3!AR23,Feuil3!AS23,Feuil3!AU23,Feuil3!AV23,Feuil3!AX23,Feuil3!AY23,Feuil3!BA23,Feuil3!BC23,Feuil3!BE23,Feuil3!BG23,Feuil3!BI23,Feuil3!BK23,Feuil3!BL23) -> 3000
C24: senior | D24: =AVERAGE(Feuil3!D24,Feuil3!F24,Feuil3!G24,Feuil3!I24,Feuil3!J24,Feuil3!K24,Feuil3!O24,Feuil3!P24,Feuil3!R24,Feuil3!T24,Feuil3!V24,Feuil3!W24,Feuil3!X24,Feuil3!Y24,Feuil3!Z24,Feuil3!AB24,Feuil3!AD24,Feuil3!AF24,Feuil3!AH24,Feuil3!AJ24,Feuil3!AL24,Feuil3!AM24,Feuil3!AN24,Feuil3!AP24,Feuil3!AR24,Feuil3!AS24,Feuil3!AU24,Feuil3!AV24,Feuil3!AX24,Feuil3!AY24,Feuil3!BA24,Feuil3!BC24,Feuil3!BE24,Feuil3!BG24,Feuil3!BI24,Feuil3!BK24,Feuil3!BL24) -> 6028.5714 | E24: =MIN(Feuil3!D24,Feuil3!F24,Feuil3!G24,Feuil3!I24,Feuil3!J24,Feuil3!K24,Feuil3!O24,Feuil3!P24,Feuil3!R24,Feuil3!T24,Feuil3!V24,Feuil3!W24,Feuil3!X24,Feuil3!Y24,Feuil3!Z24,Feuil3!AB24,Feuil3!AD24,Feuil3!AF24,Feuil3!AH24,Feuil3!AJ24,Feuil3!AL24,Feuil3!AM24,Feuil3!AN24,Feuil3!AP24,Feuil3!AR24,Feuil3!AS24,Feuil3!AU24,Feuil3!AV24,Feuil3!AX24,Feuil3!AY24,Feuil3!BA24,Feuil3!BC24,Feuil3!BE24,Feuil3!BG24,Feuil3!BI24,Feuil3!BK24,Feuil3!BL24) -> 4200
C25: expert | D25: =AVERAGE(Feuil3!D25,Feuil3!F25,Feuil3!G25,Feuil3!I25,Feuil3!J25,Feuil3!K25,Feuil3!O25,Feuil3!P25,Feuil3!R25,Feuil3!T25,Feuil3!V25,Feuil3!W25,Feuil3!X25,Feuil3!Y25,Feuil3!Z25,Feuil3!AB25,Feuil3!AD25,Feuil3!AF25,Feuil3!AH25,Feuil3!AJ25,Feuil3!AL25,Feuil3!AM25,Feuil3!AN25,Feuil3!AP25,Feuil3!AR25,Feuil3!AS25,Feuil3!AU25,Feuil3!AV25,Feuil3!AX25,Feuil3!AY25,Feuil3!BA25,Feuil3!BC25,Feuil3!BE25,Feuil3!BG25,Feuil3!BI25,Feuil3!BK25,Feuil3!BL25) -> 8071.4286 | E25: =MIN(Feuil3!D25,Feuil3!F25,Feuil3!G25,Feuil3!I25,Feuil3!J25,Feuil3!K25,Feuil3!O25,Feuil3!P25,Feuil3!R25,Feuil3!T25,Feuil3!V25,Feuil3!W25,Feuil3!X25,Feuil3!Y25,Feuil3!Z25,Feuil3!AB25,Feuil3!AD25,Feuil3!AF25,Feuil3!AH25,Feuil3!AJ25,Feuil3!AL25,Feuil3!AM25,Feuil3!AN25,Feuil3!AP25,Feuil3!AR25,Feuil3!AS25,Feuil3!AU25,Feuil3!AV25,Feuil3!AX25,Feuil3!AY25,Feuil3!BA25,Feuil3!BC25,Feuil3!BE25,Feuil3!BG25,Feuil3!BI25,Feuil3!BK25,Feuil3!BL25) -> 5200
B26: Project Lead | C26: junior | D26: =AVERAGE(Feuil3!D26,Feuil3!F26,Feuil3!G26,Feuil3!I26,Feuil3!J26,Feuil3!K26,Feuil3!O26,Feuil3!P26,Feuil3!R26,Feuil3!T26,Feuil3!V26,Feuil3!W26,Feuil3!X26,Feuil3!Y26,Feuil3!Z26,Feuil3!AB26,Feuil3!AD26,Feuil3!AF26,Feuil3!AH26,Feuil3!AJ26,Feuil3!AL26,Feuil3!AM26,Feuil3!AN26,Feuil3!AP26,Feuil3!AR26,Feuil3!AS26,Feuil3!AU26,Feuil3!AV26,Feuil3!AX26,Feuil3!AY26,Feuil3!BA26,Feuil3!BC26,Feuil3!BE26,Feuil3!BG26,Feuil3!BI26,Feuil3!BK26,Feuil3!BL26) -> 4166.6667 | E26: =MIN(Feuil3!D26,Feuil3!F26,Feuil3!G26,Feuil3!I26,Feuil3!J26,Feuil3!K26,Feuil3!O26,Feuil3!P26,Feuil3!R26,Feuil3!T26,Feuil3!V26,Feuil3!W26,Feuil3!X26,Feuil3!Y26,Feuil3!Z26,Feuil3!AB26,Feuil3!AD26,Feuil3!AF26,Feuil3!AH26,Feuil3!AJ26,Feuil3!AL26,Feuil3!AM26,Feuil3!AN26,Feuil3!AP26,Feuil3!AR26,Feuil3!AS26,Feuil3!AU26,Feuil3!AV26,Feuil3!AX26,Feuil3!AY26,Feuil3!BA26,Feuil3!BC26,Feuil3!BE26,Feuil3!BG26,Feuil3!BI26,Feuil3!BK26,Feuil3!BL26) -> 3500
C27: Senior | D27: =AVERAGE(Feuil3!D27,Feuil3!F27,Feuil3!G27,Feuil3!I27,Feuil3!J27,Feuil3!K27,Feuil3!O27,Feuil3!P27,Feuil3!R27,Feuil3!T27,Feuil3!V27,Feuil3!W27,Feuil3!X27,Feuil3!Y27,Feuil3!Z27,Feuil3!AB27,Feuil3!AD27,Feuil3!AF27,Feuil3!AH27,Feuil3!AJ27,Feuil3!AL27,Feuil3!AM27,Feuil3!AN27,Feuil3!AP27,Feuil3!AR27,Feuil3!AS27,Feuil3!AU27,Feuil3!AV27,Feuil3!AX27,Feuil3!AY27,Feuil3!BA27,Feuil3!BC27,Feuil3!BE27,Feuil3!BG27,Feuil3!BI27,Feuil3!BK27,Feuil3!BL27) -> 5233.3333 | E27: =MIN(Feuil3!D27,Feuil3!F27,Feuil3!G27,Feuil3!I27,Feuil3!J27,Feuil3!K27,Feuil3!O27,Feuil3!P27,Feuil3!R27,Feuil3!T27,Feuil3!V27,Feuil3!W27,Feuil3!X27,Feuil3!Y27,Feuil3!Z27,Feuil3!AB27,Feuil3!AD27,Feuil3!AF27,Feuil3!AH27,Feuil3!AJ27,Feuil3!AL27,Feuil3!AM27,Feuil3!AN27,Feuil3!AP27,Feuil3!AR27,Feuil3!AS27,Feuil3!AU27,Feuil3!AV27,Feuil3!AX27,Feuil3!AY27,Feuil3!BA27,Feuil3!BC27,Feuil3!BE27,Feuil3!BG27,Feuil3!BI27,Feuil3!BK27,Feuil3!BL27) -> 4400
C28: expert | D28: =AVERAGE(Feuil3!D28,Feuil3!F28,Feuil3!G28,Feuil3!I28,Feuil3!J28,Feuil3!K28,Feuil3!O28,Feuil3!P28,Feuil3!R28,Feuil3!T28,Feuil3!V28,Feuil3!W28,Feuil3!X28,Feuil3!Y28,Feuil3!Z28,Feuil3!AB28,Feuil3!AD28,Feuil3!AF28,Feuil3!AH28,Feuil3!AJ28,Feuil3!AL28,Feuil3!AM28,Feuil3!AN28,Feuil3!AP28,Feuil3!AR28,Feuil3!AS28,Feuil3!AU28,Feuil3!AV28,Feuil3!AX28,Feuil3!AY28,Feuil3!BA28,Feuil3!BC28,Feuil3!BE28,Feuil3!BG28,Feuil3!BI28,Feuil3!BK28,Feuil3!BL28) -> 6733.3333 | E28: =MIN(Feuil3!D28,Feuil3!F28,Feuil3!G28,Feuil3!I28,Feuil3!J28,Feuil3!K28,Feuil3!O28,Feuil3!P28,Feuil3!R28,Feuil3!T28,Feuil3!V28,Feuil3!W28,Feuil3!X28,Feuil3!Y28,Feuil3!Z28,Feuil3!AB28,Feuil3!AD28,Feuil3!AF28,Feuil3!AH28,Feuil3!AJ28,Feuil3!AL28,Feuil3!AM28,Feuil3!AN28,Feuil3!AP28,Feuil3!AR28,Feuil3!AS28,Feuil3!AU28,Feuil3!AV28,Feuil3!AX28,Feuil3!AY28,Feuil3!BA28,Feuil3!BC28,Feuil3!BE28,Feuil3!BG28,Feuil3!BI28,Feuil3!BK28,Feuil3!BL28) -> 4700
B29: AMOA/BA | C29: junior | D29: =AVERAGE(Feuil3!D29,Feuil3!F29,Feuil3!G29,Feuil3!I29,Feuil3!J29,Feuil3!K29,Feuil3!O29,Feuil3!P29,Feuil3!R29,Feuil3!T29,Feuil3!V29,Feuil3!W29,Feuil3!X29,Feuil3!Y29,Feuil3!Z29,Feuil3!AB29,Feuil3!AD29,Feuil3!AF29,Feuil3!AH29,Feuil3!AJ29,Feuil3!AL29,Feuil3!AM29,Feuil3!AN29,Feuil3!AP29,Feuil3!AR29,Feuil3!AS29,Feuil3!AU29,Feuil3!AV29,Feuil3!AX29,Feuil3!AY29,Feuil3!BA29,Feuil3!BC29,Feuil3!BE29,Feuil3!BG29,Feuil3!BI29,Feuil3!BK29,Feuil3!BL29) -> 3638.8889 | E29: =MIN(Feuil3!D29,Feuil3!F29,Feuil3!G29,Feuil3!I29,Feuil3!J29,Feuil3!K29,Feuil3!O29,Feuil3!P29,Feuil3!R29,Feuil3!T29,Feuil3!V29,Feuil3!W29,Feuil3!X29,Feuil3!Y29,Feuil3!Z29,Feuil3!AB29,Feuil3!AD29,Feuil3!AF29,Feuil3!AH29,Feuil3!AJ29,Feuil3!AL29,Feuil3!AM29,Feuil3!AN29,Feuil3!AP29,Feuil3!AR29,Feuil3!AS29,Feuil3!AU29,Feuil3!AV29,Feuil3!AX29,Feuil3!AY29,Feuil3!BA29,Feuil3!BC29,Feuil3!BE29,Feuil3!BG29,Feuil3!BI29,Feuil3!BK29,Feuil3!BL29) -> 2000
C30: senior | D30: =AVERAGE(Feuil3!D30,Feuil3!F30,Feuil3!G30,Feuil3!I30,Feuil3!J30,Feuil3!K30,Feuil3!O30,Feuil3!P30,Feuil3!R30,Feuil3!T30,Feuil3!V30,Feuil3!W30,Feuil3!X30,Feuil3!Y30,Feuil3!Z30,Feuil3!AB30,Feuil3!AD30,Feuil3!AF30,Feuil3!AH30,Feuil3!AJ30,Feuil3!AL30,Feuil3!AM30,Feuil3!AN30,Feuil3!AP30,Feuil3!AR30,Feuil3!AS30,Feuil3!AU30,Feuil3!AV30,Feuil3!AX30,Feuil3!AY30,Feuil3!BA30,Feuil3!BC30,Feuil3!BE30,Feuil3!BG30,Feuil3!BI30,Feuil3!BK30,Feuil3!BL30) -> 5144.7368 | E30: =MIN(Feuil3!D30,Feuil3!F30,Feuil3!G30,Feuil3!I30,Feuil3!J30,Feuil3!K30,Feuil3!O30,Feuil3!P30,Feuil3!R30,Feuil3!T30,Feuil3!V30,Feuil3!W30,Feuil3!X30,Feuil3!Y30,Feuil3!Z30,Feuil3!AB30,Feuil3!AD30,Feuil3!AF30,Feuil3!AH30,Feuil3!AJ30,Feuil3!AL30,Feuil3!AM30,Feuil3!AN30,Feuil3!AP30,Feuil3!AR30,Feuil3!AS30,Feuil3!AU30,Feuil3!AV30,Feuil3!AX30,Feuil3!AY30,Feuil3!BA30,Feuil3!BC30,Feuil3!BE30,Feuil3!BG30,Feuil3!BI30,Feuil3!BK30,Feuil3!BL30) -> 3750
C31: expert | D31: =AVERAGE(Feuil3!D31,Feuil3!F31,Feuil3!G31,Feuil3!I31,Feuil3!J31,Feuil3!K31,Feuil3!O31,Feuil3!P31,Feuil3!R31,Feuil3!T31,Feuil3!V31,Feuil3!W31,Feuil3!X31,Feuil3!Y31,Feuil3!Z31,Feuil3!AB31,Feuil3!AD31,Feuil3!AF31,Feuil3!AH31,Feuil3!AJ31,Feuil3!AL31,Feuil3!AM31,Feuil3!AN31,Feuil3!AP31,Feuil3!AR31,Feuil3!AS31,Feuil3!AU31,Feuil3!AV31,Feuil3!AX31,Feuil3!AY31,Feuil3!BA31,Feuil3!BC31,Feuil3!BE31,Feuil3!BG31,Feuil3!BI31,Feuil3!BK31,Feuil3!BL31) -> 6290 | E31: =MIN(Feuil3!D31,Feuil3!F31,Feuil3!G31,Feuil3!I31,Feuil3!J31,Feuil3!K31,Feuil3!O31,Feuil3!P31,Feuil3!R31,Feuil3!T31,Feuil3!V31,Feuil3!W31,Feuil3!X31,Feuil3!Y31,Feuil3!Z31,Feuil3!AB31,Feuil3!AD31,Feuil3!AF31,Feuil3!AH31,Feuil3!AJ31,Feuil3!AL31,Feuil3!AM31,Feuil3!AN31,Feuil3!AP31,Feuil3!AR31,Feuil3!AS31,Feuil3!AU31,Feuil3!AV31,Feuil3!AX31,Feuil3!AY31,Feuil3!BA31,Feuil3!BC31,Feuil3!BE31,Feuil3!BG31,Feuil3!BI31,Feuil3!BK31,Feuil3!BL31) -> 4400

Sheet Feuil3
A1: domaine | B1: profil | C1: seniorité | D1: Euro groupe consulting | E1: Colonne1 | F1: Nimbleways | G1: (local) EXIOM (international) | H1: Colonne2 | I1: systema | J1: ATOS | K1: Sia Partner | L1: Colonne3 | M1: BFS Consulting | N1: Colonne4 | O1: TNP | P1: Global Performance | Q1: Colonne5 | R1: Inetum | S1: Colonne6 | T1: ACCOMPANY Consulting | U1: Colonne7 | V1: UCOTRA | W1: WEPARTNER | X1: DEVOTEAM | Y1: LENDYS | Z1: VALYANS | AA1: Colonne8 | AB1: AVALIANCE | AC1: Colonne9 | AD1: CRIF | AE1: Colonne10 | AF1: UP ADVISORY | AG1: Colonne11 | AH1: IB CONSULTING | AI1: Colonne12 | AJ1: NEXIUS | AK1: Colonne13 | AL1: EFFYIS | AM1: VALORIS | AN1: ITSS | AO1: Colonne14 | AP1: GEC | AQ1: Colonne15 | AR1: COST HOUSE | AS1: KPMG | AT1: Colonne16 | AU1: MAZARS | AV1: LUNALOGIC AFRICA | AW1: Colonne17 | AX1: FREELANCE | AY1: WAVESTONE | AZ1: Colonne18 | BA1: AILANCY | BB1: Colonne19 | BC1: KM PROJETS | BD1: Colonne20 | BE1: DELOITTE | BF1: Colonne21 | BG1: TEAMWILL | BH1: Colonne22 | BI1: PARTENAIRE SERVICE | BJ1: Colonne23 | BK1: LMS | BL1: Regulation Partners | BM1: Colonne24
A2: Conseil en strategie & management | B2: Consultant | C2: junior | D2: 6000 | I2: 3500 | K2: 5000 | L2: 900 | M2: 3900 | N2: 7000 | P2: 3600 | Q2: 4000 | R2: 4000 | S2: 850 | V2: 6500 | W2: 3600 | AF2: 3500 | AG2: 5500 | AS2: 5500 | AT2: 1000 | AU2: 5500 | AY2: 6000 | AZ2: 8500 | BA2: 5000 | BC2: 3000 | BD2: 3300 | BI2: 3500 | BM2: 800
C3: confirme | D3: 7500 | AF3: 5000 | AG3: 7000 | BM3: 950
C4: senior | D4: 9000 | E4: 990 | I4: 4000 | K4: 8000 | L4: 1200 | M4: 4800 | N4: 10000 | P4: 5000 | Q4: 7000 | R4: 4500 | S4: 1250 | V4: 7500 | W4: 4800 | AF4: 7500 | AG4: 10000 | AS4: 9500 | AT4: 1500 | AU4: 7200 | AY4: 7500 | AZ4: 10000 | BA4: 7000 | BB4: 16000 | BC4: 4500 | BD4: 4800 | BI4: 4400 | BM4: 1200
C5: manager | D5: 11000 | E5: 1215 | I5: 4500 | M5: 5500 | N5: 12000 | P5: 7000 | Q5: 10000 | R5: 5500 | S5: 1600 | V5: 9000 | W5: 6000 | AS5: 11000 | AT5: 1750 | AU5: 9300 | AY5: 8500 | AZ5: 15000 | BA5: 10000 | BB5: 22000 | BC5: 5000 | BD5: 5300
C6: senior manager | D6: 12500 | E6: 1600 | AS6: 13000 | AT6: 2150 | BI6: 5400
C7: Partner | D7: 15000 | E7: 2000 | K7: 10000 | L7: 1500 | AS7: 16000 | AT7: 2150
B8: PMO | C8: junior | T8: 3500 | U8: 350 | W8: 3700 | X8: 4000 | Z8: 7000 | AE8: 700 | AF8: 2750 | AG8: 3500 | AH8: 3000 | AI8: 4500 | AM8: 2500 | AN8: 3000 | AP8: 3200 | AR8: 3000 | AS8: 5500 | AT8: 1000 | AU8: 5000 | AV8: 3500 | AW8: NA | AX8: 3000 | AY8: 4500 | BA8: 3500 | BC8: 3000 | BD8: 3300 | BE8: 5500 | BF8: 11700 | BG8: 3500 | BH8: 5000 | BI8: 3500 | BM8: 800
C9: senior | T9: 4500 | U9: 450 | W9: 4800 | X9: 5000 | Z9: 9000 | AE9: 780 | AF9: 4000 | AG9: 6000 | AH9: 4500 | AI9: 5500 | AM9: 4000 | AN9: 4500 | AO9: 5500 | AP9: 4200 | AQ9: 8000 | AR9: 4000 | AS9: 9500 | AT9: 1500 | AU9: 7000 | AV9: 4500 | AW9: 7500 | AX9: 4000 | AY9: 6000 | BA9: 4500 | BC9: 4500 | BD9: 4800 | BE9: 7000 | BF9: 16000 | BG9: 4800 | BH9: 6500 | BI9: 4200 | BK9: 4800 | BM9: 950
C10: expert | T10: 6000 | U10: 700 | W10: 5500 | X10: 6000 | Z10: 12000 | AE10: 850 | AF10: 5000 | AG10: 8000 | AH10: 5500 | AI10: 6500 | AM10: 8000 | AN10: 6500 | AO10: 6500 | AP10: 5200 | AQ10: 13000 | AR10: 4500 | AS10: 11000 | AT10: 1750 | AU10: 9000 | AV10: 5500 | AW10: 10000 | AX10: 4800 | AY10: 7000 | BA10: 5900 | BC10: 5000 | BD10: 5300 | BE10: 10500 | BF10: 26000 | BG10: 6000 | BH10: 8000 | BI10: 4700 | BK10: 6500 | BM10: 1200
B11: Organisation | C11: junior | T11: 3500 | U11: 350 | AE11: 700 | AF11: 2750 | AG11: 3500 | AH11: 3000 | AI11: 4500 | AP11: 3200 | AR11: 5000 | AU11: 4500 | AX11: 3000 | AY11: 5500 | AZ11: 8500 | BA11: 3900 | BE11: 5500 | BF11: 11700 | BI11: 3500
C12: senior | T12: 4500 | U12: 450 | AE12: 780 | AF12: 4000 | AG12: 6000 | AH12: 4500 | AI12: 5500 | AP12: 4200 | AQ12: 8000 | AR12: 6500 | AU12: 5000 | AX12: 4500 | AY12: 7000 | AZ12: 10000 | BA12: 4900 | BB12: 13000 | BE12: 7000 | BF12: 16000 | BI12: 4200 | BK12: 4800
C13: expert | T13: 6000 | U13: 700 | AE13: 850 | AF13: 5000 | AG13: 8000 | AH13: 5500 | AI13: 6500 | AP13: 5200 | AQ13: 13000 | AR13: 7500 | AU13: 8000 | AX13: 6000 | AY13: 8000 | AZ13: 15000 | BA13: 6500 | BB13: 18000 | BE13: 10500 | BF13: 26000 | BI13: 4700 | BK13: 6500
B14: management de projet | C14: junior | T14: 3500 | U14: 350 | AP14: 3200 | AR14: 3000 | AU14: 5000 | AX14: 3000 | AY14: 4500 | BA14: 3500 | BE14: 5500 | BF14: 11700 | BM14: 800
C15: senior | T15: 4500 | U15: 450 | AP15: 4200 | AQ15: 8000 | AR15: 4000 | AU15: 7000 | AX15: 4000 | AY15: 6000 | BA15: 4500 | BB15: 16000 | BE15: 7000 | BF15: 16000 | BK15: 4800 | BM15: 950
C16: expert | T16: 6000 | U16: 700 | AP16: 5200 | AQ16: 13000 | AR16: 4500 | AU16: 9000 | AX16: 4800 | AY16: 7000 | BA16: 5900 | BB16: 19000 | BE16: 10500 | BF16: 26000 | BK16: 6500 | BM16: 1200
B17: Conseil en strategie & management | C17: junior | T17: 3500 | U17: 350 | W17: 3800 | AF17: 2750 | AG17: 3500 | AH17: 3000 | AI17: 4500 | AP17: 3200 | AR17: 5000 | AS17: 5500 | AT17: 1000 | AU17: 5000 | AY17: 5500 | AZ17: 8500 | BA17: 3900 | BC17: 3000 | BD17: 3300 | BE17: 5500 | BF17: 11700 | BI17: 3900 | BM17: 800
C18: senior | T18: 4500 | U18: 450 | W18: 4800 | AF18: 4000 | AG18: 6000 | AH18: 4500 | AI18: 5500 | AP18: 4200 | AQ18: 8000 | AR18: 6500 | AS18: 9500 | AT18: 1500 | AU18: 7500 | AY18: 7000 | AZ18: 10000 | BA18: 4900 | BB18: 13000 | BC18: 4500 | BD18: 4800 | BE18: 7000 | BF18: 16000 | BI18: 4400 | BK18: 4800 | BM18: 950
C19: expert | T19: 6000 | U19: 700 | W19: 5800 | AF19: 5000 | AG19: 8000 | AH19: 5500 | AI19: 6500 | AP19: 5200 | AQ19: 13000 | AR19: 7500 | AS19: 11000 | AT19: 1750 | AU19: 8500 | AY19: 8000 | AZ19: 15000 | BA19: 6500 | BB19: 18000 | BC19: 5000 | BD19: 5300 | BE19: 10500 | BF19: 26000 | BI19: 5400 | BK19: 6500 | BM19: 1200
B20: formations | C20: junior | T20: 3500 | U20: 350 | W20: _ | AF20: 2700 | AG20: 3500 | AH20: 3000 | AI20: 4500 | AR20: NA | AS20: 5500 | AT20: 1000 | AU20: NA | AY20: 4500 | AZ20: 8500 | BA20: NA | BE20: 5500 | BF20: 11700 | BI20: 3500
C21: senior | T21: 4500 | U21: 450 | W21: 5300 | AF21: 4000 | AG21: 6000 | AH21: 4500 | AI21: 5500 | AP21: 4500 | AQ21: 8000 | AR21: 6500 | AS21: 9500 | AT21: 1500 | AU21: 5500 | AY21: 6000 | AZ21: 10000 | BA21: 3900 | BB21: 13000 | BE21: 6500 | BF21: 16000 | BI21: 4400 | BK21: 6000
C22: expert | T22: 6000 | U22: 700 | W22: 6500 | AF22: 5000 | AG22: 8000 | AH22: 5500 | AI22: 6500 | AP22: 7000 | AQ22: 13000 | AR22: 7500 | AS22: 11000 | AT22: 1750 | AU22: 8000 | AY22: 8000 | AZ22: 15000 | BA22: 4900 | BB22: 19000 | BE22: 9500 | BF22: 26000 | BG22: 6500 | BH22: 8500 | BI22: 4900 | BK22: 8000
B23: Consultant strategie &transformation | C23: junior | Z23: 8000 | AF23: 3500 | AG23: 5500 | AH23: 3000 | AI23: 4500 | AP23: 3200 | AR23: 5000 | AU23: 5500
C24: senior | Z24: 10000 | AF24: 5000 | AG24: 7000 | AH24: 4500 | AI24: 5500 | AP24: 4200 | AQ24: 8000 | AR24: 6500 | AU24: 7200 | BK24: 4800
C25: expert | Z25: 15000 | AA25: 20000 | AF25: 7500 | AG25: 10000 | AH25: 5500 | AI25: 6500 | AP25: 5200 | AQ25: 13000 | AR25: 7500 | AU25: 9300 | BK25: 6500
B26: Project Lead | C26: junior | BE26: 5500 | BF26: 11700 | BG26: 3500 | BH26: 5000 | BI26: 3500
C27: Senior | AE27: 900 | BE27: 6500 | BF27: 16000 | BG27: 4800 | BH27: 6500 | BI27: 4400
C28: expert | AE28: 1000 | BE28: 9500 | BF28: 26000 | BG28: 6000 | BH28: 8000 | BI28: 4700
B29: AMOA/BA | C29: junior | T29: 3500 | U29: 350 | W29: 3700 | X29: 4000 | Y29: 2750 | Z29: 7000 | AF29: 2750 | AG29: 3500 | AH29: 3000 | AI29: 4500 | AM29: 2000 | AP29: 3200 | AR29: 3500 | AS29: 5500 | AT29: 1000 | AU29: 4500 | AV29: 3700 | AW29: NA | AX29: 3000 | AY29: 4000 | BA29: 3500 | BC29: 2000 | BD29: 2300 | BI29: 3900 | BM29: 800
C30: senior | T30: 4500 | U30: 450 | W30: 4800 | X30: 5000 | Y30: 3750 | Z30: 9000 | AF30: 4000 | AG30: 6000 | AH30: 4500 | AI30: 5500 | AM30: 4500 | AN30: 5500 | AP30: 4200 | AQ30: 8000 | AR30: 4200 | AS30: 9500 | AT30: 1500 | AU30: 6500 | AV30: 4500 | AW30: 7500 | AX30: 4000 | AY30: 5500 | BA30: 4500 | BC30: 4500 | BD30: 4800 | BK30: 4800 | BM30: 950
C31: expert | T31: 6000 | U31: 700 | W31: 5500 | X31: 6000 | Y31: 4500 | Z31: 12000 | AF31: 5000 | AG31: 8000 | AH31: 5500 | AI31: 6500 | AM31: 6000 | AN31: 7000 | AO31: 8000 | AP31: 5200 | AQ31: 13000 | AR31: 5000 | AS31: 11000 | AT31: 1750 | AU31: 8500 | AV31: 5500 | AW31: 10000 | AX31: 4800 | AY31: 6500 | BA31: 5900 | BC31: 5000 | BD31: 5300 | BI31: 4400 | BK31: 6500 | BM31: 1200

Sheet Baroute78
A1: domaine | B1: profil | C1: seniorité | D1: Prestataire | E1: Valeur
A2: Conseil en strategie & management | B2: Consultant | C2: junior | D2: Colonne24 | E2: 800
A3: Conseil en strategie & management | B3: Consultant | C3: confirme | D3: Colonne24 | E3: 950
A4: Conseil en strategie & management | B4: Consultant | C4: senior | D4: Colonne1 | E4: 990
A5: Conseil en strategie & management | B5: Consultant | C5: manager | D5: Colonne1 | E5: 1215
A6: Conseil en strategie & management | B6: Consultant | C6: senior manager | D6: Colonne1 | E6: 1600
A7: Conseil en strategie & management | B7: Consultant | C7: Partner | D7: Colonne3 | E7: 1500
A8: Conseil en strategie & management | B8: PMO | C8: junior | D8: Colonne7 | E8: 350
A9: Conseil en strategie & management | B9: PMO | C9: senior | D9: Colonne7 | E9: 450
A10: Conseil en strategie & management | B10: PMO | C10: expert | D10: Colonne7 | E10: 700
A11: Conseil en strategie & management | B11: Organisation | C11: junior | D11: Colonne7 | E11: 350
A12: Conseil en strategie & management | B12: Organisation | C12: senior | D12: Colonne7 | E12: 450
A13: Conseil en strategie & management | B13: Organisation | C13: expert | D13: Colonne7 | E13: 700
... A31: Conseil en strategie & management | B31: AMOA/BA | C31: expert | D31: Colonne7 | E31: 700
