Workbook

Sheet Données
A1: Concat | B1: Date | C1: Joueurs | D1: TYPE | E1: RPE | F1: Temps
A2: =C2&D2&B2 -> DamienMUSCU45051 | B2: 45051 | C2: Damien | D2: MUSCU | E2: 6 | F2: 60
A3: =C3&D3&B3 -> DamienFOOT Spé45047 | B3: 45047 | C3: Damien | D3: FOOT Spé | E3: 3 | F3: 30
A4: =C4&D4&B4 -> MaxPREVENTION2 | B4: 2 | C4: Max | D4: PREVENTION | E4: 7 | F4: 120
A5: =C5&D5&B5 -> MaxPREVENTION1 | B5: 1 | C5: Max | D5: PREVENTION | E5: 3 | F5: 25
A6: =C6&D6&B6 -> JeanFOOT 5x51 | B6: 1 | C6: Jean | D6: FOOT 5x5 | E6: 5 | F6: 12
A7: =C7&D7&B7 -> DamienMATCH45051 | B7: 45051 | C7: Damien | D7: MATCH | E7: 3 | F7: 90
A8: =C8&D8&B8 -> MaxMATCH4 | B8: 4 | C8: Max | D8: MATCH | E8: 4 | F8: 100

Sheet BASE
F2: 45047 | G2: 45048 | H2: 45049 | I2: 45050 | J2: 45051 | K2: 45052 | L2: 45053
F3: L | G3: M | H3: M | I3: J | J3: V | K3: S | L3: D
D5: TYPE
A6: =C6 -> Damien | B6: =D6 -> MUSCU | C6: Damien | D6: MUSCU | E6: RPE | F6: =IFERROR(INDEX(Données!$A:$F,MATCH($A6&$B6&F$2,Données!$A:$A,0),MATCH($E6,Données!$A$1:$F$1,0)),0) -> 0 | G6: =IFERROR(INDEX(Données!$A:$F,MATCH($A6&$B6&G$2,Données!$A:$A,0),MATCH($E6,Données!$A$1:$F$1,0)),0) -> 0 | H6: =IFERROR(INDEX(Données!$A:$F,MATCH($A6&$B6&H$2,Données!$A:$A,0),MATCH($E6,Données!$A$1:$F$1,0)),0) -> 0 | I6: =IFERROR(INDEX(Données!$A:$F,MATCH($A6&$B6&I$2,Données!$A:$A,0),MATCH($E6,Données!$A$1:$F$1,0)),0) -> 0 | J6: =IFERROR(INDEX(Données!$A:$F,MATCH($A6&$B6&J$2,Données!$A:$A,0),MATCH($E6,Données!$A$1:$F$1,0)),0) -> 6 | K6: =IFERROR(INDEX(Données!$A:$F,MATCH($A6&$B6&K$2,Données!$A:$A,0),MATCH($E6,Données!$A$1:$F$1,0)),0) -> 0 | L6: =IFERROR(INDEX(Données!$A:$F,MATCH($A6&$B6&L$2,Données!$A:$A,0),MATCH($E6,Données!$A$1:$F$1,0)),0) -> 0
A7: =A6 -> Damien | B7: =B6 -> MUSCU | E7: Temps | F7: =IFERROR(INDEX(Données!$A:$F,MATCH($A7&$B7&F$2,Données!$A:$A,0),MATCH($E7,Données!$A$1:$F$1,0)),0) -> 0 | G7: =IFERROR(INDEX(Données!$A:$F,MATCH($A7&$B7&G$2,Données!$A:$A,0),MATCH($E7,Données!$A$1:$F$1,0)),0) -> 0 | H7: =IFERROR(INDEX(Données!$A:$F,MATCH($A7&$B7&H$2,Données!$A:$A,0),MATCH($E7,Données!$A$1:$F$1,0)),0) -> 0 | I7: =IFERROR(INDEX(Données!$A:$F,MATCH($A7&$B7&I$2,Données!$A:$A,0),MATCH($E7,Données!$A$1:$F$1,0)),0) -> 0 | J7: =IFERROR(INDEX(Données!$A:$F,MATCH($A7&$B7&J$2,Données!$A:$A,0),MATCH($E7,Données!$A$1:$F$1,0)),0) -> 60 | K7: =IFERROR(INDEX(Données!$A:$F,MATCH($A7&$B7&K$2,Données!$A:$A,0),MATCH($E7,Données!$A$1:$F$1,0)),0) -> 0 | L7: =IFERROR(INDEX(Données!$A:$F,MATCH($A7&$B7&L$2,Données!$A:$A,0),MATCH($E7,Données!$A$1:$F$1,0)),0) -> 0
A8: =A7 -> Damien | B8: =B7 -> MUSCU | E8: Charge | F8: =IF(ISBLANK(F6),"0",F6*F7) -> 0 | G8: =IF(ISBLANK(G6),"0",G6*G7) -> 0 | H8: =IF(ISBLANK(H6),"0",H6*H7) -> 0 | I8: =IF(ISBLANK(I6),"0",I6*I7) -> 0 | J8: =IF(ISBLANK(J6),"0",J6*J7) -> 360 | K8: =IF(ISBLANK(K6),"0",K6*K7) -> 0 | L8: =IF(ISBLANK(L6),"0",L6*L7) -> 0
A9: =A8 -> Damien | B9: =D9 -> PREVENTION | D9: PREVENTION | E9: RPE | F9: =IFERROR(INDEX(Données!$A:$F,MATCH($A9&$B9&F$2,Données!$A:$A,0),MATCH($E9,Données!$A$1:$F$1,0)),0) -> 0 | G9: =IFERROR(INDEX(Données!$A:$F,MATCH($A9&$B9&G$2,Données!$A:$A,0),MATCH($E9,Données!$A$1:$F$1,0)),0) -> 0 | H9: =IFERROR(INDEX(Données!$A:$F,MATCH($A9&$B9&H$2,Données!$A:$A,0),MATCH($E9,Données!$A$1:$F$1,0)),0) -> 0 | I9: =IFERROR(INDEX(Données!$A:$F,MATCH($A9&$B9&I$2,Données!$A:$A,0),MATCH($E9,Données!$A$1:$F$1,0)),0) -> 0 | J9: =IFERROR(INDEX(Données!$A:$F,MATCH($A9&$B9&J$2,Données!$A:$A,0),MATCH($E9,Données!$A$1:$F$1,0)),0) -> 0 | K9: =IFERROR(INDEX(Données!$A:$F,MATCH($A9&$B9&K$2,Données!$A:$A,0),MATCH($E9,Données!$A$1:$F$1,0)),0) -> 0 | L9: =IFERROR(INDEX(Données!$A:$F,MATCH($A9&$B9&L$2,Données!$A:$A,0),MATCH($E9,Données!$A$1:$F$1,0)),0) -> 0
A10: =A9 -> Damien | B10: =B9 -> PREVENTION | E10: Temps | F10: =IFERROR(INDEX(Données!$A:$F,MATCH($A10&$B10&F$2,Données!$A:$A,0),MATCH($E10,Données!$A$1:$F$1,0)),0) -> 0 | G10: =IFERROR(INDEX(Données!$A:$F,MATCH($A10&$B10&G$2,Données!$A:$A,0),MATCH($E10,Données!$A$1:$F$1,0)),0) -> 0 | H10: =IFERROR(INDEX(Données!$A:$F,MATCH($A10&$B10&H$2,Données!$A:$A,0),MATCH($E10,Données!$A$1:$F$1,0)),0) -> 0 | I10: =IFERROR(INDEX(Données!$A:$F,MATCH($A10&$B10&I$2,Données!$A:$A,0),MATCH($E10,Données!$A$1:$F$1,0)),0) -> 0 | J10: =IFERROR(INDEX(Données!$A:$F,MATCH($A10&$B10&J$2,Données!$A:$A,0),MATCH($E10,Données!$A$1:$F$1,0)),0) -> 0 | K10: =IFERROR(INDEX(Données!$A:$F,MATCH($A10&$B10&K$2,Données!$A:$A,0),MATCH($E10,Données!$A$1:$F$1,0)),0) -> 0 | L10: =IFERROR(INDEX(Données!$A:$F,MATCH($A10&$B10&L$2,Données!$A:$A,0),MATCH($E10,Données!$A$1:$F$1,0)),0) -> 0
A11: =A10 -> Damien | B11: =B10 -> PREVENTION | E11: Charge | F11: =IF(ISBLANK(F9),"0",F9*F10) -> 0 | G11: =IF(ISBLANK(G9),"0",G9*G10) -> 0 | H11: =IF(ISBLANK(H9),"0",H9*H10) -> 0 | I11: =IF(ISBLANK(I9),"0",I9*I10) -> 0 | J11: =IF(ISBLANK(J9),"0",J9*J10) -> 0 | K11: =IF(ISBLANK(K9),"0",K9*K10) -> 0 | L11: =IF(ISBLANK(L9),"0",L9*L10) -> 0
A12: =A11 -> Damien | B12: =D12 -> FOOT Spé | D12: FOOT Spé | E12: RPE | F12: =IFERROR(INDEX(Données!$A:$F,MATCH($A12&$B12&F$2,Données!$A:$A,0),MATCH($E12,Données!$A$1:$F$1,0)),0) -> 3 | G12: =IFERROR(INDEX(Données!$A:$F,MATCH($A12&$B12&G$2,Données!$A:$A,0),MATCH($E12,Données!$A$1:$F$1,0)),0) -> 0 | H12: =IFERROR(INDEX(Données!$A:$F,MATCH($A12&$B12&H$2,Données!$A:$A,0),MATCH($E12,Données!$A$1:$F$1,0)),0) -> 0 | I12: =IFERROR(INDEX(Données!$A:$F,MATCH($A12&$B12&I$2,Données!$A:$A,0),MATCH($E12,Données!$A$1:$F$1,0)),0) -> 0 | J12: =IFERROR(INDEX(Données!$A:$F,MATCH($A12&$B12&J$2,Données!$A:$A,0),MATCH($E12,Données!$A$1:$F$1,0)),0) -> 0 | K12: =IFERROR(INDEX(Données!$A:$F,MATCH($A12&$B12&K$2,Données!$A:$A,0),MATCH($E12,Données!$A$1:$F$1,0)),0) -> 0 | L12: =IFERROR(INDEX(Données!$A:$F,MATCH($A12&$B12&L$2,Données!$A:$A,0),MATCH($E12,Données!$A$1:$F$1,0)),0) -> 0
A13: =A12 -> Damien | B13: =B12 -> FOOT Spé | E13: Temps | F13: =IFERROR(INDEX(Données!$A:$F,MATCH($A13&$B13&F$2,Données!$A:$A,0),MATCH($E13,Données!$A$1:$F$1,0)),0) -> 30 | G13: =IFERROR(INDEX(Données!$A:$F,MATCH($A13&$B13&G$2,Données!$A:$A,0),MATCH($E13,Données!$A$1:$F$1,0)),0) -> 0 | H13: =IFERROR(INDEX(Données!$A:$F,MATCH($A13&$B13&H$2,Données!$A:$A,0),MATCH($E13,Données!$A$1:$F$1,0)),0) -> 0 | I13: =IFERROR(INDEX(Données!$A:$F,MATCH($A13&$B13&I$2,Données!$A:$A,0),MATCH($E13,Données!$A$1:$F$1,0)),0) -> 0 | J13: =IFERROR(INDEX(Données!$A:$F,MATCH($A13&$B13&J$2,Données!$A:$A,0),MATCH($E13,Données!$A$1:$F$1,0)),0) -> 0 | K13: =IFERROR(INDEX(Données!$A:$F,MATCH($A13&$B13&K$2,Données!$A:$A,0),MATCH($E13,Données!$A$1:$F$1,0)),0) -> 0 | L13: =IFERROR(INDEX(Données!$A:$F,MATCH($A13&$B13&L$2,Données!$A:$A,0),MATCH($E13,Données!$A$1:$F$1,0)),0) -> 0
A14: =A13 -> Damien | B14: =B13 -> FOOT Spé | E14: Charge | F14: =IF(ISBLANK(F12),"0",F12*F13) -> 90 | G14: =IF(ISBLANK(G12),"0",G12*G13) -> 0 | H14: =IF(ISBLANK(H12),"0",H12*H13) -> 0 | I14: =IF(ISBLANK(I12),"0",I12*I13) -> 0 | J14: =IF(ISBLANK(J12),"0",J12*J13) -> 0 | K14: =IF(ISBLANK(K12),"0",K12*K13) -> 0 | L14: =IF(ISBLANK(L12),"0",L12*L13) -> 0
A15: =A14 -> Damien | B15: =D15 -> FOOT 6x6 | D15: FOOT 6x6 | E15: RPE | F15: =IFERROR(INDEX(Données!$A:$F,MATCH($A15&$B15&F$2,Données!$A:$A,0),MATCH($E15,Données!$A$1:$F$1,0)),0) -> 0 | G15: =IFERROR(INDEX(Données!$A:$F,MATCH($A15&$B15&G$2,Données!$A:$A,0),MATCH($E15,Données!$A$1:$F$1,0)),0) -> 0 | H15: =IFERROR(INDEX(Données!$A:$F,MATCH($A15&$B15&H$2,Données!$A:$A,0),MATCH($E15,Données!$A$1:$F$1,0)),0) -> 0 | I15: =IFERROR(INDEX(Données!$A:$F,MATCH($A15&$B15&I$2,Données!$A:$A,0),MATCH($E15,Données!$A$1:$F$1,0)),0) -> 0 | J15: =IFERROR(INDEX(Données!$A:$F,MATCH($A15&$B15&J$2,Données!$A:$A,0),MATCH($E15,Données!$A$1:$F$1,0)),0) -> 0 | K15: =IFERROR(INDEX(Données!$A:$F,MATCH($A15&$B15&K$2,Données!$A:$A,0),MATCH($E15,Données!$A$1:$F$1,0)),0) -> 0 | L15: =IFERROR(INDEX(Données!$A:$F,MATCH($A15&$B15&L$2,Données!$A:$A,0),MATCH($E15,Données!$A$1:$F$1,0)),0) -> 0
A16: =A15 -> Damien | B16: =B15 -> FOOT 6x6 | E16: Temps | F16: =IFERROR(INDEX(Données!$A:$F,MATCH($A16&$B16&F$2,Données!$A:$A,0),MATCH($E16,Données!$A$1:$F$1,0)),0) -> 0 | G16: =IFERROR(INDEX(Données!$A:$F,MATCH($A16&$B16&G$2,Données!$A:$A,0),MATCH($E16,Données!$A$1:$F$1,0)),0) -> 0 | H16: =IFERROR(INDEX(Données!$A:$F,MATCH($A16&$B16&H$2,Données!$A:$A,0),MATCH($E16,Données!$A$1:$F$1,0)),0) -> 0 | I16: =IFERROR(INDEX(Données!$A:$F,MATCH($A16&$B16&I$2,Données!$A:$A,0),MATCH($E16,Données!$A$1:$F$1,0)),0) -> 0 | J16: =IFERROR(INDEX(Données!$A:$F,MATCH($A16&$B16&J$2,Données!$A:$A,0),MATCH($E16,Données!$A$1:$F$1,0)),0) -> 0 | K16: =IFERROR(INDEX(Données!$A:$F,MATCH($A16&$B16&K$2,Données!$A:$A,0),MATCH($E16,Données!$A$1:$F$1,0)),0) -> 0 | L16: =IFERROR(INDEX(Données!$A:$F,MATCH($A16&$B16&L$2,Données!$A:$A,0),MATCH($E16,Données!$A$1:$F$1,0)),0) -> 0
A17: =A16 -> Damien | B17: =B16 -> FOOT 6x6 | E17: Charge | F17: =IF(ISBLANK(F15),"0",F15*F16) -> 0 | G17: =IF(ISBLANK(G15),"0",G15*G16) -> 0 | H17: =IF(ISBLANK(H15),"0",H15*H16) -> 0 | I17: =IF(ISBLANK(I15),"0",I15*I16) -> 0 | J17: =IF(ISBLANK(J15),"0",J15*J16) -> 0 | K17: =IF(ISBLANK(K15),"0",K15*K16) -> 0 | L17: =IF(ISBLANK(L15),"0",L15*L16) -> 0
A18: =A17 -> Damien | B18: =D18 -> MATCH | D18: MATCH | E18: RPE | F18: =IFERROR(INDEX(Données!$A:$F,MATCH($A18&$B18&F$2,Données!$A:$A,0),MATCH($E18,Données!$A$1:$F$1,0)),0) -> 0 | G18: =IFERROR(INDEX(Données!$A:$F,MATCH($A18&$B18&G$2,Données!$A:$A,0),MATCH($E18,Données!$A$1:$F$1,0)),0) -> 0 | H18: =IFERROR(INDEX(Données!$A:$F,MATCH($A18&$B18&H$2,Données!$A:$A,0),MATCH($E18,Données!$A$1:$F$1,0)),0) -> 0 | I18: =IFERROR(INDEX(Données!$A:$F,MATCH($A18&$B18&I$2,Données!$A:$A,0),MATCH($E18,Données!$A$1:$F$1,0)),0) -> 0 | J18: =IFERROR(INDEX(Données!$A:$F,MATCH($A18&$B18&J$2,Données!$A:$A,0),MATCH($E18,Données!$A$1:$F$1,0)),0) -> 3 | K18: =IFERROR(INDEX(Données!$A:$F,MATCH($A18&$B18&K$2,Données!$A:$A,0),MATCH($E18,Données!$A$1:$F$1,0)),0) -> 0 | L18: =IFERROR(INDEX(Données!$A:$F,MATCH($A18&$B18&L$2,Données!$A:$A,0),MATCH($E18,Données!$A$1:$F$1,0)),0) -> 0
A19: =A18 -> Damien | B19: =B18 -> MATCH | E19: Temps | F19: =IFERROR(INDEX(Données!$A:$F,MATCH($A19&$B19&F$2,Données!$A:$A,0),MATCH($E19,Données!$A$1:$F$1,0)),0) -> 0 | G19: =IFERROR(INDEX(Données!$A:$F,MATCH($A19&$B19&G$2,Données!$A:$A,0),MATCH($E19,Données!$A$1:$F$1,0)),0) -> 0 | H19: =IFERROR(INDEX(Données!$A:$F,MATCH($A19&$B19&H$2,Données!$A:$A,0),MATCH($E19,Données!$A$1:$F$1,0)),0) -> 0 | I19: =IFERROR(INDEX(Données!$A:$F,MATCH($A19&$B19&I$2,Données!$A:$A,0),MATCH($E19,Données!$A$1:$F$1,0)),0) -> 0 | J19: =IFERROR(INDEX(Données!$A:$F,MATCH($A19&$B19&J$2,Données!$A:$A,0),MATCH($E19,Données!$A$1:$F$1,0)),0) -> 90 | K19: =IFERROR(INDEX(Données!$A:$F,MATCH($A19&$B19&K$2,Données!$A:$A,0),MATCH($E19,Données!$A$1:$F$1,0)),0) -> 0 | L19: =IFERROR(INDEX(Données!$A:$F,MATCH($A19&$B19&L$2,Données!$A:$A,0),MATCH($E19,Données!$A$1:$F$1,0)),0) -> 0
A20: =A19 -> Damien | B20: =B19 -> MATCH | E20: Charge | F20: =IF(ISBLANK(F18),"0",F18*F19) -> 0 | G20: =IF(ISBLANK(G18),"0",G18*G19) -> 0 | H20: =IF(ISBLANK(H18),"0",H18*H19) -> 0 | I20: =IF(ISBLANK(I18),"0",I18*I19) -> 0 | J20: =IF(ISBLANK(J18),"0",J18*J19) -> 270 | K20: =IF(ISBLANK(K18),"0",K18*K19) -> 0 | L20: =IF(ISBLANK(L18),"0",L18*L19) -> 0
D21: TYPE
A22: =C22 -> Paul | B22: =D22 -> MUSCU | C22: Paul | D22: MUSCU | E22: RPE | F22: =IFERROR(INDEX(Données!$A:$F,MATCH($A22&$B22&F$2,Données!$A:$A,0),MATCH($E22,Données!$A$1:$F$1,0)),0) -> 0 | G22: =IFERROR(INDEX(Données!$A:$F,MATCH($A22&$B22&G$2,Données!$A:$A,0),MATCH($E22,Données!$A$1:$F$1,0)),0) -> 0 | H22: =IFERROR(INDEX(Données!$A:$F,MATCH($A22&$B22&H$2,Données!$A:$A,0),MATCH($E22,Données!$A$1:$F$1,0)),0) -> 0 | I22: =IFERROR(INDEX(Données!$A:$F,MATCH($A22&$B22&I$2,Données!$A:$A,0),MATCH($E22,Données!$A$1:$F$1,0)),0) -> 0 | J22: =IFERROR(INDEX(Données!$A:$F,MATCH($A22&$B22&J$2,Données!$A:$A,0),MATCH($E22,Données!$A$1:$F$1,0)),0) -> 0 | K22: =IFERROR(INDEX(Données!$A:$F,MATCH($A22&$B22&K$2,Données!$A:$A,0),MATCH($E22,Données!$A$1:$F$1,0)),0) -> 0 | L22: =IFERROR(INDEX(Données!$A:$F,MATCH($A22&$B22&L$2,Données!$A:$A,0),MATCH($E22,Données!$A$1:$F$1,0)),0) -> 0
A23: =A22 -> Paul | B23: =B22 -> MUSCU | E23: Temps | F23: =IFERROR(INDEX(Données!$A:$F,MATCH($A23&$B23&F$2,Données!$A:$A,0),MATCH($E23,Données!$A$1:$F$1,0)),0) -> 0 | G23: =IFERROR(INDEX(Données!$A:$F,MATCH($A23&$B23&G$2,Données!$A:$A,0),MATCH($E23,Données!$A$1:$F$1,0)),0) -> 0 | H23: =IFERROR(INDEX(Données!$A:$F,MATCH($A23&$B23&H$2,Données!$A:$A,0),MATCH($E23,Données!$A$1:$F$1,0)),0) -> 0 | I23: =IFERROR(INDEX(Données!$A:$F,MATCH($A23&$B23&I$2,Données!$A:$A,0),MATCH($E23,Données!$A$1:$F$1,0)),0) -> 0 | J23: =IFERROR(INDEX(Données!$A:$F,MATCH($A23&$B23&J$2,Données!$A:$A,0),MATCH($E23,Données!$A$1:$F$1,0)),0) -> 0 | K23: =IFERROR(INDEX(Données!$A:$F,MATCH($A23&$B23&K$2,Données!$A:$A,0),MATCH($E23,Données!$A$1:$F$1,0)),0) -> 0 | L23: =IFERROR(INDEX(Données!$A:$F,MATCH($A23&$B23&L$2,Données!$A:$A,0),MATCH($E23,Données!$A$1:$F$1,0)),0) -> 0
A24: =A23 -> Paul | B24: =B23 -> MUSCU | E24: Charge | F24: =IF(ISBLANK(F22),"0",F22*F23) -> 0 | G24: =IF(ISBLANK(G22),"0",G22*G23) -> 0 | H24: =IF(ISBLANK(H22),"0",H22*H23) -> 0 | I24: =IF(ISBLANK(I22),"0",I22*I23) -> 0 | J24: =IF(ISBLANK(J22),"0",J22*J23) -> 0 | K24: =IF(ISBLANK(K22),"0",K22*K23) -> 0 | L24: =IF(ISBLANK(L22),"0",L22*L23) -> 0
A25: =A24 -> Paul | B25: =D25 -> PREVENTION | D25: PREVENTION | E25: RPE | F25: =IFERROR(INDEX(Données!$A:$F,MATCH($A25&$B25&F$2,Données!$A:$A,0),MATCH($E25,Données!$A$1:$F$1,0)),0) -> 0 | G25: =IFERROR(INDEX(Données!$A:$F,MATCH($A25&$B25&G$2,Données!$A:$A,0),MATCH($E25,Données!$A$1:$F$1,0)),0) -> 0 | H25: =IFERROR(INDEX(Données!$A:$F,MATCH($A25&$B25&H$2,Données!$A:$A,0),MATCH($E25,Données!$A$1:$F$1,0)),0) -> 0 | I25: =IFERROR(INDEX(Données!$A:$F,MATCH($A25&$B25&I$2,Données!$A:$A,0),MATCH($E25,Données!$A$1:$F$1,0)),0) -> 0 | J25: =IFERROR(INDEX(Données!$A:$F,MATCH($A25&$B25&J$2,Données!$A:$A,0),MATCH($E25,Données!$A$1:$F$1,0)),0) -> 0 | K25: =IFERROR(INDEX(Données!$A:$F,MATCH($A25&$B25&K$2,Données!$A:$A,0),MATCH($E25,Données!$A$1:$F$1,0)),0) -> 0 | L25: =IFERROR(INDEX(Données!$A:$F,MATCH($A25&$B25&L$2,Données!$A:$A,0),MATCH($E25,Données!$A$1:$F$1,0)),0) -> 0
A26: =A25 -> Paul | B26: =B25 -> PREVENTION | E26: Temps | F26: =IFERROR(INDEX(Données!$A:$F,MATCH($A26&$B26&F$2,Données!$A:$A,0),MATCH($E26,Données!$A$1:$F$1,0)),0) -> 0 | G26: =IFERROR(INDEX(Données!$A:$F,MATCH($A26&$B26&G$2,Données!$A:$A,0),MATCH($E26,Données!$A$1:$F$1,0)),0) -> 0 | H26: =IFERROR(INDEX(Données!$A:$F,MATCH($A26&$B26&H$2,Données!$A:$A,0),MATCH($E26,Données!$A$1:$F$1,0)),0) -> 0 | I26: =IFERROR(INDEX(Données!$A:$F,MATCH($A26&$B26&I$2,Données!$A:$A,0),MATCH($E26,Données!$A$1:$F$1,0)),0) -> 0 | J26: =IFERROR(INDEX(Données!$A:$F,MATCH($A26&$B26&J$2,Données!$A:$A,0),MATCH($E26,Données!$A$1:$F$1,0)),0) -> 0 | K26: =IFERROR(INDEX(Données!$A:$F,MATCH($A26&$B26&K$2,Données!$A:$A,0),MATCH($E26,Données!$A$1:$F$1,0)),0) -> 0 | L26: =IFERROR(INDEX(Données!$A:$F,MATCH($A26&$B26&L$2,Données!$A:$A,0),MATCH($E26,Données!$A$1:$F$1,0)),0) -> 0
A27: =A26 -> Paul | B27: =B26 -> PREVENTION | E27: Charge | F27: =IF(ISBLANK(F25),"0",F25*F26) -> 0 | G27: =IF(ISBLANK(G25),"0",G25*G26) -> 0 | H27: =IF(ISBLANK(H25),"0",H25*H26) -> 0 | I27: =IF(ISBLANK(I25),"0",I25*I26) -> 0 | J27: =IF(ISBLANK(J25),"0",J25*J26) -> 0 | K27: =IF(ISBLANK(K25),"0",K25*K26) -> 0 | L27: =IF(ISBLANK(L25),"0",L25*L26) -> 0
A28: =A27 -> Paul | B28: =D28 -> FOOT Spé | D28: FOOT Spé | E28: RPE | F28: =IFERROR(INDEX(Données!$A:$F,MATCH($A28&$B28&F$2,Données!$A:$A,0),MATCH($E28,Données!$A$1:$F$1,0)),0) -> 0 | G28: =IFERROR(INDEX(Données!$A:$F,MATCH($A28&$B28&G$2,Données!$A:$A,0),MATCH($E28,Données!$A$1:$F$1,0)),0) -> 0 | H28: =IFERROR(INDEX(Données!$A:$F,MATCH($A28&$B28&H$2,Données!$A:$A,0),MATCH($E28,Données!$A$1:$F$1,0)),0) -> 0 | I28: =IFERROR(INDEX(Données!$A:$F,MATCH($A28&$B28&I$2,Données!$A:$A,0),MATCH($E28,Données!$A$1:$F$1,0)),0) -> 0 | J28: =IFERROR(INDEX(Données!$A:$F,MATCH($A28&$B28&J$2,Données!$A:$A,0),MATCH($E28,Données!$A$1:$F$1,0)),0) -> 0 | K28: =IFERROR(INDEX(Données!$A:$F,MATCH($A28&$B28&K$2,Données!$A:$A,0),MATCH($E28,Données!$A$1:$F$1,0)),0) -> 0 | L28: =IFERROR(INDEX(Données!$A:$F,MATCH($A28&$B28&L$2,Données!$A:$A,0),MATCH($E28,Données!$A$1:$F$1,0)),0) -> 0
A29: =A28 -> Paul | B29: =B28 -> FOOT Spé | E29: Temps | F29: =IFERROR(INDEX(Données!$A:$F,MATCH($A29&$B29&F$2,Données!$A:$A,0),MATCH($E29,Données!$A$1:$F$1,0)),0) -> 0 | G29: =IFERROR(INDEX(Données!$A:$F,MATCH($A29&$B29&G$2,Données!$A:$A,0),MATCH($E29,Données!$A$1:$F$1,0)),0) -> 0 | H29: =IFERROR(INDEX(Données!$A:$F,MATCH($A29&$B29&H$2,Données!$A:$A,0),MATCH($E29,Données!$A$1:$F$1,0)),0) -> 0 | I29: =IFERROR(INDEX(Données!$A:$F,MATCH($A29&$B29&I$2,Données!$A:$A,0),MATCH($E29,Données!$A$1:$F$1,0)),0) -> 0 | J29: =IFERROR(INDEX(Données!$A:$F,MATCH($A29&$B29&J$2,Données!$A:$A,0),MATCH($E29,Données!$A$1:$F$1,0)),0) -> 0 | K29: =IFERROR(INDEX(Données!$A:$F,MATCH($A29&$B29&K$2,Données!$A:$A,0),MATCH($E29,Données!$A$1:$F$1,0)),0) -> 0 | L29: =IFERROR(INDEX(Données!$A:$F,MATCH($A29&$B29&L$2,Données!$A:$A,0),MATCH($E29,Données!$A$1:$F$1,0)),0) -> 0
A30: =A29 -> Paul | B30: =B29 -> FOOT Spé | E30: Charge | F30: =IF(ISBLANK(F28),"0",F28*F29) -> 0 | G30: =IF(ISBLANK(G28),"0",G28*G29) -> 0 | H30: =IF(ISBLANK(H28),"0",H28*H29) -> 0 | I30: =IF(ISBLANK(I28),"0",I28*I29) -> 0 | J30: =IF(ISBLANK(J28),"0",J28*J29) -> 0 | K30: =IF(ISBLANK(K28),"0",K28*K29) -> 0 | L30: =IF(ISBLANK(L28),"0",L28*L29) -> 0
A31: =A30 -> Paul | B31: =D31 -> FOOT 6x6 | D31: FOOT 6x6 | E31: RPE | F31: =IFERROR(INDEX(Données!$A:$F,MATCH($A31&$B31&F$2,Données!$A:$A,0),MATCH($E31,Données!$A$1:$F$1,0)),0) -> 0 | G31: =IFERROR(INDEX(Données!$A:$F,MATCH($A31&$B31&G$2,Données!$A:$A,0),MATCH($E31,Données!$A$1:$F$1,0)),0) -> 0 | H31: =IFERROR(INDEX(Données!$A:$F,MATCH($A31&$B31&H$2,Données!$A:$A,0),MATCH($E31,Données!$A$1:$F$1,0)),0) -> 0 | I31: =IFERROR(INDEX(Données!$A:$F,MATCH($A31&$B31&I$2,Données!$A:$A,0),MATCH($E31,Données!$A$1:$F$1,0)),0) -> 0 | J31: =IFERROR(INDEX(Données!$A:$F,MATCH($A31&$B31&J$2,Données!$A:$A,0),MATCH($E31,Données!$A$1:$F$1,0)),0) -> 0 | K31: =IFERROR(INDEX(Données!$A:$F,MATCH($A31&$B31&K$2,Données!$A:$A,0),MATCH($E31,Données!$A$1:$F$1,0)),0) -> 0 | L31: =IFERROR(INDEX(Données!$A:$F,MATCH($A31&$B31&L$2,Données!$A:$A,0),MATCH($E31,Données!$A$1:$F$1,0)),0) -> 0
A32: =A31 -> Paul | B32: =B31 -> FOOT 6x6 | E32: Temps | F32: =IFERROR(INDEX(Données!$A:$F,MATCH($A32&$B32&F$2,Données!$A:$A,0),MATCH($E32,Données!$A$1:$F$1,0)),0) -> 0 | G32: =IFERROR(INDEX(Données!$A:$F,MATCH($A32&$B32&G$2,Données!$A:$A,0),MATCH($E32,Données!$A$1:$F$1,0)),0) -> 0 | H32: =IFERROR(INDEX(Données!$A:$F,MATCH($A32&$B32&H$2,Données!$A:$A,0),MATCH($E32,Données!$A$1:$F$1,0)),0) -> 0 | I32: =IFERROR(INDEX(Données!$A:$F,MATCH($A32&$B32&I$2,Données!$A:$A,0),MATCH($E32,Données!$A$1:$F$1,0)),0) -> 0 | J32: =IFERROR(INDEX(Données!$A:$F,MATCH($A32&$B32&J$2,Données!$A:$A,0),MATCH($E32,Données!$A$1:$F$1,0)),0) -> 0 | K32: =IFERROR(INDEX(Données!$A:$F,MATCH($A32&$B32&K$2,Données!$A:$A,0),MATCH($E32,Données!$A$1:$F$1,0)),0) -> 0 | L32: =IFERROR(INDEX(Données!$A:$F,MATCH($A32&$B32&L$2,Données!$A:$A,0),MATCH($E32,Données!$A$1:$F$1,0)),0) -> 0
A33: =A32 -> Paul | B33: =B32 -> FOOT 6x6 | E33: Charge | F33: =IF(ISBLANK(F31),"0",F31*F32) -> 0 | G33: =IF(ISBLANK(G31),"0",G31*G32) -> 0 | H33: =IF(ISBLANK(H31),"0",H31*H32) -> 0 | I33: =IF(ISBLANK(I31),"0",I31*I32) -> 0 | J33: =IF(ISBLANK(J31),"0",J31*J32) -> 0 | K33: =IF(ISBLANK(K31),"0",K31*K32) -> 0 | L33: =IF(ISBLANK(L31),"0",L31*L32) -> 0
A34: =A33 -> Paul | B34: =D34 -> MATCH | D34: MATCH | E34: RPE | F34: =IFERROR(INDEX(Données!$A:$F,MATCH($A34&$B34&F$2,Données!$A:$A,0),MATCH($E34,Données!$A$1:$F$1,0)),0) -> 0 | G34: =IFERROR(INDEX(Données!$A:$F,MATCH($A34&$B34&G$2,Données!$A:$A,0),MATCH($E34,Données!$A$1:$F$1,0)),0) -> 0 | H34: =IFERROR(INDEX(Données!$A:$F,MATCH($A34&$B34&H$2,Données!$A:$A,0),MATCH($E34,Données!$A$1:$F$1,0)),0) -> 0 | I34: =IFERROR(INDEX(Données!$A:$F,MATCH($A34&$B34&I$2,Données!$A:$A,0),MATCH($E34,Données!$A$1:$F$1,0)),0) -> 0 | J34: =IFERROR(INDEX(Données!$A:$F,MATCH($A34&$B34&J$2,Données!$A:$A,0),MATCH($E34,Données!$A$1:$F$1,0)),0) -> 0 | K34: =IFERROR(INDEX(Données!$A:$F,MATCH($A34&$B34&K$2,Données!$A:$A,0),MATCH($E34,Données!$A$1:$F$1,0)),0) -> 0 | L34: =IFERROR(INDEX(Données!$A:$F,MATCH($A34&$B34&L$2,Données!$A:$A,0),MATCH($E34,Données!$A$1:$F$1,0)),0) -> 0
A35: =A34 -> Paul | B35: =B34 -> MATCH | E35: Temps | F35: =IFERROR(INDEX(Données!$A:$F,MATCH($A35&$B35&F$2,Données!$A:$A,0),MATCH($E35,Données!$A$1:$F$1,0)),0) -> 0 | G35: =IFERROR(INDEX(Données!$A:$F,MATCH($A35&$B35&G$2,Données!$A:$A,0),MATCH($E35,Données!$A$1:$F$1,0)),0) -> 0 | H35: =IFERROR(INDEX(Données!$A:$F,MATCH($A35&$B35&H$2,Données!$A:$A,0),MATCH($E35,Données!$A$1:$F$1,0)),0) -> 0 | I35: =IFERROR(INDEX(Données!$A:$F,MATCH($A35&$B35&I$2,Données!$A:$A,0),MATCH($E35,Données!$A$1:$F$1,0)),0) -> 0 | J35: =IFERROR(INDEX(Données!$A:$F,MATCH($A35&$B35&J$2,Données!$A:$A,0),MATCH($E35,Données!$A$1:$F$1,0)),0) -> 0 | K35: =IFERROR(INDEX(Données!$A:$F,MATCH($A35&$B35&K$2,Données!$A:$A,0),MATCH($E35,Données!$A$1:$F$1,0)),0) -> 0 | L35: =IFERROR(INDEX(Données!$A:$F,MATCH($A35&$B35&L$2,Données!$A:$A,0),MATCH($E35,Données!$A$1:$F$1,0)),0) -> 0
A36: =A35 -> Paul | B36: =B35 -> MATCH | E36: Charge | F36: =IF(ISBLANK(F34),"0",F34*F35) -> 0 | G36: =IF(ISBLANK(G34),"0",G34*G35) -> 0 | H36: =IF(ISBLANK(H34),"0",H34*H35) -> 0 | I36: =IF(ISBLANK(I34),"0",I34*I35) -> 0 | J36: =IF(ISBLANK(J34),"0",J34*J35) -> 0 | K36: =IF(ISBLANK(K34),"0",K34*K35) -> 0 | L36: =IF(ISBLANK(L34),"0",L34*L35) -> 0
D37: TYPE
A38: =C38 -> Jean | B38: =D38 -> MUSCU | C38: Jean | D38: MUSCU | E38: RPE | F38: =IFERROR(INDEX(Données!$A:$F,MATCH($A38&$B38&F$2,Données!$A:$A,0),MATCH($E38,Données!$A$1:$F$1,0)),0) -> 0 | G38: =IFERROR(INDEX(Données!$A:$F,MATCH($A38&$B38&G$2,Données!$A:$A,0),MATCH($E38,Données!$A$1:$F$1,0)),0) -> 0 | H38: =IFERROR(INDEX(Données!$A:$F,MATCH($A38&$B38&H$2,Données!$A:$A,0),MATCH($E38,Données!$A$1:$F$1,0)),0) -> 0 | I38: =IFERROR(INDEX(Données!$A:$F,MATCH($A38&$B38&I$2,Données!$A:$A,0),MATCH($E38,Données!$A$1:$F$1,0)),0) -> 0 | J38: =IFERROR(INDEX(Données!$A:$F,MATCH($A38&$B38&J$2,Données!$A:$A,0),MATCH($E38,Données!$A$1:$F$1,0)),0) -> 0 | K38: =IFERROR(INDEX(Données!$A:$F,MATCH($A38&$B38&K$2,Données!$A:$A,0),MATCH($E38,Données!$A$1:$F$1,0)),0) -> 0 | L38: =IFERROR(INDEX(Données!$A:$F,MATCH($A38&$B38&L$2,Données!$A:$A,0),MATCH($E38,Données!$A$1:$F$1,0)),0) -> 0
A39: =A38 -> Jean | B39: =B38 -> MUSCU | E39: Temps | F39: =IFERROR(INDEX(Données!$A:$F,MATCH($A39&$B39&F$2,Données!$A:$A,0),MATCH($E39,Données!$A$1:$F$1,0)),0) -> 0 | G39: =IFERROR(INDEX(Données!$A:$F,MATCH($A39&$B39&G$2,Données!$A:$A,0),MATCH($E39,Données!$A$1:$F$1,0)),0) -> 0 | H39: =IFERROR(INDEX(Données!$A:$F,MATCH($A39&$B39&H$2,Données!$A:$A,0),MATCH($E39,Données!$A$1:$F$1,0)),0) -> 0 | I39: =IFERROR(INDEX(Données!$A:$F,MATCH($A39&$B39&I$2,Données!$A:$A,0),MATCH($E39,Données!$A$1:$F$1,0)),0) -> 0 | J39: =IFERROR(INDEX(Données!$A:$F,MATCH($A39&$B39&J$2,Données!$A:$A,0),MATCH($E39,Données!$A$1:$F$1,0)),0) -> 0 | K39: =IFERROR(INDEX(Données!$A:$F,MATCH($A39&$B39&K$2,Données!$A:$A,0),MATCH($E39,Données!$A$1:$F$1,0)),0) -> 0 | L39: =IFERROR(INDEX(Données!$A:$F,MATCH($A39&$B39&L$2,Données!$A:$A,0),MATCH($E39,Données!$A$1:$F$1,0)),0) -> 0
A40: =A39 -> Jean | B40: =B39 -> MUSCU | E40: Charge | F40: =IF(ISBLANK(F38),"0",F38*F39) -> 0 | G40: =IF(ISBLANK(G38),"0",G38*G39) -> 0 | H40: =IF(ISBLANK(H38),"0",H38*H39) -> 0 | I40: =IF(ISBLANK(I38),"0",I38*I39) -> 0 | J40: =IF(ISBLANK(J38),"0",J38*J39) -> 0 | K40: =IF(ISBLANK(K38),"0",K38*K39) -> 0 | L40: =IF(ISBLANK(L38),"0",L38*L39) -> 0
A41: =A40 -> Jean | B41: =D41 -> PREVENTION | D41: PREVENTION | E41: RPE | F41: =IFERROR(INDEX(Données!$A:$F,MATCH($A41&$B41&F$2,Données!$A:$A,0),MATCH($E41,Données!$A$1:$F$1,0)),0) -> 0 | G41: =IFERROR(INDEX(Données!$A:$F,MATCH($A41&$B41&G$2,Données!$A:$A,0),MATCH($E41,Données!$A$1:$F$1,0)),0) -> 0 | H41: =IFERROR(INDEX(Données!$A:$F,MATCH($A41&$B41&H$2,Données!$A:$A,0),MATCH($E41,Données!$A$1:$F$1,0)),0) -> 0 | I41: =IFERROR(INDEX(Données!$A:$F,MATCH($A41&$B41&I$2,Données!$A:$A,0),MATCH($E41,Données!$A$1:$F$1,0)),0) -> 0 | J41: =IFERROR(INDEX(Données!$A:$F,MATCH($A41&$B41&J$2,Données!$A:$A,0),MATCH($E41,Données!$A$1:$F$1,0)),0) -> 0 | K41: =IFERROR(INDEX(Données!$A:$F,MATCH($A41&$B41&K$2,Données!$A:$A,0),MATCH($E41,Données!$A$1:$F$1,0)),0) -> 0 | L41: =IFERROR(INDEX(Données!$A:$F,MATCH($A41&$B41&L$2,Données!$A:$A,0),MATCH($E41,Données!$A$1:$F$1,0)),0) -> 0
A42: =A41 -> Jean | B42: =B41 -> PREVENTION | E42: Temps | F42: =IFERROR(INDEX(Données!$A:$F,MATCH($A42&$B42&F$2,Données!$A:$A,0),MATCH($E42,Données!$A$1:$F$1,0)),0) -> 0 | G42: =IFERROR(INDEX(Données!$A:$F,MATCH($A42&$B42&G$2,Données!$A:$A,0),MATCH($E42,Données!$A$1:$F$1,0)),0) -> 0 | H42: =IFERROR(INDEX(Données!$A:$F,MATCH($A42&$B42&H$2,Données!$A:$A,0),MATCH($E42,Données!$A$1:$F$1,0)),0) -> 0 | I42: =IFERROR(INDEX(Données!$A:$F,MATCH($A42&$B42&I$2,Données!$A:$A,0),MATCH($E42,Données!$A$1:$F$1,0)),0) -> 0 | J42: =IFERROR(INDEX(Données!$A:$F,MATCH($A42&$B42&J$2,Données!$A:$A,0),MATCH($E42,Données!$A$1:$F$1,0)),0) -> 0 | K42: =IFERROR(INDEX(Données!$A:$F,MATCH($A42&$B42&K$2,Données!$A:$A,0),MATCH($E42,Données!$A$1:$F$1,0)),0) -> 0 | L42: =IFERROR(INDEX(Données!$A:$F,MATCH($A42&$B42&L$2,Données!$A:$A,0),MATCH($E42,Données!$A$1:$F$1,0)),0) -> 0
A43: =A42 -> Jean | B43: =B42 -> PREVENTION | E43: Charge | F43: =IF(ISBLANK(F41),"0",F41*F42) -> 0 | G43: =IF(ISBLANK(G41),"0",G41*G42) -> 0 | H43: =IF(ISBLANK(H41),"0",H41*H42) -> 0 | I43: =IF(ISBLANK(I41),"0",I41*I42) -> 0 | J43: =IF(ISBLANK(J41),"0",J41*J42) -> 0 | K43: =IF(ISBLANK(K41),"0",K41*K42) -> 0 | L43: =IF(ISBLANK(L41),"0",L41*L42) -> 0
A44: =A43 -> Jean | B44: =D44 -> FOOT Spé | D44: FOOT Spé | E44: RPE | F44: =IFERROR(INDEX(Données!$A:$F,MATCH($A44&$B44&F$2,Données!$A:$A,0),MATCH($E44,Données!$A$1:$F$1,0)),0) -> 0 | G44: =IFERROR(INDEX(Données!$A:$F,MATCH($A44&$B44&G$2,Données!$A:$A,0),MATCH($E44,Données!$A$1:$F$1,0)),0) -> 0 | H44: =IFERROR(INDEX(Données!$A:$F,MATCH($A44&$B44&H$2,Données!$A:$A,0),MATCH($E44,Données!$A$1:$F$1,0)),0) -> 0 | I44: =IFERROR(INDEX(Données!$A:$F,MATCH($A44&$B44&I$2,Données!$A:$A,0),MATCH($E44,Données!$A$1:$F$1,0)),0) -> 0 | J44: =IFERROR(INDEX(Données!$A:$F,MATCH($A44&$B44&J$2,Données!$A:$A,0),MATCH($E44,Données!$A$1:$F$1,0)),0) -> 0 | K44: =IFERROR(INDEX(Données!$A:$F,MATCH($A44&$B44&K$2,Données!$A:$A,0),MATCH($E44,Données!$A$1:$F$1,0)),0) -> 0 | L44: =IFERROR(INDEX(Données!$A:$F,MATCH($A44&$B44&L$2,Données!$A:$A,0),MATCH($E44,Données!$A$1:$F$1,0)),0) -> 0
A45: =A44 -> Jean | B45: =B44 -> FOOT Spé | E45: Temps | F45: =IFERROR(INDEX(Données!$A:$F,MATCH($A45&$B45&F$2,Données!$A:$A,0),MATCH($E45,Données!$A$1:$F$1,0)),0) -> 0 | G45: =IFERROR(INDEX(Données!$A:$F,MATCH($A45&$B45&G$2,Données!$A:$A,0),MATCH($E45,Données!$A$1:$F$1,0)),0) -> 0 | H45: =IFERROR(INDEX(Données!$A:$F,MATCH($A45&$B45&H$2,Données!$A:$A,0),MATCH($E45,Données!$A$1:$F$1,0)),0) -> 0 | I45: =IFERROR(INDEX(Données!$A:$F,MATCH($A45&$B45&I$2,Données!$A:$A,0),MATCH($E45,Données!$A$1:$F$1,0)),0) -> 0 | J45: =IFERROR(INDEX(Données!$A:$F,MATCH($A45&$B45&J$2,Données!$A:$A,0),MATCH($E45,Données!$A$1:$F$1,0)),0) -> 0 | K45: =IFERROR(INDEX(Données!$A:$F,MATCH($A45&$B45&K$2,Données!$A:$A,0),MATCH($E45,Données!$A$1:$F$1,0)),0) -> 0 | L45: =IFERROR(INDEX(Données!$A:$F,MATCH($A45&$B45&L$2,Données!$A:$A,0),MATCH($E45,Données!$A$1:$F$1,0)),0) -> 0
A46: =A45 -> Jean | B46: =B45 -> FOOT Spé | E46: Charge | F46: =IF(ISBLANK(F44),"0",F44*F45) -> 0 | G46: =IF(ISBLANK(G44),"0",G44*G45) -> 0 | H46: =IF(ISBLANK(H44),"0",H44*H45) -> 0 | I46: =IF(ISBLANK(I44),"0",I44*I45) -> 0 | J46: =IF(ISBLANK(J44),"0",J44*J45) -> 0 | K46: =IF(ISBLANK(K44),"0",K44*K45) -> 0 | L46: =IF(ISBLANK(L44),"0",L44*L45) -> 0
A47: =A46 -> Jean | B47: =D47 -> FOOT 6x6 | D47: FOOT 6x6 | E47: RPE | F47: =IFERROR(INDEX(Données!$A:$F,MATCH($A47&$B47&F$2,Données!$A:$A,0),MATCH($E47,Données!$A$1:$F$1,0)),0) -> 0 | G47: =IFERROR(INDEX(Données!$A:$F,MATCH($A47&$B47&G$2,Données!$A:$A,0),MATCH($E47,Données!$A$1:$F$1,0)),0) -> 0 | H47: =IFERROR(INDEX(Données!$A:$F,MATCH($A47&$B47&H$2,Données!$A:$A,0),MATCH($E47,Données!$A$1:$F$1,0)),0) -> 0 | I47: =IFERROR(INDEX(Données!$A:$F,MATCH($A47&$B47&I$2,Données!$A:$A,0),MATCH($E47,Données!$A$1:$F$1,0)),0) -> 0 | J47: =IFERROR(INDEX(Données!$A:$F,MATCH($A47&$B47&J$2,Données!$A:$A,0),MATCH($E47,Données!$A$1:$F$1,0)),0) -> 0 | K47: =IFERROR(INDEX(Données!$A:$F,MATCH($A47&$B47&K$2,Données!$A:$A,0),MATCH($E47,Données!$A$1:$F$1,0)),0) -> 0 | L47: =IFERROR(INDEX(Données!$A:$F,MATCH($A47&$B47&L$2,Données!$A:$A,0),MATCH($E47,Données!$A$1:$F$1,0)),0) -> 0
A48: =A47 -> Jean | B48: =B47 -> FOOT 6x6 | E48: Temps | F48: =IFERROR(INDEX(Données!$A:$F,MATCH($A48&$B48&F$2,Données!$A:$A,0),MATCH($E48,Données!$A$1:$F$1,0)),0) -> 0 | G48: =IFERROR(INDEX(Données!$A:$F,MATCH($A48&$B48&G$2,Données!$A:$A,0),MATCH($E48,Données!$A$1:$F$1,0)),0) -> 0 | H48: =IFERROR(INDEX(Données!$A:$F,MATCH($A48&$B48&H$2,Données!$A:$A,0),MATCH($E48,Données!$A$1:$F$1,0)),0) -> 0 | I48: =IFERROR(INDEX(Données!$A:$F,MATCH($A48&$B48&I$2,Données!$A:$A,0),MATCH($E48,Données!$A$1:$F$1,0)),0) -> 0 | J48: =IFERROR(INDEX(Données!$A:$F,MATCH($A48&$B48&J$2,Données!$A:$A,0),MATCH($E48,Données!$A$1:$F$1,0)),0) -> 0 | K48: =IFERROR(INDEX(Données!$A:$F,MATCH($A48&$B48&K$2,Données!$A:$A,0),MATCH($E48,Données!$A$1:$F$1,0)),0) -> 0 | L48: =IFERROR(INDEX(Données!$A:$F,MATCH($A48&$B48&L$2,Données!$A:$A,0),MATCH($E48,Données!$A$1:$F$1,0)),0) -> 0
A49: =A48 -> Jean | B49: =B48 -> FOOT 6x6 | E49: Charge | F49: =IF(ISBLANK(F47),"0",F47*F48) -> 0 | G49: =IF(ISBLANK(G47),"0",G47*G48) -> 0 | H49: =IF(ISBLANK(H47),"0",H47*H48) -> 0 | I49: =IF(ISBLANK(I47),"0",I47*I48) -> 0 | J49: =IF(ISBLANK(J47),"0",J47*J48) -> 0 | K49: =IF(ISBLANK(K47),"0",K47*K48) -> 0 | L49: =IF(ISBLANK(L47),"0",L47*L48) -> 0
A50: =A49 -> Jean | B50: =D50 -> MATCH | D50: MATCH | E50: RPE | F50: =IFERROR(INDEX(Données!$A:$F,MATCH($A50&$B50&F$2,Données!$A:$A,0),MATCH($E50,Données!$A$1:$F$1,0)),0) -> 0 | G50: =IFERROR(INDEX(Données!$A:$F,MATCH($A50&$B50&G$2,Données!$A:$A,0),MATCH($E50,Données!$A$1:$F$1,0)),0) -> 0 | H50: =IFERROR(INDEX(Données!$A:$F,MATCH($A50&$B50&H$2,Données!$A:$A,0),MATCH($E50,Données!$A$1:$F$1,0)),0) -> 0 | I50: =IFERROR(INDEX(Données!$A:$F,MATCH($A50&$B50&I$2,Données!$A:$A,0),MATCH($E50,Données!$A$1:$F$1,0)),0) -> 0 | J50: =IFERROR(INDEX(Données!$A:$F,MATCH($A50&$B50&J$2,Données!$A:$A,0),MATCH($E50,Données!$A$1:$F$1,0)),0) -> 0 | K50: =IFERROR(INDEX(Données!$A:$F,MATCH($A50&$B50&K$2,Données!$A:$A,0),MATCH($E50,Données!$A$1:$F$1,0)),0) -> 0 | L50: =IFERROR(INDEX(Données!$A:$F,MATCH($A50&$B50&L$2,Données!$A:$A,0),MATCH($E50,Données!$A$1:$F$1,0)),0) -> 0
A51: =A50 -> Jean | B51: =B50 -> MATCH | E51: Temps | F51: =IFERROR(INDEX(Données!$A:$F,MATCH($A51&$B51&F$2,Données!$A:$A,0),MATCH($E51,Données!$A$1:$F$1,0)),0) -> 0 | G51: =IFERROR(INDEX(Données!$A:$F,MATCH($A51&$B51&G$2,Données!$A:$A,0),MATCH($E51,Données!$A$1:$F$1,0)),0) -> 0 | H51: =IFERROR(INDEX(Données!$A:$F,MATCH($A51&$B51&H$2,Données!$A:$A,0),MATCH($E51,Données!$A$1:$F$1,0)),0) -> 0 | I51: =IFERROR(INDEX(Données!$A:$F,MATCH($A51&$B51&I$2,Données!$A:$A,0),MATCH($E51,Données!$A$1:$F$1,0)),0) -> 0 | J51: =IFERROR(INDEX(Données!$A:$F,MATCH($A51&$B51&J$2,Données!$A:$A,0),MATCH($E51,Données!$A$1:$F$1,0)),0) -> 0 | K51: =IFERROR(INDEX(Données!$A:$F,MATCH($A51&$B51&K$2,Données!$A:$A,0),MATCH($E51,Données!$A$1:$F$1,0)),0) -> 0 | L51: =IFERROR(INDEX(Données!$A:$F,MATCH($A51&$B51&L$2,Données!$A:$A,0),MATCH($E51,Données!$A$1:$F$1,0)),0) -> 0
A52: =A51 -> Jean | B52: =B51 -> MATCH | E52: Charge | F52: =IF(ISBLANK(F50),"0",F50*F51) -> 0 | G52: =IF(ISBLANK(G50),"0",G50*G51) -> 0 | H52: =IF(ISBLANK(H50),"0",H50*H51) -> 0 | I52: =IF(ISBLANK(I50),"0",I50*I51) -> 0 | J52: =IF(ISBLANK(J50),"0",J50*J51) -> 0 | K52: =IF(ISBLANK(K50),"0",K50*K51) -> 0 | L52: =IF(ISBLANK(L50),"0",L50*L51) -> 0
D53: TYPE
A54: =C54 -> MAX | B54: =D54 -> MUSCU | C54: MAX | D54: MUSCU | E54: RPE | F54: =IFERROR(INDEX(Données!$A:$F,MATCH($A54&$B54&F$2,Données!$A:$A,0),MATCH($E54,Données!$A$1:$F$1,0)),0) -> 0 | G54: =IFERROR(INDEX(Données!$A:$F,MATCH($A54&$B54&G$2,Données!$A:$A,0),MATCH($E54,Données!$A$1:$F$1,0)),0) -> 0 | H54: =IFERROR(INDEX(Données!$A:$F,MATCH($A54&$B54&H$2,Données!$A:$A,0),MATCH($E54,Données!$A$1:$F$1,0)),0) -> 0 | I54: =IFERROR(INDEX(Données!$A:$F,MATCH($A54&$B54&I$2,Données!$A:$A,0),MATCH($E54,Données!$A$1:$F$1,0)),0) -> 0 | J54: =IFERROR(INDEX(Données!$A:$F,MATCH($A54&$B54&J$2,Données!$A:$A,0),MATCH($E54,Données!$A$1:$F$1,0)),0) -> 0 | K54: =IFERROR(INDEX(Données!$A:$F,MATCH($A54&$B54&K$2,Données!$A:$A,0),MATCH($E54,Données!$A$1:$F$1,0)),0) -> 0 | L54: =IFERROR(INDEX(Données!$A:$F,MATCH($A54&$B54&L$2,Données!$A:$A,0),MATCH($E54,Données!$A$1:$F$1,0)),0) -> 0
A55: =A54 -> MAX | B55: =B54 -> MUSCU | E55: Temps | F55: =IFERROR(INDEX(Données!$A:$F,MATCH($A55&$B55&F$2,Données!$A:$A,0),MATCH($E55,Données!$A$1:$F$1,0)),0) -> 0 | G55: =IFERROR(INDEX(Données!$A:$F,MATCH($A55&$B55&G$2,Données!$A:$A,0),MATCH($E55,Données!$A$1:$F$1,0)),0) -> 0 | H55: =IFERROR(INDEX(Données!$A:$F,MATCH($A55&$B55&H$2,Données!$A:$A,0),MATCH($E55,Données!$A$1:$F$1,0)),0) -> 0 | I55: =IFERROR(INDEX(Données!$A:$F,MATCH($A55&$B55&I$2,Données!$A:$A,0),MATCH($E55,Données!$A$1:$F$1,0)),0) -> 0 | J55: =IFERROR(INDEX(Données!$A:$F,MATCH($A55&$B55&J$2,Données!$A:$A,0),MATCH($E55,Données!$A$1:$F$1,0)),0) -> 0 | K55: =IFERROR(INDEX(Données!$A:$F,MATCH($A55&$B55&K$2,Données!$A:$A,0),MATCH($E55,Données!$A$1:$F$1,0)),0) -> 0 | L55: =IFERROR(INDEX(Données!$A:$F,MATCH($A55&$B55&L$2,Données!$A:$A,0),MATCH($E55,Données!$A$1:$F$1,0)),0) -> 0
A56: =A55 -> MAX | B56: =B55 -> MUSCU | E56: Charge | F56: =IF(ISBLANK(F54),"0",F54*F55) -> 0 | G56: =IF(ISBLANK(G54),"0",G54*G55) -> 0 | H56: =IF(ISBLANK(H54),"0",H54*H55) -> 0 | I56: =IF(ISBLANK(I54),"0",I54*I55) -> 0 | J56: =IF(ISBLANK(J54),"0",J54*J55) -> 0 | K56: =IF(ISBLANK(K54),"0",K54*K55) -> 0 | L56: =IF(ISBLANK(L54),"0",L54*L55) -> 0
A57: =A56 -> MAX | B57: =D57 -> PREVENTION | D57: PREVENTION | E57: RPE | F57: =IFERROR(INDEX(Données!$A:$F,MATCH($A57&$B57&F$2,Données!$A:$A,0),MATCH($E57,Données!$A$1:$F$1,0)),0) -> 0 | G57: =IFERROR(INDEX(Données!$A:$F,MATCH($A57&$B57&G$2,Données!$A:$A,0),MATCH($E57,Données!$A$1:$F$1,0)),0) -> 0 | H57: =IFERROR(INDEX(Données!$A:$F,MATCH($A57&$B57&H$2,Données!$A:$A,0),MATCH($E57,Données!$A$1:$F$1,0)),0) -> 0 | I57: =IFERROR(INDEX(Données!$A:$F,MATCH($A57&$B57&I$2,Données!$A:$A,0),MATCH($E57,Données!$A$1:$F$1,0)),0) -> 0 | J57: =IFERROR(INDEX(Données!$A:$F,MATCH($A57&$B57&J$2,Données!$A:$A,0),MATCH($E57,Données!$A$1:$F$1,0)),0) -> 0 | K57: =IFERROR(INDEX(Données!$A:$F,MATCH($A57&$B57&K$2,Données!$A:$A,0),MATCH($E57,Données!$A$1:$F$1,0)),0) -> 0 | L57: =IFERROR(INDEX(Données!$A:$F,MATCH($A57&$B57&L$2,Données!$A:$A,0),MATCH($E57,Données!$A$1:$F$1,0)),0) -> 0
A58: =A57 -> MAX | B58: =B57 -> PREVENTION | E58: Temps | F58: =IFERROR(INDEX(Données!$A:$F,MATCH($A58&$B58&F$2,Données!$A:$A,0),MATCH($E58,Données!$A$1:$F$1,0)),0) -> 0 | G58: =IFERROR(INDEX(Données!$A:$F,MATCH($A58&$B58&G$2,Données!$A:$A,0),MATCH($E58,Données!$A$1:$F$1,0)),0) -> 0 | H58: =IFERROR(INDEX(Données!$A:$F,MATCH($A58&$B58&H$2,Données!$A:$A,0),MATCH($E58,Données!$A$1:$F$1,0)),0) -> 0 | I58: =IFERROR(INDEX(Données!$A:$F,MATCH($A58&$B58&I$2,Données!$A:$A,0),MATCH($E58,Données!$A$1:$F$1,0)),0) -> 0 | J58: =IFERROR(INDEX(Données!$A:$F,MATCH($A58&$B58&J$2,Données!$A:$A,0),MATCH($E58,Données!$A$1:$F$1,0)),0) -> 0 | K58: =IFERROR(INDEX(Données!$A:$F,MATCH($A58&$B58&K$2,Données!$A:$A,0),MATCH($E58,Données!$A$1:$F$1,0)),0) -> 0 | L58: =IFERROR(INDEX(Données!$A:$F,MATCH($A58&$B58&L$2,Données!$A:$A,0),MATCH($E58,Données!$A$1:$F$1,0)),0) -> 0
A59: =A58 -> MAX | B59: =B58 -> PREVENTION | E59: Charge | F59: =IF(ISBLANK(F57),"0",F57*F58) -> 0 | G59: =IF(ISBLANK(G57),"0",G57*G58) -> 0 | H59: =IF(ISBLANK(H57),"0",H57*H58) -> 0 | I59: =IF(ISBLANK(I57),"0",I57*I58) -> 0 | J59: =IF(ISBLANK(J57),"0",J57*J58) -> 0 | K59: =IF(ISBLANK(K57),"0",K57*K58) -> 0 | L59: =IF(ISBLANK(L57),"0",L57*L58) -> 0
A60: =A59 -> MAX | B60: =D60 -> FOOT Spé | D60: FOOT Spé | E60: RPE | F60: =IFERROR(INDEX(Données!$A:$F,MATCH($A60&$B60&F$2,Données!$A:$A,0),MATCH($E60,Données!$A$1:$F$1,0)),0) -> 0 | G60: =IFERROR(INDEX(Données!$A:$F,MATCH($A60&$B60&G$2,Données!$A:$A,0),MATCH($E60,Données!$A$1:$F$1,0)),0) -> 0 | H60: =IFERROR(INDEX(Données!$A:$F,MATCH($A60&$B60&H$2,Données!$A:$A,0),MATCH($E60,Données!$A$1:$F$1,0)),0) -> 0 | I60: =IFERROR(INDEX(Données!$A:$F,MATCH($A60&$B60&I$2,Données!$A:$A,0),MATCH($E60,Données!$A$1:$F$1,0)),0) -> 0 | J60: =IFERROR(INDEX(Données!$A:$F,MATCH($A60&$B60&J$2,Données!$A:$A,0),MATCH($E60,Données!$A$1:$F$1,0)),0) -> 0 | K60: =IFERROR(INDEX(Données!$A:$F,MATCH($A60&$B60&K$2,Données!$A:$A,0),MATCH($E60,Données!$A$1:$F$1,0)),0) -> 0 | L60: =IFERROR(INDEX(Données!$A:$F,MATCH($A60&$B60&L$2,Données!$A:$A,0),MATCH($E60,Données!$A$1:$F$1,0)),0) -> 0
A61: =A60 -> MAX | B61: =B60 -> FOOT Spé | E61: Temps | F61: =IFERROR(INDEX(Données!$A:$F,MATCH($A61&$B61&F$2,Données!$A:$A,0),MATCH($E61,Données!$A$1:$F$1,0)),0) -> 0 | G61: =IFERROR(INDEX(Données!$A:$F,MATCH($A61&$B61&G$2,Données!$A:$A,0),MATCH($E61,Données!$A$1:$F$1,0)),0) -> 0 | H61: =IFERROR(INDEX(Données!$A:$F,MATCH($A61&$B61&H$2,Données!$A:$A,0),MATCH($E61,Données!$A$1:$F$1,0)),0) -> 0 | I61: =IFERROR(INDEX(Données!$A:$F,MATCH($A61&$B61&I$2,Données!$A:$A,0),MATCH($E61,Données!$A$1:$F$1,0)),0) -> 0 | J61: =IFERROR(INDEX(Données!$A:$F,MATCH($A61&$B61&J$2,Données!$A:$A,0),MATCH($E61,Données!$A$1:$F$1,0)),0) -> 0 | K61: =IFERROR(INDEX(Données!$A:$F,MATCH($A61&$B61&K$2,Données!$A:$A,0),MATCH($E61,Données!$A$1:$F$1,0)),0) -> 0 | L61: =IFERROR(INDEX(Données!$A:$F,MATCH($A61&$B61&L$2,Données!$A:$A,0),MATCH($E61,Données!$A$1:$F$1,0)),0) -> 0
A62: =A61 -> MAX | B62: =B61 -> FOOT Spé | E62: Charge | F62: =IF(ISBLANK(F60),"0",F60*F61) -> 0 | G62: =IF(ISBLANK(G60),"0",G60*G61) -> 0 | H62: =IF(ISBLANK(H60),"0",H60*H61) -> 0 | I62: =IF(ISBLANK(I60),"0",I60*I61) -> 0 | J62: =IF(ISBLANK(J60),"0",J60*J61) -> 0 | K62: =IF(ISBLANK(K60),"0",K60*K61) -> 0 | L62: =IF(ISBLANK(L60),"0",L60*L61) -> 0
A63: =A62 -> MAX | B63: =D63 -> FOOT 6x6 | D63: FOOT 6x6 | E63: RPE | F63: =IFERROR(INDEX(Données!$A:$F,MATCH($A63&$B63&F$2,Données!$A:$A,0),MATCH($E63,Données!$A$1:$F$1,0)),0) -> 0 | G63: =IFERROR(INDEX(Données!$A:$F,MATCH($A63&$B63&G$2,Données!$A:$A,0),MATCH($E63,Données!$A$1:$F$1,0)),0) -> 0 | H63: =IFERROR(INDEX(Données!$A:$F,MATCH($A63&$B63&H$2,Données!$A:$A,0),MATCH($E63,Données!$A$1:$F$1,0)),0) -> 0 | I63: =IFERROR(INDEX(Données!$A:$F,MATCH($A63&$B63&I$2,Données!$A:$A,0),MATCH($E63,Données!$A$1:$F$1,0)),0) -> 0 | J63: =IFERROR(INDEX(Données!$A:$F,MATCH($A63&$B63&J$2,Données!$A:$A,0),MATCH($E63,Données!$A$1:$F$1,0)),0) -> 0 | K63: =IFERROR(INDEX(Données!$A:$F,MATCH($A63&$B63&K$2,Données!$A:$A,0),MATCH($E63,Données!$A$1:$F$1,0)),0) -> 0 | L63: =IFERROR(INDEX(Données!$A:$F,MATCH($A63&$B63&L$2,Données!$A:$A,0),MATCH($E63,Données!$A$1:$F$1,0)),0) -> 0
A64: =A63 -> MAX | B64: =B63 -> FOOT 6x6 | E64: Temps | F64: =IFERROR(INDEX(Données!$A:$F,MATCH($A64&$B64&F$2,Données!$A:$A,0),MATCH($E64,Données!$A$1:$F$1,0)),0) -> 0 | G64: =IFERROR(INDEX(Données!$A:$F,MATCH($A64&$B64&G$2,Données!$A:$A,0),MATCH($E64,Données!$A$1:$F$1,0)),0) -> 0 | H64: =IFERROR(INDEX(Données!$A:$F,MATCH($A64&$B64&H$2,Données!$A:$A,0),MATCH($E64,Données!$A$1:$F$1,0)),0) -> 0 | I64: =IFERROR(INDEX(Données!$A:$F,MATCH($A64&$B64&I$2,Données!$A:$A,0),MATCH($E64,Données!$A$1:$F$1,0)),0) -> 0 | J64: =IFERROR(INDEX(Données!$A:$F,MATCH($A64&$B64&J$2,Données!$A:$A,0),MATCH($E64,Données!$A$1:$F$1,0)),0) -> 0 | K64: =IFERROR(INDEX(Données!$A:$F,MATCH($A64&$B64&K$2,Données!$A:$A,0),MATCH($E64,Données!$A$1:$F$1,0)),0) -> 0 | L64: =IFERROR(INDEX(Données!$A:$F,MATCH($A64&$B64&L$2,Données!$A:$A,0),MATCH($E64,Données!$A$1:$F$1,0)),0) -> 0
A65: =A64 -> MAX | B65: =B64 -> FOOT 6x6 | E65: Charge | F65: =IF(ISBLANK(F63),"0",F63*F64) -> 0 | G65: =IF(ISBLANK(G63),"0",G63*G64) -> 0 | H65: =IF(ISBLANK(H63),"0",H63*H64) -> 0 | I65: =IF(ISBLANK(I63),"0",I63*I64) -> 0 | J65: =IF(ISBLANK(J63),"0",J63*J64) -> 0 | K65: =IF(ISBLANK(K63),"0",K63*K64) -> 0 | L65: =IF(ISBLANK(L63),"0",L63*L64) -> 0
A66: =A65 -> MAX | B66: =D66 -> MATCH | D66: MATCH | E66: RPE | F66: =IFERROR(INDEX(Données!$A:$F,MATCH($A66&$B66&F$2,Données!$A:$A,0),MATCH($E66,Données!$A$1:$F$1,0)),0) -> 0 | G66: =IFERROR(INDEX(Données!$A:$F,MATCH($A66&$B66&G$2,Données!$A:$A,0),MATCH($E66,Données!$A$1:$F$1,0)),0) -> 0 | H66: =IFERROR(INDEX(Données!$A:$F,MATCH($A66&$B66&H$2,Données!$A:$A,0),MATCH($E66,Données!$A$1:$F$1,0)),0) -> 0 | I66: =IFERROR(INDEX(Données!$A:$F,MATCH($A66&$B66&I$2,Données!$A:$A,0),MATCH($E66,Données!$A$1:$F$1,0)),0) -> 0 | J66: =IFERROR(INDEX(Données!$A:$F,MATCH($A66&$B66&J$2,Données!$A:$A,0),MATCH($E66,Données!$A$1:$F$1,0)),0) -> 0 | K66: =IFERROR(INDEX(Données!$A:$F,MATCH($A66&$B66&K$2,Données!$A:$A,0),MATCH($E66,Données!$A$1:$F$1,0)),0) -> 0 | L66: =IFERROR(INDEX(Données!$A:$F,MATCH($A66&$B66&L$2,Données!$A:$A,0),MATCH($E66,Données!$A$1:$F$1,0)),0) -> 0
A67: =A66 -> MAX | B67: =B66 -> MATCH | E67: Temps | F67: =IFERROR(INDEX(Données!$A:$F,MATCH($A67&$B67&F$2,Données!$A:$A,0),MATCH($E67,Données!$A$1:$F$1,0)),0) -> 0 | G67: =IFERROR(INDEX(Données!$A:$F,MATCH($A67&$B67&G$2,Données!$A:$A,0),MATCH($E67,Données!$A$1:$F$1,0)),0) -> 0 | H67: =IFERROR(INDEX(Données!$A:$F,MATCH($A67&$B67&H$2,Données!$A:$A,0),MATCH($E67,Données!$A$1:$F$1,0)),0) -> 0 | I67: =IFERROR(INDEX(Données!$A:$F,MATCH($A67&$B67&I$2,Données!$A:$A,0),MATCH($E67,Données!$A$1:$F$1,0)),0) -> 0 | J67: =IFERROR(INDEX(Données!$A:$F,MATCH($A67&$B67&J$2,Données!$A:$A,0),MATCH($E67,Données!$A$1:$F$1,0)),0) -> 0 | K67: =IFERROR(INDEX(Données!$A:$F,MATCH($A67&$B67&K$2,Données!$A:$A,0),MATCH($E67,Données!$A$1:$F$1,0)),0) -> 0 | L67: =IFERROR(INDEX(Données!$A:$F,MATCH($A67&$B67&L$2,Données!$A:$A,0),MATCH($E67,Données!$A$1:$F$1,0)),0) -> 0
A68: =A67 -> MAX | B68: =B67 -> MATCH | E68: Charge | F68: =IF(ISBLANK(F66),"0",F66*F67) -> 0 | G68: =IF(ISBLANK(G66),"0",G66*G67) -> 0 | H68: =IF(ISBLANK(H66),"0",H66*H67) -> 0 | I68: =IF(ISBLANK(I66),"0",I66*I67) -> 0 | J68: =IF(ISBLANK(J66),"0",J66*J67) -> 0 | K68: =IF(ISBLANK(K66),"0",K66*K67) -> 0 | L68: =IF(ISBLANK(L66),"0",L66*L67) -> 0
D69: TYPE
A70: =C70 -> LUCAS | B70: =D70 -> MUSCU | C70: LUCAS | D70: MUSCU | E70: RPE | F70: =IFERROR(INDEX(Données!$A:$F,MATCH($A70&$B70&F$2,Données!$A:$A,0),MATCH($E70,Données!$A$1:$F$1,0)),0) -> 0 | G70: =IFERROR(INDEX(Données!$A:$F,MATCH($A70&$B70&G$2,Données!$A:$A,0),MATCH($E70,Données!$A$1:$F$1,0)),0) -> 0 | H70: =IFERROR(INDEX(Données!$A:$F,MATCH($A70&$B70&H$2,Données!$A:$A,0),MATCH($E70,Données!$A$1:$F$1,0)),0) -> 0 | I70: =IFERROR(INDEX(Données!$A:$F,MATCH($A70&$B70&I$2,Données!$A:$A,0),MATCH($E70,Données!$A$1:$F$1,0)),0) -> 0 | J70: =IFERROR(INDEX(Données!$A:$F,MATCH($A70&$B70&J$2,Données!$A:$A,0),MATCH($E70,Données!$A$1:$F$1,0)),0) -> 0 | K70: =IFERROR(INDEX(Données!$A:$F,MATCH($A70&$B70&K$2,Données!$A:$A,0),MATCH($E70,Données!$A$1:$F$1,0)),0) -> 0 | L70: =IFERROR(INDEX(Données!$A:$F,MATCH($A70&$B70&L$2,Données!$A:$A,0),MATCH($E70,Données!$A$1:$F$1,0)),0) -> 0
A71: =A70 -> LUCAS | B71: =B70 -> MUSCU | E71: Temps | F71: =IFERROR(INDEX(Données!$A:$F,MATCH($A71&$B71&F$2,Données!$A:$A,0),MATCH($E71,Données!$A$1:$F$1,0)),0) -> 0 | G71: =IFERROR(INDEX(Données!$A:$F,MATCH($A71&$B71&G$2,Données!$A:$A,0),MATCH($E71,Données!$A$1:$F$1,0)),0) -> 0 | H71: =IFERROR(INDEX(Données!$A:$F,MATCH($A71&$B71&H$2,Données!$A:$A,0),MATCH($E71,Données!$A$1:$F$1,0)),0) -> 0 | I71: =IFERROR(INDEX(Données!$A:$F,MATCH($A71&$B71&I$2,Données!$A:$A,0),MATCH($E71,Données!$A$1:$F$1,0)),0) -> 0 | J71: =IFERROR(INDEX(Données!$A:$F,MATCH($A71&$B71&J$2,Données!$A:$A,0),MATCH($E71,Données!$A$1:$F$1,0)),0) -> 0 | K71: =IFERROR(INDEX(Données!$A:$F,MATCH($A71&$B71&K$2,Données!$A:$A,0),MATCH($E71,Données!$A$1:$F$1,0)),0) -> 0 | L71: =IFERROR(INDEX(Données!$A:$F,MATCH($A71&$B71&L$2,Données!$A:$A,0),MATCH($E71,Données!$A$1:$F$1,0)),0) -> 0
A72: =A71 -> LUCAS | B72: =B71 -> MUSCU | E72: Charge | F72: =IF(ISBLANK(F70),"0",F70*F71) -> 0 | G72: =IF(ISBLANK(G70),"0",G70*G71) -> 0 | H72: =IF(ISBLANK(H70),"0",H70*H71) -> 0 | I72: =IF(ISBLANK(I70),"0",I70*I71) -> 0 | J72: =IF(ISBLANK(J70),"0",J70*J71) -> 0 | K72: =IF(ISBLANK(K70),"0",K70*K71) -> 0 | L72: =IF(ISBLANK(L70),"0",L70*L71) -> 0
A73: =A72 -> LUCAS | B73: =D73 -> PREVENTION | D73: PREVENTION | E73: RPE | F73: =IFERROR(INDEX(Données!$A:$F,MATCH($A73&$B73&F$2,Données!$A:$A,0),MATCH($E73,Données!$A$1:$F$1,0)),0) -> 0 | G73: =IFERROR(INDEX(Données!$A:$F,MATCH($A73&$B73&G$2,Données!$A:$A,0),MATCH($E73,Données!$A$1:$F$1,0)),0) -> 0 | H73: =IFERROR(INDEX(Données!$A:$F,MATCH($A73&$B73&H$2,Données!$A:$A,0),MATCH($E73,Données!$A$1:$F$1,0)),0) -> 0 | I73: =IFERROR(INDEX(Données!$A:$F,MATCH($A73&$B73&I$2,Données!$A:$A,0),MATCH($E73,Données!$A$1:$F$1,0)),0) -> 0 | J73: =IFERROR(INDEX(Données!$A:$F,MATCH($A73&$B73&J$2,Données!$A:$A,0),MATCH($E73,Données!$A$1:$F$1,0)),0) -> 0 | K73: =IFERROR(INDEX(Données!$A:$F,MATCH($A73&$B73&K$2,Données!$A:$A,0),MATCH($E73,Données!$A$1:$F$1,0)),0) -> 0 | L73: =IFERROR(INDEX(Données!$A:$F,MATCH($A73&$B73&L$2,Données!$A:$A,0),MATCH($E73,Données!$A$1:$F$1,0)),0) -> 0
A74: =A73 -> LUCAS | B74: =B73 -> PREVENTION | E74: Temps | F74: =IFERROR(INDEX(Données!$A:$F,MATCH($A74&$B74&F$2,Données!$A:$A,0),MATCH($E74,Données!$A$1:$F$1,0)),0) -> 0 | G74: =IFERROR(INDEX(Données!$A:$F,MATCH($A74&$B74&G$2,Données!$A:$A,0),MATCH($E74,Données!$A$1:$F$1,0)),0) -> 0 | H74: =IFERROR(INDEX(Données!$A:$F,MATCH($A74&$B74&H$2,Données!$A:$A,0),MATCH($E74,Données!$A$1:$F$1,0)),0) -> 0 | I74: =IFERROR(INDEX(Données!$A:$F,MATCH($A74&$B74&I$2,Données!$A:$A,0),MATCH($E74,Données!$A$1:$F$1,0)),0) -> 0 | J74: =IFERROR(INDEX(Données!$A:$F,MATCH($A74&$B74&J$2,Données!$A:$A,0),MATCH($E74,Données!$A$1:$F$1,0)),0) -> 0 | K74: =IFERROR(INDEX(Données!$A:$F,MATCH($A74&$B74&K$2,Données!$A:$A,0),MATCH($E74,Données!$A$1:$F$1,0)),0) -> 0 | L74: =IFERROR(INDEX(Données!$A:$F,MATCH($A74&$B74&L$2,Données!$A:$A,0),MATCH($E74,Données!$A$1:$F$1,0)),0) -> 0
A75: =A74 -> LUCAS | B75: =B74 -> PREVENTION | E75: Charge | F75: =IF(ISBLANK(F73),"0",F73*F74) -> 0 | G75: =IF(ISBLANK(G73),"0",G73*G74) -> 0 | H75: =IF(ISBLANK(H73),"0",H73*H74) -> 0 | I75: =IF(ISBLANK(I73),"0",I73*I74) -> 0 | J75: =IF(ISBLANK(J73),"0",J73*J74) -> 0 | K75: =IF(ISBLANK(K73),"0",K73*K74) -> 0 | L75: =IF(ISBLANK(L73),"0",L73*L74) -> 0
A76: =A75 -> LUCAS | B76: =D76 -> FOOT Spé | D76: FOOT Spé | E76: RPE | F76: =IFERROR(INDEX(Données!$A:$F,MATCH($A76&$B76&F$2,Données!$A:$A,0),MATCH($E76,Données!$A$1:$F$1,0)),0) -> 0 | G76: =IFERROR(INDEX(Données!$A:$F,MATCH($A76&$B76&G$2,Données!$A:$A,0),MATCH($E76,Données!$A$1:$F$1,0)),0) -> 0 | H76: =IFERROR(INDEX(Données!$A:$F,MATCH($A76&$B76&H$2,Données!$A:$A,0),MATCH($E76,Données!$A$1:$F$1,0)),0) -> 0 | I76: =IFERROR(INDEX(Données!$A:$F,MATCH($A76&$B76&I$2,Données!$A:$A,0),MATCH($E76,Données!$A$1:$F$1,0)),0) -> 0 | J76: =IFERROR(INDEX(Données!$A:$F,MATCH($A76&$B76&J$2,Données!$A:$A,0),MATCH($E76,Données!$A$1:$F$1,0)),0) -> 0 | K76: =IFERROR(INDEX(Données!$A:$F,MATCH($A76&$B76&K$2,Données!$A:$A,0),MATCH($E76,Données!$A$1:$F$1,0)),0) -> 0 | L76: =IFERROR(INDEX(Données!$A:$F,MATCH($A76&$B76&L$2,Données!$A:$A,0),MATCH($E76,Données!$A$1:$F$1,0)),0) -> 0
A77: =A76 -> LUCAS | B77: =B76 -> FOOT Spé | E77: Temps | F77: =IFERROR(INDEX(Données!$A:$F,MATCH($A77&$B77&F$2,Données!$A:$A,0),MATCH($E77,Données!$A$1:$F$1,0)),0) -> 0 | G77: =IFERROR(INDEX(Données!$A:$F,MATCH($A77&$B77&G$2,Données!$A:$A,0),MATCH($E77,Données!$A$1:$F$1,0)),0) -> 0 | H77: =IFERROR(INDEX(Données!$A:$F,MATCH($A77&$B77&H$2,Données!$A:$A,0),MATCH($E77,Données!$A$1:$F$1,0)),0) -> 0 | I77: =IFERROR(INDEX(Données!$A:$F,MATCH($A77&$B77&I$2,Données!$A:$A,0),MATCH($E77,Données!$A$1:$F$1,0)),0) -> 0 | J77: =IFERROR(INDEX(Données!$A:$F,MATCH($A77&$B77&J$2,Données!$A:$A,0),MATCH($E77,Données!$A$1:$F$1,0)),0) -> 0 | K77: =IFERROR(INDEX(Données!$A:$F,MATCH($A77&$B77&K$2,Données!$A:$A,0),MATCH($E77,Données!$A$1:$F$1,0)),0) -> 0 | L77: =IFERROR(INDEX(Données!$A:$F,MATCH($A77&$B77&L$2,Données!$A:$A,0),MATCH($E77,Données!$A$1:$F$1,0)),0) -> 0
A78: =A77 -> LUCAS | B78: =B77 -> FOOT Spé | E78: Charge | F78: =IF(ISBLANK(F76),"0",F76*F77) -> 0 | G78: =IF(ISBLANK(G76),"0",G76*G77) -> 0 | H78: =IF(ISBLANK(H76),"0",H76*H77) -> 0 | I78: =IF(ISBLANK(I76),"0",I76*I77) -> 0 | J78: =IF(ISBLANK(J76),"0",J76*J77) -> 0 | K78: =IF(ISBLANK(K76),"0",K76*K77) -> 0 | L78: =IF(ISBLANK(L76),"0",L76*L77) -> 0
A79: =A78 -> LUCAS | B79: =D79 -> FOOT 6x6 | D79: FOOT 6x6 | E79: RPE | F79: =IFERROR(INDEX(Données!$A:$F,MATCH($A79&$B79&F$2,Données!$A:$A,0),MATCH($E79,Données!$A$1:$F$1,0)),0) -> 0 | G79: =IFERROR(INDEX(Données!$A:$F,MATCH($A79&$B79&G$2,Données!$A:$A,0),MATCH($E79,Données!$A$1:$F$1,0)),0) -> 0 | H79: =IFERROR(INDEX(Données!$A:$F,MATCH($A79&$B79&H$2,Données!$A:$A,0),MATCH($E79,Données!$A$1:$F$1,0)),0) -> 0 | I79: =IFERROR(INDEX(Données!$A:$F,MATCH($A79&$B79&I$2,Données!$A:$A,0),MATCH($E79,Données!$A$1:$F$1,0)),0) -> 0 | J79: =IFERROR(INDEX(Données!$A:$F,MATCH($A79&$B79&J$2,Données!$A:$A,0),MATCH($E79,Données!$A$1:$F$1,0)),0) -> 0 | K79: =IFERROR(INDEX(Données!$A:$F,MATCH($A79&$B79&K$2,Données!$A:$A,0),MATCH($E79,Données!$A$1:$F$1,0)),0) -> 0 | L79: =IFERROR(INDEX(Données!$A:$F,MATCH($A79&$B79&L$2,Données!$A:$A,0),MATCH($E79,Données!$A$1:$F$1,0)),0) -> 0
A80: =A79 -> LUCAS | B80: =B79 -> FOOT 6x6 | E80: Temps | F80: =IFERROR(INDEX(Données!$A:$F,MATCH($A80&$B80&F$2,Données!$A:$A,0),MATCH($E80,Données!$A$1:$F$1,0)),0) -> 0 | G80: =IFERROR(INDEX(Données!$A:$F,MATCH($A80&$B80&G$2,Données!$A:$A,0),MATCH($E80,Données!$A$1:$F$1,0)),0) -> 0 | H80: =IFERROR(INDEX(Données!$A:$F,MATCH($A80&$B80&H$2,Données!$A:$A,0),MATCH($E80,Données!$A$1:$F$1,0)),0) -> 0 | I80: =IFERROR(INDEX(Données!$A:$F,MATCH($A80&$B80&I$2,Données!$A:$A,0),MATCH($E80,Données!$A$1:$F$1,0)),0) -> 0 | J80: =IFERROR(INDEX(Données!$A:$F,MATCH($A80&$B80&J$2,Données!$A:$A,0),MATCH($E80,Données!$A$1:$F$1,0)),0) -> 0 | K80: =IFERROR(INDEX(Données!$A:$F,MATCH($A80&$B80&K$2,Données!$A:$A,0),MATCH($E80,Données!$A$1:$F$1,0)),0) -> 0 | L80: =IFERROR(INDEX(Données!$A:$F,MATCH($A80&$B80&L$2,Données!$A:$A,0),MATCH($E80,Données!$A$1:$F$1,0)),0) -> 0
A81: =A80 -> LUCAS | B81: =B80 -> FOOT 6x6 | E81: Charge | F81: =IF(ISBLANK(F79),"0",F79*F80) -> 0 | G81: =IF(ISBLANK(G79),"0",G79*G80) -> 0 | H81: =IF(ISBLANK(H79),"0",H79*H80) -> 0 | I81: =IF(ISBLANK(I79),"0",I79*I80) -> 0 | J81: =IF(ISBLANK(J79),"0",J79*J80) -> 0 | K81: =IF(ISBLANK(K79),"0",K79*K80) -> 0 | L81: =IF(ISBLANK(L79),"0",L79*L80) -> 0
A82: =A81 -> LUCAS | B82: =D82 -> MATCH | D82: MATCH | E82: RPE | F82: =IFERROR(INDEX(Données!$A:$F,MATCH($A82&$B82&F$2,Données!$A:$A,0),MATCH($E82,Données!$A$1:$F$1,0)),0) -> 0 | G82: =IFERROR(INDEX(Données!$A:$F,MATCH($A82&$B82&G$2,Données!$A:$A,0),MATCH($E82,Données!$A$1:$F$1,0)),0) -> 0 | H82: =IFERROR(INDEX(Données!$A:$F,MATCH($A82&$B82&H$2,Données!$A:$A,0),MATCH($E82,Données!$A$1:$F$1,0)),0) -> 0 | I82: =IFERROR(INDEX(Données!$A:$F,MATCH($A82&$B82&I$2,Données!$A:$A,0),MATCH($E82,Données!$A$1:$F$1,0)),0) -> 0 | J82: =IFERROR(INDEX(Données!$A:$F,MATCH($A82&$B82&J$2,Données!$A:$A,0),MATCH($E82,Données!$A$1:$F$1,0)),0) -> 0 | K82: =IFERROR(INDEX(Données!$A:$F,MATCH($A82&$B82&K$2,Données!$A:$A,0),MATCH($E82,Données!$A$1:$F$1,0)),0) -> 0 | L82: =IFERROR(INDEX(Données!$A:$F,MATCH($A82&$B82&L$2,Données!$A:$A,0),MATCH($E82,Données!$A$1:$F$1,0)),0) -> 0
A83: =A82 -> LUCAS | B83: =B82 -> MATCH | E83: Temps | F83: =IFERROR(INDEX(Données!$A:$F,MATCH($A83&$B83&F$2,Données!$A:$A,0),MATCH($E83,Données!$A$1:$F$1,0)),0) -> 0 | G83: =IFERROR(INDEX(Données!$A:$F,MATCH($A83&$B83&G$2,Données!$A:$A,0),MATCH($E83,Données!$A$1:$F$1,0)),0) -> 0 | H83: =IFERROR(INDEX(Données!$A:$F,MATCH($A83&$B83&H$2,Données!$A:$A,0),MATCH($E83,Données!$A$1:$F$1,0)),0) -> 0 | I83: =IFERROR(INDEX(Données!$A:$F,MATCH($A83&$B83&I$2,Données!$A:$A,0),MATCH($E83,Données!$A$1:$F$1,0)),0) -> 0 | J83: =IFERROR(INDEX(Données!$A:$F,MATCH($A83&$B83&J$2,Données!$A:$A,0),MATCH($E83,Données!$A$1:$F$1,0)),0) -> 0 | K83: =IFERROR(INDEX(Données!$A:$F,MATCH($A83&$B83&K$2,Données!$A:$A,0),MATCH($E83,Données!$A$1:$F$1,0)),0) -> 0 | L83: =IFERROR(INDEX(Données!$A:$F,MATCH($A83&$B83&L$2,Données!$A:$A,0),MATCH($E83,Données!$A$1:$F$1,0)),0) -> 0
A84: =A83 -> LUCAS | B84: =B83 -> MATCH | E84: Charge | F84: =IF(ISBLANK(F82),"0",F82*F83) -> 0 | G84: =IF(ISBLANK(G82),"0",G82*G83) -> 0 | H84: =IF(ISBLANK(H82),"0",H82*H83) -> 0 | I84: =IF(ISBLANK(I82),"0",I82*I83) -> 0 | J84: =IF(ISBLANK(J82),"0",J82*J83) -> 0 | K84: =IF(ISBLANK(K82),"0",K82*K83) -> 0 | L84: =IF(ISBLANK(L82),"0",L82*L83) -> 0

Sheet Liste
B2: Damien | D2: MUSCU
B3: Paul | D3: PREVENTION
B4: Jean | D4: FOOT Spé
B5: Max | D5: FOOT 5x5
B6: Lucas | D6: MATCH
