Workbook

Sheet Données
A1: Concat | B1: Date | C1: Joueurs | D1: TYPE | E1: RPE | F1: Temps
A2: =C2&D2&B2 -> DamienMUSCU45051 | B2: 45051 | C2: Damien | D2: MUSCU | E2: 6 | F2: 60
A3: =C3&D3&B3 -> DamienFOOT Spé45047 | B3: 45047 | C3: Damien | D3: FOOT Spé | E3: 3 | F3: 30
A4: =C4&D4&B4 -> MaxPREVENTION2 | B4: 2 | C4: Max | D4: PREVENTION | E4: 7 | F4: 120
A5: =C5&D5&B5 -> MaxPREVENTION1 | B5: 1 | C5: Max | D5: PREVENTION | E5: 3 | F5: 25
A6: =C6&D6&B6 -> JeanFOOT 5x51 | B6: 1 | C6: Jean | D6: FOOT 5x5 | E6: 5 | F6: 12
A7: =C7&D7&B7 -> DamienMATCH45051 | B7: 45051 | C7: Damien | D7: MATCH | E7: 3 | F7: 90
A8: =C8&D8&B8 -> MaxMATCH4 | B8: 4 | C8: Max | D8: MATCH | E8: 4 | F8: 100

Sheet BASE
F2: 45047 | G2: 45048 | H2: 45049 | I2: 45050 | J2: 45051 | K2: 45052 | L2: 45053
F3: L | G3: M | H3: M | I3: J | J3: V | K3: S | L3: D
D5: TYPE
A6: =C6 -> Damien | B6: =D6 -> MUSCU | C6: Damien | D6: MUSCU | E6: RPE | F6: =IFERROR(INDEX(Données!$A:$F,MATCH($A6&$B6&F$2,Données!$A:$A,0),MATCH($E6,Données!$A$1:$F$1,0)),0) -> 0 | G6: =IFERROR(INDEX(Données!$A:$F,MATCH($A6&$B6&G$2,Données!$A:$A,0),MATCH($E6,Données!$A$1:$F$1,0)),0) -> 0 | H6: =IFERROR(INDEX(Données!$A:$F,MATCH($A6&$B6&H$2,Données!$A:$A,0),MATCH($E6,Données!$A$1:$F$1,0)),0) -> 0 | I6: =IFERROR(INDEX(Données!$A:$F,MATCH($A6&$B6&I$2,Données!$A:$A,0),MATCH($E6,Données!$A$1:$F$1,0)),0) -> 0 | J6: =IFERROR(INDEX(Données!$A:$F,MATCH($A6&$B6&J$2,Données!$A:$A,0),MATCH($E6,Données!$A$1:$F$1,0)),0) -> 6 | K6: =IFERROR(INDEX(Données!$A:$F,MATCH($A6&$B6&K$2,Données!$A:$A,0),MATCH($E6,Données!$A$1:$F$1,0)),0) -> 0 | L6: =IFERROR(INDEX(Données!$A:$F,MATCH($A6&$B6&L$2,Données!$A:$A,0),MATCH($E6,Données!$A$1:$F$1,0)),0) -> 0
A7: =A6 -> Damien | B7: =B6 -> MUSCU | E7: Temps | F7: =IFERROR(INDEX(Données!$A:$F,MATCH($A7&$B7&F$2,Données!$A:$A,0),MATCH($E7,Données!$A$1:$F$1,0)),0) -> 0 | G7: =IFERROR(INDEX(Données!$A:$F,MATCH($A7&$B7&G$2,Données!$A:$A,0),MATCH($E7,Données!$A$1:$F$1,0)),0) -> 0 | H7: =IFERROR(INDEX(Données!$A:$F,MATCH($A7&$B7&H$2,Données!$A:$A,0),MATCH($E7,Données!$A$1:$F$1,0)),0) -> 0 | I7: =IFERROR(INDEX(Données!$A:$F,MATCH($A7&$B7&I$2,Données!$A:$A,0),MATCH($E7,Données!$A$1:$F$1,0)),0) -> 0 | J7: =IFERROR(INDEX(Données!$A:$F,MATCH($A7&$B7&J$2,Données!$A:$A,0),MATCH($E7,Données!$A$1:$F$1,0)),0) -> 60 | K7: =IFERROR(INDEX(Données!$A:$F,MATCH($A7&$B7&K$2,Données!$A:$A,0),MATCH($E7,Données!$A$1:$F$1,0)),0) -> 0 | L7: =IFERROR(INDEX(Données!$A:$F,MATCH($A7&$B7&L$2,Données!$A:$A,0),MATCH($E7,Données!$A$1:$F$1,0)),0) -> 0
A8: =A7 -> Damien | B8: =B7 -> MUSCU | E8: Charge | F8: =IF(ISBLANK(F6),"0",F6*F7) -> 0 | G8: =IF(ISBLANK(G6),"0",G6*G7) -> 0 | H8: =IF(ISBLANK(H6),"0",H6*H7) -> 0 | I8: =IF(ISBLANK(I6),"0",I6*I7) -> 0 | J8: =IF(ISBLANK(J6),"0",J6*J7) -> 360 | K8: =IF(ISBLANK(K6),"0",K6*K7) -> 0 | L8: =IF(ISBLANK(L6),"0",L6*L7) -> 0
A9: =A8 -> Damien | B9: =D9 -> PREVENTION | D9: PREVENTION | E9: RPE | F9: =IFERROR(INDEX(Données!$A:$F,MATCH($A9&$B9&F$2,Données!$A:$A,0),MATCH($E9,Données!$A$1:$F$1,0)),0) -> 0 | G9: =IFERROR(INDEX(Données!$A:$F,MATCH($A9&$B9&G$2,Données!$A:$A,0),MATCH($E9,Données!$A$1:$F$1,0)),0) -> 0 | H9: =IFERROR(INDEX(Données!$A:$F,MATCH($A9&$B9&H$2,Données!$A:$A,0),MATCH($E9,Données!$A$1:$F$1,0)),0) -> 0 | I9: =IFERROR(INDEX(Données!$A:$F,MATCH($A9&$B9&I$2,Données!$A:$A,0),MATCH($E9,Données!$A$1:$F$1,0)),0) -> 0 | J9: =IFERROR(INDEX(Données!$A:$F,MATCH($A9&$B9&J$2,Données!$A:$A,0),MATCH($E9,Données!$A$1:$F$1,0)),0) -> 0 | K9: =IFERROR(INDEX(Données!$A:$F,MATCH($A9&$B9&K$2,Données!$A:$A,0),MATCH($E9,Données!$A$1:$F$1,0)),0) -> 0 | L9: =IFERROR(INDEX(Données!$A:$F,MATCH($A9&$B9&L$2,Données!$A:$A,0),MATCH($E9,Données!$A$1:$F$1,0)),0) -> 0
A10: =A9 -> Damien | B10: =B9 -> PREVENTION | E10: Temps | F10: =IFERROR(INDEX(Données!$A:$F,MATCH($A10&$B10&F$2,Données!$A:$A,0),MATCH($E10,Données!$A$1:$F$1,0)),0) -> 0 | G10: =IFERROR(INDEX(Données!$A:$F,MATCH($A10&$B10&G$2,Données!$A:$A,0),MATCH($E10,Données!$A$1:$F$1,0)),0) -> 0 | H10: =IFERROR(INDEX(Données!$A:$F,MATCH($A10&$B10&H$2,Données!$A:$A,0),MATCH($E10,Données!$A$1:$F$1,0)),0) -> 0 | I10: =IFERROR(INDEX(Données!$A:$F,MATCH($A10&$B10&I$2,Données!$A:$A,0),MATCH($E10,Données!$A$1:$F$1,0)),0) -> 0 | J10: =IFERROR(INDEX(Données!$A:$F,MATCH($A10&$B10&J$2,Données!$A:$A,0),MATCH($E10,Données!$A$1:$F$1,0)),0) -> 0 | K10: =IFERROR(INDEX(Données!$A:$F,MATCH($A10&$B10&K$2,Données!$A:$A,0),MATCH($E10,Données!$A$1:$F$1,0)),0) -> 0 | L10: =IFERROR(INDEX(Données!$A:$F,MATCH($A10&$B10&L$2,Données!$A:$A,0),MATCH($E10,Données!$A$1:$F$1,0)),0) -> 0
A11: =A10 -> Damien | B11: =B10 -> PREVENTION | E11: Charge | F11: =IF(ISBLANK(F9),"0",F9*F10) -> 0 | G11: =IF(ISBLANK(G9),"0",G9*G10) -> 0 | H11: =IF(ISBLANK(H9),"0",H9*H10) -> 0 | I11: =IF(ISBLANK(I9),"0",I9*I10) -> 0 | J11: =IF(ISBLANK(J9),"0",J9*J10) -> 0 | K11: =IF(ISBLANK(K9),"0",K9*K10) -> 0 | L11: =IF(ISBLANK(L9),"0",L9*L10) -> 0
A12: =A11 -> Damien | B12: =D12 -> FOOT Spé | D12: FOOT Spé | E12: RPE | F12: =IFERROR(INDEX(Données!$A:$F,MATCH($A12&$B12&F$2,Données!$A:$A,0),MATCH($E12,Données!$A$1:$F$1,0)),0) -> 3 | G12: =IFERROR(INDEX(Données!$A:$F,MATCH($A12&$B12&G$2,Données!$A:$A,0),MATCH($E12,Données!$A$1:$F$1,0)),0) -> 0 | H12: =IFERROR(INDEX(Données!$A:$F,MATCH($A12&$B12&H$2,Données!$A:$A,0),MATCH($E12,Données!$A$1:$F$1,0)),0) -> 0 | I12: =IFERROR(INDEX(Données!$A:$F,MATCH($A12&$B12&I$2,Données!$A:$A,0),MATCH($E12,Données!$A$1:$F$1,0)),0) -> 0 | J12: =IFERROR(INDEX(Données!$A:$F,MATCH($A12&$B12&J$2,Données!$A:$A,0),MATCH($E12,Données!$A$1:$F$1,0)),0) -> 0 | K12: =IFERROR(INDEX(Données!$A:$F,MATCH($A12&$B12&K$2,Données!$A:$A,0),MATCH($E12,Données!$A$1:$F$1,0)),0) -> 0 | L12: =IFERROR(INDEX(Données!$A:$F,MATCH($A12&$B12&L$2,Données!$A:$A,0),MATCH($E12,Données!$A$1:$F$1,0)),0) -> 0
A13: =A12 -> Damien | B13: =B12 -> FOOT Spé | E13: Temps | F13: =IFERROR(INDEX(Données!$A:$F,MATCH($A13&$B13&F$2,Données!$A:$A,0),MATCH($E13,Données!$A$1:$F$1,0)),0) -> 30 | G13: =IFERROR(INDEX(Données!$A:$F,MATCH($A13&$B13&G$2,Données!$A:$A,0),MATCH($E13,Données!$A$1:$F$1,0)),0) -> 0 | H13: =IFERROR(INDEX(Données!$A:$F,MATCH($A13&$B13&H$2,Données!$A:$A,0),MATCH($E13,Données!$A$1:$F$1,0)),0) -> 0 | I13: =IFERROR(INDEX(Données!$A:$F,MATCH($A13&$B13&I$2,Données!$A:$A,0),MATCH($E13,Données!$A$1:$F$1,0)),0) -> 0 | J13: =IFERROR(INDEX(Données!$A:$F,MATCH($A13&$B13&J$2,Données!$A:$A,0),MATCH($E13,Données!$A$1:$F$1,0)),0) -> 0 | K13: =IFERROR(INDEX(Données!$A:$F,MATCH($A13&$B13&K$2,Données!$A:$A,0),MATCH($E13,Données!$A$1:$F$1,0)),0) -> 0 | L13: =IFERROR(INDEX(Données!$A:$F,MATCH($A13&$B13&L$2,Données!$A:$A,0),MATCH($E13,Données!$A$1:$F$1,0)),0) -> 0
A14: =A13 -> Damien | B14: =B13 -> FOOT Spé | E14: Charge | F14: =IF(ISBLANK(F12),"0",F12*F13) -> 90 | G14: =IF(ISBLANK(G12),"0",G12*G13) -> 0 | H14: =IF(ISBLANK(H12),"0",H12*H13) -> 0 | I14: =IF(ISBLANK(I12),"0",I12*I13) -> 0 | J14: =IF(ISBLANK(J12),"0",J12*J13) -> 0 | K14: =IF(ISBLANK(K12),"0",K12*K13) -> 0 | L14: =IF(ISBLANK(L12),"0",L12*L13) -> 0
A15: =A14 -> Damien | B15: =D15 -> FOOT 6x6 | D15: FOOT 6x6 | E15: RPE | F15: =IFERROR(INDEX(Données!$A:$F,MATCH($A15&$B15&F$2,Données!$A:$A,0),MATCH($E15,Données!$A$1:$F$1,0)),0) -> 0 | G15: =IFERROR(INDEX(Données!$A:$F,MATCH($A15&$B15&G$2,Données!$A:$A,0),MATCH($E15,Données!$A$1:$F$1,0)),0) -> 0 | H15: =IFERROR(INDEX(Données!$A:$F,MATCH($A15&$B15&H$2,Données!$A:$A,0),MATCH($E15,Données!$A$1:$F$1,0)),0) -> 0 | I15: =IFERROR(INDEX(Données!$A:$F,MATCH($A15&$B15&I$2,Données!$A:$A,0),MATCH($E15,Données!$A$1:$F$1,0)),0) -> 0 | J15: =IFERROR(INDEX(Données!$A:$F,MATCH($A15&$B15&J$2,Données!$A:$A,0),MATCH($E15,Données!$A$1:$F$1,0)),0) -> 0 | K15: =IFERROR(INDEX(Données!$A:$F,MATCH($A15&$B15&K$2,Données!$A:$A,0),MATCH($E15,Données!$A$1:$F$1,0)),0) -> 0 | L15: =IFERROR(INDEX(Données!$A:$F,MATCH($A15&$B15&L$2,Données!$A:$A,0),MATCH($E15,Données!$A$1:$F$1,0)),0) -> 0
A16: =A15 -> Damien | B16: =B15 -> FOOT 6x6 | E16: Temps | F16: =IFERROR(INDEX(Données!$A:$F,MATCH($A16&$B16&F$2,Données!$A:$A,0),MATCH($E16,Données!$A$1:$F$1,0)),0) -> 0 | G16: =IFERROR(INDEX(Données!$A:$F,MATCH($A16&$B16&G$2,Données!$A:$A,0),MATCH($E16,Données!$A$1:$F$1,0)),0) -> 0 | H16: =IFERROR(INDEX(Données!$A:$F,MATCH($A16&$B16&H$2,Données!$A:$A,0),MATCH($E16,Données!$A$1:$F$1,0)),0) -> 0 | I16: =IFERROR(INDEX(Données!$A:$F,MATCH($A16&$B16&I$2,Données!$A:$A,0),MATCH($E16,Données!$A$1:$F$1,0)),0) -> 0 | J16: =IFERROR(INDEX(Données!$A:$F,MATCH($A16&$B16&J$2,Données!$A:$A,0),MATCH($E16,Données!$A$1:$F$1,0)),0) -> 0 | K16: =IFERROR(INDEX(Données!$A:$F,MATCH($A16&$B16&K$2,Données!$A:$A,0),MATCH($E16,Données!$A$1:$F$1,0)),0) -> 0 | L16: =IFERROR(INDEX(Données!$A:$F,MATCH($A16&$B16&L$2,Données!$A:$A,0),MATCH($E16,Données!$A$1:$F$1,0)),0) -> 0
A17: =A16 -> Damien | B17: =B16 -> FOOT 6x6 | E17: Charge | F17: =IF(ISBLANK(F15),"0",F15*F16) -> 0 | G17: =IF(ISBLANK(G15),"0",G15*G16) -> 0 | H17: =IF(ISBLANK(H15),"0",H15*H16) -> 0 | I17: =IF(ISBLANK(I15),"0",I15*I16) -> 0 | J17: =IF(ISBLANK(J15),"0",J15*J16) -> 0 | K17: =IF(ISBLANK(K15),"0",K15*K16) -> 0 | L17: =IF(ISBLANK(L15),"0",L15*L16) -> 0
A18: =A17 -> Damien | B18: =D18 -> MATCH | D18: MATCH | E18: RPE | F18: =IFERROR(INDEX(Données!$A:$F,MATCH($A18&$B18&F$2,Données!$A:$A,0),MATCH($E18,Données!$A$1:$F$1,0)),0) -> 0 | G18: =IFERROR(INDEX(Données!$A:$F,MATCH($A18&$B18&G$2,Données!$A:$A,0),MATCH($E18,Données!$A$1:$F$1,0)),0) -> 0 | H18: =IFERROR(INDEX(Données!$A:$F,MATCH($A18&$B18&H$2,Données!$A:$A,0),MATCH($E18,Données!$A$1:$F$1,0)),0) -> 0 | I18: =IFERROR(INDEX(Données!$A:$F,MATCH($A18&$B18&I$2,Données!$A:$A,0),MATCH($E18,Données!$A$1:$F$1,0)),0) -> 0 | J18: =IFERROR(INDEX(Données!$A:$F,MATCH($A18&$B18&J$2,Données!$A:$A,0),MATCH($E18,Données!$A$1:$F$1,0)),0) -> 3 | K18: =IFERROR(INDEX(Données!$A:$F,MATCH($A18&$B18&K$2,Données!$A:$A,0),MATCH($E18,Données!$A$1:$F$1,0)),0) -> 0 | L18: =IFERROR(INDEX(Données!$A:$F,MATCH($A18&$B18&L$2,Données!$A:$A,0),MATCH($E18,Données!$A$1:$F$1,0)),0) -> 0
A19: =A18 -> Damien | B19: =B18 -> MATCH | E19: Temps | F19: =IFERROR(INDEX(Données!$A:$F,MATCH($A19&$B19&F$2,Données!$A:$A,0),MATCH($E19,Données!$A$1:$F$1,0)),0) -> 0 | G19: =IFERROR(INDEX(Données!$A:$F,MATCH($A19&$B19&G$2,Données!$A:$A,0),MATCH($E19,Données!$A$1:$F$1,0)),0) -> 0 | H19: =IFERROR(INDEX(Données!$A:$F,MATCH($A19&$B19&H$2,Données!$A:$A,0),MATCH($E19,Données!$A$1:$F$1,0)),0) -> 0 | I19: =IFERROR(INDEX(Données!$A:$F,MATCH($A19&$B19&I$2,Données!$A:$A,0),MATCH($E19,Données!$A$1:$F$1,0)),0) -> 0 | J19: =IFERROR(INDEX(Données!$A:$F,MATCH($A19&$B19&J$2,Données!$A:$A,0),MATCH($E19,Données!$A$1:$F$1,0)),0) -> 90 | K19: =IFERROR(INDEX(Données!$A:$F,MATCH($A19&$B19&K$2,Données!$A:$A,0),MATCH($E19,Données!$A$1:$F$1,0)),0) -> 0 | L19: =IFERROR(INDEX(Données!$A:$F,MATCH($A19&$B19&L$2,Données!$A:$A,0),MATCH($E19,Données!$A$1:$F$1,0)),0) -> 0
A20: =A19 -> Damien | B20: =B19 -> MATCH | E20: Charge | F20: =IF(ISBLANK(F18),"0",F18*F19) -> 0 | G20: =IF(ISBLANK(G18),"0",G18*G19) -> 0 | H20: =IF(ISBLANK(H18),"0",H18*H19) -> 0 | I20: =IF(ISBLANK(I18),"0",I18*I19) -> 0 | J20: =IF(ISBLANK(J18),"0",J18*J19) -> 270 | K20: =IF(ISBLANK(K18),"0",K18*K19) -> 0 | L20: =IF(ISBLANK(L18),"0",L18*L19) -> 0
D21: TYPE
A22: =C22 -> Paul | B22: =D22 -> MUSCU | C22: Paul | D22: MUSCU | E22: RPE | F22: =IFERROR(INDEX(Données!$A:$F,MATCH($A22&$B22&F$2,Données!$A:$A,0),MATCH($E22,Données!$A$1:$F$1,0)),0) -> 0 | G22: =IFERROR(INDEX(Données!$A:$F,MATCH($A22&$B22&G$2,Données!$A:$A,0),MATCH($E22,Données!$A$1:$F$1,0)),0) -> 0 | H22: =IFERROR(INDEX(Données!$A:$F,MATCH($A22&$B22&H$2,Données!$A:$A,0),MATCH($E22,Données!$A$1:$F$1,0)),0) -> 0 | I22: =IFERROR(INDEX(Données!$A:$F,MATCH($A22&$B22&I$2,Données!$A:$A,0),MATCH($E22,Données!$A$1:$F$1,0)),0) -> 0 | J22: =IFERROR(INDEX(Données!$A:$F,MATCH($A22&$B22&J$2,Données!$A:$A,0),MATCH($E22,Données!$A$1:$F$1,0)),0) -> 0 | K22: =IFERROR(INDEX(Données!$A:$F,MATCH($A22&$B22&K$2,Données!$A:$A,0),MATCH($E22,Données!$A$1:$F$1,0)),0) -> 0 | L22: =IFERROR(INDEX(Données!$A:$F,MATCH($A22&$B22&L$2,Données!$A:$A,0),MATCH($E22,Données!$A$1:$F$1,0)),0) -> 0
A23: =A22 -> Paul | B23: =B22 -> MUSCU | E23: Temps | F23: =IFERROR(INDEX(Données!$A:$F,MATCH($A23&$B23&F$2,Données!$A:$A,0),MATCH($E23,Données!$A$1:$F$1,0)),0) -> 0 | G23: =IFERROR(INDEX(Données!$A:$F,MATCH($A23&$B23&G$2,Données!$A:$A,0),MATCH($E23,Données!$A$1:$F$1,0)),0) -> 0 | H23: =IFERROR(INDEX(Données!$A:$F,MATCH($A23&$B23&H$2,Données!$A:$A,0),MATCH($E23,Données!$A$1:$F$1,0)),0) -> 0 | I23: =IFERROR(INDEX(Données!$A:$F,MATCH($A23&$B23&I$2,Données!$A:$A,0),MATCH($E23,Données!$A$1:$F$1,0)),0) -> 0 | J23: =IFERROR(INDEX(Données!$A:$F,MATCH($A23&$B23&J$2,Données!$A:$A,0),MATCH($E23,Données!$A$1:$F$1,0)),0) -> 0 | K23: =IFERROR(INDEX(Données!$A:$F,MATCH($A23&$B23&K$2,Données!$A:$A,0),MATCH($E23,Données!$A$1:$F$1,0)),0) -> 0 | L23: =IFERROR(INDEX(Données!$A:$F,MATCH($A23&$B23&L$2,Données!$A:$A,0),MATCH($E23,Données!$A$1:$F$1,0)),0) -> 0
A24: =A23 -> Paul | B24: =B23 -> MUSCU | E24: Charge | F24: =IF(ISBLANK(F22),"0",F22*F23) -> 0 | G24: =IF(ISBLANK(G22),"0",G22*G23) -> 0 | H24: =IF(ISBLANK(H22),"0",H22*H23) -> 0 | I24: =IF(ISBLANK(I22),"0",I22*I23) -> 0 | J24: =IF(ISBLANK(J22),"0",J22*J23) -> 0 | K24: =IF(ISBLANK(K22),"0",K22*K23) -> 0 | L24: =IF(ISBLANK(L22),"0",L22*L23) -> 0
A25: =A24 -> Paul | B25: =D25 -> PREVENTION | D25: PREVENTION | E25: RPE | F25: =IFERROR(INDEX(Données!$A:$F,MATCH($A25&$B25&F$2,Données!$A:$A,0),MATCH($E25,Données!$A$1:$F$1,0)),0) -> 0 | G25: =IFERROR(INDEX(Données!$A:$F,MATCH($A25&$B25&G$2,Données!$A:$A,0),MATCH($E25,Données!$A$1:$F$1,0)),0) -> 0 | H25: =IFERROR(INDEX(Données!$A:$F,MATCH($A25&$B25&H$2,Données!$A:$A,0),MATCH($E25,Données!$A$1:$F$1,0)),0) -> 0 | I25: =IFERROR(INDEX(Données!$A:$F,MATCH($A25&$B25&I$2,Données!$A:$A,0),MATCH($E25,Données!$A$1:$F$1,0)),0) -> 0 | J25: =IFERROR(INDEX(Données!$A:$F,MATCH($A25&$B25&J$2,Données!$A:$A,0),MATCH($E25,Données!$A$1:$F$1,0)),0) -> 0 | K25: =IFERROR(INDEX(Données!$A:$F,MATCH($A25&$B25&K$2,Données!$A:$A,0),MATCH($E25,Données!$A$1:$F$1,0)),0) -> 0 | L25: =IFERROR(INDEX(Données!$A:$F,MATCH($A25&$B25&L$2,Données!$A:$A,0),MATCH($E25,Données!$A$1:$F$1,0)),0) -> 0
A26: =A25 -> Paul | B26: =B25 -> PREVENTION | E26: Temps | F26: =IFERROR(INDEX(Données!$A:$F,MATCH($A26&$B26&F$2,Données!$A:$A,0),MATCH($E26,Données!$A$1:$F$1,0)),0) -> 0 | G26: =IFERROR(INDEX(Données!$A:$F,MATCH($A26&$B26&G$2,Données!$A:$A,0),MATCH($E26,Données!$A$1:$F$1,0)),0) -> 0 | H26: =IFERROR(INDEX(Données!$A:$F,MATCH($A26&$B26&H$2,Données!$A:$A,0),MATCH($E26,Données!$A$1:$F$1,0)),0) -> 0 | I26: =IFERROR(INDEX(Données!$A:$F,MATCH($A26&$B26&I$2,Données!$A:$A,0),MATCH($E26,Données!$A$1:$F$1,0)),0) -> 0 | J26: =IFERROR(INDEX(Données!$A:$F,MATCH($A26&$B26&J$2,Données!$A:$A,0),MATCH($E26,Données!$A$1:$F$1,0)),0) -> 0 | K26: =IFERROR(INDEX(Données!$A:$F,MATCH($A26&$B26&K$2,Données!$A:$A,0),MATCH($E26,Données!$A$1:$F$1,0)),0) -> 0 | L26: =IFERROR(INDEX(Données!$A:$F,MATCH($A26&$B26&L$2,Données!$A:$A,0),MATCH($E26,Données!$A$1:$F$1,0)),0) -> 0
A27: =A26 -> Paul | B27: =B26 -> PREVENTION | E27: Charge | F27: =IF(ISBLANK(F25),"0",F25*F26) -> 0 | G27: =IF(ISBLANK(G25),"0",G25*G26) -> 0 | H27: =IF(ISBLANK(H25),"0",H25*H26) -> 0 | I27: =IF(ISBLANK(I25),"0",I25*I26) -> 0 | J27: =IF(ISBLANK(J25),"0",J25*J26) -> 0 | K27: =IF(ISBLANK(K25),"0",K25*K26) -> 0 | L27: =IF(ISBLANK(L25),"0",L25*L26) -> 0
A28: =A27 -> Paul | B28: =D28 -> FOOT Spé | D28: FOOT Spé | E28: RPE | F28: =IFERROR(INDEX(Données!$A:$F,MATCH($A28&$B28&F$2,Données!$A:$A,0),MATCH($E28,Données!$A$1:$F$1,0)),0) -> 0 | G28: =IFERROR(INDEX(Données!$A:$F,MATCH($A28&$B28&G$2,Données!$A:$A,0),MATCH($E28,Données!$A$1:$F$1,0)),0) -> 0 | H28: =IFERROR(INDEX(Données!$A:$F,MATCH($A28&$B28&H$2,Données!$A:$A,0),MATCH($E28,Données!$A$1:$F$1,0)),0) -> 0 | I28: =IFERROR(INDEX(Données!$A:$F,MATCH($A28&$B28&I$2,Données!$A:$A,0),MATCH($E28,Données!$A$1:$F$1,0)),0) -> 0 | J28: =IFERROR(INDEX(Données!$A:$F,MATCH($A28&$B28&J$2,Données!$A:$A,0),MATCH($E28,Données!$A$1:$F$1,0)),0) -> 0 | K28: =IFERROR(INDEX(Données!$A:$F,MATCH($A28&$B28&K$2,Données!$A:$A,0),MATCH($E28,Données!$A$1:$F$1,0)),0) -> 0 | L28: =IFERROR(INDEX(Données!$A:$F,MATCH($A28&$B28&L$2,Données!$A:$A,0),MATCH($E28,Données!$A$1:$F$1,0)),0) -> 0
A29: =A28 -> Paul | B29: =B28 -> FOOT Spé | E29: Temps | F29: =IFERROR(INDEX(Données!$A:$F,MATCH($A29&$B29&F$2,Données!$A:$A,0),MATCH($E29,Données!$A$1:$F$1,0)),0) -> 0 | G29: =IFERROR(INDEX(Données!$A:$F,MATCH($A29&$B29&G$2,Données!$A:$A,0),MATCH($E29,Données!$A$1:$F$1,0)),0) -> 0 | H29: =IFERROR(INDEX(Données!$A:$F,MATCH($A29&$B29&H$2,Données!$A:$A,0),MATCH($E29,Données!$A$1:$F$1,0)),0) -> 0 | I29: =IFERROR(INDEX(Données!$A:$F,MATCH($A29&$B29&I$2,Données!$A:$A,0),MATCH($E29,Données!$A$1:$F$1,0)),0) -> 0 | J29: =IFERROR(INDEX(Données!$A:$F,MATCH($A29&$B29&J$2,Données!$A:$A,0),MATCH($E29,Données!$A$1:$F$1,0)),0) -> 0 | K29: =IFERROR(INDEX(Données!$A:$F,MATCH($A29&$B29&K$2,Données!$A:$A,0),MATCH($E29,Données!$A$1:$F$1,0)),0) -> 0 | L29: =IFERROR(INDEX(Données!$A:$F,MATCH($A29&$B29&L$2,Données!$A:$A,0),MATCH($E29,Données!$A$1:$F$1,0)),0) -> 0
A30: =A29 -> Paul | B30: =B29 -> FOOT Spé | E30: Charge | F30: =IF(ISBLANK(F28),"0",F28*F29) -> 0 | G30: =IF(ISBLANK(G28),"0",G28*G29) -> 0 | H30: =IF(ISBLANK(H28),"0",H28*H29) -> 0 | I30: =IF(ISBLANK(I28),"0",I28*I29) -> 0 | J30: =IF(ISBLANK(J28),"0",J28*J29) -> 0 | K30: =IF(ISBLANK(K28),"0",K28*K29) -> 0 | L30: =IF(ISBLANK(L28),"0",L28*L29) -> 0
A31: =A30 -> Paul | B31: =D31 -> FOOT 6x6 | D31: FOOT 6x6 | E31: RPE | F31: =IFERROR(INDEX(Données!$A:$F,MATCH($A31&$B31&F$2,Données!$A:$A,0),MATCH($E31,Données!$A$1:$F$1,0)),0) -> 0 | G31: =IFERROR(INDEX(Données!$A:$F,MATCH($A31&$B31&G$2,Données!$A:$A,0),MATCH($E31,Données!$A$1:$F$1,0)),0) -> 0 | H31: =IFERROR(INDEX(Données!$A:$F,MATCH($A31&$B31&H$2,Données!$A:$A,0),MATCH($E31,Données!$A$1:$F$1,0)),0) -> 0 | I31: =IFERROR(INDEX(Données!$A:$F,MATCH($A31&$B31&I$2,Données!$A:$A,0),MATCH($E31,Données!$A$1:$F$1,0)),0) -> 0 | J31: =IFERROR(INDEX(Données!$A:$F,MATCH($A31&$B31&J$2,Données!$A:$A,0),MATCH($E31,Données!$A$1:$F$1,0)),0) -> 0 | K31: =IFERROR(INDEX(Données!$A:$F,MATCH($A31&$B31&K$2,Données!$A:$A,0),MATCH($E31,Données!$A$1:$F$1,0)),0) -> 0 | L31: =IFERROR(INDEX(Données!$A:$F,MATCH($A31&$B31&L$2,Données!$A:$A,0),MATCH($E31,Données!$A$1:$F$1,0)),0) -> 0
A32: =A31 -> Paul | B32: =B31 -> FOOT 6x6 | E32: Temps | F32: =IFERROR(INDEX(Données!$A:$F,MATCH($A32&$B32&F$2,Données!$A:$A,0),MATCH($E32,Données!$A$1:$F$1,0)),0) -> 0 | G32: =IFERROR(INDEX(Données!$A:$F,MATCH($A32&$B32&G$2,Données!$A:$A,0),MATCH($E32,Données!$A$1:$F$1,0)),0) -> 0 | H32: =IFERROR(INDEX(Données!$A:$F,MATCH($A32&$B32&H$2,Données!$A:$A,0),MATCH($E32,Données!$A$1:$F$1,0)),0) -> 0 | I32: =IFERROR(INDEX(Données!$A:$F,MATCH($A32&$B32&I$2,Données!$A:$A,0),MATCH($E32,Données!$A$1:$F$1,0)),0) -> 0 | J32: =IFERROR(INDEX(Données!$A:$F,MATCH($A32&$B32&J$2,Données!$A:$A,0),MATCH($E32,Données!$A$1:$F$1,0)),0) -> 0 | K32: =IFERROR(INDEX(Données!$A:$F,MATCH($A32&$B32&K$2,Données!$A:$A,0),MATCH($E32,Données!$A$1:$F$1,0)),0) -> 0 | L32: =IFERROR(INDEX(Données!$A:$F,MATCH($A32&$B32&L$2,Données!$A:$A,0),MATCH($E32,Données!$A$1:$F$1,0)),0) -> 0
A33: =A32 -> Paul | B33: =B32 -> FOOT 6x6 | E33: Charge | F33: =IF(ISBLANK(F31),"0",F31*F32) -> 0 | G33: =IF(ISBLANK(G31),"0",G31*G32) -> 0 | H33: =IF(ISBLANK(H31),"0",H31*H32) -> 0 | I33: =IF(ISBLANK(I31),"0",I31*I32) -> 0 | J33: =IF(ISBLANK(J31),"0",J31*J32) -> 0 | K33: =IF(ISBLANK(K31),"0",K31*K32) -> 0 | L33: =IF(ISBLANK(L31),"0",L31*L32) -> 0
A34: =A33 -> Paul | B34: =D34 -> MATCH | D34: MATCH | E34: RPE | F34: =IFERROR(INDEX(Données!$A:$F,MATCH($A34&$B34&F$2,Données!$A:$A,0),MATCH($E34,Données!$A$1:$F$1,0)),0) -> 0 | G34: =IFERROR(INDEX(Données!$A:$F,MATCH($A34&$B34&G$2,Données!$A:$A,0),MATCH($E34,Données!$A$1:$F$1,0)),0) -> 0 | H34: =IFERROR(INDEX(Données!$A:$F,MATCH($A34&$B34&H$2,Données!$A:$A,0),MATCH($E34,Données!$A$1:$F$1,0)),0) -> 0 | I34: =IFERROR(INDEX(Données!$A:$F,MATCH($A34&$B34&I$2,Données!$A:$A,0),MATCH($E34,Données!$A$1:$F$1,0)),0) -> 0 | J34: =IFERROR(INDEX(Données!$A:$F,MATCH($A34&$B34&J$2,Données!$A:$A,0),MATCH($E34,Données!$A$1:$F$1,0)),0) -> 0 | K34: =IFERROR(INDEX(Données!$A:$F,MATCH($A34&$B34&K$2,Données!$A:$A,0),MATCH($E34,Données!$A$1:$F$1,0)),0) -> 0 | L34: =IFERROR(INDEX(Données!$A:$F,MATCH($A34&$B34&L$2,Données!$A:$A,0),MATCH($E34,Données!$A$1:$F$1,0)),0) -> 0
A35: =A34 -> Paul | B35: =B34 -> MATCH | E35: Temps | F35: =IFERROR(INDEX(Données!$A:$F,MATCH($A35&$B35&F$2,Données!$A:$A,0),MATCH($E35,Données!$A$1:$F$1,0)),0) -> 0 | G35: =IFERROR(INDEX(Données!$A:$F,MATCH($A35&$B35&G$2,Données!$A:$A,0),MATCH($E35,Données!$A$1:$F$1,0)),0) -> 0 | H35: =IFERROR(INDEX(Données!$A:$F,MATCH($A35&$B35&H$2,Données!$A:$A,0),MATCH($E35,Données!$A$1:$F$1,0)),0) -> 0 | I35: =IFERROR(INDEX(Données!$A:$F,MATCH($A35&$B35&I$2,Données!$A:$A,0),MATCH($E35,Données!$A$1:$F$1,0)),0) -> 0 | J35: =IFERROR(INDEX(Données!$A:$F,MATCH($A35&$B35&J$2,Données!$A:$A,0),MATCH($E35,Données!$A$1:$F$1,0)),0) -> 0 | K35: =IFERROR(INDEX(Données!$A:$F,MATCH($A35&$B35&K$2,Données!$A:$A,0),MATCH($E35,Données!$A$1:$F$1,0)),0) -> 0 | L35: =IFERROR(INDEX(Données!$A:$F,MATCH($A35&$B35&L$2,Données!$A:$A,0),MATCH($E35,Données!$A$1:$F$1,0)),0) -> 0
A36: =A35 -> Paul | B36: =B35 -> MATCH | E36: Charge | F36: =IF(ISBLANK(F34),"0",F34*F35) -> 0 | G36: =IF(ISBLANK(G34),"0",G34*G35) -> 0 | H36: =IF(ISBLANK(H34),"0",H34*H35) -> 0 | I36: =IF(ISBLANK(I34),"0",I34*I35) -> 0 | J36: =IF(ISBLANK(J34),"0",J34*J35) -> 0 | K36: =IF(ISBLANK(K34),"0",K34*K35) -> 0 | L36: =IF(ISBLANK(L34),"0",L34*L35) -> 0
D37: TYPE
A38: =C38 -> Jean | B38: =D38 -> MUSCU | C38: Jean | D38: MUSCU | E38: RPE | F38: =IFERROR(INDEX(Données!$A:$F,MATCH($A38&$B38&F$2,Données!$A:$A,0),MATCH($E38,Données!$A$1:$F$1,0)),0) -> 0 | G38: =IFERROR(INDEX(Données!$A:$F,MATCH($A38&$B38&G$2,Données!$A:$A,0),MATCH($E38,Données!$A$1:$F$1,0)),0) -> 0 | H38: =IFERROR(INDEX(Données!$A:$F,MATCH($A38&$B38&H$2,Données!$A:$A,0),MATCH($E38,Données!$A$1:$F$1,0)),0) -> 0 | I38: =IFERROR(INDEX(Données!$A:$F,MATCH($A38&$B38&I$2,Données!$A:$A,0),MATCH($E38,Données!$A$1:$F$1,0)),0) -> 0 | J38: =IFERROR(INDEX(Données!$A:$F,MATCH($A38&$B38&J$2,Données!$A:$A,0),MATCH($E38,Données!$A$1:$F$1,0)),0) -> 0 | K38: =IFERROR(INDEX(Données!$A:$F,MATCH($A38&$B38&K$2,Données!$A:$A,0),MATCH($E38,Données!$A$1:$F$1,0)),0) -> 0 | L38: =IFERROR(INDEX(Données!$A:$F,MATCH($A38&$B38&L$2,Données!$A:$A,0),MATCH($E38,Données!$A$1:$F$1,0)),0) -> 0
A39: =A38 -> Jean | B39: =B38 -> MUSCU | E39: Temps | F39: =IFERROR(INDEX(Données!$A:$F,MATCH($A39&$B39&F$2,Données!$A:$A,0),MATCH($E39,Données!$A$1:$F$1,0)),0) -> 0 | G39: =IFERROR(INDEX(Données!$A:$F,MATCH($A39&$B39&G$2,Données!$A:$A,0),MATCH($E39,Données!$A$1:$F$1,0)),0) -> 0 | H39: =IFERROR(INDEX(Données!$A:$F,MATCH($A39&$B39&H$2,Données!$A:$A,0),MATCH($E39,Données!$A$1:$F$1,0)),0) -> 0 | I39: =IFERROR(INDEX(Données!$A:$F,MATCH($A39&$B39&I$2,Données!$A:$A,0),MATCH($E39,Données!$A$1:$F$1,0)),0) -> 0 | J39: =IFERROR(INDEX(Données!$A:$F,MATCH($A39&$B39&J$2,Données!$A:$A,0),MATCH($E39,Données!$A$1:$F$1,0)),0) -> 0 | K39: =IFERROR(INDEX(Données!$A:$F,MATCH($A39&$B39&K$2,Données!$A:$A,0),MATCH($E39,Données!$A$1:$F$1,0)),0) -> 0 | L39: =IFERROR(INDEX(Données!$A:$F,MATCH($A39&$B39&L$2,Données!$A:$A,0),MATCH($E39,Données!$A$1:$F$1,0)),0) -> 0
A40: =A39 -> Jean | B40: =B39 -> MUSCU | E40: Charge | F40: =IF(ISBLANK(F38),"0",F38*F39) -> 0 | G40: =IF(ISBLANK(G38),"0",G38*G39) -> 0 | H40: =IF(ISBLANK(H38),"0",H38*H39) -> 0 | I40: =IF(ISBLANK(I38),"0",I38*I39) -> 0 | J40: =IF(ISBLANK(J38),"0",J38*J39) -> 0 | K40: =IF(ISBLANK(K38),"0",K38*K39) -> 0 | L40: =IF(ISBLANK(L38),"0",L38*L39) -> 0
A41: =A40 -> Jean | B41: =D41 -> PREVENTION | D41: PREVENTION | E41: RPE | F41: =IFERROR(INDEX(Données!$A:$F,MATCH($A41&$B41&F$2,Données!$A:$A,0),MATCH($E41,Données!$A$1:$F$1,0)),0) -> 0 | G41: =IFERROR(INDEX(Données!$A:$F,MATCH($A41&$B41&G$2,Données!$A:$A,0),MATCH($E41,Données!$A$1:$F$1,0)),0) -> 0 | H41: =IFERROR(INDEX(Données!$A:$F,MATCH($A41&$B41&H$2,Données!$A:$A,0),MATCH($E41,Données!$A$1:$F$1,0)),0) -> 0 | I41: =IFERROR(INDEX(Données!$A:$F,MATCH($A41&$B41&I$2,Données!$A:$A,0),MATCH($E41,Données!$A$1:$F$1,0)),0) -> 0 | J41: =IFERROR(INDEX(Données!$A:$F,MATCH($A41&$B41&J$2,Données!$A:$A,0),MATCH($E41,Données!$A$1:$F$1,0)),0) -> 0 | K41: =IFERROR(INDEX(Données!$A:$F,MATCH($A41&$B41&K$2,Données!$A:$A,0),MATCH($E41,Données!$A$1:$F$1,0)),0) -> 0 | L41: =IFERROR(INDEX(Données!$A:$F,MATCH($A41&$B41&L$2,Données!$A:$A,0),MATCH($E41,Données!$A$1:$F$1,0)),0) -> 0
A42: =A41 -> Jean | B42: =B41 -> PREVENTION | E42: Temps | F42: =IFERROR(INDEX(Données!$A:$F,MATCH($A42&$B42&F$2,Données!$A:$A,0),MATCH($E42,Données!$A$1:$F$1,0)),0) -> 0 | G42: =IFERROR(INDEX(Données!$A:$F,MATCH($A42&$B42&G$2,Données!$A:$A,0),MATCH($E42,Données!$A$1:$F$1,0)),0) -> 0 | H42: =IFERROR(INDEX(Données!$A:$F,MATCH($A42&$B42&H$2,Données!$A:$A,0),MATCH($E42,Données!$A$1:$F$1,0)),0) -> 0 | I42: =IFERROR(INDEX(Données!$A:$F,MATCH($A42&$B42&I$2,Données!$A:$A,0),MATCH($E42,Données!$A$1:$F$1,0)),0) -> 0 | J42: =IFERROR(INDEX(Données!$A:$F,MATCH($A42&$B42&J$2,Données!$A:$A,0),MATCH($E42,Données!$A$1:$F$1,0)),0) -> 0 | K42: =IFERROR(INDEX(Données!$A:$F,MATCH($A42&$B42&K$2,Données!$A:$A,0),MATCH($E42,Données!$A$1:$F$1,0)),0) -> 0 | L42: =IFERROR(INDEX(Données!$A:$F,MATCH($A42&$B42&L$2,Données!$A:$A,0),MATCH($E42,Données!$A$1:$F$1,0)),0) -> 0
...

Sheet Liste
B2: Damien | D2: MUSCU
B3: Paul | D3: PREVENTION
B4: Jean | D4: FOOT Spé
B5: Max | D5: FOOT 5x5
B6: Lucas | D6: MATCH
