Workbook
Name MAJ_RIB: Révisions!$J$2:$J$1048576
Name Reimputation: Révisions!$H$2:$H$1048576
Name Rejet: Révisions!$I$2:$I$1048576

Sheet Réception
A3: Bord. | B3: Document | C3: Montant rejeté | P3: Cde hors DGP | Q3: Nb réimputation | R3: Nb rejet | S3: MAJ RIB
A4: 50 | B4: Mandat | C4: =SUMIFS(Révisions!$E:$E,Révisions!$A:$A,Réception!$A4,Révisions!$I:$I,"x") -> 40.56 | P4: =COUNTIF('Cde hors DGP'!A:A,Réception!A4) -> 3 | Q4: =COUNTIFS(Révisions!A:A,A4,Révisions!H:H,"<>") -> 2 | R4: =COUNTIFS(Révisions!A:A,A4,Révisions!I:I,"x") -> 2 | S4: =COUNTIFS(Révisions!A:A,A4,Révisions!J:J,"A faire") -> 0
A5: 51 | B5: Mandat | C5: =SUMIFS(Révisions!$E:$E,Révisions!$A:$A,Réception!$A5,Révisions!$I:$I,"x") -> 0 | P5: =COUNTIF('Cde hors DGP'!A:A,Réception!A5) -> 0 | Q5: =COUNTIFS(Révisions!A:A,A5,Révisions!H:H,"<>") -> 0 | R5: =COUNTIFS(Révisions!A:A,A5,Révisions!I:I,"x") -> 0 | S5: =COUNTIFS(Révisions!A:A,A5,Révisions!J:J,"A faire") -> 1
L6: =IF(B6="Mandat",F6-30,IF(B6="Mandat SRH",F6-25,IF(B6="","",""))) | M6: =IF(H6="","",H6-F6) | N6: =IF(K6="","",K6-F6) | O6: =IF(M6="","",M6+N6)
L7: =IF(B7="Mandat",F7-30,IF(B7="Mandat SRH",F7-25,IF(B7="","",""))) | M7: =IF(H7="","",H7-F7) | N7: =IF(K7="","",K7-F7) | O7: =IF(M7="","",M7+N7)
L8: =IF(B8="Mandat",F8-30,IF(B8="Mandat SRH",F8-25,IF(B8="","",""))) | M8: =IF(H8="","",H8-F8) | N8: =IF(K8="","",K8-F8) | O8: =IF(M8="","",M8+N8)
L9: =IF(B9="Mandat",F9-30,IF(B9="Mandat SRH",F9-25,IF(B9="","",""))) | M9: =IF(H9="","",H9-F9) | N9: =IF(K9="","",K9-F9) | O9: =IF(M9="","",M9+N9)
L10: =IF(B10="Mandat",F10-30,IF(B10="Mandat SRH",F10-25,IF(B10="","",""))) | M10: =IF(H10="","",H10-F10) | N10: =IF(K10="","",K10-F10) | O10: =IF(M10="","",M10+N10)
L11: =IF(B11="Mandat",F11-30,IF(B11="Mandat SRH",F11-25,IF(B11="","",""))) | M11: =IF(H11="","",H11-F11) | N11: =IF(K11="","",K11-F11) | O11: =IF(M11="","",M11+N11)
L12: =IF(B12="Mandat",F12-30,IF(B12="Mandat SRH",F12-25,IF(B12="","",""))) | M12: =IF(H12="","",H12-F12) | N12: =IF(K12="","",K12-F12) | O12: =IF(M12="","",M12+N12)
L13: =IF(B13="Mandat",F13-30,IF(B13="Mandat SRH",F13-25,IF(B13="","",""))) | M13: =IF(H13="","",H13-F13) | N13: =IF(K13="","",K13-F13) | O13: =IF(M13="","",M13+N13)
L14: =IF(B14="Mandat",F14-30,IF(B14="Mandat SRH",F14-25,IF(B14="","",""))) | M14: =IF(H14="","",H14-F14) | N14: =IF(K14="","",K14-F14) | O14: =IF(M14="","",M14+N14)
L15: =IF(B15="Mandat",F15-30,IF(B15="Mandat SRH",F15-25,IF(B15="","",""))) | M15: =IF(H15="","",H15-F15) | N15: =IF(K15="","",K15-F15) | O15: =IF(M15="","",M15+N15)
L16: =IF(B16="Mandat",F16-30,IF(B16="Mandat SRH",F16-25,IF(B16="","",""))) | M16: =IF(H16="","",H16-F16) | N16: =IF(K16="","",K16-F16) | O16: =IF(M16="","",M16+N16)
L17: =IF(B17="Mandat",F17-30,IF(B17="Mandat SRH",F17-25,IF(B17="","",""))) | M17: =IF(H17="","",H17-F17) | N17: =IF(K17="","",K17-F17) | O17: =IF(M17="","",M17+N17)
... L22: =IF(B22="Mandat",F22-30,IF(B22="Mandat SRH",F22-25,IF(B22="","",""))) | M22: =IF(H22="","",H22-F22) | N22: =IF(K22="","",K22-F22) | O22: =IF(M22="","",M22+N22)

Sheet Révisions
A2: Bord. | B2: Document | C2: Service | D2: N°Ordre | E2: Montant | F2: Fournisseur | G2: Imputation | H2: Réimputation | I2: Rejet | J2: MAJ RIB | K2: PJ à revoir | L2: Date de transission fichiers | M2: Date de correction
A3: 50 | B3: =IF(ISNA(VLOOKUP(A3,Réception!A:B,2,FALSE)),"",VLOOKUP(A3,Réception!A:B,2,FALSE)) -> Mandat | E3: 50 | G3: 435 | H3: 675
A4: 50 | B4: =IF(ISNA(VLOOKUP(A4,Réception!A:B,2,FALSE)),"",VLOOKUP(A4,Réception!A:B,2,FALSE)) -> Mandat | E4: 43 | G4: 467 | H4: 564
A5: 50 | B5: =IF(ISNA(VLOOKUP(A5,Réception!A:B,2,FALSE)),"",VLOOKUP(A5,Réception!A:B,2,FALSE)) -> Mandat | E5: 14.56 | G5: 321 | I5: x
A6: 50 | B6: =IF(ISNA(VLOOKUP(A6,Réception!A:B,2,FALSE)),"",VLOOKUP(A6,Réception!A:B,2,FALSE)) -> Mandat | E6: 26 | G6: 345 | I6: x
A7: 51 | B7: =IF(ISNA(VLOOKUP(A7,Réception!A:B,2,FALSE)),"",VLOOKUP(A7,Réception!A:B,2,FALSE)) -> Mandat | E7: 77 | G7: 234 | J7: A faire
B8: =IF(ISNA(VLOOKUP(A8,Réception!A:B,2,FALSE)),"",VLOOKUP(A8,Réception!A:B,2,FALSE))
B9: =IF(ISNA(VLOOKUP(A9,Réception!A:B,2,FALSE)),"",VLOOKUP(A9,Réception!A:B,2,FALSE))
B10: =IF(ISNA(VLOOKUP(A10,Réception!A:B,2,FALSE)),"",VLOOKUP(A10,Réception!A:B,2,FALSE))
B11: =IF(ISNA(VLOOKUP(A11,Réception!A:B,2,FALSE)),"",VLOOKUP(A11,Réception!A:B,2,FALSE))
B12: =IF(ISNA(VLOOKUP(A12,Réception!A:B,2,FALSE)),"",VLOOKUP(A12,Réception!A:B,2,FALSE))
B13: =IF(ISNA(VLOOKUP(A13,Réception!A:B,2,FALSE)),"",VLOOKUP(A13,Réception!A:B,2,FALSE))
B14: =IF(ISNA(VLOOKUP(A14,Réception!A:B,2,FALSE)),"",VLOOKUP(A14,Réception!A:B,2,FALSE))
B15: =IF(ISNA(VLOOKUP(A15,Réception!A:B,2,FALSE)),"",VLOOKUP(A15,Réception!A:B,2,FALSE))
B16: =IF(ISNA(VLOOKUP(A16,Réception!A:B,2,FALSE)),"",VLOOKUP(A16,Réception!A:B,2,FALSE))
B17: =IF(ISNA(VLOOKUP(A17,Réception!A:B,2,FALSE)),"",VLOOKUP(A17,Réception!A:B,2,FALSE))
B18: =IF(ISNA(VLOOKUP(A18,Réception!A:B,2,FALSE)),"",VLOOKUP(A18,Réception!A:B,2,FALSE))
B19: =IF(ISNA(VLOOKUP(A19,Réception!A:B,2,FALSE)),"",VLOOKUP(A19,Réception!A:B,2,FALSE))
... B25: =IF(ISNA(VLOOKUP(A25,Réception!A:B,2,FALSE)),"",VLOOKUP(A25,Réception!A:B,2,FALSE))

Sheet Cde hors DGP
A2: Bord. | B2: N°Ordre | C2: Fournisseur | D2: Achat | E2: Service | F2: Imputation | G2: Date de Cde | H2: Délai global | I2: Date de paiement | J2: Nb jours hors DGP
A3: 50 | D3: Viande fraiche | G3: 44949 | H3: =IF(D3="","",IF(D3="Viande fraiche",25,30)) -> 25 | I3: 45008 | J3: =IF(I3="","",(I3-G3)-H3) -> 34
A4: 50 | D4: Livres | G4: 44888 | H4: =IF(D4="","",IF(D4="Viande fraiche",25,30)) -> 30 | I4: 45008 | J4: =IF(I4="","",(I4-G4)-H4) -> 90
A5: 50 | D5: Billets de train | G5: 44836 | H5: =IF(D5="","",IF(D5="Viande fraiche",25,30)) -> 30 | I5: 45008 | J5: =IF(I5="","",(I5-G5)-H5) -> 142
H6: =IF(D6="","",IF(D6="Viande fraiche",25,30)) | J6: =IF(I6="","",(I6-G6)-H6)
H7: =IF(D7="","",IF(D7="Viande fraiche",25,30)) | J7: =IF(I7="","",(I7-G7)-H7)
H8: =IF(D8="","",IF(D8="Viande fraiche",25,30)) | J8: =IF(I8="","",(I8-G8)-H8)
H9: =IF(D9="","",IF(D9="Viande fraiche",25,30)) | J9: =IF(I9="","",(I9-G9)-H9)
H10: =IF(D10="","",IF(D10="Viande fraiche",25,30)) | J10: =IF(I10="","",(I10-G10)-H10)
H11: =IF(D11="","",IF(D11="Viande fraiche",25,30)) | J11: =IF(I11="","",(I11-G11)-H11)
H12: =IF(D12="","",IF(D12="Viande fraiche",25,30)) | J12: =IF(I12="","",(I12-G12)-H12)
H13: =IF(D13="","",IF(D13="Viande fraiche",25,30)) | J13: =IF(I13="","",(I13-G13)-H13)
H14: =IF(D14="","",IF(D14="Viande fraiche",25,30)) | J14: =IF(I14="","",(I14-G14)-H14)
H15: =IF(D15="","",IF(D15="Viande fraiche",25,30)) | J15: =IF(I15="","",(I15-G15)-H15)
