Workbook

Sheet création de n°
A1: Création et inventaire des plateformes et marchepieds standards
B2: case à renseigner
B3: N° | C3: Critères principaux (création n° standards) | L3: Données secondaires
C4: Type de produit | D4: Hauteur de travail avec ( pas de 200mm) | E4: désignation nbre de marche | F4: Mobile ou fixe | G4: Longueur de W utile | H4: Largeur de travail Min (mm) Arrondi à 100mm | I4: Largeur de travail Max (mm) Arrondi à 100mm | J4: Longueur de travail Min (mm) Arrondi à 100mm | K4: Longueur de travail Max (mm) Arrondi à 100mm | L4: Mobilité (Fixe(F), Roue porteuse (RP), Base escamotable (BE) | M4: Hauteur de travail Max si variable (Hors rambarde) | N4: Gardes Corps | O4: N° SERIE | P4: Fabricant | Q4: Gauche / Droite / Réversible / NA | R4: Double Entrée (Oui/Non) | S4: Hauteur Réglable (OUI/NON) | T4: Déport PIRL (Avec ou sans) | U4: PORTILLON | V4: CMU (kg)
B5: =IF(OR(C5="",D5="",G5=""),"",VLOOKUP($C5,'moyen d''accès'!$A:$C,3,0)&VLOOKUP($D5,Hauteur!A:B,2,0)&VLOOKUP($G5,'Longueur W utile'!A:B,2,0)) -> 15031480 | C5: Marche-pied | D5: 800 | E5: =D5/200 -> 4 | F5: {=_xlfn.IFS(L5=mobilité!$B$2,mobilité!$C$2,L5=mobilité!$B$3,mobilité!$C$3,L5=mobilité!$B$4,mobilité!$C$4)} -> Fixe | G5: =LARGE(H5:K5,1) -> 600 | H5: 600 | I5: 0 | J5: 600 | K5: 0 | L5: F | N5: 1
B6: =IF(OR(C6="",D6="",G6=""),"",VLOOKUP($C6,'moyen d''accès'!$A:$C,3,0)&VLOOKUP($D6,Hauteur!A:B,2,0)&VLOOKUP($G6,'Longueur W utile'!A:B,2,0)) -> 15031380 | C6: Marche-pied | D6: 600 | E6: =D6/200 -> 3 | F6: {=_xlfn.IFS(L6=mobilité!$B$2,mobilité!$C$2,L6=mobilité!$B$3,mobilité!$C$3,L6=mobilité!$B$4,mobilité!$C$4)} -> Fixe | G6: =LARGE(H6:K6,1) -> 600 | H6: 600 | I6: 0 | J6: 600 | K6: 0 | L6: F | N6: 0
B7: =IF(OR(C7="",D7="",G7=""),"",VLOOKUP($C7,'moyen d''accès'!$A:$C,3,0)&VLOOKUP($D7,Hauteur!A:B,2,0)&VLOOKUP($G7,'Longueur W utile'!A:B,2,0)) -> 15031380 | C7: Marche-pied | D7: 600 | E7: =D7/200 -> 3 | F7: {=_xlfn.IFS(L7=mobilité!$B$2,mobilité!$C$2,L7=mobilité!$B$3,mobilité!$C$3,L7=mobilité!$B$4,mobilité!$C$4)} -> Fixe | G7: =LARGE(H7:K7,1) -> 600 | H7: 600 | I7: 0 | J7: 600 | K7: 0 | L7: F | N7: 0
B8: =IF(OR(C8="",D8="",G8=""),"",VLOOKUP($C8,'moyen d''accès'!$A:$C,3,0)&VLOOKUP($D8,Hauteur!A:B,2,0)&VLOOKUP($G8,'Longueur W utile'!A:B,2,0)) -> 15031380 | C8: Marche-pied | D8: 600 | E8: =D8/200 -> 3 | F8: {=_xlfn.IFS(L8=mobilité!$B$2,mobilité!$C$2,L8=mobilité!$B$3,mobilité!$C$3,L8=mobilité!$B$4,mobilité!$C$4)} -> Fixe | G8: =LARGE(H8:K8,1) -> 600 | H8: 600 | I8: 0 | J8: 600 | K8: 0 | L8: F | N8: 0
B9: =IF(OR(C9="",D9="",G9=""),"",VLOOKUP($C9,'moyen d''accès'!$A:$C,3,0)&VLOOKUP($D9,Hauteur!A:B,2,0)&VLOOKUP($G9,'Longueur W utile'!A:B,2,0)) -> 15031380 | C9: Marche-pied | D9: 600 | E9: =D9/200 -> 3 | F9: {=_xlfn.IFS(L9=mobilité!$B$2,mobilité!$C$2,L9=mobilité!$B$3,mobilité!$C$3,L9=mobilité!$B$4,mobilité!$C$4)} -> Fixe | G9: =LARGE(H9:K9,1) -> 600 | H9: 600 | I9: 0 | J9: 600 | K9: 0 | L9: F | N9: 0
B10: =IF(OR(C10="",D10="",G10=""),"",VLOOKUP($C10,'moyen d''accès'!$A:$C,3,0)&VLOOKUP($D10,Hauteur!A:B,2,0)&VLOOKUP($G10,'Longueur W utile'!A:B,2,0)) -> 15031380 | C10: Marche-pied | D10: 600 | E10: =D10/200 -> 3 | F10: {=_xlfn.IFS(L10=mobilité!$B$2,mobilité!$C$2,L10=mobilité!$B$3,mobilité!$C$3,L10=mobilité!$B$4,mobilité!$C$4)} -> Fixe | G10: =LARGE(H10:K10,1) -> 600 | H10: 600 | I10: 0 | J10: 600 | K10: 0 | L10: F | N10: 0
B11: =IF(OR(C11="",D11="",G11=""),"",VLOOKUP($C11,'moyen d''accès'!$A:$C,3,0)&VLOOKUP($D11,Hauteur!A:B,2,0)&VLOOKUP($G11,'Longueur W utile'!A:B,2,0)) -> 15031580 | C11: Marche-pied | D11: 1000 | E11: =D11/200 -> 5 | F11: {=_xlfn.IFS(L11=mobilité!$B$2,mobilité!$C$2,L11=mobilité!$B$3,mobilité!$C$3,L11=mobilité!$B$4,mobilité!$C$4)} -> Fixe | G11: =LARGE(H11:K11,1) -> 600 | H11: 600 | I11: 0 | J11: 600 | K11: 0 | L11: F | N11: 0
B12: =IF(OR(C12="",D12="",G12=""),"",VLOOKUP($C12,'moyen d''accès'!$A:$C,3,0)&VLOOKUP($D12,Hauteur!A:B,2,0)&VLOOKUP($G12,'Longueur W utile'!A:B,2,0)) -> 15031580 | C12: Marche-pied | D12: 1000 | E12: =D12/200 -> 5 | F12: {=_xlfn.IFS(L12=mobilité!$B$2,mobilité!$C$2,L12=mobilité!$B$3,mobilité!$C$3,L12=mobilité!$B$4,mobilité!$C$4)} -> Fixe | G12: =LARGE(H12:K12,1) -> 600 | H12: 600 | I12: 0 | J12: 600 | K12: 0 | L12: F | N12: 0
B13: =IF(OR(C13="",D13="",G13=""),"",VLOOKUP($C13,'moyen d''accès'!$A:$C,3,0)&VLOOKUP($D13,Hauteur!A:B,2,0)&VLOOKUP($G13,'Longueur W utile'!A:B,2,0)) -> 15031580 | C13: Marche-pied | D13: 1000 | E13: =D13/200 -> 5 | F13: {=_xlfn.IFS(L13=mobilité!$B$2,mobilité!$C$2,L13=mobilité!$B$3,mobilité!$C$3,L13=mobilité!$B$4,mobilité!$C$4)} -> Fixe | G13: =LARGE(H13:K13,1) -> 600 | H13: 600 | I13: 0 | J13: 600 | K13: 0 | L13: F | N13: 0
B14: =IF(OR(C14="",D14="",G14=""),"",VLOOKUP($C14,'moyen d''accès'!$A:$C,3,0)&VLOOKUP($D14,Hauteur!A:B,2,0)&VLOOKUP($G14,'Longueur W utile'!A:B,2,0)) -> 15031580 | C14: Marche-pied | D14: 1000 | E14: =D14/200 -> 5 | F14: {=_xlfn.IFS(L14=mobilité!$B$2,mobilité!$C$2,L14=mobilité!$B$3,mobilité!$C$3,L14=mobilité!$B$4,mobilité!$C$4)} -> Fixe | G14: =LARGE(H14:K14,1) -> 600 | H14: 600 | I14: 0 | J14: 600 | K14: 0 | L14: F | N14: 0
B15: =IF(OR(C15="",D15="",G15=""),"",VLOOKUP($C15,'moyen d''accès'!$A:$C,3,0)&VLOOKUP($D15,Hauteur!A:B,2,0)&VLOOKUP($G15,'Longueur W utile'!A:B,2,0)) -> 15031580 | C15: Marche-pied | D15: 1000 | E15: =D15/200 -> 5 | F15: {=_xlfn.IFS(L15=mobilité!$B$2,mobilité!$C$2,L15=mobilité!$B$3,mobilité!$C$3,L15=mobilité!$B$4,mobilité!$C$4)} -> Fixe | G15: =LARGE(H15:K15,1) -> 600 | H15: 600 | I15: 0 | J15: 600 | K15: 0 | L15: F | N15: 0
B16: =IF(OR(C16="",D16="",G16=""),"",VLOOKUP($C16,'moyen d''accès'!$A:$C,3,0)&VLOOKUP($D16,Hauteur!A:B,2,0)&VLOOKUP($G16,'Longueur W utile'!A:B,2,0)) -> 15031580 | C16: Marche-pied | D16: 1000 | E16: =D16/200 -> 5 | F16: {=_xlfn.IFS(L16=mobilité!$B$2,mobilité!$C$2,L16=mobilité!$B$3,mobilité!$C$3,L16=mobilité!$B$4,mobilité!$C$4)} -> Fixe | G16: =LARGE(H16:K16,1) -> 600 | H16: 600 | I16: 0 | J16: 600 | K16: 0 | L16: F | N16: 0
... B68: =IF(OR(C68="",D68="",G68=""),"",VLOOKUP($C68,'moyen d''accès'!$A:$C,3,0)&VLOOKUP($D68,Hauteur!A:B,2,0)&VLOOKUP($G68,'Longueur W utile'!A:B,2,0)) -> 150313120 | C68: Marche-pied | D68: 600 | E68: =D68/200 -> 3 | F68: {=_xlfn.IFS(L68=mobilité!$B$2,mobilité!$C$2,L68=mobilité!$B$3,mobilité!$C$3,L68=mobilité!$B$4,mobilité!$C$4)} -> Fixe | G68: =LARGE(H68:K68,1) -> 800 | H68: 500 | I68: 0 | J68: 800 | K68: 0 | L68: F | N68: 0
B69: =IF(OR(C69="",D69="",G69=""),"",VLOOKUP($C69,'moyen d''accès'!$A:$C,3,0)&VLOOKUP($D69,Hauteur!A:B,2,0)&VLOOKUP($G69,'Longueur W utile'!A:B,2,0)) -> 15032280 | C69: PIRL | D69: 400 | E69: =D69/200 -> 2 | F69: {=_xlfn.IFS(L69=mobilité!$B$2,mobilité!$C$2,L69=mobilité!$B$3,mobilité!$C$3,L69=mobilité!$B$4,mobilité!$C$4)} -> Fixe | G69: =LARGE(H69:K69,1) -> 600 | H69: 600 | I69: 0 | J69: 600 | K69: 0 | L69: F | M69: 0 | N69: 3
B70: =IF(OR(C70="",D70="",G70=""),"",VLOOKUP($C70,'moyen d''accès'!$A:$C,3,0)&VLOOKUP($D70,Hauteur!A:B,2,0)&VLOOKUP($G70,'Longueur W utile'!A:B,2,0)) -> 15032280 | C70: PIRL | D70: 400 | E70: =D70/200 -> 2 | F70: {=_xlfn.IFS(L70=mobilité!$B$2,mobilité!$C$2,L70=mobilité!$B$3,mobilité!$C$3,L70=mobilité!$B$4,mobilité!$C$4)} -> Fixe | G70: =LARGE(H70:K70,1) -> 600 | H70: 600 | I70: 0 | J70: 600 | K70: 0 | L70: F | M70: 0 | N70: 3
B71: =IF(OR(C71="",D71="",G71=""),"",VLOOKUP($C71,'moyen d''accès'!$A:$C,3,0)&VLOOKUP($D71,Hauteur!A:B,2,0)&VLOOKUP($G71,'Longueur W utile'!A:B,2,0)) -> 15032460 | C71: PIRL | D71: 800 | E71: =D71/200 -> 4 | F71: {=_xlfn.IFS(L71=mobilité!$B$2,mobilité!$C$2,L71=mobilité!$B$3,mobilité!$C$3,L71=mobilité!$B$4,mobilité!$C$4)} -> Mobile | G71: =LARGE(H71:K71,1) -> 500 | H71: 400 | I71: 0 | J71: 500 | K71: 0 | L71: BE | M71: 0 | N71: 3
B72: =IF(OR(C72="",D72="",G72=""),"",VLOOKUP($C72,'moyen d''accès'!$A:$C,3,0)&VLOOKUP($D72,Hauteur!A:B,2,0)&VLOOKUP($G72,'Longueur W utile'!A:B,2,0)) -> 15032880 | C72: PIRL | D72: 1600 | E72: =D72/200 -> 8 | F72: {=_xlfn.IFS(L72=mobilité!$B$2,mobilité!$C$2,L72=mobilité!$B$3,mobilité!$C$3,L72=mobilité!$B$4,mobilité!$C$4)} -> Mobile | G72: =LARGE(H72:K72,1) -> 600 | H72: 600 | I72: 0 | J72: 600 | K72: 0 | L72: BE | M72: 0 | N72: 3
B73: =IF(OR(C73="",D73="",G73=""),"",VLOOKUP($C73,'moyen d''accès'!$A:$C,3,0)&VLOOKUP($D73,Hauteur!A:B,2,0)&VLOOKUP($G73,'Longueur W utile'!A:B,2,0)) -> 15032660 | C73: PIRL | D73: 1200 | E73: =D73/200 -> 6 | F73: {=_xlfn.IFS(L73=mobilité!$B$2,mobilité!$C$2,L73=mobilité!$B$3,mobilité!$C$3,L73=mobilité!$B$4,mobilité!$C$4)} -> Mobile | G73: =LARGE(H73:K73,1) -> 500 | H73: 500 | I73: 0 | J73: 500 | K73: 0 | L73: BE | M73: 0 | N73: 3
B74: =IF(OR(C74="",D74="",G74=""),"",VLOOKUP($C74,'moyen d''accès'!$A:$C,3,0)&VLOOKUP($D74,Hauteur!A:B,2,0)&VLOOKUP($G74,'Longueur W utile'!A:B,2,0)) -> 15032660 | C74: PIRL | D74: 1200 | E74: =D74/200 -> 6 | F74: {=_xlfn.IFS(L74=mobilité!$B$2,mobilité!$C$2,L74=mobilité!$B$3,mobilité!$C$3,L74=mobilité!$B$4,mobilité!$C$4)} -> Mobile | G74: =LARGE(H74:K74,1) -> 500 | H74: 500 | I74: 0 | J74: 500 | K74: 0 | L74: BE | M74: 0 | N74: 3
B75: =IF(OR(C75="",D75="",G75=""),"",VLOOKUP($C75,'moyen d''accès'!$A:$C,3,0)&VLOOKUP($D75,Hauteur!A:B,2,0)&VLOOKUP($G75,'Longueur W utile'!A:B,2,0)) -> 150321180 | C75: PIRL | D75: 2200 | E75: =D75/200 -> 11 | F75: {=_xlfn.IFS(L75=mobilité!$B$2,mobilité!$C$2,L75=mobilité!$B$3,mobilité!$C$3,L75=mobilité!$B$4,mobilité!$C$4)} -> Mobile | G75: =LARGE(H75:K75,1) -> 600 | H75: 600 | I75: 0 | J75: 600 | K75: 0 | L75: BE | M75: 0 | N75: 3
B76: =IF(OR(C76="",D76="",G76=""),"",VLOOKUP($C76,'moyen d''accès'!$A:$C,3,0)&VLOOKUP($D76,Hauteur!A:B,2,0)&VLOOKUP($G76,'Longueur W utile'!A:B,2,0)) -> 15032880 | C76: PIRL | D76: 1600 | E76: =D76/200 -> 8 | F76: {=_xlfn.IFS(L76=mobilité!$B$2,mobilité!$C$2,L76=mobilité!$B$3,mobilité!$C$3,L76=mobilité!$B$4,mobilité!$C$4)} -> Mobile | G76: =LARGE(H76:K76,1) -> 600 | H76: 500 | I76: 0 | J76: 600 | K76: 0 | L76: BE | M76: 0 | N76: 3
B77: =IF(OR(C77="",D77="",G77=""),"",VLOOKUP($C77,'moyen d''accès'!$A:$C,3,0)&VLOOKUP($D77,Hauteur!A:B,2,0)&VLOOKUP($G77,'Longueur W utile'!A:B,2,0)) -> 15032880 | C77: PIRL | D77: 1600 | E77: =D77/200 -> 8 | F77: {=_xlfn.IFS(L77=mobilité!$B$2,mobilité!$C$2,L77=mobilité!$B$3,mobilité!$C$3,L77=mobilité!$B$4,mobilité!$C$4)} -> Mobile | G77: =LARGE(H77:K77,1) -> 600 | H77: 500 | I77: 0 | J77: 600 | K77: 0 | L77: BE | M77: 0 | N77: 3
B78: =IF(OR(C78="",D78="",G78=""),"",VLOOKUP($C78,'moyen d''accès'!$A:$C,3,0)&VLOOKUP($D78,Hauteur!A:B,2,0)&VLOOKUP($G78,'Longueur W utile'!A:B,2,0)) -> 150328100 | C78: PIRL | D78: 1600 | E78: =D78/200 -> 8 | F78: {=_xlfn.IFS(L78=mobilité!$B$2,mobilité!$C$2,L78=mobilité!$B$3,mobilité!$C$3,L78=mobilité!$B$4,mobilité!$C$4)} -> Mobile | G78: =LARGE(H78:K78,1) -> 700 | H78: 600 | I78: 0 | J78: 700 | K78: 0 | L78: BE | M78: 0 | N78: 3
B79: =IF(OR(C79="",D79="",G79=""),"",VLOOKUP($C79,'moyen d''accès'!$A:$C,3,0)&VLOOKUP($D79,Hauteur!A:B,2,0)&VLOOKUP($G79,'Longueur W utile'!A:B,2,0)) -> 150328100 | C79: PIRL | D79: 1600 | E79: =D79/200 -> 8 | F79: {=_xlfn.IFS(L79=mobilité!$B$2,mobilité!$C$2,L79=mobilité!$B$3,mobilité!$C$3,L79=mobilité!$B$4,mobilité!$C$4)} -> Mobile | G79: =LARGE(H79:K79,1) -> 700 | H79: 600 | I79: 0 | J79: 700 | K79: 0 | L79: BE | M79: 0 | N79: 3
B80: =IF(OR(C80="",D80="",G80=""),"",VLOOKUP($C80,'moyen d''accès'!$A:$C,3,0)&VLOOKUP($D80,Hauteur!A:B,2,0)&VLOOKUP($G80,'Longueur W utile'!A:B,2,0)) -> 15032580 | C80: PIRL | D80: 1000 | E80: =D80/200 -> 5 | F80: {=_xlfn.IFS(L80=mobilité!$B$2,mobilité!$C$2,L80=mobilité!$B$3,mobilité!$C$3,L80=mobilité!$B$4,mobilité!$C$4)} -> Mobile | G80: =LARGE(H80:K80,1) -> 600 | H80: 400 | I80: 0 | J80: 600 | K80: 0 | L80: BE | M80: 0 | N80: 2
... B172: =IF(OR(C172="",D172="",G172=""),"",VLOOKUP($C172,'moyen d''accès'!$A:$C,3,0)&VLOOKUP($D172,Hauteur!A:B,2,0)&VLOOKUP($G172,'Longueur W utile'!A:B,2,0)) -> 15032880 | C172: PIRL | D172: 1600 | E172: =D172/200 -> 8 | F172: {=_xlfn.IFS(L172=mobilité!$B$2,mobilité!$C$2,L172=mobilité!$B$3,mobilité!$C$3,L172=mobilité!$B$4,mobilité!$C$4)} -> Mobile | G172: =LARGE(H172:K172,1) -> 600 | H172: 500 | I172: 0 | J172: 600 | K172: 0 | L172: BE | M172: 0 | N172: 3
B173: =IF(OR(C173="",D173="",G173=""),"",VLOOKUP($C173,'moyen d''accès'!$A:$C,3,0)&VLOOKUP($D173,Hauteur!A:B,2,0)&VLOOKUP($G173,'Longueur W utile'!A:B,2,0)) -> 150335200 | C173: Plateforme | D173: 1000 | F173: {=_xlfn.IFS(L173=mobilité!$B$2,mobilité!$C$2,L173=mobilité!$B$3,mobilité!$C$3,L173=mobilité!$B$4,mobilité!$C$4)} -> Mobile | G173: =LARGE(H173:K173,1) -> 1200 | H173: 800 | I173: 1200 | J173: 600 | K173: 0 | L173: RP | M173: 0 | N173: 3 | Q173: NA
B174: =IF(OR(C174="",D174="",G174=""),"",VLOOKUP($C174,'moyen d''accès'!$A:$C,3,0)&VLOOKUP($D174,Hauteur!A:B,2,0)&VLOOKUP($G174,'Longueur W utile'!A:B,2,0)) -> 150334120 | C174: Plateforme | D174: 800 | F174: {=_xlfn.IFS(L174=mobilité!$B$2,mobilité!$C$2,L174=mobilité!$B$3,mobilité!$C$3,L174=mobilité!$B$4,mobilité!$C$4)} -> Mobile | G174: =LARGE(H174:K174,1) -> 800 | H174: 600 | I174: 0 | J174: 800 | K174: 0 | L174: BE | M174: 0 | N174: 3 | Q174: Droite
B175: =IF(OR(C175="",D175="",G175=""),"",VLOOKUP($C175,'moyen d''accès'!$A:$C,3,0)&VLOOKUP($D175,Hauteur!A:B,2,0)&VLOOKUP($G175,'Longueur W utile'!A:B,2,0)) -> 150336260 | C175: Plateforme | D175: 1200 | F175: {=_xlfn.IFS(L175=mobilité!$B$2,mobilité!$C$2,L175=mobilité!$B$3,mobilité!$C$3,L175=mobilité!$B$4,mobilité!$C$4)} -> Mobile | G175: =LARGE(H175:K175,1) -> 1500 | H175: 900 | I175: 0 | J175: 1500 | K175: 0 | L175: RP | M175: 1800 | N175: 3 | Q175: Droite
B176: =IF(OR(C176="",D176="",G176=""),"",VLOOKUP($C176,'moyen d''accès'!$A:$C,3,0)&VLOOKUP($D176,Hauteur!A:B,2,0)&VLOOKUP($G176,'Longueur W utile'!A:B,2,0)) -> 150336340 | C176: Plateforme | D176: 1200 | F176: {=_xlfn.IFS(L176=mobilité!$B$2,mobilité!$C$2,L176=mobilité!$B$3,mobilité!$C$3,L176=mobilité!$B$4,mobilité!$C$4)} -> Mobile | G176: =LARGE(H176:K176,1) -> 1900 | H176: 800 | I176: 1000 | J176: 1900 | K176: 0 | L176: RP | M176: 1800 | N176: 3 | Q176: Gauche
B177: =IF(OR(C177="",D177="",G177=""),"",VLOOKUP($C177,'moyen d''accès'!$A:$C,3,0)&VLOOKUP($D177,Hauteur!A:B,2,0)&VLOOKUP($G177,'Longueur W utile'!A:B,2,0)) -> 150336340 | C177: Plateforme | D177: 1200 | F177: {=_xlfn.IFS(L177=mobilité!$B$2,mobilité!$C$2,L177=mobilité!$B$3,mobilité!$C$3,L177=mobilité!$B$4,mobilité!$C$4)} -> Mobile | G177: =LARGE(H177:K177,1) -> 1900 | H177: 800 | I177: 1000 | J177: 1900 | K177: 0 | L177: RP | M177: 1800 | N177: 3 | Q177: Droite
B178: =IF(OR(C178="",D178="",G178=""),"",VLOOKUP($C178,'moyen d''accès'!$A:$C,3,0)&VLOOKUP($D178,Hauteur!A:B,2,0)&VLOOKUP($G178,'Longueur W utile'!A:B,2,0)) -> 150331300 | C178: Plateforme | D178: 200 | F178: {=_xlfn.IFS(L178=mobilité!$B$2,mobilité!$C$2,L178=mobilité!$B$3,mobilité!$C$3,L178=mobilité!$B$4,mobilité!$C$4)} -> Mobile | G178: =LARGE(H178:K178,1) -> 1700 | H178: 600 | I178: 0 | J178: 1700 | K178: 0 | L178: RP | M178: 1000 | N178: 3 | Q178: Droite
B179: =IF(OR(C179="",D179="",G179=""),"",VLOOKUP($C179,'moyen d''accès'!$A:$C,3,0)&VLOOKUP($D179,Hauteur!A:B,2,0)&VLOOKUP($G179,'Longueur W utile'!A:B,2,0)) -> 150331300 | C179: Plateforme | D179: 200 | F179: {=_xlfn.IFS(L179=mobilité!$B$2,mobilité!$C$2,L179=mobilité!$B$3,mobilité!$C$3,L179=mobilité!$B$4,mobilité!$C$4)} -> Mobile | G179: =LARGE(H179:K179,1) -> 1700 | H179: 600 | I179: 0 | J179: 1700 | K179: 0 | L179: RP | M179: 1000 | N179: 3 | Q179: Droite
B180: =IF(OR(C180="",D180="",G180=""),"",VLOOKUP($C180,'moyen d''accès'!$A:$C,3,0)&VLOOKUP($D180,Hauteur!A:B,2,0)&VLOOKUP($G180,'Longueur W utile'!A:B,2,0)) -> 150337260 | C180: Plateforme | D180: 1400 | F180: {=_xlfn.IFS(L180=mobilité!$B$2,mobilité!$C$2,L180=mobilité!$B$3,mobilité!$C$3,L180=mobilité!$B$4,mobilité!$C$4)} -> Mobile | G180: =LARGE(H180:K180,1) -> 1500 | H180: 600 | I180: 0 | J180: 1500 | K180: 0 | L180: RP | M180: 0 | N180: 2 | Q180: Droite
B181: =IF(OR(C181="",D181="",G181=""),"",VLOOKUP($C181,'moyen d''accès'!$A:$C,3,0)&VLOOKUP($D181,Hauteur!A:B,2,0)&VLOOKUP($G181,'Longueur W utile'!A:B,2,0)) -> 150337260 | C181: Plateforme | D181: 1400 | F181: {=_xlfn.IFS(L181=mobilité!$B$2,mobilité!$C$2,L181=mobilité!$B$3,mobilité!$C$3,L181=mobilité!$B$4,mobilité!$C$4)} -> Mobile | G181: =LARGE(H181:K181,1) -> 1500 | H181: 600 | I181: 0 | J181: 1500 | K181: 0 | L181: RP | M181: 0 | N181: 2 | Q181: Gauche
B182: =IF(OR(C182="",D182="",G182=""),"",VLOOKUP($C182,'moyen d''accès'!$A:$C,3,0)&VLOOKUP($D182,Hauteur!A:B,2,0)&VLOOKUP($G182,'Longueur W utile'!A:B,2,0)) -> 150337260 | C182: Plateforme | D182: 1400 | F182: {=_xlfn.IFS(L182=mobilité!$B$2,mobilité!$C$2,L182=mobilité!$B$3,mobilité!$C$3,L182=mobilité!$B$4,mobilité!$C$4)} -> Mobile | G182: =LARGE(H182:K182,1) -> 1500 | H182: 600 | I182: 0 | J182: 1500 | K182: 0 | L182: RP | M182: 0 | N182: 2 | Q182: Gauche
...

Sheet mobilité
B1: Colonne1 | C1: Colonne2
B2: F | C2: Fixe
B3: RP | C3: Mobile
B4: BE | C4: Mobile

Sheet moyen d'accès
A1: type de produit | C1: N° en | D1: Gadre corps
A2: Marche-pied | C2: 15031 | D2: Non
A3: PIRL | C3: 15032 | D3: Oui
A4: Plateforme | C4: 15033 | D4: Oui
A5: Echelle à crénoline | C5: Non géré méthodes
A6: Echelle standard | C6: Non géré méthodes
A7: Escabeau standard | C7: Non géré méthodes
A8: Marche-pied plastique | C8: A retirer

Sheet Hauteur
A2: Hauteur | B2: N°associé
A3: 200 | B3: 1
A4: 400 | B4: 2
A5: 600 | B5: 3
A6: 800 | B6: 4
A7: 1000 | B7: 5
A8: 1200 | B8: 6
A9: 1400 | B9: 7
A10: 1600 | B10: 8
A11: 1800 | B11: 9
A12: 2000 | B12: 10
A13: 2200 | B13: 11
A14: 2400 | B14: 12
... A22: 4000 | B22: 20

Sheet Longueur W utile
A2: Longueur W utile | B2: N° associé
A3: 200 | B3: 0
A4: 300 | B4: 20
A5: 400 | B5: 40
A6: 500 | B6: 60
A7: 600 | B7: 80
A8: 700 | B8: 100
A9: 800 | B9: 120
A10: 900 | B10: 140
A11: 1000 | B11: 160
A12: 1100 | B12: 180
A13: 1200 | B13: 200
A14: 1300 | B14: 220
... A41: 4000 | B41: 760
