Workbook

Sheet Feuil1
D3: Date | E3: Poste | F3: Badgeage | J3: Temps Du : | K3: Temps Validé | L3: Débit Crédit | P3: Anomalies horaires
F4: E1 | G4: S1 | H4: E2 | I4: S2 | L4: Jour | M4: Jour | N4: Cumul | O4: Cumul | P4: HS | Q4: ABS
D5: Début
D6: 44652 | E6: OV | F6: 0.34375 | G6: 0.52083333 | J6: =VLOOKUP(E6,Données!$C$7:$E$12,3,FALSE) -> 0.3125 | K6: =I6-H6+G6-F6 -> 0.17708333 | L6: =K6-J6 -> -0.13541667 | M6: =IF(L6<0,"-"&TEXT(ABS(L6),"hh:mm"),TEXT(ABS(L6),"hh:mm")) -> -03:15 | N6: =L6 -> -0.13541667 | O6: =IF(N6<0,"-"&TEXT(ABS(N6),"hh:mm"),TEXT(ABS(N6),"hh:mm")) -> -03:15 | P6: =TEXT(IF(K6>=J6,K6-J6,0),"hh:mm") -> 00:00 | Q6: =IF(J6>K6,J6-K6,0) -> 0.13541667
D7: 44653 | E7: RH | J7: =VLOOKUP(E7,Données!$C$7:$E$12,3,FALSE) -> 0 | K7: =I7-H7+G7-F7 -> 0 | L7: =K7-J7 -> 0 | M7: =IF(L7<0,"-"&TEXT(ABS(L7),"hh:mm"),TEXT(ABS(L7),"hh:mm")) -> 00:00 | N7: =SUMIFS($N$6:$N6,$E$6:$E6,$E7)+L7 -> 0 | O7: =IF(N7<0,"-"&TEXT(ABS(N7),"hh:mm"),TEXT(ABS(N7),"hh:mm")) -> 00:00 | P7: =TEXT(IF(K7>=J7,K7-J7,0),"hh:mm") -> 00:00 | Q7: =IF(J7>K7,J7-K7,0) -> 0
D8: 44654 | E8: RH | J8: =VLOOKUP(E8,Données!$C$7:$E$12,3,FALSE) -> 0 | K8: =I8-H8+G8-F8 -> 0 | L8: =K8-J8 -> 0 | M8: =IF(L8<0,"-"&TEXT(ABS(L8),"hh:mm"),TEXT(ABS(L8),"hh:mm")) -> 00:00 | N8: =SUMIFS($N$6:$N7,$E$6:$E7,$E8)+L8 -> 0 | O8: =IF(N8<0,"-"&TEXT(ABS(N8),"hh:mm"),TEXT(ABS(N8),"hh:mm")) -> 00:00 | P8: =TEXT(IF(K8>=J8,K8-J8,0),"hh:mm") -> 00:00 | Q8: =IF(J8>K8,J8-K8,0) -> 0
D9: 44655 | E9: OV | F9: 0.34930556 | G9: 0.49791667 | H9: 0.53263889 | I9: 0.70208333 | J9: =VLOOKUP(E9,Données!$C$7:$E$12,3,FALSE) -> 0.3125 | K9: =I9-H9+G9-F9 -> 0.31805556 | L9: =K9-J9 -> 0.0055555556 | M9: =IF(L9<0,"-"&TEXT(ABS(L9),"hh:mm"),TEXT(ABS(L9),"hh:mm")) -> 00:08 | N9: =SUMIFS($N$6:$N8,$E$6:$E8,$E9)+L9 -> -0.12986111 | O9: =IF(N9<0,"-"&TEXT(ABS(N9),"hh:mm"),TEXT(ABS(N9),"hh:mm")) -> -03:07 | P9: =TEXT(IF(K9>=J9,K9-J9,0),"hh:mm") -> 00:08 | Q9: =IF(J9>K9,J9-K9,0) -> 0
D10: 44656 | E10: LJ | F10: 0.30555556 | G10: 0.76319444 | J10: =VLOOKUP(E10,Données!$C$7:$E$12,3,FALSE) -> 0.51041667 | K10: =I10-H10+G10-F10 -> 0.45763889 | L10: =K10-J10 -> -0.052777778 | M10: =IF(L10<0,"-"&TEXT(ABS(L10),"hh:mm"),TEXT(ABS(L10),"hh:mm")) -> -01:16 | N10: =SUMIFS($N$6:$N9,$E$6:$E9,$E10)+L10 -> -0.052777778 | O10: =IF(N10<0,"-"&TEXT(ABS(N10),"hh:mm"),TEXT(ABS(N10),"hh:mm")) -> -01:16 | P10: =TEXT(IF(K10>=J10,K10-J10,0),"hh:mm") -> 00:00 | Q10: =IF(J10>K10,J10-K10,0) -> 0.052777778
D11: 44657 | E11: OV | F11: 0.33888889 | G11: 0.49791667 | H11: 0.52152778 | I11: 0.7 | J11: =VLOOKUP(E11,Données!$C$7:$E$12,3,FALSE) -> 0.3125 | K11: =I11-H11+G11-F11 -> 0.3375 | L11: =K11-J11 -> 0.025 | M11: =IF(L11<0,"-"&TEXT(ABS(L11),"hh:mm"),TEXT(ABS(L11),"hh:mm")) -> 00:36 | N11: =SUMIFS($N$6:$N10,$E$6:$E10,$E11)+L11 -> -0.24027778 | O11: =IF(N11<0,"-"&TEXT(ABS(N11),"hh:mm"),TEXT(ABS(N11),"hh:mm")) -> -05:46 | P11: =TEXT(IF(K11>=J11,K11-J11,0),"hh:mm") -> 00:36 | Q11: =IF(J11>K11,J11-K11,0) -> 0
D12: 44658 | E12: LJ | F12: 0.33888889 | G12: 0.71041667 | J12: =VLOOKUP(E12,Données!$C$7:$E$12,3,FALSE) -> 0.51041667 | K12: =I12-H12+G12-F12 -> 0.37152778 | L12: =K12-J12 -> -0.13888889 | M12: =IF(L12<0,"-"&TEXT(ABS(L12),"hh:mm"),TEXT(ABS(L12),"hh:mm")) -> -03:20 | N12: =SUMIFS($N$6:$N11,$E$6:$E11,$E12)+L12 -> -0.19166667 | O12: =IF(N12<0,"-"&TEXT(ABS(N12),"hh:mm"),TEXT(ABS(N12),"hh:mm")) -> -04:36 | P12: =TEXT(IF(K12>=J12,K12-J12,0),"hh:mm") -> 00:00 | Q12: =IF(J12>K12,J12-K12,0) -> 0.13888889
D13: 44659 | E13: OV | F13: 0.3375 | G13: 0.49791667 | H13: 0.53263889 | I13: 0.70208333 | J13: =VLOOKUP(E13,Données!$C$7:$E$12,3,FALSE) -> 0.3125 | K13: =I13-H13+G13-F13 -> 0.32986111 | L13: =K13-J13 -> 0.017361111 | M13: =IF(L13<0,"-"&TEXT(ABS(L13),"hh:mm"),TEXT(ABS(L13),"hh:mm")) -> 00:25 | N13: =SUMIFS($N$6:$N12,$E$6:$E12,$E13)+L13 -> -0.48819444 | O13: =IF(N13<0,"-"&TEXT(ABS(N13),"hh:mm"),TEXT(ABS(N13),"hh:mm")) -> -11:43 | P13: =TEXT(IF(K13>=J13,K13-J13,0),"hh:mm") -> 00:25 | Q13: =IF(J13>K13,J13-K13,0) -> 0
D14: 44660 | E14: RH | J14: =VLOOKUP(E14,Données!$C$7:$E$12,3,FALSE) -> 0 | K14: =I14-H14+G14-F14 -> 0 | L14: =K14-J14 -> 0 | M14: =IF(L14<0,"-"&TEXT(ABS(L14),"hh:mm"),TEXT(ABS(L14),"hh:mm")) -> 00:00 | N14: =SUMIFS($N$6:$N13,$E$6:$E13,$E14)+L14 -> 0 | O14: =IF(N14<0,"-"&TEXT(ABS(N14),"hh:mm"),TEXT(ABS(N14),"hh:mm")) -> 00:00 | P14: =TEXT(IF(K14>=J14,K14-J14,0),"hh:mm") -> 00:00 | Q14: =IF(J14>K14,J14-K14,0) -> 0
D15: 44661 | E15: RH | J15: =VLOOKUP(E15,Données!$C$7:$E$12,3,FALSE) -> 0 | K15: =I15-H15+G15-F15 -> 0 | L15: =K15-J15 -> 0 | M15: =IF(L15<0,"-"&TEXT(ABS(L15),"hh:mm"),TEXT(ABS(L15),"hh:mm")) -> 00:00 | N15: =SUMIFS($N$6:$N14,$E$6:$E14,$E15)+L15 -> 0 | O15: =IF(N15<0,"-"&TEXT(ABS(N15),"hh:mm"),TEXT(ABS(N15),"hh:mm")) -> 00:00 | P15: =TEXT(IF(K15>=J15,K15-J15,0),"hh:mm") -> 00:00 | Q15: =IF(J15>K15,J15-K15,0) -> 0
D16: 44662 | E16: OV | F16: 0.35069444 | G16: 0.49791667 | H16: 0.53194444 | I16: 0.72291667 | J16: =VLOOKUP(E16,Données!$C$7:$E$12,3,FALSE) -> 0.3125 | K16: =I16-H16+G16-F16 -> 0.33819444 | L16: =K16-J16 -> 0.025694444 | M16: =IF(L16<0,"-"&TEXT(ABS(L16),"hh:mm"),TEXT(ABS(L16),"hh:mm")) -> 00:37 | N16: =SUMIFS($N$6:$N15,$E$6:$E15,$E16)+L16 -> -0.96805556 | O16: =IF(N16<0,"-"&TEXT(ABS(N16),"hh:mm"),TEXT(ABS(N16),"hh:mm")) -> -23:14 | P16: =TEXT(IF(K16>=J16,K16-J16,0),"hh:mm") -> 00:37 | Q16: =IF(J16>K16,J16-K16,0) -> 0
D17: 44663 | E17: OV | F17: 0.34097222 | G17: 0.49861111 | H17: 0.53402778 | I17: 0.73263889 | J17: =VLOOKUP(E17,Données!$C$7:$E$12,3,FALSE) -> 0.3125 | K17: =I17-H17+G17-F17 -> 0.35625 | L17: =K17-J17 -> 0.04375 | M17: =IF(L17<0,"-"&TEXT(ABS(L17),"hh:mm"),TEXT(ABS(L17),"hh:mm")) -> 01:03 | N17: =SUMIFS($N$6:$N16,$E$6:$E16,$E17)+L17 -> -1.9180556 | O17: =IF(N17<0,"-"&TEXT(ABS(N17),"hh:mm"),TEXT(ABS(N17),"hh:mm")) -> -22:02 | P17: =TEXT(IF(K17>=J17,K17-J17,0),"hh:mm") -> 01:03 | Q17: =IF(J17>K17,J17-K17,0) -> 0
D18: 44664 | E18: OV | F18: 0.33611111 | G18: 0.49861111 | H18: 0.53402778 | I18: 0.69513889 | J18: =VLOOKUP(E18,Données!$C$7:$E$12,3,FALSE) -> 0.3125 | K18: =I18-H18+G18-F18 -> 0.32361111 | L18: =K18-J18 -> 0.011111111 | M18: =IF(L18<0,"-"&TEXT(ABS(L18),"hh:mm"),TEXT(ABS(L18),"hh:mm")) -> 00:16 | N18: =SUMIFS($N$6:$N17,$E$6:$E17,$E18)+L18 -> -3.86875 | O18: =IF(N18<0,"-"&TEXT(ABS(N18),"hh:mm"),TEXT(ABS(N18),"hh:mm")) -> -20:51 | P18: =TEXT(IF(K18>=J18,K18-J18,0),"hh:mm") -> 00:16 | Q18: =IF(J18>K18,J18-K18,0) -> 0
D19: 44665 | E19: OV | F19: 0.33888889 | G19: 0.49791667 | H19: 0.53402778 | I19: 0.72708333 | J19: =VLOOKUP(E19,Données!$C$7:$E$12,3,FALSE) -> 0.3125 | K19: =I19-H19+G19-F19 -> 0.35208333 | L19: =K19-J19 -> 0.039583333 | M19: =IF(L19<0,"-"&TEXT(ABS(L19),"hh:mm"),TEXT(ABS(L19),"hh:mm")) -> 00:57 | N19: =SUMIFS($N$6:$N18,$E$6:$E18,$E19)+L19 -> -7.7090278 | O19: =IF(N19<0,"-"&TEXT(ABS(N19),"hh:mm"),TEXT(ABS(N19),"hh:mm")) -> -17:01 | P19: =TEXT(IF(K19>=J19,K19-J19,0),"hh:mm") -> 00:57 | Q19: =IF(J19>K19,J19-K19,0) -> 0
D20: 44666 | E20: OV | F20: 0.33888889 | G20: 0.49791667 | J20: =VLOOKUP(E20,Données!$C$7:$E$12,3,FALSE) -> 0.3125 | K20: =I20-H20+G20-F20 -> 0.15902778 | L20: =K20-J20 -> -0.15347222 | M20: =IF(L20<0,"-"&TEXT(ABS(L20),"hh:mm"),TEXT(ABS(L20),"hh:mm")) -> -03:41 | N20: =SUMIFS($N$6:$N19,$E$6:$E19,$E20)+L20 -> -15.611111 | O20: =IF(N20<0,"-"&TEXT(ABS(N20),"hh:mm"),TEXT(ABS(N20),"hh:mm")) -> -14:40 | P20: =TEXT(IF(K20>=J20,K20-J20,0),"hh:mm") -> 00:00 | Q20: =IF(J20>K20,J20-K20,0) -> 0.15347222
D21: 44667 | E21: RH | J21: =VLOOKUP(E21,Données!$C$7:$E$12,3,FALSE) -> 0 | K21: =I21-H21+G21-F21 -> 0 | L21: =K21-J21 -> 0 | M21: =IF(L21<0,"-"&TEXT(ABS(L21),"hh:mm"),TEXT(ABS(L21),"hh:mm")) -> 00:00 | N21: =SUMIFS($N$6:$N20,$E$6:$E20,$E21)+L21 -> 0 | O21: =IF(N21<0,"-"&TEXT(ABS(N21),"hh:mm"),TEXT(ABS(N21),"hh:mm")) -> 00:00 | P21: =TEXT(IF(K21>=J21,K21-J21,0),"hh:mm") -> 00:00 | Q21: =IF(J21>K21,J21-K21,0) -> 0
D22: 44668 | E22: RH | J22: =VLOOKUP(E22,Données!$C$7:$E$12,3,FALSE) -> 0 | K22: =I22-H22+G22-F22 -> 0 | L22: =K22-J22 -> 0 | M22: =IF(L22<0,"-"&TEXT(ABS(L22),"hh:mm"),TEXT(ABS(L22),"hh:mm")) -> 00:00 | N22: =SUMIFS($N$6:$N21,$E$6:$E21,$E22)+L22 -> 0 | O22: =IF(N22<0,"-"&TEXT(ABS(N22),"hh:mm"),TEXT(ABS(N22),"hh:mm")) -> 00:00 | P22: =TEXT(IF(K22>=J22,K22-J22,0),"hh:mm") -> 00:00 | Q22: =IF(J22>K22,J22-K22,0) -> 0
D23: 44669 | E23: RH | J23: =VLOOKUP(E23,Données!$C$7:$E$12,3,FALSE) -> 0 | K23: =I23-H23+G23-F23 -> 0 | L23: =K23-J23 -> 0 | M23: =IF(L23<0,"-"&TEXT(ABS(L23),"hh:mm"),TEXT(ABS(L23),"hh:mm")) -> 00:00 | N23: =SUMIFS($N$6:$N22,$E$6:$E22,$E23)+L23 -> 0 | O23: =IF(N23<0,"-"&TEXT(ABS(N23),"hh:mm"),TEXT(ABS(N23),"hh:mm")) -> 00:00 | P23: =TEXT(IF(K23>=J23,K23-J23,0),"hh:mm") -> 00:00 | Q23: =IF(J23>K23,J23-K23,0) -> 0
D24: 44670 | E24: LJ | F24: 0.35 | G24: 0.84305556 | J24: =VLOOKUP(E24,Données!$C$7:$E$12,3,FALSE) -> 0.51041667 | K24: =I24-H24+G24-F24 -> 0.49305556 | L24: =K24-J24 -> -0.017361111 | M24: =IF(L24<0,"-"&TEXT(ABS(L24),"hh:mm"),TEXT(ABS(L24),"hh:mm")) -> -00:25 | N24: =SUMIFS($N$6:$N23,$E$6:$E23,$E24)+L24 -> -0.26180556 | O24: =IF(N24<0,"-"&TEXT(ABS(N24),"hh:mm"),TEXT(ABS(N24),"hh:mm")) -> -06:17 | P24: =TEXT(IF(K24>=J24,K24-J24,0),"hh:mm") -> 00:00 | Q24: =IF(J24>K24,J24-K24,0) -> 0.017361111
D25: 44671 | E25: OV | F25: 0.32916667 | G25: 0.49861111 | H25: 0.52916667 | I25: 0.61111111 | J25: =VLOOKUP(E25,Données!$C$7:$E$12,3,FALSE) -> 0.3125 | K25: =I25-H25+G25-F25 -> 0.25138889 | L25: =K25-J25 -> -0.061111111 | M25: =IF(L25<0,"-"&TEXT(ABS(L25),"hh:mm"),TEXT(ABS(L25),"hh:mm")) -> -01:28 | N25: =SUMIFS($N$6:$N24,$E$6:$E24,$E25)+L25 -> -31.129861 | O25: =IF(N25<0,"-"&TEXT(ABS(N25),"hh:mm"),TEXT(ABS(N25),"hh:mm")) -> -03:07 | P25: =TEXT(IF(K25>=J25,K25-J25,0),"hh:mm") -> 00:00 | Q25: =IF(J25>K25,J25-K25,0) -> 0.061111111
D26: 44672 | E26: OV | F26: 0.31666667 | G26: 0.49791667 | H26: 0.53194444 | I26: 0.69166667 | J26: =VLOOKUP(E26,Données!$C$7:$E$12,3,FALSE) -> 0.3125 | K26: =I26-H26+G26-F26 -> 0.34097222 | L26: =K26-J26 -> 0.028472222 | M26: =IF(L26<0,"-"&TEXT(ABS(L26),"hh:mm"),TEXT(ABS(L26),"hh:mm")) -> 00:41 | N26: =SUMIFS($N$6:$N25,$E$6:$E25,$E26)+L26 -> -62.170139 | O26: =IF(N26<0,"-"&TEXT(ABS(N26),"hh:mm"),TEXT(ABS(N26),"hh:mm")) -> -04:05 | P26: =TEXT(IF(K26>=J26,K26-J26,0),"hh:mm") -> 00:41 | Q26: =IF(J26>K26,J26-K26,0) -> 0
D27: 44673 | E27: LJ | F27: 0.33125 | G27: 0.72222222 | J27: =VLOOKUP(E27,Données!$C$7:$E$12,3,FALSE) -> 0.51041667 | K27: =I27-H27+G27-F27 -> 0.39097222 | L27: =K27-J27 -> -0.11944444 | M27: =IF(L27<0,"-"&TEXT(ABS(L27),"hh:mm"),TEXT(ABS(L27),"hh:mm")) -> -02:52 | N27: =SUMIFS($N$6:$N26,$E$6:$E26,$E27)+L27 -> -0.62569444 | O27: =IF(N27<0,"-"&TEXT(ABS(N27),"hh:mm"),TEXT(ABS(N27),"hh:mm")) -> -15:01 | P27: =TEXT(IF(K27>=J27,K27-J27,0),"hh:mm") -> 00:00 | Q27: =IF(J27>K27,J27-K27,0) -> 0.11944444
D28: 44674 | E28: RH | J28: =VLOOKUP(E28,Données!$C$7:$E$12,3,FALSE) -> 0 | K28: =I28-H28+G28-F28 -> 0 | L28: =K28-J28 -> 0 | M28: =IF(L28<0,"-"&TEXT(ABS(L28),"hh:mm"),TEXT(ABS(L28),"hh:mm")) -> 00:00 | N28: =SUMIFS($N$6:$N27,$E$6:$E27,$E28)+L28 -> 0 | O28: =IF(N28<0,"-"&TEXT(ABS(N28),"hh:mm"),TEXT(ABS(N28),"hh:mm")) -> 00:00 | P28: =TEXT(IF(K28>=J28,K28-J28,0),"hh:mm") -> 00:00 | Q28: =IF(J28>K28,J28-K28,0) -> 0
D29: 44675 | E29: RH | J29: =VLOOKUP(E29,Données!$C$7:$E$12,3,FALSE) -> 0 | K29: =I29-H29+G29-F29 -> 0 | L29: =K29-J29 -> 0 | M29: =IF(L29<0,"-"&TEXT(ABS(L29),"hh:mm"),TEXT(ABS(L29),"hh:mm")) -> 00:00 | N29: =SUMIFS($N$6:$N28,$E$6:$E28,$E29)+L29 -> 0 | O29: =IF(N29<0,"-"&TEXT(ABS(N29),"hh:mm"),TEXT(ABS(N29),"hh:mm")) -> 00:00 | P29: =TEXT(IF(K29>=J29,K29-J29,0),"hh:mm") -> 00:00 | Q29: =IF(J29>K29,J29-K29,0) -> 0
D30: 44676 | E30: LJ | F30: 0.34930556 | G30: 0.75277778 | J30: =VLOOKUP(E30,Données!$C$7:$E$12,3,FALSE) -> 0.51041667 | K30: =I30-H30+G30-F30 -> 0.40347222 | L30: =K30-J30 -> -0.10694444 | M30: =IF(L30<0,"-"&TEXT(ABS(L30),"hh:mm"),TEXT(ABS(L30),"hh:mm")) -> -02:34 | N30: =SUMIFS($N$6:$N29,$E$6:$E29,$E30)+L30 -> -1.2388889 | O30: =IF(N30<0,"-"&TEXT(ABS(N30),"hh:mm"),TEXT(ABS(N30),"hh:mm")) -> -05:44 | P30: =TEXT(IF(K30>=J30,K30-J30,0),"hh:mm") -> 00:00 | Q30: =IF(J30>K30,J30-K30,0) -> 0.10694444
D31: 44677 | E31: LJ | F31: 0.3375 | G31: 0.69375 | J31: =VLOOKUP(E31,Données!$C$7:$E$12,3,FALSE) -> 0.51041667 | K31: =I31-H31+G31-F31 -> 0.35625 | L31: =K31-J31 -> -0.15416667 | M31: =IF(L31<0,"-"&TEXT(ABS(L31),"hh:mm"),TEXT(ABS(L31),"hh:mm")) -> -03:42 | N31: =SUMIFS($N$6:$N30,$E$6:$E30,$E31)+L31 -> -2.525 | O31: =IF(N31<0,"-"&TEXT(ABS(N31),"hh:mm"),TEXT(ABS(N31),"hh:mm")) -> -12:36 | P31: =TEXT(IF(K31>=J31,K31-J31,0),"hh:mm") -> 00:00 | Q31: =IF(J31>K31,J31-K31,0) -> 0.15416667
D32: 44678 | E32: OV | F32: 0.32708333 | G32: 0.49791667 | H32: 0.52083333 | I32: 0.67638889 | J32: =VLOOKUP(E32,Données!$C$7:$E$12,3,FALSE) -> 0.3125 | K32: =I32-H32+G32-F32 -> 0.32638889 | L32: =K32-J32 -> 0.013888889 | M32: =IF(L32<0,"-"&TEXT(ABS(L32),"hh:mm"),TEXT(ABS(L32),"hh:mm")) -> 00:20 | N32: =SUMIFS($N$6:$N31,$E$6:$E31,$E32)+L32 -> -124.35486 | O32: =IF(N32<0,"-"&TEXT(ABS(N32),"hh:mm"),TEXT(ABS(N32),"hh:mm")) -> -08:31 | P32: =TEXT(IF(K32>=J32,K32-J32,0),"hh:mm") -> 00:20 | Q32: =IF(J32>K32,J32-K32,0) -> 0
D33: 44679 | E33: LJ | F33: 0.33263889 | G33: 0.70972222 | J33: =VLOOKUP(E33,Données!$C$7:$E$12,3,FALSE) -> 0.51041667 | K33: =I33-H33+G33-F33 -> 0.37708333 | L33: =K33-J33 -> -0.13333333 | M33: =IF(L33<0,"-"&TEXT(ABS(L33),"hh:mm"),TEXT(ABS(L33),"hh:mm")) -> -03:12 | N33: =SUMIFS($N$6:$N32,$E$6:$E32,$E33)+L33 -> -5.0291667 | O33: =IF(N33<0,"-"&TEXT(ABS(N33),"hh:mm"),TEXT(ABS(N33),"hh:mm")) -> -00:42 | P33: =TEXT(IF(K33>=J33,K33-J33,0),"hh:mm") -> 00:00 | Q33: =IF(J33>K33,J33-K33,0) -> 0.13333333
D34: 44680 | E34: CA | J34: =VLOOKUP(E34,Données!$C$7:$E$12,3,FALSE) -> 0 | K34: =I34-H34+G34-F34 -> 0 | L34: =K34-J34 -> 0 | M34: =IF(L34<0,"-"&TEXT(ABS(L34),"hh:mm"),TEXT(ABS(L34),"hh:mm")) -> 00:00 | N34: =SUMIFS($N$6:$N33,$E$6:$E33,$E34)+L34 -> 0 | O34: =IF(N34<0,"-"&TEXT(ABS(N34),"hh:mm"),TEXT(ABS(N34),"hh:mm")) -> 00:00 | P34: =TEXT(IF(K34>=J34,K34-J34,0),"hh:mm") -> 00:00 | Q34: =IF(J34>K34,J34-K34,0) -> 0
D35: 44681 | E35: FP | F35: 0.34027778 | G35: 0.44722222 | H35: 0.58402778 | I35: 0.76527778 | J35: =VLOOKUP(E35,Données!$C$7:$E$12,3,FALSE) -> 0.16666667 | K35: =I35-H35+G35-F35 -> 0.28819444 | L35: =K35-J35 -> 0.12152778 | M35: =IF(L35<0,"-"&TEXT(ABS(L35),"hh:mm"),TEXT(ABS(L35),"hh:mm")) -> 02:55 | N35: =SUMIFS($N$6:$N34,$E$6:$E34,$E35)+L35 -> 0.12152778 | O35: =IF(N35<0,"-"&TEXT(ABS(N35),"hh:mm"),TEXT(ABS(N35),"hh:mm")) -> 02:55 | P35: =TEXT(IF(K35>=J35,K35-J35,0),"hh:mm") -> 02:55 | Q35: =IF(J35>K35,J35-K35,0) -> 0
D36: Fin
D37: Report

Sheet Données
C5: Descriptifs Postes
C6: intitulé | D6: Amplitude Horaire | E6: Exigible | F6: Plage Fixe Présence obligatoire | G6: Plage Fixe Présence obligatoire | H6: Pause Méridienne
C7: OV | D7: 7:00 / 19:00 | E7: 0.3125 | F7: 10:00 /12:00 | G7: 14:00/16:00 | H7: 0.03125
C8: LJ | D8: 7:00 / 19:00 | E8: 0.51041667
C9: FP | D9: 8:00 / 18:00 | E9: 0.16666667 | F9: 10:00 /12:00 | G9: 14:00 / 18:00
C10: CA | E10: 0
C11: RH | E11: 0
C12: F | E12: 0.3125 | F12: 8:00 / 12:00 | G12: 14:00/17:30 | H12: 0.03125
