Workbook

Sheet source
A1: Reservation No. | B1: Process Number | C1: Hotel No. | D1: Client Gastname 1 | E1: Number of Rooms | F1: Reservation Date from | G1: Reservation Date to | H1: Number of Nights | I1: Rate Description | J1: Room Price | K1: Currency Code | L1: Commission amount | M1: Commission Rate
A2: 264839144 | B2: 150114019 | C2: 205257 | D2: CIMEN, HAKAN ENGIN | E2: 1 | F2: 44617 | G2: 44618 | H2: 1 | I2: HRS-Rate | J2: 78 | K2: EUR | L2: 11.7 | M2: 15
A3: 264839144 | B3: 150114019 | C3: 205257 | D3: CIMEN, HAKAN ENGIN | E3: 1 | F3: 44618 | G3: 44619 | H3: 1 | I3: HRS-Rate | J3: 78 | K3: EUR | L3: 11.7 | M3: 15
A4: 264839144 | B4: 150114019 | C4: 205257 | D4: CIMEN, HAKAN ENGIN | E4: 1 | F4: 44619 | G4: 44620 | H4: 1 | I4: HRS-Rate | J4: 78 | K4: EUR | L4: 11.7 | M4: 15
A5: 264839144 | B5: 150114019 | C5: 205257 | D5: CIMEN, HAKAN ENGIN | E5: 1 | F5: 44620 | G5: 44621 | H5: 1 | I5: HRS-Rate | J5: 78 | K5: EUR | L5: 11.7 | M5: 15
A6: 264839144 | B6: 150114019 | C6: 205257 | D6: CIMEN, HAKAN ENGIN | E6: 1 | F6: 44621 | G6: 44622 | H6: 1 | I6: HRS-Rate | J6: 78 | K6: EUR | L6: 11.7 | M6: 15
A7: 264839144 | B7: 150114019 | C7: 205257 | D7: CIMEN, HAKAN ENGIN | E7: 1 | F7: 44622 | G7: 44623 | H7: 1 | I7: HRS-Rate | J7: 78 | K7: EUR | L7: 11.7 | M7: 15
A8: 264839144 | B8: 150114019 | C8: 205257 | D8: CIMEN, HAKAN ENGIN | E8: 1 | F8: 44623 | G8: 44624 | H8: 1 | I8: HRS-Rate | J8: 78 | K8: EUR | L8: 11.7 | M8: 15
A9: 265076234 | B9: 150281739 | C9: 205257 | D9: ALJERAIWI, ABEER | E9: 1 | F9: 44618 | G9: 44619 | H9: 1 | I9: HRS-Rate | J9: 82 | K9: EUR | L9: 12.3 | M9: 15
A10: 265076234 | B10: 150281739 | C10: 205257 | D10: ALJERAIWI, ABEER | E10: 1 | F10: 44619 | G10: 44620 | H10: 1 | I10: HRS-Rate | J10: 82 | K10: EUR | L10: 12.3 | M10: 15
A11: 265076234 | B11: 150281739 | C11: 205257 | D11: ALJERAIWI, ABEER | E11: 1 | F11: 44620 | G11: 44621 | H11: 1 | I11: HRS-Rate | J11: 82 | K11: EUR | L11: 12.3 | M11: 15
A12: 265076234 | B12: 150281739 | C12: 205257 | D12: ALJERAIWI, ABEER | E12: 1 | F12: 44621 | G12: 44622 | H12: 1 | I12: HRS-Rate | J12: 78 | K12: EUR | L12: 11.7 | M12: 15
A13: 265076234 | B13: 150281739 | C13: 205257 | D13: ALJERAIWI, ABEER | E13: 1 | F13: 44622 | G13: 44623 | H13: 1 | I13: HRS-Rate | J13: 78 | K13: EUR | L13: 11.7 | M13: 15
... A17: 265187866 | B17: 150361047 | C17: 390252 | D17: HERNANDEZ, YANNICK | E17: 1 | F17: 44619 | G17: 44620 | H17: 1 | I17: Tarif HRS | J17: 97.94 | K17: EUR | L17: 14.69 | M17: 15

Sheet synthèse
B1: 2 | C1: 3 | D1: 4 | E1: 5 | F1: 6 | G1: 7 | H1: 8 | I1: 9 | J1: 10 | K1: 11 | L1: 12 | M1: 13
A2: Reservation No. | B2: Process Number | C2: Hotel No. | D2: Client Gastname 1 | E2: Number of Rooms | F2: Reservation Date from | G2: Reservation Date to | H2: Number of Nights | I2: Rate Description | J2: Room Price | K2: Currency Code | L2: Commission amount | M2: Commission Rate
A3: 264839144 | B3: =VLOOKUP($A3,source!$A:$M,B$1,0) -> 150114019 | C3: =VLOOKUP($A3,source!$A:$M,C$1,0) -> 205257 | D3: =VLOOKUP($A3,source!$A:$M,D$1,0) -> CIMEN, HAKAN ENGIN | E3: =VLOOKUP($A3,source!$A:$M,E$1,0) -> 1 | F3: =_xlfn.MINIFS(source!$F:$F,source!$A:$A,$A3) -> 44617 | G3: =_xlfn.MAXIFS(source!$G:$G,source!$A:$A,$A3) -> 44624 | H3: =SUMIFS(source!$H:$H,source!$A:$A,$A3) -> 7 | I3: =VLOOKUP($A3,source!$A:$M,I$1,0) -> HRS-Rate | J3: =VLOOKUP($A3,source!$A:$M,J$1,0) -> 78 | K3: =VLOOKUP($A3,source!$A:$M,K$1,0) -> EUR | L3: =SUMIFS(source!$L:$L,source!A:A,$A3) -> 81.9 | M3: =VLOOKUP($A3,source!$A:$M,M$1,0) -> 15
A4: 265076234 | B4: =VLOOKUP($A4,source!$A:$M,B$1,0) -> 150281739 | C4: =VLOOKUP($A4,source!$A:$M,C$1,0) -> 205257 | D4: =VLOOKUP($A4,source!$A:$M,D$1,0) -> ALJERAIWI, ABEER | E4: =VLOOKUP($A4,source!$A:$M,E$1,0) -> 1 | F4: =_xlfn.MINIFS(source!$F:$F,source!$A:$A,$A4) -> 44618 | G4: =_xlfn.MAXIFS(source!$G:$G,source!$A:$A,$A4) -> 44624 | H4: =SUMIFS(source!$H:$H,source!$A:$A,$A4) -> 6 | I4: =VLOOKUP($A4,source!$A:$M,I$1,0) -> HRS-Rate | J4: =VLOOKUP($A4,source!$A:$M,J$1,0) -> 82 | K4: =VLOOKUP($A4,source!$A:$M,K$1,0) -> EUR | L4: =SUMIFS(source!$L:$L,source!A:A,$A4) -> 73.2 | M4: =VLOOKUP($A4,source!$A:$M,M$1,0) -> 15
A5: 264989482 | B5: =VLOOKUP($A5,source!$A:$M,B$1,0) -> 150220124 | C5: =VLOOKUP($A5,source!$A:$M,C$1,0) -> 102776 | D5: =VLOOKUP($A5,source!$A:$M,D$1,0) -> GENIS PAGES, SANDRA | E5: =VLOOKUP($A5,source!$A:$M,E$1,0) -> 1 | F5: =_xlfn.MINIFS(source!$F:$F,source!$A:$A,$A5) -> 44619 | G5: =_xlfn.MAXIFS(source!$G:$G,source!$A:$A,$A5) -> 44621 | H5: =SUMIFS(source!$H:$H,source!$A:$A,$A5) -> 2 | I5: =VLOOKUP($A5,source!$A:$M,I$1,0) -> Tarif HRS | J5: =VLOOKUP($A5,source!$A:$M,J$1,0) -> 72 | K5: =VLOOKUP($A5,source!$A:$M,K$1,0) -> EUR | L5: =SUMIFS(source!$L:$L,source!A:A,$A5) -> 22.2 | M5: =VLOOKUP($A5,source!$A:$M,M$1,0) -> 15
A6: 265187866 | B6: =VLOOKUP($A6,source!$A:$M,B$1,0) -> 150361047 | C6: =VLOOKUP($A6,source!$A:$M,C$1,0) -> 390252 | D6: =VLOOKUP($A6,source!$A:$M,D$1,0) -> HERNANDEZ, YANNICK | E6: =VLOOKUP($A6,source!$A:$M,E$1,0) -> 1 | F6: =_xlfn.MINIFS(source!$F:$F,source!$A:$A,$A6) -> 44619 | G6: =_xlfn.MAXIFS(source!$G:$G,source!$A:$A,$A6) -> 44620 | H6: =SUMIFS(source!$H:$H,source!$A:$A,$A6) -> 1 | I6: =VLOOKUP($A6,source!$A:$M,I$1,0) -> Tarif HRS | J6: =VLOOKUP($A6,source!$A:$M,J$1,0) -> 97.94 | K6: =VLOOKUP($A6,source!$A:$M,K$1,0) -> EUR | L6: =SUMIFS(source!$L:$L,source!A:A,$A6) -> 14.69 | M6: =VLOOKUP($A6,source!$A:$M,M$1,0) -> 15
