Workbook
Name Raison_sociale: Clients!$B$3
Name RaisonSociale: OFFSET(Clients!$B$4,0,0,COUNTA(Clients!$B:$B)-1,1)
Name Ref_Client: Clients!$A$3

Sheet Entrées Heures de travail 2019
A1: 1 | B1: 2019 | C1: Janvier
A2: Jours | C2: Date | D2: Client | E2: Heures de vol en min. | F2: Heures théorie en min. | H2: Recettes Vol | I2: Recettes Théorie | J2: Recette Client | K2: Heures de Présences | L2: Jours de présence | M2: Trajets | N2: Règlement | O2: Référence | P2: Pointage | Q2: Spécifique
A4: 1 | B4: =IF(C4>0,C4,"") -> 42195 | C4: 42195 | E4: 120 | H4: =IF(E4>0,'Base de données - Taxes'!F$4/60*E4,"") -> 80 | I4: =IF(F4>0,'Base de données - Taxes'!F$5/60*F4,"") | J4: =SUM(H4:I4) -> 80 | K4: 480 | L4: =IF(E4>0,1,IF(F4>0,1,"")) -> 1 | M4: 2
A5: 2 | B5: =IF(C5>0,C5,"") | E5: 120 | F5: 60 | H5: =IF(E5>0,'Base de données - Taxes'!F$4/60*E5,"") -> 80 | I5: =IF(F5>0,'Base de données - Taxes'!F$5/60*F5,"") -> 15 | J5: =SUM(H5:I5) -> 95 | K5: 480 | L5: =IF(E5>0,1,IF(F5>0,1,"")) -> 1 | M5: 2
A6: 3 | B6: =IF(C6>0,C6,"") | E6: 120 | F6: 60 | H6: =IF(E6>0,'Base de données - Taxes'!F$4/60*E6,"") -> 80 | I6: =IF(F6>0,'Base de données - Taxes'!F$5/60*F6,"") -> 15 | J6: =SUM(H6:I6) -> 95 | K6: 480 | L6: =IF(E6>0,1,IF(F6>0,1,"")) -> 1 | M6: 2
A7: 4 | B7: =IF(C7>0,C7,"") | E7: 120 | F7: 60 | H7: =IF(E7>0,'Base de données - Taxes'!F$4/60*E7,"") -> 80 | I7: =IF(F7>0,'Base de données - Taxes'!F$5/60*F7,"") -> 15 | J7: =SUM(H7:I7) -> 95 | K7: 480 | L7: =IF(E7>0,1,IF(F7>0,1,"")) -> 1
A8: 5 | B8: =IF(C8>0,C8,"") | E8: 120 | F8: 60 | H8: =IF(E8>0,'Base de données - Taxes'!F$4/60*E8,"") -> 80 | I8: =IF(F8>0,'Base de données - Taxes'!F$5/60*F8,"") -> 15 | J8: =SUM(H8:I8) -> 95 | K8: 480 | L8: =IF(E8>0,1,IF(F8>0,1,"")) -> 1
A9: 6 | B9: =IF(C9>0,C9,"") | E9: 120 | F9: 60 | H9: =IF(E9>0,'Base de données - Taxes'!F$4/60*E9,"") -> 80 | I9: =IF(F9>0,'Base de données - Taxes'!F$5/60*F9,"") -> 15 | J9: =SUM(H9:I9) -> 95 | K9: 480 | L9: =IF(E9>0,1,IF(F9>0,1,"")) -> 1 | M9: 1
A10: 7 | B10: =IF(C10>0,C10,"") | E10: 120 | F10: 60 | H10: =IF(E10>0,'Base de données - Taxes'!F$4/60*E10,"") -> 80 | I10: =IF(F10>0,'Base de données - Taxes'!F$5/60*F10,"") -> 15 | J10: =SUM(H10:I10) -> 95 | K10: 480 | L10: =IF(E10>0,1,IF(F10>0,1,"")) -> 1
A11: 8 | B11: =IF(C11>0,C11,"") | E11: 120 | F11: 60 | H11: =IF(E11>0,'Base de données - Taxes'!F$4/60*E11,"") -> 80 | I11: =IF(F11>0,'Base de données - Taxes'!F$5/60*F11,"") -> 15 | J11: =SUM(H11:I11) -> 95 | K11: 480 | L11: =IF(E11>0,1,IF(F11>0,1,"")) -> 1
A12: 9 | B12: =IF(C12>0,C12,"") | E12: 120 | F12: 60 | H12: =IF(E12>0,'Base de données - Taxes'!F$4/60*E12,"") -> 80 | I12: =IF(F12>0,'Base de données - Taxes'!F$5/60*F12,"") -> 15 | J12: =SUM(H12:I12) -> 95 | K12: 480 | L12: =IF(E12>0,1,IF(F12>0,1,"")) -> 1
A13: 10 | B13: =IF(C13>0,C13,"") | E13: 120 | F13: 60 | H13: =IF(E13>0,'Base de données - Taxes'!F$4/60*E13,"") -> 80 | I13: =IF(F13>0,'Base de données - Taxes'!F$5/60*F13,"") -> 15 | J13: =SUM(H13:I13) -> 95 | K13: 480 | L13: =IF(E13>0,1,IF(F13>0,1,"")) -> 1
A14: 11 | B14: =IF(C14>0,C14,"") | H14: =IF(E14>0,'Base de données - Taxes'!F$4/60*E14,"") | I14: =IF(F14>0,'Base de données - Taxes'!F$5/60*F14,"") | J14: =SUM(H14:I14) -> 0 | L14: =IF(E14>0,1,IF(F14>0,1,""))
A15: 12 | B15: =IF(C15>0,C15,"") | H15: =IF(E15>0,'Base de données - Taxes'!F$4/60*E15,"") | I15: =IF(F15>0,'Base de données - Taxes'!F$5/60*F15,"") | J15: =SUM(H15:I15) -> 0 | L15: =IF(E15>0,1,IF(F15>0,1,""))
A16: 13 | B16: =IF(C16>0,C16,"") | H16: =IF(E16>0,'Base de données - Taxes'!F$4/60*E16,"") | I16: =IF(F16>0,'Base de données - Taxes'!F$5/60*F16,"") | J16: =SUM(H16:I16) -> 0 | L16: =IF(E16>0,1,IF(F16>0,1,""))
A17: 14 | B17: =IF(C17>0,C17,"") | H17: =IF(E17>0,'Base de données - Taxes'!F$4/60*E17,"") | I17: =IF(F17>0,'Base de données - Taxes'!F$5/60*F17,"") | J17: =SUM(H17:I17) -> 0 | L17: =IF(E17>0,1,IF(F17>0,1,""))
A18: 15 | B18: =IF(C18>0,C18,"") | H18: =IF(E18>0,'Base de données - Taxes'!F$4/60*E18,"") | I18: =IF(F18>0,'Base de données - Taxes'!F$5/60*F18,"") | J18: =SUM(H18:I18) -> 0 | L18: =IF(E18>0,1,IF(F18>0,1,""))
A19: 16 | B19: =IF(C19>0,C19,"") | H19: =IF(E19>0,'Base de données - Taxes'!F$4/60*E19,"") | I19: =IF(F19>0,'Base de données - Taxes'!F$5/60*F19,"") | J19: =SUM(H19:I19) -> 0 | L19: =IF(E19>0,1,IF(F19>0,1,""))
A20: 17 | B20: =IF(C20>0,C20,"") | H20: =IF(E20>0,'Base de données - Taxes'!F$4/60*E20,"") | I20: =IF(F20>0,'Base de données - Taxes'!F$5/60*F20,"") | J20: =SUM(H20:I20) -> 0 | L20: =IF(E20>0,1,IF(F20>0,1,""))
A21: 18 | B21: =IF(C21>0,C21,"") | H21: =IF(E21>0,'Base de données - Taxes'!F$4/60*E21,"") | I21: =IF(F21>0,'Base de données - Taxes'!F$5/60*F21,"") | J21: =SUM(H21:I21) -> 0 | L21: =IF(E21>0,1,IF(F21>0,1,""))
A22: 19 | B22: =IF(C22>0,C22,"") | H22: =IF(E22>0,'Base de données - Taxes'!F$4/60*E22,"") | I22: =IF(F22>0,'Base de données - Taxes'!F$5/60*F22,"") | J22: =SUM(H22:I22) -> 0 | L22: =IF(E22>0,1,IF(F22>0,1,""))
A23: 20 | B23: =IF(C23>0,C23,"") | H23: =IF(E23>0,'Base de données - Taxes'!F$4/60*E23,"") | I23: =IF(F23>0,'Base de données - Taxes'!F$5/60*F23,"") | J23: =SUM(H23:I23) -> 0 | L23: =IF(E23>0,1,IF(F23>0,1,""))
A24: 21 | B24: =IF(C24>0,C24,"") | H24: =IF(E24>0,'Base de données - Taxes'!F$4/60*E24,"") | I24: =IF(F24>0,'Base de données - Taxes'!F$5/60*F24,"") | J24: =SUM(H24:I24) -> 0 | L24: =IF(E24>0,1,IF(F24>0,1,""))
A25: 22 | B25: =IF(C25>0,C25,"") | H25: =IF(E25>0,'Base de données - Taxes'!F$4/60*E25,"") | I25: =IF(F25>0,'Base de données - Taxes'!F$5/60*F25,"") | J25: =SUM(H25:I25) -> 0 | L25: =IF(E25>0,1,IF(F25>0,1,""))
... A34: 31 | B34: =IF(C34>0,C34,"") | H34: =IF(E34>0,'Base de données - Taxes'!F$4/60*E34,"") | I34: =IF(F34>0,'Base de données - Taxes'!F$5/60*F34,"") | J34: =SUM(H34:I34) -> 0 | L34: =IF(E34>0,1,IF(F34>0,1,""))
D37: Minutes | E37: =SUM(E4:E35) -> 1200 | F37: =SUM(F4:F35) -> 540 | H37: =SUM(H4:H35) -> 800 | I37: =SUM(I4:I35) -> 135 | J37: =SUM(J4:J35) -> 935 | K37: =SUM(K4:K34) -> 4800 | L37: =SUM(L4:L34) -> 10 | M37: =SUM(M4:M36) -> 7
D38: Heures | E38: =E37/60 -> 20 | F38: =F37/60 -> 9 | K38: =K37/60 -> 80
A39: 2 | B39: =B1 -> 2019 | C39: Février
C40: Date | D40: Client | E40: Heures de vol en min. | F40: Heures théorie en min. | H40: Recettes Vol | I40: Recettes Théorie | J40: Recette Client | K40: Heures de Présences | L40: Jours de présence | M40: Trajets | N40: Règlement | O40: Référence | P40: Pointage | Q40: Spécifique
A42: 1 | B42: =IF(C42>0,C42,"") -> 42269 | C42: 42269 | D42: HUGO | E42: 23 | F42: 15 | H42: =IF(E42>0,'Base de données - Taxes'!F$4/60*E42,"") -> 15.333333 | I42: =IF(F42>0,'Base de données - Taxes'!F$5/60*F42,"") -> 3.75 | J42: =SUM(H42:I42) -> 19.083333 | K42: 480 | L42: =IF(E42>0,1,IF(F42>0,1,"")) -> 1
A43: 2 | B43: =IF(C43>0,C43,"") -> 42270 | C43: 42270 | E43: 60 | F43: 30 | H43: =IF(E43>0,'Base de données - Taxes'!F$4/60*E43,"") -> 40 | I43: =IF(F43>0,'Base de données - Taxes'!F$5/60*F43,"") -> 7.5 | J43: =SUM(H43:I43) -> 47.5 | L43: =IF(E43>0,1,IF(F43>0,1,"")) -> 1
A44: 3 | B44: =IF(C44>0,C44,"") -> 42271 | C44: 42271 | E44: 50 | F44: 45 | H44: =IF(E44>0,'Base de données - Taxes'!F$4/60*E44,"") -> 33.333333 | I44: =IF(F44>0,'Base de données - Taxes'!F$5/60*F44,"") -> 11.25 | J44: =SUM(H44:I44) -> 44.583333 | L44: =IF(E44>0,1,IF(F44>0,1,"")) -> 1
A45: 4 | B45: =IF(C45>0,C45,"") -> 42272 | C45: 42272 | E45: 180 | F45: 120 | H45: =IF(E45>0,'Base de données - Taxes'!F$4/60*E45,"") -> 120 | I45: =IF(F45>0,'Base de données - Taxes'!F$5/60*F45,"") -> 30 | J45: =SUM(H45:I45) -> 150 | L45: =IF(E45>0,1,IF(F45>0,1,"")) -> 1
A46: 5 | B46: =IF(C46>0,C46,"") | F46: 50 | H46: =IF(E46>0,'Base de données - Taxes'!F$4/60*E46,"") | I46: =IF(F46>0,'Base de données - Taxes'!F$5/60*F46,"") -> 12.5 | J46: =SUM(H46:I46) -> 12.5 | L46: =IF(E46>0,1,IF(F46>0,1,"")) -> 1
A47: 6 | B47: =IF(C47>0,C47,"") | H47: =IF(E47>0,'Base de données - Taxes'!F$4/60*E47,"") | I47: =IF(F47>0,'Base de données - Taxes'!F$5/60*F47,"") | J47: =SUM(H47:I47) -> 0 | L47: =IF(E47>0,1,IF(F47>0,1,""))
A48: 7 | B48: =IF(C48>0,C48,"") | H48: =IF(E48>0,'Base de données - Taxes'!F$4/60*E48,"") | I48: =IF(F48>0,'Base de données - Taxes'!F$5/60*F48,"") | J48: =SUM(H48:I48) -> 0 | L48: =IF(E48>0,1,IF(F48>0,1,""))
A49: 8 | B49: =IF(C49>0,C49,"") | H49: =IF(E49>0,'Base de données - Taxes'!F$4/60*E49,"") | I49: =IF(F49>0,'Base de données - Taxes'!F$5/60*F49,"") | J49: =SUM(H49:I49) -> 0 | L49: =IF(E49>0,1,IF(F49>0,1,""))
A50: 9 | B50: =IF(C50>0,C50,"") | H50: =IF(E50>0,'Base de données - Taxes'!F$4/60*E50,"") | I50: =IF(F50>0,'Base de données - Taxes'!F$5/60*F50,"") | J50: =SUM(H50:I50) -> 0 | L50: =IF(E50>0,1,IF(F50>0,1,""))
A51: 10 | B51: =IF(C51>0,C51,"") | H51: =IF(E51>0,'Base de données - Taxes'!F$4/60*E51,"") | I51: =IF(F51>0,'Base de données - Taxes'!F$5/60*F51,"") | J51: =SUM(H51:I51) -> 0 | L51: =IF(E51>0,1,IF(F51>0,1,""))
A52: 11 | B52: =IF(C52>0,C52,"") | H52: =IF(E52>0,'Base de données - Taxes'!F$4/60*E52,"") | I52: =IF(F52>0,'Base de données - Taxes'!F$5/60*F52,"") | J52: =SUM(H52:I52) -> 0 | L52: =IF(E52>0,1,IF(F52>0,1,""))
...

Sheet Recettes Brut
A1: Recettes
B3: Mois | C3: Intitulé | D3: Client | E3: Recette sans base | F3: Salaire de base 700€/mois | G3: Jours de présence | H3: Mode de règlement | I3: Pièces justificatives | J3: Recette | K3: Pointage Banque | L3: Date
A5: 1 | B5: Janvier | C5: FI(A) | D5: ACJC | E5: ='Entrées Heures de travail 2019'!J37 -> 935 | F5: =700/22*G5 -> 318.18182 | G5: ='Entrées Heures de travail 2019'!L37 -> 10 | H5: Virement | J5: =SUM(E5:F5) -> 1253.1818
A6: 2 | B6: Février | E6: ='Entrées Heures de travail 2019'!J75 -> 273.66667 | F6: =700/20*G6 -> 175 | G6: ='Entrées Heures de travail 2019'!L75 -> 5 | J6: =SUM(E6:F6) -> 448.66667
A7: 3 | B7: Mars | E7: ='Entrées Heures de travail 2019'!J113 -> 383.66667 | F7: =700/22*G7 -> 159.09091 | G7: ='Entrées Heures de travail 2019'!L113 -> 5 | J7: =SUM(E7:F7) -> 542.75758
A8: 4 | B8: Avril | E8: ='Entrées Heures de travail 2019'!J151 -> 111.16667 | F8: =700/22*G8 -> 95.454545 | G8: ='Entrées Heures de travail 2019'!L151 -> 3 | J8: =SUM(E8:F8) -> 206.62121
A9: 5 | B9: Mai | E9: ='Entrées Heures de travail 2019'!J189 -> 721.16667 | F9: =700/22*G9 -> 254.54545 | G9: ='Entrées Heures de travail 2019'!L189 -> 8 | J9: =SUM(E9:F9) -> 975.71212
A10: 6 | B10: Juin | E10: ='Entrées Heures de travail 2019'!J227 -> 994.5 | F10: =700/22*G10 -> 254.54545 | G10: ='Entrées Heures de travail 2019'!L227 -> 8 | J10: =SUM(E10:F10) -> 1249.0455
A11: 7 | B11: Juillet | E11: ='Entrées Heures de travail 2019'!J265 -> 413.66667 | F11: =700/22*G11 -> 190.90909 | G11: ='Entrées Heures de travail 2019'!L265 -> 6 | J11: =SUM(E11:F11) -> 604.57576
A12: 8 | B12: Août | E12: ='Entrées Heures de travail 2019'!J303 -> 521.16667 | F12: =700/22*G12 -> 190.90909 | G12: ='Entrées Heures de travail 2019'!L303 -> 6 | J12: =SUM(E12:F12) -> 712.07576
A13: 9 | B13: Septembre | E13: ='Entrées Heures de travail 2019'!J341 -> 543.66667 | F13: =700/22*G13 -> 190.90909 | G13: ='Entrées Heures de travail 2019'!L341 -> 6 | J13: =SUM(E13:F13) -> 734.57576
A14: 10 | B14: Octobre | E14: ='Entrées Heures de travail 2019'!J379 -> 313.66667 | F14: =700/22*G14 -> 190.90909 | G14: ='Entrées Heures de travail 2019'!L379 -> 6 | J14: =SUM(E14:F14) -> 504.57576
A15: 11 | B15: Novembre | E15: ='Entrées Heures de travail 2019'!J417 -> 491.16667 | F15: =700/22*G15 -> 190.90909 | G15: ='Entrées Heures de travail 2019'!L417 -> 6 | J15: =SUM(E15:F15) -> 682.07576
A16: 12 | B16: Décembre | E16: ='Entrées Heures de travail 2019'!J455 -> 19.083333 | F16: =700/22*G16 -> 31.818182 | G16: ='Entrées Heures de travail 2019'!L455 -> 1 | J16: =SUM(E16:F16) -> 50.901515

Sheet Chargees  Recettes Net
A1: Charges Sociales | E1: Année | F1: 2019
E3: 2ème Année
B4: Mois | C4: Recette | D4: Recette après abattement | E4: Cotisations sociales | F4: Taxes pour frais de chambres consulaires (CCI/CMA) | G4: Contribution à la Formation Professionnelle | H4: Cotisation Foncière des Entreprises (CFE) | I4: Impôts sur le revenu | J4: Versement libératoire | K4: Abattement forfaitaire | L4: ACCRE | N4: Solde | O4: Total Déductions en %
A6: 1 | B6: Janvier | C6: ='Recettes Brut'!J5 -> 1253.1818 | D6: =C6-K6 -> 827.1 | E6: =IF($E$3="1ère Année",$D6*'Base de données - Taxes'!$B$81/100,IF($E$3="2ème Année",$D6*'Base de données - Taxes'!$C$81/100,IF($E$3="3ème Année",$D6*'Base de données - Taxes'!$D$81/100,IF($E$3="Normal",$D6*'Base de données - Taxes'!$B$11/100,"")))) -> 90.981 | F6: =IF('Base de données - Taxes'!$B$17="X","",D6*'Base de données - Taxes'!$B$28/100) | G6: =D6*'Base de données - Taxes'!$B$40/100 -> 1.6542 | H6: =IF('Base de données - Taxes'!$B$43="X","",D6*'Base de données - Taxes'!$B$46/100) | I6: =D6*'Base de données - Taxes'!$B$54/100 -> 0 | J6: =D6*'Base de données - Taxes'!$B$70/100 -> 18.1962 | K6: =C6*'Base de données - Taxes'!$B$62/100 -> 426.08182 | N6: =C6-SUM(E6:J6) -> 1142.3504 | O6: =N6/C6 -> 0.91156 | Q6: ?
A7: 2 | B7: Février | C7: ='Recettes Brut'!J6 -> 448.66667 | D7: =C7-K7 -> 296.12 | E7: =IF($E$3="1ère Année",$D7*'Base de données - Taxes'!$B$81/100,IF($E$3="2ème Année",$D7*'Base de données - Taxes'!$C$81/100,IF($E$3="3ème Année",$D7*'Base de données - Taxes'!$D$81/100,IF($E$3="Normal",$D7*'Base de données - Taxes'!$B$11/100,"")))) -> 32.5732 | F7: =IF('Base de données - Taxes'!$B$17="X","",D7*'Base de données - Taxes'!$B$28/100) | G7: =D7*'Base de données - Taxes'!$B$40/100 -> 0.59224 | H7: =IF('Base de données - Taxes'!$B$43="X","",D7*'Base de données - Taxes'!$B$46/100) | I7: =D7*'Base de données - Taxes'!$B$54/100 -> 0 | J7: =D7*'Base de données - Taxes'!$B$70/100 -> 6.51464 | K7: =C7*'Base de données - Taxes'!$B$62/100 -> 152.54667 | N7: =C7-SUM(E7:J7) -> 408.98659 | O7: =N7/C7 -> 0.91156
A8: 3 | B8: Mars | C8: ='Recettes Brut'!J7 -> 542.75758 | D8: =C8-K8 -> 358.22 | E8: =IF($E$3="1ère Année",$D8*'Base de données - Taxes'!$B$81/100,IF($E$3="2ème Année",$D8*'Base de données - Taxes'!$C$81/100,IF($E$3="3ème Année",$D8*'Base de données - Taxes'!$D$81/100,IF($E$3="Normal",$D8*'Base de données - Taxes'!$B$11/100,"")))) -> 39.4042 | F8: =IF('Base de données - Taxes'!$B$17="X","",D8*'Base de données - Taxes'!$B$28/100) | G8: =D8*'Base de données - Taxes'!$B$40/100 -> 0.71644 | H8: =IF('Base de données - Taxes'!$B$43="X","",D8*'Base de données - Taxes'!$B$46/100) | I8: =D8*'Base de données - Taxes'!$B$54/100 -> 0 | J8: =D8*'Base de données - Taxes'!$B$70/100 -> 7.88084 | K8: =C8*'Base de données - Taxes'!$B$62/100 -> 184.53758 | N8: =C8-SUM(E8:J8) -> 494.7561 | O8: =N8/C8 -> 0.91156
A9: 4 | B9: Avril | C9: ='Recettes Brut'!J8 -> 206.62121 | D9: =C9-K9 -> 136.37 | E9: =IF($E$3="1ère Année",$D9*'Base de données - Taxes'!$B$81/100,IF($E$3="2ème Année",$D9*'Base de données - Taxes'!$C$81/100,IF($E$3="3ème Année",$D9*'Base de données - Taxes'!$D$81/100,IF($E$3="Normal",$D9*'Base de données - Taxes'!$B$11/100,"")))) -> 15.0007 | F9: =IF('Base de données - Taxes'!$B$17="X","",D9*'Base de données - Taxes'!$B$28/100) | G9: =D9*'Base de données - Taxes'!$B$40/100 -> 0.27274 | H9: =IF('Base de données - Taxes'!$B$43="X","",D9*'Base de données - Taxes'!$B$46/100) | I9: =D9*'Base de données - Taxes'!$B$54/100 -> 0 | J9: =D9*'Base de données - Taxes'!$B$70/100 -> 3.00014 | K9: =C9*'Base de données - Taxes'!$B$62/100 -> 70.251212 | N9: =C9-SUM(E9:J9) -> 188.34763 | O9: =N9/C9 -> 0.91156
A10: 5 | B10: Mai | C10: ='Recettes Brut'!J9 -> 975.71212 | D10: =C10-K10 -> 643.97 | E10: =IF($E$3="1ère Année",$D10*'Base de données - Taxes'!$B$81/100,IF($E$3="2ème Année",$D10*'Base de données - Taxes'!$C$81/100,IF($E$3="3ème Année",$D10*'Base de données - Taxes'!$D$81/100,IF($E$3="Normal",$D10*'Base de données - Taxes'!$B$11/100,"")))) -> 70.8367 | F10: =IF('Base de données - Taxes'!$B$17="X","",D10*'Base de données - Taxes'!$B$28/100) | G10: =D10*'Base de données - Taxes'!$B$40/100 -> 1.28794 | H10: =IF('Base de données - Taxes'!$B$43="X","",D10*'Base de données - Taxes'!$B$46/100) | I10: =D10*'Base de données - Taxes'!$B$54/100 -> 0 | J10: =D10*'Base de données - Taxes'!$B$70/100 -> 14.16734 | K10: =C10*'Base de données - Taxes'!$B$62/100 -> 331.74212 | N10: =C10-SUM(E10:J10) -> 889.42014 | O10: =N10/C10 -> 0.91156
A11: 6 | B11: Juin | C11: ='Recettes Brut'!J10 -> 1249.0455 | D11: =C11-K11 -> 824.37 | E11: =IF($E$3="1ère Année",$D11*'Base de données - Taxes'!$B$81/100,IF($E$3="2ème Année",$D11*'Base de données - Taxes'!$C$81/100,IF($E$3="3ème Année",$D11*'Base de données - Taxes'!$D$81/100,IF($E$3="Normal",$D11*'Base de données - Taxes'!$B$11/100,"")))) -> 90.6807 | F11: =IF('Base de données - Taxes'!$B$17="X","",D11*'Base de données - Taxes'!$B$28/100) | G11: =D11*'Base de données - Taxes'!$B$40/100 -> 1.64874 | H11: =IF('Base de données - Taxes'!$B$43="X","",D11*'Base de données - Taxes'!$B$46/100) | I11: =D11*'Base de données - Taxes'!$B$54/100 -> 0 | J11: =D11*'Base de données - Taxes'!$B$70/100 -> 18.13614 | K11: =C11*'Base de données - Taxes'!$B$62/100 -> 424.67545 | N11: =C11-SUM(E11:J11) -> 1138.5799 | O11: =N11/C11 -> 0.91156
A12: 7 | B12: Juillet | C12: ='Recettes Brut'!J11 -> 604.57576 | D12: =C12-K12 -> 399.02 | E12: =IF($E$3="1ère Année",$D12*'Base de données - Taxes'!$B$81/100,IF($E$3="2ème Année",$D12*'Base de données - Taxes'!$C$81/100,IF($E$3="3ème Année",$D12*'Base de données - Taxes'!$D$81/100,IF($E$3="Normal",$D12*'Base de données - Taxes'!$B$11/100,"")))) -> 43.8922 | F12: =IF('Base de données - Taxes'!$B$17="X","",D12*'Base de données - Taxes'!$B$28/100) | G12: =D12*'Base de données - Taxes'!$B$40/100 -> 0.79804 | H12: =IF('Base de données - Taxes'!$B$43="X","",D12*'Base de données - Taxes'!$B$46/100) | I12: =D12*'Base de données - Taxes'!$B$54/100 -> 0 | J12: =D12*'Base de données - Taxes'!$B$70/100 -> 8.77844 | K12: =C12*'Base de données - Taxes'!$B$62/100 -> 205.55576 | N12: =C12-SUM(E12:J12) -> 551.10708 | O12: =N12/C12 -> 0.91156
A13: 8 | B13: Août | C13: ='Recettes Brut'!J12 -> 712.07576 | D13: =C13-K13 -> 469.97 | E13: =IF($E$3="1ère Année",$D13*'Base de données - Taxes'!$B$81/100,IF($E$3="2ème Année",$D13*'Base de données - Taxes'!$C$81/100,IF($E$3="3ème Année",$D13*'Base de données - Taxes'!$D$81/100,IF($E$3="Normal",$D13*'Base de données - Taxes'!$B$11/100,"")))) -> 51.6967 | F13: =IF('Base de données - Taxes'!$B$17="X","",D13*'Base de données - Taxes'!$B$28/100) | G13: =D13*'Base de données - Taxes'!$B$40/100 -> 0.93994 | H13: =IF('Base de données - Taxes'!$B$43="X","",D13*'Base de données - Taxes'!$B$46/100) | I13: =D13*'Base de données - Taxes'!$B$54/100 -> 0 | J13: =D13*'Base de données - Taxes'!$B$70/100 -> 10.33934 | K13: =C13*'Base de données - Taxes'!$B$62/100 -> 242.10576 | N13: =C13-SUM(E13:J13) -> 649.09978 | O13: =N13/C13 -> 0.91156
A14: 9 | B14: Septembre | C14: ='Recettes Brut'!J13 -> 734.57576 | D14: =C14-K14 -> 484.82 | E14: =IF($E$3="1ère Année",$D14*'Base de données - Taxes'!$B$81/100,IF($E$3="2ème Année",$D14*'Base de données - Taxes'!$C$81/100,IF($E$3="3ème Année",$D14*'Base de données - Taxes'!$D$81/100,IF($E$3="Normal",$D14*'Base de données - Taxes'!$B$11/100,"")))) -> 53.3302 | F14: =IF('Base de données - Taxes'!$B$17="X","",D14*'Base de données - Taxes'!$B$28/100) | G14: =D14*'Base de données - Taxes'!$B$40/100 -> 0.96964 | H14: =IF('Base de données - Taxes'!$B$43="X","",D14*'Base de données - Taxes'!$B$46/100) | I14: =D14*'Base de données - Taxes'!$B$54/100 -> 0 | J14: =D14*'Base de données - Taxes'!$B$70/100 -> 10.66604 | K14: =C14*'Base de données - Taxes'!$B$62/100 -> 249.75576 | N14: =C14-SUM(E14:J14) -> 669.60988 | O14: =N14/C14 -> 0.91156
A15: 10 | B15: Octobre | C15: ='Recettes Brut'!J14 -> 504.57576 | D15: =C15-K15 -> 333.02 | E15: =IF($E$3="1ère Année",$D15*'Base de données - Taxes'!$B$81/100,IF($E$3="2ème Année",$D15*'Base de données - Taxes'!$C$81/100,IF($E$3="3ème Année",$D15*'Base de données - Taxes'!$D$81/100,IF($E$3="Normal",$D15*'Base de données - Taxes'!$B$11/100,"")))) -> 36.6322 | F15: =IF('Base de données - Taxes'!$B$17="X","",D15*'Base de données - Taxes'!$B$28/100) | G15: =D15*'Base de données - Taxes'!$B$40/100 -> 0.66604 | H15: =IF('Base de données - Taxes'!$B$43="X","",D15*'Base de données - Taxes'!$B$46/100) | I15: =D15*'Base de données - Taxes'!$B$54/100 -> 0 | J15: =D15*'Base de données - Taxes'!$B$70/100 -> 7.32644 | K15: =C15*'Base de données - Taxes'!$B$62/100 -> 171.55576 | N15: =C15-SUM(E15:J15) -> 459.95108 | O15: =N15/C15 -> 0.91156
A16: 11 | B16: Novembre | C16: ='Recettes Brut'!J15 -> 682.07576 | D16: =C16-K16 -> 450.17 | E16: =IF($E$3="1ère Année",$D16*'Base de données - Taxes'!$B$81/100,IF($E$3="2ème Année",$D16*'Base de données - Taxes'!$C$81/100,IF($E$3="3ème Année",$D16*'Base de données - Taxes'!$D$81/100,IF($E$3="Normal",$D16*'Base de données - Taxes'!$B$11/100,"")))) -> 49.5187 | F16: =IF('Base de données - Taxes'!$B$17="X","",D16*'Base de données - Taxes'!$B$28/100) | G16: =D16*'Base de données - Taxes'!$B$40/100 -> 0.90034 | H16: =IF('Base de données - Taxes'!$B$43="X","",D16*'Base de données - Taxes'!$B$46/100) | I16: =D16*'Base de données - Taxes'!$B$54/100 -> 0 | J16: =D16*'Base de données - Taxes'!$B$70/100 -> 9.90374 | K16: =C16*'Base de données - Taxes'!$B$62/100 -> 231.90576 | N16: =C16-SUM(E16:J16) -> 621.75298 | O16: =N16/C16 -> 0.91156
A17: 12 | B17: Décembre | C17: ='Recettes Brut'!J16 -> 50.901515 | D17: =C17-K17 -> 33.595 | E17: =IF($E$3="1ère Année",$D17*'Base de données - Taxes'!$B$81/100,IF($E$3="2ème Année",$D17*'Base de données - Taxes'!$C$81/100,IF($E$3="3ème Année",$D17*'Base de données - Taxes'!$D$81/100,IF($E$3="Normal",$D17*'Base de données - Taxes'!$B$11/100,"")))) -> 3.69545 | F17: =IF('Base de données - Taxes'!$B$17="X","",D17*'Base de données - Taxes'!$B$28/100) | G17: =D17*'Base de données - Taxes'!$B$40/100 -> 0.06719 | H17: =IF('Base de données - Taxes'!$B$43="X","",D17*'Base de données - Taxes'!$B$46/100) | I17: =D17*'Base de données - Taxes'!$B$54/100 -> 0 | J17: =D17*'Base de données - Taxes'!$B$70/100 -> 0.73909 | K17: =C17*'Base de données - Taxes'!$B$62/100 -> 17.306515 | N17: =C17-SUM(E17:J17) -> 46.399785 | O17: =N17/C17 -> 0.91156
B20: Annuel | C20: =SUM(C6:C19) -> 7964.7652 | D20: =SUM(D6:D19) -> 5256.745 | E20: =SUM(E6:E19) -> 578.24195 | F20: =SUM(F6:F19) -> 0 | G20: =SUM(G6:G19) -> 10.51349 | H20: =SUM(H6:H19) -> 0 | I20: =SUM(I6:I19) -> 0 | J20: =SUM(J6:J19) -> 115.64839 | K20: =SUM(K6:K19) -> 2708.0202 | N20: =SUM(N6:N19) -> 7260.3613

Sheet Base de données - Taxes
A1: Les taxes et cotisations | E1: Base de données | I1: Année d'Imposition
B2: % | I2: 1ère | J2: 2ème | K2: 3ème | L2: après
A3: 1 - Les cotisations sociales | I3: 2019 | J3: 2020 | K3: 2021 | L3: 22
A4: Dès lors que l’on parle des charges liées à l’auto-entreprise, on pense aux cotisations sociales. | E4: Heure de vol | F4: 40
A5: Les taux appliqués aux micro-entrepreneurs sont les suivants : | E5: Heure théorique | F5: 15
A7: 12,80 % du CA pour la vente de marchandises | E7: Base par mois | F7: 700
E8: sur 20 jours
A9: 22 % du CA pour les prestations de services commerciales ou artisanales
A11: 22 % du CA pour les autres prestations de services et les professions libérales | B11: =IF('Chargees Recettes Net'!D1='Base de données - Taxes'!I2,'Base de données - Taxes'!B81,IF('Chargees Recettes Net'!D1='Base de données - Taxes'!J2,'Base de données - Taxes'!C81,IF('Chargees Recettes Net'!D1='Base de données - Taxes'!K2,'Base de données - Taxes'!D81,IF('Chargees Recettes Net'!D1="",'Base de données - Taxes'!L3,"")))) -> 22
A13: Bon à savoir
A14: Si vous bénéficiez de l’ACRE (Exonération du début d’activité de création ou de reprise d’entreprise), vous profitez de taux réduits les 3 premières années de votre activité.
A17: 2 - Les taxes pour frais de chambres consulaires | B17: X
A18: Ces taxes sont perçues par les Chambres de Commerce et d'Industrie (CCI) ainsi que les Chambre de Métiers et de l'Artisanat (CMA) à partir de la seconde année d'activité. Elles ne concernent pas les activités libérales et elles sont proportionnelles à votre chiffre d'affaires : | E18: Assurances
E19: RC Pro
A20: 0,015 % pour la vente de marchandises, restauration, hébergement | E20: Juridique
A22: 0,044 % pour les prestations de services
A24: 0,48 %* pour les prestations de services artisanales
A26: 0,22 %** pour l'achat revente pour un artisan
A28: 0,007 % pour les artisans en double immatriculation CCI/CMA
A29: * 0,65 % en Alsace et 0,83 % en Moselle
A30: ** 0,29 % en Alsace et 0,37 % en Moselle
A33: 3 - La Contribution à la Formation Professionnelle
A34: À payer mensuellement ou trimestriellement, ces cotisations sont accompagnées de la CFP qui s’élève à :
A36: 0,10 % du CA pour les commerçants et professions libérales non réglementées
A38: 0,30 % du CA pour les artisans et les prestations de services BIC
A40: 0,20 % du CA pour les professions libérales réglementées | B40: 0.2
A43: 4 - La Cotisation Foncière des Entreprises | B43: X
A44: La Cotisation Foncière des Entreprises (CFE) est un impôt local relatif aux biens immobiliers exploités par l’entreprise au cours de l’année N-2.
A45: Elle se calcule en prenant le montant locatif du ou des biens utilisés par l’auto-entrepreneur multiplié par un taux décidé par le conseil municipal de la commune où se trouve(nt) le(s) bien(s).
A46: Une base minimale a été instaurée lorsque la valeur locative est très faible et peut être ajustée par les communes (entre 214 € et 510 € en 2017). | C46: ?
A47: Elle peut porter sur votre domicile, ou sur des locaux que vous louez ou empruntez, mais quel que soit votre fonctionnement, vous devrez vous acquitter de la CFE.
A49: Le saviez-vous ?
A50: Selon votre domaine d’activité, vous pouvez être exonéré de plein droit de la CFE. C’est le cas, par exemple, des propriétaires louant une partie meublée de leur propre maison, des sportifs, des pêcheurs, des exploitants agricoles, des artistes, des artisans (sauf ceux exploitent de la matière première comme les boulangers), des vendeurs indépendants à domicile ou encore des enseignants.
A53: 5 - Les impôts sur le revenu
A54: Comme tout un chacun, vous devez vous acquitter des impôts sur le revenu. Pour cela, vous devez déclarer sur le formulaire 2042 C PRO le montant de votre chiffre d’affaires qui est ensuite réduit automatiquement d’un montant forfaitaire, pour obtenir votre montant net imposable :
A57: Abattement Forfaitaire
A58: 71 % pour les activités d'achat-revente ou de fourniture de logement
A60: 50 % pour les autres activités relevant des BIC
A62: 34 % pour les BNC | B62: 34
A63: Le montant d'abattement forfaitaire de vos impôts est au minimum de 305 € (pour 2017) et ce quel que soit votre chiffre d’affaires de l’année. | B63: 305
...

Sheet Factures
H3: Informations de facturation :
H5: N° de facture : | I5: 001.2019.3
H6: Date d'émission : | I6: 42260
H7: À payer avant le : | I7: 42276
H8: Date de paiement :
H9: Mode de règlement : | I9: VIR | J9: CHQ
H13: Informations client :
B15: é-mail | H15: Réf. Client | I15: =INDEX(Clients!$A:$M,MATCH(Factures!$H$16,Clients!$B:$B,0),MATCH(Ref_Client,Clients!$3:$3,0)) -> RC1003490
B16: Numéro de téléphone | H16: AERO CLUB JEAN COUTTY
H17: Adresse
H18: Code Postal | J18: OYONNAX
B19: FACTURE N° | D19: =I5 -> 001.2019.3 | H19: SIRET / N° TVA intracommunautaire (client pro)
B21: Prestation FI (A) : | D21: 2019 | E21: Janvier
B23: Description des produits ou services | G23: Quantité | H23: Prix unitaire HT | I23: Total HT
B26: Heures de vols | G26: =IF($E$21='Entrées Heures de travail 2019'!$C$1,'Entrées Heures de travail 2019'!E$37/60,IF($E$21='Entrées Heures de travail 2019'!$C$39,'Entrées Heures de travail 2019'!E$75/60,IF($E$21='Entrées Heures de travail 2019'!$C$77,'Entrées Heures de travail 2019'!E$113/60,IF($E$21='Entrées Heures de travail 2019'!$C$115,'Entrées Heures de travail 2019'!E$151/60,IF($E$21='Entrées Heures de travail 2019'!$C$153,'Entrées Heures de travail 2019'!E$189/60,IF($E$21='Entrées Heures de travail 2019'!$C$191,'Entrées Heures de travail 2019'!E$227/60,IF($E$21='Entrées Heures de travail 2019'!$C$229,'Entrées Heures de travail 2019'!E$265/60,IF($E$21='Entrées Heures de travail 2019'!$C$267,'Entrées Heures de travail 2019'!E$303/60,IF($E$21='Entrées Heures de travail 2019'!$C$305,'Entrées Heures de travail 2019'!E$341/60,IF($E$21='Entrées Heures de travail 2019'!$C$343,'Entrées Heures de travail 2019'!E$379/60,IF($E$21='Entrées Heures de travail 2019'!$C$381,'Entrées Heures de travail 2019'!E$417/60,IF($E$21='Entrées Heures de travail 2019'!$C$419,'Entrées Heures de travail 2019'!E$455/60,"")))))))))))) -> 20 | H26: ='Base de données - Taxes'!F4 -> 40 | I26: =IF(G26>=1,G26*H26,"") -> 800
B27: Heures théoriques | G27: =IF($E$21='Entrées Heures de travail 2019'!$C$1,'Entrées Heures de travail 2019'!F$37/60,IF($E$21='Entrées Heures de travail 2019'!$C$39,'Entrées Heures de travail 2019'!F$75/60,IF($E$21='Entrées Heures de travail 2019'!$C$77,'Entrées Heures de travail 2019'!F$113/60,IF($E$21='Entrées Heures de travail 2019'!$C$115,'Entrées Heures de travail 2019'!F$151/60,IF($E$21='Entrées Heures de travail 2019'!$C$153,'Entrées Heures de travail 2019'!F$189/60,IF($E$21='Entrées Heures de travail 2019'!$C$191,'Entrées Heures de travail 2019'!F$227/60,IF($E$21='Entrées Heures de travail 2019'!$C$229,'Entrées Heures de travail 2019'!F$265/60,IF($E$21='Entrées Heures de travail 2019'!$C$267,'Entrées Heures de travail 2019'!F$303/60,IF($E$21='Entrées Heures de travail 2019'!$C$305,'Entrées Heures de travail 2019'!F$341/60,IF($E$21='Entrées Heures de travail 2019'!$C$343,'Entrées Heures de travail 2019'!F$379/60,IF($E$21='Entrées Heures de travail 2019'!$C$381,'Entrées Heures de travail 2019'!F$417/60,IF($E$21='Entrées Heures de travail 2019'!$C$419,'Entrées Heures de travail 2019'!F$455/60,"")))))))))))) -> 9 | H27: ='Base de données - Taxes'!F5 -> 15 | I27: =IF(G27>=1,G27*H27,"") -> 135
B28: Forfait de Base (22 jours) (Février 20 jours) | G28: =IF($E$21='Entrées Heures de travail 2019'!$C$1,'Entrées Heures de travail 2019'!L$37,IF($E$21='Entrées Heures de travail 2019'!$C$39,'Entrées Heures de travail 2019'!L$75,IF($E$21='Entrées Heures de travail 2019'!$C$77,'Entrées Heures de travail 2019'!L$113,IF($E$21='Entrées Heures de travail 2019'!$C$115,'Entrées Heures de travail 2019'!L$151,IF($E$21='Entrées Heures de travail 2019'!$C$153,'Entrées Heures de travail 2019'!L$189,IF($E$21='Entrées Heures de travail 2019'!$C$191,'Entrées Heures de travail 2019'!L$227,IF($E$21='Entrées Heures de travail 2019'!$C$229,'Entrées Heures de travail 2019'!L$265,IF($E$21='Entrées Heures de travail 2019'!$C$267,'Entrées Heures de travail 2019'!L$303,IF($E$21='Entrées Heures de travail 2019'!$C$305,'Entrées Heures de travail 2019'!L$341,IF($E$21='Entrées Heures de travail 2019'!$C$343,'Entrées Heures de travail 2019'!L$379,IF($E$21='Entrées Heures de travail 2019'!$C$381,'Entrées Heures de travail 2019'!L$417,IF($E$21='Entrées Heures de travail 2019'!$C$419,'Entrées Heures de travail 2019'!L$455,"")))))))))))) -> 10 | H28: 700 | I28: =IF(G28>=1,H28/22*G28,"") -> 318.18182
B29: Heures de présences | G29: =IF($E$21='Entrées Heures de travail 2019'!$C$1,'Entrées Heures de travail 2019'!K$37/60,IF($E$21='Entrées Heures de travail 2019'!$C$39,'Entrées Heures de travail 2019'!K$75/60,IF($E$21='Entrées Heures de travail 2019'!$C$77,'Entrées Heures de travail 2019'!K$113/60,IF($E$21='Entrées Heures de travail 2019'!$C$115,'Entrées Heures de travail 2019'!K$151/60,IF($E$21='Entrées Heures de travail 2019'!$C$153,'Entrées Heures de travail 2019'!K$189/60,IF($E$21='Entrées Heures de travail 2019'!$C$191,'Entrées Heures de travail 2019'!K$227/60,IF($E$21='Entrées Heures de travail 2019'!$C$229,'Entrées Heures de travail 2019'!K$265/60,IF($E$21='Entrées Heures de travail 2019'!$C$267,'Entrées Heures de travail 2019'!K$303/60,IF($E$21='Entrées Heures de travail 2019'!$C$305,'Entrées Heures de travail 2019'!K$341/60,IF($E$21='Entrées Heures de travail 2019'!$C$343,'Entrées Heures de travail 2019'!K$379/60,IF($E$21='Entrées Heures de travail 2019'!$C$381,'Entrées Heures de travail 2019'!K$417/60,IF($E$21='Entrées Heures de travail 2019'!$C$419,'Entrées Heures de travail 2019'!K$455/60,"")))))))))))) -> 80 | H29: 10 | I29: =IF(G29>=1,G29*H29,"") -> 800
B30: Trajets (0,50€ le km à 50km) | G30: =IF($E$21='Entrées Heures de travail 2019'!$C$1,'Entrées Heures de travail 2019'!M$37,IF($E$21='Entrées Heures de travail 2019'!$C$39,'Entrées Heures de travail 2019'!M$75,IF($E$21='Entrées Heures de travail 2019'!$C$77,'Entrées Heures de travail 2019'!M$113,IF($E$21='Entrées Heures de travail 2019'!$C$115,'Entrées Heures de travail 2019'!M$151,IF($E$21='Entrées Heures de travail 2019'!$C$153,'Entrées Heures de travail 2019'!M$189,IF($E$21='Entrées Heures de travail 2019'!$C$191,'Entrées Heures de travail 2019'!M$227,IF($E$21='Entrées Heures de travail 2019'!$C$229,'Entrées Heures de travail 2019'!M$265,IF($E$21='Entrées Heures de travail 2019'!$C$267,'Entrées Heures de travail 2019'!M$303,IF($E$21='Entrées Heures de travail 2019'!$C$305,'Entrées Heures de travail 2019'!M$341,IF($E$21='Entrées Heures de travail 2019'!$C$343,'Entrées Heures de travail 2019'!M$379,IF($E$21='Entrées Heures de travail 2019'!$C$381,'Entrées Heures de travail 2019'!M$417,IF($E$21='Entrées Heures de travail 2019'!$C$419,'Entrées Heures de travail 2019'!M$455,"")))))))))))) -> 7 | H30: 25 | I30: =IF(G30>=1,G30*H30,"") -> 175
I31: =IF(G31>=1,G31*H31,"")
I32: =IF(G32>=1,G32*H32,"")
I33: =IF(G33>=1,G33*H33,"")
I34: =IF(G34>=1,G34*H34,"")
I35: =IF(G35>=1,G35*H35,"")
I36: =IF(G36>=1,G36*H36,"")
I37: =IF(G37>=1,G37*H37,"")
I38: =IF(G38>=1,G38*H38,"")
I39: =IF(G39>=1,G39*H39,"")
I40: =IF(G40>=1,G40*H40,"")
I41: =IF(G41>=1,G41*H41,"")
I42: =IF(G42>=1,G42*H42,"")
... I48: =IF(G48>=1,G48*H48,"")
H51: Prix total HT : | I51: =SUM(I24:J49) -> 2228.1818
B52: Vous pouvez indiquer ici les différents moyens de paiement : RIB, lien de paiement, etc.
H53: Remise :
G55: Prix total HT : | I55: =I51-I53 -> 2228.1818
G57: TVA non applicable, art. 293B du CGI
B67: Pour les autres assurances souscrites au titre de l'activité auto-entrepreneur : Assurance [Type d'assurance (ex : RC Pro)] souscrite auprès de [Nom de l'assureur, adresse et coordonnées] - Couverture géographique : France [Nom Prénom - Nom commercial de l'auto-entrepreneur] - [Adresse de l'auto-entreprise] - [SIREN + RCS + Ville RCS] ou [SIREN + RM + Département RM] ou [SIREN + URSSAF + Département URSSAF]] - APE : [Votre code APE] - N° TVA intracommunautaire : [Votre n° de TVA intracommunautaire (si nécessaire)] (Mentions obligatoires pour tous les auto-entrepreneurs)

Sheet Clients
A1: Fichier client
A3: REF CLIENT | B3: Raison Social | C3: Civ. | D3: Nom | E3: Prénom | F3: Adresse | G3: CP | H3: Ville | I3: Email | J3: N° mobile | K3: Date dernier achat | L3: Montant dernier achat | M3: Date d'anniversaire
A4: RC1003490 | B4: AERO CLUB JEAN COUTTY | E4: Jean | F4: 64 rue de l'église | G4: 35000 | H4: Rennes | I4: jdupont@yahoo.fr | J4: 06 98 98 98 98 | K4: 42472 | L4: 120 | M4: 30279
A5: RC1003491 | B5: Olivier | C5: Mme | D5: MARTIN | E5: Anne | F5: 33 allée des peupliers | G5: 33000 | H5: Bordeaux | I5: anne.martin@gmail.com | K5: 42078 | L5: 79 | M5: 28257
B6: François
B7: Test1
B8: Test2

Sheet Heures de vols
C1: Carnet de Vol Nimbus 3
A3: Année | B3: Réf Date | C3: Date | D3: Nom | E3: Prénom | F3: Lieux Départ | G3: Lieux Arrivée | H3: Heure Départ | I3: Heure Arrivée | J3: Durée | L3: Durée François | M3: Durée | N3: Durée Robert | O3: Durée Marcel | P3: Remorqué | Q3: Treuillé | R3: Démontage | S3: Remontage | T3: Remarques | U3: Heures par an | V3: Nombre de vol / An | W3: Total Décollages | X3: Moyenne Heures / Vol par an | Y3: Heures total Nimbus 3 | Z3: Fichier igc.
A5: =B5 -> 42256 | B5: =C5 -> 42256 | C5: 42256 | D5: DÖBELI | E5: =IF(D5="ITEN","Robert",IF(D5="DÖBELI","François",IF(D5="ZEMAULI","Marcel",""))) -> François | F5: LFTM | G5: LFTM | H5: 1123 | I5: 1834 | J5: =ROUND(IF(ISERR($I5/1)," ",((INT($I5/100)*60+$I5-INT($I5/100)*100)-(INT($H5/100)*60+$H5-INT($H5/100)*100))/60),1) -> 7.2 | L5: =IF($D5="DÖBELI",ROUND(IF(ISERR($I5/1)," ",((INT($I5/100)*60+$I5-INT($I5/100)*100)-(INT($H5/100)*60+$H5-INT($H5/100)*100))/60),1),"") -> 7.2 | M5: =IF($D5="LEGRAS",ROUND(IF(ISERR($I5/1)," ",((INT($I5/100)*60+$I5-INT($I5/100)*100)-(INT($H5/100)*60+$H5-INT($H5/100)*100))/60),1),"") | N5: =IF($D5="ITEN",ROUND(IF(ISERR($I5/1)," ",((INT($I5/100)*60+$I5-INT($I5/100)*100)-(INT($H5/100)*60+$H5-INT($H5/100)*100))/60),1),"") | O5: =IF($D5="ZEMAULI",ROUND(IF(ISERR($I5/1)," ",((INT($I5/100)*60+$I5-INT($I5/100)*100)-(INT($H5/100)*60+$H5-INT($H5/100)*100))/60),1),"") | P5: =IF(H5>=1,1,"") -> 1 | T5: =IF($D5>=1,"RAS","") -> RAS
A6: =B6 -> 42258 | B6: =C6 -> 42258 | C6: 42258 | D6: DÖBELI | E6: =IF(D6="ITEN","Robert",IF(D6="DÖBELI","François",IF(D6="ZEMAULI","Marcel",""))) -> François | F6: LFTM | G6: =IF($D6>=1,"LFTM","") -> LFTM | J6: =ROUND(IF(ISERR($I6/1)," ",((INT($I6/100)*60+$I6-INT($I6/100)*100)-(INT($H6/100)*60+$H6-INT($H6/100)*100))/60),1) -> 0 | L6: =IF($D6="DÖBELI",ROUND(IF(ISERR($I6/1)," ",((INT($I6/100)*60+$I6-INT($I6/100)*100)-(INT($H6/100)*60+$H6-INT($H6/100)*100))/60),1),"") -> 0 | M6: =IF($D6="LEGRAS",ROUND(IF(ISERR($I6/1)," ",((INT($I6/100)*60+$I6-INT($I6/100)*100)-(INT($H6/100)*60+$H6-INT($H6/100)*100))/60),1),"") | N6: =IF($D6="ITEN",ROUND(IF(ISERR($I6/1)," ",((INT($I6/100)*60+$I6-INT($I6/100)*100)-(INT($H6/100)*60+$H6-INT($H6/100)*100))/60),1),"") | O6: =IF($D6="ZEMAULI",ROUND(IF(ISERR($I6/1)," ",((INT($I6/100)*60+$I6-INT($I6/100)*100)-(INT($H6/100)*60+$H6-INT($H6/100)*100))/60),1),"") | P6: =IF(H6>=1,1,"")
A7: =B7 -> 0 | B7: =C7 -> 0 | E7: =IF(D7="ITEN","Robert",IF(D7="DÖBELI","François",IF(D7="ZEMAULI","Marcel",""))) | G7: =IF($D7>=1,"LFTM","") | J7: =ROUND(IF(ISERR($I7/1)," ",((INT($I7/100)*60+$I7-INT($I7/100)*100)-(INT($H7/100)*60+$H7-INT($H7/100)*100))/60),1) -> 0 | L7: =IF($D7="DÖBELI",ROUND(IF(ISERR($I7/1)," ",((INT($I7/100)*60+$I7-INT($I7/100)*100)-(INT($H7/100)*60+$H7-INT($H7/100)*100))/60),1),"") | M7: =IF($D7="LEGRAS",ROUND(IF(ISERR($I7/1)," ",((INT($I7/100)*60+$I7-INT($I7/100)*100)-(INT($H7/100)*60+$H7-INT($H7/100)*100))/60),1),"") | N7: =IF($D7="ITEN",ROUND(IF(ISERR($I7/1)," ",((INT($I7/100)*60+$I7-INT($I7/100)*100)-(INT($H7/100)*60+$H7-INT($H7/100)*100))/60),1),"") | O7: =IF($D7="ZEMAULI",ROUND(IF(ISERR($I7/1)," ",((INT($I7/100)*60+$I7-INT($I7/100)*100)-(INT($H7/100)*60+$H7-INT($H7/100)*100))/60),1),"") | P7: =IF(H7>=1,1,"") | U7: =SUM(J5:J7) -> 7.2 | V7: 3
A8: =B8 -> 0 | B8: =C8 -> 0 | E8: =IF(D8="ITEN","Robert",IF(D8="DÖBELI","François",IF(D8="ZEMAULI","Marcel",""))) | G8: =IF($D8>=1,"LFTM","") | J8: =ROUND(IF(ISERR($I8/1)," ",((INT($I8/100)*60+$I8-INT($I8/100)*100)-(INT($H8/100)*60+$H8-INT($H8/100)*100))/60),1) -> 0 | L8: =IF($D8="DÖBELI",ROUND(IF(ISERR($I8/1)," ",((INT($I8/100)*60+$I8-INT($I8/100)*100)-(INT($H8/100)*60+$H8-INT($H8/100)*100))/60),1),"") | M8: =IF($D8="LEGRAS",ROUND(IF(ISERR($I8/1)," ",((INT($I8/100)*60+$I8-INT($I8/100)*100)-(INT($H8/100)*60+$H8-INT($H8/100)*100))/60),1),"") | N8: =IF($D8="ITEN",ROUND(IF(ISERR($I8/1)," ",((INT($I8/100)*60+$I8-INT($I8/100)*100)-(INT($H8/100)*60+$H8-INT($H8/100)*100))/60),1),"") | O8: =IF($D8="ZEMAULI",ROUND(IF(ISERR($I8/1)," ",((INT($I8/100)*60+$I8-INT($I8/100)*100)-(INT($H8/100)*60+$H8-INT($H8/100)*100))/60),1),"") | P8: =IF(H8>=1,1,"") | V8: 1
A9: =B9 -> 0 | B9: =C9 -> 0 | E9: =IF(D9="ITEN","Robert",IF(D9="DÖBELI","François",IF(D9="ZEMAULI","Marcel",""))) | G9: =IF($D9>=1,"LFTM","") | J9: =ROUND(IF(ISERR($I9/1)," ",((INT($I9/100)*60+$I9-INT($I9/100)*100)-(INT($H9/100)*60+$H9-INT($H9/100)*100))/60),1) -> 0 | L9: =IF($D9="DÖBELI",ROUND(IF(ISERR($I9/1)," ",((INT($I9/100)*60+$I9-INT($I9/100)*100)-(INT($H9/100)*60+$H9-INT($H9/100)*100))/60),1),"") | M9: =IF($D9="LEGRAS",ROUND(IF(ISERR($I9/1)," ",((INT($I9/100)*60+$I9-INT($I9/100)*100)-(INT($H9/100)*60+$H9-INT($H9/100)*100))/60),1),"") | N9: =IF($D9="ITEN",ROUND(IF(ISERR($I9/1)," ",((INT($I9/100)*60+$I9-INT($I9/100)*100)-(INT($H9/100)*60+$H9-INT($H9/100)*100))/60),1),"") | O9: =IF($D9="ZEMAULI",ROUND(IF(ISERR($I9/1)," ",((INT($I9/100)*60+$I9-INT($I9/100)*100)-(INT($H9/100)*60+$H9-INT($H9/100)*100))/60),1),"") | P9: =IF(H9>=1,1,"") | V9: 2
A10: =B10 -> 0 | B10: =C10 -> 0 | E10: =IF(D10="ITEN","Robert",IF(D10="DÖBELI","François",IF(D10="ZEMAULI","Marcel",""))) | G10: =IF($D10>=1,"LFTM","") | J10: =ROUND(IF(ISERR($I10/1)," ",((INT($I10/100)*60+$I10-INT($I10/100)*100)-(INT($H10/100)*60+$H10-INT($H10/100)*100))/60),1) -> 0 | L10: =IF($D10="DÖBELI",ROUND(IF(ISERR($I10/1)," ",((INT($I10/100)*60+$I10-INT($I10/100)*100)-(INT($H10/100)*60+$H10-INT($H10/100)*100))/60),1),"") | M10: =IF($D10="LEGRAS",ROUND(IF(ISERR($I10/1)," ",((INT($I10/100)*60+$I10-INT($I10/100)*100)-(INT($H10/100)*60+$H10-INT($H10/100)*100))/60),1),"") | N10: =IF($D10="ITEN",ROUND(IF(ISERR($I10/1)," ",((INT($I10/100)*60+$I10-INT($I10/100)*100)-(INT($H10/100)*60+$H10-INT($H10/100)*100))/60),1),"") | O10: =IF($D10="ZEMAULI",ROUND(IF(ISERR($I10/1)," ",((INT($I10/100)*60+$I10-INT($I10/100)*100)-(INT($H10/100)*60+$H10-INT($H10/100)*100))/60),1),"") | P10: =IF(H10>=1,1,"") | V10: 3
A11: =B11 -> 0 | B11: =C11 -> 0 | E11: =IF(D11="ITEN","Robert",IF(D11="DÖBELI","François",IF(D11="ZEMAULI","Marcel",""))) | G11: =IF($D11>=1,"LFTM","") | J11: =ROUND(IF(ISERR($I11/1)," ",((INT($I11/100)*60+$I11-INT($I11/100)*100)-(INT($H11/100)*60+$H11-INT($H11/100)*100))/60),1) -> 0 | L11: =IF($D11="DÖBELI",ROUND(IF(ISERR($I11/1)," ",((INT($I11/100)*60+$I11-INT($I11/100)*100)-(INT($H11/100)*60+$H11-INT($H11/100)*100))/60),1),"") | M11: =IF($D11="LEGRAS",ROUND(IF(ISERR($I11/1)," ",((INT($I11/100)*60+$I11-INT($I11/100)*100)-(INT($H11/100)*60+$H11-INT($H11/100)*100))/60),1),"") | N11: =IF($D11="ITEN",ROUND(IF(ISERR($I11/1)," ",((INT($I11/100)*60+$I11-INT($I11/100)*100)-(INT($H11/100)*60+$H11-INT($H11/100)*100))/60),1),"") | O11: =IF($D11="ZEMAULI",ROUND(IF(ISERR($I11/1)," ",((INT($I11/100)*60+$I11-INT($I11/100)*100)-(INT($H11/100)*60+$H11-INT($H11/100)*100))/60),1),"") | P11: =IF(H11>=1,1,"") | V11: 4
A12: =B12 -> 0 | B12: =C12 -> 0 | E12: =IF(D12="ITEN","Robert",IF(D12="DÖBELI","François",IF(D12="ZEMAULI","Marcel",""))) | G12: =IF($D12>=1,"LFTM","") | J12: =ROUND(IF(ISERR($I12/1)," ",((INT($I12/100)*60+$I12-INT($I12/100)*100)-(INT($H12/100)*60+$H12-INT($H12/100)*100))/60),1) -> 0 | L12: =IF($D12="DÖBELI",ROUND(IF(ISERR($I12/1)," ",((INT($I12/100)*60+$I12-INT($I12/100)*100)-(INT($H12/100)*60+$H12-INT($H12/100)*100))/60),1),"") | M12: =IF($D12="LEGRAS",ROUND(IF(ISERR($I12/1)," ",((INT($I12/100)*60+$I12-INT($I12/100)*100)-(INT($H12/100)*60+$H12-INT($H12/100)*100))/60),1),"") | N12: =IF($D12="ITEN",ROUND(IF(ISERR($I12/1)," ",((INT($I12/100)*60+$I12-INT($I12/100)*100)-(INT($H12/100)*60+$H12-INT($H12/100)*100))/60),1),"") | O12: =IF($D12="ZEMAULI",ROUND(IF(ISERR($I12/1)," ",((INT($I12/100)*60+$I12-INT($I12/100)*100)-(INT($H12/100)*60+$H12-INT($H12/100)*100))/60),1),"") | P12: =IF(H12>=1,1,"") | V12: 5
A13: =B13 -> 0 | B13: =C13 -> 0 | E13: =IF(D13="ITEN","Robert",IF(D13="DÖBELI","François",IF(D13="ZEMAULI","Marcel",""))) | G13: =IF($D13>=1,"LFTM","") | J13: =ROUND(IF(ISERR($I13/1)," ",((INT($I13/100)*60+$I13-INT($I13/100)*100)-(INT($H13/100)*60+$H13-INT($H13/100)*100))/60),1) -> 0 | L13: =IF($D13="DÖBELI",ROUND(IF(ISERR($I13/1)," ",((INT($I13/100)*60+$I13-INT($I13/100)*100)-(INT($H13/100)*60+$H13-INT($H13/100)*100))/60),1),"") | M13: =IF($D13="LEGRAS",ROUND(IF(ISERR($I13/1)," ",((INT($I13/100)*60+$I13-INT($I13/100)*100)-(INT($H13/100)*60+$H13-INT($H13/100)*100))/60),1),"") | N13: =IF($D13="ITEN",ROUND(IF(ISERR($I13/1)," ",((INT($I13/100)*60+$I13-INT($I13/100)*100)-(INT($H13/100)*60+$H13-INT($H13/100)*100))/60),1),"") | O13: =IF($D13="ZEMAULI",ROUND(IF(ISERR($I13/1)," ",((INT($I13/100)*60+$I13-INT($I13/100)*100)-(INT($H13/100)*60+$H13-INT($H13/100)*100))/60),1),"") | P13: =IF(H13>=1,1,"") | V13: 6
A14: =B14 -> 0 | B14: =C14 -> 0 | E14: =IF(D14="ITEN","Robert",IF(D14="DÖBELI","François",IF(D14="ZEMAULI","Marcel",""))) | G14: =IF($D14>=1,"LFTM","") | J14: =ROUND(IF(ISERR($I14/1)," ",((INT($I14/100)*60+$I14-INT($I14/100)*100)-(INT($H14/100)*60+$H14-INT($H14/100)*100))/60),1) -> 0 | L14: =IF($D14="DÖBELI",ROUND(IF(ISERR($I14/1)," ",((INT($I14/100)*60+$I14-INT($I14/100)*100)-(INT($H14/100)*60+$H14-INT($H14/100)*100))/60),1),"") | M14: =IF($D14="LEGRAS",ROUND(IF(ISERR($I14/1)," ",((INT($I14/100)*60+$I14-INT($I14/100)*100)-(INT($H14/100)*60+$H14-INT($H14/100)*100))/60),1),"") | N14: =IF($D14="ITEN",ROUND(IF(ISERR($I14/1)," ",((INT($I14/100)*60+$I14-INT($I14/100)*100)-(INT($H14/100)*60+$H14-INT($H14/100)*100))/60),1),"") | O14: =IF($D14="ZEMAULI",ROUND(IF(ISERR($I14/1)," ",((INT($I14/100)*60+$I14-INT($I14/100)*100)-(INT($H14/100)*60+$H14-INT($H14/100)*100))/60),1),"") | P14: =IF(H14>=1,1,"") | V14: 7
A15: =B15 -> 0 | B15: =C15 -> 0 | E15: =IF(D15="ITEN","Robert",IF(D15="DÖBELI","François",IF(D15="ZEMAULI","Marcel",""))) | G15: =IF($D15>=1,"LFTM","") | J15: =ROUND(IF(ISERR($I15/1)," ",((INT($I15/100)*60+$I15-INT($I15/100)*100)-(INT($H15/100)*60+$H15-INT($H15/100)*100))/60),1) -> 0 | L15: =IF($D15="DÖBELI",ROUND(IF(ISERR($I15/1)," ",((INT($I15/100)*60+$I15-INT($I15/100)*100)-(INT($H15/100)*60+$H15-INT($H15/100)*100))/60),1),"") | M15: =IF($D15="LEGRAS",ROUND(IF(ISERR($I15/1)," ",((INT($I15/100)*60+$I15-INT($I15/100)*100)-(INT($H15/100)*60+$H15-INT($H15/100)*100))/60),1),"") | N15: =IF($D15="ITEN",ROUND(IF(ISERR($I15/1)," ",((INT($I15/100)*60+$I15-INT($I15/100)*100)-(INT($H15/100)*60+$H15-INT($H15/100)*100))/60),1),"") | O15: =IF($D15="ZEMAULI",ROUND(IF(ISERR($I15/1)," ",((INT($I15/100)*60+$I15-INT($I15/100)*100)-(INT($H15/100)*60+$H15-INT($H15/100)*100))/60),1),"") | P15: =IF(H15>=1,1,"") | V15: 8
A16: =B16 -> 0 | B16: =C16 -> 0 | E16: =IF(D16="ITEN","Robert",IF(D16="DÖBELI","François",IF(D16="ZEMAULI","Marcel",""))) | G16: =IF($D16>=1,"LFTM","") | J16: =ROUND(IF(ISERR($I16/1)," ",((INT($I16/100)*60+$I16-INT($I16/100)*100)-(INT($H16/100)*60+$H16-INT($H16/100)*100))/60),1) -> 0 | L16: =IF($D16="DÖBELI",ROUND(IF(ISERR($I16/1)," ",((INT($I16/100)*60+$I16-INT($I16/100)*100)-(INT($H16/100)*60+$H16-INT($H16/100)*100))/60),1),"") | M16: =IF($D16="LEGRAS",ROUND(IF(ISERR($I16/1)," ",((INT($I16/100)*60+$I16-INT($I16/100)*100)-(INT($H16/100)*60+$H16-INT($H16/100)*100))/60),1),"") | N16: =IF($D16="ITEN",ROUND(IF(ISERR($I16/1)," ",((INT($I16/100)*60+$I16-INT($I16/100)*100)-(INT($H16/100)*60+$H16-INT($H16/100)*100))/60),1),"") | O16: =IF($D16="ZEMAULI",ROUND(IF(ISERR($I16/1)," ",((INT($I16/100)*60+$I16-INT($I16/100)*100)-(INT($H16/100)*60+$H16-INT($H16/100)*100))/60),1),"") | P16: =IF(H16>=1,1,"") | V16: 9
A17: =B17 -> 0 | B17: =C17 -> 0 | E17: =IF(D17="ITEN","Robert",IF(D17="DÖBELI","François",IF(D17="ZEMAULI","Marcel",""))) | G17: =IF($D17>=1,"LFTM","") | J17: =ROUND(IF(ISERR($I17/1)," ",((INT($I17/100)*60+$I17-INT($I17/100)*100)-(INT($H17/100)*60+$H17-INT($H17/100)*100))/60),1) -> 0 | L17: =IF($D17="DÖBELI",ROUND(IF(ISERR($I17/1)," ",((INT($I17/100)*60+$I17-INT($I17/100)*100)-(INT($H17/100)*60+$H17-INT($H17/100)*100))/60),1),"") | M17: =IF($D17="LEGRAS",ROUND(IF(ISERR($I17/1)," ",((INT($I17/100)*60+$I17-INT($I17/100)*100)-(INT($H17/100)*60+$H17-INT($H17/100)*100))/60),1),"") | N17: =IF($D17="ITEN",ROUND(IF(ISERR($I17/1)," ",((INT($I17/100)*60+$I17-INT($I17/100)*100)-(INT($H17/100)*60+$H17-INT($H17/100)*100))/60),1),"") | O17: =IF($D17="ZEMAULI",ROUND(IF(ISERR($I17/1)," ",((INT($I17/100)*60+$I17-INT($I17/100)*100)-(INT($H17/100)*60+$H17-INT($H17/100)*100))/60),1),"") | P17: =IF(H17>=1,1,"") | V17: 10
A18: =B18 -> 0 | B18: =C18 -> 0 | E18: =IF(D18="ITEN","Robert",IF(D18="DÖBELI","François",IF(D18="ZEMAULI","Marcel",""))) | G18: =IF($D18>=1,"LFTM","") | J18: =ROUND(IF(ISERR($I18/1)," ",((INT($I18/100)*60+$I18-INT($I18/100)*100)-(INT($H18/100)*60+$H18-INT($H18/100)*100))/60),1) -> 0 | L18: =IF($D18="DÖBELI",ROUND(IF(ISERR($I18/1)," ",((INT($I18/100)*60+$I18-INT($I18/100)*100)-(INT($H18/100)*60+$H18-INT($H18/100)*100))/60),1),"") | M18: =IF($D18="LEGRAS",ROUND(IF(ISERR($I18/1)," ",((INT($I18/100)*60+$I18-INT($I18/100)*100)-(INT($H18/100)*60+$H18-INT($H18/100)*100))/60),1),"") | N18: =IF($D18="ITEN",ROUND(IF(ISERR($I18/1)," ",((INT($I18/100)*60+$I18-INT($I18/100)*100)-(INT($H18/100)*60+$H18-INT($H18/100)*100))/60),1),"") | O18: =IF($D18="ZEMAULI",ROUND(IF(ISERR($I18/1)," ",((INT($I18/100)*60+$I18-INT($I18/100)*100)-(INT($H18/100)*60+$H18-INT($H18/100)*100))/60),1),"") | P18: =IF(H18>=1,1,"") | V18: 11
A19: =B19 -> 0 | B19: =C19 -> 0 | E19: =IF(D19="ITEN","Robert",IF(D19="DÖBELI","François",IF(D19="ZEMAULI","Marcel",""))) | G19: =IF($D19>=1,"LFTM","") | J19: =ROUND(IF(ISERR($I19/1)," ",((INT($I19/100)*60+$I19-INT($I19/100)*100)-(INT($H19/100)*60+$H19-INT($H19/100)*100))/60),1) -> 0 | L19: =IF($D19="DÖBELI",ROUND(IF(ISERR($I19/1)," ",((INT($I19/100)*60+$I19-INT($I19/100)*100)-(INT($H19/100)*60+$H19-INT($H19/100)*100))/60),1),"") | M19: =IF($D19="LEGRAS",ROUND(IF(ISERR($I19/1)," ",((INT($I19/100)*60+$I19-INT($I19/100)*100)-(INT($H19/100)*60+$H19-INT($H19/100)*100))/60),1),"") | N19: =IF($D19="ITEN",ROUND(IF(ISERR($I19/1)," ",((INT($I19/100)*60+$I19-INT($I19/100)*100)-(INT($H19/100)*60+$H19-INT($H19/100)*100))/60),1),"") | O19: =IF($D19="ZEMAULI",ROUND(IF(ISERR($I19/1)," ",((INT($I19/100)*60+$I19-INT($I19/100)*100)-(INT($H19/100)*60+$H19-INT($H19/100)*100))/60),1),"") | P19: =IF(H19>=1,1,"") | V19: 12
... A56: =B56 -> 0 | B56: =C56 -> 0 | E56: =IF(D56="ITEN","Robert",IF(D56="DÖBELI","François",IF(D56="ZEMAULI","Marcel",""))) | G56: =IF($D56>=1,"LFTM","") | J56: =ROUND(IF(ISERR($I56/1)," ",((INT($I56/100)*60+$I56-INT($I56/100)*100)-(INT($H56/100)*60+$H56-INT($H56/100)*100))/60),1) -> 0 | L56: =IF($D56="DÖBELI",ROUND(IF(ISERR($I56/1)," ",((INT($I56/100)*60+$I56-INT($I56/100)*100)-(INT($H56/100)*60+$H56-INT($H56/100)*100))/60),1),"") | M56: =IF($D56="LEGRAS",ROUND(IF(ISERR($I56/1)," ",((INT($I56/100)*60+$I56-INT($I56/100)*100)-(INT($H56/100)*60+$H56-INT($H56/100)*100))/60),1),"") | N56: =IF($D56="ITEN",ROUND(IF(ISERR($I56/1)," ",((INT($I56/100)*60+$I56-INT($I56/100)*100)-(INT($H56/100)*60+$H56-INT($H56/100)*100))/60),1),"") | O56: =IF($D56="ZEMAULI",ROUND(IF(ISERR($I56/1)," ",((INT($I56/100)*60+$I56-INT($I56/100)*100)-(INT($H56/100)*60+$H56-INT($H56/100)*100))/60),1),"") | P56: =IF(H56>=1,1,"") | V56: 49
A57: =B57 -> 0 | B57: =C57 -> 0 | E57: =IF(D57="ITEN","Robert",IF(D57="DÖBELI","François",IF(D57="ZEMAULI","Marcel",""))) | G57: =IF($D57>=1,"LFTM","") | J57: =ROUND(IF(ISERR($I57/1)," ",((INT($I57/100)*60+$I57-INT($I57/100)*100)-(INT($H57/100)*60+$H57-INT($H57/100)*100))/60),1) -> 0 | L57: =IF($D57="DÖBELI",ROUND(IF(ISERR($I57/1)," ",((INT($I57/100)*60+$I57-INT($I57/100)*100)-(INT($H57/100)*60+$H57-INT($H57/100)*100))/60),1),"") | M57: =IF($D57="LEGRAS",ROUND(IF(ISERR($I57/1)," ",((INT($I57/100)*60+$I57-INT($I57/100)*100)-(INT($H57/100)*60+$H57-INT($H57/100)*100))/60),1),"") | N57: =IF($D57="ITEN",ROUND(IF(ISERR($I57/1)," ",((INT($I57/100)*60+$I57-INT($I57/100)*100)-(INT($H57/100)*60+$H57-INT($H57/100)*100))/60),1),"") | O57: =IF($D57="ZEMAULI",ROUND(IF(ISERR($I57/1)," ",((INT($I57/100)*60+$I57-INT($I57/100)*100)-(INT($H57/100)*60+$H57-INT($H57/100)*100))/60),1),"") | P57: =IF(H57>=1,1,"") | U57: =SUM(J8:J57) -> 0 | V57: 50 | W57: =V57+W7 -> 50 | X57: =U57/V57 -> 0 | Y57: =Y7+U57 -> 0
A58: =B58 -> 0 | B58: =C58 -> 0 | E58: =IF(D58="ITEN","Robert",IF(D58="DÖBELI","François",IF(D58="ZEMAULI","Marcel",""))) | G58: =IF($D58>=1,"LFTM","") | J58: =ROUND(IF(ISERR($I58/1)," ",((INT($I58/100)*60+$I58-INT($I58/100)*100)-(INT($H58/100)*60+$H58-INT($H58/100)*100))/60),1) -> 0 | L58: =IF($D58="DÖBELI",ROUND(IF(ISERR($I58/1)," ",((INT($I58/100)*60+$I58-INT($I58/100)*100)-(INT($H58/100)*60+$H58-INT($H58/100)*100))/60),1),"") | M58: =IF($D58="LEGRAS",ROUND(IF(ISERR($I58/1)," ",((INT($I58/100)*60+$I58-INT($I58/100)*100)-(INT($H58/100)*60+$H58-INT($H58/100)*100))/60),1),"") | N58: =IF($D58="ITEN",ROUND(IF(ISERR($I58/1)," ",((INT($I58/100)*60+$I58-INT($I58/100)*100)-(INT($H58/100)*60+$H58-INT($H58/100)*100))/60),1),"") | O58: =IF($D58="ZEMAULI",ROUND(IF(ISERR($I58/1)," ",((INT($I58/100)*60+$I58-INT($I58/100)*100)-(INT($H58/100)*60+$H58-INT($H58/100)*100))/60),1),"") | P58: =IF(H58>=1,1,"") | V58: 1
A59: =B59 -> 0 | B59: =C59 -> 0 | E59: =IF(D59="ITEN","Robert",IF(D59="DÖBELI","François",IF(D59="ZEMAULI","Marcel",""))) | G59: =IF($D59>=1,"LFTM","") | J59: =ROUND(IF(ISERR($I59/1)," ",((INT($I59/100)*60+$I59-INT($I59/100)*100)-(INT($H59/100)*60+$H59-INT($H59/100)*100))/60),1) -> 0 | L59: =IF($D59="DÖBELI",ROUND(IF(ISERR($I59/1)," ",((INT($I59/100)*60+$I59-INT($I59/100)*100)-(INT($H59/100)*60+$H59-INT($H59/100)*100))/60),1),"") | M59: =IF($D59="LEGRAS",ROUND(IF(ISERR($I59/1)," ",((INT($I59/100)*60+$I59-INT($I59/100)*100)-(INT($H59/100)*60+$H59-INT($H59/100)*100))/60),1),"") | N59: =IF($D59="ITEN",ROUND(IF(ISERR($I59/1)," ",((INT($I59/100)*60+$I59-INT($I59/100)*100)-(INT($H59/100)*60+$H59-INT($H59/100)*100))/60),1),"") | O59: =IF($D59="ZEMAULI",ROUND(IF(ISERR($I59/1)," ",((INT($I59/100)*60+$I59-INT($I59/100)*100)-(INT($H59/100)*60+$H59-INT($H59/100)*100))/60),1),"") | P59: =IF(H59>=1,1,"") | V59: 2
A60: =B60 -> 0 | B60: =C60 -> 0 | E60: =IF(D60="ITEN","Robert",IF(D60="DÖBELI","François",IF(D60="ZEMAULI","Marcel",""))) | G60: =IF($D60>=1,"LFTM","") | J60: =ROUND(IF(ISERR($I60/1)," ",((INT($I60/100)*60+$I60-INT($I60/100)*100)-(INT($H60/100)*60+$H60-INT($H60/100)*100))/60),1) -> 0 | L60: =IF($D60="DÖBELI",ROUND(IF(ISERR($I60/1)," ",((INT($I60/100)*60+$I60-INT($I60/100)*100)-(INT($H60/100)*60+$H60-INT($H60/100)*100))/60),1),"") | M60: =IF($D60="LEGRAS",ROUND(IF(ISERR($I60/1)," ",((INT($I60/100)*60+$I60-INT($I60/100)*100)-(INT($H60/100)*60+$H60-INT($H60/100)*100))/60),1),"") | N60: =IF($D60="ITEN",ROUND(IF(ISERR($I60/1)," ",((INT($I60/100)*60+$I60-INT($I60/100)*100)-(INT($H60/100)*60+$H60-INT($H60/100)*100))/60),1),"") | O60: =IF($D60="ZEMAULI",ROUND(IF(ISERR($I60/1)," ",((INT($I60/100)*60+$I60-INT($I60/100)*100)-(INT($H60/100)*60+$H60-INT($H60/100)*100))/60),1),"") | P60: =IF(H60>=1,1,"") | V60: 3
A61: =B61 -> 0 | B61: =C61 -> 0 | E61: =IF(D61="ITEN","Robert",IF(D61="DÖBELI","François",IF(D61="ZEMAULI","Marcel",""))) | G61: =IF($D61>=1,"LFTM","") | J61: =ROUND(IF(ISERR($I61/1)," ",((INT($I61/100)*60+$I61-INT($I61/100)*100)-(INT($H61/100)*60+$H61-INT($H61/100)*100))/60),1) -> 0 | L61: =IF($D61="DÖBELI",ROUND(IF(ISERR($I61/1)," ",((INT($I61/100)*60+$I61-INT($I61/100)*100)-(INT($H61/100)*60+$H61-INT($H61/100)*100))/60),1),"") | M61: =IF($D61="LEGRAS",ROUND(IF(ISERR($I61/1)," ",((INT($I61/100)*60+$I61-INT($I61/100)*100)-(INT($H61/100)*60+$H61-INT($H61/100)*100))/60),1),"") | N61: =IF($D61="ITEN",ROUND(IF(ISERR($I61/1)," ",((INT($I61/100)*60+$I61-INT($I61/100)*100)-(INT($H61/100)*60+$H61-INT($H61/100)*100))/60),1),"") | O61: =IF($D61="ZEMAULI",ROUND(IF(ISERR($I61/1)," ",((INT($I61/100)*60+$I61-INT($I61/100)*100)-(INT($H61/100)*60+$H61-INT($H61/100)*100))/60),1),"") | P61: =IF(H61>=1,1,"") | V61: 4
A62: =B62 -> 0 | B62: =C62 -> 0 | E62: =IF(D62="ITEN","Robert",IF(D62="DÖBELI","François",IF(D62="ZEMAULI","Marcel",""))) | G62: =IF($D62>=1,"LFTM","") | J62: =ROUND(IF(ISERR($I62/1)," ",((INT($I62/100)*60+$I62-INT($I62/100)*100)-(INT($H62/100)*60+$H62-INT($H62/100)*100))/60),1) -> 0 | L62: =IF($D62="DÖBELI",ROUND(IF(ISERR($I62/1)," ",((INT($I62/100)*60+$I62-INT($I62/100)*100)-(INT($H62/100)*60+$H62-INT($H62/100)*100))/60),1),"") | M62: =IF($D62="LEGRAS",ROUND(IF(ISERR($I62/1)," ",((INT($I62/100)*60+$I62-INT($I62/100)*100)-(INT($H62/100)*60+$H62-INT($H62/100)*100))/60),1),"") | N62: =IF($D62="ITEN",ROUND(IF(ISERR($I62/1)," ",((INT($I62/100)*60+$I62-INT($I62/100)*100)-(INT($H62/100)*60+$H62-INT($H62/100)*100))/60),1),"") | O62: =IF($D62="ZEMAULI",ROUND(IF(ISERR($I62/1)," ",((INT($I62/100)*60+$I62-INT($I62/100)*100)-(INT($H62/100)*60+$H62-INT($H62/100)*100))/60),1),"") | P62: =IF(H62>=1,1,"") | V62: 5
A63: =B63 -> 0 | B63: =C63 -> 0 | E63: =IF(D63="ITEN","Robert",IF(D63="DÖBELI","François",IF(D63="ZEMAULI","Marcel",""))) | G63: =IF($D63>=1,"LFTM","") | J63: =ROUND(IF(ISERR($I63/1)," ",((INT($I63/100)*60+$I63-INT($I63/100)*100)-(INT($H63/100)*60+$H63-INT($H63/100)*100))/60),1) -> 0 | L63: =IF($D63="DÖBELI",ROUND(IF(ISERR($I63/1)," ",((INT($I63/100)*60+$I63-INT($I63/100)*100)-(INT($H63/100)*60+$H63-INT($H63/100)*100))/60),1),"") | M63: =IF($D63="LEGRAS",ROUND(IF(ISERR($I63/1)," ",((INT($I63/100)*60+$I63-INT($I63/100)*100)-(INT($H63/100)*60+$H63-INT($H63/100)*100))/60),1),"") | N63: =IF($D63="ITEN",ROUND(IF(ISERR($I63/1)," ",((INT($I63/100)*60+$I63-INT($I63/100)*100)-(INT($H63/100)*60+$H63-INT($H63/100)*100))/60),1),"") | O63: =IF($D63="ZEMAULI",ROUND(IF(ISERR($I63/1)," ",((INT($I63/100)*60+$I63-INT($I63/100)*100)-(INT($H63/100)*60+$H63-INT($H63/100)*100))/60),1),"") | P63: =IF(H63>=1,1,"") | V63: 6
A64: =B64 -> 0 | B64: =C64 -> 0 | E64: =IF(D64="ITEN","Robert",IF(D64="DÖBELI","François",IF(D64="ZEMAULI","Marcel",""))) | G64: =IF($D64>=1,"LFTM","") | J64: =ROUND(IF(ISERR($I64/1)," ",((INT($I64/100)*60+$I64-INT($I64/100)*100)-(INT($H64/100)*60+$H64-INT($H64/100)*100))/60),1) -> 0 | L64: =IF($D64="DÖBELI",ROUND(IF(ISERR($I64/1)," ",((INT($I64/100)*60+$I64-INT($I64/100)*100)-(INT($H64/100)*60+$H64-INT($H64/100)*100))/60),1),"") | M64: =IF($D64="LEGRAS",ROUND(IF(ISERR($I64/1)," ",((INT($I64/100)*60+$I64-INT($I64/100)*100)-(INT($H64/100)*60+$H64-INT($H64/100)*100))/60),1),"") | N64: =IF($D64="ITEN",ROUND(IF(ISERR($I64/1)," ",((INT($I64/100)*60+$I64-INT($I64/100)*100)-(INT($H64/100)*60+$H64-INT($H64/100)*100))/60),1),"") | O64: =IF($D64="ZEMAULI",ROUND(IF(ISERR($I64/1)," ",((INT($I64/100)*60+$I64-INT($I64/100)*100)-(INT($H64/100)*60+$H64-INT($H64/100)*100))/60),1),"") | P64: =IF(H64>=1,1,"") | V64: 7
A65: =B65 -> 0 | B65: =C65 -> 0 | E65: =IF(D65="ITEN","Robert",IF(D65="DÖBELI","François",IF(D65="ZEMAULI","Marcel",""))) | G65: =IF($D65>=1,"LFTM","") | J65: =ROUND(IF(ISERR($I65/1)," ",((INT($I65/100)*60+$I65-INT($I65/100)*100)-(INT($H65/100)*60+$H65-INT($H65/100)*100))/60),1) -> 0 | L65: =IF($D65="DÖBELI",ROUND(IF(ISERR($I65/1)," ",((INT($I65/100)*60+$I65-INT($I65/100)*100)-(INT($H65/100)*60+$H65-INT($H65/100)*100))/60),1),"") | M65: =IF($D65="LEGRAS",ROUND(IF(ISERR($I65/1)," ",((INT($I65/100)*60+$I65-INT($I65/100)*100)-(INT($H65/100)*60+$H65-INT($H65/100)*100))/60),1),"") | N65: =IF($D65="ITEN",ROUND(IF(ISERR($I65/1)," ",((INT($I65/100)*60+$I65-INT($I65/100)*100)-(INT($H65/100)*60+$H65-INT($H65/100)*100))/60),1),"") | O65: =IF($D65="ZEMAULI",ROUND(IF(ISERR($I65/1)," ",((INT($I65/100)*60+$I65-INT($I65/100)*100)-(INT($H65/100)*60+$H65-INT($H65/100)*100))/60),1),"") | P65: =IF(H65>=1,1,"") | V65: 8
A66: =B66 -> 0 | B66: =C66 -> 0 | E66: =IF(D66="ITEN","Robert",IF(D66="DÖBELI","François",IF(D66="ZEMAULI","Marcel",""))) | G66: =IF($D66>=1,"LFTM","") | J66: =ROUND(IF(ISERR($I66/1)," ",((INT($I66/100)*60+$I66-INT($I66/100)*100)-(INT($H66/100)*60+$H66-INT($H66/100)*100))/60),1) -> 0 | L66: =IF($D66="DÖBELI",ROUND(IF(ISERR($I66/1)," ",((INT($I66/100)*60+$I66-INT($I66/100)*100)-(INT($H66/100)*60+$H66-INT($H66/100)*100))/60),1),"") | M66: =IF($D66="LEGRAS",ROUND(IF(ISERR($I66/1)," ",((INT($I66/100)*60+$I66-INT($I66/100)*100)-(INT($H66/100)*60+$H66-INT($H66/100)*100))/60),1),"") | N66: =IF($D66="ITEN",ROUND(IF(ISERR($I66/1)," ",((INT($I66/100)*60+$I66-INT($I66/100)*100)-(INT($H66/100)*60+$H66-INT($H66/100)*100))/60),1),"") | O66: =IF($D66="ZEMAULI",ROUND(IF(ISERR($I66/1)," ",((INT($I66/100)*60+$I66-INT($I66/100)*100)-(INT($H66/100)*60+$H66-INT($H66/100)*100))/60),1),"") | P66: =IF(H66>=1,1,"") | V66: 9
