Workbook

Sheet Fiche RECAP
B1: =CONCATENATE("SUIVI ANNUALISATION MOIS DE ",CHOOSE(MONTH(C20),"JANVIER","FEVRIER","MARS","AVRIL","MAI","JUIN","JUILLET","AOUT","SEPTEMBRE","OCTOBRE","NOVEMBRE","DECEMBRE")," ",YEAR(C14)) -> SUIVI ANNUALISATION MOIS DE SEPTEMBRE 2018
A3: 1 | B3: =CONCATENATE("MATRICULE"," ",":"," ",VLOOKUP(A3,XTIME!$A$1:$E$31,2,FALSE)) -> MATRICULE : | K3: BASE HORAIRE
B4: =CONCATENATE("NOM : ",VLOOKUP(A3,XTIME!$A$1:$E$31,3,FALSE)," ",VLOOKUP(A3,XTIME!$A$1:$E$31,4,FALSE)) -> NOM : Jackson | K4: =VLOOKUP(A3,XTIME!$A$1:$E$31,5,FALSE) -> 43
B5: DATE | D5: PRESENCE | E5: DEL | F5: DIR | G5: FORMATION | H5: AUTRES | I5: HN21 | J5: HN22
B6: =CONCATENATE("SEMAINE"," ",WEEKNUM(C11)) -> SEMAINE 35 | D6: =IF(ISNA((HOUR(VLOOKUP(CONCATENATE(VLOOKUP($A$3,XTIME!$A$1:$E$31,3,FALSE),$C6),Tableau3[[Référence]:[FORMATION]],34,FALSE))*60+MINUTE(VLOOKUP(CONCATENATE(VLOOKUP($A$3,XTIME!$A$1:$E$31,3,FALSE),$C6),Tableau3[[Référence]:[FORMATION]],34,FALSE)))/60)=TRUE,"",((HOUR(VLOOKUP(CONCATENATE(VLOOKUP($A$3,XTIME!$A$1:$E$31,3,FALSE),$C6),Tableau3[[Référence]:[FORMATION]],34,FALSE))*60+MINUTE(VLOOKUP(CONCATENATE(VLOOKUP($A$3,XTIME!$A$1:$E$31,3,FALSE),$C6),Tableau3[[Référence]:[FORMATION]],34,FALSE)))/60)) | E6: =IF(ISNA((HOUR(VLOOKUP(CONCATENATE(VLOOKUP($A$3,XTIME!$A$1:$E$31,3,FALSE),$C6),Tableau3[[Référence]:[FORMATION]],40,FALSE))*60+MINUTE(VLOOKUP(CONCATENATE(VLOOKUP($A$3,XTIME!$A$1:$E$31,3,FALSE),$C6),Tableau3[[Référence]:[FORMATION]],40,FALSE)))/60)=TRUE,"",((HOUR(VLOOKUP(CONCATENATE(VLOOKUP($A$3,XTIME!$A$1:$E$31,3,FALSE),$C6),Tableau3[[Référence]:[FORMATION]],40,FALSE))*60+MINUTE(VLOOKUP(CONCATENATE(VLOOKUP($A$3,XTIME!$A$1:$E$31,3,FALSE),$C6),Tableau3[[Référence]:[FORMATION]],40,FALSE)))/60)) | F6: =IF(ISNA((HOUR(VLOOKUP(CONCATENATE(VLOOKUP($A$3,XTIME!$A$1:$E$31,3,FALSE),$C6),Tableau3[[Référence]:[FORMATION]],41,FALSE))*60+MINUTE(VLOOKUP(CONCATENATE(VLOOKUP($A$3,XTIME!$A$1:$E$31,3,FALSE),$C6),Tableau3[[Référence]:[FORMATION]],41,FALSE)))/60)=TRUE,"",((HOUR(VLOOKUP(CONCATENATE(VLOOKUP($A$3,XTIME!$A$1:$E$31,3,FALSE),$C6),Tableau3[[Référence]:[FORMATION]],41,FALSE))*60+MINUTE(VLOOKUP(CONCATENATE(VLOOKUP($A$3,XTIME!$A$1:$E$31,3,FALSE),$C6),Tableau3[[Référence]:[FORMATION]],41,FALSE)))/60)) | G6: =IF(ISNA((HOUR(VLOOKUP(CONCATENATE(VLOOKUP($A$3,XTIME!$A$1:$E$31,3,FALSE),$C6),Tableau3[[Référence]:[FORMATION]],42,FALSE))*60+MINUTE(VLOOKUP(CONCATENATE(VLOOKUP($A$3,XTIME!$A$1:$E$31,3,FALSE),$C6),Tableau3[[Référence]:[FORMATION]],42,FALSE)))/60)=TRUE,"",((HOUR(VLOOKUP(CONCATENATE(VLOOKUP($A$3,XTIME!$A$1:$E$31,3,FALSE),$C6),Tableau3[[Référence]:[FORMATION]],42,FALSE))*60+MINUTE(VLOOKUP(CONCATENATE(VLOOKUP($A$3,XTIME!$A$1:$E$31,3,FALSE),$C6),Tableau3[[Référence]:[FORMATION]],42,FALSE)))/60)) | H6: =IF(ISNA(VLOOKUP(CONCATENATE(VLOOKUP($A$3,XTIME!$A$1:$E$31,3,FALSE),$C6),Tableau3[[Référence]:[FORMATION]],7,FALSE))=TRUE,"",VLOOKUP(CONCATENATE(VLOOKUP($A$3,XTIME!$A$1:$E$31,3,FALSE),$C6),Tableau3[[Référence]:[FORMATION]],7,FALSE)) | I6: =IFERROR((HOUR(IF(C6="","",MIN(IF((VLOOKUP(CONCATENATE(VLOOKUP($A$3,XTIME!$A$1:$E$31,3,FALSE),C6),'Fiche Horaire'!A:AR,12,FALSE)+VLOOKUP(CONCATENATE(VLOOKUP($A$3,XTIME!$A$1:$E$31,3,FALSE),C6),'Fiche Horaire'!A:AR,33,FALSE))>Feuil2!$C$2,VLOOKUP(CONCATENATE(VLOOKUP($A$3,XTIME!$A$1:$E$31,3,FALSE),C6),'Fiche Horaire'!A:AR,33,FALSE)+VLOOKUP(CONCATENATE(VLOOKUP($A$3,XTIME!$A$1:$E$31,3,FALSE),C6),'Fiche Horaire'!A:AR,12,FALSE)-Feuil2!$C$2,"X"),Feuil2!$C$3)))*60+MINUTE(IF(C6="","",MIN(IF((VLOOKUP(CONCATENATE(VLOOKUP($A$3,XTIME!$A$1:$E$31,3,FALSE),C6),'Fiche Horaire'!A:AR,12,FALSE)+VLOOKUP(CONCATENATE(VLOOKUP($A$3,XTIME!$A$1:$E$31,3,FALSE),C6),'Fiche Horaire'!A:AR,33,FALSE))>Feuil2!$C$2,VLOOKUP(CONCATENATE(VLOOKUP($A$3,XTIME!$A$1:$E$31,3,FALSE),C6),'Fiche Horaire'!A:AR,33,FALSE)+VLOOKUP(CONCATENATE(VLOOKUP($A$3,XTIME!$A$1:$E$31,3,FALSE),C6),'Fiche Horaire'!A:AR,12,FALSE)-Feuil2!$C$2,"X"),Feuil2!$C$3))))/60,"") | J6: =IFERROR((HOUR(IF(C6="","",IF(VLOOKUP(CONCATENATE(VLOOKUP($A$3,XTIME!$A$1:$E$31,3,FALSE),C6),'Fiche Horaire'!A:AR,12,FALSE)="","",IF((VLOOKUP(CONCATENATE(VLOOKUP($A$3,XTIME!$A$1:$E$31,3,FALSE),C6),'Fiche Horaire'!A:AR,12,FALSE))<Feuil2!$D$2,Feuil2!$D$2-VLOOKUP(CONCATENATE(VLOOKUP($A$3,XTIME!$A$1:$E$31,3,FALSE),C6),'Fiche Horaire'!A:AR,12,FALSE),IF((VLOOKUP(CONCATENATE(VLOOKUP($A$3,XTIME!$A$1:$E$31,3,FALSE),C6),'Fiche Horaire'!A:AR,12,FALSE)+VLOOKUP(CONCATENATE(VLOOKUP($A$3,XTIME!$A$1:$E$31,3,FALSE),C6),'Fiche Horaire'!A:AR,33,FALSE))>Feuil2!$D$3,VLOOKUP(CONCATENATE(VLOOKUP($A$3,XTIME!$A$1:$E$31,3,FALSE),C6),'Fiche Horaire'!A:AR,33,FALSE)+VLOOKUP(CONCATENATE(VLOOKUP($A$3,XTIME!$A$1:$E$31,3,FALSE),C6),'Fiche Horaire'!A:AR,12,FALSE)-Feuil2!$D$3,"")))))*60+MINUTE(IF(C6="","",IF(VLOOKUP(CONCATENATE(VLOOKUP($A$3,XTIME!$A$1:$E$31,3,FALSE),C6),'Fiche Horaire'!A:AR,12,FALSE)="","",IF((VLOOKUP(CONCATENATE(VLOOKUP($A$3,XTIME!$A$1:$E$31,3,FALSE),C6),'Fiche Horaire'!A:AR,12,FALSE))<Feuil2!$D$2,Feuil2!$D$2-VLOOKUP(CONCATENATE(VLOOKUP($A$3,XTIME!$A$1:$E$31,3,FALSE),C6),'Fiche Horaire'!A:AR,12,FALSE),IF((VLOOKUP(CONCATENATE(VLOOKUP($A$3,XTIME!$A$1:$E$31,3,FALSE),C6),'Fiche Horaire'!A:AR,12,FALSE)+VLOOKUP(CONCATENATE(VLOOKUP($A$3,XTIME!$A$1:$E$31,3,FALSE),C6),'Fiche Horaire'!A:AR,33,FALSE))>Feuil2!$D$3,VLOOKUP(CONCATENATE(VLOOKUP($A$3,XTIME!$A$1:$E$31,3,FALSE),C6),'Fiche Horaire'!A:AR,33,FALSE)+VLOOKUP(CONCATENATE(VLOOKUP($A$3,XTIME!$A$1:$E$31,3,FALSE),C6),'Fiche Horaire'!A:AR,12,FALSE)-Feuil2!$D$3,""))))))/60,"") | L6: =B6 -> SEMAINE 35
D7: =IF(ISNA((HOUR(VLOOKUP(CONCATENATE(VLOOKUP($A$3,XTIME!$A$1:$E$31,3,FALSE),$C7),Tableau3[[Référence]:[FORMATION]],34,FALSE))*60+MINUTE(VLOOKUP(CONCATENATE(VLOOKUP($A$3,XTIME!$A$1:$E$31,3,FALSE),$C7),Tableau3[[Référence]:[FORMATION]],34,FALSE)))/60)=TRUE,"",((HOUR(VLOOKUP(CONCATENATE(VLOOKUP($A$3,XTIME!$A$1:$E$31,3,FALSE),$C7),Tableau3[[Référence]:[FORMATION]],34,FALSE))*60+MINUTE(VLOOKUP(CONCATENATE(VLOOKUP($A$3,XTIME!$A$1:$E$31,3,FALSE),$C7),Tableau3[[Référence]:[FORMATION]],34,FALSE)))/60)) | E7: =IF(ISNA((HOUR(VLOOKUP(CONCATENATE(VLOOKUP($A$3,XTIME!$A$1:$E$31,3,FALSE),$C7),Tableau3[[Référence]:[FORMATION]],40,FALSE))*60+MINUTE(VLOOKUP(CONCATENATE(VLOOKUP($A$3,XTIME!$A$1:$E$31,3,FALSE),$C7),Tableau3[[Référence]:[FORMATION]],40,FALSE)))/60)=TRUE,"",((HOUR(VLOOKUP(CONCATENATE(VLOOKUP($A$3,XTIME!$A$1:$E$31,3,FALSE),$C7),Tableau3[[Référence]:[FORMATION]],40,FALSE))*60+MINUTE(VLOOKUP(CONCATENATE(VLOOKUP($A$3,XTIME!$A$1:$E$31,3,FALSE),$C7),Tableau3[[Référence]:[FORMATION]],40,FALSE)))/60)) | F7: =IF(ISNA((HOUR(VLOOKUP(CONCATENATE(VLOOKUP($A$3,XTIME!$A$1:$E$31,3,FALSE),$C7),Tableau3[[Référence]:[FORMATION]],41,FALSE))*60+MINUTE(VLOOKUP(CONCATENATE(VLOOKUP($A$3,XTIME!$A$1:$E$31,3,FALSE),$C7),Tableau3[[Référence]:[FORMATION]],41,FALSE)))/60)=TRUE,"",((HOUR(VLOOKUP(CONCATENATE(VLOOKUP($A$3,XTIME!$A$1:$E$31,3,FALSE),$C7),Tableau3[[Référence]:[FORMATION]],41,FALSE))*60+MINUTE(VLOOKUP(CONCATENATE(VLOOKUP($A$3,XTIME!$A$1:$E$31,3,FALSE),$C7),Tableau3[[Référence]:[FORMATION]],41,FALSE)))/60)) | G7: =IF(ISNA((HOUR(VLOOKUP(CONCATENATE(VLOOKUP($A$3,XTIME!$A$1:$E$31,3,FALSE),$C7),Tableau3[[Référence]:[FORMATION]],42,FALSE))*60+MINUTE(VLOOKUP(CONCATENATE(VLOOKUP($A$3,XTIME!$A$1:$E$31,3,FALSE),$C7),Tableau3[[Référence]:[FORMATION]],42,FALSE)))/60)=TRUE,"",((HOUR(VLOOKUP(CONCATENATE(VLOOKUP($A$3,XTIME!$A$1:$E$31,3,FALSE),$C7),Tableau3[[Référence]:[FORMATION]],42,FALSE))*60+MINUTE(VLOOKUP(CONCATENATE(VLOOKUP($A$3,XTIME!$A$1:$E$31,3,FALSE),$C7),Tableau3[[Référence]:[FORMATION]],42,FALSE)))/60)) | H7: =IF(ISNA(VLOOKUP(CONCATENATE(VLOOKUP($A$3,XTIME!$A$1:$E$31,3,FALSE),$C7),Tableau3[[Référence]:[FORMATION]],7,FALSE))=TRUE,"",VLOOKUP(CONCATENATE(VLOOKUP($A$3,XTIME!$A$1:$E$31,3,FALSE),$C7),Tableau3[[Référence]:[FORMATION]],7,FALSE)) | I7: =IFERROR((HOUR(IF(C7="","",MIN(IF((VLOOKUP(CONCATENATE(VLOOKUP($A$3,XTIME!$A$1:$E$31,3,FALSE),C7),'Fiche Horaire'!A:AR,12,FALSE)+VLOOKUP(CONCATENATE(VLOOKUP($A$3,XTIME!$A$1:$E$31,3,FALSE),C7),'Fiche Horaire'!A:AR,33,FALSE))>Feuil2!$C$2,VLOOKUP(CONCATENATE(VLOOKUP($A$3,XTIME!$A$1:$E$31,3,FALSE),C7),'Fiche Horaire'!A:AR,33,FALSE)+VLOOKUP(CONCATENATE(VLOOKUP($A$3,XTIME!$A$1:$E$31,3,FALSE),C7),'Fiche Horaire'!A:AR,12,FALSE)-Feuil2!$C$2,"X"),Feuil2!$C$3)))*60+MINUTE(IF(C7="","",MIN(IF((VLOOKUP(CONCATENATE(VLOOKUP($A$3,XTIME!$A$1:$E$31,3,FALSE),C7),'Fiche Horaire'!A:AR,12,FALSE)+VLOOKUP(CONCATENATE(VLOOKUP($A$3,XTIME!$A$1:$E$31,3,FALSE),C7),'Fiche Horaire'!A:AR,33,FALSE))>Feuil2!$C$2,VLOOKUP(CONCATENATE(VLOOKUP($A$3,XTIME!$A$1:$E$31,3,FALSE),C7),'Fiche Horaire'!A:AR,33,FALSE)+VLOOKUP(CONCATENATE(VLOOKUP($A$3,XTIME!$A$1:$E$31,3,FALSE),C7),'Fiche Horaire'!A:AR,12,FALSE)-Feuil2!$C$2,"X"),Feuil2!$C$3))))/60,"") | J7: =IFERROR((HOUR(IF(C7="","",IF(VLOOKUP(CONCATENATE(VLOOKUP($A$3,XTIME!$A$1:$E$31,3,FALSE),C7),'Fiche Horaire'!A:AR,12,FALSE)="","",IF((VLOOKUP(CONCATENATE(VLOOKUP($A$3,XTIME!$A$1:$E$31,3,FALSE),C7),'Fiche Horaire'!A:AR,12,FALSE))<Feuil2!$D$2,Feuil2!$D$2-VLOOKUP(CONCATENATE(VLOOKUP($A$3,XTIME!$A$1:$E$31,3,FALSE),C7),'Fiche Horaire'!A:AR,12,FALSE),IF((VLOOKUP(CONCATENATE(VLOOKUP($A$3,XTIME!$A$1:$E$31,3,FALSE),C7),'Fiche Horaire'!A:AR,12,FALSE)+VLOOKUP(CONCATENATE(VLOOKUP($A$3,XTIME!$A$1:$E$31,3,FALSE),C7),'Fiche Horaire'!A:AR,33,FALSE))>Feuil2!$D$3,VLOOKUP(CONCATENATE(VLOOKUP($A$3,XTIME!$A$1:$E$31,3,FALSE),C7),'Fiche Horaire'!A:AR,33,FALSE)+VLOOKUP(CONCATENATE(VLOOKUP($A$3,XTIME!$A$1:$E$31,3,FALSE),C7),'Fiche Horaire'!A:AR,12,FALSE)-Feuil2!$D$3,"")))))*60+MINUTE(IF(C7="","",IF(VLOOKUP(CONCATENATE(VLOOKUP($A$3,XTIME!$A$1:$E$31,3,FALSE),C7),'Fiche Horaire'!A:AR,12,FALSE)="","",IF((VLOOKUP(CONCATENATE(VLOOKUP($A$3,XTIME!$A$1:$E$31,3,FALSE),C7),'Fiche Horaire'!A:AR,12,FALSE))<Feuil2!$D$2,Feuil2!$D$2-VLOOKUP(CONCATENATE(VLOOKUP($A$3,XTIME!$A$1:$E$31,3,FALSE),C7),'Fiche Horaire'!A:AR,12,FALSE),IF((VLOOKUP(CONCATENATE(VLOOKUP($A$3,XTIME!$A$1:$E$31,3,FALSE),C7),'Fiche Horaire'!A:AR,12,FALSE)+VLOOKUP(CONCATENATE(VLOOKUP($A$3,XTIME!$A$1:$E$31,3,FALSE),C7),'Fiche Horaire'!A:AR,33,FALSE))>Feuil2!$D$3,VLOOKUP(CONCATENATE(VLOOKUP($A$3,XTIME!$A$1:$E$31,3,FALSE),C7),'Fiche Horaire'!A:AR,33,FALSE)+VLOOKUP(CONCATENATE(VLOOKUP($A$3,XTIME!$A$1:$E$31,3,FALSE),C7),'Fiche Horaire'!A:AR,12,FALSE)-Feuil2!$D$3,""))))))/60,"") | L7: TOTAL HEURES | M7: =D12+E12+G12+H12+F12 -> 5.5
D8: =IF(ISNA((HOUR(VLOOKUP(CONCATENATE(VLOOKUP($A$3,XTIME!$A$1:$E$31,3,FALSE),$C8),Tableau3[[Référence]:[FORMATION]],34,FALSE))*60+MINUTE(VLOOKUP(CONCATENATE(VLOOKUP($A$3,XTIME!$A$1:$E$31,3,FALSE),$C8),Tableau3[[Référence]:[FORMATION]],34,FALSE)))/60)=TRUE,"",((HOUR(VLOOKUP(CONCATENATE(VLOOKUP($A$3,XTIME!$A$1:$E$31,3,FALSE),$C8),Tableau3[[Référence]:[FORMATION]],34,FALSE))*60+MINUTE(VLOOKUP(CONCATENATE(VLOOKUP($A$3,XTIME!$A$1:$E$31,3,FALSE),$C8),Tableau3[[Référence]:[FORMATION]],34,FALSE)))/60)) | E8: =IF(ISNA((HOUR(VLOOKUP(CONCATENATE(VLOOKUP($A$3,XTIME!$A$1:$E$31,3,FALSE),$C8),Tableau3[[Référence]:[FORMATION]],40,FALSE))*60+MINUTE(VLOOKUP(CONCATENATE(VLOOKUP($A$3,XTIME!$A$1:$E$31,3,FALSE),$C8),Tableau3[[Référence]:[FORMATION]],40,FALSE)))/60)=TRUE,"",((HOUR(VLOOKUP(CONCATENATE(VLOOKUP($A$3,XTIME!$A$1:$E$31,3,FALSE),$C8),Tableau3[[Référence]:[FORMATION]],40,FALSE))*60+MINUTE(VLOOKUP(CONCATENATE(VLOOKUP($A$3,XTIME!$A$1:$E$31,3,FALSE),$C8),Tableau3[[Référence]:[FORMATION]],40,FALSE)))/60)) | F8: =IF(ISNA((HOUR(VLOOKUP(CONCATENATE(VLOOKUP($A$3,XTIME!$A$1:$E$31,3,FALSE),$C8),Tableau3[[Référence]:[FORMATION]],41,FALSE))*60+MINUTE(VLOOKUP(CONCATENATE(VLOOKUP($A$3,XTIME!$A$1:$E$31,3,FALSE),$C8),Tableau3[[Référence]:[FORMATION]],41,FALSE)))/60)=TRUE,"",((HOUR(VLOOKUP(CONCATENATE(VLOOKUP($A$3,XTIME!$A$1:$E$31,3,FALSE),$C8),Tableau3[[Référence]:[FORMATION]],41,FALSE))*60+MINUTE(VLOOKUP(CONCATENATE(VLOOKUP($A$3,XTIME!$A$1:$E$31,3,FALSE),$C8),Tableau3[[Référence]:[FORMATION]],41,FALSE)))/60)) | G8: =IF(ISNA((HOUR(VLOOKUP(CONCATENATE(VLOOKUP($A$3,XTIME!$A$1:$E$31,3,FALSE),$C8),Tableau3[[Référence]:[FORMATION]],42,FALSE))*60+MINUTE(VLOOKUP(CONCATENATE(VLOOKUP($A$3,XTIME!$A$1:$E$31,3,FALSE),$C8),Tableau3[[Référence]:[FORMATION]],42,FALSE)))/60)=TRUE,"",((HOUR(VLOOKUP(CONCATENATE(VLOOKUP($A$3,XTIME!$A$1:$E$31,3,FALSE),$C8),Tableau3[[Référence]:[FORMATION]],42,FALSE))*60+MINUTE(VLOOKUP(CONCATENATE(VLOOKUP($A$3,XTIME!$A$1:$E$31,3,FALSE),$C8),Tableau3[[Référence]:[FORMATION]],42,FALSE)))/60)) | H8: =IF(ISNA(VLOOKUP(CONCATENATE(VLOOKUP($A$3,XTIME!$A$1:$E$31,3,FALSE),$C8),Tableau3[[Référence]:[FORMATION]],7,FALSE))=TRUE,"",VLOOKUP(CONCATENATE(VLOOKUP($A$3,XTIME!$A$1:$E$31,3,FALSE),$C8),Tableau3[[Référence]:[FORMATION]],7,FALSE)) | I8: =IFERROR((HOUR(IF(C8="","",MIN(IF((VLOOKUP(CONCATENATE(VLOOKUP($A$3,XTIME!$A$1:$E$31,3,FALSE),C8),'Fiche Horaire'!A:AR,12,FALSE)+VLOOKUP(CONCATENATE(VLOOKUP($A$3,XTIME!$A$1:$E$31,3,FALSE),C8),'Fiche Horaire'!A:AR,33,FALSE))>Feuil2!$C$2,VLOOKUP(CONCATENATE(VLOOKUP($A$3,XTIME!$A$1:$E$31,3,FALSE),C8),'Fiche Horaire'!A:AR,33,FALSE)+VLOOKUP(CONCATENATE(VLOOKUP($A$3,XTIME!$A$1:$E$31,3,FALSE),C8),'Fiche Horaire'!A:AR,12,FALSE)-Feuil2!$C$2,"X"),Feuil2!$C$3)))*60+MINUTE(IF(C8="","",MIN(IF((VLOOKUP(CONCATENATE(VLOOKUP($A$3,XTIME!$A$1:$E$31,3,FALSE),C8),'Fiche Horaire'!A:AR,12,FALSE)+VLOOKUP(CONCATENATE(VLOOKUP($A$3,XTIME!$A$1:$E$31,3,FALSE),C8),'Fiche Horaire'!A:AR,33,FALSE))>Feuil2!$C$2,VLOOKUP(CONCATENATE(VLOOKUP($A$3,XTIME!$A$1:$E$31,3,FALSE),C8),'Fiche Horaire'!A:AR,33,FALSE)+VLOOKUP(CONCATENATE(VLOOKUP($A$3,XTIME!$A$1:$E$31,3,FALSE),C8),'Fiche Horaire'!A:AR,12,FALSE)-Feuil2!$C$2,"X"),Feuil2!$C$3))))/60,"") | J8: =IFERROR((HOUR(IF(C8="","",IF(VLOOKUP(CONCATENATE(VLOOKUP($A$3,XTIME!$A$1:$E$31,3,FALSE),C8),'Fiche Horaire'!A:AR,12,FALSE)="","",IF((VLOOKUP(CONCATENATE(VLOOKUP($A$3,XTIME!$A$1:$E$31,3,FALSE),C8),'Fiche Horaire'!A:AR,12,FALSE))<Feuil2!$D$2,Feuil2!$D$2-VLOOKUP(CONCATENATE(VLOOKUP($A$3,XTIME!$A$1:$E$31,3,FALSE),C8),'Fiche Horaire'!A:AR,12,FALSE),IF((VLOOKUP(CONCATENATE(VLOOKUP($A$3,XTIME!$A$1:$E$31,3,FALSE),C8),'Fiche Horaire'!A:AR,12,FALSE)+VLOOKUP(CONCATENATE(VLOOKUP($A$3,XTIME!$A$1:$E$31,3,FALSE),C8),'Fiche Horaire'!A:AR,33,FALSE))>Feuil2!$D$3,VLOOKUP(CONCATENATE(VLOOKUP($A$3,XTIME!$A$1:$E$31,3,FALSE),C8),'Fiche Horaire'!A:AR,33,FALSE)+VLOOKUP(CONCATENATE(VLOOKUP($A$3,XTIME!$A$1:$E$31,3,FALSE),C8),'Fiche Horaire'!A:AR,12,FALSE)-Feuil2!$D$3,"")))))*60+MINUTE(IF(C8="","",IF(VLOOKUP(CONCATENATE(VLOOKUP($A$3,XTIME!$A$1:$E$31,3,FALSE),C8),'Fiche Horaire'!A:AR,12,FALSE)="","",IF((VLOOKUP(CONCATENATE(VLOOKUP($A$3,XTIME!$A$1:$E$31,3,FALSE),C8),'Fiche Horaire'!A:AR,12,FALSE))<Feuil2!$D$2,Feuil2!$D$2-VLOOKUP(CONCATENATE(VLOOKUP($A$3,XTIME!$A$1:$E$31,3,FALSE),C8),'Fiche Horaire'!A:AR,12,FALSE),IF((VLOOKUP(CONCATENATE(VLOOKUP($A$3,XTIME!$A$1:$E$31,3,FALSE),C8),'Fiche Horaire'!A:AR,12,FALSE)+VLOOKUP(CONCATENATE(VLOOKUP($A$3,XTIME!$A$1:$E$31,3,FALSE),C8),'Fiche Horaire'!A:AR,33,FALSE))>Feuil2!$D$3,VLOOKUP(CONCATENATE(VLOOKUP($A$3,XTIME!$A$1:$E$31,3,FALSE),C8),'Fiche Horaire'!A:AR,33,FALSE)+VLOOKUP(CONCATENATE(VLOOKUP($A$3,XTIME!$A$1:$E$31,3,FALSE),C8),'Fiche Horaire'!A:AR,12,FALSE)-Feuil2!$D$3,""))))))/60,"") | L8: AC HS | M8: =MIN(IF(M7=0,0,IF(M7>=35,M7-35,0)),2) -> 0
D9: =IF(ISNA((HOUR(VLOOKUP(CONCATENATE(VLOOKUP($A$3,XTIME!$A$1:$E$31,3,FALSE),$C9),Tableau3[[Référence]:[FORMATION]],34,FALSE))*60+MINUTE(VLOOKUP(CONCATENATE(VLOOKUP($A$3,XTIME!$A$1:$E$31,3,FALSE),$C9),Tableau3[[Référence]:[FORMATION]],34,FALSE)))/60)=TRUE,"",((HOUR(VLOOKUP(CONCATENATE(VLOOKUP($A$3,XTIME!$A$1:$E$31,3,FALSE),$C9),Tableau3[[Référence]:[FORMATION]],34,FALSE))*60+MINUTE(VLOOKUP(CONCATENATE(VLOOKUP($A$3,XTIME!$A$1:$E$31,3,FALSE),$C9),Tableau3[[Référence]:[FORMATION]],34,FALSE)))/60)) | E9: =IF(ISNA((HOUR(VLOOKUP(CONCATENATE(VLOOKUP($A$3,XTIME!$A$1:$E$31,3,FALSE),$C9),Tableau3[[Référence]:[FORMATION]],40,FALSE))*60+MINUTE(VLOOKUP(CONCATENATE(VLOOKUP($A$3,XTIME!$A$1:$E$31,3,FALSE),$C9),Tableau3[[Référence]:[FORMATION]],40,FALSE)))/60)=TRUE,"",((HOUR(VLOOKUP(CONCATENATE(VLOOKUP($A$3,XTIME!$A$1:$E$31,3,FALSE),$C9),Tableau3[[Référence]:[FORMATION]],40,FALSE))*60+MINUTE(VLOOKUP(CONCATENATE(VLOOKUP($A$3,XTIME!$A$1:$E$31,3,FALSE),$C9),Tableau3[[Référence]:[FORMATION]],40,FALSE)))/60)) | F9: =IF(ISNA((HOUR(VLOOKUP(CONCATENATE(VLOOKUP($A$3,XTIME!$A$1:$E$31,3,FALSE),$C9),Tableau3[[Référence]:[FORMATION]],41,FALSE))*60+MINUTE(VLOOKUP(CONCATENATE(VLOOKUP($A$3,XTIME!$A$1:$E$31,3,FALSE),$C9),Tableau3[[Référence]:[FORMATION]],41,FALSE)))/60)=TRUE,"",((HOUR(VLOOKUP(CONCATENATE(VLOOKUP($A$3,XTIME!$A$1:$E$31,3,FALSE),$C9),Tableau3[[Référence]:[FORMATION]],41,FALSE))*60+MINUTE(VLOOKUP(CONCATENATE(VLOOKUP($A$3,XTIME!$A$1:$E$31,3,FALSE),$C9),Tableau3[[Référence]:[FORMATION]],41,FALSE)))/60)) | G9: =IF(ISNA((HOUR(VLOOKUP(CONCATENATE(VLOOKUP($A$3,XTIME!$A$1:$E$31,3,FALSE),$C9),Tableau3[[Référence]:[FORMATION]],42,FALSE))*60+MINUTE(VLOOKUP(CONCATENATE(VLOOKUP($A$3,XTIME!$A$1:$E$31,3,FALSE),$C9),Tableau3[[Référence]:[FORMATION]],42,FALSE)))/60)=TRUE,"",((HOUR(VLOOKUP(CONCATENATE(VLOOKUP($A$3,XTIME!$A$1:$E$31,3,FALSE),$C9),Tableau3[[Référence]:[FORMATION]],42,FALSE))*60+MINUTE(VLOOKUP(CONCATENATE(VLOOKUP($A$3,XTIME!$A$1:$E$31,3,FALSE),$C9),Tableau3[[Référence]:[FORMATION]],42,FALSE)))/60)) | H9: =IF(ISNA(VLOOKUP(CONCATENATE(VLOOKUP($A$3,XTIME!$A$1:$E$31,3,FALSE),$C9),Tableau3[[Référence]:[FORMATION]],7,FALSE))=TRUE,"",VLOOKUP(CONCATENATE(VLOOKUP($A$3,XTIME!$A$1:$E$31,3,FALSE),$C9),Tableau3[[Référence]:[FORMATION]],7,FALSE)) | I9: =IFERROR((HOUR(IF(C9="","",MIN(IF((VLOOKUP(CONCATENATE(VLOOKUP($A$3,XTIME!$A$1:$E$31,3,FALSE),C9),'Fiche Horaire'!A:AR,12,FALSE)+VLOOKUP(CONCATENATE(VLOOKUP($A$3,XTIME!$A$1:$E$31,3,FALSE),C9),'Fiche Horaire'!A:AR,33,FALSE))>Feuil2!$C$2,VLOOKUP(CONCATENATE(VLOOKUP($A$3,XTIME!$A$1:$E$31,3,FALSE),C9),'Fiche Horaire'!A:AR,33,FALSE)+VLOOKUP(CONCATENATE(VLOOKUP($A$3,XTIME!$A$1:$E$31,3,FALSE),C9),'Fiche Horaire'!A:AR,12,FALSE)-Feuil2!$C$2,"X"),Feuil2!$C$3)))*60+MINUTE(IF(C9="","",MIN(IF((VLOOKUP(CONCATENATE(VLOOKUP($A$3,XTIME!$A$1:$E$31,3,FALSE),C9),'Fiche Horaire'!A:AR,12,FALSE)+VLOOKUP(CONCATENATE(VLOOKUP($A$3,XTIME!$A$1:$E$31,3,FALSE),C9),'Fiche Horaire'!A:AR,33,FALSE))>Feuil2!$C$2,VLOOKUP(CONCATENATE(VLOOKUP($A$3,XTIME!$A$1:$E$31,3,FALSE),C9),'Fiche Horaire'!A:AR,33,FALSE)+VLOOKUP(CONCATENATE(VLOOKUP($A$3,XTIME!$A$1:$E$31,3,FALSE),C9),'Fiche Horaire'!A:AR,12,FALSE)-Feuil2!$C$2,"X"),Feuil2!$C$3))))/60,"") | J9: =IFERROR((HOUR(IF(C9="","",IF(VLOOKUP(CONCATENATE(VLOOKUP($A$3,XTIME!$A$1:$E$31,3,FALSE),C9),'Fiche Horaire'!A:AR,12,FALSE)="","",IF((VLOOKUP(CONCATENATE(VLOOKUP($A$3,XTIME!$A$1:$E$31,3,FALSE),C9),'Fiche Horaire'!A:AR,12,FALSE))<Feuil2!$D$2,Feuil2!$D$2-VLOOKUP(CONCATENATE(VLOOKUP($A$3,XTIME!$A$1:$E$31,3,FALSE),C9),'Fiche Horaire'!A:AR,12,FALSE),IF((VLOOKUP(CONCATENATE(VLOOKUP($A$3,XTIME!$A$1:$E$31,3,FALSE),C9),'Fiche Horaire'!A:AR,12,FALSE)+VLOOKUP(CONCATENATE(VLOOKUP($A$3,XTIME!$A$1:$E$31,3,FALSE),C9),'Fiche Horaire'!A:AR,33,FALSE))>Feuil2!$D$3,VLOOKUP(CONCATENATE(VLOOKUP($A$3,XTIME!$A$1:$E$31,3,FALSE),C9),'Fiche Horaire'!A:AR,33,FALSE)+VLOOKUP(CONCATENATE(VLOOKUP($A$3,XTIME!$A$1:$E$31,3,FALSE),C9),'Fiche Horaire'!A:AR,12,FALSE)-Feuil2!$D$3,"")))))*60+MINUTE(IF(C9="","",IF(VLOOKUP(CONCATENATE(VLOOKUP($A$3,XTIME!$A$1:$E$31,3,FALSE),C9),'Fiche Horaire'!A:AR,12,FALSE)="","",IF((VLOOKUP(CONCATENATE(VLOOKUP($A$3,XTIME!$A$1:$E$31,3,FALSE),C9),'Fiche Horaire'!A:AR,12,FALSE))<Feuil2!$D$2,Feuil2!$D$2-VLOOKUP(CONCATENATE(VLOOKUP($A$3,XTIME!$A$1:$E$31,3,FALSE),C9),'Fiche Horaire'!A:AR,12,FALSE),IF((VLOOKUP(CONCATENATE(VLOOKUP($A$3,XTIME!$A$1:$E$31,3,FALSE),C9),'Fiche Horaire'!A:AR,12,FALSE)+VLOOKUP(CONCATENATE(VLOOKUP($A$3,XTIME!$A$1:$E$31,3,FALSE),C9),'Fiche Horaire'!A:AR,33,FALSE))>Feuil2!$D$3,VLOOKUP(CONCATENATE(VLOOKUP($A$3,XTIME!$A$1:$E$31,3,FALSE),C9),'Fiche Horaire'!A:AR,33,FALSE)+VLOOKUP(CONCATENATE(VLOOKUP($A$3,XTIME!$A$1:$E$31,3,FALSE),C9),'Fiche Horaire'!A:AR,12,FALSE)-Feuil2!$D$3,""))))))/60,"") | L9: HS 125% | M9: =IF(M7<45,M7-$K$4-M12,3) -> 0
D10: =IF(ISNA((HOUR(VLOOKUP(CONCATENATE(VLOOKUP($A$3,XTIME!$A$1:$E$31,3,FALSE),$C10),Tableau3[[Référence]:[FORMATION]],34,FALSE))*60+MINUTE(VLOOKUP(CONCATENATE(VLOOKUP($A$3,XTIME!$A$1:$E$31,3,FALSE),$C10),Tableau3[[Référence]:[FORMATION]],34,FALSE)))/60)=TRUE,"",((HOUR(VLOOKUP(CONCATENATE(VLOOKUP($A$3,XTIME!$A$1:$E$31,3,FALSE),$C10),Tableau3[[Référence]:[FORMATION]],34,FALSE))*60+MINUTE(VLOOKUP(CONCATENATE(VLOOKUP($A$3,XTIME!$A$1:$E$31,3,FALSE),$C10),Tableau3[[Référence]:[FORMATION]],34,FALSE)))/60)) | E10: =IF(ISNA((HOUR(VLOOKUP(CONCATENATE(VLOOKUP($A$3,XTIME!$A$1:$E$31,3,FALSE),$C10),Tableau3[[Référence]:[FORMATION]],40,FALSE))*60+MINUTE(VLOOKUP(CONCATENATE(VLOOKUP($A$3,XTIME!$A$1:$E$31,3,FALSE),$C10),Tableau3[[Référence]:[FORMATION]],40,FALSE)))/60)=TRUE,"",((HOUR(VLOOKUP(CONCATENATE(VLOOKUP($A$3,XTIME!$A$1:$E$31,3,FALSE),$C10),Tableau3[[Référence]:[FORMATION]],40,FALSE))*60+MINUTE(VLOOKUP(CONCATENATE(VLOOKUP($A$3,XTIME!$A$1:$E$31,3,FALSE),$C10),Tableau3[[Référence]:[FORMATION]],40,FALSE)))/60)) | F10: =IF(ISNA((HOUR(VLOOKUP(CONCATENATE(VLOOKUP($A$3,XTIME!$A$1:$E$31,3,FALSE),$C10),Tableau3[[Référence]:[FORMATION]],41,FALSE))*60+MINUTE(VLOOKUP(CONCATENATE(VLOOKUP($A$3,XTIME!$A$1:$E$31,3,FALSE),$C10),Tableau3[[Référence]:[FORMATION]],41,FALSE)))/60)=TRUE,"",((HOUR(VLOOKUP(CONCATENATE(VLOOKUP($A$3,XTIME!$A$1:$E$31,3,FALSE),$C10),Tableau3[[Référence]:[FORMATION]],41,FALSE))*60+MINUTE(VLOOKUP(CONCATENATE(VLOOKUP($A$3,XTIME!$A$1:$E$31,3,FALSE),$C10),Tableau3[[Référence]:[FORMATION]],41,FALSE)))/60)) | G10: =IF(ISNA((HOUR(VLOOKUP(CONCATENATE(VLOOKUP($A$3,XTIME!$A$1:$E$31,3,FALSE),$C10),Tableau3[[Référence]:[FORMATION]],42,FALSE))*60+MINUTE(VLOOKUP(CONCATENATE(VLOOKUP($A$3,XTIME!$A$1:$E$31,3,FALSE),$C10),Tableau3[[Référence]:[FORMATION]],42,FALSE)))/60)=TRUE,"",((HOUR(VLOOKUP(CONCATENATE(VLOOKUP($A$3,XTIME!$A$1:$E$31,3,FALSE),$C10),Tableau3[[Référence]:[FORMATION]],42,FALSE))*60+MINUTE(VLOOKUP(CONCATENATE(VLOOKUP($A$3,XTIME!$A$1:$E$31,3,FALSE),$C10),Tableau3[[Référence]:[FORMATION]],42,FALSE)))/60)) | H10: =IF(ISNA(VLOOKUP(CONCATENATE(VLOOKUP($A$3,XTIME!$A$1:$E$31,3,FALSE),$C10),Tableau3[[Référence]:[FORMATION]],7,FALSE))=TRUE,"",VLOOKUP(CONCATENATE(VLOOKUP($A$3,XTIME!$A$1:$E$31,3,FALSE),$C10),Tableau3[[Référence]:[FORMATION]],7,FALSE)) | I10: =IFERROR((HOUR(IF(C10="","",MIN(IF((VLOOKUP(CONCATENATE(VLOOKUP($A$3,XTIME!$A$1:$E$31,3,FALSE),C10),'Fiche Horaire'!A:AR,12,FALSE)+VLOOKUP(CONCATENATE(VLOOKUP($A$3,XTIME!$A$1:$E$31,3,FALSE),C10),'Fiche Horaire'!A:AR,33,FALSE))>Feuil2!$C$2,VLOOKUP(CONCATENATE(VLOOKUP($A$3,XTIME!$A$1:$E$31,3,FALSE),C10),'Fiche Horaire'!A:AR,33,FALSE)+VLOOKUP(CONCATENATE(VLOOKUP($A$3,XTIME!$A$1:$E$31,3,FALSE),C10),'Fiche Horaire'!A:AR,12,FALSE)-Feuil2!$C$2,"X"),Feuil2!$C$3)))*60+MINUTE(IF(C10="","",MIN(IF((VLOOKUP(CONCATENATE(VLOOKUP($A$3,XTIME!$A$1:$E$31,3,FALSE),C10),'Fiche Horaire'!A:AR,12,FALSE)+VLOOKUP(CONCATENATE(VLOOKUP($A$3,XTIME!$A$1:$E$31,3,FALSE),C10),'Fiche Horaire'!A:AR,33,FALSE))>Feuil2!$C$2,VLOOKUP(CONCATENATE(VLOOKUP($A$3,XTIME!$A$1:$E$31,3,FALSE),C10),'Fiche Horaire'!A:AR,33,FALSE)+VLOOKUP(CONCATENATE(VLOOKUP($A$3,XTIME!$A$1:$E$31,3,FALSE),C10),'Fiche Horaire'!A:AR,12,FALSE)-Feuil2!$C$2,"X"),Feuil2!$C$3))))/60,"") | J10: =IFERROR((HOUR(IF(C10="","",IF(VLOOKUP(CONCATENATE(VLOOKUP($A$3,XTIME!$A$1:$E$31,3,FALSE),C10),'Fiche Horaire'!A:AR,12,FALSE)="","",IF((VLOOKUP(CONCATENATE(VLOOKUP($A$3,XTIME!$A$1:$E$31,3,FALSE),C10),'Fiche Horaire'!A:AR,12,FALSE))<Feuil2!$D$2,Feuil2!$D$2-VLOOKUP(CONCATENATE(VLOOKUP($A$3,XTIME!$A$1:$E$31,3,FALSE),C10),'Fiche Horaire'!A:AR,12,FALSE),IF((VLOOKUP(CONCATENATE(VLOOKUP($A$3,XTIME!$A$1:$E$31,3,FALSE),C10),'Fiche Horaire'!A:AR,12,FALSE)+VLOOKUP(CONCATENATE(VLOOKUP($A$3,XTIME!$A$1:$E$31,3,FALSE),C10),'Fiche Horaire'!A:AR,33,FALSE))>Feuil2!$D$3,VLOOKUP(CONCATENATE(VLOOKUP($A$3,XTIME!$A$1:$E$31,3,FALSE),C10),'Fiche Horaire'!A:AR,33,FALSE)+VLOOKUP(CONCATENATE(VLOOKUP($A$3,XTIME!$A$1:$E$31,3,FALSE),C10),'Fiche Horaire'!A:AR,12,FALSE)-Feuil2!$D$3,"")))))*60+MINUTE(IF(C10="","",IF(VLOOKUP(CONCATENATE(VLOOKUP($A$3,XTIME!$A$1:$E$31,3,FALSE),C10),'Fiche Horaire'!A:AR,12,FALSE)="","",IF((VLOOKUP(CONCATENATE(VLOOKUP($A$3,XTIME!$A$1:$E$31,3,FALSE),C10),'Fiche Horaire'!A:AR,12,FALSE))<Feuil2!$D$2,Feuil2!$D$2-VLOOKUP(CONCATENATE(VLOOKUP($A$3,XTIME!$A$1:$E$31,3,FALSE),C10),'Fiche Horaire'!A:AR,12,FALSE),IF((VLOOKUP(CONCATENATE(VLOOKUP($A$3,XTIME!$A$1:$E$31,3,FALSE),C10),'Fiche Horaire'!A:AR,12,FALSE)+VLOOKUP(CONCATENATE(VLOOKUP($A$3,XTIME!$A$1:$E$31,3,FALSE),C10),'Fiche Horaire'!A:AR,33,FALSE))>Feuil2!$D$3,VLOOKUP(CONCATENATE(VLOOKUP($A$3,XTIME!$A$1:$E$31,3,FALSE),C10),'Fiche Horaire'!A:AR,33,FALSE)+VLOOKUP(CONCATENATE(VLOOKUP($A$3,XTIME!$A$1:$E$31,3,FALSE),C10),'Fiche Horaire'!A:AR,12,FALSE)-Feuil2!$D$3,""))))))/60,"") | L10: HS 150% | M10: =IF(M7>45,M7-$K$4-M12-M9,0) -> 0
C11: 43344 | D11: =IF(ISNA((HOUR(VLOOKUP(CONCATENATE(VLOOKUP($A$3,XTIME!$A$1:$E$31,3,FALSE),$C11),Tableau3[[Référence]:[FORMATION]],33,FALSE))*60+MINUTE(VLOOKUP(CONCATENATE(VLOOKUP($A$3,XTIME!$A$1:$E$31,3,FALSE),$C11),Tableau3[[Référence]:[FORMATION]],33,FALSE)))/60)=TRUE,"",((HOUR(VLOOKUP(CONCATENATE(VLOOKUP($A$3,XTIME!$A$1:$E$31,3,FALSE),$C11),Tableau3[[Référence]:[FORMATION]],33,FALSE))*60+MINUTE(VLOOKUP(CONCATENATE(VLOOKUP($A$3,XTIME!$A$1:$E$31,3,FALSE),$C11),Tableau3[[Référence]:[FORMATION]],33,FALSE)))/60)) -> 5.5 | E11: =IF(ISNA((HOUR(VLOOKUP(CONCATENATE(VLOOKUP($A$3,XTIME!$A$1:$E$31,3,FALSE),$C11),Tableau3[[Référence]:[FORMATION]],40,FALSE))*60+MINUTE(VLOOKUP(CONCATENATE(VLOOKUP($A$3,XTIME!$A$1:$E$31,3,FALSE),$C11),Tableau3[[Référence]:[FORMATION]],42,FALSE)))/60)=TRUE,"",((HOUR(VLOOKUP(CONCATENATE(VLOOKUP($A$3,XTIME!$A$1:$E$31,3,FALSE),$C11),Tableau3[[Référence]:[FORMATION]],40,FALSE))*60+MINUTE(VLOOKUP(CONCATENATE(VLOOKUP($A$3,XTIME!$A$1:$E$31,3,FALSE),$C11),Tableau3[[Référence]:[FORMATION]],42,FALSE)))/60)) -> 0 | F11: =IF(ISNA((HOUR(VLOOKUP(CONCATENATE(VLOOKUP($A$3,XTIME!$A$1:$E$31,3,FALSE),$C11),Tableau3[[Référence]:[FORMATION]],41,FALSE))*60+MINUTE(VLOOKUP(CONCATENATE(VLOOKUP($A$3,XTIME!$A$1:$E$31,3,FALSE),$C11),Tableau3[[Référence]:[FORMATION]],43,FALSE)))/60)=TRUE,"",((HOUR(VLOOKUP(CONCATENATE(VLOOKUP($A$3,XTIME!$A$1:$E$31,3,FALSE),$C11),Tableau3[[Référence]:[FORMATION]],41,FALSE))*60+MINUTE(VLOOKUP(CONCATENATE(VLOOKUP($A$3,XTIME!$A$1:$E$31,3,FALSE),$C11),Tableau3[[Référence]:[FORMATION]],43,FALSE)))/60)) -> 0 | G11: =IF(ISNA((HOUR(VLOOKUP(CONCATENATE(VLOOKUP($A$3,XTIME!$A$1:$E$31,3,FALSE),$C11),Tableau3[[Référence]:[FORMATION]],42,FALSE))*60+MINUTE(VLOOKUP(CONCATENATE(VLOOKUP($A$3,XTIME!$A$1:$E$31,3,FALSE),$C11),Tableau3[[Référence]:[FORMATION]],42,FALSE)))/60)=TRUE,"",((HOUR(VLOOKUP(CONCATENATE(VLOOKUP($A$3,XTIME!$A$1:$E$31,3,FALSE),$C11),Tableau3[[Référence]:[FORMATION]],42,FALSE))*60+MINUTE(VLOOKUP(CONCATENATE(VLOOKUP($A$3,XTIME!$A$1:$E$31,3,FALSE),$C11),Tableau3[[Référence]:[FORMATION]],42,FALSE)))/60)) -> 0 | H11: =IF(ISNA(VLOOKUP(CONCATENATE(VLOOKUP($A$3,XTIME!$A$1:$E$31,3,FALSE),$C11),Tableau3[[Référence]:[FORMATION]],7,FALSE))=TRUE,"",VLOOKUP(CONCATENATE(VLOOKUP($A$3,XTIME!$A$1:$E$31,3,FALSE),$C11),Tableau3[[Référence]:[FORMATION]],7,FALSE)) -> 0 | I11: =IFERROR((HOUR(IF(C11="","",MIN(IF((VLOOKUP(CONCATENATE(VLOOKUP($A$3,XTIME!$A$1:$E$31,3,FALSE),C11),'Fiche Horaire'!A:AR,12,FALSE)+VLOOKUP(CONCATENATE(VLOOKUP($A$3,XTIME!$A$1:$E$31,3,FALSE),C11),'Fiche Horaire'!A:AR,33,FALSE))>Feuil2!$C$2,VLOOKUP(CONCATENATE(VLOOKUP($A$3,XTIME!$A$1:$E$31,3,FALSE),C11),'Fiche Horaire'!A:AR,33,FALSE)+VLOOKUP(CONCATENATE(VLOOKUP($A$3,XTIME!$A$1:$E$31,3,FALSE),C11),'Fiche Horaire'!A:AR,12,FALSE)-Feuil2!$C$2,"X"),Feuil2!$C$3)))*60+MINUTE(IF(C11="","",MIN(IF((VLOOKUP(CONCATENATE(VLOOKUP($A$3,XTIME!$A$1:$E$31,3,FALSE),C11),'Fiche Horaire'!A:AR,12,FALSE)+VLOOKUP(CONCATENATE(VLOOKUP($A$3,XTIME!$A$1:$E$31,3,FALSE),C11),'Fiche Horaire'!A:AR,33,FALSE))>Feuil2!$C$2,VLOOKUP(CONCATENATE(VLOOKUP($A$3,XTIME!$A$1:$E$31,3,FALSE),C11),'Fiche Horaire'!A:AR,33,FALSE)+VLOOKUP(CONCATENATE(VLOOKUP($A$3,XTIME!$A$1:$E$31,3,FALSE),C11),'Fiche Horaire'!A:AR,12,FALSE)-Feuil2!$C$2,"X"),Feuil2!$C$3))))/60,"") | J11: =IFERROR((HOUR(IF(C11="","",IF(VLOOKUP(CONCATENATE(VLOOKUP($A$3,XTIME!$A$1:$E$31,3,FALSE),C11),'Fiche Horaire'!A:AR,12,FALSE)="","",IF((VLOOKUP(CONCATENATE(VLOOKUP($A$3,XTIME!$A$1:$E$31,3,FALSE),C11),'Fiche Horaire'!A:AR,12,FALSE))<Feuil2!$D$2,Feuil2!$D$2-VLOOKUP(CONCATENATE(VLOOKUP($A$3,XTIME!$A$1:$E$31,3,FALSE),C11),'Fiche Horaire'!A:AR,12,FALSE),IF((VLOOKUP(CONCATENATE(VLOOKUP($A$3,XTIME!$A$1:$E$31,3,FALSE),C11),'Fiche Horaire'!A:AR,12,FALSE)+VLOOKUP(CONCATENATE(VLOOKUP($A$3,XTIME!$A$1:$E$31,3,FALSE),C11),'Fiche Horaire'!A:AR,33,FALSE))>Feuil2!$D$3,VLOOKUP(CONCATENATE(VLOOKUP($A$3,XTIME!$A$1:$E$31,3,FALSE),C11),'Fiche Horaire'!A:AR,33,FALSE)+VLOOKUP(CONCATENATE(VLOOKUP($A$3,XTIME!$A$1:$E$31,3,FALSE),C11),'Fiche Horaire'!A:AR,12,FALSE)-Feuil2!$D$3,"")))))*60+MINUTE(IF(C11="","",IF(VLOOKUP(CONCATENATE(VLOOKUP($A$3,XTIME!$A$1:$E$31,3,FALSE),C11),'Fiche Horaire'!A:AR,12,FALSE)="","",IF((VLOOKUP(CONCATENATE(VLOOKUP($A$3,XTIME!$A$1:$E$31,3,FALSE),C11),'Fiche Horaire'!A:AR,12,FALSE))<Feuil2!$D$2,Feuil2!$D$2-VLOOKUP(CONCATENATE(VLOOKUP($A$3,XTIME!$A$1:$E$31,3,FALSE),C11),'Fiche Horaire'!A:AR,12,FALSE),IF((VLOOKUP(CONCATENATE(VLOOKUP($A$3,XTIME!$A$1:$E$31,3,FALSE),C11),'Fiche Horaire'!A:AR,12,FALSE)+VLOOKUP(CONCATENATE(VLOOKUP($A$3,XTIME!$A$1:$E$31,3,FALSE),C11),'Fiche Horaire'!A:AR,33,FALSE))>Feuil2!$D$3,VLOOKUP(CONCATENATE(VLOOKUP($A$3,XTIME!$A$1:$E$31,3,FALSE),C11),'Fiche Horaire'!A:AR,33,FALSE)+VLOOKUP(CONCATENATE(VLOOKUP($A$3,XTIME!$A$1:$E$31,3,FALSE),C11),'Fiche Horaire'!A:AR,12,FALSE)-Feuil2!$D$3,""))))))/60,"") -> 2 | L11: H TUNNEL | M11: =MIN(IF(M7=0,0,IF(M7>=37,M7-37,IF(M7<=35,M7-35,0))),5) -> -29.5
C12: TOTAL | D12: =SUM(D6:D11) -> 5.5 | E12: =SUM(E6:E11) -> 0 | F12: =SUM(F6:F11) -> 0 | G12: =SUM(G6:G11) -> 0 | H12: =IF(COUNTIF(H6:H11,0)>0,0,IF(COUNTBLANK(H6:H11)=6,0,(6-COUNTBLANK(H6:H11)-COUNTIF(H6:H11,"REPOS"))*$K4/5)) -> 0 | I12: =SUM(I6:I11) -> 0 | J12: =SUM(J6:J11) -> 2 | L12: MODUL. | M12: =IF(M7<42,M7-$K$4,7) -> -37.5
B13: =CONCATENATE("SEMAINE"," ",WEEKNUM(C13)) -> SEMAINE 36 | C13: =C11+2 -> 43346 | D13: =IF(ISNA((HOUR(VLOOKUP(CONCATENATE(VLOOKUP($A$3,XTIME!$A$1:$E$31,3,FALSE),$C13),Tableau3[[Référence]:[FORMATION]],34,FALSE))*60+MINUTE(VLOOKUP(CONCATENATE(VLOOKUP($A$3,XTIME!$A$1:$E$31,3,FALSE),$C13),Tableau3[[Référence]:[FORMATION]],34,FALSE)))/60)=TRUE,"",((HOUR(VLOOKUP(CONCATENATE(VLOOKUP($A$3,XTIME!$A$1:$E$31,3,FALSE),$C13),Tableau3[[Référence]:[FORMATION]],34,FALSE))*60+MINUTE(VLOOKUP(CONCATENATE(VLOOKUP($A$3,XTIME!$A$1:$E$31,3,FALSE),$C13),Tableau3[[Référence]:[FORMATION]],34,FALSE)))/60)) | E13: =IF(ISNA((HOUR(VLOOKUP(CONCATENATE(VLOOKUP($A$3,XTIME!$A$1:$E$31,3,FALSE),$C13),Tableau3[[Référence]:[FORMATION]],40,FALSE))*60+MINUTE(VLOOKUP(CONCATENATE(VLOOKUP($A$3,XTIME!$A$1:$E$31,3,FALSE),$C13),Tableau3[[Référence]:[FORMATION]],40,FALSE)))/60)=TRUE,"",((HOUR(VLOOKUP(CONCATENATE(VLOOKUP($A$3,XTIME!$A$1:$E$31,3,FALSE),$C13),Tableau3[[Référence]:[FORMATION]],40,FALSE))*60+MINUTE(VLOOKUP(CONCATENATE(VLOOKUP($A$3,XTIME!$A$1:$E$31,3,FALSE),$C13),Tableau3[[Référence]:[FORMATION]],40,FALSE)))/60)) | F13: =IF(ISNA((HOUR(VLOOKUP(CONCATENATE(VLOOKUP($A$3,XTIME!$A$1:$E$31,3,FALSE),$C13),Tableau3[[Référence]:[FORMATION]],41,FALSE))*60+MINUTE(VLOOKUP(CONCATENATE(VLOOKUP($A$3,XTIME!$A$1:$E$31,3,FALSE),$C13),Tableau3[[Référence]:[FORMATION]],41,FALSE)))/60)=TRUE,"",((HOUR(VLOOKUP(CONCATENATE(VLOOKUP($A$3,XTIME!$A$1:$E$31,3,FALSE),$C13),Tableau3[[Référence]:[FORMATION]],41,FALSE))*60+MINUTE(VLOOKUP(CONCATENATE(VLOOKUP($A$3,XTIME!$A$1:$E$31,3,FALSE),$C13),Tableau3[[Référence]:[FORMATION]],41,FALSE)))/60)) | G13: =IF(ISNA((HOUR(VLOOKUP(CONCATENATE(VLOOKUP($A$3,XTIME!$A$1:$E$31,3,FALSE),$C13),Tableau3[[Référence]:[FORMATION]],42,FALSE))*60+MINUTE(VLOOKUP(CONCATENATE(VLOOKUP($A$3,XTIME!$A$1:$E$31,3,FALSE),$C13),Tableau3[[Référence]:[FORMATION]],42,FALSE)))/60)=TRUE,"",((HOUR(VLOOKUP(CONCATENATE(VLOOKUP($A$3,XTIME!$A$1:$E$31,3,FALSE),$C13),Tableau3[[Référence]:[FORMATION]],42,FALSE))*60+MINUTE(VLOOKUP(CONCATENATE(VLOOKUP($A$3,XTIME!$A$1:$E$31,3,FALSE),$C13),Tableau3[[Référence]:[FORMATION]],42,FALSE)))/60)) | H13: =IF(ISNA(VLOOKUP(CONCATENATE(VLOOKUP($A$3,XTIME!$A$1:$E$31,3,FALSE),$C13),Tableau3[[Référence]:[FORMATION]],7,FALSE))=TRUE,"",VLOOKUP(CONCATENATE(VLOOKUP($A$3,XTIME!$A$1:$E$31,3,FALSE),$C13),Tableau3[[Référence]:[FORMATION]],7,FALSE)) | I13: =IFERROR((HOUR(IF(C13="","",MIN(IF((VLOOKUP(CONCATENATE(VLOOKUP($A$3,XTIME!$A$1:$E$31,3,FALSE),C13),'Fiche Horaire'!A:AR,12,FALSE)+VLOOKUP(CONCATENATE(VLOOKUP($A$3,XTIME!$A$1:$E$31,3,FALSE),C13),'Fiche Horaire'!A:AR,33,FALSE))>Feuil2!$C$2,VLOOKUP(CONCATENATE(VLOOKUP($A$3,XTIME!$A$1:$E$31,3,FALSE),C13),'Fiche Horaire'!A:AR,33,FALSE)+VLOOKUP(CONCATENATE(VLOOKUP($A$3,XTIME!$A$1:$E$31,3,FALSE),C13),'Fiche Horaire'!A:AR,12,FALSE)-Feuil2!$C$2,"X"),Feuil2!$C$3)))*60+MINUTE(IF(C13="","",MIN(IF((VLOOKUP(CONCATENATE(VLOOKUP($A$3,XTIME!$A$1:$E$31,3,FALSE),C13),'Fiche Horaire'!A:AR,12,FALSE)+VLOOKUP(CONCATENATE(VLOOKUP($A$3,XTIME!$A$1:$E$31,3,FALSE),C13),'Fiche Horaire'!A:AR,33,FALSE))>Feuil2!$C$2,VLOOKUP(CONCATENATE(VLOOKUP($A$3,XTIME!$A$1:$E$31,3,FALSE),C13),'Fiche Horaire'!A:AR,33,FALSE)+VLOOKUP(CONCATENATE(VLOOKUP($A$3,XTIME!$A$1:$E$31,3,FALSE),C13),'Fiche Horaire'!A:AR,12,FALSE)-Feuil2!$C$2,"X"),Feuil2!$C$3))))/60,"") | J13: =IFERROR((HOUR(IF(C13="","",IF(VLOOKUP(CONCATENATE(VLOOKUP($A$3,XTIME!$A$1:$E$31,3,FALSE),C13),'Fiche Horaire'!A:AR,12,FALSE)="","",IF((VLOOKUP(CONCATENATE(VLOOKUP($A$3,XTIME!$A$1:$E$31,3,FALSE),C13),'Fiche Horaire'!A:AR,12,FALSE))<Feuil2!$D$2,Feuil2!$D$2-VLOOKUP(CONCATENATE(VLOOKUP($A$3,XTIME!$A$1:$E$31,3,FALSE),C13),'Fiche Horaire'!A:AR,12,FALSE),IF((VLOOKUP(CONCATENATE(VLOOKUP($A$3,XTIME!$A$1:$E$31,3,FALSE),C13),'Fiche Horaire'!A:AR,12,FALSE)+VLOOKUP(CONCATENATE(VLOOKUP($A$3,XTIME!$A$1:$E$31,3,FALSE),C13),'Fiche Horaire'!A:AR,33,FALSE))>Feuil2!$D$3,VLOOKUP(CONCATENATE(VLOOKUP($A$3,XTIME!$A$1:$E$31,3,FALSE),C13),'Fiche Horaire'!A:AR,33,FALSE)+VLOOKUP(CONCATENATE(VLOOKUP($A$3,XTIME!$A$1:$E$31,3,FALSE),C13),'Fiche Horaire'!A:AR,12,FALSE)-Feuil2!$D$3,"")))))*60+MINUTE(IF(C13="","",IF(VLOOKUP(CONCATENATE(VLOOKUP($A$3,XTIME!$A$1:$E$31,3,FALSE),C13),'Fiche Horaire'!A:AR,12,FALSE)="","",IF((VLOOKUP(CONCATENATE(VLOOKUP($A$3,XTIME!$A$1:$E$31,3,FALSE),C13),'Fiche Horaire'!A:AR,12,FALSE))<Feuil2!$D$2,Feuil2!$D$2-VLOOKUP(CONCATENATE(VLOOKUP($A$3,XTIME!$A$1:$E$31,3,FALSE),C13),'Fiche Horaire'!A:AR,12,FALSE),IF((VLOOKUP(CONCATENATE(VLOOKUP($A$3,XTIME!$A$1:$E$31,3,FALSE),C13),'Fiche Horaire'!A:AR,12,FALSE)+VLOOKUP(CONCATENATE(VLOOKUP($A$3,XTIME!$A$1:$E$31,3,FALSE),C13),'Fiche Horaire'!A:AR,33,FALSE))>Feuil2!$D$3,VLOOKUP(CONCATENATE(VLOOKUP($A$3,XTIME!$A$1:$E$31,3,FALSE),C13),'Fiche Horaire'!A:AR,33,FALSE)+VLOOKUP(CONCATENATE(VLOOKUP($A$3,XTIME!$A$1:$E$31,3,FALSE),C13),'Fiche Horaire'!A:AR,12,FALSE)-Feuil2!$D$3,""))))))/60,"") | L13: =B13 -> SEMAINE 36
C14: =C13+1 -> 43347 | D14: =IF(ISNA((HOUR(VLOOKUP(CONCATENATE(VLOOKUP($A$3,XTIME!$A$1:$E$31,3,FALSE),$C14),Tableau3[[Référence]:[FORMATION]],34,FALSE))*60+MINUTE(VLOOKUP(CONCATENATE(VLOOKUP($A$3,XTIME!$A$1:$E$31,3,FALSE),$C14),Tableau3[[Référence]:[FORMATION]],34,FALSE)))/60)=TRUE,"",((HOUR(VLOOKUP(CONCATENATE(VLOOKUP($A$3,XTIME!$A$1:$E$31,3,FALSE),$C14),Tableau3[[Référence]:[FORMATION]],34,FALSE))*60+MINUTE(VLOOKUP(CONCATENATE(VLOOKUP($A$3,XTIME!$A$1:$E$31,3,FALSE),$C14),Tableau3[[Référence]:[FORMATION]],34,FALSE)))/60)) | E14: =IF(ISNA((HOUR(VLOOKUP(CONCATENATE(VLOOKUP($A$3,XTIME!$A$1:$E$31,3,FALSE),$C14),Tableau3[[Référence]:[FORMATION]],40,FALSE))*60+MINUTE(VLOOKUP(CONCATENATE(VLOOKUP($A$3,XTIME!$A$1:$E$31,3,FALSE),$C14),Tableau3[[Référence]:[FORMATION]],40,FALSE)))/60)=TRUE,"",((HOUR(VLOOKUP(CONCATENATE(VLOOKUP($A$3,XTIME!$A$1:$E$31,3,FALSE),$C14),Tableau3[[Référence]:[FORMATION]],40,FALSE))*60+MINUTE(VLOOKUP(CONCATENATE(VLOOKUP($A$3,XTIME!$A$1:$E$31,3,FALSE),$C14),Tableau3[[Référence]:[FORMATION]],40,FALSE)))/60)) | F14: =IF(ISNA((HOUR(VLOOKUP(CONCATENATE(VLOOKUP($A$3,XTIME!$A$1:$E$31,3,FALSE),$C14),Tableau3[[Référence]:[FORMATION]],41,FALSE))*60+MINUTE(VLOOKUP(CONCATENATE(VLOOKUP($A$3,XTIME!$A$1:$E$31,3,FALSE),$C14),Tableau3[[Référence]:[FORMATION]],41,FALSE)))/60)=TRUE,"",((HOUR(VLOOKUP(CONCATENATE(VLOOKUP($A$3,XTIME!$A$1:$E$31,3,FALSE),$C14),Tableau3[[Référence]:[FORMATION]],41,FALSE))*60+MINUTE(VLOOKUP(CONCATENATE(VLOOKUP($A$3,XTIME!$A$1:$E$31,3,FALSE),$C14),Tableau3[[Référence]:[FORMATION]],41,FALSE)))/60)) | G14: =IF(ISNA((HOUR(VLOOKUP(CONCATENATE(VLOOKUP($A$3,XTIME!$A$1:$E$31,3,FALSE),$C14),Tableau3[[Référence]:[FORMATION]],42,FALSE))*60+MINUTE(VLOOKUP(CONCATENATE(VLOOKUP($A$3,XTIME!$A$1:$E$31,3,FALSE),$C14),Tableau3[[Référence]:[FORMATION]],42,FALSE)))/60)=TRUE,"",((HOUR(VLOOKUP(CONCATENATE(VLOOKUP($A$3,XTIME!$A$1:$E$31,3,FALSE),$C14),Tableau3[[Référence]:[FORMATION]],42,FALSE))*60+MINUTE(VLOOKUP(CONCATENATE(VLOOKUP($A$3,XTIME!$A$1:$E$31,3,FALSE),$C14),Tableau3[[Référence]:[FORMATION]],42,FALSE)))/60)) | H14: =IF(ISNA(VLOOKUP(CONCATENATE(VLOOKUP($A$3,XTIME!$A$1:$E$31,3,FALSE),$C14),Tableau3[[Référence]:[FORMATION]],7,FALSE))=TRUE,"",VLOOKUP(CONCATENATE(VLOOKUP($A$3,XTIME!$A$1:$E$31,3,FALSE),$C14),Tableau3[[Référence]:[FORMATION]],7,FALSE)) | I14: =IFERROR((HOUR(IF(C14="","",MIN(IF((VLOOKUP(CONCATENATE(VLOOKUP($A$3,XTIME!$A$1:$E$31,3,FALSE),C14),'Fiche Horaire'!A:AR,12,FALSE)+VLOOKUP(CONCATENATE(VLOOKUP($A$3,XTIME!$A$1:$E$31,3,FALSE),C14),'Fiche Horaire'!A:AR,33,FALSE))>Feuil2!$C$2,VLOOKUP(CONCATENATE(VLOOKUP($A$3,XTIME!$A$1:$E$31,3,FALSE),C14),'Fiche Horaire'!A:AR,33,FALSE)+VLOOKUP(CONCATENATE(VLOOKUP($A$3,XTIME!$A$1:$E$31,3,FALSE),C14),'Fiche Horaire'!A:AR,12,FALSE)-Feuil2!$C$2,"X"),Feuil2!$C$3)))*60+MINUTE(IF(C14="","",MIN(IF((VLOOKUP(CONCATENATE(VLOOKUP($A$3,XTIME!$A$1:$E$31,3,FALSE),C14),'Fiche Horaire'!A:AR,12,FALSE)+VLOOKUP(CONCATENATE(VLOOKUP($A$3,XTIME!$A$1:$E$31,3,FALSE),C14),'Fiche Horaire'!A:AR,33,FALSE))>Feuil2!$C$2,VLOOKUP(CONCATENATE(VLOOKUP($A$3,XTIME!$A$1:$E$31,3,FALSE),C14),'Fiche Horaire'!A:AR,33,FALSE)+VLOOKUP(CONCATENATE(VLOOKUP($A$3,XTIME!$A$1:$E$31,3,FALSE),C14),'Fiche Horaire'!A:AR,12,FALSE)-Feuil2!$C$2,"X"),Feuil2!$C$3))))/60,"") | J14: =IFERROR((HOUR(IF(C14="","",IF(VLOOKUP(CONCATENATE(VLOOKUP($A$3,XTIME!$A$1:$E$31,3,FALSE),C14),'Fiche Horaire'!A:AR,12,FALSE)="","",IF((VLOOKUP(CONCATENATE(VLOOKUP($A$3,XTIME!$A$1:$E$31,3,FALSE),C14),'Fiche Horaire'!A:AR,12,FALSE))<Feuil2!$D$2,Feuil2!$D$2-VLOOKUP(CONCATENATE(VLOOKUP($A$3,XTIME!$A$1:$E$31,3,FALSE),C14),'Fiche Horaire'!A:AR,12,FALSE),IF((VLOOKUP(CONCATENATE(VLOOKUP($A$3,XTIME!$A$1:$E$31,3,FALSE),C14),'Fiche Horaire'!A:AR,12,FALSE)+VLOOKUP(CONCATENATE(VLOOKUP($A$3,XTIME!$A$1:$E$31,3,FALSE),C14),'Fiche Horaire'!A:AR,33,FALSE))>Feuil2!$D$3,VLOOKUP(CONCATENATE(VLOOKUP($A$3,XTIME!$A$1:$E$31,3,FALSE),C14),'Fiche Horaire'!A:AR,33,FALSE)+VLOOKUP(CONCATENATE(VLOOKUP($A$3,XTIME!$A$1:$E$31,3,FALSE),C14),'Fiche Horaire'!A:AR,12,FALSE)-Feuil2!$D$3,"")))))*60+MINUTE(IF(C14="","",IF(VLOOKUP(CONCATENATE(VLOOKUP($A$3,XTIME!$A$1:$E$31,3,FALSE),C14),'Fiche Horaire'!A:AR,12,FALSE)="","",IF((VLOOKUP(CONCATENATE(VLOOKUP($A$3,XTIME!$A$1:$E$31,3,FALSE),C14),'Fiche Horaire'!A:AR,12,FALSE))<Feuil2!$D$2,Feuil2!$D$2-VLOOKUP(CONCATENATE(VLOOKUP($A$3,XTIME!$A$1:$E$31,3,FALSE),C14),'Fiche Horaire'!A:AR,12,FALSE),IF((VLOOKUP(CONCATENATE(VLOOKUP($A$3,XTIME!$A$1:$E$31,3,FALSE),C14),'Fiche Horaire'!A:AR,12,FALSE)+VLOOKUP(CONCATENATE(VLOOKUP($A$3,XTIME!$A$1:$E$31,3,FALSE),C14),'Fiche Horaire'!A:AR,33,FALSE))>Feuil2!$D$3,VLOOKUP(CONCATENATE(VLOOKUP($A$3,XTIME!$A$1:$E$31,3,FALSE),C14),'Fiche Horaire'!A:AR,33,FALSE)+VLOOKUP(CONCATENATE(VLOOKUP($A$3,XTIME!$A$1:$E$31,3,FALSE),C14),'Fiche Horaire'!A:AR,12,FALSE)-Feuil2!$D$3,""))))))/60,"") | L14: TOTAL HEURES | M14: =D19+E19+G19+H19+F19 -> 0
C15: =C14+1 -> 43348 | D15: =IF(ISNA((HOUR(VLOOKUP(CONCATENATE(VLOOKUP($A$3,XTIME!$A$1:$E$31,3,FALSE),$C15),Tableau3[[Référence]:[FORMATION]],34,FALSE))*60+MINUTE(VLOOKUP(CONCATENATE(VLOOKUP($A$3,XTIME!$A$1:$E$31,3,FALSE),$C15),Tableau3[[Référence]:[FORMATION]],34,FALSE)))/60)=TRUE,"",((HOUR(VLOOKUP(CONCATENATE(VLOOKUP($A$3,XTIME!$A$1:$E$31,3,FALSE),$C15),Tableau3[[Référence]:[FORMATION]],34,FALSE))*60+MINUTE(VLOOKUP(CONCATENATE(VLOOKUP($A$3,XTIME!$A$1:$E$31,3,FALSE),$C15),Tableau3[[Référence]:[FORMATION]],34,FALSE)))/60)) | E15: =IF(ISNA((HOUR(VLOOKUP(CONCATENATE(VLOOKUP($A$3,XTIME!$A$1:$E$31,3,FALSE),$C15),Tableau3[[Référence]:[FORMATION]],40,FALSE))*60+MINUTE(VLOOKUP(CONCATENATE(VLOOKUP($A$3,XTIME!$A$1:$E$31,3,FALSE),$C15),Tableau3[[Référence]:[FORMATION]],40,FALSE)))/60)=TRUE,"",((HOUR(VLOOKUP(CONCATENATE(VLOOKUP($A$3,XTIME!$A$1:$E$31,3,FALSE),$C15),Tableau3[[Référence]:[FORMATION]],40,FALSE))*60+MINUTE(VLOOKUP(CONCATENATE(VLOOKUP($A$3,XTIME!$A$1:$E$31,3,FALSE),$C15),Tableau3[[Référence]:[FORMATION]],40,FALSE)))/60)) | F15: =IF(ISNA((HOUR(VLOOKUP(CONCATENATE(VLOOKUP($A$3,XTIME!$A$1:$E$31,3,FALSE),$C15),Tableau3[[Référence]:[FORMATION]],41,FALSE))*60+MINUTE(VLOOKUP(CONCATENATE(VLOOKUP($A$3,XTIME!$A$1:$E$31,3,FALSE),$C15),Tableau3[[Référence]:[FORMATION]],41,FALSE)))/60)=TRUE,"",((HOUR(VLOOKUP(CONCATENATE(VLOOKUP($A$3,XTIME!$A$1:$E$31,3,FALSE),$C15),Tableau3[[Référence]:[FORMATION]],41,FALSE))*60+MINUTE(VLOOKUP(CONCATENATE(VLOOKUP($A$3,XTIME!$A$1:$E$31,3,FALSE),$C15),Tableau3[[Référence]:[FORMATION]],41,FALSE)))/60)) | G15: =IF(ISNA((HOUR(VLOOKUP(CONCATENATE(VLOOKUP($A$3,XTIME!$A$1:$E$31,3,FALSE),$C15),Tableau3[[Référence]:[FORMATION]],42,FALSE))*60+MINUTE(VLOOKUP(CONCATENATE(VLOOKUP($A$3,XTIME!$A$1:$E$31,3,FALSE),$C15),Tableau3[[Référence]:[FORMATION]],42,FALSE)))/60)=TRUE,"",((HOUR(VLOOKUP(CONCATENATE(VLOOKUP($A$3,XTIME!$A$1:$E$31,3,FALSE),$C15),Tableau3[[Référence]:[FORMATION]],42,FALSE))*60+MINUTE(VLOOKUP(CONCATENATE(VLOOKUP($A$3,XTIME!$A$1:$E$31,3,FALSE),$C15),Tableau3[[Référence]:[FORMATION]],42,FALSE)))/60)) | H15: =IF(ISNA(VLOOKUP(CONCATENATE(VLOOKUP($A$3,XTIME!$A$1:$E$31,3,FALSE),$C15),Tableau3[[Référence]:[FORMATION]],7,FALSE))=TRUE,"",VLOOKUP(CONCATENATE(VLOOKUP($A$3,XTIME!$A$1:$E$31,3,FALSE),$C15),Tableau3[[Référence]:[FORMATION]],7,FALSE)) | I15: =IFERROR((HOUR(IF(C15="","",MIN(IF((VLOOKUP(CONCATENATE(VLOOKUP($A$3,XTIME!$A$1:$E$31,3,FALSE),C15),'Fiche Horaire'!A:AR,12,FALSE)+VLOOKUP(CONCATENATE(VLOOKUP($A$3,XTIME!$A$1:$E$31,3,FALSE),C15),'Fiche Horaire'!A:AR,33,FALSE))>Feuil2!$C$2,VLOOKUP(CONCATENATE(VLOOKUP($A$3,XTIME!$A$1:$E$31,3,FALSE),C15),'Fiche Horaire'!A:AR,33,FALSE)+VLOOKUP(CONCATENATE(VLOOKUP($A$3,XTIME!$A$1:$E$31,3,FALSE),C15),'Fiche Horaire'!A:AR,12,FALSE)-Feuil2!$C$2,"X"),Feuil2!$C$3)))*60+MINUTE(IF(C15="","",MIN(IF((VLOOKUP(CONCATENATE(VLOOKUP($A$3,XTIME!$A$1:$E$31,3,FALSE),C15),'Fiche Horaire'!A:AR,12,FALSE)+VLOOKUP(CONCATENATE(VLOOKUP($A$3,XTIME!$A$1:$E$31,3,FALSE),C15),'Fiche Horaire'!A:AR,33,FALSE))>Feuil2!$C$2,VLOOKUP(CONCATENATE(VLOOKUP($A$3,XTIME!$A$1:$E$31,3,FALSE),C15),'Fiche Horaire'!A:AR,33,FALSE)+VLOOKUP(CONCATENATE(VLOOKUP($A$3,XTIME!$A$1:$E$31,3,FALSE),C15),'Fiche Horaire'!A:AR,12,FALSE)-Feuil2!$C$2,"X"),Feuil2!$C$3))))/60,"") | J15: =IFERROR((HOUR(IF(C15="","",IF(VLOOKUP(CONCATENATE(VLOOKUP($A$3,XTIME!$A$1:$E$31,3,FALSE),C15),'Fiche Horaire'!A:AR,12,FALSE)="","",IF((VLOOKUP(CONCATENATE(VLOOKUP($A$3,XTIME!$A$1:$E$31,3,FALSE),C15),'Fiche Horaire'!A:AR,12,FALSE))<Feuil2!$D$2,Feuil2!$D$2-VLOOKUP(CONCATENATE(VLOOKUP($A$3,XTIME!$A$1:$E$31,3,FALSE),C15),'Fiche Horaire'!A:AR,12,FALSE),IF((VLOOKUP(CONCATENATE(VLOOKUP($A$3,XTIME!$A$1:$E$31,3,FALSE),C15),'Fiche Horaire'!A:AR,12,FALSE)+VLOOKUP(CONCATENATE(VLOOKUP($A$3,XTIME!$A$1:$E$31,3,FALSE),C15),'Fiche Horaire'!A:AR,33,FALSE))>Feuil2!$D$3,VLOOKUP(CONCATENATE(VLOOKUP($A$3,XTIME!$A$1:$E$31,3,FALSE),C15),'Fiche Horaire'!A:AR,33,FALSE)+VLOOKUP(CONCATENATE(VLOOKUP($A$3,XTIME!$A$1:$E$31,3,FALSE),C15),'Fiche Horaire'!A:AR,12,FALSE)-Feuil2!$D$3,"")))))*60+MINUTE(IF(C15="","",IF(VLOOKUP(CONCATENATE(VLOOKUP($A$3,XTIME!$A$1:$E$31,3,FALSE),C15),'Fiche Horaire'!A:AR,12,FALSE)="","",IF((VLOOKUP(CONCATENATE(VLOOKUP($A$3,XTIME!$A$1:$E$31,3,FALSE),C15),'Fiche Horaire'!A:AR,12,FALSE))<Feuil2!$D$2,Feuil2!$D$2-VLOOKUP(CONCATENATE(VLOOKUP($A$3,XTIME!$A$1:$E$31,3,FALSE),C15),'Fiche Horaire'!A:AR,12,FALSE),IF((VLOOKUP(CONCATENATE(VLOOKUP($A$3,XTIME!$A$1:$E$31,3,FALSE),C15),'Fiche Horaire'!A:AR,12,FALSE)+VLOOKUP(CONCATENATE(VLOOKUP($A$3,XTIME!$A$1:$E$31,3,FALSE),C15),'Fiche Horaire'!A:AR,33,FALSE))>Feuil2!$D$3,VLOOKUP(CONCATENATE(VLOOKUP($A$3,XTIME!$A$1:$E$31,3,FALSE),C15),'Fiche Horaire'!A:AR,33,FALSE)+VLOOKUP(CONCATENATE(VLOOKUP($A$3,XTIME!$A$1:$E$31,3,FALSE),C15),'Fiche Horaire'!A:AR,12,FALSE)-Feuil2!$D$3,""))))))/60,"") | L15: AC HS | M15: =MIN(IF(M14=0,0,IF(M14>=35,M14-35,0)),2) -> 0
C16: =C15+1 -> 43349 | D16: =IF(ISNA((HOUR(VLOOKUP(CONCATENATE(VLOOKUP($A$3,XTIME!$A$1:$E$31,3,FALSE),$C16),Tableau3[[Référence]:[FORMATION]],34,FALSE))*60+MINUTE(VLOOKUP(CONCATENATE(VLOOKUP($A$3,XTIME!$A$1:$E$31,3,FALSE),$C16),Tableau3[[Référence]:[FORMATION]],34,FALSE)))/60)=TRUE,"",((HOUR(VLOOKUP(CONCATENATE(VLOOKUP($A$3,XTIME!$A$1:$E$31,3,FALSE),$C16),Tableau3[[Référence]:[FORMATION]],34,FALSE))*60+MINUTE(VLOOKUP(CONCATENATE(VLOOKUP($A$3,XTIME!$A$1:$E$31,3,FALSE),$C16),Tableau3[[Référence]:[FORMATION]],34,FALSE)))/60)) | E16: =IF(ISNA((HOUR(VLOOKUP(CONCATENATE(VLOOKUP($A$3,XTIME!$A$1:$E$31,3,FALSE),$C16),Tableau3[[Référence]:[FORMATION]],40,FALSE))*60+MINUTE(VLOOKUP(CONCATENATE(VLOOKUP($A$3,XTIME!$A$1:$E$31,3,FALSE),$C16),Tableau3[[Référence]:[FORMATION]],40,FALSE)))/60)=TRUE,"",((HOUR(VLOOKUP(CONCATENATE(VLOOKUP($A$3,XTIME!$A$1:$E$31,3,FALSE),$C16),Tableau3[[Référence]:[FORMATION]],40,FALSE))*60+MINUTE(VLOOKUP(CONCATENATE(VLOOKUP($A$3,XTIME!$A$1:$E$31,3,FALSE),$C16),Tableau3[[Référence]:[FORMATION]],40,FALSE)))/60)) | F16: =IF(ISNA((HOUR(VLOOKUP(CONCATENATE(VLOOKUP($A$3,XTIME!$A$1:$E$31,3,FALSE),$C16),Tableau3[[Référence]:[FORMATION]],41,FALSE))*60+MINUTE(VLOOKUP(CONCATENATE(VLOOKUP($A$3,XTIME!$A$1:$E$31,3,FALSE),$C16),Tableau3[[Référence]:[FORMATION]],41,FALSE)))/60)=TRUE,"",((HOUR(VLOOKUP(CONCATENATE(VLOOKUP($A$3,XTIME!$A$1:$E$31,3,FALSE),$C16),Tableau3[[Référence]:[FORMATION]],41,FALSE))*60+MINUTE(VLOOKUP(CONCATENATE(VLOOKUP($A$3,XTIME!$A$1:$E$31,3,FALSE),$C16),Tableau3[[Référence]:[FORMATION]],41,FALSE)))/60)) | G16: =IF(ISNA((HOUR(VLOOKUP(CONCATENATE(VLOOKUP($A$3,XTIME!$A$1:$E$31,3,FALSE),$C16),Tableau3[[Référence]:[FORMATION]],42,FALSE))*60+MINUTE(VLOOKUP(CONCATENATE(VLOOKUP($A$3,XTIME!$A$1:$E$31,3,FALSE),$C16),Tableau3[[Référence]:[FORMATION]],42,FALSE)))/60)=TRUE,"",((HOUR(VLOOKUP(CONCATENATE(VLOOKUP($A$3,XTIME!$A$1:$E$31,3,FALSE),$C16),Tableau3[[Référence]:[FORMATION]],42,FALSE))*60+MINUTE(VLOOKUP(CONCATENATE(VLOOKUP($A$3,XTIME!$A$1:$E$31,3,FALSE),$C16),Tableau3[[Référence]:[FORMATION]],42,FALSE)))/60)) | H16: =IF(ISNA(VLOOKUP(CONCATENATE(VLOOKUP($A$3,XTIME!$A$1:$E$31,3,FALSE),$C16),Tableau3[[Référence]:[FORMATION]],7,FALSE))=TRUE,"",VLOOKUP(CONCATENATE(VLOOKUP($A$3,XTIME!$A$1:$E$31,3,FALSE),$C16),Tableau3[[Référence]:[FORMATION]],7,FALSE)) | I16: =IFERROR((HOUR(IF(C16="","",MIN(IF((VLOOKUP(CONCATENATE(VLOOKUP($A$3,XTIME!$A$1:$E$31,3,FALSE),C16),'Fiche Horaire'!A:AR,12,FALSE)+VLOOKUP(CONCATENATE(VLOOKUP($A$3,XTIME!$A$1:$E$31,3,FALSE),C16),'Fiche Horaire'!A:AR,33,FALSE))>Feuil2!$C$2,VLOOKUP(CONCATENATE(VLOOKUP($A$3,XTIME!$A$1:$E$31,3,FALSE),C16),'Fiche Horaire'!A:AR,33,FALSE)+VLOOKUP(CONCATENATE(VLOOKUP($A$3,XTIME!$A$1:$E$31,3,FALSE),C16),'Fiche Horaire'!A:AR,12,FALSE)-Feuil2!$C$2,"X"),Feuil2!$C$3)))*60+MINUTE(IF(C16="","",MIN(IF((VLOOKUP(CONCATENATE(VLOOKUP($A$3,XTIME!$A$1:$E$31,3,FALSE),C16),'Fiche Horaire'!A:AR,12,FALSE)+VLOOKUP(CONCATENATE(VLOOKUP($A$3,XTIME!$A$1:$E$31,3,FALSE),C16),'Fiche Horaire'!A:AR,33,FALSE))>Feuil2!$C$2,VLOOKUP(CONCATENATE(VLOOKUP($A$3,XTIME!$A$1:$E$31,3,FALSE),C16),'Fiche Horaire'!A:AR,33,FALSE)+VLOOKUP(CONCATENATE(VLOOKUP($A$3,XTIME!$A$1:$E$31,3,FALSE),C16),'Fiche Horaire'!A:AR,12,FALSE)-Feuil2!$C$2,"X"),Feuil2!$C$3))))/60,"") | J16: =IFERROR((HOUR(IF(C16="","",IF(VLOOKUP(CONCATENATE(VLOOKUP($A$3,XTIME!$A$1:$E$31,3,FALSE),C16),'Fiche Horaire'!A:AR,12,FALSE)="","",IF((VLOOKUP(CONCATENATE(VLOOKUP($A$3,XTIME!$A$1:$E$31,3,FALSE),C16),'Fiche Horaire'!A:AR,12,FALSE))<Feuil2!$D$2,Feuil2!$D$2-VLOOKUP(CONCATENATE(VLOOKUP($A$3,XTIME!$A$1:$E$31,3,FALSE),C16),'Fiche Horaire'!A:AR,12,FALSE),IF((VLOOKUP(CONCATENATE(VLOOKUP($A$3,XTIME!$A$1:$E$31,3,FALSE),C16),'Fiche Horaire'!A:AR,12,FALSE)+VLOOKUP(CONCATENATE(VLOOKUP($A$3,XTIME!$A$1:$E$31,3,FALSE),C16),'Fiche Horaire'!A:AR,33,FALSE))>Feuil2!$D$3,VLOOKUP(CONCATENATE(VLOOKUP($A$3,XTIME!$A$1:$E$31,3,FALSE),C16),'Fiche Horaire'!A:AR,33,FALSE)+VLOOKUP(CONCATENATE(VLOOKUP($A$3,XTIME!$A$1:$E$31,3,FALSE),C16),'Fiche Horaire'!A:AR,12,FALSE)-Feuil2!$D$3,"")))))*60+MINUTE(IF(C16="","",IF(VLOOKUP(CONCATENATE(VLOOKUP($A$3,XTIME!$A$1:$E$31,3,FALSE),C16),'Fiche Horaire'!A:AR,12,FALSE)="","",IF((VLOOKUP(CONCATENATE(VLOOKUP($A$3,XTIME!$A$1:$E$31,3,FALSE),C16),'Fiche Horaire'!A:AR,12,FALSE))<Feuil2!$D$2,Feuil2!$D$2-VLOOKUP(CONCATENATE(VLOOKUP($A$3,XTIME!$A$1:$E$31,3,FALSE),C16),'Fiche Horaire'!A:AR,12,FALSE),IF((VLOOKUP(CONCATENATE(VLOOKUP($A$3,XTIME!$A$1:$E$31,3,FALSE),C16),'Fiche Horaire'!A:AR,12,FALSE)+VLOOKUP(CONCATENATE(VLOOKUP($A$3,XTIME!$A$1:$E$31,3,FALSE),C16),'Fiche Horaire'!A:AR,33,FALSE))>Feuil2!$D$3,VLOOKUP(CONCATENATE(VLOOKUP($A$3,XTIME!$A$1:$E$31,3,FALSE),C16),'Fiche Horaire'!A:AR,33,FALSE)+VLOOKUP(CONCATENATE(VLOOKUP($A$3,XTIME!$A$1:$E$31,3,FALSE),C16),'Fiche Horaire'!A:AR,12,FALSE)-Feuil2!$D$3,""))))))/60,"") | L16: HS 125% | M16: =IF(M14<45,M14-$K$4-M19,3) -> 0
C17: =C16+1 -> 43350 | D17: =IF(ISNA((HOUR(VLOOKUP(CONCATENATE(VLOOKUP($A$3,XTIME!$A$1:$E$31,3,FALSE),$C17),Tableau3[[Référence]:[FORMATION]],34,FALSE))*60+MINUTE(VLOOKUP(CONCATENATE(VLOOKUP($A$3,XTIME!$A$1:$E$31,3,FALSE),$C17),Tableau3[[Référence]:[FORMATION]],34,FALSE)))/60)=TRUE,"",((HOUR(VLOOKUP(CONCATENATE(VLOOKUP($A$3,XTIME!$A$1:$E$31,3,FALSE),$C17),Tableau3[[Référence]:[FORMATION]],34,FALSE))*60+MINUTE(VLOOKUP(CONCATENATE(VLOOKUP($A$3,XTIME!$A$1:$E$31,3,FALSE),$C17),Tableau3[[Référence]:[FORMATION]],34,FALSE)))/60)) | E17: =IF(ISNA((HOUR(VLOOKUP(CONCATENATE(VLOOKUP($A$3,XTIME!$A$1:$E$31,3,FALSE),$C17),Tableau3[[Référence]:[FORMATION]],40,FALSE))*60+MINUTE(VLOOKUP(CONCATENATE(VLOOKUP($A$3,XTIME!$A$1:$E$31,3,FALSE),$C17),Tableau3[[Référence]:[FORMATION]],40,FALSE)))/60)=TRUE,"",((HOUR(VLOOKUP(CONCATENATE(VLOOKUP($A$3,XTIME!$A$1:$E$31,3,FALSE),$C17),Tableau3[[Référence]:[FORMATION]],40,FALSE))*60+MINUTE(VLOOKUP(CONCATENATE(VLOOKUP($A$3,XTIME!$A$1:$E$31,3,FALSE),$C17),Tableau3[[Référence]:[FORMATION]],40,FALSE)))/60)) | F17: =IF(ISNA((HOUR(VLOOKUP(CONCATENATE(VLOOKUP($A$3,XTIME!$A$1:$E$31,3,FALSE),$C17),Tableau3[[Référence]:[FORMATION]],41,FALSE))*60+MINUTE(VLOOKUP(CONCATENATE(VLOOKUP($A$3,XTIME!$A$1:$E$31,3,FALSE),$C17),Tableau3[[Référence]:[FORMATION]],41,FALSE)))/60)=TRUE,"",((HOUR(VLOOKUP(CONCATENATE(VLOOKUP($A$3,XTIME!$A$1:$E$31,3,FALSE),$C17),Tableau3[[Référence]:[FORMATION]],41,FALSE))*60+MINUTE(VLOOKUP(CONCATENATE(VLOOKUP($A$3,XTIME!$A$1:$E$31,3,FALSE),$C17),Tableau3[[Référence]:[FORMATION]],41,FALSE)))/60)) | G17: =IF(ISNA((HOUR(VLOOKUP(CONCATENATE(VLOOKUP($A$3,XTIME!$A$1:$E$31,3,FALSE),$C17),Tableau3[[Référence]:[FORMATION]],42,FALSE))*60+MINUTE(VLOOKUP(CONCATENATE(VLOOKUP($A$3,XTIME!$A$1:$E$31,3,FALSE),$C17),Tableau3[[Référence]:[FORMATION]],42,FALSE)))/60)=TRUE,"",((HOUR(VLOOKUP(CONCATENATE(VLOOKUP($A$3,XTIME!$A$1:$E$31,3,FALSE),$C17),Tableau3[[Référence]:[FORMATION]],42,FALSE))*60+MINUTE(VLOOKUP(CONCATENATE(VLOOKUP($A$3,XTIME!$A$1:$E$31,3,FALSE),$C17),Tableau3[[Référence]:[FORMATION]],42,FALSE)))/60)) | H17: =IF(ISNA(VLOOKUP(CONCATENATE(VLOOKUP($A$3,XTIME!$A$1:$E$31,3,FALSE),$C17),Tableau3[[Référence]:[FORMATION]],7,FALSE))=TRUE,"",VLOOKUP(CONCATENATE(VLOOKUP($A$3,XTIME!$A$1:$E$31,3,FALSE),$C17),Tableau3[[Référence]:[FORMATION]],7,FALSE)) | I17: =IFERROR((HOUR(IF(C17="","",MIN(IF((VLOOKUP(CONCATENATE(VLOOKUP($A$3,XTIME!$A$1:$E$31,3,FALSE),C17),'Fiche Horaire'!A:AR,12,FALSE)+VLOOKUP(CONCATENATE(VLOOKUP($A$3,XTIME!$A$1:$E$31,3,FALSE),C17),'Fiche Horaire'!A:AR,33,FALSE))>Feuil2!$C$2,VLOOKUP(CONCATENATE(VLOOKUP($A$3,XTIME!$A$1:$E$31,3,FALSE),C17),'Fiche Horaire'!A:AR,33,FALSE)+VLOOKUP(CONCATENATE(VLOOKUP($A$3,XTIME!$A$1:$E$31,3,FALSE),C17),'Fiche Horaire'!A:AR,12,FALSE)-Feuil2!$C$2,"X"),Feuil2!$C$3)))*60+MINUTE(IF(C17="","",MIN(IF((VLOOKUP(CONCATENATE(VLOOKUP($A$3,XTIME!$A$1:$E$31,3,FALSE),C17),'Fiche Horaire'!A:AR,12,FALSE)+VLOOKUP(CONCATENATE(VLOOKUP($A$3,XTIME!$A$1:$E$31,3,FALSE),C17),'Fiche Horaire'!A:AR,33,FALSE))>Feuil2!$C$2,VLOOKUP(CONCATENATE(VLOOKUP($A$3,XTIME!$A$1:$E$31,3,FALSE),C17),'Fiche Horaire'!A:AR,33,FALSE)+VLOOKUP(CONCATENATE(VLOOKUP($A$3,XTIME!$A$1:$E$31,3,FALSE),C17),'Fiche Horaire'!A:AR,12,FALSE)-Feuil2!$C$2,"X"),Feuil2!$C$3))))/60,"") | J17: =IFERROR((HOUR(IF(C17="","",IF(VLOOKUP(CONCATENATE(VLOOKUP($A$3,XTIME!$A$1:$E$31,3,FALSE),C17),'Fiche Horaire'!A:AR,12,FALSE)="","",IF((VLOOKUP(CONCATENATE(VLOOKUP($A$3,XTIME!$A$1:$E$31,3,FALSE),C17),'Fiche Horaire'!A:AR,12,FALSE))<Feuil2!$D$2,Feuil2!$D$2-VLOOKUP(CONCATENATE(VLOOKUP($A$3,XTIME!$A$1:$E$31,3,FALSE),C17),'Fiche Horaire'!A:AR,12,FALSE),IF((VLOOKUP(CONCATENATE(VLOOKUP($A$3,XTIME!$A$1:$E$31,3,FALSE),C17),'Fiche Horaire'!A:AR,12,FALSE)+VLOOKUP(CONCATENATE(VLOOKUP($A$3,XTIME!$A$1:$E$31,3,FALSE),C17),'Fiche Horaire'!A:AR,33,FALSE))>Feuil2!$D$3,VLOOKUP(CONCATENATE(VLOOKUP($A$3,XTIME!$A$1:$E$31,3,FALSE),C17),'Fiche Horaire'!A:AR,33,FALSE)+VLOOKUP(CONCATENATE(VLOOKUP($A$3,XTIME!$A$1:$E$31,3,FALSE),C17),'Fiche Horaire'!A:AR,12,FALSE)-Feuil2!$D$3,"")))))*60+MINUTE(IF(C17="","",IF(VLOOKUP(CONCATENATE(VLOOKUP($A$3,XTIME!$A$1:$E$31,3,FALSE),C17),'Fiche Horaire'!A:AR,12,FALSE)="","",IF((VLOOKUP(CONCATENATE(VLOOKUP($A$3,XTIME!$A$1:$E$31,3,FALSE),C17),'Fiche Horaire'!A:AR,12,FALSE))<Feuil2!$D$2,Feuil2!$D$2-VLOOKUP(CONCATENATE(VLOOKUP($A$3,XTIME!$A$1:$E$31,3,FALSE),C17),'Fiche Horaire'!A:AR,12,FALSE),IF((VLOOKUP(CONCATENATE(VLOOKUP($A$3,XTIME!$A$1:$E$31,3,FALSE),C17),'Fiche Horaire'!A:AR,12,FALSE)+VLOOKUP(CONCATENATE(VLOOKUP($A$3,XTIME!$A$1:$E$31,3,FALSE),C17),'Fiche Horaire'!A:AR,33,FALSE))>Feuil2!$D$3,VLOOKUP(CONCATENATE(VLOOKUP($A$3,XTIME!$A$1:$E$31,3,FALSE),C17),'Fiche Horaire'!A:AR,33,FALSE)+VLOOKUP(CONCATENATE(VLOOKUP($A$3,XTIME!$A$1:$E$31,3,FALSE),C17),'Fiche Horaire'!A:AR,12,FALSE)-Feuil2!$D$3,""))))))/60,"") | L17: HS 150% | M17: =IF(M14>45,M14-$K$4-M19-M16,0) -> 0
C18: =C17+1 -> 43351 | D18: =IF(ISNA((HOUR(VLOOKUP(CONCATENATE(VLOOKUP($A$3,XTIME!$A$1:$E$31,3,FALSE),$C18),Tableau3[[Référence]:[FORMATION]],34,FALSE))*60+MINUTE(VLOOKUP(CONCATENATE(VLOOKUP($A$3,XTIME!$A$1:$E$31,3,FALSE),$C18),Tableau3[[Référence]:[FORMATION]],34,FALSE)))/60)=TRUE,"",((HOUR(VLOOKUP(CONCATENATE(VLOOKUP($A$3,XTIME!$A$1:$E$31,3,FALSE),$C18),Tableau3[[Référence]:[FORMATION]],34,FALSE))*60+MINUTE(VLOOKUP(CONCATENATE(VLOOKUP($A$3,XTIME!$A$1:$E$31,3,FALSE),$C18),Tableau3[[Référence]:[FORMATION]],34,FALSE)))/60)) | E18: =IF(ISNA((HOUR(VLOOKUP(CONCATENATE(VLOOKUP($A$3,XTIME!$A$1:$E$31,3,FALSE),$C18),Tableau3[[Référence]:[FORMATION]],40,FALSE))*60+MINUTE(VLOOKUP(CONCATENATE(VLOOKUP($A$3,XTIME!$A$1:$E$31,3,FALSE),$C18),Tableau3[[Référence]:[FORMATION]],40,FALSE)))/60)=TRUE,"",((HOUR(VLOOKUP(CONCATENATE(VLOOKUP($A$3,XTIME!$A$1:$E$31,3,FALSE),$C18),Tableau3[[Référence]:[FORMATION]],40,FALSE))*60+MINUTE(VLOOKUP(CONCATENATE(VLOOKUP($A$3,XTIME!$A$1:$E$31,3,FALSE),$C18),Tableau3[[Référence]:[FORMATION]],40,FALSE)))/60)) | F18: =IF(ISNA((HOUR(VLOOKUP(CONCATENATE(VLOOKUP($A$3,XTIME!$A$1:$E$31,3,FALSE),$C18),Tableau3[[Référence]:[FORMATION]],41,FALSE))*60+MINUTE(VLOOKUP(CONCATENATE(VLOOKUP($A$3,XTIME!$A$1:$E$31,3,FALSE),$C18),Tableau3[[Référence]:[FORMATION]],41,FALSE)))/60)=TRUE,"",((HOUR(VLOOKUP(CONCATENATE(VLOOKUP($A$3,XTIME!$A$1:$E$31,3,FALSE),$C18),Tableau3[[Référence]:[FORMATION]],41,FALSE))*60+MINUTE(VLOOKUP(CONCATENATE(VLOOKUP($A$3,XTIME!$A$1:$E$31,3,FALSE),$C18),Tableau3[[Référence]:[FORMATION]],41,FALSE)))/60)) | G18: =IF(ISNA((HOUR(VLOOKUP(CONCATENATE(VLOOKUP($A$3,XTIME!$A$1:$E$31,3,FALSE),$C18),Tableau3[[Référence]:[FORMATION]],42,FALSE))*60+MINUTE(VLOOKUP(CONCATENATE(VLOOKUP($A$3,XTIME!$A$1:$E$31,3,FALSE),$C18),Tableau3[[Référence]:[FORMATION]],42,FALSE)))/60)=TRUE,"",((HOUR(VLOOKUP(CONCATENATE(VLOOKUP($A$3,XTIME!$A$1:$E$31,3,FALSE),$C18),Tableau3[[Référence]:[FORMATION]],42,FALSE))*60+MINUTE(VLOOKUP(CONCATENATE(VLOOKUP($A$3,XTIME!$A$1:$E$31,3,FALSE),$C18),Tableau3[[Référence]:[FORMATION]],42,FALSE)))/60)) | H18: =IF(ISNA(VLOOKUP(CONCATENATE(VLOOKUP($A$3,XTIME!$A$1:$E$31,3,FALSE),$C18),Tableau3[[Référence]:[FORMATION]],7,FALSE))=TRUE,"",VLOOKUP(CONCATENATE(VLOOKUP($A$3,XTIME!$A$1:$E$31,3,FALSE),$C18),Tableau3[[Référence]:[FORMATION]],7,FALSE)) | I18: =IFERROR((HOUR(IF(C18="","",MIN(IF((VLOOKUP(CONCATENATE(VLOOKUP($A$3,XTIME!$A$1:$E$31,3,FALSE),C18),'Fiche Horaire'!A:AR,12,FALSE)+VLOOKUP(CONCATENATE(VLOOKUP($A$3,XTIME!$A$1:$E$31,3,FALSE),C18),'Fiche Horaire'!A:AR,33,FALSE))>Feuil2!$C$2,VLOOKUP(CONCATENATE(VLOOKUP($A$3,XTIME!$A$1:$E$31,3,FALSE),C18),'Fiche Horaire'!A:AR,33,FALSE)+VLOOKUP(CONCATENATE(VLOOKUP($A$3,XTIME!$A$1:$E$31,3,FALSE),C18),'Fiche Horaire'!A:AR,12,FALSE)-Feuil2!$C$2,"X"),Feuil2!$C$3)))*60+MINUTE(IF(C18="","",MIN(IF((VLOOKUP(CONCATENATE(VLOOKUP($A$3,XTIME!$A$1:$E$31,3,FALSE),C18),'Fiche Horaire'!A:AR,12,FALSE)+VLOOKUP(CONCATENATE(VLOOKUP($A$3,XTIME!$A$1:$E$31,3,FALSE),C18),'Fiche Horaire'!A:AR,33,FALSE))>Feuil2!$C$2,VLOOKUP(CONCATENATE(VLOOKUP($A$3,XTIME!$A$1:$E$31,3,FALSE),C18),'Fiche Horaire'!A:AR,33,FALSE)+VLOOKUP(CONCATENATE(VLOOKUP($A$3,XTIME!$A$1:$E$31,3,FALSE),C18),'Fiche Horaire'!A:AR,12,FALSE)-Feuil2!$C$2,"X"),Feuil2!$C$3))))/60,"") | J18: =IFERROR((HOUR(IF(C18="","",IF(VLOOKUP(CONCATENATE(VLOOKUP($A$3,XTIME!$A$1:$E$31,3,FALSE),C18),'Fiche Horaire'!A:AR,12,FALSE)="","",IF((VLOOKUP(CONCATENATE(VLOOKUP($A$3,XTIME!$A$1:$E$31,3,FALSE),C18),'Fiche Horaire'!A:AR,12,FALSE))<Feuil2!$D$2,Feuil2!$D$2-VLOOKUP(CONCATENATE(VLOOKUP($A$3,XTIME!$A$1:$E$31,3,FALSE),C18),'Fiche Horaire'!A:AR,12,FALSE),IF((VLOOKUP(CONCATENATE(VLOOKUP($A$3,XTIME!$A$1:$E$31,3,FALSE),C18),'Fiche Horaire'!A:AR,12,FALSE)+VLOOKUP(CONCATENATE(VLOOKUP($A$3,XTIME!$A$1:$E$31,3,FALSE),C18),'Fiche Horaire'!A:AR,33,FALSE))>Feuil2!$D$3,VLOOKUP(CONCATENATE(VLOOKUP($A$3,XTIME!$A$1:$E$31,3,FALSE),C18),'Fiche Horaire'!A:AR,33,FALSE)+VLOOKUP(CONCATENATE(VLOOKUP($A$3,XTIME!$A$1:$E$31,3,FALSE),C18),'Fiche Horaire'!A:AR,12,FALSE)-Feuil2!$D$3,"")))))*60+MINUTE(IF(C18="","",IF(VLOOKUP(CONCATENATE(VLOOKUP($A$3,XTIME!$A$1:$E$31,3,FALSE),C18),'Fiche Horaire'!A:AR,12,FALSE)="","",IF((VLOOKUP(CONCATENATE(VLOOKUP($A$3,XTIME!$A$1:$E$31,3,FALSE),C18),'Fiche Horaire'!A:AR,12,FALSE))<Feuil2!$D$2,Feuil2!$D$2-VLOOKUP(CONCATENATE(VLOOKUP($A$3,XTIME!$A$1:$E$31,3,FALSE),C18),'Fiche Horaire'!A:AR,12,FALSE),IF((VLOOKUP(CONCATENATE(VLOOKUP($A$3,XTIME!$A$1:$E$31,3,FALSE),C18),'Fiche Horaire'!A:AR,12,FALSE)+VLOOKUP(CONCATENATE(VLOOKUP($A$3,XTIME!$A$1:$E$31,3,FALSE),C18),'Fiche Horaire'!A:AR,33,FALSE))>Feuil2!$D$3,VLOOKUP(CONCATENATE(VLOOKUP($A$3,XTIME!$A$1:$E$31,3,FALSE),C18),'Fiche Horaire'!A:AR,33,FALSE)+VLOOKUP(CONCATENATE(VLOOKUP($A$3,XTIME!$A$1:$E$31,3,FALSE),C18),'Fiche Horaire'!A:AR,12,FALSE)-Feuil2!$D$3,""))))))/60,"") | L18: H TUNNEL | M18: =MIN(IF(M14=0,0,IF(M14>=37,M14-37,IF(M14<=35,M14-35,0))),5) -> 0
C19: TOTAL | D19: =SUM(D13:D18) -> 0 | E19: =SUM(E13:E18) -> 0 | F19: =SUM(F13:F18) -> 0 | G19: =SUM(G13:G18) -> 0 | H19: =IF(COUNTIF(H13:H18,0)>0,0,IF(COUNTBLANK(H13:H18)=6,0,(6-COUNTBLANK(H13:H18)-COUNTIF(H13:H18,"REPOS"))*$K11/5)) -> 0 | I19: =SUM(I13:I18) -> 0 | J19: =SUM(J13:J18) -> 0 | L19: MODUL. | M19: =IF(M14<42,M14-$K$4,7) -> -43
