Workbook

Sheet Fiche RECAP
B1: =CONCATENATE("SUIVI ANNUALISATION MOIS DE ",CHOOSE(MONTH(C20),"JANVIER","FEVRIER","MARS","AVRIL","MAI","JUIN","JUILLET","AOUT","SEPTEMBRE","OCTOBRE","NOVEMBRE","DECEMBRE")," ",YEAR(C14)) -> SUIVI ANNUALISATION MOIS DE SEPTEMBRE 2018
A3: 1 | B3: =CONCATENATE("MATRICULE"," ",":"," ",VLOOKUP(A3,XTIME!$A$1:$E$31,2,FALSE)) -> MATRICULE : | K3: BASE HORAIRE
B4: =CONCATENATE("NOM : ",VLOOKUP(A3,XTIME!$A$1:$E$31,3,FALSE)," ",VLOOKUP(A3,XTIME!$A$1:$E$31,4,FALSE)) -> NOM : Jackson | K4: =VLOOKUP(A3,XTIME!$A$1:$E$31,5,FALSE) -> 43
B5: DATE | D5: PRESENCE | E5: DEL | F5: DIR | G5: FORMATION | H5: AUTRES | I5: HN21 | J5: HN22
B6: =CONCATENATE("SEMAINE"," ",WEEKNUM(C11)) -> SEMAINE 35 | D6: =IF(ISNA((HOUR(VLOOKUP(CONCATENATE(VLOOKUP($A$3,XTIME!$A$1:$E$31,3,FALSE),$C6),Tableau3[[Référence]:[FORMATION]],34,FALSE))*60+MINUTE(VLOOKUP(CONCATENATE(VLOOKUP($A$3,XTIME!$A$1:$E$31,3,FALSE),$C6),Tableau3[[Référence]:[FORMATION]],34,FALSE)))/60)=TRUE,"",((HOUR(VLOOKUP(CONCATENATE(VLOOKUP($A$3,XTIME!$A$1:$E$31,3,FALSE),$C6),Tableau3[[Référence]:[FORMATION]],34,FALSE))*60+MINUTE(VLOOKUP(CONCATENATE(VLOOKUP($A$3,XTIME!$A$1:$E$31,3,FALSE),$C6),Tableau3[[Référence]:[FORMATION]],34,FALSE)))/60)) | E6: =IF(ISNA((HOUR(VLOOKUP(CONCATENATE(VLOOKUP($A$3,XTIME!$A$1:$E$31,3,FALSE),$C6),Tableau3[[Référence]:[FORMATION]],40,FALSE))*60+MINUTE(VLOOKUP(CONCATENATE(VLOOKUP($A$3,XTIME!$A$1:$E$31,3,FALSE),$C6),Tableau3[[Référence]:[FORMATION]],40,FALSE)))/60)=TRUE,"",((HOUR(VLOOKUP(CONCATENATE(VLOOKUP($A$3,XTIME!$A$1:$E$31,3,FALSE),$C6),Tableau3[[Référence]:[FORMATION]],40,FALSE))*60+MINUTE(VLOOKUP(CONCATENATE(VLOOKUP($A$3,XTIME!$A$1:$E$31,3,FALSE),$C6),Tableau3[[Référence]:[FORMATION]],40,FALSE)))/60)) | F6: =IF(ISNA((HOUR(VLOOKUP(CONCATENATE(VLOOKUP($A$3,XTIME!$A$1:$E$31,3,FALSE),$C6),Tableau3[[Référence]:[FORMATION]],41,FALSE))*60+MINUTE(VLOOKUP(CONCATENATE(VLOOKUP($A$3,XTIME!$A$1:$E$31,3,FALSE),$C6),Tableau3[[Référence]:[FORMATION]],41,FALSE)))/60)=TRUE,"",((HOUR(VLOOKUP(CONCATENATE(VLOOKUP($A$3,XTIME!$A$1:$E$31,3,FALSE),$C6),Tableau3[[Référence]:[FORMATION]],41,FALSE))*60+MINUTE(VLOOKUP(CONCATENATE(VLOOKUP($A$3,XTIME!$A$1:$E$31,3,FALSE),$C6),Tableau3[[Référence]:[FORMATION]],41,FALSE)))/60)) | G6: =IF(ISNA((HOUR(VLOOKUP(CONCATENATE(VLOOKUP($A$3,XTIME!$A$1:$E$31,3,FALSE),$C6),Tableau3[[Référence]:[FORMATION]],42,FALSE))*60+MINUTE(VLOOKUP(CONCATENATE(VLOOKUP($A$3,XTIME!$A$1:$E$31,3,FALSE),$C6),Tableau3[[Référence]:[FORMATION]],42,FALSE)))/60)=TRUE,"",((HOUR(VLOOKUP(CONCATENATE(VLOOKUP($A$3,XTIME!$A$1:$E$31,3,FALSE),$C6),Tableau3[[Référence]:[FORMATION]],42,FALSE))*60+MINUTE(VLOOKUP(CONCATENATE(VLOOKUP($A$3,XTIME!$A$1:$E$31,3,FALSE),$C6),Tableau3[[Référence]:[FORMATION]],42,FALSE)))/60)) | H6: =IF(ISNA(VLOOKUP(CONCATENATE(VLOOKUP($A$3,XTIME!$A$1:$E$31,3,FALSE),$C6),Tableau3[[Référence]:[FORMATION]],7,FALSE))=TRUE,"",VLOOKUP(CONCATENATE(VLOOKUP($A$3,XTIME!$A$1:$E$31,3,FALSE),$C6),Tableau3[[Référence]:[FORMATION]],7,FALSE)) | I6: =IFERROR((HOUR(IF(C6="","",MIN(IF((VLOOKUP(CONCATENATE(VLOOKUP($A$3,XTIME!$A$1:$E$31,3,FALSE),C6),'Fiche Horaire'!A:AR,12,FALSE)+VLOOKUP(CONCATENATE(VLOOKUP($A$3,XTIME!$A$1:$E$31,3,FALSE),C6),'Fiche Horaire'!A:AR,33,FALSE))>Feuil2!$C$2,VLOOKUP(CONCATENATE(VLOOKUP($A$3,XTIME!$A$1:$E$31,3,FALSE),C6),'Fiche Horaire'!A:AR,33,FALSE)+VLOOKUP(CONCATENATE(VLOOKUP($A$3,XTIME!$A$1:$E$31,3,FALSE),C6),'Fiche Horaire'!A:AR,12,FALSE)-Feuil2!$C$2,"X"),Feuil2!$C$3)))*60+MINUTE(IF(C6="","",MIN(IF((VLOOKUP(CONCATENATE(VLOOKUP($A$3,XTIME!$A$1:$E$31,3,FALSE),C6),'Fiche Horaire'!A:AR,12,FALSE)+VLOOKUP(CONCATENATE(VLOOKUP($A$3,XTIME!$A$1:$E$31,3,FALSE),C6),'Fiche Horaire'!A:AR,33,FALSE))>Feuil2!$C$2,VLOOKUP(CONCATENATE(VLOOKUP($A$3,XTIME!$A$1:$E$31,3,FALSE),C6),'Fiche Horaire'!A:AR,33,FALSE)+VLOOKUP(CONCATENATE(VLOOKUP($A$3,XTIME!$A$1:$E$31,3,FALSE),C6),'Fiche Horaire'!A:AR,12,FALSE)-Feuil2!$C$2,"X"),Feuil2!$C$3))))/60,"") | J6: =IFERROR((HOUR(IF(C6="","",IF(VLOOKUP(CONCATENATE(VLOOKUP($A$3,XTIME!$A$1:$E$31,3,FALSE),C6),'Fiche Horaire'!A:AR,12,FALSE)="","",IF((VLOOKUP(CONCATENATE(VLOOKUP($A$3,XTIME!$A$1:$E$31,3,FALSE),C6),'Fiche Horaire'!A:AR,12,FALSE))<Feuil2!$D$2,Feuil2!$D$2-VLOOKUP(CONCATENATE(VLOOKUP($A$3,XTIME!$A$1:$E$31,3,FALSE),C6),'Fiche Horaire'!A:AR,12,FALSE),IF((VLOOKUP(CONCATENATE(VLOOKUP($A$3,XTIME!$A$1:$E$31,3,FALSE),C6),'Fiche Horaire'!A:AR,12,FALSE)+VLOOKUP(CONCATENATE(VLOOKUP($A$3,XTIME!$A$1:$E$31,3,FALSE),C6),'Fiche Horaire'!A:AR,33,FALSE))>Feuil2!$D$3,VLOOKUP(CONCATENATE(VLOOKUP($A$3,XTIME!$A$1:$E$31,3,FALSE),C6),'Fiche Horaire'!A:AR,33,FALSE)+VLOOKUP(CONCATENATE(VLOOKUP($A$3,XTIME!$A$1:$E$31,3,FALSE),C6),'Fiche Horaire'!A:AR,12,FALSE)-Feuil2!$D$3,"")))))*60+MINUTE(IF(C6="","",IF(VLOOKUP(CONCATENATE(VLOOKUP($A$3,XTIME!$A$1:$E$31,3,FALSE),C6),'Fiche Horaire'!A:AR,12,FALSE)="","",IF((VLOOKUP(CONCATENATE(VLOOKUP($A$3,XTIME!$A$1:$E$31,3,FALSE),C6),'Fiche Horaire'!A:AR,12,FALSE))<Feuil2!$D$2,Feuil2!$D$2-VLOOKUP(CONCATENATE(VLOOKUP($A$3,XTIME!$A$1:$E$31,3,FALSE),C6),'Fiche Horaire'!A:AR,12,FALSE),IF((VLOOKUP(CONCATENATE(VLOOKUP($A$3,XTIME!$A$1:$E$31,3,FALSE),C6),'Fiche Horaire'!A:AR,12,FALSE)+VLOOKUP(CONCATENATE(VLOOKUP($A$3,XTIME!$A$1:$E$31,3,FALSE),C6),'Fiche Horaire'!A:AR,33,FALSE))>Feuil2!$D$3,VLOOKUP(CONCATENATE(VLOOKUP($A$3,XTIME!$A$1:$E$31,3,FALSE),C6),'Fiche Horaire'!A:AR,33,FALSE)+VLOOKUP(CONCATENATE(VLOOKUP($A$3,XTIME!$A$1:$E$31,3,FALSE),C6),'Fiche Horaire'!A:AR,12,FALSE)-Feuil2!$D$3,""))))))/60,"") | L6: =B6 -> SEMAINE 35
D7: =IF(ISNA((HOUR(VLOOKUP(CONCATENATE(VLOOKUP($A$3,XTIME!$A$1:$E$31,3,FALSE),$C7),Tableau3[[Référence]:[FORMATION]],34,FALSE))*60+MINUTE(VLOOKUP(CONCATENATE(VLOOKUP($A$3,XTIME!$A$1:$E$31,3,FALSE),$C7),Tableau3[[Référence]:[FORMATION]],34,FALSE)))/60)=TRUE,"",((HOUR(VLOOKUP(CONCATENATE(VLOOKUP($A$3,XTIME!$A$1:$E$31,3,FALSE),$C7),Tableau3[[Référence]:[FORMATION]],34,FALSE))*60+MINUTE(VLOOKUP(CONCATENATE(VLOOKUP($A$3,XTIME!$A$1:$E$31,3,FALSE),$C7),Tableau3[[Référence]:[FORMATION]],34,FALSE)))/60)) | E7: =IF(ISNA((HOUR(VLOOKUP(CONCATENATE(VLOOKUP($A$3,XTIME!$A$1:$E$31,3,FALSE),$C7),Tableau3[[Référence]:[FORMATION]],40,FALSE))*60+MINUTE(VLOOKUP(CONCATENATE(VLOOKUP($A$3,XTIME!$A$1:$E$31,3,FALSE),$C7),Tableau3[[Référence]:[FORMATION]],40,FALSE)))/60)=TRUE,"",((HOUR(VLOOKUP(CONCATENATE(VLOOKUP($A$3,XTIME!$A$1:$E$31,3,FALSE),$C7),Tableau3[[Référence]:[FORMATION]],40,FALSE))*60+MINUTE(VLOOKUP(CONCATENATE(VLOOKUP($A$3,XTIME!$A$1:$E$31,3,FALSE),$C7),Tableau3[[Référence]:[FORMATION]],40,FALSE)))/60)) | F7: =IF(ISNA((HOUR(VLOOKUP(CONCATENATE(VLOOKUP($A$3,XTIME!$A$1:$E$31,3,FALSE),$C7),Tableau3[[Référence]:[FORMATION]],41,FALSE))*60+MINUTE(VLOOKUP(CONCATENATE(VLOOKUP($A$3,XTIME!$A$1:$E$31,3,FALSE),$C7),Tableau3[[Référence]:[FORMATION]],41,FALSE)))/60)=TRUE,"",((HOUR(VLOOKUP(CONCATENATE(VLOOKUP($A$3,XTIME!$A$1:$E$31,3,FALSE),$C7),Tableau3[[Référence]:[FORMATION]],41,FALSE))*60+MINUTE(VLOOKUP(CONCATENATE(VLOOKUP($A$3,XTIME!$A$1:$E$31,3,FALSE),$C7),Tableau3[[Référence]:[FORMATION]],41,FALSE)))/60)) | G7: =IF(ISNA((HOUR(VLOOKUP(CONCATENATE(VLOOKUP($A$3,XTIME!$A$1:$E$31,3,FALSE),$C7),Tableau3[[Référence]:[FORMATION]],42,FALSE))*60+MINUTE(VLOOKUP(CONCATENATE(VLOOKUP($A$3,XTIME!$A$1:$E$31,3,FALSE),$C7),Tableau3[[Référence]:[FORMATION]],42,FALSE)))/60)=TRUE,"",((HOUR(VLOOKUP(CONCATENATE(VLOOKUP($A$3,XTIME!$A$1:$E$31,3,FALSE),$C7),Tableau3[[Référence]:[FORMATION]],42,FALSE))*60+MINUTE(VLOOKUP(CONCATENATE(VLOOKUP($A$3,XTIME!$A$1:$E$31,3,FALSE),$C7),Tableau3[[Référence]:[FORMATION]],42,FALSE)))/60)) | H7: =IF(ISNA(VLOOKUP(CONCATENATE(VLOOKUP($A$3,XTIME!$A$1:$E$31,3,FALSE),$C7),Tableau3[[Référence]:[FORMATION]],7,FALSE))=TRUE,"",VLOOKUP(CONCATENATE(VLOOKUP($A$3,XTIME!$A$1:$E$31,3,FALSE),$C7),Tableau3[[Référence]:[FORMATION]],7,FALSE)) | I7: =IFERROR((HOUR(IF(C7="","",MIN(IF((VLOOKUP(CONCATENATE(VLOOKUP($A$3,XTIME!$A$1:$E$31,3,FALSE),C7),'Fiche Horaire'!A:AR,12,FALSE)+VLOOKUP(CONCATENATE(VLOOKUP($A$3,XTIME!$A$1:$E$31,3,FALSE),C7),'Fiche Horaire'!A:AR,33,FALSE))>Feuil2!$C$2,VLOOKUP(CONCATENATE(VLOOKUP($A$3,XTIME!$A$1:$E$31,3,FALSE),C7),'Fiche Horaire'!A:AR,33,FALSE)+VLOOKUP(CONCATENATE(VLOOKUP($A$3,XTIME!$A$1:$E$31,3,FALSE),C7),'Fiche Horaire'!A:AR,12,FALSE)-Feuil2!$C$2,"X"),Feuil2!$C$3)))*60+MINUTE(IF(C7="","",MIN(IF((VLOOKUP(CONCATENATE(VLOOKUP($A$3,XTIME!$A$1:$E$31,3,FALSE),C7),'Fiche Horaire'!A:AR,12,FALSE)+VLOOKUP(CONCATENATE(VLOOKUP($A$3,XTIME!$A$1:$E$31,3,FALSE),C7),'Fiche Horaire'!A:AR,33,FALSE))>Feuil2!$C$2,VLOOKUP(CONCATENATE(VLOOKUP($A$3,XTIME!$A$1:$E$31,3,FALSE),C7),'Fiche Horaire'!A:AR,33,FALSE)+VLOOKUP(CONCATENATE(VLOOKUP($A$3,XTIME!$A$1:$E$31,3,FALSE),C7),'Fiche Horaire'!A:AR,12,FALSE)-Feuil2!$C$2,"X"),Feuil2!$C$3))))/60,"") | J7: =IFERROR((HOUR(IF(C7="","",IF(VLOOKUP(CONCATENATE(VLOOKUP($A$3,XTIME!$A$1:$E$31,3,FALSE),C7),'Fiche Horaire'!A:AR,12,FALSE)="","",IF((VLOOKUP(CONCATENATE(VLOOKUP($A$3,XTIME!$A$1:$E$31,3,FALSE),C7),'Fiche Horaire'!A:AR,12,FALSE))<Feuil2!$D$2,Feuil2!$D$2-VLOOKUP(CONCATENATE(VLOOKUP($A$3,XTIME!$A$1:$E$31,3,FALSE),C7),'Fiche Horaire'!A:AR,12,FALSE),IF((VLOOKUP(CONCATENATE(VLOOKUP($A$3,XTIME!$A$1:$E$31,3,FALSE),C7),'Fiche Horaire'!A:AR,12,FALSE)+VLOOKUP(CONCATENATE(VLOOKUP($A$3,XTIME!$A$1:$E$31,3,FALSE),C7),'Fiche Horaire'!A:AR,33,FALSE))>Feuil2!$D$3,VLOOKUP(CONCATENATE(VLOOKUP($A$3,XTIME!$A$1:$E$31,3,FALSE),C7),'Fiche Horaire'!A:AR,33,FALSE)+VLOOKUP(CONCATENATE(VLOOKUP($A$3,XTIME!$A$1:$E$31,3,FALSE),C7),'Fiche Horaire'!A:AR,12,FALSE)-Feuil2!$D$3,"")))))*60+MINUTE(IF(C7="","",IF(VLOOKUP(CONCATENATE(VLOOKUP($A$3,XTIME!$A$1:$E$31,3,FALSE),C7),'Fiche Horaire'!A:AR,12,FALSE)="","",IF((VLOOKUP(CONCATENATE(VLOOKUP($A$3,XTIME!$A$1:$E$31,3,FALSE),C7),'Fiche Horaire'!A:AR,12,FALSE))<Feuil2!$D$2,Feuil2!$D$2-VLOOKUP(CONCATENATE(VLOOKUP($A$3,XTIME!$A$1:$E$31,3,FALSE),C7),'Fiche Horaire'!A:AR,12,FALSE),IF((VLOOKUP(CONCATENATE(VLOOKUP($A$3,XTIME!$A$1:$E$31,3,FALSE),C7),'Fiche Horaire'!A:AR,12,FALSE)+VLOOKUP(CONCATENATE(VLOOKUP($A$3,XTIME!$A$1:$E$31,3,FALSE),C7),'Fiche Horaire'!A:AR,33,FALSE))>Feuil2!$D$3,VLOOKUP(CONCATENATE(VLOOKUP($A$3,XTIME!$A$1:$E$31,3,FALSE),C7),'Fiche Horaire'!A:AR,33,FALSE)+VLOOKUP(CONCATENATE(VLOOKUP($A$3,XTIME!$A$1:$E$31,3,FALSE),C7),'Fiche Horaire'!A:AR,12,FALSE)-Feuil2!$D$3,""))))))/60,"") | L7: TOTAL HEURES | M7: =D12+E12+G12+H12+F12 -> 5.5
D8: =IF(ISNA((HOUR(VLOOKUP(CONCATENATE(VLOOKUP($A$3,XTIME!$A$1:$E$31,3,FALSE),$C8),Tableau3[[Référence]:[FORMATION]],34,FALSE))*60+MINUTE(VLOOKUP(CONCATENATE(VLOOKUP($A$3,XTIME!$A$1:$E$31,3,FALSE),$C8),Tableau3[[Référence]:[FORMATION]],34,FALSE)))/60)=TRUE,"",((HOUR(VLOOKUP(CONCATENATE(VLOOKUP($A$3,XTIME!$A$1:$E$31,3,FALSE),$C8),Tableau3[[Référence]:[FORMATION]],34,FALSE))*60+MINUTE(VLOOKUP(CONCATENATE(VLOOKUP($A$3,XTIME!$A$1:$E$31,3,FALSE),$C8),Tableau3[[Référence]:[FORMATION]],34,FALSE)))/60)) | E8: =IF(ISNA((HOUR(VLOOKUP(CONCATENATE(VLOOKUP($A$3,XTIME!$A$1:$E$31,3,FALSE),$C8),Tableau3[[Référence]:[FORMATION]],40,FALSE))*60+MINUTE(VLOOKUP(CONCATENATE(VLOOKUP($A$3,XTIME!$A$1:$E$31,3,FALSE),$C8),Tableau3[[Référence]:[FORMATION]],40,FALSE)))/60)=TRUE,"",((HOUR(VLOOKUP(CONCATENATE(VLOOKUP($A$3,XTIME!$A$1:$E$31,3,FALSE),$C8),Tableau3[[Référence]:[FORMATION]],40,FALSE))*60+MINUTE(VLOOKUP(CONCATENATE(VLOOKUP($A$3,XTIME!$A$1:$E$31,3,FALSE),$C8),Tableau3[[Référence]:[FORMATION]],40,FALSE)))/60)) | F8: =IF(ISNA((HOUR(VLOOKUP(CONCATENATE(VLOOKUP($A$3,XTIME!$A$1:$E$31,3,FALSE),$C8),Tableau3[[Référence]:[FORMATION]],41,FALSE))*60+MINUTE(VLOOKUP(CONCATENATE(VLOOKUP($A$3,XTIME!$A$1:$E$31,3,FALSE),$C8),Tableau3[[Référence]:[FORMATION]],41,FALSE)))/60)=TRUE,"",((HOUR(VLOOKUP(CONCATENATE(VLOOKUP($A$3,XTIME!$A$1:$E$31,3,FALSE),$C8),Tableau3[[Référence]:[FORMATION]],41,FALSE))*60+MINUTE(VLOOKUP(CONCATENATE(VLOOKUP($A$3,XTIME!$A$1:$E$31,3,FALSE),$C8),Tableau3[[Référence]:[FORMATION]],41,FALSE)))/60)) | G8: =IF(ISNA((HOUR(VLOOKUP(CONCATENATE(VLOOKUP($A$3,XTIME!$A$1:$E$31,3,FALSE),$C8),Tableau3[[Référence]:[FORMATION]],42,FALSE))*60+MINUTE(VLOOKUP(CONCATENATE(VLOOKUP($A$3,XTIME!$A$1:$E$31,3,FALSE),$C8),Tableau3[[Référence]:[FORMATION]],42,FALSE)))/60)=TRUE,"",((HOUR(VLOOKUP(CONCATENATE(VLOOKUP($A$3,XTIME!$A$1:$E$31,3,FALSE),$C8),Tableau3[[Référence]:[FORMATION]],42,FALSE))*60+MINUTE(VLOOKUP(CONCATENATE(VLOOKUP($A$3,XTIME!$A$1:$E$31,3,FALSE),$C8),Tableau3[[Référence]:[FORMATION]],42,FALSE)))/60)) | H8: =IF(ISNA(VLOOKUP(CONCATENATE(VLOOKUP($A$3,XTIME!$A$1:$E$31,3,FALSE),$C8),Tableau3[[Référence]:[FORMATION]],7,FALSE))=TRUE,"",VLOOKUP(CONCATENATE(VLOOKUP($A$3,XTIME!$A$1:$E$31,3,FALSE),$C8),Tableau3[[Référence]:[FORMATION]],7,FALSE)) | I8: =IFERROR((HOUR(IF(C8="","",MIN(IF((VLOOKUP(CONCATENATE(VLOOKUP($A$3,XTIME!$A$1:$E$31,3,FALSE),C8),'Fiche Horaire'!A:AR,12,FALSE)+VLOOKUP(CONCATENATE(VLOOKUP($A$3,XTIME!$A$1:$E$31,3,FALSE),C8),'Fiche Horaire'!A:AR,33,FALSE))>Feuil2!$C$2,VLOOKUP(CONCATENATE(VLOOKUP($A$3,XTIME!$A$1:$E$31,3,FALSE),C8),'Fiche Horaire'!A:AR,33,FALSE)+VLOOKUP(CONCATENATE(VLOOKUP($A$3,XTIME!$A$1:$E$31,3,FALSE),C8),'Fiche Horaire'!A:AR,12,FALSE)-Feuil2!$C$2,"X"),Feuil2!$C$3)))*60+MINUTE(IF(C8="","",MIN(IF((VLOOKUP(CONCATENATE(VLOOKUP($A$3,XTIME!$A$1:$E$31,3,FALSE),C8),'Fiche Horaire'!A:AR,12,FALSE)+VLOOKUP(CONCATENATE(VLOOKUP($A$3,XTIME!$A$1:$E$31,3,FALSE),C8),'Fiche Horaire'!A:AR,33,FALSE))>Feuil2!$C$2,VLOOKUP(CONCATENATE(VLOOKUP($A$3,XTIME!$A$1:$E$31,3,FALSE),C8),'Fiche Horaire'!A:AR,33,FALSE)+VLOOKUP(CONCATENATE(VLOOKUP($A$3,XTIME!$A$1:$E$31,3,FALSE),C8),'Fiche Horaire'!A:AR,12,FALSE)-Feuil2!$C$2,"X"),Feuil2!$C$3))))/60,"") | J8: =IFERROR((HOUR(IF(C8="","",IF(VLOOKUP(CONCATENATE(VLOOKUP($A$3,XTIME!$A$1:$E$31,3,FALSE),C8),'Fiche Horaire'!A:AR,12,FALSE)="","",IF((VLOOKUP(CONCATENATE(VLOOKUP($A$3,XTIME!$A$1:$E$31,3,FALSE),C8),'Fiche Horaire'!A:AR,12,FALSE))<Feuil2!$D$2,Feuil2!$D$2-VLOOKUP(CONCATENATE(VLOOKUP($A$3,XTIME!$A$1:$E$31,3,FALSE),C8),'Fiche Horaire'!A:AR,12,FALSE),IF((VLOOKUP(CONCATENATE(VLOOKUP($A$3,XTIME!$A$1:$E$31,3,FALSE),C8),'Fiche Horaire'!A:AR,12,FALSE)+VLOOKUP(CONCATENATE(VLOOKUP($A$3,XTIME!$A$1:$E$31,3,FALSE),C8),'Fiche Horaire'!A:AR,33,FALSE))>Feuil2!$D$3,VLOOKUP(CONCATENATE(VLOOKUP($A$3,XTIME!$A$1:$E$31,3,FALSE),C8),'Fiche Horaire'!A:AR,33,FALSE)+VLOOKUP(CONCATENATE(VLOOKUP($A$3,XTIME!$A$1:$E$31,3,FALSE),C8),'Fiche Horaire'!A:AR,12,FALSE)-Feuil2!$D$3,"")))))*60+MINUTE(IF(C8="","",IF(VLOOKUP(CONCATENATE(VLOOKUP($A$3,XTIME!$A$1:$E$31,3,FALSE),C8),'Fiche Horaire'!A:AR,12,FALSE)="","",IF((VLOOKUP(CONCATENATE(VLOOKUP($A$3,XTIME!$A$1:$E$31,3,FALSE),C8),'Fiche Horaire'!A:AR,12,FALSE))<Feuil2!$D$2,Feuil2!$D$2-VLOOKUP(CONCATENATE(VLOOKUP($A$3,XTIME!$A$1:$E$31,3,FALSE),C8),'Fiche Horaire'!A:AR,12,FALSE),IF((VLOOKUP(CONCATENATE(VLOOKUP($A$3,XTIME!$A$1:$E$31,3,FALSE),C8),'Fiche Horaire'!A:AR,12,FALSE)+VLOOKUP(CONCATENATE(VLOOKUP($A$3,XTIME!$A$1:$E$31,3,FALSE),C8),'Fiche Horaire'!A:AR,33,FALSE))>Feuil2!$D$3,VLOOKUP(CONCATENATE(VLOOKUP($A$3,XTIME!$A$1:$E$31,3,FALSE),C8),'Fiche Horaire'!A:AR,33,FALSE)+VLOOKUP(CONCATENATE(VLOOKUP($A$3,XTIME!$A$1:$E$31,3,FALSE),C8),'Fiche Horaire'!A:AR,12,FALSE)-Feuil2!$D$3,""))))))/60,"") | L8: AC HS | M8: =MIN(IF(M7=0,0,IF(M7>=35,M7-35,0)),2) -> 0
D9: =IF(ISNA((HOUR(VLOOKUP(CONCATENATE(VLOOKUP($A$3,XTIME!$A$1:$E$31,3,FALSE),$C9),Tableau3[[Référence]:[FORMATION]],34,FALSE))*60+MINUTE(VLOOKUP(CONCATENATE(VLOOKUP($A$3,XTIME!$A$1:$E$31,3,FALSE),$C9),Tableau3[[Référence]:[FORMATION]],34,FALSE)))/60)=TRUE,"",((HOUR(VLOOKUP(CONCATENATE(VLOOKUP($A$3,XTIME!$A$1:$E$31,3,FALSE),$C9),Tableau3[[Référence]:[FORMATION]],34,FALSE))*60+MINUTE(VLOOKUP(CONCATENATE(VLOOKUP($A$3,XTIME!$A$1:$E$31,3,FALSE),$C9),Tableau3[[Référence]:[FORMATION]],34,FALSE)))/60)) | E9: =IF(ISNA((HOUR(VLOOKUP(CONCATENATE(VLOOKUP($A$3,XTIME!$A$1:$E$31,3,FALSE),$C9),Tableau3[[Référence]:[FORMATION]],40,FALSE))*60+MINUTE(VLOOKUP(CONCATENATE(VLOOKUP($A$3,XTIME!$A$1:$E$31,3,FALSE),$C9),Tableau3[[Référence]:[FORMATION]],40,FALSE)))/60)=TRUE,"",((HOUR(VLOOKUP(CONCATENATE(VLOOKUP($A$3,XTIME!$A$1:$E$31,3,FALSE),$C9),Tableau3[[Référence]:[FORMATION]],40,FALSE))*60+MINUTE(VLOOKUP(CONCATENATE(VLOOKUP($A$3,XTIME!$A$1:$E$31,3,FALSE),$C9),Tableau3[[Référence]:[FORMATION]],40,FALSE)))/60)) | F9: =IF(ISNA((HOUR(VLOOKUP(CONCATENATE(VLOOKUP($A$3,XTIME!$A$1:$E$31,3,FALSE),$C9),Tableau3[[Référence]:[FORMATION]],41,FALSE))*60+MINUTE(VLOOKUP(CONCATENATE(VLOOKUP($A$3,XTIME!$A$1:$E$31,3,FALSE),$C9),Tableau3[[Référence]:[FORMATION]],41,FALSE)))/60)=TRUE,"",((HOUR(VLOOKUP(CONCATENATE(VLOOKUP($A$3,XTIME!$A$1:$E$31,3,FALSE),$C9),Tableau3[[Référence]:[FORMATION]],41,FALSE))*60+MINUTE(VLOOKUP(CONCATENATE(VLOOKUP($A$3,XTIME!$A$1:$E$31,3,FALSE),$C9),Tableau3[[Référence]:[FORMATION]],41,FALSE)))/60)) | G9: =IF(ISNA((HOUR(VLOOKUP(CONCATENATE(VLOOKUP($A$3,XTIME!$A$1:$E$31,3,FALSE),$C9),Tableau3[[Référence]:[FORMATION]],42,FALSE))*60+MINUTE(VLOOKUP(CONCATENATE(VLOOKUP($A$3,XTIME!$A$1:$E$31,3,FALSE),$C9),Tableau3[[Référence]:[FORMATION]],42,FALSE)))/60)=TRUE,"",((HOUR(VLOOKUP(CONCATENATE(VLOOKUP($A$3,XTIME!$A$1:$E$31,3,FALSE),$C9),Tableau3[[Référence]:[FORMATION]],42,FALSE))*60+MINUTE(VLOOKUP(CONCATENATE(VLOOKUP($A$3,XTIME!$A$1:$E$31,3,FALSE),$C9),Tableau3[[Référence]:[FORMATION]],42,FALSE)))/60)) | H9: =IF(ISNA(VLOOKUP(CONCATENATE(VLOOKUP($A$3,XTIME!$A$1:$E$31,3,FALSE),$C9),Tableau3[[Référence]:[FORMATION]],7,FALSE))=TRUE,"",VLOOKUP(CONCATENATE(VLOOKUP($A$3,XTIME!$A$1:$E$31,3,FALSE),$C9),Tableau3[[Référence]:[FORMATION]],7,FALSE)) | I9: =IFERROR((HOUR(IF(C9="","",MIN(IF((VLOOKUP(CONCATENATE(VLOOKUP($A$3,XTIME!$A$1:$E$31,3,FALSE),C9),'Fiche Horaire'!A:AR,12,FALSE)+VLOOKUP(CONCATENATE(VLOOKUP($A$3,XTIME!$A$1:$E$31,3,FALSE),C9),'Fiche Horaire'!A:AR,33,FALSE))>Feuil2!$C$2,VLOOKUP(CONCATENATE(VLOOKUP($A$3,XTIME!$A$1:$E$31,3,FALSE),C9),'Fiche Horaire'!A:AR,33,FALSE)+VLOOKUP(CONCATENATE(VLOOKUP($A$3,XTIME!$A$1:$E$31,3,FALSE),C9),'Fiche Horaire'!A:AR,12,FALSE)-Feuil2!$C$2,"X"),Feuil2!$C$3)))*60+MINUTE(IF(C9="","",MIN(IF((VLOOKUP(CONCATENATE(VLOOKUP($A$3,XTIME!$A$1:$E$31,3,FALSE),C9),'Fiche Horaire'!A:AR,12,FALSE)+VLOOKUP(CONCATENATE(VLOOKUP($A$3,XTIME!$A$1:$E$31,3,FALSE),C9),'Fiche Horaire'!A:AR,33,FALSE))>Feuil2!$C$2,VLOOKUP(CONCATENATE(VLOOKUP($A$3,XTIME!$A$1:$E$31,3,FALSE),C9),'Fiche Horaire'!A:AR,33,FALSE)+VLOOKUP(CONCATENATE(VLOOKUP($A$3,XTIME!$A$1:$E$31,3,FALSE),C9),'Fiche Horaire'!A:AR,12,FALSE)-Feuil2!$C$2,"X"),Feuil2!$C$3))))/60,"") | J9: =IFERROR((HOUR(IF(C9="","",IF(VLOOKUP(CONCATENATE(VLOOKUP($A$3,XTIME!$A$1:$E$31,3,FALSE),C9),'Fiche Horaire'!A:AR,12,FALSE)="","",IF((VLOOKUP(CONCATENATE(VLOOKUP($A$3,XTIME!$A$1:$E$31,3,FALSE),C9),'Fiche Horaire'!A:AR,12,FALSE))<Feuil2!$D$2,Feuil2!$D$2-VLOOKUP(CONCATENATE(VLOOKUP($A$3,XTIME!$A$1:$E$31,3,FALSE),C9),'Fiche Horaire'!A:AR,12,FALSE),IF((VLOOKUP(CONCATENATE(VLOOKUP($A$3,XTIME!$A$1:$E$31,3,FALSE),C9),'Fiche Horaire'!A:AR,12,FALSE)+VLOOKUP(CONCATENATE(VLOOKUP($A$3,XTIME!$A$1:$E$31,3,FALSE),C9),'Fiche Horaire'!A:AR,33,FALSE))>Feuil2!$D$3,VLOOKUP(CONCATENATE(VLOOKUP($A$3,XTIME!$A$1:$E$31,3,FALSE),C9),'Fiche Horaire'!A:AR,33,FALSE)+VLOOKUP(CONCATENATE(VLOOKUP($A$3,XTIME!$A$1:$E$31,3,FALSE),C9),'Fiche Horaire'!A:AR,12,FALSE)-Feuil2!$D$3,"")))))*60+MINUTE(IF(C9="","",IF(VLOOKUP(CONCATENATE(VLOOKUP($A$3,XTIME!$A$1:$E$31,3,FALSE),C9),'Fiche Horaire'!A:AR,12,FALSE)="","",IF((VLOOKUP(CONCATENATE(VLOOKUP($A$3,XTIME!$A$1:$E$31,3,FALSE),C9),'Fiche Horaire'!A:AR,12,FALSE))<Feuil2!$D$2,Feuil2!$D$2-VLOOKUP(CONCATENATE(VLOOKUP($A$3,XTIME!$A$1:$E$31,3,FALSE),C9),'Fiche Horaire'!A:AR,12,FALSE),IF((VLOOKUP(CONCATENATE(VLOOKUP($A$3,XTIME!$A$1:$E$31,3,FALSE),C9),'Fiche Horaire'!A:AR,12,FALSE)+VLOOKUP(CONCATENATE(VLOOKUP($A$3,XTIME!$A$1:$E$31,3,FALSE),C9),'Fiche Horaire'!A:AR,33,FALSE))>Feuil2!$D$3,VLOOKUP(CONCATENATE(VLOOKUP($A$3,XTIME!$A$1:$E$31,3,FALSE),C9),'Fiche Horaire'!A:AR,33,FALSE)+VLOOKUP(CONCATENATE(VLOOKUP($A$3,XTIME!$A$1:$E$31,3,FALSE),C9),'Fiche Horaire'!A:AR,12,FALSE)-Feuil2!$D$3,""))))))/60,"") | L9: HS 125% | M9: =IF(M7<45,M7-$K$4-M12,3) -> 0
D10: =IF(ISNA((HOUR(VLOOKUP(CONCATENATE(VLOOKUP($A$3,XTIME!$A$1:$E$31,3,FALSE),$C10),Tableau3[[Référence]:[FORMATION]],34,FALSE))*60+MINUTE(VLOOKUP(CONCATENATE(VLOOKUP($A$3,XTIME!$A$1:$E$31,3,FALSE),$C10),Tableau3[[Référence]:[FORMATION]],34,FALSE)))/60)=TRUE,"",((HOUR(VLOOKUP(CONCATENATE(VLOOKUP($A$3,XTIME!$A$1:$E$31,3,FALSE),$C10),Tableau3[[Référence]:[FORMATION]],34,FALSE))*60+MINUTE(VLOOKUP(CONCATENATE(VLOOKUP($A$3,XTIME!$A$1:$E$31,3,FALSE),$C10),Tableau3[[Référence]:[FORMATION]],34,FALSE)))/60)) | E10: =IF(ISNA((HOUR(VLOOKUP(CONCATENATE(VLOOKUP($A$3,XTIME!$A$1:$E$31,3,FALSE),$C10),Tableau3[[Référence]:[FORMATION]],40,FALSE))*60+MINUTE(VLOOKUP(CONCATENATE(VLOOKUP($A$3,XTIME!$A$1:$E$31,3,FALSE),$C10),Tableau3[[Référence]:[FORMATION]],40,FALSE)))/60)=TRUE,"",((HOUR(VLOOKUP(CONCATENATE(VLOOKUP($A$3,XTIME!$A$1:$E$31,3,FALSE),$C10),Tableau3[[Référence]:[FORMATION]],40,FALSE))*60+MINUTE(VLOOKUP(CONCATENATE(VLOOKUP($A$3,XTIME!$A$1:$E$31,3,FALSE),$C10),Tableau3[[Référence]:[FORMATION]],40,FALSE)))/60)) | F10: =IF(ISNA((HOUR(VLOOKUP(CONCATENATE(VLOOKUP($A$3,XTIME!$A$1:$E$31,3,FALSE),$C10),Tableau3[[Référence]:[FORMATION]],41,FALSE))*60+MINUTE(VLOOKUP(CONCATENATE(VLOOKUP($A$3,XTIME!$A$1:$E$31,3,FALSE),$C10),Tableau3[[Référence]:[FORMATION]],41,FALSE)))/60)=TRUE,"",((HOUR(VLOOKUP(CONCATENATE(VLOOKUP($A$3,XTIME!$A$1:$E$31,3,FALSE),$C10),Tableau3[[Référence]:[FORMATION]],41,FALSE))*60+MINUTE(VLOOKUP(CONCATENATE(VLOOKUP($A$3,XTIME!$A$1:$E$31,3,FALSE),$C10),Tableau3[[Référence]:[FORMATION]],41,FALSE)))/60)) | G10: =IF(ISNA((HOUR(VLOOKUP(CONCATENATE(VLOOKUP($A$3,XTIME!$A$1:$E$31,3,FALSE),$C10),Tableau3[[Référence]:[FORMATION]],42,FALSE))*60+MINUTE(VLOOKUP(CONCATENATE(VLOOKUP($A$3,XTIME!$A$1:$E$31,3,FALSE),$C10),Tableau3[[Référence]:[FORMATION]],42,FALSE)))/60)=TRUE,"",((HOUR(VLOOKUP(CONCATENATE(VLOOKUP($A$3,XTIME!$A$1:$E$31,3,FALSE),$C10),Tableau3[[Référence]:[FORMATION]],42,FALSE))*60+MINUTE(VLOOKUP(CONCATENATE(VLOOKUP($A$3,XTIME!$A$1:$E$31,3,FALSE),$C10),Tableau3[[Référence]:[FORMATION]],42,FALSE)))/60)) | H10: =IF(ISNA(VLOOKUP(CONCATENATE(VLOOKUP($A$3,XTIME!$A$1:$E$31,3,FALSE),$C10),Tableau3[[Référence]:[FORMATION]],7,FALSE))=TRUE,"",VLOOKUP(CONCATENATE(VLOOKUP($A$3,XTIME!$A$1:$E$31,3,FALSE),$C10),Tableau3[[Référence]:[FORMATION]],7,FALSE)) | I10: =IFERROR((HOUR(IF(C10="","",MIN(IF((VLOOKUP(CONCATENATE(VLOOKUP($A$3,XTIME!$A$1:$E$31,3,FALSE),C10),'Fiche Horaire'!A:AR,12,FALSE)+VLOOKUP(CONCATENATE(VLOOKUP($A$3,XTIME!$A$1:$E$31,3,FALSE),C10),'Fiche Horaire'!A:AR,33,FALSE))>Feuil2!$C$2,VLOOKUP(CONCATENATE(VLOOKUP($A$3,XTIME!$A$1:$E$31,3,FALSE),C10),'Fiche Horaire'!A:AR,33,FALSE)+VLOOKUP(CONCATENATE(VLOOKUP($A$3,XTIME!$A$1:$E$31,3,FALSE),C10),'Fiche Horaire'!A:AR,12,FALSE)-Feuil2!$C$2,"X"),Feuil2!$C$3)))*60+MINUTE(IF(C10="","",MIN(IF((VLOOKUP(CONCATENATE(VLOOKUP($A$3,XTIME!$A$1:$E$31,3,FALSE),C10),'Fiche Horaire'!A:AR,12,FALSE)+VLOOKUP(CONCATENATE(VLOOKUP($A$3,XTIME!$A$1:$E$31,3,FALSE),C10),'Fiche Horaire'!A:AR,33,FALSE))>Feuil2!$C$2,VLOOKUP(CONCATENATE(VLOOKUP($A$3,XTIME!$A$1:$E$31,3,FALSE),C10),'Fiche Horaire'!A:AR,33,FALSE)+VLOOKUP(CONCATENATE(VLOOKUP($A$3,XTIME!$A$1:$E$31,3,FALSE),C10),'Fiche Horaire'!A:AR,12,FALSE)-Feuil2!$C$2,"X"),Feuil2!$C$3))))/60,"") | J10: =IFERROR((HOUR(IF(C10="","",IF(VLOOKUP(CONCATENATE(VLOOKUP($A$3,XTIME!$A$1:$E$31,3,FALSE),C10),'Fiche Horaire'!A:AR,12,FALSE)="","",IF((VLOOKUP(CONCATENATE(VLOOKUP($A$3,XTIME!$A$1:$E$31,3,FALSE),C10),'Fiche Horaire'!A:AR,12,FALSE))<Feuil2!$D$2,Feuil2!$D$2-VLOOKUP(CONCATENATE(VLOOKUP($A$3,XTIME!$A$1:$E$31,3,FALSE),C10),'Fiche Horaire'!A:AR,12,FALSE),IF((VLOOKUP(CONCATENATE(VLOOKUP($A$3,XTIME!$A$1:$E$31,3,FALSE),C10),'Fiche Horaire'!A:AR,12,FALSE)+VLOOKUP(CONCATENATE(VLOOKUP($A$3,XTIME!$A$1:$E$31,3,FALSE),C10),'Fiche Horaire'!A:AR,33,FALSE))>Feuil2!$D$3,VLOOKUP(CONCATENATE(VLOOKUP($A$3,XTIME!$A$1:$E$31,3,FALSE),C10),'Fiche Horaire'!A:AR,33,FALSE)+VLOOKUP(CONCATENATE(VLOOKUP($A$3,XTIME!$A$1:$E$31,3,FALSE),C10),'Fiche Horaire'!A:AR,12,FALSE)-Feuil2!$D$3,"")))))*60+MINUTE(IF(C10="","",IF(VLOOKUP(CONCATENATE(VLOOKUP($A$3,XTIME!$A$1:$E$31,3,FALSE),C10),'Fiche Horaire'!A:AR,12,FALSE)="","",IF((VLOOKUP(CONCATENATE(VLOOKUP($A$3,XTIME!$A$1:$E$31,3,FALSE),C10),'Fiche Horaire'!A:AR,12,FALSE))<Feuil2!$D$2,Feuil2!$D$2-VLOOKUP(CONCATENATE(VLOOKUP($A$3,XTIME!$A$1:$E$31,3,FALSE),C10),'Fiche Horaire'!A:AR,12,FALSE),IF((VLOOKUP(CONCATENATE(VLOOKUP($A$3,XTIME!$A$1:$E$31,3,FALSE),C10),'Fiche Horaire'!A:AR,12,FALSE)+VLOOKUP(CONCATENATE(VLOOKUP($A$3,XTIME!$A$1:$E$31,3,FALSE),C10),'Fiche Horaire'!A:AR,33,FALSE))>Feuil2!$D$3,VLOOKUP(CONCATENATE(VLOOKUP($A$3,XTIME!$A$1:$E$31,3,FALSE),C10),'Fiche Horaire'!A:AR,33,FALSE)+VLOOKUP(CONCATENATE(VLOOKUP($A$3,XTIME!$A$1:$E$31,3,FALSE),C10),'Fiche Horaire'!A:AR,12,FALSE)-Feuil2!$D$3,""))))))/60,"") | L10: HS 150% | M10: =IF(M7>45,M7-$K$4-M12-M9,0) -> 0
C11: 43344 | D11: =IF(ISNA((HOUR(VLOOKUP(CONCATENATE(VLOOKUP($A$3,XTIME!$A$1:$E$31,3,FALSE),$C11),Tableau3[[Référence]:[FORMATION]],33,FALSE))*60+MINUTE(VLOOKUP(CONCATENATE(VLOOKUP($A$3,XTIME!$A$1:$E$31,3,FALSE),$C11),Tableau3[[Référence]:[FORMATION]],33,FALSE)))/60)=TRUE,"",((HOUR(VLOOKUP(CONCATENATE(VLOOKUP($A$3,XTIME!$A$1:$E$31,3,FALSE),$C11),Tableau3[[Référence]:[FORMATION]],33,FALSE))*60+MINUTE(VLOOKUP(CONCATENATE(VLOOKUP($A$3,XTIME!$A$1:$E$31,3,FALSE),$C11),Tableau3[[Référence]:[FORMATION]],33,FALSE)))/60)) -> 5.5 | E11: =IF(ISNA((HOUR(VLOOKUP(CONCATENATE(VLOOKUP($A$3,XTIME!$A$1:$E$31,3,FALSE),$C11),Tableau3[[Référence]:[FORMATION]],40,FALSE))*60+MINUTE(VLOOKUP(CONCATENATE(VLOOKUP($A$3,XTIME!$A$1:$E$31,3,FALSE),$C11),Tableau3[[Référence]:[FORMATION]],42,FALSE)))/60)=TRUE,"",((HOUR(VLOOKUP(CONCATENATE(VLOOKUP($A$3,XTIME!$A$1:$E$31,3,FALSE),$C11),Tableau3[[Référence]:[FORMATION]],40,FALSE))*60+MINUTE(VLOOKUP(CONCATENATE(VLOOKUP($A$3,XTIME!$A$1:$E$31,3,FALSE),$C11),Tableau3[[Référence]:[FORMATION]],42,FALSE)))/60)) -> 0 | F11: =IF(ISNA((HOUR(VLOOKUP(CONCATENATE(VLOOKUP($A$3,XTIME!$A$1:$E$31,3,FALSE),$C11),Tableau3[[Référence]:[FORMATION]],41,FALSE))*60+MINUTE(VLOOKUP(CONCATENATE(VLOOKUP($A$3,XTIME!$A$1:$E$31,3,FALSE),$C11),Tableau3[[Référence]:[FORMATION]],43,FALSE)))/60)=TRUE,"",((HOUR(VLOOKUP(CONCATENATE(VLOOKUP($A$3,XTIME!$A$1:$E$31,3,FALSE),$C11),Tableau3[[Référence]:[FORMATION]],41,FALSE))*60+MINUTE(VLOOKUP(CONCATENATE(VLOOKUP($A$3,XTIME!$A$1:$E$31,3,FALSE),$C11),Tableau3[[Référence]:[FORMATION]],43,FALSE)))/60)) -> 0 | G11: =IF(ISNA((HOUR(VLOOKUP(CONCATENATE(VLOOKUP($A$3,XTIME!$A$1:$E$31,3,FALSE),$C11),Tableau3[[Référence]:[FORMATION]],42,FALSE))*60+MINUTE(VLOOKUP(CONCATENATE(VLOOKUP($A$3,XTIME!$A$1:$E$31,3,FALSE),$C11),Tableau3[[Référence]:[FORMATION]],42,FALSE)))/60)=TRUE,"",((HOUR(VLOOKUP(CONCATENATE(VLOOKUP($A$3,XTIME!$A$1:$E$31,3,FALSE),$C11),Tableau3[[Référence]:[FORMATION]],42,FALSE))*60+MINUTE(VLOOKUP(CONCATENATE(VLOOKUP($A$3,XTIME!$A$1:$E$31,3,FALSE),$C11),Tableau3[[Référence]:[FORMATION]],42,FALSE)))/60)) -> 0 | H11: =IF(ISNA(VLOOKUP(CONCATENATE(VLOOKUP($A$3,XTIME!$A$1:$E$31,3,FALSE),$C11),Tableau3[[Référence]:[FORMATION]],7,FALSE))=TRUE,"",VLOOKUP(CONCATENATE(VLOOKUP($A$3,XTIME!$A$1:$E$31,3,FALSE),$C11),Tableau3[[Référence]:[FORMATION]],7,FALSE)) -> 0 | I11: =IFERROR((HOUR(IF(C11="","",MIN(IF((VLOOKUP(CONCATENATE(VLOOKUP($A$3,XTIME!$A$1:$E$31,3,FALSE),C11),'Fiche Horaire'!A:AR,12,FALSE)+VLOOKUP(CONCATENATE(VLOOKUP($A$3,XTIME!$A$1:$E$31,3,FALSE),C11),'Fiche Horaire'!A:AR,33,FALSE))>Feuil2!$C$2,VLOOKUP(CONCATENATE(VLOOKUP($A$3,XTIME!$A$1:$E$31,3,FALSE),C11),'Fiche Horaire'!A:AR,33,FALSE)+VLOOKUP(CONCATENATE(VLOOKUP($A$3,XTIME!$A$1:$E$31,3,FALSE),C11),'Fiche Horaire'!A:AR,12,FALSE)-Feuil2!$C$2,"X"),Feuil2!$C$3)))*60+MINUTE(IF(C11="","",MIN(IF((VLOOKUP(CONCATENATE(VLOOKUP($A$3,XTIME!$A$1:$E$31,3,FALSE),C11),'Fiche Horaire'!A:AR,12,FALSE)+VLOOKUP(CONCATENATE(VLOOKUP($A$3,XTIME!$A$1:$E$31,3,FALSE),C11),'Fiche Horaire'!A:AR,33,FALSE))>Feuil2!$C$2,VLOOKUP(CONCATENATE(VLOOKUP($A$3,XTIME!$A$1:$E$31,3,FALSE),C11),'Fiche Horaire'!A:AR,33,FALSE)+VLOOKUP(CONCATENATE(VLOOKUP($A$3,XTIME!$A$1:$E$31,3,FALSE),C11),'Fiche Horaire'!A:AR,12,FALSE)-Feuil2!$C$2,"X"),Feuil2!$C$3))))/60,"") | J11: =IFERROR((HOUR(IF(C11="","",IF(VLOOKUP(CONCATENATE(VLOOKUP($A$3,XTIME!$A$1:$E$31,3,FALSE),C11),'Fiche Horaire'!A:AR,12,FALSE)="","",IF((VLOOKUP(CONCATENATE(VLOOKUP($A$3,XTIME!$A$1:$E$31,3,FALSE),C11),'Fiche Horaire'!A:AR,12,FALSE))<Feuil2!$D$2,Feuil2!$D$2-VLOOKUP(CONCATENATE(VLOOKUP($A$3,XTIME!$A$1:$E$31,3,FALSE),C11),'Fiche Horaire'!A:AR,12,FALSE),IF((VLOOKUP(CONCATENATE(VLOOKUP($A$3,XTIME!$A$1:$E$31,3,FALSE),C11),'Fiche Horaire'!A:AR,12,FALSE)+VLOOKUP(CONCATENATE(VLOOKUP($A$3,XTIME!$A$1:$E$31,3,FALSE),C11),'Fiche Horaire'!A:AR,33,FALSE))>Feuil2!$D$3,VLOOKUP(CONCATENATE(VLOOKUP($A$3,XTIME!$A$1:$E$31,3,FALSE),C11),'Fiche Horaire'!A:AR,33,FALSE)+VLOOKUP(CONCATENATE(VLOOKUP($A$3,XTIME!$A$1:$E$31,3,FALSE),C11),'Fiche Horaire'!A:AR,12,FALSE)-Feuil2!$D$3,"")))))*60+MINUTE(IF(C11="","",IF(VLOOKUP(CONCATENATE(VLOOKUP($A$3,XTIME!$A$1:$E$31,3,FALSE),C11),'Fiche Horaire'!A:AR,12,FALSE)="","",IF((VLOOKUP(CONCATENATE(VLOOKUP($A$3,XTIME!$A$1:$E$31,3,FALSE),C11),'Fiche Horaire'!A:AR,12,FALSE))<Feuil2!$D$2,Feuil2!$D$2-VLOOKUP(CONCATENATE(VLOOKUP($A$3,XTIME!$A$1:$E$31,3,FALSE),C11),'Fiche Horaire'!A:AR,12,FALSE),IF((VLOOKUP(CONCATENATE(VLOOKUP($A$3,XTIME!$A$1:$E$31,3,FALSE),C11),'Fiche Horaire'!A:AR,12,FALSE)+VLOOKUP(CONCATENATE(VLOOKUP($A$3,XTIME!$A$1:$E$31,3,FALSE),C11),'Fiche Horaire'!A:AR,33,FALSE))>Feuil2!$D$3,VLOOKUP(CONCATENATE(VLOOKUP($A$3,XTIME!$A$1:$E$31,3,FALSE),C11),'Fiche Horaire'!A:AR,33,FALSE)+VLOOKUP(CONCATENATE(VLOOKUP($A$3,XTIME!$A$1:$E$31,3,FALSE),C11),'Fiche Horaire'!A:AR,12,FALSE)-Feuil2!$D$3,""))))))/60,"") -> 2 | L11: H TUNNEL | M11: =MIN(IF(M7=0,0,IF(M7>=37,M7-37,IF(M7<=35,M7-35,0))),5) -> -29.5
C12: TOTAL | D12: =SUM(D6:D11) -> 5.5 | E12: =SUM(E6:E11) -> 0 | F12: =SUM(F6:F11) -> 0 | G12: =SUM(G6:G11) -> 0 | H12: =IF(COUNTIF(H6:H11,0)>0,0,IF(COUNTBLANK(H6:H11)=6,0,(6-COUNTBLANK(H6:H11)-COUNTIF(H6:H11,"REPOS"))*$K4/5)) -> 0 | I12: =SUM(I6:I11) -> 0 | J12: =SUM(J6:J11) -> 2 | L12: MODUL. | M12: =IF(M7<42,M7-$K$4,7) -> -37.5
B13: =CONCATENATE("SEMAINE"," ",WEEKNUM(C13)) -> SEMAINE 36 | C13: =C11+2 -> 43346 | D13: =IF(ISNA((HOUR(VLOOKUP(CONCATENATE(VLOOKUP($A$3,XTIME!$A$1:$E$31,3,FALSE),$C13),Tableau3[[Référence]:[FORMATION]],34,FALSE))*60+MINUTE(VLOOKUP(CONCATENATE(VLOOKUP($A$3,XTIME!$A$1:$E$31,3,FALSE),$C13),Tableau3[[Référence]:[FORMATION]],34,FALSE)))/60)=TRUE,"",((HOUR(VLOOKUP(CONCATENATE(VLOOKUP($A$3,XTIME!$A$1:$E$31,3,FALSE),$C13),Tableau3[[Référence]:[FORMATION]],34,FALSE))*60+MINUTE(VLOOKUP(CONCATENATE(VLOOKUP($A$3,XTIME!$A$1:$E$31,3,FALSE),$C13),Tableau3[[Référence]:[FORMATION]],34,FALSE)))/60)) | E13: =IF(ISNA((HOUR(VLOOKUP(CONCATENATE(VLOOKUP($A$3,XTIME!$A$1:$E$31,3,FALSE),$C13),Tableau3[[Référence]:[FORMATION]],40,FALSE))*60+MINUTE(VLOOKUP(CONCATENATE(VLOOKUP($A$3,XTIME!$A$1:$E$31,3,FALSE),$C13),Tableau3[[Référence]:[FORMATION]],40,FALSE)))/60)=TRUE,"",((HOUR(VLOOKUP(CONCATENATE(VLOOKUP($A$3,XTIME!$A$1:$E$31,3,FALSE),$C13),Tableau3[[Référence]:[FORMATION]],40,FALSE))*60+MINUTE(VLOOKUP(CONCATENATE(VLOOKUP($A$3,XTIME!$A$1:$E$31,3,FALSE),$C13),Tableau3[[Référence]:[FORMATION]],40,FALSE)))/60)) | F13: =IF(ISNA((HOUR(VLOOKUP(CONCATENATE(VLOOKUP($A$3,XTIME!$A$1:$E$31,3,FALSE),$C13),Tableau3[[Référence]:[FORMATION]],41,FALSE))*60+MINUTE(VLOOKUP(CONCATENATE(VLOOKUP($A$3,XTIME!$A$1:$E$31,3,FALSE),$C13),Tableau3[[Référence]:[FORMATION]],41,FALSE)))/60)=TRUE,"",((HOUR(VLOOKUP(CONCATENATE(VLOOKUP($A$3,XTIME!$A$1:$E$31,3,FALSE),$C13),Tableau3[[Référence]:[FORMATION]],41,FALSE))*60+MINUTE(VLOOKUP(CONCATENATE(VLOOKUP($A$3,XTIME!$A$1:$E$31,3,FALSE),$C13),Tableau3[[Référence]:[FORMATION]],41,FALSE)))/60)) | G13: =IF(ISNA((HOUR(VLOOKUP(CONCATENATE(VLOOKUP($A$3,XTIME!$A$1:$E$31,3,FALSE),$C13),Tableau3[[Référence]:[FORMATION]],42,FALSE))*60+MINUTE(VLOOKUP(CONCATENATE(VLOOKUP($A$3,XTIME!$A$1:$E$31,3,FALSE),$C13),Tableau3[[Référence]:[FORMATION]],42,FALSE)))/60)=TRUE,"",((HOUR(VLOOKUP(CONCATENATE(VLOOKUP($A$3,XTIME!$A$1:$E$31,3,FALSE),$C13),Tableau3[[Référence]:[FORMATION]],42,FALSE))*60+MINUTE(VLOOKUP(CONCATENATE(VLOOKUP($A$3,XTIME!$A$1:$E$31,3,FALSE),$C13),Tableau3[[Référence]:[FORMATION]],42,FALSE)))/60)) | H13: =IF(ISNA(VLOOKUP(CONCATENATE(VLOOKUP($A$3,XTIME!$A$1:$E$31,3,FALSE),$C13),Tableau3[[Référence]:[FORMATION]],7,FALSE))=TRUE,"",VLOOKUP(CONCATENATE(VLOOKUP($A$3,XTIME!$A$1:$E$31,3,FALSE),$C13),Tableau3[[Référence]:[FORMATION]],7,FALSE)) | I13: =IFERROR((HOUR(IF(C13="","",MIN(IF((VLOOKUP(CONCATENATE(VLOOKUP($A$3,XTIME!$A$1:$E$31,3,FALSE),C13),'Fiche Horaire'!A:AR,12,FALSE)+VLOOKUP(CONCATENATE(VLOOKUP($A$3,XTIME!$A$1:$E$31,3,FALSE),C13),'Fiche Horaire'!A:AR,33,FALSE))>Feuil2!$C$2,VLOOKUP(CONCATENATE(VLOOKUP($A$3,XTIME!$A$1:$E$31,3,FALSE),C13),'Fiche Horaire'!A:AR,33,FALSE)+VLOOKUP(CONCATENATE(VLOOKUP($A$3,XTIME!$A$1:$E$31,3,FALSE),C13),'Fiche Horaire'!A:AR,12,FALSE)-Feuil2!$C$2,"X"),Feuil2!$C$3)))*60+MINUTE(IF(C13="","",MIN(IF((VLOOKUP(CONCATENATE(VLOOKUP($A$3,XTIME!$A$1:$E$31,3,FALSE),C13),'Fiche Horaire'!A:AR,12,FALSE)+VLOOKUP(CONCATENATE(VLOOKUP($A$3,XTIME!$A$1:$E$31,3,FALSE),C13),'Fiche Horaire'!A:AR,33,FALSE))>Feuil2!$C$2,VLOOKUP(CONCATENATE(VLOOKUP($A$3,XTIME!$A$1:$E$31,3,FALSE),C13),'Fiche Horaire'!A:AR,33,FALSE)+VLOOKUP(CONCATENATE(VLOOKUP($A$3,XTIME!$A$1:$E$31,3,FALSE),C13),'Fiche Horaire'!A:AR,12,FALSE)-Feuil2!$C$2,"X"),Feuil2!$C$3))))/60,"") | J13: =IFERROR((HOUR(IF(C13="","",IF(VLOOKUP(CONCATENATE(VLOOKUP($A$3,XTIME!$A$1:$E$31,3,FALSE),C13),'Fiche Horaire'!A:AR,12,FALSE)="","",IF((VLOOKUP(CONCATENATE(VLOOKUP($A$3,XTIME!$A$1:$E$31,3,FALSE),C13),'Fiche Horaire'!A:AR,12,FALSE))<Feuil2!$D$2,Feuil2!$D$2-VLOOKUP(CONCATENATE(VLOOKUP($A$3,XTIME!$A$1:$E$31,3,FALSE),C13),'Fiche Horaire'!A:AR,12,FALSE),IF((VLOOKUP(CONCATENATE(VLOOKUP($A$3,XTIME!$A$1:$E$31,3,FALSE),C13),'Fiche Horaire'!A:AR,12,FALSE)+VLOOKUP(CONCATENATE(VLOOKUP($A$3,XTIME!$A$1:$E$31,3,FALSE),C13),'Fiche Horaire'!A:AR,33,FALSE))>Feuil2!$D$3,VLOOKUP(CONCATENATE(VLOOKUP($A$3,XTIME!$A$1:$E$31,3,FALSE),C13),'Fiche Horaire'!A:AR,33,FALSE)+VLOOKUP(CONCATENATE(VLOOKUP($A$3,XTIME!$A$1:$E$31,3,FALSE),C13),'Fiche Horaire'!A:AR,12,FALSE)-Feuil2!$D$3,"")))))*60+MINUTE(IF(C13="","",IF(VLOOKUP(CONCATENATE(VLOOKUP($A$3,XTIME!$A$1:$E$31,3,FALSE),C13),'Fiche Horaire'!A:AR,12,FALSE)="","",IF((VLOOKUP(CONCATENATE(VLOOKUP($A$3,XTIME!$A$1:$E$31,3,FALSE),C13),'Fiche Horaire'!A:AR,12,FALSE))<Feuil2!$D$2,Feuil2!$D$2-VLOOKUP(CONCATENATE(VLOOKUP($A$3,XTIME!$A$1:$E$31,3,FALSE),C13),'Fiche Horaire'!A:AR,12,FALSE),IF((VLOOKUP(CONCATENATE(VLOOKUP($A$3,XTIME!$A$1:$E$31,3,FALSE),C13),'Fiche Horaire'!A:AR,12,FALSE)+VLOOKUP(CONCATENATE(VLOOKUP($A$3,XTIME!$A$1:$E$31,3,FALSE),C13),'Fiche Horaire'!A:AR,33,FALSE))>Feuil2!$D$3,VLOOKUP(CONCATENATE(VLOOKUP($A$3,XTIME!$A$1:$E$31,3,FALSE),C13),'Fiche Horaire'!A:AR,33,FALSE)+VLOOKUP(CONCATENATE(VLOOKUP($A$3,XTIME!$A$1:$E$31,3,FALSE),C13),'Fiche Horaire'!A:AR,12,FALSE)-Feuil2!$D$3,""))))))/60,"") | L13: =B13 -> SEMAINE 36
C14: =C13+1 -> 43347 | D14: =IF(ISNA((HOUR(VLOOKUP(CONCATENATE(VLOOKUP($A$3,XTIME!$A$1:$E$31,3,FALSE),$C14),Tableau3[[Référence]:[FORMATION]],34,FALSE))*60+MINUTE(VLOOKUP(CONCATENATE(VLOOKUP($A$3,XTIME!$A$1:$E$31,3,FALSE),$C14),Tableau3[[Référence]:[FORMATION]],34,FALSE)))/60)=TRUE,"",((HOUR(VLOOKUP(CONCATENATE(VLOOKUP($A$3,XTIME!$A$1:$E$31,3,FALSE),$C14),Tableau3[[Référence]:[FORMATION]],34,FALSE))*60+MINUTE(VLOOKUP(CONCATENATE(VLOOKUP($A$3,XTIME!$A$1:$E$31,3,FALSE),$C14),Tableau3[[Référence]:[FORMATION]],34,FALSE)))/60)) | E14: =IF(ISNA((HOUR(VLOOKUP(CONCATENATE(VLOOKUP($A$3,XTIME!$A$1:$E$31,3,FALSE),$C14),Tableau3[[Référence]:[FORMATION]],40,FALSE))*60+MINUTE(VLOOKUP(CONCATENATE(VLOOKUP($A$3,XTIME!$A$1:$E$31,3,FALSE),$C14),Tableau3[[Référence]:[FORMATION]],40,FALSE)))/60)=TRUE,"",((HOUR(VLOOKUP(CONCATENATE(VLOOKUP($A$3,XTIME!$A$1:$E$31,3,FALSE),$C14),Tableau3[[Référence]:[FORMATION]],40,FALSE))*60+MINUTE(VLOOKUP(CONCATENATE(VLOOKUP($A$3,XTIME!$A$1:$E$31,3,FALSE),$C14),Tableau3[[Référence]:[FORMATION]],40,FALSE)))/60)) | F14: =IF(ISNA((HOUR(VLOOKUP(CONCATENATE(VLOOKUP($A$3,XTIME!$A$1:$E$31,3,FALSE),$C14),Tableau3[[Référence]:[FORMATION]],41,FALSE))*60+MINUTE(VLOOKUP(CONCATENATE(VLOOKUP($A$3,XTIME!$A$1:$E$31,3,FALSE),$C14),Tableau3[[Référence]:[FORMATION]],41,FALSE)))/60)=TRUE,"",((HOUR(VLOOKUP(CONCATENATE(VLOOKUP($A$3,XTIME!$A$1:$E$31,3,FALSE),$C14),Tableau3[[Référence]:[FORMATION]],41,FALSE))*60+MINUTE(VLOOKUP(CONCATENATE(VLOOKUP($A$3,XTIME!$A$1:$E$31,3,FALSE),$C14),Tableau3[[Référence]:[FORMATION]],41,FALSE)))/60)) | G14: =IF(ISNA((HOUR(VLOOKUP(CONCATENATE(VLOOKUP($A$3,XTIME!$A$1:$E$31,3,FALSE),$C14),Tableau3[[Référence]:[FORMATION]],42,FALSE))*60+MINUTE(VLOOKUP(CONCATENATE(VLOOKUP($A$3,XTIME!$A$1:$E$31,3,FALSE),$C14),Tableau3[[Référence]:[FORMATION]],42,FALSE)))/60)=TRUE,"",((HOUR(VLOOKUP(CONCATENATE(VLOOKUP($A$3,XTIME!$A$1:$E$31,3,FALSE),$C14),Tableau3[[Référence]:[FORMATION]],42,FALSE))*60+MINUTE(VLOOKUP(CONCATENATE(VLOOKUP($A$3,XTIME!$A$1:$E$31,3,FALSE),$C14),Tableau3[[Référence]:[FORMATION]],42,FALSE)))/60)) | H14: =IF(ISNA(VLOOKUP(CONCATENATE(VLOOKUP($A$3,XTIME!$A$1:$E$31,3,FALSE),$C14),Tableau3[[Référence]:[FORMATION]],7,FALSE))=TRUE,"",VLOOKUP(CONCATENATE(VLOOKUP($A$3,XTIME!$A$1:$E$31,3,FALSE),$C14),Tableau3[[Référence]:[FORMATION]],7,FALSE)) | I14: =IFERROR((HOUR(IF(C14="","",MIN(IF((VLOOKUP(CONCATENATE(VLOOKUP($A$3,XTIME!$A$1:$E$31,3,FALSE),C14),'Fiche Horaire'!A:AR,12,FALSE)+VLOOKUP(CONCATENATE(VLOOKUP($A$3,XTIME!$A$1:$E$31,3,FALSE),C14),'Fiche Horaire'!A:AR,33,FALSE))>Feuil2!$C$2,VLOOKUP(CONCATENATE(VLOOKUP($A$3,XTIME!$A$1:$E$31,3,FALSE),C14),'Fiche Horaire'!A:AR,33,FALSE)+VLOOKUP(CONCATENATE(VLOOKUP($A$3,XTIME!$A$1:$E$31,3,FALSE),C14),'Fiche Horaire'!A:AR,12,FALSE)-Feuil2!$C$2,"X"),Feuil2!$C$3)))*60+MINUTE(IF(C14="","",MIN(IF((VLOOKUP(CONCATENATE(VLOOKUP($A$3,XTIME!$A$1:$E$31,3,FALSE),C14),'Fiche Horaire'!A:AR,12,FALSE)+VLOOKUP(CONCATENATE(VLOOKUP($A$3,XTIME!$A$1:$E$31,3,FALSE),C14),'Fiche Horaire'!A:AR,33,FALSE))>Feuil2!$C$2,VLOOKUP(CONCATENATE(VLOOKUP($A$3,XTIME!$A$1:$E$31,3,FALSE),C14),'Fiche Horaire'!A:AR,33,FALSE)+VLOOKUP(CONCATENATE(VLOOKUP($A$3,XTIME!$A$1:$E$31,3,FALSE),C14),'Fiche Horaire'!A:AR,12,FALSE)-Feuil2!$C$2,"X"),Feuil2!$C$3))))/60,"") | J14: =IFERROR((HOUR(IF(C14="","",IF(VLOOKUP(CONCATENATE(VLOOKUP($A$3,XTIME!$A$1:$E$31,3,FALSE),C14),'Fiche Horaire'!A:AR,12,FALSE)="","",IF((VLOOKUP(CONCATENATE(VLOOKUP($A$3,XTIME!$A$1:$E$31,3,FALSE),C14),'Fiche Horaire'!A:AR,12,FALSE))<Feuil2!$D$2,Feuil2!$D$2-VLOOKUP(CONCATENATE(VLOOKUP($A$3,XTIME!$A$1:$E$31,3,FALSE),C14),'Fiche Horaire'!A:AR,12,FALSE),IF((VLOOKUP(CONCATENATE(VLOOKUP($A$3,XTIME!$A$1:$E$31,3,FALSE),C14),'Fiche Horaire'!A:AR,12,FALSE)+VLOOKUP(CONCATENATE(VLOOKUP($A$3,XTIME!$A$1:$E$31,3,FALSE),C14),'Fiche Horaire'!A:AR,33,FALSE))>Feuil2!$D$3,VLOOKUP(CONCATENATE(VLOOKUP($A$3,XTIME!$A$1:$E$31,3,FALSE),C14),'Fiche Horaire'!A:AR,33,FALSE)+VLOOKUP(CONCATENATE(VLOOKUP($A$3,XTIME!$A$1:$E$31,3,FALSE),C14),'Fiche Horaire'!A:AR,12,FALSE)-Feuil2!$D$3,"")))))*60+MINUTE(IF(C14="","",IF(VLOOKUP(CONCATENATE(VLOOKUP($A$3,XTIME!$A$1:$E$31,3,FALSE),C14),'Fiche Horaire'!A:AR,12,FALSE)="","",IF((VLOOKUP(CONCATENATE(VLOOKUP($A$3,XTIME!$A$1:$E$31,3,FALSE),C14),'Fiche Horaire'!A:AR,12,FALSE))<Feuil2!$D$2,Feuil2!$D$2-VLOOKUP(CONCATENATE(VLOOKUP($A$3,XTIME!$A$1:$E$31,3,FALSE),C14),'Fiche Horaire'!A:AR,12,FALSE),IF((VLOOKUP(CONCATENATE(VLOOKUP($A$3,XTIME!$A$1:$E$31,3,FALSE),C14),'Fiche Horaire'!A:AR,12,FALSE)+VLOOKUP(CONCATENATE(VLOOKUP($A$3,XTIME!$A$1:$E$31,3,FALSE),C14),'Fiche Horaire'!A:AR,33,FALSE))>Feuil2!$D$3,VLOOKUP(CONCATENATE(VLOOKUP($A$3,XTIME!$A$1:$E$31,3,FALSE),C14),'Fiche Horaire'!A:AR,33,FALSE)+VLOOKUP(CONCATENATE(VLOOKUP($A$3,XTIME!$A$1:$E$31,3,FALSE),C14),'Fiche Horaire'!A:AR,12,FALSE)-Feuil2!$D$3,""))))))/60,"") | L14: TOTAL HEURES | M14: =D19+E19+G19+H19+F19 -> 0
C15: =C14+1 -> 43348 | D15: =IF(ISNA((HOUR(VLOOKUP(CONCATENATE(VLOOKUP($A$3,XTIME!$A$1:$E$31,3,FALSE),$C15),Tableau3[[Référence]:[FORMATION]],34,FALSE))*60+MINUTE(VLOOKUP(CONCATENATE(VLOOKUP($A$3,XTIME!$A$1:$E$31,3,FALSE),$C15),Tableau3[[Référence]:[FORMATION]],34,FALSE)))/60)=TRUE,"",((HOUR(VLOOKUP(CONCATENATE(VLOOKUP($A$3,XTIME!$A$1:$E$31,3,FALSE),$C15),Tableau3[[Référence]:[FORMATION]],34,FALSE))*60+MINUTE(VLOOKUP(CONCATENATE(VLOOKUP($A$3,XTIME!$A$1:$E$31,3,FALSE),$C15),Tableau3[[Référence]:[FORMATION]],34,FALSE)))/60)) | E15: =IF(ISNA((HOUR(VLOOKUP(CONCATENATE(VLOOKUP($A$3,XTIME!$A$1:$E$31,3,FALSE),$C15),Tableau3[[Référence]:[FORMATION]],40,FALSE))*60+MINUTE(VLOOKUP(CONCATENATE(VLOOKUP($A$3,XTIME!$A$1:$E$31,3,FALSE),$C15),Tableau3[[Référence]:[FORMATION]],40,FALSE)))/60)=TRUE,"",((HOUR(VLOOKUP(CONCATENATE(VLOOKUP($A$3,XTIME!$A$1:$E$31,3,FALSE),$C15),Tableau3[[Référence]:[FORMATION]],40,FALSE))*60+MINUTE(VLOOKUP(CONCATENATE(VLOOKUP($A$3,XTIME!$A$1:$E$31,3,FALSE),$C15),Tableau3[[Référence]:[FORMATION]],40,FALSE)))/60)) | F15: =IF(ISNA((HOUR(VLOOKUP(CONCATENATE(VLOOKUP($A$3,XTIME!$A$1:$E$31,3,FALSE),$C15),Tableau3[[Référence]:[FORMATION]],41,FALSE))*60+MINUTE(VLOOKUP(CONCATENATE(VLOOKUP($A$3,XTIME!$A$1:$E$31,3,FALSE),$C15),Tableau3[[Référence]:[FORMATION]],41,FALSE)))/60)=TRUE,"",((HOUR(VLOOKUP(CONCATENATE(VLOOKUP($A$3,XTIME!$A$1:$E$31,3,FALSE),$C15),Tableau3[[Référence]:[FORMATION]],41,FALSE))*60+MINUTE(VLOOKUP(CONCATENATE(VLOOKUP($A$3,XTIME!$A$1:$E$31,3,FALSE),$C15),Tableau3[[Référence]:[FORMATION]],41,FALSE)))/60)) | G15: =IF(ISNA((HOUR(VLOOKUP(CONCATENATE(VLOOKUP($A$3,XTIME!$A$1:$E$31,3,FALSE),$C15),Tableau3[[Référence]:[FORMATION]],42,FALSE))*60+MINUTE(VLOOKUP(CONCATENATE(VLOOKUP($A$3,XTIME!$A$1:$E$31,3,FALSE),$C15),Tableau3[[Référence]:[FORMATION]],42,FALSE)))/60)=TRUE,"",((HOUR(VLOOKUP(CONCATENATE(VLOOKUP($A$3,XTIME!$A$1:$E$31,3,FALSE),$C15),Tableau3[[Référence]:[FORMATION]],42,FALSE))*60+MINUTE(VLOOKUP(CONCATENATE(VLOOKUP($A$3,XTIME!$A$1:$E$31,3,FALSE),$C15),Tableau3[[Référence]:[FORMATION]],42,FALSE)))/60)) | H15: =IF(ISNA(VLOOKUP(CONCATENATE(VLOOKUP($A$3,XTIME!$A$1:$E$31,3,FALSE),$C15),Tableau3[[Référence]:[FORMATION]],7,FALSE))=TRUE,"",VLOOKUP(CONCATENATE(VLOOKUP($A$3,XTIME!$A$1:$E$31,3,FALSE),$C15),Tableau3[[Référence]:[FORMATION]],7,FALSE)) | I15: =IFERROR((HOUR(IF(C15="","",MIN(IF((VLOOKUP(CONCATENATE(VLOOKUP($A$3,XTIME!$A$1:$E$31,3,FALSE),C15),'Fiche Horaire'!A:AR,12,FALSE)+VLOOKUP(CONCATENATE(VLOOKUP($A$3,XTIME!$A$1:$E$31,3,FALSE),C15),'Fiche Horaire'!A:AR,33,FALSE))>Feuil2!$C$2,VLOOKUP(CONCATENATE(VLOOKUP($A$3,XTIME!$A$1:$E$31,3,FALSE),C15),'Fiche Horaire'!A:AR,33,FALSE)+VLOOKUP(CONCATENATE(VLOOKUP($A$3,XTIME!$A$1:$E$31,3,FALSE),C15),'Fiche Horaire'!A:AR,12,FALSE)-Feuil2!$C$2,"X"),Feuil2!$C$3)))*60+MINUTE(IF(C15="","",MIN(IF((VLOOKUP(CONCATENATE(VLOOKUP($A$3,XTIME!$A$1:$E$31,3,FALSE),C15),'Fiche Horaire'!A:AR,12,FALSE)+VLOOKUP(CONCATENATE(VLOOKUP($A$3,XTIME!$A$1:$E$31,3,FALSE),C15),'Fiche Horaire'!A:AR,33,FALSE))>Feuil2!$C$2,VLOOKUP(CONCATENATE(VLOOKUP($A$3,XTIME!$A$1:$E$31,3,FALSE),C15),'Fiche Horaire'!A:AR,33,FALSE)+VLOOKUP(CONCATENATE(VLOOKUP($A$3,XTIME!$A$1:$E$31,3,FALSE),C15),'Fiche Horaire'!A:AR,12,FALSE)-Feuil2!$C$2,"X"),Feuil2!$C$3))))/60,"") | J15: =IFERROR((HOUR(IF(C15="","",IF(VLOOKUP(CONCATENATE(VLOOKUP($A$3,XTIME!$A$1:$E$31,3,FALSE),C15),'Fiche Horaire'!A:AR,12,FALSE)="","",IF((VLOOKUP(CONCATENATE(VLOOKUP($A$3,XTIME!$A$1:$E$31,3,FALSE),C15),'Fiche Horaire'!A:AR,12,FALSE))<Feuil2!$D$2,Feuil2!$D$2-VLOOKUP(CONCATENATE(VLOOKUP($A$3,XTIME!$A$1:$E$31,3,FALSE),C15),'Fiche Horaire'!A:AR,12,FALSE),IF((VLOOKUP(CONCATENATE(VLOOKUP($A$3,XTIME!$A$1:$E$31,3,FALSE),C15),'Fiche Horaire'!A:AR,12,FALSE)+VLOOKUP(CONCATENATE(VLOOKUP($A$3,XTIME!$A$1:$E$31,3,FALSE),C15),'Fiche Horaire'!A:AR,33,FALSE))>Feuil2!$D$3,VLOOKUP(CONCATENATE(VLOOKUP($A$3,XTIME!$A$1:$E$31,3,FALSE),C15),'Fiche Horaire'!A:AR,33,FALSE)+VLOOKUP(CONCATENATE(VLOOKUP($A$3,XTIME!$A$1:$E$31,3,FALSE),C15),'Fiche Horaire'!A:AR,12,FALSE)-Feuil2!$D$3,"")))))*60+MINUTE(IF(C15="","",IF(VLOOKUP(CONCATENATE(VLOOKUP($A$3,XTIME!$A$1:$E$31,3,FALSE),C15),'Fiche Horaire'!A:AR,12,FALSE)="","",IF((VLOOKUP(CONCATENATE(VLOOKUP($A$3,XTIME!$A$1:$E$31,3,FALSE),C15),'Fiche Horaire'!A:AR,12,FALSE))<Feuil2!$D$2,Feuil2!$D$2-VLOOKUP(CONCATENATE(VLOOKUP($A$3,XTIME!$A$1:$E$31,3,FALSE),C15),'Fiche Horaire'!A:AR,12,FALSE),IF((VLOOKUP(CONCATENATE(VLOOKUP($A$3,XTIME!$A$1:$E$31,3,FALSE),C15),'Fiche Horaire'!A:AR,12,FALSE)+VLOOKUP(CONCATENATE(VLOOKUP($A$3,XTIME!$A$1:$E$31,3,FALSE),C15),'Fiche Horaire'!A:AR,33,FALSE))>Feuil2!$D$3,VLOOKUP(CONCATENATE(VLOOKUP($A$3,XTIME!$A$1:$E$31,3,FALSE),C15),'Fiche Horaire'!A:AR,33,FALSE)+VLOOKUP(CONCATENATE(VLOOKUP($A$3,XTIME!$A$1:$E$31,3,FALSE),C15),'Fiche Horaire'!A:AR,12,FALSE)-Feuil2!$D$3,""))))))/60,"") | L15: AC HS | M15: =MIN(IF(M14=0,0,IF(M14>=35,M14-35,0)),2) -> 0
C16: =C15+1 -> 43349 | D16: =IF(ISNA((HOUR(VLOOKUP(CONCATENATE(VLOOKUP($A$3,XTIME!$A$1:$E$31,3,FALSE),$C16),Tableau3[[Référence]:[FORMATION]],34,FALSE))*60+MINUTE(VLOOKUP(CONCATENATE(VLOOKUP($A$3,XTIME!$A$1:$E$31,3,FALSE),$C16),Tableau3[[Référence]:[FORMATION]],34,FALSE)))/60)=TRUE,"",((HOUR(VLOOKUP(CONCATENATE(VLOOKUP($A$3,XTIME!$A$1:$E$31,3,FALSE),$C16),Tableau3[[Référence]:[FORMATION]],34,FALSE))*60+MINUTE(VLOOKUP(CONCATENATE(VLOOKUP($A$3,XTIME!$A$1:$E$31,3,FALSE),$C16),Tableau3[[Référence]:[FORMATION]],34,FALSE)))/60)) | E16: =IF(ISNA((HOUR(VLOOKUP(CONCATENATE(VLOOKUP($A$3,XTIME!$A$1:$E$31,3,FALSE),$C16),Tableau3[[Référence]:[FORMATION]],40,FALSE))*60+MINUTE(VLOOKUP(CONCATENATE(VLOOKUP($A$3,XTIME!$A$1:$E$31,3,FALSE),$C16),Tableau3[[Référence]:[FORMATION]],40,FALSE)))/60)=TRUE,"",((HOUR(VLOOKUP(CONCATENATE(VLOOKUP($A$3,XTIME!$A$1:$E$31,3,FALSE),$C16),Tableau3[[Référence]:[FORMATION]],40,FALSE))*60+MINUTE(VLOOKUP(CONCATENATE(VLOOKUP($A$3,XTIME!$A$1:$E$31,3,FALSE),$C16),Tableau3[[Référence]:[FORMATION]],40,FALSE)))/60)) | F16: =IF(ISNA((HOUR(VLOOKUP(CONCATENATE(VLOOKUP($A$3,XTIME!$A$1:$E$31,3,FALSE),$C16),Tableau3[[Référence]:[FORMATION]],41,FALSE))*60+MINUTE(VLOOKUP(CONCATENATE(VLOOKUP($A$3,XTIME!$A$1:$E$31,3,FALSE),$C16),Tableau3[[Référence]:[FORMATION]],41,FALSE)))/60)=TRUE,"",((HOUR(VLOOKUP(CONCATENATE(VLOOKUP($A$3,XTIME!$A$1:$E$31,3,FALSE),$C16),Tableau3[[Référence]:[FORMATION]],41,FALSE))*60+MINUTE(VLOOKUP(CONCATENATE(VLOOKUP($A$3,XTIME!$A$1:$E$31,3,FALSE),$C16),Tableau3[[Référence]:[FORMATION]],41,FALSE)))/60)) | G16: =IF(ISNA((HOUR(VLOOKUP(CONCATENATE(VLOOKUP($A$3,XTIME!$A$1:$E$31,3,FALSE),$C16),Tableau3[[Référence]:[FORMATION]],42,FALSE))*60+MINUTE(VLOOKUP(CONCATENATE(VLOOKUP($A$3,XTIME!$A$1:$E$31,3,FALSE),$C16),Tableau3[[Référence]:[FORMATION]],42,FALSE)))/60)=TRUE,"",((HOUR(VLOOKUP(CONCATENATE(VLOOKUP($A$3,XTIME!$A$1:$E$31,3,FALSE),$C16),Tableau3[[Référence]:[FORMATION]],42,FALSE))*60+MINUTE(VLOOKUP(CONCATENATE(VLOOKUP($A$3,XTIME!$A$1:$E$31,3,FALSE),$C16),Tableau3[[Référence]:[FORMATION]],42,FALSE)))/60)) | H16: =IF(ISNA(VLOOKUP(CONCATENATE(VLOOKUP($A$3,XTIME!$A$1:$E$31,3,FALSE),$C16),Tableau3[[Référence]:[FORMATION]],7,FALSE))=TRUE,"",VLOOKUP(CONCATENATE(VLOOKUP($A$3,XTIME!$A$1:$E$31,3,FALSE),$C16),Tableau3[[Référence]:[FORMATION]],7,FALSE)) | I16: =IFERROR((HOUR(IF(C16="","",MIN(IF((VLOOKUP(CONCATENATE(VLOOKUP($A$3,XTIME!$A$1:$E$31,3,FALSE),C16),'Fiche Horaire'!A:AR,12,FALSE)+VLOOKUP(CONCATENATE(VLOOKUP($A$3,XTIME!$A$1:$E$31,3,FALSE),C16),'Fiche Horaire'!A:AR,33,FALSE))>Feuil2!$C$2,VLOOKUP(CONCATENATE(VLOOKUP($A$3,XTIME!$A$1:$E$31,3,FALSE),C16),'Fiche Horaire'!A:AR,33,FALSE)+VLOOKUP(CONCATENATE(VLOOKUP($A$3,XTIME!$A$1:$E$31,3,FALSE),C16),'Fiche Horaire'!A:AR,12,FALSE)-Feuil2!$C$2,"X"),Feuil2!$C$3)))*60+MINUTE(IF(C16="","",MIN(IF((VLOOKUP(CONCATENATE(VLOOKUP($A$3,XTIME!$A$1:$E$31,3,FALSE),C16),'Fiche Horaire'!A:AR,12,FALSE)+VLOOKUP(CONCATENATE(VLOOKUP($A$3,XTIME!$A$1:$E$31,3,FALSE),C16),'Fiche Horaire'!A:AR,33,FALSE))>Feuil2!$C$2,VLOOKUP(CONCATENATE(VLOOKUP($A$3,XTIME!$A$1:$E$31,3,FALSE),C16),'Fiche Horaire'!A:AR,33,FALSE)+VLOOKUP(CONCATENATE(VLOOKUP($A$3,XTIME!$A$1:$E$31,3,FALSE),C16),'Fiche Horaire'!A:AR,12,FALSE)-Feuil2!$C$2,"X"),Feuil2!$C$3))))/60,"") | J16: =IFERROR((HOUR(IF(C16="","",IF(VLOOKUP(CONCATENATE(VLOOKUP($A$3,XTIME!$A$1:$E$31,3,FALSE),C16),'Fiche Horaire'!A:AR,12,FALSE)="","",IF((VLOOKUP(CONCATENATE(VLOOKUP($A$3,XTIME!$A$1:$E$31,3,FALSE),C16),'Fiche Horaire'!A:AR,12,FALSE))<Feuil2!$D$2,Feuil2!$D$2-VLOOKUP(CONCATENATE(VLOOKUP($A$3,XTIME!$A$1:$E$31,3,FALSE),C16),'Fiche Horaire'!A:AR,12,FALSE),IF((VLOOKUP(CONCATENATE(VLOOKUP($A$3,XTIME!$A$1:$E$31,3,FALSE),C16),'Fiche Horaire'!A:AR,12,FALSE)+VLOOKUP(CONCATENATE(VLOOKUP($A$3,XTIME!$A$1:$E$31,3,FALSE),C16),'Fiche Horaire'!A:AR,33,FALSE))>Feuil2!$D$3,VLOOKUP(CONCATENATE(VLOOKUP($A$3,XTIME!$A$1:$E$31,3,FALSE),C16),'Fiche Horaire'!A:AR,33,FALSE)+VLOOKUP(CONCATENATE(VLOOKUP($A$3,XTIME!$A$1:$E$31,3,FALSE),C16),'Fiche Horaire'!A:AR,12,FALSE)-Feuil2!$D$3,"")))))*60+MINUTE(IF(C16="","",IF(VLOOKUP(CONCATENATE(VLOOKUP($A$3,XTIME!$A$1:$E$31,3,FALSE),C16),'Fiche Horaire'!A:AR,12,FALSE)="","",IF((VLOOKUP(CONCATENATE(VLOOKUP($A$3,XTIME!$A$1:$E$31,3,FALSE),C16),'Fiche Horaire'!A:AR,12,FALSE))<Feuil2!$D$2,Feuil2!$D$2-VLOOKUP(CONCATENATE(VLOOKUP($A$3,XTIME!$A$1:$E$31,3,FALSE),C16),'Fiche Horaire'!A:AR,12,FALSE),IF((VLOOKUP(CONCATENATE(VLOOKUP($A$3,XTIME!$A$1:$E$31,3,FALSE),C16),'Fiche Horaire'!A:AR,12,FALSE)+VLOOKUP(CONCATENATE(VLOOKUP($A$3,XTIME!$A$1:$E$31,3,FALSE),C16),'Fiche Horaire'!A:AR,33,FALSE))>Feuil2!$D$3,VLOOKUP(CONCATENATE(VLOOKUP($A$3,XTIME!$A$1:$E$31,3,FALSE),C16),'Fiche Horaire'!A:AR,33,FALSE)+VLOOKUP(CONCATENATE(VLOOKUP($A$3,XTIME!$A$1:$E$31,3,FALSE),C16),'Fiche Horaire'!A:AR,12,FALSE)-Feuil2!$D$3,""))))))/60,"") | L16: HS 125% | M16: =IF(M14<45,M14-$K$4-M19,3) -> 0
C17: =C16+1 -> 43350 | D17: =IF(ISNA((HOUR(VLOOKUP(CONCATENATE(VLOOKUP($A$3,XTIME!$A$1:$E$31,3,FALSE),$C17),Tableau3[[Référence]:[FORMATION]],34,FALSE))*60+MINUTE(VLOOKUP(CONCATENATE(VLOOKUP($A$3,XTIME!$A$1:$E$31,3,FALSE),$C17),Tableau3[[Référence]:[FORMATION]],34,FALSE)))/60)=TRUE,"",((HOUR(VLOOKUP(CONCATENATE(VLOOKUP($A$3,XTIME!$A$1:$E$31,3,FALSE),$C17),Tableau3[[Référence]:[FORMATION]],34,FALSE))*60+MINUTE(VLOOKUP(CONCATENATE(VLOOKUP($A$3,XTIME!$A$1:$E$31,3,FALSE),$C17),Tableau3[[Référence]:[FORMATION]],34,FALSE)))/60)) | E17: =IF(ISNA((HOUR(VLOOKUP(CONCATENATE(VLOOKUP($A$3,XTIME!$A$1:$E$31,3,FALSE),$C17),Tableau3[[Référence]:[FORMATION]],40,FALSE))*60+MINUTE(VLOOKUP(CONCATENATE(VLOOKUP($A$3,XTIME!$A$1:$E$31,3,FALSE),$C17),Tableau3[[Référence]:[FORMATION]],40,FALSE)))/60)=TRUE,"",((HOUR(VLOOKUP(CONCATENATE(VLOOKUP($A$3,XTIME!$A$1:$E$31,3,FALSE),$C17),Tableau3[[Référence]:[FORMATION]],40,FALSE))*60+MINUTE(VLOOKUP(CONCATENATE(VLOOKUP($A$3,XTIME!$A$1:$E$31,3,FALSE),$C17),Tableau3[[Référence]:[FORMATION]],40,FALSE)))/60)) | F17: =IF(ISNA((HOUR(VLOOKUP(CONCATENATE(VLOOKUP($A$3,XTIME!$A$1:$E$31,3,FALSE),$C17),Tableau3[[Référence]:[FORMATION]],41,FALSE))*60+MINUTE(VLOOKUP(CONCATENATE(VLOOKUP($A$3,XTIME!$A$1:$E$31,3,FALSE),$C17),Tableau3[[Référence]:[FORMATION]],41,FALSE)))/60)=TRUE,"",((HOUR(VLOOKUP(CONCATENATE(VLOOKUP($A$3,XTIME!$A$1:$E$31,3,FALSE),$C17),Tableau3[[Référence]:[FORMATION]],41,FALSE))*60+MINUTE(VLOOKUP(CONCATENATE(VLOOKUP($A$3,XTIME!$A$1:$E$31,3,FALSE),$C17),Tableau3[[Référence]:[FORMATION]],41,FALSE)))/60)) | G17: =IF(ISNA((HOUR(VLOOKUP(CONCATENATE(VLOOKUP($A$3,XTIME!$A$1:$E$31,3,FALSE),$C17),Tableau3[[Référence]:[FORMATION]],42,FALSE))*60+MINUTE(VLOOKUP(CONCATENATE(VLOOKUP($A$3,XTIME!$A$1:$E$31,3,FALSE),$C17),Tableau3[[Référence]:[FORMATION]],42,FALSE)))/60)=TRUE,"",((HOUR(VLOOKUP(CONCATENATE(VLOOKUP($A$3,XTIME!$A$1:$E$31,3,FALSE),$C17),Tableau3[[Référence]:[FORMATION]],42,FALSE))*60+MINUTE(VLOOKUP(CONCATENATE(VLOOKUP($A$3,XTIME!$A$1:$E$31,3,FALSE),$C17),Tableau3[[Référence]:[FORMATION]],42,FALSE)))/60)) | H17: =IF(ISNA(VLOOKUP(CONCATENATE(VLOOKUP($A$3,XTIME!$A$1:$E$31,3,FALSE),$C17),Tableau3[[Référence]:[FORMATION]],7,FALSE))=TRUE,"",VLOOKUP(CONCATENATE(VLOOKUP($A$3,XTIME!$A$1:$E$31,3,FALSE),$C17),Tableau3[[Référence]:[FORMATION]],7,FALSE)) | I17: =IFERROR((HOUR(IF(C17="","",MIN(IF((VLOOKUP(CONCATENATE(VLOOKUP($A$3,XTIME!$A$1:$E$31,3,FALSE),C17),'Fiche Horaire'!A:AR,12,FALSE)+VLOOKUP(CONCATENATE(VLOOKUP($A$3,XTIME!$A$1:$E$31,3,FALSE),C17),'Fiche Horaire'!A:AR,33,FALSE))>Feuil2!$C$2,VLOOKUP(CONCATENATE(VLOOKUP($A$3,XTIME!$A$1:$E$31,3,FALSE),C17),'Fiche Horaire'!A:AR,33,FALSE)+VLOOKUP(CONCATENATE(VLOOKUP($A$3,XTIME!$A$1:$E$31,3,FALSE),C17),'Fiche Horaire'!A:AR,12,FALSE)-Feuil2!$C$2,"X"),Feuil2!$C$3)))*60+MINUTE(IF(C17="","",MIN(IF((VLOOKUP(CONCATENATE(VLOOKUP($A$3,XTIME!$A$1:$E$31,3,FALSE),C17),'Fiche Horaire'!A:AR,12,FALSE)+VLOOKUP(CONCATENATE(VLOOKUP($A$3,XTIME!$A$1:$E$31,3,FALSE),C17),'Fiche Horaire'!A:AR,33,FALSE))>Feuil2!$C$2,VLOOKUP(CONCATENATE(VLOOKUP($A$3,XTIME!$A$1:$E$31,3,FALSE),C17),'Fiche Horaire'!A:AR,33,FALSE)+VLOOKUP(CONCATENATE(VLOOKUP($A$3,XTIME!$A$1:$E$31,3,FALSE),C17),'Fiche Horaire'!A:AR,12,FALSE)-Feuil2!$C$2,"X"),Feuil2!$C$3))))/60,"") | J17: =IFERROR((HOUR(IF(C17="","",IF(VLOOKUP(CONCATENATE(VLOOKUP($A$3,XTIME!$A$1:$E$31,3,FALSE),C17),'Fiche Horaire'!A:AR,12,FALSE)="","",IF((VLOOKUP(CONCATENATE(VLOOKUP($A$3,XTIME!$A$1:$E$31,3,FALSE),C17),'Fiche Horaire'!A:AR,12,FALSE))<Feuil2!$D$2,Feuil2!$D$2-VLOOKUP(CONCATENATE(VLOOKUP($A$3,XTIME!$A$1:$E$31,3,FALSE),C17),'Fiche Horaire'!A:AR,12,FALSE),IF((VLOOKUP(CONCATENATE(VLOOKUP($A$3,XTIME!$A$1:$E$31,3,FALSE),C17),'Fiche Horaire'!A:AR,12,FALSE)+VLOOKUP(CONCATENATE(VLOOKUP($A$3,XTIME!$A$1:$E$31,3,FALSE),C17),'Fiche Horaire'!A:AR,33,FALSE))>Feuil2!$D$3,VLOOKUP(CONCATENATE(VLOOKUP($A$3,XTIME!$A$1:$E$31,3,FALSE),C17),'Fiche Horaire'!A:AR,33,FALSE)+VLOOKUP(CONCATENATE(VLOOKUP($A$3,XTIME!$A$1:$E$31,3,FALSE),C17),'Fiche Horaire'!A:AR,12,FALSE)-Feuil2!$D$3,"")))))*60+MINUTE(IF(C17="","",IF(VLOOKUP(CONCATENATE(VLOOKUP($A$3,XTIME!$A$1:$E$31,3,FALSE),C17),'Fiche Horaire'!A:AR,12,FALSE)="","",IF((VLOOKUP(CONCATENATE(VLOOKUP($A$3,XTIME!$A$1:$E$31,3,FALSE),C17),'Fiche Horaire'!A:AR,12,FALSE))<Feuil2!$D$2,Feuil2!$D$2-VLOOKUP(CONCATENATE(VLOOKUP($A$3,XTIME!$A$1:$E$31,3,FALSE),C17),'Fiche Horaire'!A:AR,12,FALSE),IF((VLOOKUP(CONCATENATE(VLOOKUP($A$3,XTIME!$A$1:$E$31,3,FALSE),C17),'Fiche Horaire'!A:AR,12,FALSE)+VLOOKUP(CONCATENATE(VLOOKUP($A$3,XTIME!$A$1:$E$31,3,FALSE),C17),'Fiche Horaire'!A:AR,33,FALSE))>Feuil2!$D$3,VLOOKUP(CONCATENATE(VLOOKUP($A$3,XTIME!$A$1:$E$31,3,FALSE),C17),'Fiche Horaire'!A:AR,33,FALSE)+VLOOKUP(CONCATENATE(VLOOKUP($A$3,XTIME!$A$1:$E$31,3,FALSE),C17),'Fiche Horaire'!A:AR,12,FALSE)-Feuil2!$D$3,""))))))/60,"") | L17: HS 150% | M17: =IF(M14>45,M14-$K$4-M19-M16,0) -> 0
C18: =C17+1 -> 43351 | D18: =IF(ISNA((HOUR(VLOOKUP(CONCATENATE(VLOOKUP($A$3,XTIME!$A$1:$E$31,3,FALSE),$C18),Tableau3[[Référence]:[FORMATION]],34,FALSE))*60+MINUTE(VLOOKUP(CONCATENATE(VLOOKUP($A$3,XTIME!$A$1:$E$31,3,FALSE),$C18),Tableau3[[Référence]:[FORMATION]],34,FALSE)))/60)=TRUE,"",((HOUR(VLOOKUP(CONCATENATE(VLOOKUP($A$3,XTIME!$A$1:$E$31,3,FALSE),$C18),Tableau3[[Référence]:[FORMATION]],34,FALSE))*60+MINUTE(VLOOKUP(CONCATENATE(VLOOKUP($A$3,XTIME!$A$1:$E$31,3,FALSE),$C18),Tableau3[[Référence]:[FORMATION]],34,FALSE)))/60)) | E18: =IF(ISNA((HOUR(VLOOKUP(CONCATENATE(VLOOKUP($A$3,XTIME!$A$1:$E$31,3,FALSE),$C18),Tableau3[[Référence]:[FORMATION]],40,FALSE))*60+MINUTE(VLOOKUP(CONCATENATE(VLOOKUP($A$3,XTIME!$A$1:$E$31,3,FALSE),$C18),Tableau3[[Référence]:[FORMATION]],40,FALSE)))/60)=TRUE,"",((HOUR(VLOOKUP(CONCATENATE(VLOOKUP($A$3,XTIME!$A$1:$E$31,3,FALSE),$C18),Tableau3[[Référence]:[FORMATION]],40,FALSE))*60+MINUTE(VLOOKUP(CONCATENATE(VLOOKUP($A$3,XTIME!$A$1:$E$31,3,FALSE),$C18),Tableau3[[Référence]:[FORMATION]],40,FALSE)))/60)) | F18: =IF(ISNA((HOUR(VLOOKUP(CONCATENATE(VLOOKUP($A$3,XTIME!$A$1:$E$31,3,FALSE),$C18),Tableau3[[Référence]:[FORMATION]],41,FALSE))*60+MINUTE(VLOOKUP(CONCATENATE(VLOOKUP($A$3,XTIME!$A$1:$E$31,3,FALSE),$C18),Tableau3[[Référence]:[FORMATION]],41,FALSE)))/60)=TRUE,"",((HOUR(VLOOKUP(CONCATENATE(VLOOKUP($A$3,XTIME!$A$1:$E$31,3,FALSE),$C18),Tableau3[[Référence]:[FORMATION]],41,FALSE))*60+MINUTE(VLOOKUP(CONCATENATE(VLOOKUP($A$3,XTIME!$A$1:$E$31,3,FALSE),$C18),Tableau3[[Référence]:[FORMATION]],41,FALSE)))/60)) | G18: =IF(ISNA((HOUR(VLOOKUP(CONCATENATE(VLOOKUP($A$3,XTIME!$A$1:$E$31,3,FALSE),$C18),Tableau3[[Référence]:[FORMATION]],42,FALSE))*60+MINUTE(VLOOKUP(CONCATENATE(VLOOKUP($A$3,XTIME!$A$1:$E$31,3,FALSE),$C18),Tableau3[[Référence]:[FORMATION]],42,FALSE)))/60)=TRUE,"",((HOUR(VLOOKUP(CONCATENATE(VLOOKUP($A$3,XTIME!$A$1:$E$31,3,FALSE),$C18),Tableau3[[Référence]:[FORMATION]],42,FALSE))*60+MINUTE(VLOOKUP(CONCATENATE(VLOOKUP($A$3,XTIME!$A$1:$E$31,3,FALSE),$C18),Tableau3[[Référence]:[FORMATION]],42,FALSE)))/60)) | H18: =IF(ISNA(VLOOKUP(CONCATENATE(VLOOKUP($A$3,XTIME!$A$1:$E$31,3,FALSE),$C18),Tableau3[[Référence]:[FORMATION]],7,FALSE))=TRUE,"",VLOOKUP(CONCATENATE(VLOOKUP($A$3,XTIME!$A$1:$E$31,3,FALSE),$C18),Tableau3[[Référence]:[FORMATION]],7,FALSE)) | I18: =IFERROR((HOUR(IF(C18="","",MIN(IF((VLOOKUP(CONCATENATE(VLOOKUP($A$3,XTIME!$A$1:$E$31,3,FALSE),C18),'Fiche Horaire'!A:AR,12,FALSE)+VLOOKUP(CONCATENATE(VLOOKUP($A$3,XTIME!$A$1:$E$31,3,FALSE),C18),'Fiche Horaire'!A:AR,33,FALSE))>Feuil2!$C$2,VLOOKUP(CONCATENATE(VLOOKUP($A$3,XTIME!$A$1:$E$31,3,FALSE),C18),'Fiche Horaire'!A:AR,33,FALSE)+VLOOKUP(CONCATENATE(VLOOKUP($A$3,XTIME!$A$1:$E$31,3,FALSE),C18),'Fiche Horaire'!A:AR,12,FALSE)-Feuil2!$C$2,"X"),Feuil2!$C$3)))*60+MINUTE(IF(C18="","",MIN(IF((VLOOKUP(CONCATENATE(VLOOKUP($A$3,XTIME!$A$1:$E$31,3,FALSE),C18),'Fiche Horaire'!A:AR,12,FALSE)+VLOOKUP(CONCATENATE(VLOOKUP($A$3,XTIME!$A$1:$E$31,3,FALSE),C18),'Fiche Horaire'!A:AR,33,FALSE))>Feuil2!$C$2,VLOOKUP(CONCATENATE(VLOOKUP($A$3,XTIME!$A$1:$E$31,3,FALSE),C18),'Fiche Horaire'!A:AR,33,FALSE)+VLOOKUP(CONCATENATE(VLOOKUP($A$3,XTIME!$A$1:$E$31,3,FALSE),C18),'Fiche Horaire'!A:AR,12,FALSE)-Feuil2!$C$2,"X"),Feuil2!$C$3))))/60,"") | J18: =IFERROR((HOUR(IF(C18="","",IF(VLOOKUP(CONCATENATE(VLOOKUP($A$3,XTIME!$A$1:$E$31,3,FALSE),C18),'Fiche Horaire'!A:AR,12,FALSE)="","",IF((VLOOKUP(CONCATENATE(VLOOKUP($A$3,XTIME!$A$1:$E$31,3,FALSE),C18),'Fiche Horaire'!A:AR,12,FALSE))<Feuil2!$D$2,Feuil2!$D$2-VLOOKUP(CONCATENATE(VLOOKUP($A$3,XTIME!$A$1:$E$31,3,FALSE),C18),'Fiche Horaire'!A:AR,12,FALSE),IF((VLOOKUP(CONCATENATE(VLOOKUP($A$3,XTIME!$A$1:$E$31,3,FALSE),C18),'Fiche Horaire'!A:AR,12,FALSE)+VLOOKUP(CONCATENATE(VLOOKUP($A$3,XTIME!$A$1:$E$31,3,FALSE),C18),'Fiche Horaire'!A:AR,33,FALSE))>Feuil2!$D$3,VLOOKUP(CONCATENATE(VLOOKUP($A$3,XTIME!$A$1:$E$31,3,FALSE),C18),'Fiche Horaire'!A:AR,33,FALSE)+VLOOKUP(CONCATENATE(VLOOKUP($A$3,XTIME!$A$1:$E$31,3,FALSE),C18),'Fiche Horaire'!A:AR,12,FALSE)-Feuil2!$D$3,"")))))*60+MINUTE(IF(C18="","",IF(VLOOKUP(CONCATENATE(VLOOKUP($A$3,XTIME!$A$1:$E$31,3,FALSE),C18),'Fiche Horaire'!A:AR,12,FALSE)="","",IF((VLOOKUP(CONCATENATE(VLOOKUP($A$3,XTIME!$A$1:$E$31,3,FALSE),C18),'Fiche Horaire'!A:AR,12,FALSE))<Feuil2!$D$2,Feuil2!$D$2-VLOOKUP(CONCATENATE(VLOOKUP($A$3,XTIME!$A$1:$E$31,3,FALSE),C18),'Fiche Horaire'!A:AR,12,FALSE),IF((VLOOKUP(CONCATENATE(VLOOKUP($A$3,XTIME!$A$1:$E$31,3,FALSE),C18),'Fiche Horaire'!A:AR,12,FALSE)+VLOOKUP(CONCATENATE(VLOOKUP($A$3,XTIME!$A$1:$E$31,3,FALSE),C18),'Fiche Horaire'!A:AR,33,FALSE))>Feuil2!$D$3,VLOOKUP(CONCATENATE(VLOOKUP($A$3,XTIME!$A$1:$E$31,3,FALSE),C18),'Fiche Horaire'!A:AR,33,FALSE)+VLOOKUP(CONCATENATE(VLOOKUP($A$3,XTIME!$A$1:$E$31,3,FALSE),C18),'Fiche Horaire'!A:AR,12,FALSE)-Feuil2!$D$3,""))))))/60,"") | L18: H TUNNEL | M18: =MIN(IF(M14=0,0,IF(M14>=37,M14-37,IF(M14<=35,M14-35,0))),5) -> 0
C19: TOTAL | D19: =SUM(D13:D18) -> 0 | E19: =SUM(E13:E18) -> 0 | F19: =SUM(F13:F18) -> 0 | G19: =SUM(G13:G18) -> 0 | H19: =IF(COUNTIF(H13:H18,0)>0,0,IF(COUNTBLANK(H13:H18)=6,0,(6-COUNTBLANK(H13:H18)-COUNTIF(H13:H18,"REPOS"))*$K11/5)) -> 0 | I19: =SUM(I13:I18) -> 0 | J19: =SUM(J13:J18) -> 0 | L19: MODUL. | M19: =IF(M14<42,M14-$K$4,7) -> -43
B20: =CONCATENATE("SEMAINE"," ",WEEKNUM(C20)) -> SEMAINE 37 | C20: =C18+2 -> 43353 | D20: =IF(ISNA((HOUR(VLOOKUP(CONCATENATE(VLOOKUP($A$3,XTIME!$A$1:$E$31,3,FALSE),$C20),Tableau3[[Référence]:[FORMATION]],34,FALSE))*60+MINUTE(VLOOKUP(CONCATENATE(VLOOKUP($A$3,XTIME!$A$1:$E$31,3,FALSE),$C20),Tableau3[[Référence]:[FORMATION]],34,FALSE)))/60)=TRUE,"",((HOUR(VLOOKUP(CONCATENATE(VLOOKUP($A$3,XTIME!$A$1:$E$31,3,FALSE),$C20),Tableau3[[Référence]:[FORMATION]],34,FALSE))*60+MINUTE(VLOOKUP(CONCATENATE(VLOOKUP($A$3,XTIME!$A$1:$E$31,3,FALSE),$C20),Tableau3[[Référence]:[FORMATION]],34,FALSE)))/60)) | E20: =IF(ISNA((HOUR(VLOOKUP(CONCATENATE(VLOOKUP($A$3,XTIME!$A$1:$E$31,3,FALSE),$C20),Tableau3[[Référence]:[FORMATION]],40,FALSE))*60+MINUTE(VLOOKUP(CONCATENATE(VLOOKUP($A$3,XTIME!$A$1:$E$31,3,FALSE),$C20),Tableau3[[Référence]:[FORMATION]],40,FALSE)))/60)=TRUE,"",((HOUR(VLOOKUP(CONCATENATE(VLOOKUP($A$3,XTIME!$A$1:$E$31,3,FALSE),$C20),Tableau3[[Référence]:[FORMATION]],40,FALSE))*60+MINUTE(VLOOKUP(CONCATENATE(VLOOKUP($A$3,XTIME!$A$1:$E$31,3,FALSE),$C20),Tableau3[[Référence]:[FORMATION]],40,FALSE)))/60)) | F20: =IF(ISNA((HOUR(VLOOKUP(CONCATENATE(VLOOKUP($A$3,XTIME!$A$1:$E$31,3,FALSE),$C20),Tableau3[[Référence]:[FORMATION]],41,FALSE))*60+MINUTE(VLOOKUP(CONCATENATE(VLOOKUP($A$3,XTIME!$A$1:$E$31,3,FALSE),$C20),Tableau3[[Référence]:[FORMATION]],41,FALSE)))/60)=TRUE,"",((HOUR(VLOOKUP(CONCATENATE(VLOOKUP($A$3,XTIME!$A$1:$E$31,3,FALSE),$C20),Tableau3[[Référence]:[FORMATION]],41,FALSE))*60+MINUTE(VLOOKUP(CONCATENATE(VLOOKUP($A$3,XTIME!$A$1:$E$31,3,FALSE),$C20),Tableau3[[Référence]:[FORMATION]],41,FALSE)))/60)) | G20: =IF(ISNA((HOUR(VLOOKUP(CONCATENATE(VLOOKUP($A$3,XTIME!$A$1:$E$31,3,FALSE),$C20),Tableau3[[Référence]:[FORMATION]],42,FALSE))*60+MINUTE(VLOOKUP(CONCATENATE(VLOOKUP($A$3,XTIME!$A$1:$E$31,3,FALSE),$C20),Tableau3[[Référence]:[FORMATION]],42,FALSE)))/60)=TRUE,"",((HOUR(VLOOKUP(CONCATENATE(VLOOKUP($A$3,XTIME!$A$1:$E$31,3,FALSE),$C20),Tableau3[[Référence]:[FORMATION]],42,FALSE))*60+MINUTE(VLOOKUP(CONCATENATE(VLOOKUP($A$3,XTIME!$A$1:$E$31,3,FALSE),$C20),Tableau3[[Référence]:[FORMATION]],42,FALSE)))/60)) | H20: =IF(ISNA(VLOOKUP(CONCATENATE(VLOOKUP($A$3,XTIME!$A$1:$E$31,3,FALSE),$C20),Tableau3[[Référence]:[FORMATION]],7,FALSE))=TRUE,"",VLOOKUP(CONCATENATE(VLOOKUP($A$3,XTIME!$A$1:$E$31,3,FALSE),$C20),Tableau3[[Référence]:[FORMATION]],7,FALSE)) | I20: =IFERROR((HOUR(IF(C20="","",MIN(IF((VLOOKUP(CONCATENATE(VLOOKUP($A$3,XTIME!$A$1:$E$31,3,FALSE),C20),'Fiche Horaire'!A:AR,12,FALSE)+VLOOKUP(CONCATENATE(VLOOKUP($A$3,XTIME!$A$1:$E$31,3,FALSE),C20),'Fiche Horaire'!A:AR,33,FALSE))>Feuil2!$C$2,VLOOKUP(CONCATENATE(VLOOKUP($A$3,XTIME!$A$1:$E$31,3,FALSE),C20),'Fiche Horaire'!A:AR,33,FALSE)+VLOOKUP(CONCATENATE(VLOOKUP($A$3,XTIME!$A$1:$E$31,3,FALSE),C20),'Fiche Horaire'!A:AR,12,FALSE)-Feuil2!$C$2,"X"),Feuil2!$C$3)))*60+MINUTE(IF(C20="","",MIN(IF((VLOOKUP(CONCATENATE(VLOOKUP($A$3,XTIME!$A$1:$E$31,3,FALSE),C20),'Fiche Horaire'!A:AR,12,FALSE)+VLOOKUP(CONCATENATE(VLOOKUP($A$3,XTIME!$A$1:$E$31,3,FALSE),C20),'Fiche Horaire'!A:AR,33,FALSE))>Feuil2!$C$2,VLOOKUP(CONCATENATE(VLOOKUP($A$3,XTIME!$A$1:$E$31,3,FALSE),C20),'Fiche Horaire'!A:AR,33,FALSE)+VLOOKUP(CONCATENATE(VLOOKUP($A$3,XTIME!$A$1:$E$31,3,FALSE),C20),'Fiche Horaire'!A:AR,12,FALSE)-Feuil2!$C$2,"X"),Feuil2!$C$3))))/60,"") | J20: =IFERROR((HOUR(IF(C20="","",IF(VLOOKUP(CONCATENATE(VLOOKUP($A$3,XTIME!$A$1:$E$31,3,FALSE),C20),'Fiche Horaire'!A:AR,12,FALSE)="","",IF((VLOOKUP(CONCATENATE(VLOOKUP($A$3,XTIME!$A$1:$E$31,3,FALSE),C20),'Fiche Horaire'!A:AR,12,FALSE))<Feuil2!$D$2,Feuil2!$D$2-VLOOKUP(CONCATENATE(VLOOKUP($A$3,XTIME!$A$1:$E$31,3,FALSE),C20),'Fiche Horaire'!A:AR,12,FALSE),IF((VLOOKUP(CONCATENATE(VLOOKUP($A$3,XTIME!$A$1:$E$31,3,FALSE),C20),'Fiche Horaire'!A:AR,12,FALSE)+VLOOKUP(CONCATENATE(VLOOKUP($A$3,XTIME!$A$1:$E$31,3,FALSE),C20),'Fiche Horaire'!A:AR,33,FALSE))>Feuil2!$D$3,VLOOKUP(CONCATENATE(VLOOKUP($A$3,XTIME!$A$1:$E$31,3,FALSE),C20),'Fiche Horaire'!A:AR,33,FALSE)+VLOOKUP(CONCATENATE(VLOOKUP($A$3,XTIME!$A$1:$E$31,3,FALSE),C20),'Fiche Horaire'!A:AR,12,FALSE)-Feuil2!$D$3,"")))))*60+MINUTE(IF(C20="","",IF(VLOOKUP(CONCATENATE(VLOOKUP($A$3,XTIME!$A$1:$E$31,3,FALSE),C20),'Fiche Horaire'!A:AR,12,FALSE)="","",IF((VLOOKUP(CONCATENATE(VLOOKUP($A$3,XTIME!$A$1:$E$31,3,FALSE),C20),'Fiche Horaire'!A:AR,12,FALSE))<Feuil2!$D$2,Feuil2!$D$2-VLOOKUP(CONCATENATE(VLOOKUP($A$3,XTIME!$A$1:$E$31,3,FALSE),C20),'Fiche Horaire'!A:AR,12,FALSE),IF((VLOOKUP(CONCATENATE(VLOOKUP($A$3,XTIME!$A$1:$E$31,3,FALSE),C20),'Fiche Horaire'!A:AR,12,FALSE)+VLOOKUP(CONCATENATE(VLOOKUP($A$3,XTIME!$A$1:$E$31,3,FALSE),C20),'Fiche Horaire'!A:AR,33,FALSE))>Feuil2!$D$3,VLOOKUP(CONCATENATE(VLOOKUP($A$3,XTIME!$A$1:$E$31,3,FALSE),C20),'Fiche Horaire'!A:AR,33,FALSE)+VLOOKUP(CONCATENATE(VLOOKUP($A$3,XTIME!$A$1:$E$31,3,FALSE),C20),'Fiche Horaire'!A:AR,12,FALSE)-Feuil2!$D$3,""))))))/60,"") | L20: =B20 -> SEMAINE 37
C21: =C20+1 -> 43354 | D21: =IF(ISNA((HOUR(VLOOKUP(CONCATENATE(VLOOKUP($A$3,XTIME!$A$1:$E$31,3,FALSE),$C21),Tableau3[[Référence]:[FORMATION]],34,FALSE))*60+MINUTE(VLOOKUP(CONCATENATE(VLOOKUP($A$3,XTIME!$A$1:$E$31,3,FALSE),$C21),Tableau3[[Référence]:[FORMATION]],34,FALSE)))/60)=TRUE,"",((HOUR(VLOOKUP(CONCATENATE(VLOOKUP($A$3,XTIME!$A$1:$E$31,3,FALSE),$C21),Tableau3[[Référence]:[FORMATION]],34,FALSE))*60+MINUTE(VLOOKUP(CONCATENATE(VLOOKUP($A$3,XTIME!$A$1:$E$31,3,FALSE),$C21),Tableau3[[Référence]:[FORMATION]],34,FALSE)))/60)) | E21: =IF(ISNA((HOUR(VLOOKUP(CONCATENATE(VLOOKUP($A$3,XTIME!$A$1:$E$31,3,FALSE),$C21),Tableau3[[Référence]:[FORMATION]],40,FALSE))*60+MINUTE(VLOOKUP(CONCATENATE(VLOOKUP($A$3,XTIME!$A$1:$E$31,3,FALSE),$C21),Tableau3[[Référence]:[FORMATION]],40,FALSE)))/60)=TRUE,"",((HOUR(VLOOKUP(CONCATENATE(VLOOKUP($A$3,XTIME!$A$1:$E$31,3,FALSE),$C21),Tableau3[[Référence]:[FORMATION]],40,FALSE))*60+MINUTE(VLOOKUP(CONCATENATE(VLOOKUP($A$3,XTIME!$A$1:$E$31,3,FALSE),$C21),Tableau3[[Référence]:[FORMATION]],40,FALSE)))/60)) | F21: =IF(ISNA((HOUR(VLOOKUP(CONCATENATE(VLOOKUP($A$3,XTIME!$A$1:$E$31,3,FALSE),$C21),Tableau3[[Référence]:[FORMATION]],41,FALSE))*60+MINUTE(VLOOKUP(CONCATENATE(VLOOKUP($A$3,XTIME!$A$1:$E$31,3,FALSE),$C21),Tableau3[[Référence]:[FORMATION]],41,FALSE)))/60)=TRUE,"",((HOUR(VLOOKUP(CONCATENATE(VLOOKUP($A$3,XTIME!$A$1:$E$31,3,FALSE),$C21),Tableau3[[Référence]:[FORMATION]],41,FALSE))*60+MINUTE(VLOOKUP(CONCATENATE(VLOOKUP($A$3,XTIME!$A$1:$E$31,3,FALSE),$C21),Tableau3[[Référence]:[FORMATION]],41,FALSE)))/60)) | G21: =IF(ISNA((HOUR(VLOOKUP(CONCATENATE(VLOOKUP($A$3,XTIME!$A$1:$E$31,3,FALSE),$C21),Tableau3[[Référence]:[FORMATION]],42,FALSE))*60+MINUTE(VLOOKUP(CONCATENATE(VLOOKUP($A$3,XTIME!$A$1:$E$31,3,FALSE),$C21),Tableau3[[Référence]:[FORMATION]],42,FALSE)))/60)=TRUE,"",((HOUR(VLOOKUP(CONCATENATE(VLOOKUP($A$3,XTIME!$A$1:$E$31,3,FALSE),$C21),Tableau3[[Référence]:[FORMATION]],42,FALSE))*60+MINUTE(VLOOKUP(CONCATENATE(VLOOKUP($A$3,XTIME!$A$1:$E$31,3,FALSE),$C21),Tableau3[[Référence]:[FORMATION]],42,FALSE)))/60)) | H21: =IF(ISNA(VLOOKUP(CONCATENATE(VLOOKUP($A$3,XTIME!$A$1:$E$31,3,FALSE),$C21),Tableau3[[Référence]:[FORMATION]],7,FALSE))=TRUE,"",VLOOKUP(CONCATENATE(VLOOKUP($A$3,XTIME!$A$1:$E$31,3,FALSE),$C21),Tableau3[[Référence]:[FORMATION]],7,FALSE)) | I21: =IFERROR((HOUR(IF(C21="","",MIN(IF((VLOOKUP(CONCATENATE(VLOOKUP($A$3,XTIME!$A$1:$E$31,3,FALSE),C21),'Fiche Horaire'!A:AR,12,FALSE)+VLOOKUP(CONCATENATE(VLOOKUP($A$3,XTIME!$A$1:$E$31,3,FALSE),C21),'Fiche Horaire'!A:AR,33,FALSE))>Feuil2!$C$2,VLOOKUP(CONCATENATE(VLOOKUP($A$3,XTIME!$A$1:$E$31,3,FALSE),C21),'Fiche Horaire'!A:AR,33,FALSE)+VLOOKUP(CONCATENATE(VLOOKUP($A$3,XTIME!$A$1:$E$31,3,FALSE),C21),'Fiche Horaire'!A:AR,12,FALSE)-Feuil2!$C$2,"X"),Feuil2!$C$3)))*60+MINUTE(IF(C21="","",MIN(IF((VLOOKUP(CONCATENATE(VLOOKUP($A$3,XTIME!$A$1:$E$31,3,FALSE),C21),'Fiche Horaire'!A:AR,12,FALSE)+VLOOKUP(CONCATENATE(VLOOKUP($A$3,XTIME!$A$1:$E$31,3,FALSE),C21),'Fiche Horaire'!A:AR,33,FALSE))>Feuil2!$C$2,VLOOKUP(CONCATENATE(VLOOKUP($A$3,XTIME!$A$1:$E$31,3,FALSE),C21),'Fiche Horaire'!A:AR,33,FALSE)+VLOOKUP(CONCATENATE(VLOOKUP($A$3,XTIME!$A$1:$E$31,3,FALSE),C21),'Fiche Horaire'!A:AR,12,FALSE)-Feuil2!$C$2,"X"),Feuil2!$C$3))))/60,"") | J21: =IFERROR((HOUR(IF(C21="","",IF(VLOOKUP(CONCATENATE(VLOOKUP($A$3,XTIME!$A$1:$E$31,3,FALSE),C21),'Fiche Horaire'!A:AR,12,FALSE)="","",IF((VLOOKUP(CONCATENATE(VLOOKUP($A$3,XTIME!$A$1:$E$31,3,FALSE),C21),'Fiche Horaire'!A:AR,12,FALSE))<Feuil2!$D$2,Feuil2!$D$2-VLOOKUP(CONCATENATE(VLOOKUP($A$3,XTIME!$A$1:$E$31,3,FALSE),C21),'Fiche Horaire'!A:AR,12,FALSE),IF((VLOOKUP(CONCATENATE(VLOOKUP($A$3,XTIME!$A$1:$E$31,3,FALSE),C21),'Fiche Horaire'!A:AR,12,FALSE)+VLOOKUP(CONCATENATE(VLOOKUP($A$3,XTIME!$A$1:$E$31,3,FALSE),C21),'Fiche Horaire'!A:AR,33,FALSE))>Feuil2!$D$3,VLOOKUP(CONCATENATE(VLOOKUP($A$3,XTIME!$A$1:$E$31,3,FALSE),C21),'Fiche Horaire'!A:AR,33,FALSE)+VLOOKUP(CONCATENATE(VLOOKUP($A$3,XTIME!$A$1:$E$31,3,FALSE),C21),'Fiche Horaire'!A:AR,12,FALSE)-Feuil2!$D$3,"")))))*60+MINUTE(IF(C21="","",IF(VLOOKUP(CONCATENATE(VLOOKUP($A$3,XTIME!$A$1:$E$31,3,FALSE),C21),'Fiche Horaire'!A:AR,12,FALSE)="","",IF((VLOOKUP(CONCATENATE(VLOOKUP($A$3,XTIME!$A$1:$E$31,3,FALSE),C21),'Fiche Horaire'!A:AR,12,FALSE))<Feuil2!$D$2,Feuil2!$D$2-VLOOKUP(CONCATENATE(VLOOKUP($A$3,XTIME!$A$1:$E$31,3,FALSE),C21),'Fiche Horaire'!A:AR,12,FALSE),IF((VLOOKUP(CONCATENATE(VLOOKUP($A$3,XTIME!$A$1:$E$31,3,FALSE),C21),'Fiche Horaire'!A:AR,12,FALSE)+VLOOKUP(CONCATENATE(VLOOKUP($A$3,XTIME!$A$1:$E$31,3,FALSE),C21),'Fiche Horaire'!A:AR,33,FALSE))>Feuil2!$D$3,VLOOKUP(CONCATENATE(VLOOKUP($A$3,XTIME!$A$1:$E$31,3,FALSE),C21),'Fiche Horaire'!A:AR,33,FALSE)+VLOOKUP(CONCATENATE(VLOOKUP($A$3,XTIME!$A$1:$E$31,3,FALSE),C21),'Fiche Horaire'!A:AR,12,FALSE)-Feuil2!$D$3,""))))))/60,"") | L21: TOTAL HEURES | M21: =D26+E26+G26+H26+F26 -> 0
C22: =C21+1 -> 43355 | D22: =IF(ISNA((HOUR(VLOOKUP(CONCATENATE(VLOOKUP($A$3,XTIME!$A$1:$E$31,3,FALSE),$C22),Tableau3[[Référence]:[FORMATION]],34,FALSE))*60+MINUTE(VLOOKUP(CONCATENATE(VLOOKUP($A$3,XTIME!$A$1:$E$31,3,FALSE),$C22),Tableau3[[Référence]:[FORMATION]],34,FALSE)))/60)=TRUE,"",((HOUR(VLOOKUP(CONCATENATE(VLOOKUP($A$3,XTIME!$A$1:$E$31,3,FALSE),$C22),Tableau3[[Référence]:[FORMATION]],34,FALSE))*60+MINUTE(VLOOKUP(CONCATENATE(VLOOKUP($A$3,XTIME!$A$1:$E$31,3,FALSE),$C22),Tableau3[[Référence]:[FORMATION]],34,FALSE)))/60)) | E22: =IF(ISNA((HOUR(VLOOKUP(CONCATENATE(VLOOKUP($A$3,XTIME!$A$1:$E$31,3,FALSE),$C22),Tableau3[[Référence]:[FORMATION]],40,FALSE))*60+MINUTE(VLOOKUP(CONCATENATE(VLOOKUP($A$3,XTIME!$A$1:$E$31,3,FALSE),$C22),Tableau3[[Référence]:[FORMATION]],40,FALSE)))/60)=TRUE,"",((HOUR(VLOOKUP(CONCATENATE(VLOOKUP($A$3,XTIME!$A$1:$E$31,3,FALSE),$C22),Tableau3[[Référence]:[FORMATION]],40,FALSE))*60+MINUTE(VLOOKUP(CONCATENATE(VLOOKUP($A$3,XTIME!$A$1:$E$31,3,FALSE),$C22),Tableau3[[Référence]:[FORMATION]],40,FALSE)))/60)) | F22: =IF(ISNA((HOUR(VLOOKUP(CONCATENATE(VLOOKUP($A$3,XTIME!$A$1:$E$31,3,FALSE),$C22),Tableau3[[Référence]:[FORMATION]],41,FALSE))*60+MINUTE(VLOOKUP(CONCATENATE(VLOOKUP($A$3,XTIME!$A$1:$E$31,3,FALSE),$C22),Tableau3[[Référence]:[FORMATION]],41,FALSE)))/60)=TRUE,"",((HOUR(VLOOKUP(CONCATENATE(VLOOKUP($A$3,XTIME!$A$1:$E$31,3,FALSE),$C22),Tableau3[[Référence]:[FORMATION]],41,FALSE))*60+MINUTE(VLOOKUP(CONCATENATE(VLOOKUP($A$3,XTIME!$A$1:$E$31,3,FALSE),$C22),Tableau3[[Référence]:[FORMATION]],41,FALSE)))/60)) | G22: =IF(ISNA((HOUR(VLOOKUP(CONCATENATE(VLOOKUP($A$3,XTIME!$A$1:$E$31,3,FALSE),$C22),Tableau3[[Référence]:[FORMATION]],42,FALSE))*60+MINUTE(VLOOKUP(CONCATENATE(VLOOKUP($A$3,XTIME!$A$1:$E$31,3,FALSE),$C22),Tableau3[[Référence]:[FORMATION]],42,FALSE)))/60)=TRUE,"",((HOUR(VLOOKUP(CONCATENATE(VLOOKUP($A$3,XTIME!$A$1:$E$31,3,FALSE),$C22),Tableau3[[Référence]:[FORMATION]],42,FALSE))*60+MINUTE(VLOOKUP(CONCATENATE(VLOOKUP($A$3,XTIME!$A$1:$E$31,3,FALSE),$C22),Tableau3[[Référence]:[FORMATION]],42,FALSE)))/60)) | H22: =IF(ISNA(VLOOKUP(CONCATENATE(VLOOKUP($A$3,XTIME!$A$1:$E$31,3,FALSE),$C22),Tableau3[[Référence]:[FORMATION]],7,FALSE))=TRUE,"",VLOOKUP(CONCATENATE(VLOOKUP($A$3,XTIME!$A$1:$E$31,3,FALSE),$C22),Tableau3[[Référence]:[FORMATION]],7,FALSE)) | I22: =IFERROR((HOUR(IF(C22="","",MIN(IF((VLOOKUP(CONCATENATE(VLOOKUP($A$3,XTIME!$A$1:$E$31,3,FALSE),C22),'Fiche Horaire'!A:AR,12,FALSE)+VLOOKUP(CONCATENATE(VLOOKUP($A$3,XTIME!$A$1:$E$31,3,FALSE),C22),'Fiche Horaire'!A:AR,33,FALSE))>Feuil2!$C$2,VLOOKUP(CONCATENATE(VLOOKUP($A$3,XTIME!$A$1:$E$31,3,FALSE),C22),'Fiche Horaire'!A:AR,33,FALSE)+VLOOKUP(CONCATENATE(VLOOKUP($A$3,XTIME!$A$1:$E$31,3,FALSE),C22),'Fiche Horaire'!A:AR,12,FALSE)-Feuil2!$C$2,"X"),Feuil2!$C$3)))*60+MINUTE(IF(C22="","",MIN(IF((VLOOKUP(CONCATENATE(VLOOKUP($A$3,XTIME!$A$1:$E$31,3,FALSE),C22),'Fiche Horaire'!A:AR,12,FALSE)+VLOOKUP(CONCATENATE(VLOOKUP($A$3,XTIME!$A$1:$E$31,3,FALSE),C22),'Fiche Horaire'!A:AR,33,FALSE))>Feuil2!$C$2,VLOOKUP(CONCATENATE(VLOOKUP($A$3,XTIME!$A$1:$E$31,3,FALSE),C22),'Fiche Horaire'!A:AR,33,FALSE)+VLOOKUP(CONCATENATE(VLOOKUP($A$3,XTIME!$A$1:$E$31,3,FALSE),C22),'Fiche Horaire'!A:AR,12,FALSE)-Feuil2!$C$2,"X"),Feuil2!$C$3))))/60,"") | J22: =IFERROR((HOUR(IF(C22="","",IF(VLOOKUP(CONCATENATE(VLOOKUP($A$3,XTIME!$A$1:$E$31,3,FALSE),C22),'Fiche Horaire'!A:AR,12,FALSE)="","",IF((VLOOKUP(CONCATENATE(VLOOKUP($A$3,XTIME!$A$1:$E$31,3,FALSE),C22),'Fiche Horaire'!A:AR,12,FALSE))<Feuil2!$D$2,Feuil2!$D$2-VLOOKUP(CONCATENATE(VLOOKUP($A$3,XTIME!$A$1:$E$31,3,FALSE),C22),'Fiche Horaire'!A:AR,12,FALSE),IF((VLOOKUP(CONCATENATE(VLOOKUP($A$3,XTIME!$A$1:$E$31,3,FALSE),C22),'Fiche Horaire'!A:AR,12,FALSE)+VLOOKUP(CONCATENATE(VLOOKUP($A$3,XTIME!$A$1:$E$31,3,FALSE),C22),'Fiche Horaire'!A:AR,33,FALSE))>Feuil2!$D$3,VLOOKUP(CONCATENATE(VLOOKUP($A$3,XTIME!$A$1:$E$31,3,FALSE),C22),'Fiche Horaire'!A:AR,33,FALSE)+VLOOKUP(CONCATENATE(VLOOKUP($A$3,XTIME!$A$1:$E$31,3,FALSE),C22),'Fiche Horaire'!A:AR,12,FALSE)-Feuil2!$D$3,"")))))*60+MINUTE(IF(C22="","",IF(VLOOKUP(CONCATENATE(VLOOKUP($A$3,XTIME!$A$1:$E$31,3,FALSE),C22),'Fiche Horaire'!A:AR,12,FALSE)="","",IF((VLOOKUP(CONCATENATE(VLOOKUP($A$3,XTIME!$A$1:$E$31,3,FALSE),C22),'Fiche Horaire'!A:AR,12,FALSE))<Feuil2!$D$2,Feuil2!$D$2-VLOOKUP(CONCATENATE(VLOOKUP($A$3,XTIME!$A$1:$E$31,3,FALSE),C22),'Fiche Horaire'!A:AR,12,FALSE),IF((VLOOKUP(CONCATENATE(VLOOKUP($A$3,XTIME!$A$1:$E$31,3,FALSE),C22),'Fiche Horaire'!A:AR,12,FALSE)+VLOOKUP(CONCATENATE(VLOOKUP($A$3,XTIME!$A$1:$E$31,3,FALSE),C22),'Fiche Horaire'!A:AR,33,FALSE))>Feuil2!$D$3,VLOOKUP(CONCATENATE(VLOOKUP($A$3,XTIME!$A$1:$E$31,3,FALSE),C22),'Fiche Horaire'!A:AR,33,FALSE)+VLOOKUP(CONCATENATE(VLOOKUP($A$3,XTIME!$A$1:$E$31,3,FALSE),C22),'Fiche Horaire'!A:AR,12,FALSE)-Feuil2!$D$3,""))))))/60,"") | L22: AC HS | M22: =MIN(IF(M21=0,0,IF(M21>=35,M21-35,0)),2) -> 0
C23: =C22+1 -> 43356 | D23: =IF(ISNA((HOUR(VLOOKUP(CONCATENATE(VLOOKUP($A$3,XTIME!$A$1:$E$31,3,FALSE),$C23),Tableau3[[Référence]:[FORMATION]],34,FALSE))*60+MINUTE(VLOOKUP(CONCATENATE(VLOOKUP($A$3,XTIME!$A$1:$E$31,3,FALSE),$C23),Tableau3[[Référence]:[FORMATION]],34,FALSE)))/60)=TRUE,"",((HOUR(VLOOKUP(CONCATENATE(VLOOKUP($A$3,XTIME!$A$1:$E$31,3,FALSE),$C23),Tableau3[[Référence]:[FORMATION]],34,FALSE))*60+MINUTE(VLOOKUP(CONCATENATE(VLOOKUP($A$3,XTIME!$A$1:$E$31,3,FALSE),$C23),Tableau3[[Référence]:[FORMATION]],34,FALSE)))/60)) | E23: =IF(ISNA((HOUR(VLOOKUP(CONCATENATE(VLOOKUP($A$3,XTIME!$A$1:$E$31,3,FALSE),$C23),Tableau3[[Référence]:[FORMATION]],40,FALSE))*60+MINUTE(VLOOKUP(CONCATENATE(VLOOKUP($A$3,XTIME!$A$1:$E$31,3,FALSE),$C23),Tableau3[[Référence]:[FORMATION]],40,FALSE)))/60)=TRUE,"",((HOUR(VLOOKUP(CONCATENATE(VLOOKUP($A$3,XTIME!$A$1:$E$31,3,FALSE),$C23),Tableau3[[Référence]:[FORMATION]],40,FALSE))*60+MINUTE(VLOOKUP(CONCATENATE(VLOOKUP($A$3,XTIME!$A$1:$E$31,3,FALSE),$C23),Tableau3[[Référence]:[FORMATION]],40,FALSE)))/60)) | F23: =IF(ISNA((HOUR(VLOOKUP(CONCATENATE(VLOOKUP($A$3,XTIME!$A$1:$E$31,3,FALSE),$C23),Tableau3[[Référence]:[FORMATION]],41,FALSE))*60+MINUTE(VLOOKUP(CONCATENATE(VLOOKUP($A$3,XTIME!$A$1:$E$31,3,FALSE),$C23),Tableau3[[Référence]:[FORMATION]],41,FALSE)))/60)=TRUE,"",((HOUR(VLOOKUP(CONCATENATE(VLOOKUP($A$3,XTIME!$A$1:$E$31,3,FALSE),$C23),Tableau3[[Référence]:[FORMATION]],41,FALSE))*60+MINUTE(VLOOKUP(CONCATENATE(VLOOKUP($A$3,XTIME!$A$1:$E$31,3,FALSE),$C23),Tableau3[[Référence]:[FORMATION]],41,FALSE)))/60)) | G23: =IF(ISNA((HOUR(VLOOKUP(CONCATENATE(VLOOKUP($A$3,XTIME!$A$1:$E$31,3,FALSE),$C23),Tableau3[[Référence]:[FORMATION]],42,FALSE))*60+MINUTE(VLOOKUP(CONCATENATE(VLOOKUP($A$3,XTIME!$A$1:$E$31,3,FALSE),$C23),Tableau3[[Référence]:[FORMATION]],42,FALSE)))/60)=TRUE,"",((HOUR(VLOOKUP(CONCATENATE(VLOOKUP($A$3,XTIME!$A$1:$E$31,3,FALSE),$C23),Tableau3[[Référence]:[FORMATION]],42,FALSE))*60+MINUTE(VLOOKUP(CONCATENATE(VLOOKUP($A$3,XTIME!$A$1:$E$31,3,FALSE),$C23),Tableau3[[Référence]:[FORMATION]],42,FALSE)))/60)) | H23: =IF(ISNA(VLOOKUP(CONCATENATE(VLOOKUP($A$3,XTIME!$A$1:$E$31,3,FALSE),$C23),Tableau3[[Référence]:[FORMATION]],7,FALSE))=TRUE,"",VLOOKUP(CONCATENATE(VLOOKUP($A$3,XTIME!$A$1:$E$31,3,FALSE),$C23),Tableau3[[Référence]:[FORMATION]],7,FALSE)) | I23: =IFERROR((HOUR(IF(C23="","",MIN(IF((VLOOKUP(CONCATENATE(VLOOKUP($A$3,XTIME!$A$1:$E$31,3,FALSE),C23),'Fiche Horaire'!A:AR,12,FALSE)+VLOOKUP(CONCATENATE(VLOOKUP($A$3,XTIME!$A$1:$E$31,3,FALSE),C23),'Fiche Horaire'!A:AR,33,FALSE))>Feuil2!$C$2,VLOOKUP(CONCATENATE(VLOOKUP($A$3,XTIME!$A$1:$E$31,3,FALSE),C23),'Fiche Horaire'!A:AR,33,FALSE)+VLOOKUP(CONCATENATE(VLOOKUP($A$3,XTIME!$A$1:$E$31,3,FALSE),C23),'Fiche Horaire'!A:AR,12,FALSE)-Feuil2!$C$2,"X"),Feuil2!$C$3)))*60+MINUTE(IF(C23="","",MIN(IF((VLOOKUP(CONCATENATE(VLOOKUP($A$3,XTIME!$A$1:$E$31,3,FALSE),C23),'Fiche Horaire'!A:AR,12,FALSE)+VLOOKUP(CONCATENATE(VLOOKUP($A$3,XTIME!$A$1:$E$31,3,FALSE),C23),'Fiche Horaire'!A:AR,33,FALSE))>Feuil2!$C$2,VLOOKUP(CONCATENATE(VLOOKUP($A$3,XTIME!$A$1:$E$31,3,FALSE),C23),'Fiche Horaire'!A:AR,33,FALSE)+VLOOKUP(CONCATENATE(VLOOKUP($A$3,XTIME!$A$1:$E$31,3,FALSE),C23),'Fiche Horaire'!A:AR,12,FALSE)-Feuil2!$C$2,"X"),Feuil2!$C$3))))/60,"") | J23: =IFERROR((HOUR(IF(C23="","",IF(VLOOKUP(CONCATENATE(VLOOKUP($A$3,XTIME!$A$1:$E$31,3,FALSE),C23),'Fiche Horaire'!A:AR,12,FALSE)="","",IF((VLOOKUP(CONCATENATE(VLOOKUP($A$3,XTIME!$A$1:$E$31,3,FALSE),C23),'Fiche Horaire'!A:AR,12,FALSE))<Feuil2!$D$2,Feuil2!$D$2-VLOOKUP(CONCATENATE(VLOOKUP($A$3,XTIME!$A$1:$E$31,3,FALSE),C23),'Fiche Horaire'!A:AR,12,FALSE),IF((VLOOKUP(CONCATENATE(VLOOKUP($A$3,XTIME!$A$1:$E$31,3,FALSE),C23),'Fiche Horaire'!A:AR,12,FALSE)+VLOOKUP(CONCATENATE(VLOOKUP($A$3,XTIME!$A$1:$E$31,3,FALSE),C23),'Fiche Horaire'!A:AR,33,FALSE))>Feuil2!$D$3,VLOOKUP(CONCATENATE(VLOOKUP($A$3,XTIME!$A$1:$E$31,3,FALSE),C23),'Fiche Horaire'!A:AR,33,FALSE)+VLOOKUP(CONCATENATE(VLOOKUP($A$3,XTIME!$A$1:$E$31,3,FALSE),C23),'Fiche Horaire'!A:AR,12,FALSE)-Feuil2!$D$3,"")))))*60+MINUTE(IF(C23="","",IF(VLOOKUP(CONCATENATE(VLOOKUP($A$3,XTIME!$A$1:$E$31,3,FALSE),C23),'Fiche Horaire'!A:AR,12,FALSE)="","",IF((VLOOKUP(CONCATENATE(VLOOKUP($A$3,XTIME!$A$1:$E$31,3,FALSE),C23),'Fiche Horaire'!A:AR,12,FALSE))<Feuil2!$D$2,Feuil2!$D$2-VLOOKUP(CONCATENATE(VLOOKUP($A$3,XTIME!$A$1:$E$31,3,FALSE),C23),'Fiche Horaire'!A:AR,12,FALSE),IF((VLOOKUP(CONCATENATE(VLOOKUP($A$3,XTIME!$A$1:$E$31,3,FALSE),C23),'Fiche Horaire'!A:AR,12,FALSE)+VLOOKUP(CONCATENATE(VLOOKUP($A$3,XTIME!$A$1:$E$31,3,FALSE),C23),'Fiche Horaire'!A:AR,33,FALSE))>Feuil2!$D$3,VLOOKUP(CONCATENATE(VLOOKUP($A$3,XTIME!$A$1:$E$31,3,FALSE),C23),'Fiche Horaire'!A:AR,33,FALSE)+VLOOKUP(CONCATENATE(VLOOKUP($A$3,XTIME!$A$1:$E$31,3,FALSE),C23),'Fiche Horaire'!A:AR,12,FALSE)-Feuil2!$D$3,""))))))/60,"") | L23: HS 125% | M23: =IF(M21<45,M21-$K$4-M26,3) -> 0
C24: =C23+1 -> 43357 | D24: =IF(ISNA((HOUR(VLOOKUP(CONCATENATE(VLOOKUP($A$3,XTIME!$A$1:$E$31,3,FALSE),$C24),Tableau3[[Référence]:[FORMATION]],34,FALSE))*60+MINUTE(VLOOKUP(CONCATENATE(VLOOKUP($A$3,XTIME!$A$1:$E$31,3,FALSE),$C24),Tableau3[[Référence]:[FORMATION]],34,FALSE)))/60)=TRUE,"",((HOUR(VLOOKUP(CONCATENATE(VLOOKUP($A$3,XTIME!$A$1:$E$31,3,FALSE),$C24),Tableau3[[Référence]:[FORMATION]],34,FALSE))*60+MINUTE(VLOOKUP(CONCATENATE(VLOOKUP($A$3,XTIME!$A$1:$E$31,3,FALSE),$C24),Tableau3[[Référence]:[FORMATION]],34,FALSE)))/60)) | E24: =IF(ISNA((HOUR(VLOOKUP(CONCATENATE(VLOOKUP($A$3,XTIME!$A$1:$E$31,3,FALSE),$C24),Tableau3[[Référence]:[FORMATION]],40,FALSE))*60+MINUTE(VLOOKUP(CONCATENATE(VLOOKUP($A$3,XTIME!$A$1:$E$31,3,FALSE),$C24),Tableau3[[Référence]:[FORMATION]],40,FALSE)))/60)=TRUE,"",((HOUR(VLOOKUP(CONCATENATE(VLOOKUP($A$3,XTIME!$A$1:$E$31,3,FALSE),$C24),Tableau3[[Référence]:[FORMATION]],40,FALSE))*60+MINUTE(VLOOKUP(CONCATENATE(VLOOKUP($A$3,XTIME!$A$1:$E$31,3,FALSE),$C24),Tableau3[[Référence]:[FORMATION]],40,FALSE)))/60)) | F24: =IF(ISNA((HOUR(VLOOKUP(CONCATENATE(VLOOKUP($A$3,XTIME!$A$1:$E$31,3,FALSE),$C24),Tableau3[[Référence]:[FORMATION]],41,FALSE))*60+MINUTE(VLOOKUP(CONCATENATE(VLOOKUP($A$3,XTIME!$A$1:$E$31,3,FALSE),$C24),Tableau3[[Référence]:[FORMATION]],41,FALSE)))/60)=TRUE,"",((HOUR(VLOOKUP(CONCATENATE(VLOOKUP($A$3,XTIME!$A$1:$E$31,3,FALSE),$C24),Tableau3[[Référence]:[FORMATION]],41,FALSE))*60+MINUTE(VLOOKUP(CONCATENATE(VLOOKUP($A$3,XTIME!$A$1:$E$31,3,FALSE),$C24),Tableau3[[Référence]:[FORMATION]],41,FALSE)))/60)) | G24: =IF(ISNA((HOUR(VLOOKUP(CONCATENATE(VLOOKUP($A$3,XTIME!$A$1:$E$31,3,FALSE),$C24),Tableau3[[Référence]:[FORMATION]],42,FALSE))*60+MINUTE(VLOOKUP(CONCATENATE(VLOOKUP($A$3,XTIME!$A$1:$E$31,3,FALSE),$C24),Tableau3[[Référence]:[FORMATION]],42,FALSE)))/60)=TRUE,"",((HOUR(VLOOKUP(CONCATENATE(VLOOKUP($A$3,XTIME!$A$1:$E$31,3,FALSE),$C24),Tableau3[[Référence]:[FORMATION]],42,FALSE))*60+MINUTE(VLOOKUP(CONCATENATE(VLOOKUP($A$3,XTIME!$A$1:$E$31,3,FALSE),$C24),Tableau3[[Référence]:[FORMATION]],42,FALSE)))/60)) | H24: =IF(ISNA(VLOOKUP(CONCATENATE(VLOOKUP($A$3,XTIME!$A$1:$E$31,3,FALSE),$C24),Tableau3[[Référence]:[FORMATION]],7,FALSE))=TRUE,"",VLOOKUP(CONCATENATE(VLOOKUP($A$3,XTIME!$A$1:$E$31,3,FALSE),$C24),Tableau3[[Référence]:[FORMATION]],7,FALSE)) | I24: =IFERROR((HOUR(IF(C24="","",MIN(IF((VLOOKUP(CONCATENATE(VLOOKUP($A$3,XTIME!$A$1:$E$31,3,FALSE),C24),'Fiche Horaire'!A:AR,12,FALSE)+VLOOKUP(CONCATENATE(VLOOKUP($A$3,XTIME!$A$1:$E$31,3,FALSE),C24),'Fiche Horaire'!A:AR,33,FALSE))>Feuil2!$C$2,VLOOKUP(CONCATENATE(VLOOKUP($A$3,XTIME!$A$1:$E$31,3,FALSE),C24),'Fiche Horaire'!A:AR,33,FALSE)+VLOOKUP(CONCATENATE(VLOOKUP($A$3,XTIME!$A$1:$E$31,3,FALSE),C24),'Fiche Horaire'!A:AR,12,FALSE)-Feuil2!$C$2,"X"),Feuil2!$C$3)))*60+MINUTE(IF(C24="","",MIN(IF((VLOOKUP(CONCATENATE(VLOOKUP($A$3,XTIME!$A$1:$E$31,3,FALSE),C24),'Fiche Horaire'!A:AR,12,FALSE)+VLOOKUP(CONCATENATE(VLOOKUP($A$3,XTIME!$A$1:$E$31,3,FALSE),C24),'Fiche Horaire'!A:AR,33,FALSE))>Feuil2!$C$2,VLOOKUP(CONCATENATE(VLOOKUP($A$3,XTIME!$A$1:$E$31,3,FALSE),C24),'Fiche Horaire'!A:AR,33,FALSE)+VLOOKUP(CONCATENATE(VLOOKUP($A$3,XTIME!$A$1:$E$31,3,FALSE),C24),'Fiche Horaire'!A:AR,12,FALSE)-Feuil2!$C$2,"X"),Feuil2!$C$3))))/60,"") | J24: =IFERROR((HOUR(IF(C24="","",IF(VLOOKUP(CONCATENATE(VLOOKUP($A$3,XTIME!$A$1:$E$31,3,FALSE),C24),'Fiche Horaire'!A:AR,12,FALSE)="","",IF((VLOOKUP(CONCATENATE(VLOOKUP($A$3,XTIME!$A$1:$E$31,3,FALSE),C24),'Fiche Horaire'!A:AR,12,FALSE))<Feuil2!$D$2,Feuil2!$D$2-VLOOKUP(CONCATENATE(VLOOKUP($A$3,XTIME!$A$1:$E$31,3,FALSE),C24),'Fiche Horaire'!A:AR,12,FALSE),IF((VLOOKUP(CONCATENATE(VLOOKUP($A$3,XTIME!$A$1:$E$31,3,FALSE),C24),'Fiche Horaire'!A:AR,12,FALSE)+VLOOKUP(CONCATENATE(VLOOKUP($A$3,XTIME!$A$1:$E$31,3,FALSE),C24),'Fiche Horaire'!A:AR,33,FALSE))>Feuil2!$D$3,VLOOKUP(CONCATENATE(VLOOKUP($A$3,XTIME!$A$1:$E$31,3,FALSE),C24),'Fiche Horaire'!A:AR,33,FALSE)+VLOOKUP(CONCATENATE(VLOOKUP($A$3,XTIME!$A$1:$E$31,3,FALSE),C24),'Fiche Horaire'!A:AR,12,FALSE)-Feuil2!$D$3,"")))))*60+MINUTE(IF(C24="","",IF(VLOOKUP(CONCATENATE(VLOOKUP($A$3,XTIME!$A$1:$E$31,3,FALSE),C24),'Fiche Horaire'!A:AR,12,FALSE)="","",IF((VLOOKUP(CONCATENATE(VLOOKUP($A$3,XTIME!$A$1:$E$31,3,FALSE),C24),'Fiche Horaire'!A:AR,12,FALSE))<Feuil2!$D$2,Feuil2!$D$2-VLOOKUP(CONCATENATE(VLOOKUP($A$3,XTIME!$A$1:$E$31,3,FALSE),C24),'Fiche Horaire'!A:AR,12,FALSE),IF((VLOOKUP(CONCATENATE(VLOOKUP($A$3,XTIME!$A$1:$E$31,3,FALSE),C24),'Fiche Horaire'!A:AR,12,FALSE)+VLOOKUP(CONCATENATE(VLOOKUP($A$3,XTIME!$A$1:$E$31,3,FALSE),C24),'Fiche Horaire'!A:AR,33,FALSE))>Feuil2!$D$3,VLOOKUP(CONCATENATE(VLOOKUP($A$3,XTIME!$A$1:$E$31,3,FALSE),C24),'Fiche Horaire'!A:AR,33,FALSE)+VLOOKUP(CONCATENATE(VLOOKUP($A$3,XTIME!$A$1:$E$31,3,FALSE),C24),'Fiche Horaire'!A:AR,12,FALSE)-Feuil2!$D$3,""))))))/60,"") | L24: HS 150% | M24: =IF(M21>45,M21-$K$4-M26-M23,0) -> 0
C25: =C24+1 -> 43358 | D25: =IF(ISNA((HOUR(VLOOKUP(CONCATENATE(VLOOKUP($A$3,XTIME!$A$1:$E$31,3,FALSE),$C25),Tableau3[[Référence]:[FORMATION]],34,FALSE))*60+MINUTE(VLOOKUP(CONCATENATE(VLOOKUP($A$3,XTIME!$A$1:$E$31,3,FALSE),$C25),Tableau3[[Référence]:[FORMATION]],34,FALSE)))/60)=TRUE,"",((HOUR(VLOOKUP(CONCATENATE(VLOOKUP($A$3,XTIME!$A$1:$E$31,3,FALSE),$C25),Tableau3[[Référence]:[FORMATION]],34,FALSE))*60+MINUTE(VLOOKUP(CONCATENATE(VLOOKUP($A$3,XTIME!$A$1:$E$31,3,FALSE),$C25),Tableau3[[Référence]:[FORMATION]],34,FALSE)))/60)) | E25: =IF(ISNA((HOUR(VLOOKUP(CONCATENATE(VLOOKUP($A$3,XTIME!$A$1:$E$31,3,FALSE),$C25),Tableau3[[Référence]:[FORMATION]],40,FALSE))*60+MINUTE(VLOOKUP(CONCATENATE(VLOOKUP($A$3,XTIME!$A$1:$E$31,3,FALSE),$C25),Tableau3[[Référence]:[FORMATION]],40,FALSE)))/60)=TRUE,"",((HOUR(VLOOKUP(CONCATENATE(VLOOKUP($A$3,XTIME!$A$1:$E$31,3,FALSE),$C25),Tableau3[[Référence]:[FORMATION]],40,FALSE))*60+MINUTE(VLOOKUP(CONCATENATE(VLOOKUP($A$3,XTIME!$A$1:$E$31,3,FALSE),$C25),Tableau3[[Référence]:[FORMATION]],40,FALSE)))/60)) | F25: =IF(ISNA((HOUR(VLOOKUP(CONCATENATE(VLOOKUP($A$3,XTIME!$A$1:$E$31,3,FALSE),$C25),Tableau3[[Référence]:[FORMATION]],41,FALSE))*60+MINUTE(VLOOKUP(CONCATENATE(VLOOKUP($A$3,XTIME!$A$1:$E$31,3,FALSE),$C25),Tableau3[[Référence]:[FORMATION]],41,FALSE)))/60)=TRUE,"",((HOUR(VLOOKUP(CONCATENATE(VLOOKUP($A$3,XTIME!$A$1:$E$31,3,FALSE),$C25),Tableau3[[Référence]:[FORMATION]],41,FALSE))*60+MINUTE(VLOOKUP(CONCATENATE(VLOOKUP($A$3,XTIME!$A$1:$E$31,3,FALSE),$C25),Tableau3[[Référence]:[FORMATION]],41,FALSE)))/60)) | G25: =IF(ISNA((HOUR(VLOOKUP(CONCATENATE(VLOOKUP($A$3,XTIME!$A$1:$E$31,3,FALSE),$C25),Tableau3[[Référence]:[FORMATION]],42,FALSE))*60+MINUTE(VLOOKUP(CONCATENATE(VLOOKUP($A$3,XTIME!$A$1:$E$31,3,FALSE),$C25),Tableau3[[Référence]:[FORMATION]],42,FALSE)))/60)=TRUE,"",((HOUR(VLOOKUP(CONCATENATE(VLOOKUP($A$3,XTIME!$A$1:$E$31,3,FALSE),$C25),Tableau3[[Référence]:[FORMATION]],42,FALSE))*60+MINUTE(VLOOKUP(CONCATENATE(VLOOKUP($A$3,XTIME!$A$1:$E$31,3,FALSE),$C25),Tableau3[[Référence]:[FORMATION]],42,FALSE)))/60)) | H25: =IF(ISNA(VLOOKUP(CONCATENATE(VLOOKUP($A$3,XTIME!$A$1:$E$31,3,FALSE),$C25),Tableau3[[Référence]:[FORMATION]],7,FALSE))=TRUE,"",VLOOKUP(CONCATENATE(VLOOKUP($A$3,XTIME!$A$1:$E$31,3,FALSE),$C25),Tableau3[[Référence]:[FORMATION]],7,FALSE)) | I25: =IFERROR((HOUR(IF(C25="","",MIN(IF((VLOOKUP(CONCATENATE(VLOOKUP($A$3,XTIME!$A$1:$E$31,3,FALSE),C25),'Fiche Horaire'!A:AR,12,FALSE)+VLOOKUP(CONCATENATE(VLOOKUP($A$3,XTIME!$A$1:$E$31,3,FALSE),C25),'Fiche Horaire'!A:AR,33,FALSE))>Feuil2!$C$2,VLOOKUP(CONCATENATE(VLOOKUP($A$3,XTIME!$A$1:$E$31,3,FALSE),C25),'Fiche Horaire'!A:AR,33,FALSE)+VLOOKUP(CONCATENATE(VLOOKUP($A$3,XTIME!$A$1:$E$31,3,FALSE),C25),'Fiche Horaire'!A:AR,12,FALSE)-Feuil2!$C$2,"X"),Feuil2!$C$3)))*60+MINUTE(IF(C25="","",MIN(IF((VLOOKUP(CONCATENATE(VLOOKUP($A$3,XTIME!$A$1:$E$31,3,FALSE),C25),'Fiche Horaire'!A:AR,12,FALSE)+VLOOKUP(CONCATENATE(VLOOKUP($A$3,XTIME!$A$1:$E$31,3,FALSE),C25),'Fiche Horaire'!A:AR,33,FALSE))>Feuil2!$C$2,VLOOKUP(CONCATENATE(VLOOKUP($A$3,XTIME!$A$1:$E$31,3,FALSE),C25),'Fiche Horaire'!A:AR,33,FALSE)+VLOOKUP(CONCATENATE(VLOOKUP($A$3,XTIME!$A$1:$E$31,3,FALSE),C25),'Fiche Horaire'!A:AR,12,FALSE)-Feuil2!$C$2,"X"),Feuil2!$C$3))))/60,"") | J25: =IFERROR((HOUR(IF(C25="","",IF(VLOOKUP(CONCATENATE(VLOOKUP($A$3,XTIME!$A$1:$E$31,3,FALSE),C25),'Fiche Horaire'!A:AR,12,FALSE)="","",IF((VLOOKUP(CONCATENATE(VLOOKUP($A$3,XTIME!$A$1:$E$31,3,FALSE),C25),'Fiche Horaire'!A:AR,12,FALSE))<Feuil2!$D$2,Feuil2!$D$2-VLOOKUP(CONCATENATE(VLOOKUP($A$3,XTIME!$A$1:$E$31,3,FALSE),C25),'Fiche Horaire'!A:AR,12,FALSE),IF((VLOOKUP(CONCATENATE(VLOOKUP($A$3,XTIME!$A$1:$E$31,3,FALSE),C25),'Fiche Horaire'!A:AR,12,FALSE)+VLOOKUP(CONCATENATE(VLOOKUP($A$3,XTIME!$A$1:$E$31,3,FALSE),C25),'Fiche Horaire'!A:AR,33,FALSE))>Feuil2!$D$3,VLOOKUP(CONCATENATE(VLOOKUP($A$3,XTIME!$A$1:$E$31,3,FALSE),C25),'Fiche Horaire'!A:AR,33,FALSE)+VLOOKUP(CONCATENATE(VLOOKUP($A$3,XTIME!$A$1:$E$31,3,FALSE),C25),'Fiche Horaire'!A:AR,12,FALSE)-Feuil2!$D$3,"")))))*60+MINUTE(IF(C25="","",IF(VLOOKUP(CONCATENATE(VLOOKUP($A$3,XTIME!$A$1:$E$31,3,FALSE),C25),'Fiche Horaire'!A:AR,12,FALSE)="","",IF((VLOOKUP(CONCATENATE(VLOOKUP($A$3,XTIME!$A$1:$E$31,3,FALSE),C25),'Fiche Horaire'!A:AR,12,FALSE))<Feuil2!$D$2,Feuil2!$D$2-VLOOKUP(CONCATENATE(VLOOKUP($A$3,XTIME!$A$1:$E$31,3,FALSE),C25),'Fiche Horaire'!A:AR,12,FALSE),IF((VLOOKUP(CONCATENATE(VLOOKUP($A$3,XTIME!$A$1:$E$31,3,FALSE),C25),'Fiche Horaire'!A:AR,12,FALSE)+VLOOKUP(CONCATENATE(VLOOKUP($A$3,XTIME!$A$1:$E$31,3,FALSE),C25),'Fiche Horaire'!A:AR,33,FALSE))>Feuil2!$D$3,VLOOKUP(CONCATENATE(VLOOKUP($A$3,XTIME!$A$1:$E$31,3,FALSE),C25),'Fiche Horaire'!A:AR,33,FALSE)+VLOOKUP(CONCATENATE(VLOOKUP($A$3,XTIME!$A$1:$E$31,3,FALSE),C25),'Fiche Horaire'!A:AR,12,FALSE)-Feuil2!$D$3,""))))))/60,"") | L25: H TUNNEL | M25: =MIN(IF(M21=0,0,IF(M21>=37,M21-37,IF(M21<=35,M21-35,0))),5) -> 0
C26: TOTAL | D26: =SUM(D20:D25) -> 0 | E26: =SUM(E20:E25) -> 0 | F26: =SUM(F20:F25) -> 0 | G26: =SUM(G20:G25) -> 0 | H26: =IF(COUNTIF(H20:H25,0)>0,0,IF(COUNTBLANK(H20:H25)=6,0,(6-COUNTBLANK(H20:H25)-COUNTIF(H20:H25,"REPOS"))*$K18/5)) -> 0 | I26: =SUM(I20:I25) -> 0 | J26: =SUM(J20:J25) -> 0 | L26: MODUL. | M26: =IF(M21<42,M21-$K$4,7) -> -43
B27: =CONCATENATE("SEMAINE"," ",WEEKNUM(C27)) -> SEMAINE 38 | C27: =C25+2 -> 43360 | D27: =IF(ISNA((HOUR(VLOOKUP(CONCATENATE(VLOOKUP($A$3,XTIME!$A$1:$E$31,3,FALSE),$C27),Tableau3[[Référence]:[FORMATION]],34,FALSE))*60+MINUTE(VLOOKUP(CONCATENATE(VLOOKUP($A$3,XTIME!$A$1:$E$31,3,FALSE),$C27),Tableau3[[Référence]:[FORMATION]],34,FALSE)))/60)=TRUE,"",((HOUR(VLOOKUP(CONCATENATE(VLOOKUP($A$3,XTIME!$A$1:$E$31,3,FALSE),$C27),Tableau3[[Référence]:[FORMATION]],34,FALSE))*60+MINUTE(VLOOKUP(CONCATENATE(VLOOKUP($A$3,XTIME!$A$1:$E$31,3,FALSE),$C27),Tableau3[[Référence]:[FORMATION]],34,FALSE)))/60)) | E27: =IF(ISNA((HOUR(VLOOKUP(CONCATENATE(VLOOKUP($A$3,XTIME!$A$1:$E$31,3,FALSE),$C27),Tableau3[[Référence]:[FORMATION]],40,FALSE))*60+MINUTE(VLOOKUP(CONCATENATE(VLOOKUP($A$3,XTIME!$A$1:$E$31,3,FALSE),$C27),Tableau3[[Référence]:[FORMATION]],40,FALSE)))/60)=TRUE,"",((HOUR(VLOOKUP(CONCATENATE(VLOOKUP($A$3,XTIME!$A$1:$E$31,3,FALSE),$C27),Tableau3[[Référence]:[FORMATION]],40,FALSE))*60+MINUTE(VLOOKUP(CONCATENATE(VLOOKUP($A$3,XTIME!$A$1:$E$31,3,FALSE),$C27),Tableau3[[Référence]:[FORMATION]],40,FALSE)))/60)) | F27: =IF(ISNA((HOUR(VLOOKUP(CONCATENATE(VLOOKUP($A$3,XTIME!$A$1:$E$31,3,FALSE),$C27),Tableau3[[Référence]:[FORMATION]],41,FALSE))*60+MINUTE(VLOOKUP(CONCATENATE(VLOOKUP($A$3,XTIME!$A$1:$E$31,3,FALSE),$C27),Tableau3[[Référence]:[FORMATION]],41,FALSE)))/60)=TRUE,"",((HOUR(VLOOKUP(CONCATENATE(VLOOKUP($A$3,XTIME!$A$1:$E$31,3,FALSE),$C27),Tableau3[[Référence]:[FORMATION]],41,FALSE))*60+MINUTE(VLOOKUP(CONCATENATE(VLOOKUP($A$3,XTIME!$A$1:$E$31,3,FALSE),$C27),Tableau3[[Référence]:[FORMATION]],41,FALSE)))/60)) | G27: =IF(ISNA((HOUR(VLOOKUP(CONCATENATE(VLOOKUP($A$3,XTIME!$A$1:$E$31,3,FALSE),$C27),Tableau3[[Référence]:[FORMATION]],42,FALSE))*60+MINUTE(VLOOKUP(CONCATENATE(VLOOKUP($A$3,XTIME!$A$1:$E$31,3,FALSE),$C27),Tableau3[[Référence]:[FORMATION]],42,FALSE)))/60)=TRUE,"",((HOUR(VLOOKUP(CONCATENATE(VLOOKUP($A$3,XTIME!$A$1:$E$31,3,FALSE),$C27),Tableau3[[Référence]:[FORMATION]],42,FALSE))*60+MINUTE(VLOOKUP(CONCATENATE(VLOOKUP($A$3,XTIME!$A$1:$E$31,3,FALSE),$C27),Tableau3[[Référence]:[FORMATION]],42,FALSE)))/60)) | H27: =IF(ISNA(VLOOKUP(CONCATENATE(VLOOKUP($A$3,XTIME!$A$1:$E$31,3,FALSE),$C27),Tableau3[[Référence]:[FORMATION]],7,FALSE))=TRUE,"",VLOOKUP(CONCATENATE(VLOOKUP($A$3,XTIME!$A$1:$E$31,3,FALSE),$C27),Tableau3[[Référence]:[FORMATION]],7,FALSE)) | I27: =IFERROR((HOUR(IF(C27="","",MIN(IF((VLOOKUP(CONCATENATE(VLOOKUP($A$3,XTIME!$A$1:$E$31,3,FALSE),C27),'Fiche Horaire'!A:AR,12,FALSE)+VLOOKUP(CONCATENATE(VLOOKUP($A$3,XTIME!$A$1:$E$31,3,FALSE),C27),'Fiche Horaire'!A:AR,33,FALSE))>Feuil2!$C$2,VLOOKUP(CONCATENATE(VLOOKUP($A$3,XTIME!$A$1:$E$31,3,FALSE),C27),'Fiche Horaire'!A:AR,33,FALSE)+VLOOKUP(CONCATENATE(VLOOKUP($A$3,XTIME!$A$1:$E$31,3,FALSE),C27),'Fiche Horaire'!A:AR,12,FALSE)-Feuil2!$C$2,"X"),Feuil2!$C$3)))*60+MINUTE(IF(C27="","",MIN(IF((VLOOKUP(CONCATENATE(VLOOKUP($A$3,XTIME!$A$1:$E$31,3,FALSE),C27),'Fiche Horaire'!A:AR,12,FALSE)+VLOOKUP(CONCATENATE(VLOOKUP($A$3,XTIME!$A$1:$E$31,3,FALSE),C27),'Fiche Horaire'!A:AR,33,FALSE))>Feuil2!$C$2,VLOOKUP(CONCATENATE(VLOOKUP($A$3,XTIME!$A$1:$E$31,3,FALSE),C27),'Fiche Horaire'!A:AR,33,FALSE)+VLOOKUP(CONCATENATE(VLOOKUP($A$3,XTIME!$A$1:$E$31,3,FALSE),C27),'Fiche Horaire'!A:AR,12,FALSE)-Feuil2!$C$2,"X"),Feuil2!$C$3))))/60,"") | J27: =IFERROR((HOUR(IF(C27="","",IF(VLOOKUP(CONCATENATE(VLOOKUP($A$3,XTIME!$A$1:$E$31,3,FALSE),C27),'Fiche Horaire'!A:AR,12,FALSE)="","",IF((VLOOKUP(CONCATENATE(VLOOKUP($A$3,XTIME!$A$1:$E$31,3,FALSE),C27),'Fiche Horaire'!A:AR,12,FALSE))<Feuil2!$D$2,Feuil2!$D$2-VLOOKUP(CONCATENATE(VLOOKUP($A$3,XTIME!$A$1:$E$31,3,FALSE),C27),'Fiche Horaire'!A:AR,12,FALSE),IF((VLOOKUP(CONCATENATE(VLOOKUP($A$3,XTIME!$A$1:$E$31,3,FALSE),C27),'Fiche Horaire'!A:AR,12,FALSE)+VLOOKUP(CONCATENATE(VLOOKUP($A$3,XTIME!$A$1:$E$31,3,FALSE),C27),'Fiche Horaire'!A:AR,33,FALSE))>Feuil2!$D$3,VLOOKUP(CONCATENATE(VLOOKUP($A$3,XTIME!$A$1:$E$31,3,FALSE),C27),'Fiche Horaire'!A:AR,33,FALSE)+VLOOKUP(CONCATENATE(VLOOKUP($A$3,XTIME!$A$1:$E$31,3,FALSE),C27),'Fiche Horaire'!A:AR,12,FALSE)-Feuil2!$D$3,"")))))*60+MINUTE(IF(C27="","",IF(VLOOKUP(CONCATENATE(VLOOKUP($A$3,XTIME!$A$1:$E$31,3,FALSE),C27),'Fiche Horaire'!A:AR,12,FALSE)="","",IF((VLOOKUP(CONCATENATE(VLOOKUP($A$3,XTIME!$A$1:$E$31,3,FALSE),C27),'Fiche Horaire'!A:AR,12,FALSE))<Feuil2!$D$2,Feuil2!$D$2-VLOOKUP(CONCATENATE(VLOOKUP($A$3,XTIME!$A$1:$E$31,3,FALSE),C27),'Fiche Horaire'!A:AR,12,FALSE),IF((VLOOKUP(CONCATENATE(VLOOKUP($A$3,XTIME!$A$1:$E$31,3,FALSE),C27),'Fiche Horaire'!A:AR,12,FALSE)+VLOOKUP(CONCATENATE(VLOOKUP($A$3,XTIME!$A$1:$E$31,3,FALSE),C27),'Fiche Horaire'!A:AR,33,FALSE))>Feuil2!$D$3,VLOOKUP(CONCATENATE(VLOOKUP($A$3,XTIME!$A$1:$E$31,3,FALSE),C27),'Fiche Horaire'!A:AR,33,FALSE)+VLOOKUP(CONCATENATE(VLOOKUP($A$3,XTIME!$A$1:$E$31,3,FALSE),C27),'Fiche Horaire'!A:AR,12,FALSE)-Feuil2!$D$3,""))))))/60,"") | L27: =B27 -> SEMAINE 38
C28: =C27+1 -> 43361 | D28: =IF(ISNA((HOUR(VLOOKUP(CONCATENATE(VLOOKUP($A$3,XTIME!$A$1:$E$31,3,FALSE),$C28),Tableau3[[Référence]:[FORMATION]],34,FALSE))*60+MINUTE(VLOOKUP(CONCATENATE(VLOOKUP($A$3,XTIME!$A$1:$E$31,3,FALSE),$C28),Tableau3[[Référence]:[FORMATION]],34,FALSE)))/60)=TRUE,"",((HOUR(VLOOKUP(CONCATENATE(VLOOKUP($A$3,XTIME!$A$1:$E$31,3,FALSE),$C28),Tableau3[[Référence]:[FORMATION]],34,FALSE))*60+MINUTE(VLOOKUP(CONCATENATE(VLOOKUP($A$3,XTIME!$A$1:$E$31,3,FALSE),$C28),Tableau3[[Référence]:[FORMATION]],34,FALSE)))/60)) | E28: =IF(ISNA((HOUR(VLOOKUP(CONCATENATE(VLOOKUP($A$3,XTIME!$A$1:$E$31,3,FALSE),$C28),Tableau3[[Référence]:[FORMATION]],40,FALSE))*60+MINUTE(VLOOKUP(CONCATENATE(VLOOKUP($A$3,XTIME!$A$1:$E$31,3,FALSE),$C28),Tableau3[[Référence]:[FORMATION]],40,FALSE)))/60)=TRUE,"",((HOUR(VLOOKUP(CONCATENATE(VLOOKUP($A$3,XTIME!$A$1:$E$31,3,FALSE),$C28),Tableau3[[Référence]:[FORMATION]],40,FALSE))*60+MINUTE(VLOOKUP(CONCATENATE(VLOOKUP($A$3,XTIME!$A$1:$E$31,3,FALSE),$C28),Tableau3[[Référence]:[FORMATION]],40,FALSE)))/60)) | F28: =IF(ISNA((HOUR(VLOOKUP(CONCATENATE(VLOOKUP($A$3,XTIME!$A$1:$E$31,3,FALSE),$C28),Tableau3[[Référence]:[FORMATION]],41,FALSE))*60+MINUTE(VLOOKUP(CONCATENATE(VLOOKUP($A$3,XTIME!$A$1:$E$31,3,FALSE),$C28),Tableau3[[Référence]:[FORMATION]],41,FALSE)))/60)=TRUE,"",((HOUR(VLOOKUP(CONCATENATE(VLOOKUP($A$3,XTIME!$A$1:$E$31,3,FALSE),$C28),Tableau3[[Référence]:[FORMATION]],41,FALSE))*60+MINUTE(VLOOKUP(CONCATENATE(VLOOKUP($A$3,XTIME!$A$1:$E$31,3,FALSE),$C28),Tableau3[[Référence]:[FORMATION]],41,FALSE)))/60)) | G28: =IF(ISNA((HOUR(VLOOKUP(CONCATENATE(VLOOKUP($A$3,XTIME!$A$1:$E$31,3,FALSE),$C28),Tableau3[[Référence]:[FORMATION]],42,FALSE))*60+MINUTE(VLOOKUP(CONCATENATE(VLOOKUP($A$3,XTIME!$A$1:$E$31,3,FALSE),$C28),Tableau3[[Référence]:[FORMATION]],42,FALSE)))/60)=TRUE,"",((HOUR(VLOOKUP(CONCATENATE(VLOOKUP($A$3,XTIME!$A$1:$E$31,3,FALSE),$C28),Tableau3[[Référence]:[FORMATION]],42,FALSE))*60+MINUTE(VLOOKUP(CONCATENATE(VLOOKUP($A$3,XTIME!$A$1:$E$31,3,FALSE),$C28),Tableau3[[Référence]:[FORMATION]],42,FALSE)))/60)) | H28: =IF(ISNA(VLOOKUP(CONCATENATE(VLOOKUP($A$3,XTIME!$A$1:$E$31,3,FALSE),$C28),Tableau3[[Référence]:[FORMATION]],7,FALSE))=TRUE,"",VLOOKUP(CONCATENATE(VLOOKUP($A$3,XTIME!$A$1:$E$31,3,FALSE),$C28),Tableau3[[Référence]:[FORMATION]],7,FALSE)) | I28: =IFERROR((HOUR(IF(C28="","",MIN(IF((VLOOKUP(CONCATENATE(VLOOKUP($A$3,XTIME!$A$1:$E$31,3,FALSE),C28),'Fiche Horaire'!A:AR,12,FALSE)+VLOOKUP(CONCATENATE(VLOOKUP($A$3,XTIME!$A$1:$E$31,3,FALSE),C28),'Fiche Horaire'!A:AR,33,FALSE))>Feuil2!$C$2,VLOOKUP(CONCATENATE(VLOOKUP($A$3,XTIME!$A$1:$E$31,3,FALSE),C28),'Fiche Horaire'!A:AR,33,FALSE)+VLOOKUP(CONCATENATE(VLOOKUP($A$3,XTIME!$A$1:$E$31,3,FALSE),C28),'Fiche Horaire'!A:AR,12,FALSE)-Feuil2!$C$2,"X"),Feuil2!$C$3)))*60+MINUTE(IF(C28="","",MIN(IF((VLOOKUP(CONCATENATE(VLOOKUP($A$3,XTIME!$A$1:$E$31,3,FALSE),C28),'Fiche Horaire'!A:AR,12,FALSE)+VLOOKUP(CONCATENATE(VLOOKUP($A$3,XTIME!$A$1:$E$31,3,FALSE),C28),'Fiche Horaire'!A:AR,33,FALSE))>Feuil2!$C$2,VLOOKUP(CONCATENATE(VLOOKUP($A$3,XTIME!$A$1:$E$31,3,FALSE),C28),'Fiche Horaire'!A:AR,33,FALSE)+VLOOKUP(CONCATENATE(VLOOKUP($A$3,XTIME!$A$1:$E$31,3,FALSE),C28),'Fiche Horaire'!A:AR,12,FALSE)-Feuil2!$C$2,"X"),Feuil2!$C$3))))/60,"") | J28: =IFERROR((HOUR(IF(C28="","",IF(VLOOKUP(CONCATENATE(VLOOKUP($A$3,XTIME!$A$1:$E$31,3,FALSE),C28),'Fiche Horaire'!A:AR,12,FALSE)="","",IF((VLOOKUP(CONCATENATE(VLOOKUP($A$3,XTIME!$A$1:$E$31,3,FALSE),C28),'Fiche Horaire'!A:AR,12,FALSE))<Feuil2!$D$2,Feuil2!$D$2-VLOOKUP(CONCATENATE(VLOOKUP($A$3,XTIME!$A$1:$E$31,3,FALSE),C28),'Fiche Horaire'!A:AR,12,FALSE),IF((VLOOKUP(CONCATENATE(VLOOKUP($A$3,XTIME!$A$1:$E$31,3,FALSE),C28),'Fiche Horaire'!A:AR,12,FALSE)+VLOOKUP(CONCATENATE(VLOOKUP($A$3,XTIME!$A$1:$E$31,3,FALSE),C28),'Fiche Horaire'!A:AR,33,FALSE))>Feuil2!$D$3,VLOOKUP(CONCATENATE(VLOOKUP($A$3,XTIME!$A$1:$E$31,3,FALSE),C28),'Fiche Horaire'!A:AR,33,FALSE)+VLOOKUP(CONCATENATE(VLOOKUP($A$3,XTIME!$A$1:$E$31,3,FALSE),C28),'Fiche Horaire'!A:AR,12,FALSE)-Feuil2!$D$3,"")))))*60+MINUTE(IF(C28="","",IF(VLOOKUP(CONCATENATE(VLOOKUP($A$3,XTIME!$A$1:$E$31,3,FALSE),C28),'Fiche Horaire'!A:AR,12,FALSE)="","",IF((VLOOKUP(CONCATENATE(VLOOKUP($A$3,XTIME!$A$1:$E$31,3,FALSE),C28),'Fiche Horaire'!A:AR,12,FALSE))<Feuil2!$D$2,Feuil2!$D$2-VLOOKUP(CONCATENATE(VLOOKUP($A$3,XTIME!$A$1:$E$31,3,FALSE),C28),'Fiche Horaire'!A:AR,12,FALSE),IF((VLOOKUP(CONCATENATE(VLOOKUP($A$3,XTIME!$A$1:$E$31,3,FALSE),C28),'Fiche Horaire'!A:AR,12,FALSE)+VLOOKUP(CONCATENATE(VLOOKUP($A$3,XTIME!$A$1:$E$31,3,FALSE),C28),'Fiche Horaire'!A:AR,33,FALSE))>Feuil2!$D$3,VLOOKUP(CONCATENATE(VLOOKUP($A$3,XTIME!$A$1:$E$31,3,FALSE),C28),'Fiche Horaire'!A:AR,33,FALSE)+VLOOKUP(CONCATENATE(VLOOKUP($A$3,XTIME!$A$1:$E$31,3,FALSE),C28),'Fiche Horaire'!A:AR,12,FALSE)-Feuil2!$D$3,""))))))/60,"") | L28: TOTAL HEURES | M28: =D33+E33+G33+H33+F33 -> 0
C29: =C28+1 -> 43362 | D29: =IF(ISNA((HOUR(VLOOKUP(CONCATENATE(VLOOKUP($A$3,XTIME!$A$1:$E$31,3,FALSE),$C29),Tableau3[[Référence]:[FORMATION]],34,FALSE))*60+MINUTE(VLOOKUP(CONCATENATE(VLOOKUP($A$3,XTIME!$A$1:$E$31,3,FALSE),$C29),Tableau3[[Référence]:[FORMATION]],34,FALSE)))/60)=TRUE,"",((HOUR(VLOOKUP(CONCATENATE(VLOOKUP($A$3,XTIME!$A$1:$E$31,3,FALSE),$C29),Tableau3[[Référence]:[FORMATION]],34,FALSE))*60+MINUTE(VLOOKUP(CONCATENATE(VLOOKUP($A$3,XTIME!$A$1:$E$31,3,FALSE),$C29),Tableau3[[Référence]:[FORMATION]],34,FALSE)))/60)) | E29: =IF(ISNA((HOUR(VLOOKUP(CONCATENATE(VLOOKUP($A$3,XTIME!$A$1:$E$31,3,FALSE),$C29),Tableau3[[Référence]:[FORMATION]],40,FALSE))*60+MINUTE(VLOOKUP(CONCATENATE(VLOOKUP($A$3,XTIME!$A$1:$E$31,3,FALSE),$C29),Tableau3[[Référence]:[FORMATION]],40,FALSE)))/60)=TRUE,"",((HOUR(VLOOKUP(CONCATENATE(VLOOKUP($A$3,XTIME!$A$1:$E$31,3,FALSE),$C29),Tableau3[[Référence]:[FORMATION]],40,FALSE))*60+MINUTE(VLOOKUP(CONCATENATE(VLOOKUP($A$3,XTIME!$A$1:$E$31,3,FALSE),$C29),Tableau3[[Référence]:[FORMATION]],40,FALSE)))/60)) | F29: =IF(ISNA((HOUR(VLOOKUP(CONCATENATE(VLOOKUP($A$3,XTIME!$A$1:$E$31,3,FALSE),$C29),Tableau3[[Référence]:[FORMATION]],41,FALSE))*60+MINUTE(VLOOKUP(CONCATENATE(VLOOKUP($A$3,XTIME!$A$1:$E$31,3,FALSE),$C29),Tableau3[[Référence]:[FORMATION]],41,FALSE)))/60)=TRUE,"",((HOUR(VLOOKUP(CONCATENATE(VLOOKUP($A$3,XTIME!$A$1:$E$31,3,FALSE),$C29),Tableau3[[Référence]:[FORMATION]],41,FALSE))*60+MINUTE(VLOOKUP(CONCATENATE(VLOOKUP($A$3,XTIME!$A$1:$E$31,3,FALSE),$C29),Tableau3[[Référence]:[FORMATION]],41,FALSE)))/60)) | G29: =IF(ISNA((HOUR(VLOOKUP(CONCATENATE(VLOOKUP($A$3,XTIME!$A$1:$E$31,3,FALSE),$C29),Tableau3[[Référence]:[FORMATION]],42,FALSE))*60+MINUTE(VLOOKUP(CONCATENATE(VLOOKUP($A$3,XTIME!$A$1:$E$31,3,FALSE),$C29),Tableau3[[Référence]:[FORMATION]],42,FALSE)))/60)=TRUE,"",((HOUR(VLOOKUP(CONCATENATE(VLOOKUP($A$3,XTIME!$A$1:$E$31,3,FALSE),$C29),Tableau3[[Référence]:[FORMATION]],42,FALSE))*60+MINUTE(VLOOKUP(CONCATENATE(VLOOKUP($A$3,XTIME!$A$1:$E$31,3,FALSE),$C29),Tableau3[[Référence]:[FORMATION]],42,FALSE)))/60)) | H29: =IF(ISNA(VLOOKUP(CONCATENATE(VLOOKUP($A$3,XTIME!$A$1:$E$31,3,FALSE),$C29),Tableau3[[Référence]:[FORMATION]],7,FALSE))=TRUE,"",VLOOKUP(CONCATENATE(VLOOKUP($A$3,XTIME!$A$1:$E$31,3,FALSE),$C29),Tableau3[[Référence]:[FORMATION]],7,FALSE)) | I29: =IFERROR((HOUR(IF(C29="","",MIN(IF((VLOOKUP(CONCATENATE(VLOOKUP($A$3,XTIME!$A$1:$E$31,3,FALSE),C29),'Fiche Horaire'!A:AR,12,FALSE)+VLOOKUP(CONCATENATE(VLOOKUP($A$3,XTIME!$A$1:$E$31,3,FALSE),C29),'Fiche Horaire'!A:AR,33,FALSE))>Feuil2!$C$2,VLOOKUP(CONCATENATE(VLOOKUP($A$3,XTIME!$A$1:$E$31,3,FALSE),C29),'Fiche Horaire'!A:AR,33,FALSE)+VLOOKUP(CONCATENATE(VLOOKUP($A$3,XTIME!$A$1:$E$31,3,FALSE),C29),'Fiche Horaire'!A:AR,12,FALSE)-Feuil2!$C$2,"X"),Feuil2!$C$3)))*60+MINUTE(IF(C29="","",MIN(IF((VLOOKUP(CONCATENATE(VLOOKUP($A$3,XTIME!$A$1:$E$31,3,FALSE),C29),'Fiche Horaire'!A:AR,12,FALSE)+VLOOKUP(CONCATENATE(VLOOKUP($A$3,XTIME!$A$1:$E$31,3,FALSE),C29),'Fiche Horaire'!A:AR,33,FALSE))>Feuil2!$C$2,VLOOKUP(CONCATENATE(VLOOKUP($A$3,XTIME!$A$1:$E$31,3,FALSE),C29),'Fiche Horaire'!A:AR,33,FALSE)+VLOOKUP(CONCATENATE(VLOOKUP($A$3,XTIME!$A$1:$E$31,3,FALSE),C29),'Fiche Horaire'!A:AR,12,FALSE)-Feuil2!$C$2,"X"),Feuil2!$C$3))))/60,"") | J29: =IFERROR((HOUR(IF(C29="","",IF(VLOOKUP(CONCATENATE(VLOOKUP($A$3,XTIME!$A$1:$E$31,3,FALSE),C29),'Fiche Horaire'!A:AR,12,FALSE)="","",IF((VLOOKUP(CONCATENATE(VLOOKUP($A$3,XTIME!$A$1:$E$31,3,FALSE),C29),'Fiche Horaire'!A:AR,12,FALSE))<Feuil2!$D$2,Feuil2!$D$2-VLOOKUP(CONCATENATE(VLOOKUP($A$3,XTIME!$A$1:$E$31,3,FALSE),C29),'Fiche Horaire'!A:AR,12,FALSE),IF((VLOOKUP(CONCATENATE(VLOOKUP($A$3,XTIME!$A$1:$E$31,3,FALSE),C29),'Fiche Horaire'!A:AR,12,FALSE)+VLOOKUP(CONCATENATE(VLOOKUP($A$3,XTIME!$A$1:$E$31,3,FALSE),C29),'Fiche Horaire'!A:AR,33,FALSE))>Feuil2!$D$3,VLOOKUP(CONCATENATE(VLOOKUP($A$3,XTIME!$A$1:$E$31,3,FALSE),C29),'Fiche Horaire'!A:AR,33,FALSE)+VLOOKUP(CONCATENATE(VLOOKUP($A$3,XTIME!$A$1:$E$31,3,FALSE),C29),'Fiche Horaire'!A:AR,12,FALSE)-Feuil2!$D$3,"")))))*60+MINUTE(IF(C29="","",IF(VLOOKUP(CONCATENATE(VLOOKUP($A$3,XTIME!$A$1:$E$31,3,FALSE),C29),'Fiche Horaire'!A:AR,12,FALSE)="","",IF((VLOOKUP(CONCATENATE(VLOOKUP($A$3,XTIME!$A$1:$E$31,3,FALSE),C29),'Fiche Horaire'!A:AR,12,FALSE))<Feuil2!$D$2,Feuil2!$D$2-VLOOKUP(CONCATENATE(VLOOKUP($A$3,XTIME!$A$1:$E$31,3,FALSE),C29),'Fiche Horaire'!A:AR,12,FALSE),IF((VLOOKUP(CONCATENATE(VLOOKUP($A$3,XTIME!$A$1:$E$31,3,FALSE),C29),'Fiche Horaire'!A:AR,12,FALSE)+VLOOKUP(CONCATENATE(VLOOKUP($A$3,XTIME!$A$1:$E$31,3,FALSE),C29),'Fiche Horaire'!A:AR,33,FALSE))>Feuil2!$D$3,VLOOKUP(CONCATENATE(VLOOKUP($A$3,XTIME!$A$1:$E$31,3,FALSE),C29),'Fiche Horaire'!A:AR,33,FALSE)+VLOOKUP(CONCATENATE(VLOOKUP($A$3,XTIME!$A$1:$E$31,3,FALSE),C29),'Fiche Horaire'!A:AR,12,FALSE)-Feuil2!$D$3,""))))))/60,"") | L29: AC HS | M29: =MIN(IF(M28=0,0,IF(M28>=35,M28-35,0)),2) -> 0
C30: =C29+1 -> 43363 | D30: =IF(ISNA((HOUR(VLOOKUP(CONCATENATE(VLOOKUP($A$3,XTIME!$A$1:$E$31,3,FALSE),$C30),Tableau3[[Référence]:[FORMATION]],34,FALSE))*60+MINUTE(VLOOKUP(CONCATENATE(VLOOKUP($A$3,XTIME!$A$1:$E$31,3,FALSE),$C30),Tableau3[[Référence]:[FORMATION]],34,FALSE)))/60)=TRUE,"",((HOUR(VLOOKUP(CONCATENATE(VLOOKUP($A$3,XTIME!$A$1:$E$31,3,FALSE),$C30),Tableau3[[Référence]:[FORMATION]],34,FALSE))*60+MINUTE(VLOOKUP(CONCATENATE(VLOOKUP($A$3,XTIME!$A$1:$E$31,3,FALSE),$C30),Tableau3[[Référence]:[FORMATION]],34,FALSE)))/60)) | E30: =IF(ISNA((HOUR(VLOOKUP(CONCATENATE(VLOOKUP($A$3,XTIME!$A$1:$E$31,3,FALSE),$C30),Tableau3[[Référence]:[FORMATION]],40,FALSE))*60+MINUTE(VLOOKUP(CONCATENATE(VLOOKUP($A$3,XTIME!$A$1:$E$31,3,FALSE),$C30),Tableau3[[Référence]:[FORMATION]],40,FALSE)))/60)=TRUE,"",((HOUR(VLOOKUP(CONCATENATE(VLOOKUP($A$3,XTIME!$A$1:$E$31,3,FALSE),$C30),Tableau3[[Référence]:[FORMATION]],40,FALSE))*60+MINUTE(VLOOKUP(CONCATENATE(VLOOKUP($A$3,XTIME!$A$1:$E$31,3,FALSE),$C30),Tableau3[[Référence]:[FORMATION]],40,FALSE)))/60)) | F30: =IF(ISNA((HOUR(VLOOKUP(CONCATENATE(VLOOKUP($A$3,XTIME!$A$1:$E$31,3,FALSE),$C30),Tableau3[[Référence]:[FORMATION]],41,FALSE))*60+MINUTE(VLOOKUP(CONCATENATE(VLOOKUP($A$3,XTIME!$A$1:$E$31,3,FALSE),$C30),Tableau3[[Référence]:[FORMATION]],41,FALSE)))/60)=TRUE,"",((HOUR(VLOOKUP(CONCATENATE(VLOOKUP($A$3,XTIME!$A$1:$E$31,3,FALSE),$C30),Tableau3[[Référence]:[FORMATION]],41,FALSE))*60+MINUTE(VLOOKUP(CONCATENATE(VLOOKUP($A$3,XTIME!$A$1:$E$31,3,FALSE),$C30),Tableau3[[Référence]:[FORMATION]],41,FALSE)))/60)) | G30: =IF(ISNA((HOUR(VLOOKUP(CONCATENATE(VLOOKUP($A$3,XTIME!$A$1:$E$31,3,FALSE),$C30),Tableau3[[Référence]:[FORMATION]],42,FALSE))*60+MINUTE(VLOOKUP(CONCATENATE(VLOOKUP($A$3,XTIME!$A$1:$E$31,3,FALSE),$C30),Tableau3[[Référence]:[FORMATION]],42,FALSE)))/60)=TRUE,"",((HOUR(VLOOKUP(CONCATENATE(VLOOKUP($A$3,XTIME!$A$1:$E$31,3,FALSE),$C30),Tableau3[[Référence]:[FORMATION]],42,FALSE))*60+MINUTE(VLOOKUP(CONCATENATE(VLOOKUP($A$3,XTIME!$A$1:$E$31,3,FALSE),$C30),Tableau3[[Référence]:[FORMATION]],42,FALSE)))/60)) | H30: =IF(ISNA(VLOOKUP(CONCATENATE(VLOOKUP($A$3,XTIME!$A$1:$E$31,3,FALSE),$C30),Tableau3[[Référence]:[FORMATION]],7,FALSE))=TRUE,"",VLOOKUP(CONCATENATE(VLOOKUP($A$3,XTIME!$A$1:$E$31,3,FALSE),$C30),Tableau3[[Référence]:[FORMATION]],7,FALSE)) | I30: =IFERROR((HOUR(IF(C30="","",MIN(IF((VLOOKUP(CONCATENATE(VLOOKUP($A$3,XTIME!$A$1:$E$31,3,FALSE),C30),'Fiche Horaire'!A:AR,12,FALSE)+VLOOKUP(CONCATENATE(VLOOKUP($A$3,XTIME!$A$1:$E$31,3,FALSE),C30),'Fiche Horaire'!A:AR,33,FALSE))>Feuil2!$C$2,VLOOKUP(CONCATENATE(VLOOKUP($A$3,XTIME!$A$1:$E$31,3,FALSE),C30),'Fiche Horaire'!A:AR,33,FALSE)+VLOOKUP(CONCATENATE(VLOOKUP($A$3,XTIME!$A$1:$E$31,3,FALSE),C30),'Fiche Horaire'!A:AR,12,FALSE)-Feuil2!$C$2,"X"),Feuil2!$C$3)))*60+MINUTE(IF(C30="","",MIN(IF((VLOOKUP(CONCATENATE(VLOOKUP($A$3,XTIME!$A$1:$E$31,3,FALSE),C30),'Fiche Horaire'!A:AR,12,FALSE)+VLOOKUP(CONCATENATE(VLOOKUP($A$3,XTIME!$A$1:$E$31,3,FALSE),C30),'Fiche Horaire'!A:AR,33,FALSE))>Feuil2!$C$2,VLOOKUP(CONCATENATE(VLOOKUP($A$3,XTIME!$A$1:$E$31,3,FALSE),C30),'Fiche Horaire'!A:AR,33,FALSE)+VLOOKUP(CONCATENATE(VLOOKUP($A$3,XTIME!$A$1:$E$31,3,FALSE),C30),'Fiche Horaire'!A:AR,12,FALSE)-Feuil2!$C$2,"X"),Feuil2!$C$3))))/60,"") | J30: =IFERROR((HOUR(IF(C30="","",IF(VLOOKUP(CONCATENATE(VLOOKUP($A$3,XTIME!$A$1:$E$31,3,FALSE),C30),'Fiche Horaire'!A:AR,12,FALSE)="","",IF((VLOOKUP(CONCATENATE(VLOOKUP($A$3,XTIME!$A$1:$E$31,3,FALSE),C30),'Fiche Horaire'!A:AR,12,FALSE))<Feuil2!$D$2,Feuil2!$D$2-VLOOKUP(CONCATENATE(VLOOKUP($A$3,XTIME!$A$1:$E$31,3,FALSE),C30),'Fiche Horaire'!A:AR,12,FALSE),IF((VLOOKUP(CONCATENATE(VLOOKUP($A$3,XTIME!$A$1:$E$31,3,FALSE),C30),'Fiche Horaire'!A:AR,12,FALSE)+VLOOKUP(CONCATENATE(VLOOKUP($A$3,XTIME!$A$1:$E$31,3,FALSE),C30),'Fiche Horaire'!A:AR,33,FALSE))>Feuil2!$D$3,VLOOKUP(CONCATENATE(VLOOKUP($A$3,XTIME!$A$1:$E$31,3,FALSE),C30),'Fiche Horaire'!A:AR,33,FALSE)+VLOOKUP(CONCATENATE(VLOOKUP($A$3,XTIME!$A$1:$E$31,3,FALSE),C30),'Fiche Horaire'!A:AR,12,FALSE)-Feuil2!$D$3,"")))))*60+MINUTE(IF(C30="","",IF(VLOOKUP(CONCATENATE(VLOOKUP($A$3,XTIME!$A$1:$E$31,3,FALSE),C30),'Fiche Horaire'!A:AR,12,FALSE)="","",IF((VLOOKUP(CONCATENATE(VLOOKUP($A$3,XTIME!$A$1:$E$31,3,FALSE),C30),'Fiche Horaire'!A:AR,12,FALSE))<Feuil2!$D$2,Feuil2!$D$2-VLOOKUP(CONCATENATE(VLOOKUP($A$3,XTIME!$A$1:$E$31,3,FALSE),C30),'Fiche Horaire'!A:AR,12,FALSE),IF((VLOOKUP(CONCATENATE(VLOOKUP($A$3,XTIME!$A$1:$E$31,3,FALSE),C30),'Fiche Horaire'!A:AR,12,FALSE)+VLOOKUP(CONCATENATE(VLOOKUP($A$3,XTIME!$A$1:$E$31,3,FALSE),C30),'Fiche Horaire'!A:AR,33,FALSE))>Feuil2!$D$3,VLOOKUP(CONCATENATE(VLOOKUP($A$3,XTIME!$A$1:$E$31,3,FALSE),C30),'Fiche Horaire'!A:AR,33,FALSE)+VLOOKUP(CONCATENATE(VLOOKUP($A$3,XTIME!$A$1:$E$31,3,FALSE),C30),'Fiche Horaire'!A:AR,12,FALSE)-Feuil2!$D$3,""))))))/60,"") | L30: HS 125% | M30: =IF(M28<45,M28-$K$4-M33,3) -> 0
C31: =C30+1 -> 43364 | D31: =IF(ISNA((HOUR(VLOOKUP(CONCATENATE(VLOOKUP($A$3,XTIME!$A$1:$E$31,3,FALSE),$C31),Tableau3[[Référence]:[FORMATION]],34,FALSE))*60+MINUTE(VLOOKUP(CONCATENATE(VLOOKUP($A$3,XTIME!$A$1:$E$31,3,FALSE),$C31),Tableau3[[Référence]:[FORMATION]],34,FALSE)))/60)=TRUE,"",((HOUR(VLOOKUP(CONCATENATE(VLOOKUP($A$3,XTIME!$A$1:$E$31,3,FALSE),$C31),Tableau3[[Référence]:[FORMATION]],34,FALSE))*60+MINUTE(VLOOKUP(CONCATENATE(VLOOKUP($A$3,XTIME!$A$1:$E$31,3,FALSE),$C31),Tableau3[[Référence]:[FORMATION]],34,FALSE)))/60)) | E31: =IF(ISNA((HOUR(VLOOKUP(CONCATENATE(VLOOKUP($A$3,XTIME!$A$1:$E$31,3,FALSE),$C31),Tableau3[[Référence]:[FORMATION]],40,FALSE))*60+MINUTE(VLOOKUP(CONCATENATE(VLOOKUP($A$3,XTIME!$A$1:$E$31,3,FALSE),$C31),Tableau3[[Référence]:[FORMATION]],40,FALSE)))/60)=TRUE,"",((HOUR(VLOOKUP(CONCATENATE(VLOOKUP($A$3,XTIME!$A$1:$E$31,3,FALSE),$C31),Tableau3[[Référence]:[FORMATION]],40,FALSE))*60+MINUTE(VLOOKUP(CONCATENATE(VLOOKUP($A$3,XTIME!$A$1:$E$31,3,FALSE),$C31),Tableau3[[Référence]:[FORMATION]],40,FALSE)))/60)) | F31: =IF(ISNA((HOUR(VLOOKUP(CONCATENATE(VLOOKUP($A$3,XTIME!$A$1:$E$31,3,FALSE),$C31),Tableau3[[Référence]:[FORMATION]],41,FALSE))*60+MINUTE(VLOOKUP(CONCATENATE(VLOOKUP($A$3,XTIME!$A$1:$E$31,3,FALSE),$C31),Tableau3[[Référence]:[FORMATION]],41,FALSE)))/60)=TRUE,"",((HOUR(VLOOKUP(CONCATENATE(VLOOKUP($A$3,XTIME!$A$1:$E$31,3,FALSE),$C31),Tableau3[[Référence]:[FORMATION]],41,FALSE))*60+MINUTE(VLOOKUP(CONCATENATE(VLOOKUP($A$3,XTIME!$A$1:$E$31,3,FALSE),$C31),Tableau3[[Référence]:[FORMATION]],41,FALSE)))/60)) | G31: =IF(ISNA((HOUR(VLOOKUP(CONCATENATE(VLOOKUP($A$3,XTIME!$A$1:$E$31,3,FALSE),$C31),Tableau3[[Référence]:[FORMATION]],42,FALSE))*60+MINUTE(VLOOKUP(CONCATENATE(VLOOKUP($A$3,XTIME!$A$1:$E$31,3,FALSE),$C31),Tableau3[[Référence]:[FORMATION]],42,FALSE)))/60)=TRUE,"",((HOUR(VLOOKUP(CONCATENATE(VLOOKUP($A$3,XTIME!$A$1:$E$31,3,FALSE),$C31),Tableau3[[Référence]:[FORMATION]],42,FALSE))*60+MINUTE(VLOOKUP(CONCATENATE(VLOOKUP($A$3,XTIME!$A$1:$E$31,3,FALSE),$C31),Tableau3[[Référence]:[FORMATION]],42,FALSE)))/60)) | H31: =IF(ISNA(VLOOKUP(CONCATENATE(VLOOKUP($A$3,XTIME!$A$1:$E$31,3,FALSE),$C31),Tableau3[[Référence]:[FORMATION]],7,FALSE))=TRUE,"",VLOOKUP(CONCATENATE(VLOOKUP($A$3,XTIME!$A$1:$E$31,3,FALSE),$C31),Tableau3[[Référence]:[FORMATION]],7,FALSE)) | I31: =IFERROR((HOUR(IF(C31="","",MIN(IF((VLOOKUP(CONCATENATE(VLOOKUP($A$3,XTIME!$A$1:$E$31,3,FALSE),C31),'Fiche Horaire'!A:AR,12,FALSE)+VLOOKUP(CONCATENATE(VLOOKUP($A$3,XTIME!$A$1:$E$31,3,FALSE),C31),'Fiche Horaire'!A:AR,33,FALSE))>Feuil2!$C$2,VLOOKUP(CONCATENATE(VLOOKUP($A$3,XTIME!$A$1:$E$31,3,FALSE),C31),'Fiche Horaire'!A:AR,33,FALSE)+VLOOKUP(CONCATENATE(VLOOKUP($A$3,XTIME!$A$1:$E$31,3,FALSE),C31),'Fiche Horaire'!A:AR,12,FALSE)-Feuil2!$C$2,"X"),Feuil2!$C$3)))*60+MINUTE(IF(C31="","",MIN(IF((VLOOKUP(CONCATENATE(VLOOKUP($A$3,XTIME!$A$1:$E$31,3,FALSE),C31),'Fiche Horaire'!A:AR,12,FALSE)+VLOOKUP(CONCATENATE(VLOOKUP($A$3,XTIME!$A$1:$E$31,3,FALSE),C31),'Fiche Horaire'!A:AR,33,FALSE))>Feuil2!$C$2,VLOOKUP(CONCATENATE(VLOOKUP($A$3,XTIME!$A$1:$E$31,3,FALSE),C31),'Fiche Horaire'!A:AR,33,FALSE)+VLOOKUP(CONCATENATE(VLOOKUP($A$3,XTIME!$A$1:$E$31,3,FALSE),C31),'Fiche Horaire'!A:AR,12,FALSE)-Feuil2!$C$2,"X"),Feuil2!$C$3))))/60,"") | J31: =IFERROR((HOUR(IF(C31="","",IF(VLOOKUP(CONCATENATE(VLOOKUP($A$3,XTIME!$A$1:$E$31,3,FALSE),C31),'Fiche Horaire'!A:AR,12,FALSE)="","",IF((VLOOKUP(CONCATENATE(VLOOKUP($A$3,XTIME!$A$1:$E$31,3,FALSE),C31),'Fiche Horaire'!A:AR,12,FALSE))<Feuil2!$D$2,Feuil2!$D$2-VLOOKUP(CONCATENATE(VLOOKUP($A$3,XTIME!$A$1:$E$31,3,FALSE),C31),'Fiche Horaire'!A:AR,12,FALSE),IF((VLOOKUP(CONCATENATE(VLOOKUP($A$3,XTIME!$A$1:$E$31,3,FALSE),C31),'Fiche Horaire'!A:AR,12,FALSE)+VLOOKUP(CONCATENATE(VLOOKUP($A$3,XTIME!$A$1:$E$31,3,FALSE),C31),'Fiche Horaire'!A:AR,33,FALSE))>Feuil2!$D$3,VLOOKUP(CONCATENATE(VLOOKUP($A$3,XTIME!$A$1:$E$31,3,FALSE),C31),'Fiche Horaire'!A:AR,33,FALSE)+VLOOKUP(CONCATENATE(VLOOKUP($A$3,XTIME!$A$1:$E$31,3,FALSE),C31),'Fiche Horaire'!A:AR,12,FALSE)-Feuil2!$D$3,"")))))*60+MINUTE(IF(C31="","",IF(VLOOKUP(CONCATENATE(VLOOKUP($A$3,XTIME!$A$1:$E$31,3,FALSE),C31),'Fiche Horaire'!A:AR,12,FALSE)="","",IF((VLOOKUP(CONCATENATE(VLOOKUP($A$3,XTIME!$A$1:$E$31,3,FALSE),C31),'Fiche Horaire'!A:AR,12,FALSE))<Feuil2!$D$2,Feuil2!$D$2-VLOOKUP(CONCATENATE(VLOOKUP($A$3,XTIME!$A$1:$E$31,3,FALSE),C31),'Fiche Horaire'!A:AR,12,FALSE),IF((VLOOKUP(CONCATENATE(VLOOKUP($A$3,XTIME!$A$1:$E$31,3,FALSE),C31),'Fiche Horaire'!A:AR,12,FALSE)+VLOOKUP(CONCATENATE(VLOOKUP($A$3,XTIME!$A$1:$E$31,3,FALSE),C31),'Fiche Horaire'!A:AR,33,FALSE))>Feuil2!$D$3,VLOOKUP(CONCATENATE(VLOOKUP($A$3,XTIME!$A$1:$E$31,3,FALSE),C31),'Fiche Horaire'!A:AR,33,FALSE)+VLOOKUP(CONCATENATE(VLOOKUP($A$3,XTIME!$A$1:$E$31,3,FALSE),C31),'Fiche Horaire'!A:AR,12,FALSE)-Feuil2!$D$3,""))))))/60,"") | L31: HS 150% | M31: =IF(M28>45,M28-$K$4-M33-M30,0) -> 0
C32: =C31+1 -> 43365 | D32: =IF(ISNA((HOUR(VLOOKUP(CONCATENATE(VLOOKUP($A$3,XTIME!$A$1:$E$31,3,FALSE),$C32),Tableau3[[Référence]:[FORMATION]],34,FALSE))*60+MINUTE(VLOOKUP(CONCATENATE(VLOOKUP($A$3,XTIME!$A$1:$E$31,3,FALSE),$C32),Tableau3[[Référence]:[FORMATION]],34,FALSE)))/60)=TRUE,"",((HOUR(VLOOKUP(CONCATENATE(VLOOKUP($A$3,XTIME!$A$1:$E$31,3,FALSE),$C32),Tableau3[[Référence]:[FORMATION]],34,FALSE))*60+MINUTE(VLOOKUP(CONCATENATE(VLOOKUP($A$3,XTIME!$A$1:$E$31,3,FALSE),$C32),Tableau3[[Référence]:[FORMATION]],34,FALSE)))/60)) | E32: =IF(ISNA((HOUR(VLOOKUP(CONCATENATE(VLOOKUP($A$3,XTIME!$A$1:$E$31,3,FALSE),$C32),Tableau3[[Référence]:[FORMATION]],40,FALSE))*60+MINUTE(VLOOKUP(CONCATENATE(VLOOKUP($A$3,XTIME!$A$1:$E$31,3,FALSE),$C32),Tableau3[[Référence]:[FORMATION]],40,FALSE)))/60)=TRUE,"",((HOUR(VLOOKUP(CONCATENATE(VLOOKUP($A$3,XTIME!$A$1:$E$31,3,FALSE),$C32),Tableau3[[Référence]:[FORMATION]],40,FALSE))*60+MINUTE(VLOOKUP(CONCATENATE(VLOOKUP($A$3,XTIME!$A$1:$E$31,3,FALSE),$C32),Tableau3[[Référence]:[FORMATION]],40,FALSE)))/60)) | F32: =IF(ISNA((HOUR(VLOOKUP(CONCATENATE(VLOOKUP($A$3,XTIME!$A$1:$E$31,3,FALSE),$C32),Tableau3[[Référence]:[FORMATION]],41,FALSE))*60+MINUTE(VLOOKUP(CONCATENATE(VLOOKUP($A$3,XTIME!$A$1:$E$31,3,FALSE),$C32),Tableau3[[Référence]:[FORMATION]],41,FALSE)))/60)=TRUE,"",((HOUR(VLOOKUP(CONCATENATE(VLOOKUP($A$3,XTIME!$A$1:$E$31,3,FALSE),$C32),Tableau3[[Référence]:[FORMATION]],41,FALSE))*60+MINUTE(VLOOKUP(CONCATENATE(VLOOKUP($A$3,XTIME!$A$1:$E$31,3,FALSE),$C32),Tableau3[[Référence]:[FORMATION]],41,FALSE)))/60)) | G32: =IF(ISNA((HOUR(VLOOKUP(CONCATENATE(VLOOKUP($A$3,XTIME!$A$1:$E$31,3,FALSE),$C32),Tableau3[[Référence]:[FORMATION]],42,FALSE))*60+MINUTE(VLOOKUP(CONCATENATE(VLOOKUP($A$3,XTIME!$A$1:$E$31,3,FALSE),$C32),Tableau3[[Référence]:[FORMATION]],42,FALSE)))/60)=TRUE,"",((HOUR(VLOOKUP(CONCATENATE(VLOOKUP($A$3,XTIME!$A$1:$E$31,3,FALSE),$C32),Tableau3[[Référence]:[FORMATION]],42,FALSE))*60+MINUTE(VLOOKUP(CONCATENATE(VLOOKUP($A$3,XTIME!$A$1:$E$31,3,FALSE),$C32),Tableau3[[Référence]:[FORMATION]],42,FALSE)))/60)) | H32: =IF(ISNA(VLOOKUP(CONCATENATE(VLOOKUP($A$3,XTIME!$A$1:$E$31,3,FALSE),$C32),Tableau3[[Référence]:[FORMATION]],7,FALSE))=TRUE,"",VLOOKUP(CONCATENATE(VLOOKUP($A$3,XTIME!$A$1:$E$31,3,FALSE),$C32),Tableau3[[Référence]:[FORMATION]],7,FALSE)) | I32: =IFERROR((HOUR(IF(C32="","",MIN(IF((VLOOKUP(CONCATENATE(VLOOKUP($A$3,XTIME!$A$1:$E$31,3,FALSE),C32),'Fiche Horaire'!A:AR,12,FALSE)+VLOOKUP(CONCATENATE(VLOOKUP($A$3,XTIME!$A$1:$E$31,3,FALSE),C32),'Fiche Horaire'!A:AR,33,FALSE))>Feuil2!$C$2,VLOOKUP(CONCATENATE(VLOOKUP($A$3,XTIME!$A$1:$E$31,3,FALSE),C32),'Fiche Horaire'!A:AR,33,FALSE)+VLOOKUP(CONCATENATE(VLOOKUP($A$3,XTIME!$A$1:$E$31,3,FALSE),C32),'Fiche Horaire'!A:AR,12,FALSE)-Feuil2!$C$2,"X"),Feuil2!$C$3)))*60+MINUTE(IF(C32="","",MIN(IF((VLOOKUP(CONCATENATE(VLOOKUP($A$3,XTIME!$A$1:$E$31,3,FALSE),C32),'Fiche Horaire'!A:AR,12,FALSE)+VLOOKUP(CONCATENATE(VLOOKUP($A$3,XTIME!$A$1:$E$31,3,FALSE),C32),'Fiche Horaire'!A:AR,33,FALSE))>Feuil2!$C$2,VLOOKUP(CONCATENATE(VLOOKUP($A$3,XTIME!$A$1:$E$31,3,FALSE),C32),'Fiche Horaire'!A:AR,33,FALSE)+VLOOKUP(CONCATENATE(VLOOKUP($A$3,XTIME!$A$1:$E$31,3,FALSE),C32),'Fiche Horaire'!A:AR,12,FALSE)-Feuil2!$C$2,"X"),Feuil2!$C$3))))/60,"") | J32: =IFERROR((HOUR(IF(C32="","",IF(VLOOKUP(CONCATENATE(VLOOKUP($A$3,XTIME!$A$1:$E$31,3,FALSE),C32),'Fiche Horaire'!A:AR,12,FALSE)="","",IF((VLOOKUP(CONCATENATE(VLOOKUP($A$3,XTIME!$A$1:$E$31,3,FALSE),C32),'Fiche Horaire'!A:AR,12,FALSE))<Feuil2!$D$2,Feuil2!$D$2-VLOOKUP(CONCATENATE(VLOOKUP($A$3,XTIME!$A$1:$E$31,3,FALSE),C32),'Fiche Horaire'!A:AR,12,FALSE),IF((VLOOKUP(CONCATENATE(VLOOKUP($A$3,XTIME!$A$1:$E$31,3,FALSE),C32),'Fiche Horaire'!A:AR,12,FALSE)+VLOOKUP(CONCATENATE(VLOOKUP($A$3,XTIME!$A$1:$E$31,3,FALSE),C32),'Fiche Horaire'!A:AR,33,FALSE))>Feuil2!$D$3,VLOOKUP(CONCATENATE(VLOOKUP($A$3,XTIME!$A$1:$E$31,3,FALSE),C32),'Fiche Horaire'!A:AR,33,FALSE)+VLOOKUP(CONCATENATE(VLOOKUP($A$3,XTIME!$A$1:$E$31,3,FALSE),C32),'Fiche Horaire'!A:AR,12,FALSE)-Feuil2!$D$3,"")))))*60+MINUTE(IF(C32="","",IF(VLOOKUP(CONCATENATE(VLOOKUP($A$3,XTIME!$A$1:$E$31,3,FALSE),C32),'Fiche Horaire'!A:AR,12,FALSE)="","",IF((VLOOKUP(CONCATENATE(VLOOKUP($A$3,XTIME!$A$1:$E$31,3,FALSE),C32),'Fiche Horaire'!A:AR,12,FALSE))<Feuil2!$D$2,Feuil2!$D$2-VLOOKUP(CONCATENATE(VLOOKUP($A$3,XTIME!$A$1:$E$31,3,FALSE),C32),'Fiche Horaire'!A:AR,12,FALSE),IF((VLOOKUP(CONCATENATE(VLOOKUP($A$3,XTIME!$A$1:$E$31,3,FALSE),C32),'Fiche Horaire'!A:AR,12,FALSE)+VLOOKUP(CONCATENATE(VLOOKUP($A$3,XTIME!$A$1:$E$31,3,FALSE),C32),'Fiche Horaire'!A:AR,33,FALSE))>Feuil2!$D$3,VLOOKUP(CONCATENATE(VLOOKUP($A$3,XTIME!$A$1:$E$31,3,FALSE),C32),'Fiche Horaire'!A:AR,33,FALSE)+VLOOKUP(CONCATENATE(VLOOKUP($A$3,XTIME!$A$1:$E$31,3,FALSE),C32),'Fiche Horaire'!A:AR,12,FALSE)-Feuil2!$D$3,""))))))/60,"") | L32: H TUNNEL | M32: =MIN(IF(M28=0,0,IF(M28>=37,M28-37,IF(M28<=35,M28-35,0))),5) -> 0
C33: TOTAL | D33: =SUM(D27:D32) -> 0 | E33: =SUM(E27:E32) -> 0 | F33: =SUM(F27:F32) -> 0 | G33: =SUM(G27:G32) -> 0 | H33: =IF(COUNTIF(H27:H32,0)>0,0,IF(COUNTBLANK(H27:H32)=6,0,(6-COUNTBLANK(H27:H32)-COUNTIF(H27:H32,"REPOS"))*$K25/5)) -> 0 | I33: =SUM(I27:I32) -> 0 | J33: =SUM(J27:J32) -> 0 | L33: MODUL. | M33: =IF(M28<42,M28-$K$4,7) -> -43
B34: =CONCATENATE("SEMAINE"," ",WEEKNUM(C34)) -> SEMAINE 39 | C34: =IFERROR(IF(DAY(C32+2)<DAY(C32),"",C32+2),"") -> 43367 | D34: =IF(ISNA((HOUR(VLOOKUP(CONCATENATE(VLOOKUP($A$3,XTIME!$A$1:$E$31,3,FALSE),$C34),Tableau3[[Référence]:[FORMATION]],34,FALSE))*60+MINUTE(VLOOKUP(CONCATENATE(VLOOKUP($A$3,XTIME!$A$1:$E$31,3,FALSE),$C34),Tableau3[[Référence]:[FORMATION]],34,FALSE)))/60)=TRUE,"",((HOUR(VLOOKUP(CONCATENATE(VLOOKUP($A$3,XTIME!$A$1:$E$31,3,FALSE),$C34),Tableau3[[Référence]:[FORMATION]],34,FALSE))*60+MINUTE(VLOOKUP(CONCATENATE(VLOOKUP($A$3,XTIME!$A$1:$E$31,3,FALSE),$C34),Tableau3[[Référence]:[FORMATION]],34,FALSE)))/60)) | E34: =IF(ISNA((HOUR(VLOOKUP(CONCATENATE(VLOOKUP($A$3,XTIME!$A$1:$E$31,3,FALSE),$C34),Tableau3[[Référence]:[FORMATION]],40,FALSE))*60+MINUTE(VLOOKUP(CONCATENATE(VLOOKUP($A$3,XTIME!$A$1:$E$31,3,FALSE),$C34),Tableau3[[Référence]:[FORMATION]],40,FALSE)))/60)=TRUE,"",((HOUR(VLOOKUP(CONCATENATE(VLOOKUP($A$3,XTIME!$A$1:$E$31,3,FALSE),$C34),Tableau3[[Référence]:[FORMATION]],40,FALSE))*60+MINUTE(VLOOKUP(CONCATENATE(VLOOKUP($A$3,XTIME!$A$1:$E$31,3,FALSE),$C34),Tableau3[[Référence]:[FORMATION]],40,FALSE)))/60)) | F34: =IF(ISNA((HOUR(VLOOKUP(CONCATENATE(VLOOKUP($A$3,XTIME!$A$1:$E$31,3,FALSE),$C34),Tableau3[[Référence]:[FORMATION]],41,FALSE))*60+MINUTE(VLOOKUP(CONCATENATE(VLOOKUP($A$3,XTIME!$A$1:$E$31,3,FALSE),$C34),Tableau3[[Référence]:[FORMATION]],41,FALSE)))/60)=TRUE,"",((HOUR(VLOOKUP(CONCATENATE(VLOOKUP($A$3,XTIME!$A$1:$E$31,3,FALSE),$C34),Tableau3[[Référence]:[FORMATION]],41,FALSE))*60+MINUTE(VLOOKUP(CONCATENATE(VLOOKUP($A$3,XTIME!$A$1:$E$31,3,FALSE),$C34),Tableau3[[Référence]:[FORMATION]],41,FALSE)))/60)) | G34: =IF(ISNA((HOUR(VLOOKUP(CONCATENATE(VLOOKUP($A$3,XTIME!$A$1:$E$31,3,FALSE),$C34),Tableau3[[Référence]:[FORMATION]],42,FALSE))*60+MINUTE(VLOOKUP(CONCATENATE(VLOOKUP($A$3,XTIME!$A$1:$E$31,3,FALSE),$C34),Tableau3[[Référence]:[FORMATION]],42,FALSE)))/60)=TRUE,"",((HOUR(VLOOKUP(CONCATENATE(VLOOKUP($A$3,XTIME!$A$1:$E$31,3,FALSE),$C34),Tableau3[[Référence]:[FORMATION]],42,FALSE))*60+MINUTE(VLOOKUP(CONCATENATE(VLOOKUP($A$3,XTIME!$A$1:$E$31,3,FALSE),$C34),Tableau3[[Référence]:[FORMATION]],42,FALSE)))/60)) | H34: =IF(ISNA(VLOOKUP(CONCATENATE(VLOOKUP($A$3,XTIME!$A$1:$E$31,3,FALSE),$C34),Tableau3[[Référence]:[FORMATION]],7,FALSE))=TRUE,"",VLOOKUP(CONCATENATE(VLOOKUP($A$3,XTIME!$A$1:$E$31,3,FALSE),$C34),Tableau3[[Référence]:[FORMATION]],7,FALSE)) | I34: =IFERROR((HOUR(IF(C34="","",MIN(IF((VLOOKUP(CONCATENATE(VLOOKUP($A$3,XTIME!$A$1:$E$31,3,FALSE),C34),'Fiche Horaire'!A:AR,12,FALSE)+VLOOKUP(CONCATENATE(VLOOKUP($A$3,XTIME!$A$1:$E$31,3,FALSE),C34),'Fiche Horaire'!A:AR,33,FALSE))>Feuil2!$C$2,VLOOKUP(CONCATENATE(VLOOKUP($A$3,XTIME!$A$1:$E$31,3,FALSE),C34),'Fiche Horaire'!A:AR,33,FALSE)+VLOOKUP(CONCATENATE(VLOOKUP($A$3,XTIME!$A$1:$E$31,3,FALSE),C34),'Fiche Horaire'!A:AR,12,FALSE)-Feuil2!$C$2,"X"),Feuil2!$C$3)))*60+MINUTE(IF(C34="","",MIN(IF((VLOOKUP(CONCATENATE(VLOOKUP($A$3,XTIME!$A$1:$E$31,3,FALSE),C34),'Fiche Horaire'!A:AR,12,FALSE)+VLOOKUP(CONCATENATE(VLOOKUP($A$3,XTIME!$A$1:$E$31,3,FALSE),C34),'Fiche Horaire'!A:AR,33,FALSE))>Feuil2!$C$2,VLOOKUP(CONCATENATE(VLOOKUP($A$3,XTIME!$A$1:$E$31,3,FALSE),C34),'Fiche Horaire'!A:AR,33,FALSE)+VLOOKUP(CONCATENATE(VLOOKUP($A$3,XTIME!$A$1:$E$31,3,FALSE),C34),'Fiche Horaire'!A:AR,12,FALSE)-Feuil2!$C$2,"X"),Feuil2!$C$3))))/60,"") | J34: =IFERROR((HOUR(IF(C34="","",IF(VLOOKUP(CONCATENATE(VLOOKUP($A$3,XTIME!$A$1:$E$31,3,FALSE),C34),'Fiche Horaire'!A:AR,12,FALSE)="","",IF((VLOOKUP(CONCATENATE(VLOOKUP($A$3,XTIME!$A$1:$E$31,3,FALSE),C34),'Fiche Horaire'!A:AR,12,FALSE))<Feuil2!$D$2,Feuil2!$D$2-VLOOKUP(CONCATENATE(VLOOKUP($A$3,XTIME!$A$1:$E$31,3,FALSE),C34),'Fiche Horaire'!A:AR,12,FALSE),IF((VLOOKUP(CONCATENATE(VLOOKUP($A$3,XTIME!$A$1:$E$31,3,FALSE),C34),'Fiche Horaire'!A:AR,12,FALSE)+VLOOKUP(CONCATENATE(VLOOKUP($A$3,XTIME!$A$1:$E$31,3,FALSE),C34),'Fiche Horaire'!A:AR,33,FALSE))>Feuil2!$D$3,VLOOKUP(CONCATENATE(VLOOKUP($A$3,XTIME!$A$1:$E$31,3,FALSE),C34),'Fiche Horaire'!A:AR,33,FALSE)+VLOOKUP(CONCATENATE(VLOOKUP($A$3,XTIME!$A$1:$E$31,3,FALSE),C34),'Fiche Horaire'!A:AR,12,FALSE)-Feuil2!$D$3,"")))))*60+MINUTE(IF(C34="","",IF(VLOOKUP(CONCATENATE(VLOOKUP($A$3,XTIME!$A$1:$E$31,3,FALSE),C34),'Fiche Horaire'!A:AR,12,FALSE)="","",IF((VLOOKUP(CONCATENATE(VLOOKUP($A$3,XTIME!$A$1:$E$31,3,FALSE),C34),'Fiche Horaire'!A:AR,12,FALSE))<Feuil2!$D$2,Feuil2!$D$2-VLOOKUP(CONCATENATE(VLOOKUP($A$3,XTIME!$A$1:$E$31,3,FALSE),C34),'Fiche Horaire'!A:AR,12,FALSE),IF((VLOOKUP(CONCATENATE(VLOOKUP($A$3,XTIME!$A$1:$E$31,3,FALSE),C34),'Fiche Horaire'!A:AR,12,FALSE)+VLOOKUP(CONCATENATE(VLOOKUP($A$3,XTIME!$A$1:$E$31,3,FALSE),C34),'Fiche Horaire'!A:AR,33,FALSE))>Feuil2!$D$3,VLOOKUP(CONCATENATE(VLOOKUP($A$3,XTIME!$A$1:$E$31,3,FALSE),C34),'Fiche Horaire'!A:AR,33,FALSE)+VLOOKUP(CONCATENATE(VLOOKUP($A$3,XTIME!$A$1:$E$31,3,FALSE),C34),'Fiche Horaire'!A:AR,12,FALSE)-Feuil2!$D$3,""))))))/60,"") | L34: =B34 -> SEMAINE 39
C35: =IFERROR(IF(DAY(C34+1)<DAY(C34),"",C34+1),"") -> 43368 | D35: =IF(ISNA((HOUR(VLOOKUP(CONCATENATE(VLOOKUP($A$3,XTIME!$A$1:$E$31,3,FALSE),$C35),Tableau3[[Référence]:[FORMATION]],34,FALSE))*60+MINUTE(VLOOKUP(CONCATENATE(VLOOKUP($A$3,XTIME!$A$1:$E$31,3,FALSE),$C35),Tableau3[[Référence]:[FORMATION]],34,FALSE)))/60)=TRUE,"",((HOUR(VLOOKUP(CONCATENATE(VLOOKUP($A$3,XTIME!$A$1:$E$31,3,FALSE),$C35),Tableau3[[Référence]:[FORMATION]],34,FALSE))*60+MINUTE(VLOOKUP(CONCATENATE(VLOOKUP($A$3,XTIME!$A$1:$E$31,3,FALSE),$C35),Tableau3[[Référence]:[FORMATION]],34,FALSE)))/60)) | E35: =IF(ISNA((HOUR(VLOOKUP(CONCATENATE(VLOOKUP($A$3,XTIME!$A$1:$E$31,3,FALSE),$C35),Tableau3[[Référence]:[FORMATION]],40,FALSE))*60+MINUTE(VLOOKUP(CONCATENATE(VLOOKUP($A$3,XTIME!$A$1:$E$31,3,FALSE),$C35),Tableau3[[Référence]:[FORMATION]],40,FALSE)))/60)=TRUE,"",((HOUR(VLOOKUP(CONCATENATE(VLOOKUP($A$3,XTIME!$A$1:$E$31,3,FALSE),$C35),Tableau3[[Référence]:[FORMATION]],40,FALSE))*60+MINUTE(VLOOKUP(CONCATENATE(VLOOKUP($A$3,XTIME!$A$1:$E$31,3,FALSE),$C35),Tableau3[[Référence]:[FORMATION]],40,FALSE)))/60)) | F35: =IF(ISNA((HOUR(VLOOKUP(CONCATENATE(VLOOKUP($A$3,XTIME!$A$1:$E$31,3,FALSE),$C35),Tableau3[[Référence]:[FORMATION]],41,FALSE))*60+MINUTE(VLOOKUP(CONCATENATE(VLOOKUP($A$3,XTIME!$A$1:$E$31,3,FALSE),$C35),Tableau3[[Référence]:[FORMATION]],41,FALSE)))/60)=TRUE,"",((HOUR(VLOOKUP(CONCATENATE(VLOOKUP($A$3,XTIME!$A$1:$E$31,3,FALSE),$C35),Tableau3[[Référence]:[FORMATION]],41,FALSE))*60+MINUTE(VLOOKUP(CONCATENATE(VLOOKUP($A$3,XTIME!$A$1:$E$31,3,FALSE),$C35),Tableau3[[Référence]:[FORMATION]],41,FALSE)))/60)) | G35: =IF(ISNA((HOUR(VLOOKUP(CONCATENATE(VLOOKUP($A$3,XTIME!$A$1:$E$31,3,FALSE),$C35),Tableau3[[Référence]:[FORMATION]],42,FALSE))*60+MINUTE(VLOOKUP(CONCATENATE(VLOOKUP($A$3,XTIME!$A$1:$E$31,3,FALSE),$C35),Tableau3[[Référence]:[FORMATION]],42,FALSE)))/60)=TRUE,"",((HOUR(VLOOKUP(CONCATENATE(VLOOKUP($A$3,XTIME!$A$1:$E$31,3,FALSE),$C35),Tableau3[[Référence]:[FORMATION]],42,FALSE))*60+MINUTE(VLOOKUP(CONCATENATE(VLOOKUP($A$3,XTIME!$A$1:$E$31,3,FALSE),$C35),Tableau3[[Référence]:[FORMATION]],42,FALSE)))/60)) | H35: =IF(ISNA(VLOOKUP(CONCATENATE(VLOOKUP($A$3,XTIME!$A$1:$E$31,3,FALSE),$C35),Tableau3[[Référence]:[FORMATION]],7,FALSE))=TRUE,"",VLOOKUP(CONCATENATE(VLOOKUP($A$3,XTIME!$A$1:$E$31,3,FALSE),$C35),Tableau3[[Référence]:[FORMATION]],7,FALSE)) | I35: =IFERROR((HOUR(IF(C35="","",MIN(IF((VLOOKUP(CONCATENATE(VLOOKUP($A$3,XTIME!$A$1:$E$31,3,FALSE),C35),'Fiche Horaire'!A:AR,12,FALSE)+VLOOKUP(CONCATENATE(VLOOKUP($A$3,XTIME!$A$1:$E$31,3,FALSE),C35),'Fiche Horaire'!A:AR,33,FALSE))>Feuil2!$C$2,VLOOKUP(CONCATENATE(VLOOKUP($A$3,XTIME!$A$1:$E$31,3,FALSE),C35),'Fiche Horaire'!A:AR,33,FALSE)+VLOOKUP(CONCATENATE(VLOOKUP($A$3,XTIME!$A$1:$E$31,3,FALSE),C35),'Fiche Horaire'!A:AR,12,FALSE)-Feuil2!$C$2,"X"),Feuil2!$C$3)))*60+MINUTE(IF(C35="","",MIN(IF((VLOOKUP(CONCATENATE(VLOOKUP($A$3,XTIME!$A$1:$E$31,3,FALSE),C35),'Fiche Horaire'!A:AR,12,FALSE)+VLOOKUP(CONCATENATE(VLOOKUP($A$3,XTIME!$A$1:$E$31,3,FALSE),C35),'Fiche Horaire'!A:AR,33,FALSE))>Feuil2!$C$2,VLOOKUP(CONCATENATE(VLOOKUP($A$3,XTIME!$A$1:$E$31,3,FALSE),C35),'Fiche Horaire'!A:AR,33,FALSE)+VLOOKUP(CONCATENATE(VLOOKUP($A$3,XTIME!$A$1:$E$31,3,FALSE),C35),'Fiche Horaire'!A:AR,12,FALSE)-Feuil2!$C$2,"X"),Feuil2!$C$3))))/60,"") | J35: =IFERROR((HOUR(IF(C35="","",IF(VLOOKUP(CONCATENATE(VLOOKUP($A$3,XTIME!$A$1:$E$31,3,FALSE),C35),'Fiche Horaire'!A:AR,12,FALSE)="","",IF((VLOOKUP(CONCATENATE(VLOOKUP($A$3,XTIME!$A$1:$E$31,3,FALSE),C35),'Fiche Horaire'!A:AR,12,FALSE))<Feuil2!$D$2,Feuil2!$D$2-VLOOKUP(CONCATENATE(VLOOKUP($A$3,XTIME!$A$1:$E$31,3,FALSE),C35),'Fiche Horaire'!A:AR,12,FALSE),IF((VLOOKUP(CONCATENATE(VLOOKUP($A$3,XTIME!$A$1:$E$31,3,FALSE),C35),'Fiche Horaire'!A:AR,12,FALSE)+VLOOKUP(CONCATENATE(VLOOKUP($A$3,XTIME!$A$1:$E$31,3,FALSE),C35),'Fiche Horaire'!A:AR,33,FALSE))>Feuil2!$D$3,VLOOKUP(CONCATENATE(VLOOKUP($A$3,XTIME!$A$1:$E$31,3,FALSE),C35),'Fiche Horaire'!A:AR,33,FALSE)+VLOOKUP(CONCATENATE(VLOOKUP($A$3,XTIME!$A$1:$E$31,3,FALSE),C35),'Fiche Horaire'!A:AR,12,FALSE)-Feuil2!$D$3,"")))))*60+MINUTE(IF(C35="","",IF(VLOOKUP(CONCATENATE(VLOOKUP($A$3,XTIME!$A$1:$E$31,3,FALSE),C35),'Fiche Horaire'!A:AR,12,FALSE)="","",IF((VLOOKUP(CONCATENATE(VLOOKUP($A$3,XTIME!$A$1:$E$31,3,FALSE),C35),'Fiche Horaire'!A:AR,12,FALSE))<Feuil2!$D$2,Feuil2!$D$2-VLOOKUP(CONCATENATE(VLOOKUP($A$3,XTIME!$A$1:$E$31,3,FALSE),C35),'Fiche Horaire'!A:AR,12,FALSE),IF((VLOOKUP(CONCATENATE(VLOOKUP($A$3,XTIME!$A$1:$E$31,3,FALSE),C35),'Fiche Horaire'!A:AR,12,FALSE)+VLOOKUP(CONCATENATE(VLOOKUP($A$3,XTIME!$A$1:$E$31,3,FALSE),C35),'Fiche Horaire'!A:AR,33,FALSE))>Feuil2!$D$3,VLOOKUP(CONCATENATE(VLOOKUP($A$3,XTIME!$A$1:$E$31,3,FALSE),C35),'Fiche Horaire'!A:AR,33,FALSE)+VLOOKUP(CONCATENATE(VLOOKUP($A$3,XTIME!$A$1:$E$31,3,FALSE),C35),'Fiche Horaire'!A:AR,12,FALSE)-Feuil2!$D$3,""))))))/60,"") | L35: TOTAL HEURES | M35: =D40+E40+G40+H40+F40 -> 0
C36: =IFERROR(IF(DAY(C35+1)<DAY(C35),"",C35+1),"") -> 43369 | D36: =IF(ISNA((HOUR(VLOOKUP(CONCATENATE(VLOOKUP($A$3,XTIME!$A$1:$E$31,3,FALSE),$C36),Tableau3[[Référence]:[FORMATION]],34,FALSE))*60+MINUTE(VLOOKUP(CONCATENATE(VLOOKUP($A$3,XTIME!$A$1:$E$31,3,FALSE),$C36),Tableau3[[Référence]:[FORMATION]],34,FALSE)))/60)=TRUE,"",((HOUR(VLOOKUP(CONCATENATE(VLOOKUP($A$3,XTIME!$A$1:$E$31,3,FALSE),$C36),Tableau3[[Référence]:[FORMATION]],34,FALSE))*60+MINUTE(VLOOKUP(CONCATENATE(VLOOKUP($A$3,XTIME!$A$1:$E$31,3,FALSE),$C36),Tableau3[[Référence]:[FORMATION]],34,FALSE)))/60)) | E36: =IF(ISNA((HOUR(VLOOKUP(CONCATENATE(VLOOKUP($A$3,XTIME!$A$1:$E$31,3,FALSE),$C36),Tableau3[[Référence]:[FORMATION]],40,FALSE))*60+MINUTE(VLOOKUP(CONCATENATE(VLOOKUP($A$3,XTIME!$A$1:$E$31,3,FALSE),$C36),Tableau3[[Référence]:[FORMATION]],40,FALSE)))/60)=TRUE,"",((HOUR(VLOOKUP(CONCATENATE(VLOOKUP($A$3,XTIME!$A$1:$E$31,3,FALSE),$C36),Tableau3[[Référence]:[FORMATION]],40,FALSE))*60+MINUTE(VLOOKUP(CONCATENATE(VLOOKUP($A$3,XTIME!$A$1:$E$31,3,FALSE),$C36),Tableau3[[Référence]:[FORMATION]],40,FALSE)))/60)) | F36: =IF(ISNA((HOUR(VLOOKUP(CONCATENATE(VLOOKUP($A$3,XTIME!$A$1:$E$31,3,FALSE),$C36),Tableau3[[Référence]:[FORMATION]],41,FALSE))*60+MINUTE(VLOOKUP(CONCATENATE(VLOOKUP($A$3,XTIME!$A$1:$E$31,3,FALSE),$C36),Tableau3[[Référence]:[FORMATION]],41,FALSE)))/60)=TRUE,"",((HOUR(VLOOKUP(CONCATENATE(VLOOKUP($A$3,XTIME!$A$1:$E$31,3,FALSE),$C36),Tableau3[[Référence]:[FORMATION]],41,FALSE))*60+MINUTE(VLOOKUP(CONCATENATE(VLOOKUP($A$3,XTIME!$A$1:$E$31,3,FALSE),$C36),Tableau3[[Référence]:[FORMATION]],41,FALSE)))/60)) | G36: =IF(ISNA((HOUR(VLOOKUP(CONCATENATE(VLOOKUP($A$3,XTIME!$A$1:$E$31,3,FALSE),$C36),Tableau3[[Référence]:[FORMATION]],42,FALSE))*60+MINUTE(VLOOKUP(CONCATENATE(VLOOKUP($A$3,XTIME!$A$1:$E$31,3,FALSE),$C36),Tableau3[[Référence]:[FORMATION]],42,FALSE)))/60)=TRUE,"",((HOUR(VLOOKUP(CONCATENATE(VLOOKUP($A$3,XTIME!$A$1:$E$31,3,FALSE),$C36),Tableau3[[Référence]:[FORMATION]],42,FALSE))*60+MINUTE(VLOOKUP(CONCATENATE(VLOOKUP($A$3,XTIME!$A$1:$E$31,3,FALSE),$C36),Tableau3[[Référence]:[FORMATION]],42,FALSE)))/60)) | H36: =IF(ISNA(VLOOKUP(CONCATENATE(VLOOKUP($A$3,XTIME!$A$1:$E$31,3,FALSE),$C36),Tableau3[[Référence]:[FORMATION]],7,FALSE))=TRUE,"",VLOOKUP(CONCATENATE(VLOOKUP($A$3,XTIME!$A$1:$E$31,3,FALSE),$C36),Tableau3[[Référence]:[FORMATION]],7,FALSE)) | I36: =IFERROR((HOUR(IF(C36="","",MIN(IF((VLOOKUP(CONCATENATE(VLOOKUP($A$3,XTIME!$A$1:$E$31,3,FALSE),C36),'Fiche Horaire'!A:AR,12,FALSE)+VLOOKUP(CONCATENATE(VLOOKUP($A$3,XTIME!$A$1:$E$31,3,FALSE),C36),'Fiche Horaire'!A:AR,33,FALSE))>Feuil2!$C$2,VLOOKUP(CONCATENATE(VLOOKUP($A$3,XTIME!$A$1:$E$31,3,FALSE),C36),'Fiche Horaire'!A:AR,33,FALSE)+VLOOKUP(CONCATENATE(VLOOKUP($A$3,XTIME!$A$1:$E$31,3,FALSE),C36),'Fiche Horaire'!A:AR,12,FALSE)-Feuil2!$C$2,"X"),Feuil2!$C$3)))*60+MINUTE(IF(C36="","",MIN(IF((VLOOKUP(CONCATENATE(VLOOKUP($A$3,XTIME!$A$1:$E$31,3,FALSE),C36),'Fiche Horaire'!A:AR,12,FALSE)+VLOOKUP(CONCATENATE(VLOOKUP($A$3,XTIME!$A$1:$E$31,3,FALSE),C36),'Fiche Horaire'!A:AR,33,FALSE))>Feuil2!$C$2,VLOOKUP(CONCATENATE(VLOOKUP($A$3,XTIME!$A$1:$E$31,3,FALSE),C36),'Fiche Horaire'!A:AR,33,FALSE)+VLOOKUP(CONCATENATE(VLOOKUP($A$3,XTIME!$A$1:$E$31,3,FALSE),C36),'Fiche Horaire'!A:AR,12,FALSE)-Feuil2!$C$2,"X"),Feuil2!$C$3))))/60,"") | J36: =IFERROR((HOUR(IF(C36="","",IF(VLOOKUP(CONCATENATE(VLOOKUP($A$3,XTIME!$A$1:$E$31,3,FALSE),C36),'Fiche Horaire'!A:AR,12,FALSE)="","",IF((VLOOKUP(CONCATENATE(VLOOKUP($A$3,XTIME!$A$1:$E$31,3,FALSE),C36),'Fiche Horaire'!A:AR,12,FALSE))<Feuil2!$D$2,Feuil2!$D$2-VLOOKUP(CONCATENATE(VLOOKUP($A$3,XTIME!$A$1:$E$31,3,FALSE),C36),'Fiche Horaire'!A:AR,12,FALSE),IF((VLOOKUP(CONCATENATE(VLOOKUP($A$3,XTIME!$A$1:$E$31,3,FALSE),C36),'Fiche Horaire'!A:AR,12,FALSE)+VLOOKUP(CONCATENATE(VLOOKUP($A$3,XTIME!$A$1:$E$31,3,FALSE),C36),'Fiche Horaire'!A:AR,33,FALSE))>Feuil2!$D$3,VLOOKUP(CONCATENATE(VLOOKUP($A$3,XTIME!$A$1:$E$31,3,FALSE),C36),'Fiche Horaire'!A:AR,33,FALSE)+VLOOKUP(CONCATENATE(VLOOKUP($A$3,XTIME!$A$1:$E$31,3,FALSE),C36),'Fiche Horaire'!A:AR,12,FALSE)-Feuil2!$D$3,"")))))*60+MINUTE(IF(C36="","",IF(VLOOKUP(CONCATENATE(VLOOKUP($A$3,XTIME!$A$1:$E$31,3,FALSE),C36),'Fiche Horaire'!A:AR,12,FALSE)="","",IF((VLOOKUP(CONCATENATE(VLOOKUP($A$3,XTIME!$A$1:$E$31,3,FALSE),C36),'Fiche Horaire'!A:AR,12,FALSE))<Feuil2!$D$2,Feuil2!$D$2-VLOOKUP(CONCATENATE(VLOOKUP($A$3,XTIME!$A$1:$E$31,3,FALSE),C36),'Fiche Horaire'!A:AR,12,FALSE),IF((VLOOKUP(CONCATENATE(VLOOKUP($A$3,XTIME!$A$1:$E$31,3,FALSE),C36),'Fiche Horaire'!A:AR,12,FALSE)+VLOOKUP(CONCATENATE(VLOOKUP($A$3,XTIME!$A$1:$E$31,3,FALSE),C36),'Fiche Horaire'!A:AR,33,FALSE))>Feuil2!$D$3,VLOOKUP(CONCATENATE(VLOOKUP($A$3,XTIME!$A$1:$E$31,3,FALSE),C36),'Fiche Horaire'!A:AR,33,FALSE)+VLOOKUP(CONCATENATE(VLOOKUP($A$3,XTIME!$A$1:$E$31,3,FALSE),C36),'Fiche Horaire'!A:AR,12,FALSE)-Feuil2!$D$3,""))))))/60,"") | L36: AC HS | M36: =MIN(IF(M35=0,0,IF(M35>=35,M35-35,0)),2) -> 0
C37: =IFERROR(IF(DAY(C36+1)<DAY(C36),"",C36+1),"") -> 43370 | D37: =IF(ISNA((HOUR(VLOOKUP(CONCATENATE(VLOOKUP($A$3,XTIME!$A$1:$E$31,3,FALSE),$C37),Tableau3[[Référence]:[FORMATION]],34,FALSE))*60+MINUTE(VLOOKUP(CONCATENATE(VLOOKUP($A$3,XTIME!$A$1:$E$31,3,FALSE),$C37),Tableau3[[Référence]:[FORMATION]],34,FALSE)))/60)=TRUE,"",((HOUR(VLOOKUP(CONCATENATE(VLOOKUP($A$3,XTIME!$A$1:$E$31,3,FALSE),$C37),Tableau3[[Référence]:[FORMATION]],34,FALSE))*60+MINUTE(VLOOKUP(CONCATENATE(VLOOKUP($A$3,XTIME!$A$1:$E$31,3,FALSE),$C37),Tableau3[[Référence]:[FORMATION]],34,FALSE)))/60)) | E37: =IF(ISNA((HOUR(VLOOKUP(CONCATENATE(VLOOKUP($A$3,XTIME!$A$1:$E$31,3,FALSE),$C37),Tableau3[[Référence]:[FORMATION]],40,FALSE))*60+MINUTE(VLOOKUP(CONCATENATE(VLOOKUP($A$3,XTIME!$A$1:$E$31,3,FALSE),$C37),Tableau3[[Référence]:[FORMATION]],40,FALSE)))/60)=TRUE,"",((HOUR(VLOOKUP(CONCATENATE(VLOOKUP($A$3,XTIME!$A$1:$E$31,3,FALSE),$C37),Tableau3[[Référence]:[FORMATION]],40,FALSE))*60+MINUTE(VLOOKUP(CONCATENATE(VLOOKUP($A$3,XTIME!$A$1:$E$31,3,FALSE),$C37),Tableau3[[Référence]:[FORMATION]],40,FALSE)))/60)) | F37: =IF(ISNA((HOUR(VLOOKUP(CONCATENATE(VLOOKUP($A$3,XTIME!$A$1:$E$31,3,FALSE),$C37),Tableau3[[Référence]:[FORMATION]],41,FALSE))*60+MINUTE(VLOOKUP(CONCATENATE(VLOOKUP($A$3,XTIME!$A$1:$E$31,3,FALSE),$C37),Tableau3[[Référence]:[FORMATION]],41,FALSE)))/60)=TRUE,"",((HOUR(VLOOKUP(CONCATENATE(VLOOKUP($A$3,XTIME!$A$1:$E$31,3,FALSE),$C37),Tableau3[[Référence]:[FORMATION]],41,FALSE))*60+MINUTE(VLOOKUP(CONCATENATE(VLOOKUP($A$3,XTIME!$A$1:$E$31,3,FALSE),$C37),Tableau3[[Référence]:[FORMATION]],41,FALSE)))/60)) | G37: =IF(ISNA((HOUR(VLOOKUP(CONCATENATE(VLOOKUP($A$3,XTIME!$A$1:$E$31,3,FALSE),$C37),Tableau3[[Référence]:[FORMATION]],42,FALSE))*60+MINUTE(VLOOKUP(CONCATENATE(VLOOKUP($A$3,XTIME!$A$1:$E$31,3,FALSE),$C37),Tableau3[[Référence]:[FORMATION]],42,FALSE)))/60)=TRUE,"",((HOUR(VLOOKUP(CONCATENATE(VLOOKUP($A$3,XTIME!$A$1:$E$31,3,FALSE),$C37),Tableau3[[Référence]:[FORMATION]],42,FALSE))*60+MINUTE(VLOOKUP(CONCATENATE(VLOOKUP($A$3,XTIME!$A$1:$E$31,3,FALSE),$C37),Tableau3[[Référence]:[FORMATION]],42,FALSE)))/60)) | H37: =IF(ISNA(VLOOKUP(CONCATENATE(VLOOKUP($A$3,XTIME!$A$1:$E$31,3,FALSE),$C37),Tableau3[[Référence]:[FORMATION]],7,FALSE))=TRUE,"",VLOOKUP(CONCATENATE(VLOOKUP($A$3,XTIME!$A$1:$E$31,3,FALSE),$C37),Tableau3[[Référence]:[FORMATION]],7,FALSE)) | I37: =IFERROR((HOUR(IF(C37="","",MIN(IF((VLOOKUP(CONCATENATE(VLOOKUP($A$3,XTIME!$A$1:$E$31,3,FALSE),C37),'Fiche Horaire'!A:AR,12,FALSE)+VLOOKUP(CONCATENATE(VLOOKUP($A$3,XTIME!$A$1:$E$31,3,FALSE),C37),'Fiche Horaire'!A:AR,33,FALSE))>Feuil2!$C$2,VLOOKUP(CONCATENATE(VLOOKUP($A$3,XTIME!$A$1:$E$31,3,FALSE),C37),'Fiche Horaire'!A:AR,33,FALSE)+VLOOKUP(CONCATENATE(VLOOKUP($A$3,XTIME!$A$1:$E$31,3,FALSE),C37),'Fiche Horaire'!A:AR,12,FALSE)-Feuil2!$C$2,"X"),Feuil2!$C$3)))*60+MINUTE(IF(C37="","",MIN(IF((VLOOKUP(CONCATENATE(VLOOKUP($A$3,XTIME!$A$1:$E$31,3,FALSE),C37),'Fiche Horaire'!A:AR,12,FALSE)+VLOOKUP(CONCATENATE(VLOOKUP($A$3,XTIME!$A$1:$E$31,3,FALSE),C37),'Fiche Horaire'!A:AR,33,FALSE))>Feuil2!$C$2,VLOOKUP(CONCATENATE(VLOOKUP($A$3,XTIME!$A$1:$E$31,3,FALSE),C37),'Fiche Horaire'!A:AR,33,FALSE)+VLOOKUP(CONCATENATE(VLOOKUP($A$3,XTIME!$A$1:$E$31,3,FALSE),C37),'Fiche Horaire'!A:AR,12,FALSE)-Feuil2!$C$2,"X"),Feuil2!$C$3))))/60,"") | J37: =IFERROR((HOUR(IF(C37="","",IF(VLOOKUP(CONCATENATE(VLOOKUP($A$3,XTIME!$A$1:$E$31,3,FALSE),C37),'Fiche Horaire'!A:AR,12,FALSE)="","",IF((VLOOKUP(CONCATENATE(VLOOKUP($A$3,XTIME!$A$1:$E$31,3,FALSE),C37),'Fiche Horaire'!A:AR,12,FALSE))<Feuil2!$D$2,Feuil2!$D$2-VLOOKUP(CONCATENATE(VLOOKUP($A$3,XTIME!$A$1:$E$31,3,FALSE),C37),'Fiche Horaire'!A:AR,12,FALSE),IF((VLOOKUP(CONCATENATE(VLOOKUP($A$3,XTIME!$A$1:$E$31,3,FALSE),C37),'Fiche Horaire'!A:AR,12,FALSE)+VLOOKUP(CONCATENATE(VLOOKUP($A$3,XTIME!$A$1:$E$31,3,FALSE),C37),'Fiche Horaire'!A:AR,33,FALSE))>Feuil2!$D$3,VLOOKUP(CONCATENATE(VLOOKUP($A$3,XTIME!$A$1:$E$31,3,FALSE),C37),'Fiche Horaire'!A:AR,33,FALSE)+VLOOKUP(CONCATENATE(VLOOKUP($A$3,XTIME!$A$1:$E$31,3,FALSE),C37),'Fiche Horaire'!A:AR,12,FALSE)-Feuil2!$D$3,"")))))*60+MINUTE(IF(C37="","",IF(VLOOKUP(CONCATENATE(VLOOKUP($A$3,XTIME!$A$1:$E$31,3,FALSE),C37),'Fiche Horaire'!A:AR,12,FALSE)="","",IF((VLOOKUP(CONCATENATE(VLOOKUP($A$3,XTIME!$A$1:$E$31,3,FALSE),C37),'Fiche Horaire'!A:AR,12,FALSE))<Feuil2!$D$2,Feuil2!$D$2-VLOOKUP(CONCATENATE(VLOOKUP($A$3,XTIME!$A$1:$E$31,3,FALSE),C37),'Fiche Horaire'!A:AR,12,FALSE),IF((VLOOKUP(CONCATENATE(VLOOKUP($A$3,XTIME!$A$1:$E$31,3,FALSE),C37),'Fiche Horaire'!A:AR,12,FALSE)+VLOOKUP(CONCATENATE(VLOOKUP($A$3,XTIME!$A$1:$E$31,3,FALSE),C37),'Fiche Horaire'!A:AR,33,FALSE))>Feuil2!$D$3,VLOOKUP(CONCATENATE(VLOOKUP($A$3,XTIME!$A$1:$E$31,3,FALSE),C37),'Fiche Horaire'!A:AR,33,FALSE)+VLOOKUP(CONCATENATE(VLOOKUP($A$3,XTIME!$A$1:$E$31,3,FALSE),C37),'Fiche Horaire'!A:AR,12,FALSE)-Feuil2!$D$3,""))))))/60,"") | L37: HS 125% | M37: =IF(M35<45,M35-$K$4-M40,3) -> 0
C38: =IFERROR(IF(DAY(C37+1)<DAY(C37),"",C37+1),"") -> 43371 | D38: =IF(ISNA((HOUR(VLOOKUP(CONCATENATE(VLOOKUP($A$3,XTIME!$A$1:$E$31,3,FALSE),$C38),Tableau3[[Référence]:[FORMATION]],34,FALSE))*60+MINUTE(VLOOKUP(CONCATENATE(VLOOKUP($A$3,XTIME!$A$1:$E$31,3,FALSE),$C38),Tableau3[[Référence]:[FORMATION]],34,FALSE)))/60)=TRUE,"",((HOUR(VLOOKUP(CONCATENATE(VLOOKUP($A$3,XTIME!$A$1:$E$31,3,FALSE),$C38),Tableau3[[Référence]:[FORMATION]],34,FALSE))*60+MINUTE(VLOOKUP(CONCATENATE(VLOOKUP($A$3,XTIME!$A$1:$E$31,3,FALSE),$C38),Tableau3[[Référence]:[FORMATION]],34,FALSE)))/60)) | E38: =IF(ISNA((HOUR(VLOOKUP(CONCATENATE(VLOOKUP($A$3,XTIME!$A$1:$E$31,3,FALSE),$C38),Tableau3[[Référence]:[FORMATION]],40,FALSE))*60+MINUTE(VLOOKUP(CONCATENATE(VLOOKUP($A$3,XTIME!$A$1:$E$31,3,FALSE),$C38),Tableau3[[Référence]:[FORMATION]],40,FALSE)))/60)=TRUE,"",((HOUR(VLOOKUP(CONCATENATE(VLOOKUP($A$3,XTIME!$A$1:$E$31,3,FALSE),$C38),Tableau3[[Référence]:[FORMATION]],40,FALSE))*60+MINUTE(VLOOKUP(CONCATENATE(VLOOKUP($A$3,XTIME!$A$1:$E$31,3,FALSE),$C38),Tableau3[[Référence]:[FORMATION]],40,FALSE)))/60)) | F38: =IF(ISNA((HOUR(VLOOKUP(CONCATENATE(VLOOKUP($A$3,XTIME!$A$1:$E$31,3,FALSE),$C38),Tableau3[[Référence]:[FORMATION]],41,FALSE))*60+MINUTE(VLOOKUP(CONCATENATE(VLOOKUP($A$3,XTIME!$A$1:$E$31,3,FALSE),$C38),Tableau3[[Référence]:[FORMATION]],41,FALSE)))/60)=TRUE,"",((HOUR(VLOOKUP(CONCATENATE(VLOOKUP($A$3,XTIME!$A$1:$E$31,3,FALSE),$C38),Tableau3[[Référence]:[FORMATION]],41,FALSE))*60+MINUTE(VLOOKUP(CONCATENATE(VLOOKUP($A$3,XTIME!$A$1:$E$31,3,FALSE),$C38),Tableau3[[Référence]:[FORMATION]],41,FALSE)))/60)) | G38: =IF(ISNA((HOUR(VLOOKUP(CONCATENATE(VLOOKUP($A$3,XTIME!$A$1:$E$31,3,FALSE),$C38),Tableau3[[Référence]:[FORMATION]],42,FALSE))*60+MINUTE(VLOOKUP(CONCATENATE(VLOOKUP($A$3,XTIME!$A$1:$E$31,3,FALSE),$C38),Tableau3[[Référence]:[FORMATION]],42,FALSE)))/60)=TRUE,"",((HOUR(VLOOKUP(CONCATENATE(VLOOKUP($A$3,XTIME!$A$1:$E$31,3,FALSE),$C38),Tableau3[[Référence]:[FORMATION]],42,FALSE))*60+MINUTE(VLOOKUP(CONCATENATE(VLOOKUP($A$3,XTIME!$A$1:$E$31,3,FALSE),$C38),Tableau3[[Référence]:[FORMATION]],42,FALSE)))/60)) | H38: =IF(ISNA(VLOOKUP(CONCATENATE(VLOOKUP($A$3,XTIME!$A$1:$E$31,3,FALSE),$C38),Tableau3[[Référence]:[FORMATION]],7,FALSE))=TRUE,"",VLOOKUP(CONCATENATE(VLOOKUP($A$3,XTIME!$A$1:$E$31,3,FALSE),$C38),Tableau3[[Référence]:[FORMATION]],7,FALSE)) | I38: =IFERROR((HOUR(IF(C38="","",MIN(IF((VLOOKUP(CONCATENATE(VLOOKUP($A$3,XTIME!$A$1:$E$31,3,FALSE),C38),'Fiche Horaire'!A:AR,12,FALSE)+VLOOKUP(CONCATENATE(VLOOKUP($A$3,XTIME!$A$1:$E$31,3,FALSE),C38),'Fiche Horaire'!A:AR,33,FALSE))>Feuil2!$C$2,VLOOKUP(CONCATENATE(VLOOKUP($A$3,XTIME!$A$1:$E$31,3,FALSE),C38),'Fiche Horaire'!A:AR,33,FALSE)+VLOOKUP(CONCATENATE(VLOOKUP($A$3,XTIME!$A$1:$E$31,3,FALSE),C38),'Fiche Horaire'!A:AR,12,FALSE)-Feuil2!$C$2,"X"),Feuil2!$C$3)))*60+MINUTE(IF(C38="","",MIN(IF((VLOOKUP(CONCATENATE(VLOOKUP($A$3,XTIME!$A$1:$E$31,3,FALSE),C38),'Fiche Horaire'!A:AR,12,FALSE)+VLOOKUP(CONCATENATE(VLOOKUP($A$3,XTIME!$A$1:$E$31,3,FALSE),C38),'Fiche Horaire'!A:AR,33,FALSE))>Feuil2!$C$2,VLOOKUP(CONCATENATE(VLOOKUP($A$3,XTIME!$A$1:$E$31,3,FALSE),C38),'Fiche Horaire'!A:AR,33,FALSE)+VLOOKUP(CONCATENATE(VLOOKUP($A$3,XTIME!$A$1:$E$31,3,FALSE),C38),'Fiche Horaire'!A:AR,12,FALSE)-Feuil2!$C$2,"X"),Feuil2!$C$3))))/60,"") | J38: =IFERROR((HOUR(IF(C38="","",IF(VLOOKUP(CONCATENATE(VLOOKUP($A$3,XTIME!$A$1:$E$31,3,FALSE),C38),'Fiche Horaire'!A:AR,12,FALSE)="","",IF((VLOOKUP(CONCATENATE(VLOOKUP($A$3,XTIME!$A$1:$E$31,3,FALSE),C38),'Fiche Horaire'!A:AR,12,FALSE))<Feuil2!$D$2,Feuil2!$D$2-VLOOKUP(CONCATENATE(VLOOKUP($A$3,XTIME!$A$1:$E$31,3,FALSE),C38),'Fiche Horaire'!A:AR,12,FALSE),IF((VLOOKUP(CONCATENATE(VLOOKUP($A$3,XTIME!$A$1:$E$31,3,FALSE),C38),'Fiche Horaire'!A:AR,12,FALSE)+VLOOKUP(CONCATENATE(VLOOKUP($A$3,XTIME!$A$1:$E$31,3,FALSE),C38),'Fiche Horaire'!A:AR,33,FALSE))>Feuil2!$D$3,VLOOKUP(CONCATENATE(VLOOKUP($A$3,XTIME!$A$1:$E$31,3,FALSE),C38),'Fiche Horaire'!A:AR,33,FALSE)+VLOOKUP(CONCATENATE(VLOOKUP($A$3,XTIME!$A$1:$E$31,3,FALSE),C38),'Fiche Horaire'!A:AR,12,FALSE)-Feuil2!$D$3,"")))))*60+MINUTE(IF(C38="","",IF(VLOOKUP(CONCATENATE(VLOOKUP($A$3,XTIME!$A$1:$E$31,3,FALSE),C38),'Fiche Horaire'!A:AR,12,FALSE)="","",IF((VLOOKUP(CONCATENATE(VLOOKUP($A$3,XTIME!$A$1:$E$31,3,FALSE),C38),'Fiche Horaire'!A:AR,12,FALSE))<Feuil2!$D$2,Feuil2!$D$2-VLOOKUP(CONCATENATE(VLOOKUP($A$3,XTIME!$A$1:$E$31,3,FALSE),C38),'Fiche Horaire'!A:AR,12,FALSE),IF((VLOOKUP(CONCATENATE(VLOOKUP($A$3,XTIME!$A$1:$E$31,3,FALSE),C38),'Fiche Horaire'!A:AR,12,FALSE)+VLOOKUP(CONCATENATE(VLOOKUP($A$3,XTIME!$A$1:$E$31,3,FALSE),C38),'Fiche Horaire'!A:AR,33,FALSE))>Feuil2!$D$3,VLOOKUP(CONCATENATE(VLOOKUP($A$3,XTIME!$A$1:$E$31,3,FALSE),C38),'Fiche Horaire'!A:AR,33,FALSE)+VLOOKUP(CONCATENATE(VLOOKUP($A$3,XTIME!$A$1:$E$31,3,FALSE),C38),'Fiche Horaire'!A:AR,12,FALSE)-Feuil2!$D$3,""))))))/60,"") | L38: HS 150% | M38: =IF(M35>45,M35-$K$4-M40-M37,0) -> 0
C39: =IFERROR(IF(DAY(C38+1)<DAY(C38),"",C38+1),"") -> 43372 | D39: =IF(ISNA((HOUR(VLOOKUP(CONCATENATE(VLOOKUP($A$3,XTIME!$A$1:$E$31,3,FALSE),$C39),Tableau3[[Référence]:[FORMATION]],34,FALSE))*60+MINUTE(VLOOKUP(CONCATENATE(VLOOKUP($A$3,XTIME!$A$1:$E$31,3,FALSE),$C39),Tableau3[[Référence]:[FORMATION]],34,FALSE)))/60)=TRUE,"",((HOUR(VLOOKUP(CONCATENATE(VLOOKUP($A$3,XTIME!$A$1:$E$31,3,FALSE),$C39),Tableau3[[Référence]:[FORMATION]],34,FALSE))*60+MINUTE(VLOOKUP(CONCATENATE(VLOOKUP($A$3,XTIME!$A$1:$E$31,3,FALSE),$C39),Tableau3[[Référence]:[FORMATION]],34,FALSE)))/60)) | E39: =IF(ISNA((HOUR(VLOOKUP(CONCATENATE(VLOOKUP($A$3,XTIME!$A$1:$E$31,3,FALSE),$C39),Tableau3[[Référence]:[FORMATION]],40,FALSE))*60+MINUTE(VLOOKUP(CONCATENATE(VLOOKUP($A$3,XTIME!$A$1:$E$31,3,FALSE),$C39),Tableau3[[Référence]:[FORMATION]],40,FALSE)))/60)=TRUE,"",((HOUR(VLOOKUP(CONCATENATE(VLOOKUP($A$3,XTIME!$A$1:$E$31,3,FALSE),$C39),Tableau3[[Référence]:[FORMATION]],40,FALSE))*60+MINUTE(VLOOKUP(CONCATENATE(VLOOKUP($A$3,XTIME!$A$1:$E$31,3,FALSE),$C39),Tableau3[[Référence]:[FORMATION]],40,FALSE)))/60)) | F39: =IF(ISNA((HOUR(VLOOKUP(CONCATENATE(VLOOKUP($A$3,XTIME!$A$1:$E$31,3,FALSE),$C39),Tableau3[[Référence]:[FORMATION]],41,FALSE))*60+MINUTE(VLOOKUP(CONCATENATE(VLOOKUP($A$3,XTIME!$A$1:$E$31,3,FALSE),$C39),Tableau3[[Référence]:[FORMATION]],41,FALSE)))/60)=TRUE,"",((HOUR(VLOOKUP(CONCATENATE(VLOOKUP($A$3,XTIME!$A$1:$E$31,3,FALSE),$C39),Tableau3[[Référence]:[FORMATION]],41,FALSE))*60+MINUTE(VLOOKUP(CONCATENATE(VLOOKUP($A$3,XTIME!$A$1:$E$31,3,FALSE),$C39),Tableau3[[Référence]:[FORMATION]],41,FALSE)))/60)) | G39: =IF(ISNA((HOUR(VLOOKUP(CONCATENATE(VLOOKUP($A$3,XTIME!$A$1:$E$31,3,FALSE),$C39),Tableau3[[Référence]:[FORMATION]],42,FALSE))*60+MINUTE(VLOOKUP(CONCATENATE(VLOOKUP($A$3,XTIME!$A$1:$E$31,3,FALSE),$C39),Tableau3[[Référence]:[FORMATION]],42,FALSE)))/60)=TRUE,"",((HOUR(VLOOKUP(CONCATENATE(VLOOKUP($A$3,XTIME!$A$1:$E$31,3,FALSE),$C39),Tableau3[[Référence]:[FORMATION]],42,FALSE))*60+MINUTE(VLOOKUP(CONCATENATE(VLOOKUP($A$3,XTIME!$A$1:$E$31,3,FALSE),$C39),Tableau3[[Référence]:[FORMATION]],42,FALSE)))/60)) | H39: =IF(ISNA(VLOOKUP(CONCATENATE(VLOOKUP($A$3,XTIME!$A$1:$E$31,3,FALSE),$C39),Tableau3[[Référence]:[FORMATION]],7,FALSE))=TRUE,"",VLOOKUP(CONCATENATE(VLOOKUP($A$3,XTIME!$A$1:$E$31,3,FALSE),$C39),Tableau3[[Référence]:[FORMATION]],7,FALSE)) | I39: =IFERROR((HOUR(IF(C39="","",MIN(IF((VLOOKUP(CONCATENATE(VLOOKUP($A$3,XTIME!$A$1:$E$31,3,FALSE),C39),'Fiche Horaire'!A:AR,12,FALSE)+VLOOKUP(CONCATENATE(VLOOKUP($A$3,XTIME!$A$1:$E$31,3,FALSE),C39),'Fiche Horaire'!A:AR,33,FALSE))>Feuil2!$C$2,VLOOKUP(CONCATENATE(VLOOKUP($A$3,XTIME!$A$1:$E$31,3,FALSE),C39),'Fiche Horaire'!A:AR,33,FALSE)+VLOOKUP(CONCATENATE(VLOOKUP($A$3,XTIME!$A$1:$E$31,3,FALSE),C39),'Fiche Horaire'!A:AR,12,FALSE)-Feuil2!$C$2,"X"),Feuil2!$C$3)))*60+MINUTE(IF(C39="","",MIN(IF((VLOOKUP(CONCATENATE(VLOOKUP($A$3,XTIME!$A$1:$E$31,3,FALSE),C39),'Fiche Horaire'!A:AR,12,FALSE)+VLOOKUP(CONCATENATE(VLOOKUP($A$3,XTIME!$A$1:$E$31,3,FALSE),C39),'Fiche Horaire'!A:AR,33,FALSE))>Feuil2!$C$2,VLOOKUP(CONCATENATE(VLOOKUP($A$3,XTIME!$A$1:$E$31,3,FALSE),C39),'Fiche Horaire'!A:AR,33,FALSE)+VLOOKUP(CONCATENATE(VLOOKUP($A$3,XTIME!$A$1:$E$31,3,FALSE),C39),'Fiche Horaire'!A:AR,12,FALSE)-Feuil2!$C$2,"X"),Feuil2!$C$3))))/60,"") | J39: =IFERROR((HOUR(IF(C39="","",IF(VLOOKUP(CONCATENATE(VLOOKUP($A$3,XTIME!$A$1:$E$31,3,FALSE),C39),'Fiche Horaire'!A:AR,12,FALSE)="","",IF((VLOOKUP(CONCATENATE(VLOOKUP($A$3,XTIME!$A$1:$E$31,3,FALSE),C39),'Fiche Horaire'!A:AR,12,FALSE))<Feuil2!$D$2,Feuil2!$D$2-VLOOKUP(CONCATENATE(VLOOKUP($A$3,XTIME!$A$1:$E$31,3,FALSE),C39),'Fiche Horaire'!A:AR,12,FALSE),IF((VLOOKUP(CONCATENATE(VLOOKUP($A$3,XTIME!$A$1:$E$31,3,FALSE),C39),'Fiche Horaire'!A:AR,12,FALSE)+VLOOKUP(CONCATENATE(VLOOKUP($A$3,XTIME!$A$1:$E$31,3,FALSE),C39),'Fiche Horaire'!A:AR,33,FALSE))>Feuil2!$D$3,VLOOKUP(CONCATENATE(VLOOKUP($A$3,XTIME!$A$1:$E$31,3,FALSE),C39),'Fiche Horaire'!A:AR,33,FALSE)+VLOOKUP(CONCATENATE(VLOOKUP($A$3,XTIME!$A$1:$E$31,3,FALSE),C39),'Fiche Horaire'!A:AR,12,FALSE)-Feuil2!$D$3,"")))))*60+MINUTE(IF(C39="","",IF(VLOOKUP(CONCATENATE(VLOOKUP($A$3,XTIME!$A$1:$E$31,3,FALSE),C39),'Fiche Horaire'!A:AR,12,FALSE)="","",IF((VLOOKUP(CONCATENATE(VLOOKUP($A$3,XTIME!$A$1:$E$31,3,FALSE),C39),'Fiche Horaire'!A:AR,12,FALSE))<Feuil2!$D$2,Feuil2!$D$2-VLOOKUP(CONCATENATE(VLOOKUP($A$3,XTIME!$A$1:$E$31,3,FALSE),C39),'Fiche Horaire'!A:AR,12,FALSE),IF((VLOOKUP(CONCATENATE(VLOOKUP($A$3,XTIME!$A$1:$E$31,3,FALSE),C39),'Fiche Horaire'!A:AR,12,FALSE)+VLOOKUP(CONCATENATE(VLOOKUP($A$3,XTIME!$A$1:$E$31,3,FALSE),C39),'Fiche Horaire'!A:AR,33,FALSE))>Feuil2!$D$3,VLOOKUP(CONCATENATE(VLOOKUP($A$3,XTIME!$A$1:$E$31,3,FALSE),C39),'Fiche Horaire'!A:AR,33,FALSE)+VLOOKUP(CONCATENATE(VLOOKUP($A$3,XTIME!$A$1:$E$31,3,FALSE),C39),'Fiche Horaire'!A:AR,12,FALSE)-Feuil2!$D$3,""))))))/60,"") | L39: H TUNNEL | M39: =MIN(IF(M35=0,0,IF(M35>=37,M35-37,IF(M35<=35,M35-35,0))),5) -> 0
C40: TOTAL | D40: =SUM(D34:D39) -> 0 | E40: =SUM(E34:E39) -> 0 | F40: =SUM(F34:F39) -> 0 | G40: =SUM(G34:G39) -> 0 | H40: =IF(COUNTIF(H34:H39,0)>0,0,IF(COUNTBLANK(H34:H39)=6,0,(6-COUNTBLANK(H34:H39)-COUNTIF(H34:H39,"REPOS"))*$K32/5)) -> 0 | I40: =SUM(I34:I39) -> 0 | J40: =SUM(J34:J39) -> 0 | L40: MODUL. | M40: =IF(M35<42,M35-$K$4,7) -> -43
B41: =CONCATENATE("SEMAINE"," ",WEEKNUM(C41)) -> #VALUE! | C41: =IFERROR(IF(DAY(C39+2)<DAY(C39),"",C39+2),"") | D41: =IF(ISNA((HOUR(VLOOKUP(CONCATENATE(VLOOKUP($A$3,XTIME!$A$1:$E$31,3,FALSE),$C41),Tableau3[[Référence]:[FORMATION]],34,FALSE))*60+MINUTE(VLOOKUP(CONCATENATE(VLOOKUP($A$3,XTIME!$A$1:$E$31,3,FALSE),$C41),Tableau3[[Référence]:[FORMATION]],34,FALSE)))/60)=TRUE,"",((HOUR(VLOOKUP(CONCATENATE(VLOOKUP($A$3,XTIME!$A$1:$E$31,3,FALSE),$C41),Tableau3[[Référence]:[FORMATION]],34,FALSE))*60+MINUTE(VLOOKUP(CONCATENATE(VLOOKUP($A$3,XTIME!$A$1:$E$31,3,FALSE),$C41),Tableau3[[Référence]:[FORMATION]],34,FALSE)))/60)) | E41: =IF(ISNA((HOUR(VLOOKUP(CONCATENATE(VLOOKUP($A$3,XTIME!$A$1:$E$31,3,FALSE),$C41),Tableau3[[Référence]:[FORMATION]],40,FALSE))*60+MINUTE(VLOOKUP(CONCATENATE(VLOOKUP($A$3,XTIME!$A$1:$E$31,3,FALSE),$C41),Tableau3[[Référence]:[FORMATION]],40,FALSE)))/60)=TRUE,"",((HOUR(VLOOKUP(CONCATENATE(VLOOKUP($A$3,XTIME!$A$1:$E$31,3,FALSE),$C41),Tableau3[[Référence]:[FORMATION]],40,FALSE))*60+MINUTE(VLOOKUP(CONCATENATE(VLOOKUP($A$3,XTIME!$A$1:$E$31,3,FALSE),$C41),Tableau3[[Référence]:[FORMATION]],40,FALSE)))/60)) | F41: =IF(ISNA((HOUR(VLOOKUP(CONCATENATE(VLOOKUP($A$3,XTIME!$A$1:$E$31,3,FALSE),$C41),Tableau3[[Référence]:[FORMATION]],41,FALSE))*60+MINUTE(VLOOKUP(CONCATENATE(VLOOKUP($A$3,XTIME!$A$1:$E$31,3,FALSE),$C41),Tableau3[[Référence]:[FORMATION]],41,FALSE)))/60)=TRUE,"",((HOUR(VLOOKUP(CONCATENATE(VLOOKUP($A$3,XTIME!$A$1:$E$31,3,FALSE),$C41),Tableau3[[Référence]:[FORMATION]],41,FALSE))*60+MINUTE(VLOOKUP(CONCATENATE(VLOOKUP($A$3,XTIME!$A$1:$E$31,3,FALSE),$C41),Tableau3[[Référence]:[FORMATION]],41,FALSE)))/60)) | G41: =IF(ISNA((HOUR(VLOOKUP(CONCATENATE(VLOOKUP($A$3,XTIME!$A$1:$E$31,3,FALSE),$C41),Tableau3[[Référence]:[FORMATION]],42,FALSE))*60+MINUTE(VLOOKUP(CONCATENATE(VLOOKUP($A$3,XTIME!$A$1:$E$31,3,FALSE),$C41),Tableau3[[Référence]:[FORMATION]],42,FALSE)))/60)=TRUE,"",((HOUR(VLOOKUP(CONCATENATE(VLOOKUP($A$3,XTIME!$A$1:$E$31,3,FALSE),$C41),Tableau3[[Référence]:[FORMATION]],42,FALSE))*60+MINUTE(VLOOKUP(CONCATENATE(VLOOKUP($A$3,XTIME!$A$1:$E$31,3,FALSE),$C41),Tableau3[[Référence]:[FORMATION]],42,FALSE)))/60)) | H41: =IF(ISNA(VLOOKUP(CONCATENATE(VLOOKUP($A$3,XTIME!$A$1:$E$31,3,FALSE),$C41),Tableau3[[Référence]:[FORMATION]],7,FALSE))=TRUE,"",VLOOKUP(CONCATENATE(VLOOKUP($A$3,XTIME!$A$1:$E$31,3,FALSE),$C41),Tableau3[[Référence]:[FORMATION]],7,FALSE)) | I41: =IFERROR((HOUR(IF(C41="","",MIN(IF((VLOOKUP(CONCATENATE(VLOOKUP($A$3,XTIME!$A$1:$E$31,3,FALSE),C41),'Fiche Horaire'!A:AR,12,FALSE)+VLOOKUP(CONCATENATE(VLOOKUP($A$3,XTIME!$A$1:$E$31,3,FALSE),C41),'Fiche Horaire'!A:AR,33,FALSE))>Feuil2!$C$2,VLOOKUP(CONCATENATE(VLOOKUP($A$3,XTIME!$A$1:$E$31,3,FALSE),C41),'Fiche Horaire'!A:AR,33,FALSE)+VLOOKUP(CONCATENATE(VLOOKUP($A$3,XTIME!$A$1:$E$31,3,FALSE),C41),'Fiche Horaire'!A:AR,12,FALSE)-Feuil2!$C$2,"X"),Feuil2!$C$3)))*60+MINUTE(IF(C41="","",MIN(IF((VLOOKUP(CONCATENATE(VLOOKUP($A$3,XTIME!$A$1:$E$31,3,FALSE),C41),'Fiche Horaire'!A:AR,12,FALSE)+VLOOKUP(CONCATENATE(VLOOKUP($A$3,XTIME!$A$1:$E$31,3,FALSE),C41),'Fiche Horaire'!A:AR,33,FALSE))>Feuil2!$C$2,VLOOKUP(CONCATENATE(VLOOKUP($A$3,XTIME!$A$1:$E$31,3,FALSE),C41),'Fiche Horaire'!A:AR,33,FALSE)+VLOOKUP(CONCATENATE(VLOOKUP($A$3,XTIME!$A$1:$E$31,3,FALSE),C41),'Fiche Horaire'!A:AR,12,FALSE)-Feuil2!$C$2,"X"),Feuil2!$C$3))))/60,"") | J41: =IFERROR((HOUR(IF(C41="","",IF(VLOOKUP(CONCATENATE(VLOOKUP($A$3,XTIME!$A$1:$E$31,3,FALSE),C41),'Fiche Horaire'!A:AR,12,FALSE)="","",IF((VLOOKUP(CONCATENATE(VLOOKUP($A$3,XTIME!$A$1:$E$31,3,FALSE),C41),'Fiche Horaire'!A:AR,12,FALSE))<Feuil2!$D$2,Feuil2!$D$2-VLOOKUP(CONCATENATE(VLOOKUP($A$3,XTIME!$A$1:$E$31,3,FALSE),C41),'Fiche Horaire'!A:AR,12,FALSE),IF((VLOOKUP(CONCATENATE(VLOOKUP($A$3,XTIME!$A$1:$E$31,3,FALSE),C41),'Fiche Horaire'!A:AR,12,FALSE)+VLOOKUP(CONCATENATE(VLOOKUP($A$3,XTIME!$A$1:$E$31,3,FALSE),C41),'Fiche Horaire'!A:AR,33,FALSE))>Feuil2!$D$3,VLOOKUP(CONCATENATE(VLOOKUP($A$3,XTIME!$A$1:$E$31,3,FALSE),C41),'Fiche Horaire'!A:AR,33,FALSE)+VLOOKUP(CONCATENATE(VLOOKUP($A$3,XTIME!$A$1:$E$31,3,FALSE),C41),'Fiche Horaire'!A:AR,12,FALSE)-Feuil2!$D$3,"")))))*60+MINUTE(IF(C41="","",IF(VLOOKUP(CONCATENATE(VLOOKUP($A$3,XTIME!$A$1:$E$31,3,FALSE),C41),'Fiche Horaire'!A:AR,12,FALSE)="","",IF((VLOOKUP(CONCATENATE(VLOOKUP($A$3,XTIME!$A$1:$E$31,3,FALSE),C41),'Fiche Horaire'!A:AR,12,FALSE))<Feuil2!$D$2,Feuil2!$D$2-VLOOKUP(CONCATENATE(VLOOKUP($A$3,XTIME!$A$1:$E$31,3,FALSE),C41),'Fiche Horaire'!A:AR,12,FALSE),IF((VLOOKUP(CONCATENATE(VLOOKUP($A$3,XTIME!$A$1:$E$31,3,FALSE),C41),'Fiche Horaire'!A:AR,12,FALSE)+VLOOKUP(CONCATENATE(VLOOKUP($A$3,XTIME!$A$1:$E$31,3,FALSE),C41),'Fiche Horaire'!A:AR,33,FALSE))>Feuil2!$D$3,VLOOKUP(CONCATENATE(VLOOKUP($A$3,XTIME!$A$1:$E$31,3,FALSE),C41),'Fiche Horaire'!A:AR,33,FALSE)+VLOOKUP(CONCATENATE(VLOOKUP($A$3,XTIME!$A$1:$E$31,3,FALSE),C41),'Fiche Horaire'!A:AR,12,FALSE)-Feuil2!$D$3,""))))))/60,"") | L41: =B41 -> #VALUE!
C42: =IFERROR(IF(DAY(C41+1)<DAY(C41),"",C41+1),"") | D42: =IF(ISNA((HOUR(VLOOKUP(CONCATENATE(VLOOKUP($A$3,XTIME!$A$1:$E$31,3,FALSE),$C42),Tableau3[[Référence]:[FORMATION]],34,FALSE))*60+MINUTE(VLOOKUP(CONCATENATE(VLOOKUP($A$3,XTIME!$A$1:$E$31,3,FALSE),$C42),Tableau3[[Référence]:[FORMATION]],34,FALSE)))/60)=TRUE,"",((HOUR(VLOOKUP(CONCATENATE(VLOOKUP($A$3,XTIME!$A$1:$E$31,3,FALSE),$C42),Tableau3[[Référence]:[FORMATION]],34,FALSE))*60+MINUTE(VLOOKUP(CONCATENATE(VLOOKUP($A$3,XTIME!$A$1:$E$31,3,FALSE),$C42),Tableau3[[Référence]:[FORMATION]],34,FALSE)))/60)) | E42: =IF(ISNA((HOUR(VLOOKUP(CONCATENATE(VLOOKUP($A$3,XTIME!$A$1:$E$31,3,FALSE),$C42),Tableau3[[Référence]:[FORMATION]],40,FALSE))*60+MINUTE(VLOOKUP(CONCATENATE(VLOOKUP($A$3,XTIME!$A$1:$E$31,3,FALSE),$C42),Tableau3[[Référence]:[FORMATION]],40,FALSE)))/60)=TRUE,"",((HOUR(VLOOKUP(CONCATENATE(VLOOKUP($A$3,XTIME!$A$1:$E$31,3,FALSE),$C42),Tableau3[[Référence]:[FORMATION]],40,FALSE))*60+MINUTE(VLOOKUP(CONCATENATE(VLOOKUP($A$3,XTIME!$A$1:$E$31,3,FALSE),$C42),Tableau3[[Référence]:[FORMATION]],40,FALSE)))/60)) | F42: =IF(ISNA((HOUR(VLOOKUP(CONCATENATE(VLOOKUP($A$3,XTIME!$A$1:$E$31,3,FALSE),$C42),Tableau3[[Référence]:[FORMATION]],41,FALSE))*60+MINUTE(VLOOKUP(CONCATENATE(VLOOKUP($A$3,XTIME!$A$1:$E$31,3,FALSE),$C42),Tableau3[[Référence]:[FORMATION]],41,FALSE)))/60)=TRUE,"",((HOUR(VLOOKUP(CONCATENATE(VLOOKUP($A$3,XTIME!$A$1:$E$31,3,FALSE),$C42),Tableau3[[Référence]:[FORMATION]],41,FALSE))*60+MINUTE(VLOOKUP(CONCATENATE(VLOOKUP($A$3,XTIME!$A$1:$E$31,3,FALSE),$C42),Tableau3[[Référence]:[FORMATION]],41,FALSE)))/60)) | G42: =IF(ISNA((HOUR(VLOOKUP(CONCATENATE(VLOOKUP($A$3,XTIME!$A$1:$E$31,3,FALSE),$C42),Tableau3[[Référence]:[FORMATION]],42,FALSE))*60+MINUTE(VLOOKUP(CONCATENATE(VLOOKUP($A$3,XTIME!$A$1:$E$31,3,FALSE),$C42),Tableau3[[Référence]:[FORMATION]],42,FALSE)))/60)=TRUE,"",((HOUR(VLOOKUP(CONCATENATE(VLOOKUP($A$3,XTIME!$A$1:$E$31,3,FALSE),$C42),Tableau3[[Référence]:[FORMATION]],42,FALSE))*60+MINUTE(VLOOKUP(CONCATENATE(VLOOKUP($A$3,XTIME!$A$1:$E$31,3,FALSE),$C42),Tableau3[[Référence]:[FORMATION]],42,FALSE)))/60)) | H42: =IF(ISNA(VLOOKUP(CONCATENATE(VLOOKUP($A$3,XTIME!$A$1:$E$31,3,FALSE),$C42),Tableau3[[Référence]:[FORMATION]],7,FALSE))=TRUE,"",VLOOKUP(CONCATENATE(VLOOKUP($A$3,XTIME!$A$1:$E$31,3,FALSE),$C42),Tableau3[[Référence]:[FORMATION]],7,FALSE)) | I42: =IFERROR((HOUR(IF(C42="","",MIN(IF((VLOOKUP(CONCATENATE(VLOOKUP($A$3,XTIME!$A$1:$E$31,3,FALSE),C42),'Fiche Horaire'!A:AR,12,FALSE)+VLOOKUP(CONCATENATE(VLOOKUP($A$3,XTIME!$A$1:$E$31,3,FALSE),C42),'Fiche Horaire'!A:AR,33,FALSE))>Feuil2!$C$2,VLOOKUP(CONCATENATE(VLOOKUP($A$3,XTIME!$A$1:$E$31,3,FALSE),C42),'Fiche Horaire'!A:AR,33,FALSE)+VLOOKUP(CONCATENATE(VLOOKUP($A$3,XTIME!$A$1:$E$31,3,FALSE),C42),'Fiche Horaire'!A:AR,12,FALSE)-Feuil2!$C$2,"X"),Feuil2!$C$3)))*60+MINUTE(IF(C42="","",MIN(IF((VLOOKUP(CONCATENATE(VLOOKUP($A$3,XTIME!$A$1:$E$31,3,FALSE),C42),'Fiche Horaire'!A:AR,12,FALSE)+VLOOKUP(CONCATENATE(VLOOKUP($A$3,XTIME!$A$1:$E$31,3,FALSE),C42),'Fiche Horaire'!A:AR,33,FALSE))>Feuil2!$C$2,VLOOKUP(CONCATENATE(VLOOKUP($A$3,XTIME!$A$1:$E$31,3,FALSE),C42),'Fiche Horaire'!A:AR,33,FALSE)+VLOOKUP(CONCATENATE(VLOOKUP($A$3,XTIME!$A$1:$E$31,3,FALSE),C42),'Fiche Horaire'!A:AR,12,FALSE)-Feuil2!$C$2,"X"),Feuil2!$C$3))))/60,"") | J42: =IFERROR((HOUR(IF(C42="","",IF(VLOOKUP(CONCATENATE(VLOOKUP($A$3,XTIME!$A$1:$E$31,3,FALSE),C42),'Fiche Horaire'!A:AR,12,FALSE)="","",IF((VLOOKUP(CONCATENATE(VLOOKUP($A$3,XTIME!$A$1:$E$31,3,FALSE),C42),'Fiche Horaire'!A:AR,12,FALSE))<Feuil2!$D$2,Feuil2!$D$2-VLOOKUP(CONCATENATE(VLOOKUP($A$3,XTIME!$A$1:$E$31,3,FALSE),C42),'Fiche Horaire'!A:AR,12,FALSE),IF((VLOOKUP(CONCATENATE(VLOOKUP($A$3,XTIME!$A$1:$E$31,3,FALSE),C42),'Fiche Horaire'!A:AR,12,FALSE)+VLOOKUP(CONCATENATE(VLOOKUP($A$3,XTIME!$A$1:$E$31,3,FALSE),C42),'Fiche Horaire'!A:AR,33,FALSE))>Feuil2!$D$3,VLOOKUP(CONCATENATE(VLOOKUP($A$3,XTIME!$A$1:$E$31,3,FALSE),C42),'Fiche Horaire'!A:AR,33,FALSE)+VLOOKUP(CONCATENATE(VLOOKUP($A$3,XTIME!$A$1:$E$31,3,FALSE),C42),'Fiche Horaire'!A:AR,12,FALSE)-Feuil2!$D$3,"")))))*60+MINUTE(IF(C42="","",IF(VLOOKUP(CONCATENATE(VLOOKUP($A$3,XTIME!$A$1:$E$31,3,FALSE),C42),'Fiche Horaire'!A:AR,12,FALSE)="","",IF((VLOOKUP(CONCATENATE(VLOOKUP($A$3,XTIME!$A$1:$E$31,3,FALSE),C42),'Fiche Horaire'!A:AR,12,FALSE))<Feuil2!$D$2,Feuil2!$D$2-VLOOKUP(CONCATENATE(VLOOKUP($A$3,XTIME!$A$1:$E$31,3,FALSE),C42),'Fiche Horaire'!A:AR,12,FALSE),IF((VLOOKUP(CONCATENATE(VLOOKUP($A$3,XTIME!$A$1:$E$31,3,FALSE),C42),'Fiche Horaire'!A:AR,12,FALSE)+VLOOKUP(CONCATENATE(VLOOKUP($A$3,XTIME!$A$1:$E$31,3,FALSE),C42),'Fiche Horaire'!A:AR,33,FALSE))>Feuil2!$D$3,VLOOKUP(CONCATENATE(VLOOKUP($A$3,XTIME!$A$1:$E$31,3,FALSE),C42),'Fiche Horaire'!A:AR,33,FALSE)+VLOOKUP(CONCATENATE(VLOOKUP($A$3,XTIME!$A$1:$E$31,3,FALSE),C42),'Fiche Horaire'!A:AR,12,FALSE)-Feuil2!$D$3,""))))))/60,"") | L42: TOTAL HEURES | M42: =D47+E47+G47+H47+F47 -> 0
C43: =IFERROR(IF(DAY(C42+1)<DAY(C42),"",C42+1),"") | D43: =IF(ISNA((HOUR(VLOOKUP(CONCATENATE(VLOOKUP($A$3,XTIME!$A$1:$E$31,3,FALSE),$C43),Tableau3[[Référence]:[FORMATION]],34,FALSE))*60+MINUTE(VLOOKUP(CONCATENATE(VLOOKUP($A$3,XTIME!$A$1:$E$31,3,FALSE),$C43),Tableau3[[Référence]:[FORMATION]],34,FALSE)))/60)=TRUE,"",((HOUR(VLOOKUP(CONCATENATE(VLOOKUP($A$3,XTIME!$A$1:$E$31,3,FALSE),$C43),Tableau3[[Référence]:[FORMATION]],34,FALSE))*60+MINUTE(VLOOKUP(CONCATENATE(VLOOKUP($A$3,XTIME!$A$1:$E$31,3,FALSE),$C43),Tableau3[[Référence]:[FORMATION]],34,FALSE)))/60)) | E43: =IF(ISNA((HOUR(VLOOKUP(CONCATENATE(VLOOKUP($A$3,XTIME!$A$1:$E$31,3,FALSE),$C43),Tableau3[[Référence]:[FORMATION]],40,FALSE))*60+MINUTE(VLOOKUP(CONCATENATE(VLOOKUP($A$3,XTIME!$A$1:$E$31,3,FALSE),$C43),Tableau3[[Référence]:[FORMATION]],40,FALSE)))/60)=TRUE,"",((HOUR(VLOOKUP(CONCATENATE(VLOOKUP($A$3,XTIME!$A$1:$E$31,3,FALSE),$C43),Tableau3[[Référence]:[FORMATION]],40,FALSE))*60+MINUTE(VLOOKUP(CONCATENATE(VLOOKUP($A$3,XTIME!$A$1:$E$31,3,FALSE),$C43),Tableau3[[Référence]:[FORMATION]],40,FALSE)))/60)) | F43: =IF(ISNA((HOUR(VLOOKUP(CONCATENATE(VLOOKUP($A$3,XTIME!$A$1:$E$31,3,FALSE),$C43),Tableau3[[Référence]:[FORMATION]],41,FALSE))*60+MINUTE(VLOOKUP(CONCATENATE(VLOOKUP($A$3,XTIME!$A$1:$E$31,3,FALSE),$C43),Tableau3[[Référence]:[FORMATION]],41,FALSE)))/60)=TRUE,"",((HOUR(VLOOKUP(CONCATENATE(VLOOKUP($A$3,XTIME!$A$1:$E$31,3,FALSE),$C43),Tableau3[[Référence]:[FORMATION]],41,FALSE))*60+MINUTE(VLOOKUP(CONCATENATE(VLOOKUP($A$3,XTIME!$A$1:$E$31,3,FALSE),$C43),Tableau3[[Référence]:[FORMATION]],41,FALSE)))/60)) | G43: =IF(ISNA((HOUR(VLOOKUP(CONCATENATE(VLOOKUP($A$3,XTIME!$A$1:$E$31,3,FALSE),$C43),Tableau3[[Référence]:[FORMATION]],42,FALSE))*60+MINUTE(VLOOKUP(CONCATENATE(VLOOKUP($A$3,XTIME!$A$1:$E$31,3,FALSE),$C43),Tableau3[[Référence]:[FORMATION]],42,FALSE)))/60)=TRUE,"",((HOUR(VLOOKUP(CONCATENATE(VLOOKUP($A$3,XTIME!$A$1:$E$31,3,FALSE),$C43),Tableau3[[Référence]:[FORMATION]],42,FALSE))*60+MINUTE(VLOOKUP(CONCATENATE(VLOOKUP($A$3,XTIME!$A$1:$E$31,3,FALSE),$C43),Tableau3[[Référence]:[FORMATION]],42,FALSE)))/60)) | H43: =IF(ISNA(VLOOKUP(CONCATENATE(VLOOKUP($A$3,XTIME!$A$1:$E$31,3,FALSE),$C43),Tableau3[[Référence]:[FORMATION]],7,FALSE))=TRUE,"",VLOOKUP(CONCATENATE(VLOOKUP($A$3,XTIME!$A$1:$E$31,3,FALSE),$C43),Tableau3[[Référence]:[FORMATION]],7,FALSE)) | I43: =IFERROR((HOUR(IF(C43="","",MIN(IF((VLOOKUP(CONCATENATE(VLOOKUP($A$3,XTIME!$A$1:$E$31,3,FALSE),C43),'Fiche Horaire'!A:AR,12,FALSE)+VLOOKUP(CONCATENATE(VLOOKUP($A$3,XTIME!$A$1:$E$31,3,FALSE),C43),'Fiche Horaire'!A:AR,33,FALSE))>Feuil2!$C$2,VLOOKUP(CONCATENATE(VLOOKUP($A$3,XTIME!$A$1:$E$31,3,FALSE),C43),'Fiche Horaire'!A:AR,33,FALSE)+VLOOKUP(CONCATENATE(VLOOKUP($A$3,XTIME!$A$1:$E$31,3,FALSE),C43),'Fiche Horaire'!A:AR,12,FALSE)-Feuil2!$C$2,"X"),Feuil2!$C$3)))*60+MINUTE(IF(C43="","",MIN(IF((VLOOKUP(CONCATENATE(VLOOKUP($A$3,XTIME!$A$1:$E$31,3,FALSE),C43),'Fiche Horaire'!A:AR,12,FALSE)+VLOOKUP(CONCATENATE(VLOOKUP($A$3,XTIME!$A$1:$E$31,3,FALSE),C43),'Fiche Horaire'!A:AR,33,FALSE))>Feuil2!$C$2,VLOOKUP(CONCATENATE(VLOOKUP($A$3,XTIME!$A$1:$E$31,3,FALSE),C43),'Fiche Horaire'!A:AR,33,FALSE)+VLOOKUP(CONCATENATE(VLOOKUP($A$3,XTIME!$A$1:$E$31,3,FALSE),C43),'Fiche Horaire'!A:AR,12,FALSE)-Feuil2!$C$2,"X"),Feuil2!$C$3))))/60,"") | J43: =IFERROR((HOUR(IF(C43="","",IF(VLOOKUP(CONCATENATE(VLOOKUP($A$3,XTIME!$A$1:$E$31,3,FALSE),C43),'Fiche Horaire'!A:AR,12,FALSE)="","",IF((VLOOKUP(CONCATENATE(VLOOKUP($A$3,XTIME!$A$1:$E$31,3,FALSE),C43),'Fiche Horaire'!A:AR,12,FALSE))<Feuil2!$D$2,Feuil2!$D$2-VLOOKUP(CONCATENATE(VLOOKUP($A$3,XTIME!$A$1:$E$31,3,FALSE),C43),'Fiche Horaire'!A:AR,12,FALSE),IF((VLOOKUP(CONCATENATE(VLOOKUP($A$3,XTIME!$A$1:$E$31,3,FALSE),C43),'Fiche Horaire'!A:AR,12,FALSE)+VLOOKUP(CONCATENATE(VLOOKUP($A$3,XTIME!$A$1:$E$31,3,FALSE),C43),'Fiche Horaire'!A:AR,33,FALSE))>Feuil2!$D$3,VLOOKUP(CONCATENATE(VLOOKUP($A$3,XTIME!$A$1:$E$31,3,FALSE),C43),'Fiche Horaire'!A:AR,33,FALSE)+VLOOKUP(CONCATENATE(VLOOKUP($A$3,XTIME!$A$1:$E$31,3,FALSE),C43),'Fiche Horaire'!A:AR,12,FALSE)-Feuil2!$D$3,"")))))*60+MINUTE(IF(C43="","",IF(VLOOKUP(CONCATENATE(VLOOKUP($A$3,XTIME!$A$1:$E$31,3,FALSE),C43),'Fiche Horaire'!A:AR,12,FALSE)="","",IF((VLOOKUP(CONCATENATE(VLOOKUP($A$3,XTIME!$A$1:$E$31,3,FALSE),C43),'Fiche Horaire'!A:AR,12,FALSE))<Feuil2!$D$2,Feuil2!$D$2-VLOOKUP(CONCATENATE(VLOOKUP($A$3,XTIME!$A$1:$E$31,3,FALSE),C43),'Fiche Horaire'!A:AR,12,FALSE),IF((VLOOKUP(CONCATENATE(VLOOKUP($A$3,XTIME!$A$1:$E$31,3,FALSE),C43),'Fiche Horaire'!A:AR,12,FALSE)+VLOOKUP(CONCATENATE(VLOOKUP($A$3,XTIME!$A$1:$E$31,3,FALSE),C43),'Fiche Horaire'!A:AR,33,FALSE))>Feuil2!$D$3,VLOOKUP(CONCATENATE(VLOOKUP($A$3,XTIME!$A$1:$E$31,3,FALSE),C43),'Fiche Horaire'!A:AR,33,FALSE)+VLOOKUP(CONCATENATE(VLOOKUP($A$3,XTIME!$A$1:$E$31,3,FALSE),C43),'Fiche Horaire'!A:AR,12,FALSE)-Feuil2!$D$3,""))))))/60,"") | L43: AC HS | M43: =MIN(IF(M42=0,0,IF(M42>=35,M42-35,0)),2) -> 0
C44: =IFERROR(IF(DAY(C43+1)<DAY(C43),"",C43+1),"") | D44: =IF(ISNA((HOUR(VLOOKUP(CONCATENATE(VLOOKUP($A$3,XTIME!$A$1:$E$31,3,FALSE),$C44),Tableau3[[Référence]:[FORMATION]],34,FALSE))*60+MINUTE(VLOOKUP(CONCATENATE(VLOOKUP($A$3,XTIME!$A$1:$E$31,3,FALSE),$C44),Tableau3[[Référence]:[FORMATION]],34,FALSE)))/60)=TRUE,"",((HOUR(VLOOKUP(CONCATENATE(VLOOKUP($A$3,XTIME!$A$1:$E$31,3,FALSE),$C44),Tableau3[[Référence]:[FORMATION]],34,FALSE))*60+MINUTE(VLOOKUP(CONCATENATE(VLOOKUP($A$3,XTIME!$A$1:$E$31,3,FALSE),$C44),Tableau3[[Référence]:[FORMATION]],34,FALSE)))/60)) | E44: =IF(ISNA((HOUR(VLOOKUP(CONCATENATE(VLOOKUP($A$3,XTIME!$A$1:$E$31,3,FALSE),$C44),Tableau3[[Référence]:[FORMATION]],40,FALSE))*60+MINUTE(VLOOKUP(CONCATENATE(VLOOKUP($A$3,XTIME!$A$1:$E$31,3,FALSE),$C44),Tableau3[[Référence]:[FORMATION]],40,FALSE)))/60)=TRUE,"",((HOUR(VLOOKUP(CONCATENATE(VLOOKUP($A$3,XTIME!$A$1:$E$31,3,FALSE),$C44),Tableau3[[Référence]:[FORMATION]],40,FALSE))*60+MINUTE(VLOOKUP(CONCATENATE(VLOOKUP($A$3,XTIME!$A$1:$E$31,3,FALSE),$C44),Tableau3[[Référence]:[FORMATION]],40,FALSE)))/60)) | F44: =IF(ISNA((HOUR(VLOOKUP(CONCATENATE(VLOOKUP($A$3,XTIME!$A$1:$E$31,3,FALSE),$C44),Tableau3[[Référence]:[FORMATION]],41,FALSE))*60+MINUTE(VLOOKUP(CONCATENATE(VLOOKUP($A$3,XTIME!$A$1:$E$31,3,FALSE),$C44),Tableau3[[Référence]:[FORMATION]],41,FALSE)))/60)=TRUE,"",((HOUR(VLOOKUP(CONCATENATE(VLOOKUP($A$3,XTIME!$A$1:$E$31,3,FALSE),$C44),Tableau3[[Référence]:[FORMATION]],41,FALSE))*60+MINUTE(VLOOKUP(CONCATENATE(VLOOKUP($A$3,XTIME!$A$1:$E$31,3,FALSE),$C44),Tableau3[[Référence]:[FORMATION]],41,FALSE)))/60)) | G44: =IF(ISNA((HOUR(VLOOKUP(CONCATENATE(VLOOKUP($A$3,XTIME!$A$1:$E$31,3,FALSE),$C44),Tableau3[[Référence]:[FORMATION]],42,FALSE))*60+MINUTE(VLOOKUP(CONCATENATE(VLOOKUP($A$3,XTIME!$A$1:$E$31,3,FALSE),$C44),Tableau3[[Référence]:[FORMATION]],42,FALSE)))/60)=TRUE,"",((HOUR(VLOOKUP(CONCATENATE(VLOOKUP($A$3,XTIME!$A$1:$E$31,3,FALSE),$C44),Tableau3[[Référence]:[FORMATION]],42,FALSE))*60+MINUTE(VLOOKUP(CONCATENATE(VLOOKUP($A$3,XTIME!$A$1:$E$31,3,FALSE),$C44),Tableau3[[Référence]:[FORMATION]],42,FALSE)))/60)) | H44: =IF(ISNA(VLOOKUP(CONCATENATE(VLOOKUP($A$3,XTIME!$A$1:$E$31,3,FALSE),$C44),Tableau3[[Référence]:[FORMATION]],7,FALSE))=TRUE,"",VLOOKUP(CONCATENATE(VLOOKUP($A$3,XTIME!$A$1:$E$31,3,FALSE),$C44),Tableau3[[Référence]:[FORMATION]],7,FALSE)) | I44: =IFERROR((HOUR(IF(C44="","",MIN(IF((VLOOKUP(CONCATENATE(VLOOKUP($A$3,XTIME!$A$1:$E$31,3,FALSE),C44),'Fiche Horaire'!A:AR,12,FALSE)+VLOOKUP(CONCATENATE(VLOOKUP($A$3,XTIME!$A$1:$E$31,3,FALSE),C44),'Fiche Horaire'!A:AR,33,FALSE))>Feuil2!$C$2,VLOOKUP(CONCATENATE(VLOOKUP($A$3,XTIME!$A$1:$E$31,3,FALSE),C44),'Fiche Horaire'!A:AR,33,FALSE)+VLOOKUP(CONCATENATE(VLOOKUP($A$3,XTIME!$A$1:$E$31,3,FALSE),C44),'Fiche Horaire'!A:AR,12,FALSE)-Feuil2!$C$2,"X"),Feuil2!$C$3)))*60+MINUTE(IF(C44="","",MIN(IF((VLOOKUP(CONCATENATE(VLOOKUP($A$3,XTIME!$A$1:$E$31,3,FALSE),C44),'Fiche Horaire'!A:AR,12,FALSE)+VLOOKUP(CONCATENATE(VLOOKUP($A$3,XTIME!$A$1:$E$31,3,FALSE),C44),'Fiche Horaire'!A:AR,33,FALSE))>Feuil2!$C$2,VLOOKUP(CONCATENATE(VLOOKUP($A$3,XTIME!$A$1:$E$31,3,FALSE),C44),'Fiche Horaire'!A:AR,33,FALSE)+VLOOKUP(CONCATENATE(VLOOKUP($A$3,XTIME!$A$1:$E$31,3,FALSE),C44),'Fiche Horaire'!A:AR,12,FALSE)-Feuil2!$C$2,"X"),Feuil2!$C$3))))/60,"") | J44: =IFERROR((HOUR(IF(C44="","",IF(VLOOKUP(CONCATENATE(VLOOKUP($A$3,XTIME!$A$1:$E$31,3,FALSE),C44),'Fiche Horaire'!A:AR,12,FALSE)="","",IF((VLOOKUP(CONCATENATE(VLOOKUP($A$3,XTIME!$A$1:$E$31,3,FALSE),C44),'Fiche Horaire'!A:AR,12,FALSE))<Feuil2!$D$2,Feuil2!$D$2-VLOOKUP(CONCATENATE(VLOOKUP($A$3,XTIME!$A$1:$E$31,3,FALSE),C44),'Fiche Horaire'!A:AR,12,FALSE),IF((VLOOKUP(CONCATENATE(VLOOKUP($A$3,XTIME!$A$1:$E$31,3,FALSE),C44),'Fiche Horaire'!A:AR,12,FALSE)+VLOOKUP(CONCATENATE(VLOOKUP($A$3,XTIME!$A$1:$E$31,3,FALSE),C44),'Fiche Horaire'!A:AR,33,FALSE))>Feuil2!$D$3,VLOOKUP(CONCATENATE(VLOOKUP($A$3,XTIME!$A$1:$E$31,3,FALSE),C44),'Fiche Horaire'!A:AR,33,FALSE)+VLOOKUP(CONCATENATE(VLOOKUP($A$3,XTIME!$A$1:$E$31,3,FALSE),C44),'Fiche Horaire'!A:AR,12,FALSE)-Feuil2!$D$3,"")))))*60+MINUTE(IF(C44="","",IF(VLOOKUP(CONCATENATE(VLOOKUP($A$3,XTIME!$A$1:$E$31,3,FALSE),C44),'Fiche Horaire'!A:AR,12,FALSE)="","",IF((VLOOKUP(CONCATENATE(VLOOKUP($A$3,XTIME!$A$1:$E$31,3,FALSE),C44),'Fiche Horaire'!A:AR,12,FALSE))<Feuil2!$D$2,Feuil2!$D$2-VLOOKUP(CONCATENATE(VLOOKUP($A$3,XTIME!$A$1:$E$31,3,FALSE),C44),'Fiche Horaire'!A:AR,12,FALSE),IF((VLOOKUP(CONCATENATE(VLOOKUP($A$3,XTIME!$A$1:$E$31,3,FALSE),C44),'Fiche Horaire'!A:AR,12,FALSE)+VLOOKUP(CONCATENATE(VLOOKUP($A$3,XTIME!$A$1:$E$31,3,FALSE),C44),'Fiche Horaire'!A:AR,33,FALSE))>Feuil2!$D$3,VLOOKUP(CONCATENATE(VLOOKUP($A$3,XTIME!$A$1:$E$31,3,FALSE),C44),'Fiche Horaire'!A:AR,33,FALSE)+VLOOKUP(CONCATENATE(VLOOKUP($A$3,XTIME!$A$1:$E$31,3,FALSE),C44),'Fiche Horaire'!A:AR,12,FALSE)-Feuil2!$D$3,""))))))/60,"") | L44: HS 125% | M44: =IF(M42<45,M42-$K$4-M47,3) -> 0
C45: =IFERROR(IF(DAY(C44+1)<DAY(C44),"",C44+1),"") | D45: =IF(ISNA((HOUR(VLOOKUP(CONCATENATE(VLOOKUP($A$3,XTIME!$A$1:$E$31,3,FALSE),$C45),Tableau3[[Référence]:[FORMATION]],34,FALSE))*60+MINUTE(VLOOKUP(CONCATENATE(VLOOKUP($A$3,XTIME!$A$1:$E$31,3,FALSE),$C45),Tableau3[[Référence]:[FORMATION]],34,FALSE)))/60)=TRUE,"",((HOUR(VLOOKUP(CONCATENATE(VLOOKUP($A$3,XTIME!$A$1:$E$31,3,FALSE),$C45),Tableau3[[Référence]:[FORMATION]],34,FALSE))*60+MINUTE(VLOOKUP(CONCATENATE(VLOOKUP($A$3,XTIME!$A$1:$E$31,3,FALSE),$C45),Tableau3[[Référence]:[FORMATION]],34,FALSE)))/60)) | E45: =IF(ISNA((HOUR(VLOOKUP(CONCATENATE(VLOOKUP($A$3,XTIME!$A$1:$E$31,3,FALSE),$C45),Tableau3[[Référence]:[FORMATION]],40,FALSE))*60+MINUTE(VLOOKUP(CONCATENATE(VLOOKUP($A$3,XTIME!$A$1:$E$31,3,FALSE),$C45),Tableau3[[Référence]:[FORMATION]],40,FALSE)))/60)=TRUE,"",((HOUR(VLOOKUP(CONCATENATE(VLOOKUP($A$3,XTIME!$A$1:$E$31,3,FALSE),$C45),Tableau3[[Référence]:[FORMATION]],40,FALSE))*60+MINUTE(VLOOKUP(CONCATENATE(VLOOKUP($A$3,XTIME!$A$1:$E$31,3,FALSE),$C45),Tableau3[[Référence]:[FORMATION]],40,FALSE)))/60)) | F45: =IF(ISNA((HOUR(VLOOKUP(CONCATENATE(VLOOKUP($A$3,XTIME!$A$1:$E$31,3,FALSE),$C45),Tableau3[[Référence]:[FORMATION]],41,FALSE))*60+MINUTE(VLOOKUP(CONCATENATE(VLOOKUP($A$3,XTIME!$A$1:$E$31,3,FALSE),$C45),Tableau3[[Référence]:[FORMATION]],41,FALSE)))/60)=TRUE,"",((HOUR(VLOOKUP(CONCATENATE(VLOOKUP($A$3,XTIME!$A$1:$E$31,3,FALSE),$C45),Tableau3[[Référence]:[FORMATION]],41,FALSE))*60+MINUTE(VLOOKUP(CONCATENATE(VLOOKUP($A$3,XTIME!$A$1:$E$31,3,FALSE),$C45),Tableau3[[Référence]:[FORMATION]],41,FALSE)))/60)) | G45: =IF(ISNA((HOUR(VLOOKUP(CONCATENATE(VLOOKUP($A$3,XTIME!$A$1:$E$31,3,FALSE),$C45),Tableau3[[Référence]:[FORMATION]],42,FALSE))*60+MINUTE(VLOOKUP(CONCATENATE(VLOOKUP($A$3,XTIME!$A$1:$E$31,3,FALSE),$C45),Tableau3[[Référence]:[FORMATION]],42,FALSE)))/60)=TRUE,"",((HOUR(VLOOKUP(CONCATENATE(VLOOKUP($A$3,XTIME!$A$1:$E$31,3,FALSE),$C45),Tableau3[[Référence]:[FORMATION]],42,FALSE))*60+MINUTE(VLOOKUP(CONCATENATE(VLOOKUP($A$3,XTIME!$A$1:$E$31,3,FALSE),$C45),Tableau3[[Référence]:[FORMATION]],42,FALSE)))/60)) | H45: =IF(ISNA(VLOOKUP(CONCATENATE(VLOOKUP($A$3,XTIME!$A$1:$E$31,3,FALSE),$C45),Tableau3[[Référence]:[FORMATION]],7,FALSE))=TRUE,"",VLOOKUP(CONCATENATE(VLOOKUP($A$3,XTIME!$A$1:$E$31,3,FALSE),$C45),Tableau3[[Référence]:[FORMATION]],7,FALSE)) | I45: =IFERROR((HOUR(IF(C45="","",MIN(IF((VLOOKUP(CONCATENATE(VLOOKUP($A$3,XTIME!$A$1:$E$31,3,FALSE),C45),'Fiche Horaire'!A:AR,12,FALSE)+VLOOKUP(CONCATENATE(VLOOKUP($A$3,XTIME!$A$1:$E$31,3,FALSE),C45),'Fiche Horaire'!A:AR,33,FALSE))>Feuil2!$C$2,VLOOKUP(CONCATENATE(VLOOKUP($A$3,XTIME!$A$1:$E$31,3,FALSE),C45),'Fiche Horaire'!A:AR,33,FALSE)+VLOOKUP(CONCATENATE(VLOOKUP($A$3,XTIME!$A$1:$E$31,3,FALSE),C45),'Fiche Horaire'!A:AR,12,FALSE)-Feuil2!$C$2,"X"),Feuil2!$C$3)))*60+MINUTE(IF(C45="","",MIN(IF((VLOOKUP(CONCATENATE(VLOOKUP($A$3,XTIME!$A$1:$E$31,3,FALSE),C45),'Fiche Horaire'!A:AR,12,FALSE)+VLOOKUP(CONCATENATE(VLOOKUP($A$3,XTIME!$A$1:$E$31,3,FALSE),C45),'Fiche Horaire'!A:AR,33,FALSE))>Feuil2!$C$2,VLOOKUP(CONCATENATE(VLOOKUP($A$3,XTIME!$A$1:$E$31,3,FALSE),C45),'Fiche Horaire'!A:AR,33,FALSE)+VLOOKUP(CONCATENATE(VLOOKUP($A$3,XTIME!$A$1:$E$31,3,FALSE),C45),'Fiche Horaire'!A:AR,12,FALSE)-Feuil2!$C$2,"X"),Feuil2!$C$3))))/60,"") | J45: =IFERROR((HOUR(IF(C45="","",IF(VLOOKUP(CONCATENATE(VLOOKUP($A$3,XTIME!$A$1:$E$31,3,FALSE),C45),'Fiche Horaire'!A:AR,12,FALSE)="","",IF((VLOOKUP(CONCATENATE(VLOOKUP($A$3,XTIME!$A$1:$E$31,3,FALSE),C45),'Fiche Horaire'!A:AR,12,FALSE))<Feuil2!$D$2,Feuil2!$D$2-VLOOKUP(CONCATENATE(VLOOKUP($A$3,XTIME!$A$1:$E$31,3,FALSE),C45),'Fiche Horaire'!A:AR,12,FALSE),IF((VLOOKUP(CONCATENATE(VLOOKUP($A$3,XTIME!$A$1:$E$31,3,FALSE),C45),'Fiche Horaire'!A:AR,12,FALSE)+VLOOKUP(CONCATENATE(VLOOKUP($A$3,XTIME!$A$1:$E$31,3,FALSE),C45),'Fiche Horaire'!A:AR,33,FALSE))>Feuil2!$D$3,VLOOKUP(CONCATENATE(VLOOKUP($A$3,XTIME!$A$1:$E$31,3,FALSE),C45),'Fiche Horaire'!A:AR,33,FALSE)+VLOOKUP(CONCATENATE(VLOOKUP($A$3,XTIME!$A$1:$E$31,3,FALSE),C45),'Fiche Horaire'!A:AR,12,FALSE)-Feuil2!$D$3,"")))))*60+MINUTE(IF(C45="","",IF(VLOOKUP(CONCATENATE(VLOOKUP($A$3,XTIME!$A$1:$E$31,3,FALSE),C45),'Fiche Horaire'!A:AR,12,FALSE)="","",IF((VLOOKUP(CONCATENATE(VLOOKUP($A$3,XTIME!$A$1:$E$31,3,FALSE),C45),'Fiche Horaire'!A:AR,12,FALSE))<Feuil2!$D$2,Feuil2!$D$2-VLOOKUP(CONCATENATE(VLOOKUP($A$3,XTIME!$A$1:$E$31,3,FALSE),C45),'Fiche Horaire'!A:AR,12,FALSE),IF((VLOOKUP(CONCATENATE(VLOOKUP($A$3,XTIME!$A$1:$E$31,3,FALSE),C45),'Fiche Horaire'!A:AR,12,FALSE)+VLOOKUP(CONCATENATE(VLOOKUP($A$3,XTIME!$A$1:$E$31,3,FALSE),C45),'Fiche Horaire'!A:AR,33,FALSE))>Feuil2!$D$3,VLOOKUP(CONCATENATE(VLOOKUP($A$3,XTIME!$A$1:$E$31,3,FALSE),C45),'Fiche Horaire'!A:AR,33,FALSE)+VLOOKUP(CONCATENATE(VLOOKUP($A$3,XTIME!$A$1:$E$31,3,FALSE),C45),'Fiche Horaire'!A:AR,12,FALSE)-Feuil2!$D$3,""))))))/60,"") | L45: HS 150% | M45: =IF(M42>45,M42-$K$4-M47-M44,0) -> 0
C46: =IFERROR(IF(DAY(C45+1)<DAY(C45),"",C45+1),"") | D46: =IF(ISNA((HOUR(VLOOKUP(CONCATENATE(VLOOKUP($A$3,XTIME!$A$1:$E$31,3,FALSE),$C46),Tableau3[[Référence]:[FORMATION]],34,FALSE))*60+MINUTE(VLOOKUP(CONCATENATE(VLOOKUP($A$3,XTIME!$A$1:$E$31,3,FALSE),$C46),Tableau3[[Référence]:[FORMATION]],34,FALSE)))/60)=TRUE,"",((HOUR(VLOOKUP(CONCATENATE(VLOOKUP($A$3,XTIME!$A$1:$E$31,3,FALSE),$C46),Tableau3[[Référence]:[FORMATION]],34,FALSE))*60+MINUTE(VLOOKUP(CONCATENATE(VLOOKUP($A$3,XTIME!$A$1:$E$31,3,FALSE),$C46),Tableau3[[Référence]:[FORMATION]],34,FALSE)))/60)) | E46: =IF(ISNA((HOUR(VLOOKUP(CONCATENATE(VLOOKUP($A$3,XTIME!$A$1:$E$31,3,FALSE),$C46),Tableau3[[Référence]:[FORMATION]],40,FALSE))*60+MINUTE(VLOOKUP(CONCATENATE(VLOOKUP($A$3,XTIME!$A$1:$E$31,3,FALSE),$C46),Tableau3[[Référence]:[FORMATION]],40,FALSE)))/60)=TRUE,"",((HOUR(VLOOKUP(CONCATENATE(VLOOKUP($A$3,XTIME!$A$1:$E$31,3,FALSE),$C46),Tableau3[[Référence]:[FORMATION]],40,FALSE))*60+MINUTE(VLOOKUP(CONCATENATE(VLOOKUP($A$3,XTIME!$A$1:$E$31,3,FALSE),$C46),Tableau3[[Référence]:[FORMATION]],40,FALSE)))/60)) | F46: =IF(ISNA((HOUR(VLOOKUP(CONCATENATE(VLOOKUP($A$3,XTIME!$A$1:$E$31,3,FALSE),$C46),Tableau3[[Référence]:[FORMATION]],41,FALSE))*60+MINUTE(VLOOKUP(CONCATENATE(VLOOKUP($A$3,XTIME!$A$1:$E$31,3,FALSE),$C46),Tableau3[[Référence]:[FORMATION]],41,FALSE)))/60)=TRUE,"",((HOUR(VLOOKUP(CONCATENATE(VLOOKUP($A$3,XTIME!$A$1:$E$31,3,FALSE),$C46),Tableau3[[Référence]:[FORMATION]],41,FALSE))*60+MINUTE(VLOOKUP(CONCATENATE(VLOOKUP($A$3,XTIME!$A$1:$E$31,3,FALSE),$C46),Tableau3[[Référence]:[FORMATION]],41,FALSE)))/60)) | G46: =IF(ISNA((HOUR(VLOOKUP(CONCATENATE(VLOOKUP($A$3,XTIME!$A$1:$E$31,3,FALSE),$C46),Tableau3[[Référence]:[FORMATION]],42,FALSE))*60+MINUTE(VLOOKUP(CONCATENATE(VLOOKUP($A$3,XTIME!$A$1:$E$31,3,FALSE),$C46),Tableau3[[Référence]:[FORMATION]],42,FALSE)))/60)=TRUE,"",((HOUR(VLOOKUP(CONCATENATE(VLOOKUP($A$3,XTIME!$A$1:$E$31,3,FALSE),$C46),Tableau3[[Référence]:[FORMATION]],42,FALSE))*60+MINUTE(VLOOKUP(CONCATENATE(VLOOKUP($A$3,XTIME!$A$1:$E$31,3,FALSE),$C46),Tableau3[[Référence]:[FORMATION]],42,FALSE)))/60)) | H46: =IF(ISNA(VLOOKUP(CONCATENATE(VLOOKUP($A$3,XTIME!$A$1:$E$31,3,FALSE),$C46),Tableau3[[Référence]:[FORMATION]],7,FALSE))=TRUE,"",VLOOKUP(CONCATENATE(VLOOKUP($A$3,XTIME!$A$1:$E$31,3,FALSE),$C46),Tableau3[[Référence]:[FORMATION]],7,FALSE)) | I46: =IFERROR((HOUR(IF(C46="","",MIN(IF((VLOOKUP(CONCATENATE(VLOOKUP($A$3,XTIME!$A$1:$E$31,3,FALSE),C46),'Fiche Horaire'!A:AR,12,FALSE)+VLOOKUP(CONCATENATE(VLOOKUP($A$3,XTIME!$A$1:$E$31,3,FALSE),C46),'Fiche Horaire'!A:AR,33,FALSE))>Feuil2!$C$2,VLOOKUP(CONCATENATE(VLOOKUP($A$3,XTIME!$A$1:$E$31,3,FALSE),C46),'Fiche Horaire'!A:AR,33,FALSE)+VLOOKUP(CONCATENATE(VLOOKUP($A$3,XTIME!$A$1:$E$31,3,FALSE),C46),'Fiche Horaire'!A:AR,12,FALSE)-Feuil2!$C$2,"X"),Feuil2!$C$3)))*60+MINUTE(IF(C46="","",MIN(IF((VLOOKUP(CONCATENATE(VLOOKUP($A$3,XTIME!$A$1:$E$31,3,FALSE),C46),'Fiche Horaire'!A:AR,12,FALSE)+VLOOKUP(CONCATENATE(VLOOKUP($A$3,XTIME!$A$1:$E$31,3,FALSE),C46),'Fiche Horaire'!A:AR,33,FALSE))>Feuil2!$C$2,VLOOKUP(CONCATENATE(VLOOKUP($A$3,XTIME!$A$1:$E$31,3,FALSE),C46),'Fiche Horaire'!A:AR,33,FALSE)+VLOOKUP(CONCATENATE(VLOOKUP($A$3,XTIME!$A$1:$E$31,3,FALSE),C46),'Fiche Horaire'!A:AR,12,FALSE)-Feuil2!$C$2,"X"),Feuil2!$C$3))))/60,"") | J46: =IFERROR((HOUR(IF(C46="","",IF(VLOOKUP(CONCATENATE(VLOOKUP($A$3,XTIME!$A$1:$E$31,3,FALSE),C46),'Fiche Horaire'!A:AR,12,FALSE)="","",IF((VLOOKUP(CONCATENATE(VLOOKUP($A$3,XTIME!$A$1:$E$31,3,FALSE),C46),'Fiche Horaire'!A:AR,12,FALSE))<Feuil2!$D$2,Feuil2!$D$2-VLOOKUP(CONCATENATE(VLOOKUP($A$3,XTIME!$A$1:$E$31,3,FALSE),C46),'Fiche Horaire'!A:AR,12,FALSE),IF((VLOOKUP(CONCATENATE(VLOOKUP($A$3,XTIME!$A$1:$E$31,3,FALSE),C46),'Fiche Horaire'!A:AR,12,FALSE)+VLOOKUP(CONCATENATE(VLOOKUP($A$3,XTIME!$A$1:$E$31,3,FALSE),C46),'Fiche Horaire'!A:AR,33,FALSE))>Feuil2!$D$3,VLOOKUP(CONCATENATE(VLOOKUP($A$3,XTIME!$A$1:$E$31,3,FALSE),C46),'Fiche Horaire'!A:AR,33,FALSE)+VLOOKUP(CONCATENATE(VLOOKUP($A$3,XTIME!$A$1:$E$31,3,FALSE),C46),'Fiche Horaire'!A:AR,12,FALSE)-Feuil2!$D$3,"")))))*60+MINUTE(IF(C46="","",IF(VLOOKUP(CONCATENATE(VLOOKUP($A$3,XTIME!$A$1:$E$31,3,FALSE),C46),'Fiche Horaire'!A:AR,12,FALSE)="","",IF((VLOOKUP(CONCATENATE(VLOOKUP($A$3,XTIME!$A$1:$E$31,3,FALSE),C46),'Fiche Horaire'!A:AR,12,FALSE))<Feuil2!$D$2,Feuil2!$D$2-VLOOKUP(CONCATENATE(VLOOKUP($A$3,XTIME!$A$1:$E$31,3,FALSE),C46),'Fiche Horaire'!A:AR,12,FALSE),IF((VLOOKUP(CONCATENATE(VLOOKUP($A$3,XTIME!$A$1:$E$31,3,FALSE),C46),'Fiche Horaire'!A:AR,12,FALSE)+VLOOKUP(CONCATENATE(VLOOKUP($A$3,XTIME!$A$1:$E$31,3,FALSE),C46),'Fiche Horaire'!A:AR,33,FALSE))>Feuil2!$D$3,VLOOKUP(CONCATENATE(VLOOKUP($A$3,XTIME!$A$1:$E$31,3,FALSE),C46),'Fiche Horaire'!A:AR,33,FALSE)+VLOOKUP(CONCATENATE(VLOOKUP($A$3,XTIME!$A$1:$E$31,3,FALSE),C46),'Fiche Horaire'!A:AR,12,FALSE)-Feuil2!$D$3,""))))))/60,"") | L46: H TUNNEL | M46: =MIN(IF(M42=0,0,IF(M42>=37,M42-37,IF(M42<=35,M42-35,0))),5) -> 0
C47: TOTAL | D47: =SUM(D41:D46) -> 0 | E47: =SUM(E41:E46) -> 0 | F47: =SUM(F41:F46) -> 0 | G47: =SUM(G41:G46) -> 0 | H47: =IF(COUNTIF(H41:H46,0)>0,0,IF(COUNTBLANK(H41:H46)=6,0,(6-COUNTBLANK(H41:H46)-COUNTIF(H41:H46,"REPOS"))*$K39/5)) -> 0 | I47: =SUM(I41:I46) -> 0 | J47: =SUM(J41:J46) -> 0 | L47: MODUL. | M47: =IF(M42<42,M42-$K$4,7) -> -43
A49: HEURES | B49: HEURES EFFECTIVES | E49: =D40+D33+D26+D19+D12+D47 -> 5.5 | G49: MODULATION
B50: DEL | E50: =E12+E19+E26+E33+E47+E40 -> 0 | G50: REPORT SOLDE M-1 | I50: 0 | L50: MAJORATION
B51: DIR | E51: =F47+F40+F33+F26+F19+F12 -> 0 | G51: ACOMPTE MODULATION | L51: AC HS | M51: =M43+M36+M29+M22+M15+M8 -> 0
B52: FORMATION | E52: =G40+G33+G26+G19+G12+G47 -> 0 | G52: MODULATION MENSUELLE | I52: =M33+M26+M18+M12+M40+M47 -> -209.5 | L52: HS 125% | M52: =M37+M44+M30+M23+M16+M9 -> 0
A53: NOMBRE DE JOURS | B53: Congé Payé | E53: =COUNTIF(H6:H47,"CP") -> 0 | G53: PAIEMENT JF | I53: =SUMIF(H6:H47,"JF",H6:H47) -> 0 | L53: HS 150% | M53: =M32+M25+M17+M10+M38+M45 -> 0
B54: Congé Spécial | E54: =COUNTIF(H6:H47,"CS") -> 0 | G54: SOLDE | I54: =I50-I51+I52-I53 -> -209.5 | L54: HN21 | M54: =I40+I33+I26+I19+I12+I47 -> 0
B55: Maladie | E55: =COUNTIF(H6:H47,"M") -> 0 | L55: HN22 | M55: =J40+J33+J26+J19+J12+J47 -> 2
B56: Accident Travail | E56: =COUNTIF(H6:H47,"AT") -> 0
B57: Paternité | E57: =COUNTIF(H6:H47,"PAT") -> 0
B58: Maternité | E58: =COUNTIF(H6:H47,"MAT") -> 0
B59: Absence injustifiée | E59: =COUNTIF(H6:H47,"AI") -> 0
B60: Mise à pied | E60: =COUNTIF(H6:H47,"MP") -> 0

Sheet Fiche Horaire
A1: Référence | B1: Année | C1: Mois | D1: Semaine | E1: DATE | F1: Chauffeur | G1: ABSENCE + JF | H1: N° Camion | I1: Km Début | J1: Km Fin | K1: Total Km | L1: DEBUT | M1: ACTIVITE | N1: FIN | O1: ACTIVITE2 | P1: FIN4 | Q1: ACTIVITE3 | R1: FIN7 | S1: ACTIVITE4 | T1: FIN10 | U1: ACTIVITE5 | V1: FIN11 | W1: ACTIVITE6 | X1: FIN12 | Y1: ACTIVITE7 | Z1: FIN13 | AA1: ACTIVITE8 | AB1: FIN14 | AC1: ACTIVITE9 | AD1: FIN15 | AE1: ACTIVITE10 | AF1: FIN16 | AG1: TOTAL EFFECTIF | AH1: CHARGEMENT | AI1: CONDUITE | AJ1: DECHARGEMENT | AK1: GASOIL EMBALLAGE | AL1: ADMINISTRATIF | AM1: PAUSE 1 | AN1: PAUSE 2 | AO1: TOTAL PAUSE | AP1: DEL | AQ1: DIR | AR1: FORMATION | AS1: Temps Total | AT1: ALERTE 10H | AU1: ALERTE 6H | AV1: ALERTE 4H30 | AX1: Temps travail avant pause 1 | AY1: Temps travail avant pause 2 | AZ1: Temps Conduite avant pause 1 | BA1: Temps de conduite avant pause 2
A2: =CONCATENATE($F2,$E2) -> JACKSON43344 | B2: =IF(E2="","",$E2) -> 43344 | C2: =IF(E2="","",E2) -> 43344 | D2: =IF(E2="","",WEEKNUM(E2,2)) -> 35 | E2: 43344 | F2: JACKSON | K2: =Tableau3[[#This Row],[Km Fin]]-Tableau3[[#This Row],[Km Début]] -> 0 | L2: 0.16666667 | M2: CHARGEMENT | N2: 0.20833333 | O2: CONDUITE | P2: 0.29166667 | Q2: PAUSE 1 | R2: 0.30208333 | S2: PAUSE 2 | T2: 0.32291667 | U2: CONDUITE | V2: 0.42708333 | AG2: =MOD(Tableau3[[#This Row],[CHARGEMENT]]+Tableau3[[#This Row],[DECHARGEMENT]]+Tableau3[[#This Row],[CONDUITE]]+Tableau3[[#This Row],[GASOIL EMBALLAGE]]+Tableau3[[#This Row],[ADMINISTRATIF]],1) -> 0.22916667 | AH2: =MOD(IF($M2=AH$1,$N2-$L2,0)+IF($O2=AH$1,$P2-$N2,0)+IF($Q2=AH$1,$R2-$P2,0)+IF($S2=AH$1,$T2-$R2,0)+IF($U2=AH$1,$V2-$T2,0)+IF($W2=AH$1,$X2-$V2,0)+IF($Y2=AH$1,$Z2-$X2,0)+IF($AA2=AH$1,$AB2-$Z2,0)+IF($AC2=AH$1,$AD2-$AB2,0)+IF($AE2=AH$1,$AF2-$AD2,0),1) -> 0.041666667 | AI2: =MOD(IF($M2=AI$1,$N2-$L2,0)+IF($O2=AI$1,$P2-$N2,0)+IF($Q2=AI$1,$R2-$P2,0)+IF($S2=AI$1,$T2-$R2,0)+IF($U2=AI$1,$V2-$T2,0)+IF($W2=AI$1,$X2-$V2,0)+IF($Y2=AI$1,$Z2-$X2,0)+IF($AA2=AI$1,$AB2-$Z2,0)+IF($AC2=AI$1,$AD2-$AB2,0)+IF($AE2=AI$1,$AF2-$AD2,0),1) -> 0.1875 | AJ2: =MOD(IF($M2=AJ$1,$N2-$L2,0)+IF($O2=AJ$1,$P2-$N2,0)+IF($Q2=AJ$1,$R2-$P2,0)+IF($S2=AJ$1,$T2-$R2,0)+IF($U2=AJ$1,$V2-$T2,0)+IF($W2=AJ$1,$X2-$V2,0)+IF($Y2=AJ$1,$Z2-$X2,0)+IF($AA2=AJ$1,$AB2-$Z2,0)+IF($AC2=AJ$1,$AD2-$AB2,0)+IF($AE2=AJ$1,$AF2-$AD2,0),1) -> 0 | AK2: =MOD(IF($M2=AK$1,$N2-$L2,0)+IF($O2=AK$1,$P2-$N2,0)+IF($Q2=AK$1,$R2-$P2,0)+IF($S2=AK$1,$T2-$R2,0)+IF($U2=AK$1,$V2-$T2,0)+IF($W2=AK$1,$X2-$V2,0)+IF($Y2=AK$1,$Z2-$X2,0)+IF($AA2=AK$1,$AB2-$Z2,0)+IF($AC2=AK$1,$AD2-$AB2,0)+IF($AE2=AK$1,$AF2-$AD2,0),1) -> 0 | AL2: =MOD(IF($M2=AL$1,$N2-$L2,0)+IF($O2=AL$1,$P2-$N2,0)+IF($Q2=AL$1,$R2-$P2,0)+IF($S2=AL$1,$T2-$R2,0)+IF($U2=AL$1,$V2-$T2,0)+IF($W2=AL$1,$X2-$V2,0)+IF($Y2=AL$1,$Z2-$X2,0)+IF($AA2=AL$1,$AB2-$Z2,0)+IF($AC2=AL$1,$AD2-$AB2,0)+IF($AE2=AL$1,$AF2-$AD2,0),1) -> 0 | AM2: =MOD(IF($M2=AM$1,$N2-$L2,0)+IF($O2=AM$1,$P2-$N2,0)+IF($Q2=AM$1,$R2-$P2,0)+IF($S2=AM$1,$T2-$R2,0)+IF($U2=AM$1,$V2-$T2,0)+IF($W2=AM$1,$X2-$V2,0)+IF($Y2=AM$1,$Z2-$X2,0)+IF($AA2=AM$1,$AB2-$Z2,0)+IF($AC2=AM$1,$AD2-$AB2,0)+IF($AE2=AM$1,$AF2-$AD2,0),1) -> 0.010416667 | AN2: =MOD(IF($M2=AN$1,$N2-$L2,0)+IF($O2=AN$1,$P2-$N2,0)+IF($Q2=AN$1,$R2-$P2,0)+IF($S2=AN$1,$T2-$R2,0)+IF($U2=AN$1,$V2-$T2,0)+IF($W2=AN$1,$X2-$V2,0)+IF($Y2=AN$1,$Z2-$X2,0)+IF($AA2=AN$1,$AB2-$Z2,0)+IF($AC2=AN$1,$AD2-$AB2,0)+IF($AE2=AN$1,$AF2-$AD2,0),1) -> 0.020833333 | AO2: =MOD(Tableau3[[#This Row],[PAUSE 1]]+Tableau3[[#This Row],[PAUSE 2]],1) -> 0.03125 | AP2: =MOD(IF($M2=AP$1,$N2-$L2,0)+IF($O2=AP$1,$P2-$N2,0)+IF($Q2=AP$1,$R2-$P2,0)+IF($S2=AP$1,$T2-$R2,0)+IF($U2=AP$1,$V2-$T2,0)+IF($W2=AP$1,$X2-$V2,0)+IF($Y2=AP$1,$Z2-$X2,0)+IF($AA2=AP$1,$AB2-$Z2,0)+IF($AC2=AP$1,$AD2-$AB2,0)+IF($AE2=AP$1,$AF2-$AD2,0),1) -> 0 | AQ2: =MOD(IF($M2=AQ$1,$N2-$L2,0)+IF($O2=AQ$1,$P2-$N2,0)+IF($Q2=AQ$1,$R2-$P2,0)+IF($S2=AQ$1,$T2-$R2,0)+IF($U2=AQ$1,$V2-$T2,0)+IF($W2=AQ$1,$X2-$V2,0)+IF($Y2=AQ$1,$Z2-$X2,0)+IF($AA2=AQ$1,$AB2-$Z2,0)+IF($AC2=AQ$1,$AD2-$AB2,0)+IF($AE2=AQ$1,$AF2-$AD2,0),1) -> 0 | AR2: =MOD(IF($M2=AR$1,$N2-$L2,0)+IF($O2=AR$1,$P2-$N2,0)+IF($Q2=AR$1,$R2-$P2,0)+IF($S2=AR$1,$T2-$R2,0)+IF($U2=AR$1,$V2-$T2,0)+IF($W2=AR$1,$X2-$V2,0)+IF($Y2=AR$1,$Z2-$X2,0)+IF($AA2=AR$1,$AB2-$Z2,0)+IF($AC2=AR$1,$AD2-$AB2,0)+IF($AE2=AR$1,$AF2-$AD2,0),1) -> 0 | AS2: =Tableau3[[#This Row],[TOTAL EFFECTIF]]+Tableau3[[#This Row],[TOTAL PAUSE]] -> 0.26041667 | AT2: =IF(Tableau3[[#This Row],[TOTAL EFFECTIF]]+Tableau3[[#This Row],[DEL]]+Tableau3[[#This Row],[DIR]]+Tableau3[[#This Row],[FORMATION]]>Feuil2!$E$2,"INFRACTION","") | AU2: =IFERROR(IF(Tableau3[[#This Row],[TOTAL EFFECTIF]]>=Feuil2!$F$2,IF(Tableau3[[#This Row],[PAUSE 1]]>0,IF(IF(M2="PAUSE 1",L2,IF(O2="PAUSE 1",N2,IF(Q2="PAUSE 1",P2,IF(S2="PAUSE 1",R2,IF(U2="PAUSE 1",T2,IF(W2="PAUSE 1",V2,IF(Y2="PAUSE 1",X2,IF(AA2="PAUSE 1",Z2,IF(AC2="PAUSE 1",AB2,IF(AE2="PAUSE 1",AD2,""))))))))))-Tableau3[[#This Row],[DEBUT]]<Feuil2!$F$2,IF(AM2>=Feuil2!$F$3,"",IF(IF(M2="PAUSE 2",L2,IF(O2="PAUSE 2",N2,IF(Q2="PAUSE 2",P2,IF(S2="PAUSE 2",R2,IF(U2="PAUSE 2",T2,IF(W2="PAUSE 2",V2,IF(Y2="PAUSE 2",X2,IF(AA2="PAUSE 2",Z2,IF(AC2="PAUSE 2",AB2,IF(AE2="PAUSE 2",AD2,""))))))))))-L2<Feuil2!$F$2,IF(AN2>0,IF(AO2>=Feuil2!$F$3,"","Infraction"),"Infraction"),"Infraction")),"Infraction"),"Infraction"),""),"Infraction") | AV2: =IF($AI2>=Feuil2!$G$2,IF(AM2>0,IF(IF(M2="PAUSE 1",L2,IF(O2="PAUSE 1",N2-L2,IF(Q2="PAUSE 1",P2-L2,IF(S2="PAUSE 1",R2-L2,IF(U2="PAUSE 1",T2-L2,IF(W2="PAUSE 1",V2-L2,IF(Y2="PAUSE 1",X2-L2,IF(AA2="PAUSE 1",Z2-L2,IF(AC2="PAUSE 1",AB2-L2,IF(AE2="PAUSE 1",AD2-L2,""))))))))))-$N2<=Feuil2!$G$2,IF(AM2<Feuil2!$G$3,"Infraction",IF(AM2>=Feuil2!$G$5,"",IF(AN2>0,IF(IF(M2="PAUSE 2",L2,IF(O2="PAUSE 2",N2,IF(Q2="PAUSE 2",P2,IF(S2="PAUSE 2",R2,IF(U2="PAUSE 2",T2,IF(W2="PAUSE 2",V2,IF(Y2="PAUSE 2",X2,IF(AA2="PAUSE 2",Z2,IF(AC2="PAUSE 2",AB2,IF(AE2="PAUSE 2",AD2,""))))))))))-$N2<=Feuil2!$G$2,IF(AN2<Feuil2!$G$4,"Infraction",IF(AO2>=Feuil2!$G$5,"","Infraction")),"Infraction"),"Infraction"))),"Infraction"),"Infraction"),"") -> Infraction | AX2: =IFERROR(MOD(IF(M2="PAUSE 1",L2,IF(O2="PAUSE 1",N2-L2,IF(Q2="PAUSE 1",P2-L2,IF(S2="PAUSE 1",R2-L2,IF(U2="PAUSE 1",T2-L2,IF(W2="PAUSE 1",V2-L2,IF(Y2="PAUSE 1",X2-L2,IF(AA2="PAUSE 1",Z2-L2,IF(AC2="PAUSE 1",AB2-L2,IF(AE2="PAUSE 1",AD2-L2,"")))))))))),1),"") -> 0.125 | AY2: =IFERROR(MOD(IF(M2="PAUSE 2",L2,IF(O2="PAUSE 2",N2-L2,IF(Q2="PAUSE 2",P2-L2,IF(S2="PAUSE 2",R2-L2,IF(U2="PAUSE 2",T2-L2,IF(W2="PAUSE 2",V2-L2,IF(Y2="PAUSE 2",X2-L2,IF(AA2="PAUSE 2",Z2-L2,IF(AC2="PAUSE 2",AB2-L2,IF(AE2="PAUSE 2",AD2-L2,"")))))))))),1),"") -> 0.13541667 | BB2: =IF(AO2>=Feuil2!$G$5,"","Infraction") | BC2: =IF(AO2>=Feuil2!$G$5,"X","Infraction") -> X | BD2: =SI(OU(M2=CHARGEMENT";M2="DECHARGEMENT";M2="ADMINISTRATIF";M2="DEL";M2="DIR";M2="FORMATION";M2="GASOIL/EMBALLAGE");SI(M2="PAUSE 2";L2;SI(O2="PAUSE 2";N2-L2;SI(Q2="PAUSE 2";P2-L2;SI(S2="PAUSE 2";R2-L2;SI(U2="PAUSE 2";T2-L2;SI(W2="PAUSE 2";V2-L2;SI(Y2="PAUSE 2";X2-L2;SI(AA2="PAUSE 2";Z2-L2;SI(AC2="PAUSE 2";AB2-L2;SI(AE2="PAUSE 2";AD2-L2;""))))))))))-($N2-$L2);)"
A3: =CONCATENATE($F3,$E3) -> 43344 | B3: =IF(E3="","",$E3) -> 43344 | C3: =IF(E3="","",E3) -> 43344 | D3: =IF(E3="","",WEEKNUM(E3,2)) -> 35 | E3: 43344 | K3: =Tableau3[[#This Row],[Km Fin]]-Tableau3[[#This Row],[Km Début]] -> 0 | AG3: =MOD(Tableau3[[#This Row],[CHARGEMENT]]+Tableau3[[#This Row],[DECHARGEMENT]]+Tableau3[[#This Row],[CONDUITE]]+Tableau3[[#This Row],[GASOIL EMBALLAGE]]+Tableau3[[#This Row],[ADMINISTRATIF]],1) -> 0 | AH3: =MOD(IF($M3=AH$1,$N3-$L3,0)+IF($O3=AH$1,$P3-$N3,0)+IF($Q3=AH$1,$R3-$P3,0)+IF($S3=AH$1,$T3-$R3,0)+IF($U3=AH$1,$V3-$T3,0)+IF($W3=AH$1,$X3-$V3,0)+IF($Y3=AH$1,$Z3-$X3,0)+IF($AA3=AH$1,$AB3-$Z3,0)+IF($AC3=AH$1,$AD3-$AB3,0)+IF($AE3=AH$1,$AF3-$AD3,0),1) -> 0 | AI3: =MOD(IF($M3=AI$1,$N3-$L3,0)+IF($O3=AI$1,$P3-$N3,0)+IF($Q3=AI$1,$R3-$P3,0)+IF($S3=AI$1,$T3-$R3,0)+IF($U3=AI$1,$V3-$T3,0)+IF($W3=AI$1,$X3-$V3,0)+IF($Y3=AI$1,$Z3-$X3,0)+IF($AA3=AI$1,$AB3-$Z3,0)+IF($AC3=AI$1,$AD3-$AB3,0)+IF($AE3=AI$1,$AF3-$AD3,0),1) -> 0 | AJ3: =MOD(IF($M3=AJ$1,$N3-$L3,0)+IF($O3=AJ$1,$P3-$N3,0)+IF($Q3=AJ$1,$R3-$P3,0)+IF($S3=AJ$1,$T3-$R3,0)+IF($U3=AJ$1,$V3-$T3,0)+IF($W3=AJ$1,$X3-$V3,0)+IF($Y3=AJ$1,$Z3-$X3,0)+IF($AA3=AJ$1,$AB3-$Z3,0)+IF($AC3=AJ$1,$AD3-$AB3,0)+IF($AE3=AJ$1,$AF3-$AD3,0),1) -> 0 | AK3: =MOD(IF($M3=AK$1,$N3-$L3,0)+IF($O3=AK$1,$P3-$N3,0)+IF($Q3=AK$1,$R3-$P3,0)+IF($S3=AK$1,$T3-$R3,0)+IF($U3=AK$1,$V3-$T3,0)+IF($W3=AK$1,$X3-$V3,0)+IF($Y3=AK$1,$Z3-$X3,0)+IF($AA3=AK$1,$AB3-$Z3,0)+IF($AC3=AK$1,$AD3-$AB3,0)+IF($AE3=AK$1,$AF3-$AD3,0),1) -> 0 | AL3: =MOD(IF($M3=AL$1,$N3-$L3,0)+IF($O3=AL$1,$P3-$N3,0)+IF($Q3=AL$1,$R3-$P3,0)+IF($S3=AL$1,$T3-$R3,0)+IF($U3=AL$1,$V3-$T3,0)+IF($W3=AL$1,$X3-$V3,0)+IF($Y3=AL$1,$Z3-$X3,0)+IF($AA3=AL$1,$AB3-$Z3,0)+IF($AC3=AL$1,$AD3-$AB3,0)+IF($AE3=AL$1,$AF3-$AD3,0),1) -> 0 | AM3: =MOD(IF($M3=AM$1,$N3-$L3,0)+IF($O3=AM$1,$P3-$N3,0)+IF($Q3=AM$1,$R3-$P3,0)+IF($S3=AM$1,$T3-$R3,0)+IF($U3=AM$1,$V3-$T3,0)+IF($W3=AM$1,$X3-$V3,0)+IF($Y3=AM$1,$Z3-$X3,0)+IF($AA3=AM$1,$AB3-$Z3,0)+IF($AC3=AM$1,$AD3-$AB3,0)+IF($AE3=AM$1,$AF3-$AD3,0),1) -> 0 | AN3: =MOD(IF($M3=AN$1,$N3-$L3,0)+IF($O3=AN$1,$P3-$N3,0)+IF($Q3=AN$1,$R3-$P3,0)+IF($S3=AN$1,$T3-$R3,0)+IF($U3=AN$1,$V3-$T3,0)+IF($W3=AN$1,$X3-$V3,0)+IF($Y3=AN$1,$Z3-$X3,0)+IF($AA3=AN$1,$AB3-$Z3,0)+IF($AC3=AN$1,$AD3-$AB3,0)+IF($AE3=AN$1,$AF3-$AD3,0),1) -> 0 | AO3: =MOD(Tableau3[[#This Row],[PAUSE 1]]+Tableau3[[#This Row],[PAUSE 2]],1) -> 0 | AP3: =MOD(IF($M3=AP$1,$N3-$L3,0)+IF($O3=AP$1,$P3-$N3,0)+IF($Q3=AP$1,$R3-$P3,0)+IF($S3=AP$1,$T3-$R3,0)+IF($U3=AP$1,$V3-$T3,0)+IF($W3=AP$1,$X3-$V3,0)+IF($Y3=AP$1,$Z3-$X3,0)+IF($AA3=AP$1,$AB3-$Z3,0)+IF($AC3=AP$1,$AD3-$AB3,0)+IF($AE3=AP$1,$AF3-$AD3,0),1) -> 0 | AQ3: =MOD(IF($M3=AQ$1,$N3-$L3,0)+IF($O3=AQ$1,$P3-$N3,0)+IF($Q3=AQ$1,$R3-$P3,0)+IF($S3=AQ$1,$T3-$R3,0)+IF($U3=AQ$1,$V3-$T3,0)+IF($W3=AQ$1,$X3-$V3,0)+IF($Y3=AQ$1,$Z3-$X3,0)+IF($AA3=AQ$1,$AB3-$Z3,0)+IF($AC3=AQ$1,$AD3-$AB3,0)+IF($AE3=AQ$1,$AF3-$AD3,0),1) -> 0 | AR3: =MOD(IF($M3=AR$1,$N3-$L3,0)+IF($O3=AR$1,$P3-$N3,0)+IF($Q3=AR$1,$R3-$P3,0)+IF($S3=AR$1,$T3-$R3,0)+IF($U3=AR$1,$V3-$T3,0)+IF($W3=AR$1,$X3-$V3,0)+IF($Y3=AR$1,$Z3-$X3,0)+IF($AA3=AR$1,$AB3-$Z3,0)+IF($AC3=AR$1,$AD3-$AB3,0)+IF($AE3=AR$1,$AF3-$AD3,0),1) -> 0 | AS3: =Tableau3[[#This Row],[TOTAL EFFECTIF]]+Tableau3[[#This Row],[TOTAL PAUSE]] -> 0 | AT3: =IF(Tableau3[[#This Row],[TOTAL EFFECTIF]]+Tableau3[[#This Row],[DEL]]+Tableau3[[#This Row],[DIR]]+Tableau3[[#This Row],[FORMATION]]>Feuil2!$E$2,"INFRACTION","") | AU3: =IFERROR(IF(Tableau3[[#This Row],[TOTAL EFFECTIF]]>=Feuil2!$F$2,IF(Tableau3[[#This Row],[PAUSE 1]]>0,IF(IF(M3="PAUSE 1",L3,IF(O3="PAUSE 1",N3,IF(Q3="PAUSE 1",P3,IF(S3="PAUSE 1",R3,IF(U3="PAUSE 1",T3,IF(W3="PAUSE 1",V3,IF(Y3="PAUSE 1",X3,IF(AA3="PAUSE 1",Z3,IF(AC3="PAUSE 1",AB3,IF(AE3="PAUSE 1",AD3,""))))))))))-Tableau3[[#This Row],[DEBUT]]<Feuil2!$F$2,IF(AM3>=Feuil2!$F$3,"",IF(IF(M3="PAUSE 2",L3,IF(O3="PAUSE 2",N3,IF(Q3="PAUSE 2",P3,IF(S3="PAUSE 2",R3,IF(U3="PAUSE 2",T3,IF(W3="PAUSE 2",V3,IF(Y3="PAUSE 2",X3,IF(AA3="PAUSE 2",Z3,IF(AC3="PAUSE 2",AB3,IF(AE3="PAUSE 2",AD3,""))))))))))-L3<Feuil2!$F$2,IF(AN3>0,IF(AO3>=Feuil2!$F$3,"","Infraction"),"Infraction"),"Infraction")),"Infraction"),"Infraction"),""),"Infraction") | AV3: =IF($AI3>=Feuil2!$G$2,IF(AM3>0,IF(IF(M3="PAUSE 1",L3,IF(O3="PAUSE 1",N3-L3,IF(Q3="PAUSE 1",P3-L3,IF(S3="PAUSE 1",R3-L3,IF(U3="PAUSE 1",T3-L3,IF(W3="PAUSE 1",V3-L3,IF(Y3="PAUSE 1",X3-L3,IF(AA3="PAUSE 1",Z3-L3,IF(AC3="PAUSE 1",AB3-L3,IF(AE3="PAUSE 1",AD3-L3,""))))))))))-$N3<=Feuil2!$G$2,IF(AM3<Feuil2!$G$3,"Infraction",IF(AM3>=Feuil2!$G$5,"",IF(AN3>0,IF(IF(M3="PAUSE 2",L3,IF(O3="PAUSE 2",N3,IF(Q3="PAUSE 2",P3,IF(S3="PAUSE 2",R3,IF(U3="PAUSE 2",T3,IF(W3="PAUSE 2",V3,IF(Y3="PAUSE 2",X3,IF(AA3="PAUSE 2",Z3,IF(AC3="PAUSE 2",AB3,IF(AE3="PAUSE 2",AD3,""))))))))))-$N3<=Feuil2!$G$2,IF(AN3<Feuil2!$G$4,"Infraction",IF(AO3>=Feuil2!$G$5,"","Infraction")),"Infraction"),"Infraction"))),"Infraction"),"Infraction"),"") | AX3: =IFERROR(MOD(IF(M3="PAUSE 1",L3,IF(O3="PAUSE 1",N3-L3,IF(Q3="PAUSE 1",P3-L3,IF(S3="PAUSE 1",R3-L3,IF(U3="PAUSE 1",T3-L3,IF(W3="PAUSE 1",V3-L3,IF(Y3="PAUSE 1",X3-L3,IF(AA3="PAUSE 1",Z3-L3,IF(AC3="PAUSE 1",AB3-L3,IF(AE3="PAUSE 1",AD3-L3,"")))))))))),1),"") | AY3: =IFERROR(MOD(IF(M3="PAUSE 2",L3,IF(O3="PAUSE 2",N3-L3,IF(Q3="PAUSE 2",P3-L3,IF(S3="PAUSE 2",R3-L3,IF(U3="PAUSE 2",T3-L3,IF(W3="PAUSE 2",V3-L3,IF(Y3="PAUSE 2",X3-L3,IF(AA3="PAUSE 2",Z3-L3,IF(AC3="PAUSE 2",AB3-L3,IF(AE3="PAUSE 2",AD3-L3,"")))))))))),1),"") | BB3: =IF(AN2<Feuil2!$G$4,"Infraction",IF(AO2>=Feuil2!$G$5,"","Infraction")) | BC3: =IF(AN2<Feuil2!$G$4,"Infraction","X") -> X | BD3: =IF(OR(AE2="CHARGEMENT",AE2="DECHARGEMENT",AE2="ADMINISTRATIF",AE2="DEL",AE2="DIR",AE2="FORMATION",AE2="GASOIL/EMBALLAGE"),IF(M2="PAUSE 2",L2,IF(O2="PAUSE 2",N2-L2,IF(Q2="PAUSE 2",P2-L2,IF(S2="PAUSE 2",R2-L2,IF(U2="PAUSE 2",T2-L2,IF(W2="PAUSE 2",V2-L2,IF(Y2="PAUSE 2",X2-L2,IF(AA2="PAUSE 2",Z2-L2,IF(AC2="PAUSE 2",AB2-L2,IF(AE2="PAUSE 2",AD2-L2,""))))))))))-($AD2-$L2),IF(OR(AC2="CHARGEMENT",AC2="DECHARGEMENT",AC2="ADMINISTRATIF",AC2="DEL",AC2="DIR",AC2="FORMATION",AC2="GASOIL/EMBALLAGE"),IF(M2="PAUSE 2",L2,IF(O2="PAUSE 2",N2-L2,IF(Q2="PAUSE 2",P2-L2,IF(S2="PAUSE 2",R2-L2,IF(U2="PAUSE 2",T2-L2,IF(W2="PAUSE 2",V2-L2,IF(Y2="PAUSE 2",X2-L2,IF(AA2="PAUSE 2",Z2-L2,IF(AC2="PAUSE 2",AB2-L2,IF(AE2="PAUSE 2",AD2-L2,""))))))))))-($AB2-$L2),IF(OR(AA2="CHARGEMENT",AA2="DECHARGEMENT",AA2="ADMINISTRATIF",AA2="DEL",AA2="DIR",AA2="FORMATION",AA2="GASOIL/EMBALLAGE"),IF(M2="PAUSE 2",L2,IF(O2="PAUSE 2",N2-L2,IF(Q2="PAUSE 2",P2-L2,IF(S2="PAUSE 2",R2-L2,IF(U2="PAUSE 2",T2-L2,IF(W2="PAUSE 2",V2-L2,IF(Y2="PAUSE 2",X2-L2,IF(AA2="PAUSE 2",Z2-L2,IF(AC2="PAUSE 2",AB2-L2,IF(AE2="PAUSE 2",AD2-L2,""))))))))))-($Z2-$L2),IF(OR(Y2="CHARGEMENT",Y2="DECHARGEMENT",Y2="ADMINISTRATIF",Y2="DEL",X2="DIR",Y2="FORMATION",Y2="GASOIL/EMBALLAGE"),IF(M2="PAUSE 2",L2,IF(O2="PAUSE 2",N2-L2,IF(Q2="PAUSE 2",P2-L2,IF(S2="PAUSE 2",R2-L2,IF(U2="PAUSE 2",T2-L2,IF(W2="PAUSE 2",V2-L2,IF(Y2="PAUSE 2",X2-L2,IF(AA2="PAUSE 2",Z2-L2,IF(AC2="PAUSE 2",AB2-L2,IF(AE2="PAUSE 2",AD2-L2,""))))))))))-($X2-$L2),IF(OR(W2="CHARGEMENT",W2="DECHARGEMENT",W2="ADMINISTRATIF",W2="DEL",W2="DIR",W2="FORMATION",W2="GASOIL/EMBALLAGE"),IF(M2="PAUSE 2",L2,IF(O2="PAUSE 2",N2-L2,IF(Q2="PAUSE 2",P2-L2,IF(S2="PAUSE 2",R2-L2,IF(U2="PAUSE 2",T2-L2,IF(W2="PAUSE 2",V2-L2,IF(Y2="PAUSE 2",X2-L2,IF(AA2="PAUSE 2",Z2-L2,IF(AC2="PAUSE 2",AB2-L2,IF(AE2="PAUSE 2",AD2-L2,""))))))))))-($V2-$L2),IF(OR(U2="CHARGEMENT",U2="DECHARGEMENT",U2="ADMINISTRATIF",U2="DEL",U2="DIR",U2="FORMATION",U2="GASOIL/EMBALLAGE"),IF(M2="PAUSE 2",L2,IF(O2="PAUSE 2",N2-L2,IF(Q2="PAUSE 2",P2-L2,IF(S2="PAUSE 2",R2-L2,IF(U2="PAUSE 2",T2-L2,IF(W2="PAUSE 2",V2-L2,IF(Y2="PAUSE 2",X2-L2,IF(AA2="PAUSE 2",Z2-L2,IF(AC2="PAUSE 2",AB2-L2,IF(AE2="PAUSE 2",AD2-L2,""))))))))))-($T2-$L2),IF(OR(S2="CHARGEMENT",S2="DECHARGEMENT",S2="ADMINISTRATIF",S2="DEL",S2="DIR",S2="FORMATION",S2="GASOIL/EMBALLAGE"),IF(M2="PAUSE 2",L2,IF(O2="PAUSE 2",N2-L2,IF(Q2="PAUSE 2",P2-L2,IF(S2="PAUSE 2",R2-L2,IF(U2="PAUSE 2",T2-L2,IF(W2="PAUSE 2",V2-L2,IF(Y2="PAUSE 2",X2-L2,IF(AA2="PAUSE 2",Z2-L2,IF(AC2="PAUSE 2",AB2-L2,IF(AE2="PAUSE 2",AD2-L2,""))))))))))-($R2-$L2),IF(OR(Q2="CHARGEMENT",Q2="DECHARGEMENT",Q2="ADMINISTRATIF",Q2="DEL",Q2="DIR",Q2="FORMATION",Q2="GASOIL/EMBALLAGE"),IF(M2="PAUSE 2",L2,IF(O2="PAUSE 2",N2-L2,IF(Q2="PAUSE 2",P2-L2,IF(S2="PAUSE 2",R2-L2,IF(U2="PAUSE 2",T2-L2,IF(W2="PAUSE 2",V2-L2,IF(Y2="PAUSE 2",X2-L2,IF(AA2="PAUSE 2",Z2-L2,IF(AC2="PAUSE 2",AB2-L2,IF(AE2="PAUSE 2",AD2-L2,""))))))))))-($P2-$L2),IF(OR(O2="CHARGEMENT",O2="DECHARGEMENT",O2="ADMINISTRATIF",O2="DEL",O2="DIR",O2="FORMATION",O2="GASOIL/EMBALLAGE"),IF(M2="PAUSE 2",L2,IF(O2="PAUSE 2",N2-L2,IF(Q2="PAUSE 2",P2-L2,IF(S2="PAUSE 2",R2-L2,IF(U2="PAUSE 2",T2-L2,IF(W2="PAUSE 2",V2-L2,IF(Y2="PAUSE 2",X2-L2,IF(AA2="PAUSE 2",Z2-L2,IF(AC2="PAUSE 2",AB2-L2,IF(AE2="PAUSE 2",AD2-L2,""))))))))))-($N2-$L2),"")))))))))
A4: =CONCATENATE($F4,$E4) -> 43344 | B4: =IF(E4="","",$E4) -> 43344 | C4: =IF(E4="","",E4) -> 43344 | D4: =IF(E4="","",WEEKNUM(E4,2)) -> 35 | E4: 43344 | K4: =Tableau3[[#This Row],[Km Fin]]-Tableau3[[#This Row],[Km Début]] -> 0 | AG4: =MOD(Tableau3[[#This Row],[CHARGEMENT]]+Tableau3[[#This Row],[DECHARGEMENT]]+Tableau3[[#This Row],[CONDUITE]]+Tableau3[[#This Row],[GASOIL EMBALLAGE]]+Tableau3[[#This Row],[ADMINISTRATIF]],1) -> 0 | AH4: =MOD(IF($M4=AH$1,$N4-$L4,0)+IF($O4=AH$1,$P4-$N4,0)+IF($Q4=AH$1,$R4-$P4,0)+IF($S4=AH$1,$T4-$R4,0)+IF($U4=AH$1,$V4-$T4,0)+IF($W4=AH$1,$X4-$V4,0)+IF($Y4=AH$1,$Z4-$X4,0)+IF($AA4=AH$1,$AB4-$Z4,0)+IF($AC4=AH$1,$AD4-$AB4,0)+IF($AE4=AH$1,$AF4-$AD4,0),1) -> 0 | AI4: =MOD(IF($M4=AI$1,$N4-$L4,0)+IF($O4=AI$1,$P4-$N4,0)+IF($Q4=AI$1,$R4-$P4,0)+IF($S4=AI$1,$T4-$R4,0)+IF($U4=AI$1,$V4-$T4,0)+IF($W4=AI$1,$X4-$V4,0)+IF($Y4=AI$1,$Z4-$X4,0)+IF($AA4=AI$1,$AB4-$Z4,0)+IF($AC4=AI$1,$AD4-$AB4,0)+IF($AE4=AI$1,$AF4-$AD4,0),1) -> 0 | AJ4: =MOD(IF($M4=AJ$1,$N4-$L4,0)+IF($O4=AJ$1,$P4-$N4,0)+IF($Q4=AJ$1,$R4-$P4,0)+IF($S4=AJ$1,$T4-$R4,0)+IF($U4=AJ$1,$V4-$T4,0)+IF($W4=AJ$1,$X4-$V4,0)+IF($Y4=AJ$1,$Z4-$X4,0)+IF($AA4=AJ$1,$AB4-$Z4,0)+IF($AC4=AJ$1,$AD4-$AB4,0)+IF($AE4=AJ$1,$AF4-$AD4,0),1) -> 0 | AK4: =MOD(IF($M4=AK$1,$N4-$L4,0)+IF($O4=AK$1,$P4-$N4,0)+IF($Q4=AK$1,$R4-$P4,0)+IF($S4=AK$1,$T4-$R4,0)+IF($U4=AK$1,$V4-$T4,0)+IF($W4=AK$1,$X4-$V4,0)+IF($Y4=AK$1,$Z4-$X4,0)+IF($AA4=AK$1,$AB4-$Z4,0)+IF($AC4=AK$1,$AD4-$AB4,0)+IF($AE4=AK$1,$AF4-$AD4,0),1) -> 0 | AL4: =MOD(IF($M4=AL$1,$N4-$L4,0)+IF($O4=AL$1,$P4-$N4,0)+IF($Q4=AL$1,$R4-$P4,0)+IF($S4=AL$1,$T4-$R4,0)+IF($U4=AL$1,$V4-$T4,0)+IF($W4=AL$1,$X4-$V4,0)+IF($Y4=AL$1,$Z4-$X4,0)+IF($AA4=AL$1,$AB4-$Z4,0)+IF($AC4=AL$1,$AD4-$AB4,0)+IF($AE4=AL$1,$AF4-$AD4,0),1) -> 0 | AM4: =MOD(IF($M4=AM$1,$N4-$L4,0)+IF($O4=AM$1,$P4-$N4,0)+IF($Q4=AM$1,$R4-$P4,0)+IF($S4=AM$1,$T4-$R4,0)+IF($U4=AM$1,$V4-$T4,0)+IF($W4=AM$1,$X4-$V4,0)+IF($Y4=AM$1,$Z4-$X4,0)+IF($AA4=AM$1,$AB4-$Z4,0)+IF($AC4=AM$1,$AD4-$AB4,0)+IF($AE4=AM$1,$AF4-$AD4,0),1) -> 0 | AN4: =MOD(IF($M4=AN$1,$N4-$L4,0)+IF($O4=AN$1,$P4-$N4,0)+IF($Q4=AN$1,$R4-$P4,0)+IF($S4=AN$1,$T4-$R4,0)+IF($U4=AN$1,$V4-$T4,0)+IF($W4=AN$1,$X4-$V4,0)+IF($Y4=AN$1,$Z4-$X4,0)+IF($AA4=AN$1,$AB4-$Z4,0)+IF($AC4=AN$1,$AD4-$AB4,0)+IF($AE4=AN$1,$AF4-$AD4,0),1) -> 0 | AO4: =MOD(Tableau3[[#This Row],[PAUSE 1]]+Tableau3[[#This Row],[PAUSE 2]],1) -> 0 | AP4: =MOD(IF($M4=AP$1,$N4-$L4,0)+IF($O4=AP$1,$P4-$N4,0)+IF($Q4=AP$1,$R4-$P4,0)+IF($S4=AP$1,$T4-$R4,0)+IF($U4=AP$1,$V4-$T4,0)+IF($W4=AP$1,$X4-$V4,0)+IF($Y4=AP$1,$Z4-$X4,0)+IF($AA4=AP$1,$AB4-$Z4,0)+IF($AC4=AP$1,$AD4-$AB4,0)+IF($AE4=AP$1,$AF4-$AD4,0),1) -> 0 | AQ4: =MOD(IF($M4=AQ$1,$N4-$L4,0)+IF($O4=AQ$1,$P4-$N4,0)+IF($Q4=AQ$1,$R4-$P4,0)+IF($S4=AQ$1,$T4-$R4,0)+IF($U4=AQ$1,$V4-$T4,0)+IF($W4=AQ$1,$X4-$V4,0)+IF($Y4=AQ$1,$Z4-$X4,0)+IF($AA4=AQ$1,$AB4-$Z4,0)+IF($AC4=AQ$1,$AD4-$AB4,0)+IF($AE4=AQ$1,$AF4-$AD4,0),1) -> 0 | AR4: =MOD(IF($M4=AR$1,$N4-$L4,0)+IF($O4=AR$1,$P4-$N4,0)+IF($Q4=AR$1,$R4-$P4,0)+IF($S4=AR$1,$T4-$R4,0)+IF($U4=AR$1,$V4-$T4,0)+IF($W4=AR$1,$X4-$V4,0)+IF($Y4=AR$1,$Z4-$X4,0)+IF($AA4=AR$1,$AB4-$Z4,0)+IF($AC4=AR$1,$AD4-$AB4,0)+IF($AE4=AR$1,$AF4-$AD4,0),1) -> 0 | AS4: =Tableau3[[#This Row],[TOTAL EFFECTIF]]+Tableau3[[#This Row],[TOTAL PAUSE]] -> 0 | AT4: =IF(Tableau3[[#This Row],[TOTAL EFFECTIF]]+Tableau3[[#This Row],[DEL]]+Tableau3[[#This Row],[DIR]]+Tableau3[[#This Row],[FORMATION]]>Feuil2!$E$2,"INFRACTION","") | AU4: =IFERROR(IF(Tableau3[[#This Row],[TOTAL EFFECTIF]]>=Feuil2!$F$2,IF(Tableau3[[#This Row],[PAUSE 1]]>0,IF(IF(M4="PAUSE 1",L4,IF(O4="PAUSE 1",N4,IF(Q4="PAUSE 1",P4,IF(S4="PAUSE 1",R4,IF(U4="PAUSE 1",T4,IF(W4="PAUSE 1",V4,IF(Y4="PAUSE 1",X4,IF(AA4="PAUSE 1",Z4,IF(AC4="PAUSE 1",AB4,IF(AE4="PAUSE 1",AD4,""))))))))))-Tableau3[[#This Row],[DEBUT]]<Feuil2!$F$2,IF(AM4>=Feuil2!$F$3,"",IF(IF(M4="PAUSE 2",L4,IF(O4="PAUSE 2",N4,IF(Q4="PAUSE 2",P4,IF(S4="PAUSE 2",R4,IF(U4="PAUSE 2",T4,IF(W4="PAUSE 2",V4,IF(Y4="PAUSE 2",X4,IF(AA4="PAUSE 2",Z4,IF(AC4="PAUSE 2",AB4,IF(AE4="PAUSE 2",AD4,""))))))))))-L4<Feuil2!$F$2,IF(AN4>0,IF(AO4>=Feuil2!$F$3,"","Infraction"),"Infraction"),"Infraction")),"Infraction"),"Infraction"),""),"Infraction") | AV4: =IF($AI4>=Feuil2!$G$2,IF(AM4>0,IF(IF(M4="PAUSE 1",L4,IF(O4="PAUSE 1",N4-L4,IF(Q4="PAUSE 1",P4-L4,IF(S4="PAUSE 1",R4-L4,IF(U4="PAUSE 1",T4-L4,IF(W4="PAUSE 1",V4-L4,IF(Y4="PAUSE 1",X4-L4,IF(AA4="PAUSE 1",Z4-L4,IF(AC4="PAUSE 1",AB4-L4,IF(AE4="PAUSE 1",AD4-L4,""))))))))))-$N4<=Feuil2!$G$2,IF(AM4<Feuil2!$G$3,"Infraction",IF(AM4>=Feuil2!$G$5,"",IF(AN4>0,IF(IF(M4="PAUSE 2",L4,IF(O4="PAUSE 2",N4,IF(Q4="PAUSE 2",P4,IF(S4="PAUSE 2",R4,IF(U4="PAUSE 2",T4,IF(W4="PAUSE 2",V4,IF(Y4="PAUSE 2",X4,IF(AA4="PAUSE 2",Z4,IF(AC4="PAUSE 2",AB4,IF(AE4="PAUSE 2",AD4,""))))))))))-$N4<=Feuil2!$G$2,IF(AN4<Feuil2!$G$4,"Infraction",IF(AO4>=Feuil2!$G$5,"","Infraction")),"Infraction"),"Infraction"))),"Infraction"),"Infraction"),"") | AX4: =IFERROR(MOD(IF(M4="PAUSE 1",L4,IF(O4="PAUSE 1",N4-L4,IF(Q4="PAUSE 1",P4-L4,IF(S4="PAUSE 1",R4-L4,IF(U4="PAUSE 1",T4-L4,IF(W4="PAUSE 1",V4-L4,IF(Y4="PAUSE 1",X4-L4,IF(AA4="PAUSE 1",Z4-L4,IF(AC4="PAUSE 1",AB4-L4,IF(AE4="PAUSE 1",AD4-L4,"")))))))))),1),"") | AY4: =IFERROR(MOD(IF(M4="PAUSE 2",L4,IF(O4="PAUSE 2",N4-L4,IF(Q4="PAUSE 2",P4-L4,IF(S4="PAUSE 2",R4-L4,IF(U4="PAUSE 2",T4-L4,IF(W4="PAUSE 2",V4-L4,IF(Y4="PAUSE 2",X4-L4,IF(AA4="PAUSE 2",Z4-L4,IF(AC4="PAUSE 2",AB4-L4,IF(AE4="PAUSE 2",AD4-L4,"")))))))))),1),"") | BB4: =IF(IF(M2="PAUSE 2",L2,IF(O2="PAUSE 2",N2,IF(Q2="PAUSE 2",P2,IF(S2="PAUSE 2",R2,IF(U2="PAUSE 2",T2,IF(W2="PAUSE 2",V2,IF(Y2="PAUSE 2",X2,IF(AA2="PAUSE 2",Z2,IF(AC2="PAUSE 2",AB2,IF(AE2="PAUSE 2",AD2,""))))))))))-$N2<=Feuil2!$G$2,IF(AN2<Feuil2!$G$4,"Infraction",IF(AO2>=Feuil2!$G$5,"","Infraction")),"Infraction") | BC4: =IF(IF(M2="PAUSE 2",L2,IF(O2="PAUSE 2",N2,IF(Q2="PAUSE 2",P2,IF(S2="PAUSE 2",R2,IF(U2="PAUSE 2",T2,IF(W2="PAUSE 2",V2,IF(Y2="PAUSE 2",X2,IF(AA2="PAUSE 2",Z2,IF(AC2="PAUSE 2",AB2,IF(AE2="PAUSE 2",AD2,""))))))))))-$N2<=Feuil2!$G$2,"X","Infraction") -> X
