Workbook

Sheet Fahrtnachweise
A1: Documentation Parc PL
A7: NR camion: | E7: Chauffeur: | I7: Date:
A8: Début: | E8: Fin: | I8: Pause 1: | J8: =O21 -> 0 | L8: Pause 2: | M8: =O37 -> 0
A11: Premier tour: | D11: Chargement: | G11: temps de conduite | H11: Déchargement | K11: temps de conduite | L11: Temps service: | O11: Pause | P11: Alerte dépassement heure de travail | Q11: Alerte Heure de conduite
B12: magasin | C12: Nb palettes | D12: heure début | E12: heure fin | F12: durée en min | G12: Durée en minute | H12: heure début | I12: heure fin | J12: durée en min | L12: heure début | M12: heure fin | N12: durée en min | O12: Durée en min
A13: Aller | D13: 8 | E13: 9 | F13: =E13-D13 -> 1
A14: Mag | B14: 1 | C14: 8
A15: Mag | B15: 2 | C15: 8
A16: Mag | B16: 3 | C16: 16
A17: Mag
A18: Mag
A19: Mag
A20: Retour | L20: 15.75 | M20: 17.75 | N20: =M20-L20 -> 2
A21: Somme | O21: =SUM(O13:O20) -> 0
A23: Km départ: | D23: Km retour: | I23: Temps total: | K23: Min
A24: Remarques:
A27: 2eme tour: | D27: Chargement: | G27: temps de conduite | H27: Déchargement | K27: temps de conduite | L27: Temps service: | O27: Pause
B28: magasin | C28: Nb palettes | D28: heure début | E28: heure fin | F28: durée en min | G28: Durée en minute | H28: heure début | I28: heure fin | J28: durée en min | L28: heure début | M28: heure fin | N28: durée en min | O28: Durée en min
A29: Aller
A30: Mag
A31: Mag
A32: Mag
A33: Mag
A34: Mag
A35: Mag
A36: Retour
A37: Somme | O37: =SUM(O29:O36) -> 0
A39: Km départ: | D39: Km retour: | I39: Temps total: | M39: Min
A40: Remarques:
A43: 3eme tour: | D43: Chargement: | G43: temps de conduite | H43: Déchargement | K43: temps de conduite | L43: Temps service:
B44: magasin | C44: Nb palettes | D44: heure début | E44: heure fin | F44: durée en min | G44: Durée en minute | H44: heure début | I44: heure fin | J44: durée en min | L44: heure début | M44: heure fin | N44: durée en min
A45: Aller
A46: Mag
A47: Mag
A48: Mag
A49: Mag
A50: Mag
A51: Mag
A52: Retour
A53: Somme
...

Sheet Jour 1
J1: TRAVAIL 1 | N1: TRAVAIL 2 | R1: TRAVAIL 3 | V1: TRAVAIL 4 | Z1: TRAVAIL 5 | AD1: TRAVAIL 6 | AH1: TRAVAIL 7 | AL1: TRAVAIL 8 | AP1: TRAVAIL 9 | AT1: TRAVAIL 10 | AW1: Pause 1 | AZ1: Pause 2
A2: Année | B2: Mois | C2: Semaine | D2: 28/08/18 | E2: Chauffeur | F2: N° Camion | G2: Km Début | H2: Km Fin | I2: Total Km | J2: heure début 1 | K2: heure fin 1 | L2: Total1 | M2: temps de conduite 1 | N2: heure début 2 | O2: heure fin 2 | P2: Total 2 | Q2: temps de conduite 2 | R2: heure début 3 | S2: heure fin 3 | T2: Total 3 | U2: temps de conduite 3 | V2: heure début 4 | W2: heure fin 4 | X2: Total 4 | Y2: temps de conduite 4 | Z2: heure début 5 | AA2: heure fin 5 | AB2: Total 5 | AC2: temps de conduite 5 | AD2: heure début 6 | AE2: heure fin 6 | AF2: Total 6 | AG2: temps de conduite 6 | AH2: heure début 7 | AI2: heure fin 7 | AJ2: Total 7 | AK2: temps de conduite 7 | AL2: heure début 8 | AM2: heure fin 8 | AN2: Total 8 | AO2: temps de conduite 8 | AP2: heure début 9 | AQ2: heure fin 9 | AR2: Total 9 | AS2: temps de conduite 9 | AT2: heure début 10 | AU2: heure fin 10 | AV2: Total 10 | AW2: Début | AX2: Fin | AY2: Total | AZ2: Début2 | BA2: Fin2 | BB2: Total2 | BC2: TOTAL P1/P2 | BD2: Alerte 10h | BE2: Alerte 6h | BF2: Alerte 4h30 | BG2: Total temps de conduite | BH2: Total temps de travail | BI2: Temps de déchargement | BK2: Total heure déchargement avant pause 1 | BL2: Total heure déchargement avant pause 2 | BM2: Limite travail total | BN2: Limite Travail | BO2: Limite conduite | BP2: Temps de Pause
A3: =IF(D3="","",'Jour 1'!$D3) -> 43339 | B3: =IF(D3="","",'Jour 1'!$D3) -> 43339 | C3: =IF(D3="","",WEEKNUM(D3,2)) -> 35 | D3: 43339 | I3: =H3-G3 -> 0 | L3: =IF(K3="",0,K3-J3) -> 0 | M3: =IF(N3="",0,N3-K3) -> 0 | P3: =IF(O3="",0,O3-N3) -> 0 | Q3: =IF(R3="",0,R3-O3) -> 0 | T3: =IF(S3="",0,S3-R3) -> 0 | U3: =IF(V3="",0,V3-S3) -> 0 | X3: =IF(W3="",0,W3-V3) -> 0 | Y3: =IF(Z3="",0,Z3-W3) -> 0 | AB3: =IF(AA3="",0,AA3-Z3) -> 0 | AC3: =IF(AD3="",0,AD3-AA3) -> 0 | AF3: =IF(AE3="",0,AE3-AD3) -> 0 | AG3: =IF(AH3="",0,AH3-AE3) -> 0 | AJ3: =IF(AI3="",0,AI3-AH3) -> 0 | AK3: =IF(AL3="",0,AL3-AI3) -> 0 | AN3: =IF(AM3="",0,AM3-AL3) -> 0 | AO3: =IF(AP3="",0,AP3-AM3) -> 0 | AR3: =IF(AQ3="",0,AQ3-AP3) -> 0 | AS3: =IF(AT3="",0,AT3-AQ3) -> 0 | AV3: =IF(AU3="",0,AU3-AT3) -> 0 | AY3: =IF(AX3="",0,AX3-AW3) -> 0 | BB3: =IF(BA3="",0,BA3-AZ3) -> 0 | BC3: =AY3+BB3 -> 0 | BD3: =IF(BH3>$BM$3,"Infraction","") | BE3: =IF(BH3>=$BN$3,IF(AW3="","Infraction",IF(AW3-J3<$BN$3,IF(AY3>=$BP$3,"",IF(AZ3="","Infraction",IF(AZ3-J3<$BN$3,IF(BC3>=$BP$3,"","Infraction"),"Infraction"))),"Infraction")),"") | BF3: =IF(BG3>=$BO$3,IF(AW3="","Infraction",IF(AW3-K3-BK3<=$BO$3,IF(AY3<$BP$5,"Infraction",IF(AY3>=$BP$4,"",IF(AZ3="","Infraction",IF(AZ3-K3-BL3<=$BO$3,IF(BB3<$BP$3,"Infraction",IF(BC3>=$BP$4,"","Infraction")),"Infraction")))),"Infraction")),"") | BG3: =M3+Q3+U3+Y3+AC3+AG3+AK3+AO3 -> 0 | BH3: =(AR3+AO3+AN3+AK3+AJ3+AG3+AF3+AC3+AB3+Y3+X3+U3+T3+Q3+P3+M3+L3) -> 0 | BI3: =P3+T3+X3+AB3+AF3+AJ3+AN3+AR3+L3 -> 0 | BK3: =IF(N3<AW3,IF(R3<AW3,IF(V3<AW3,IF(Z3<AW3,IF(AD3<AW3,IF(AH3<AW3,IF(AL3<AW3,IF(AP3<AW3,IF(AT3<AW3,P3+T3+X3+AB3+AF3+AJ3+AN3+AR3,P3+T3+X3+AB3+AF3+AJ3+AN3+AR3),P3+T3+X3+AB3+AF3+AJ3+AN3),P3+T3+X3+AB3+AF3+AJ3),P3+T3+X3+AB3+AF3),P3+T3+X3+AB3),P3+T3+X3),P3+T3),P3),"0") -> 0 | BL3: =IF(N3<AZ3,IF(R3<AZ3,IF(V3<AZ3,IF(Z3<AZ3,IF(AD3<AZ3,IF(AH3<AZ3,IF(AL3<AZ3,IF(AP3<AZ3,IF(AT3<AZ3,P3+T3+X3+AB3+AF3+AJ3+AN3+AR3,P3+T3+X3+AB3+AF3+AJ3+AN3+AR3),P3+T3+X3+AB3+AF3+AJ3+AN3),P3+T3+X3+AB3+AF3+AJ3),P3+T3+X3+AB3+AF3),P3+T3+X3+AB3),P3+T3+X3),P3+T3),P3),"0") -> 0 | BM3: 0.41666667 | BN3: 0.25 | BO3: 0.1875 | BP3: 0.020833333
A4: =IF(D4="","",'Jour 1'!$D4) -> 43339 | B4: =IF(D4="","",'Jour 1'!$D4) -> 43339 | C4: =IF(D4="","",WEEKNUM(D4,2)) -> 35 | D4: =IF($D$3="","",$D$3) -> 43339 | I4: =H4-G4 -> 0 | L4: =IF(K4="",0,K4-J4) -> 0 | M4: =IF(N4="",0,N4-K4) -> 0 | P4: =IF(O4="",0,O4-N4) -> 0 | Q4: =IF(R4="",0,R4-O4) -> 0 | T4: =IF(S4="",0,S4-R4) -> 0 | U4: =IF(V4="",0,V4-S4) -> 0 | X4: =IF(W4="",0,W4-V4) -> 0 | Y4: =IF(Z4="",0,Z4-W4) -> 0 | AB4: =IF(AA4="",0,AA4-Z4) -> 0 | AC4: =IF(AD4="",0,AD4-AA4) -> 0 | AF4: =IF(AE4="",0,AE4-AD4) -> 0 | AG4: =IF(AH4="",0,AH4-AE4) -> 0 | AJ4: =IF(AI4="",0,AI4-AH4) -> 0 | AK4: =IF(AL4="",0,AL4-AI4) -> 0 | AN4: =IF(AM4="",0,AM4-AL4) -> 0 | AO4: =IF(AP4="",0,AP4-AM4) -> 0 | AR4: =IF(AQ4="",0,AQ4-AP4) -> 0 | AS4: =IF(AT4="",0,AT4-AQ4) -> 0 | AV4: =IF(AU4="",0,AU4-AT4) -> 0 | AY4: =IF(AX4="",0,AX4-AW4) -> 0 | BB4: =IF(BA4="",0,BA4-AZ4) -> 0 | BC4: =AY4+BB4 -> 0 | BD4: =IF(BH4>$BM$3,"Infraction","") | BE4: =IF(BH4>=$BN$3,IF(AW4="","Infraction",IF(AW4-J4<$BN$3,IF(AY4>=$BP$3,"",IF(AZ4="","Infraction",IF(AZ4-J4<$BN$3,IF(BC4>=$BP$3,"","Infraction"),"Infraction"))),"Infraction")),"") | BF4: =IF(BG4>=$BO$3,IF(AW4="","Infraction",IF(AW4-K4-BK4<=$BO$3,IF(AY4<$BP$5,"Infraction",IF(AY4>=$BP$4,"",IF(AZ4="","Infraction",IF(AZ4-K4-BL4<=$BO$3,IF(BB4<$BP$3,"Infraction",IF(BC4>=$BP$4,"","Infraction")),"Infraction")))),"Infraction")),"") | BG4: =M4+Q4+U4+Y4+AC4+AG4+AK4+AO4 -> 0 | BH4: =(AR4+AO4+AN4+AK4+AJ4+AG4+AF4+AC4+AB4+Y4+X4+U4+T4+Q4+P4+M4+L4) -> 0 | BI4: =P4+T4+X4+AB4+AF4+AJ4+AN4+AR4+L4 -> 0 | BK4: =IF(N4<AW4,IF(R4<AW4,IF(V4<AW4,IF(Z4<AW4,IF(AD4<AW4,IF(AH4<AW4,IF(AL4<AW4,IF(AP4<AW4,IF(AT4<AW4,P4+T4+X4+AB4+AF4+AJ4+AN4+AR4,P4+T4+X4+AB4+AF4+AJ4+AN4+AR4),P4+T4+X4+AB4+AF4+AJ4+AN4),P4+T4+X4+AB4+AF4+AJ4),P4+T4+X4+AB4+AF4),P4+T4+X4+AB4),P4+T4+X4),P4+T4),P4),"0") -> 0 | BL4: =IF(N4<AZ4,IF(R4<AZ4,IF(V4<AZ4,IF(Z4<AZ4,IF(AD4<AZ4,IF(AH4<AZ4,IF(AL4<AZ4,IF(AP4<AZ4,IF(AT4<AZ4,P4+T4+X4+AB4+AF4+AJ4+AN4+AR4,P4+T4+X4+AB4+AF4+AJ4+AN4+AR4),P4+T4+X4+AB4+AF4+AJ4+AN4),P4+T4+X4+AB4+AF4+AJ4),P4+T4+X4+AB4+AF4),P4+T4+X4+AB4),P4+T4+X4),P4+T4),P4),"0") -> 0 | BP4: 0.03125
A5: =IF(D5="","",'Jour 1'!$D5) -> 43339 | B5: =IF(D5="","",'Jour 1'!$D5) -> 43339 | C5: =IF(D5="","",WEEKNUM(D5,2)) -> 35 | D5: =IF($D$3="","",$D$3) -> 43339 | I5: =H5-G5 -> 0 | L5: =IF(K5="",0,K5-J5) -> 0 | M5: =IF(N5="",0,N5-K5) -> 0 | P5: =IF(O5="",0,O5-N5) -> 0 | Q5: =IF(R5="",0,R5-O5) -> 0 | T5: =IF(S5="",0,S5-R5) -> 0 | U5: =IF(V5="",0,V5-S5) -> 0 | X5: =IF(W5="",0,W5-V5) -> 0 | Y5: =IF(Z5="",0,Z5-W5) -> 0 | AB5: =IF(AA5="",0,AA5-Z5) -> 0 | AC5: =IF(AD5="",0,AD5-AA5) -> 0 | AF5: =IF(AE5="",0,AE5-AD5) -> 0 | AG5: =IF(AH5="",0,AH5-AE5) -> 0 | AJ5: =IF(AI5="",0,AI5-AH5) -> 0 | AK5: =IF(AL5="",0,AL5-AI5) -> 0 | AN5: =IF(AM5="",0,AM5-AL5) -> 0 | AO5: =IF(AP5="",0,AP5-AM5) -> 0 | AR5: =IF(AQ5="",0,AQ5-AP5) -> 0 | AS5: =IF(AT5="",0,AT5-AQ5) -> 0 | AV5: =IF(AU5="",0,AU5-AT5) -> 0 | AY5: =IF(AX5="",0,AX5-AW5) -> 0 | BB5: =IF(BA5="",0,BA5-AZ5) -> 0 | BC5: =AY5+BB5 -> 0 | BD5: =IF(BH5>$BM$3,"Infraction","") | BE5: =IF(BH5>=$BN$3,IF(AW5="","Infraction",IF(AW5-J5<$BN$3,IF(AY5>=$BP$3,"",IF(AZ5="","Infraction",IF(AZ5-J5<$BN$3,IF(BC5>=$BP$3,"","Infraction"),"Infraction"))),"Infraction")),"") | BF5: =IF(BG5>=$BO$3,IF(AW5="","Infraction",IF(AW5-K5-BK5<=$BO$3,IF(AY5<$BP$5,"Infraction",IF(AY5>=$BP$4,"",IF(AZ5="","Infraction",IF(AZ5-K5-BL5<=$BO$3,IF(BB5<$BP$3,"Infraction",IF(BC5>=$BP$4,"","Infraction")),"Infraction")))),"Infraction")),"") | BG5: =M5+Q5+U5+Y5+AC5+AG5+AK5+AO5 -> 0 | BH5: =(AR5+AO5+AN5+AK5+AJ5+AG5+AF5+AC5+AB5+Y5+X5+U5+T5+Q5+P5+M5+L5) -> 0 | BI5: =P5+T5+X5+AB5+AF5+AJ5+AN5+AR5+L5 -> 0 | BK5: =IF(N5<AW5,IF(R5<AW5,IF(V5<AW5,IF(Z5<AW5,IF(AD5<AW5,IF(AH5<AW5,IF(AL5<AW5,IF(AP5<AW5,IF(AT5<AW5,P5+T5+X5+AB5+AF5+AJ5+AN5+AR5,P5+T5+X5+AB5+AF5+AJ5+AN5+AR5),P5+T5+X5+AB5+AF5+AJ5+AN5),P5+T5+X5+AB5+AF5+AJ5),P5+T5+X5+AB5+AF5),P5+T5+X5+AB5),P5+T5+X5),P5+T5),P5),"0") -> 0 | BL5: =IF(N5<AZ5,IF(R5<AZ5,IF(V5<AZ5,IF(Z5<AZ5,IF(AD5<AZ5,IF(AH5<AZ5,IF(AL5<AZ5,IF(AP5<AZ5,IF(AT5<AZ5,P5+T5+X5+AB5+AF5+AJ5+AN5+AR5,P5+T5+X5+AB5+AF5+AJ5+AN5+AR5),P5+T5+X5+AB5+AF5+AJ5+AN5),P5+T5+X5+AB5+AF5+AJ5),P5+T5+X5+AB5+AF5),P5+T5+X5+AB5),P5+T5+X5),P5+T5),P5),"0") -> 0 | BP5: 0.010416667
A6: =IF(D6="","",'Jour 1'!$D6) -> 43339 | B6: =IF(D6="","",'Jour 1'!$D6) -> 43339 | C6: =IF(D6="","",WEEKNUM(D6,2)) -> 35 | D6: =IF($D$3="","",$D$3) -> 43339 | I6: =H6-G6 -> 0 | L6: =IF(K6="",0,K6-J6) -> 0 | M6: =IF(N6="",0,N6-K6) -> 0 | P6: =IF(O6="",0,O6-N6) -> 0 | Q6: =IF(R6="",0,R6-O6) -> 0 | T6: =IF(S6="",0,S6-R6) -> 0 | U6: =IF(V6="",0,V6-S6) -> 0 | X6: =IF(W6="",0,W6-V6) -> 0 | Y6: =IF(Z6="",0,Z6-W6) -> 0 | AB6: =IF(AA6="",0,AA6-Z6) -> 0 | AC6: =IF(AD6="",0,AD6-AA6) -> 0 | AF6: =IF(AE6="",0,AE6-AD6) -> 0 | AG6: =IF(AH6="",0,AH6-AE6) -> 0 | AJ6: =IF(AI6="",0,AI6-AH6) -> 0 | AK6: =IF(AL6="",0,AL6-AI6) -> 0 | AN6: =IF(AM6="",0,AM6-AL6) -> 0 | AO6: =IF(AP6="",0,AP6-AM6) -> 0 | AR6: =IF(AQ6="",0,AQ6-AP6) -> 0 | AS6: =IF(AT6="",0,AT6-AQ6) -> 0 | AV6: =IF(AU6="",0,AU6-AT6) -> 0 | AY6: =IF(AX6="",0,AX6-AW6) -> 0 | BB6: =IF(BA6="",0,BA6-AZ6) -> 0 | BC6: =AY6+BB6 -> 0 | BD6: =IF(BH6>$BM$3,"Infraction","") | BE6: =IF(BH6>=$BN$3,IF(AW6="","Infraction",IF(AW6-J6<$BN$3,IF(AY6>=$BP$3,"",IF(AZ6="","Infraction",IF(AZ6-J6<$BN$3,IF(BC6>=$BP$3,"","Infraction"),"Infraction"))),"Infraction")),"") | BF6: =IF(BG6>=$BO$3,IF(AW6="","Infraction",IF(AW6-K6-BK6<=$BO$3,IF(AY6<$BP$5,"Infraction",IF(AY6>=$BP$4,"",IF(AZ6="","Infraction",IF(AZ6-K6-BL6<=$BO$3,IF(BB6<$BP$3,"Infraction",IF(BC6>=$BP$4,"","Infraction")),"Infraction")))),"Infraction")),"") | BG6: =M6+Q6+U6+Y6+AC6+AG6+AK6+AO6 -> 0 | BH6: =(AR6+AO6+AN6+AK6+AJ6+AG6+AF6+AC6+AB6+Y6+X6+U6+T6+Q6+P6+M6+L6) -> 0 | BI6: =P6+T6+X6+AB6+AF6+AJ6+AN6+AR6+L6 -> 0 | BK6: =IF(N6<AW6,IF(R6<AW6,IF(V6<AW6,IF(Z6<AW6,IF(AD6<AW6,IF(AH6<AW6,IF(AL6<AW6,IF(AP6<AW6,IF(AT6<AW6,P6+T6+X6+AB6+AF6+AJ6+AN6+AR6,P6+T6+X6+AB6+AF6+AJ6+AN6+AR6),P6+T6+X6+AB6+AF6+AJ6+AN6),P6+T6+X6+AB6+AF6+AJ6),P6+T6+X6+AB6+AF6),P6+T6+X6+AB6),P6+T6+X6),P6+T6),P6),"0") -> 0 | BL6: =IF(N6<AZ6,IF(R6<AZ6,IF(V6<AZ6,IF(Z6<AZ6,IF(AD6<AZ6,IF(AH6<AZ6,IF(AL6<AZ6,IF(AP6<AZ6,IF(AT6<AZ6,P6+T6+X6+AB6+AF6+AJ6+AN6+AR6,P6+T6+X6+AB6+AF6+AJ6+AN6+AR6),P6+T6+X6+AB6+AF6+AJ6+AN6),P6+T6+X6+AB6+AF6+AJ6),P6+T6+X6+AB6+AF6),P6+T6+X6+AB6),P6+T6+X6),P6+T6),P6),"0") -> 0
A7: =IF(D7="","",'Jour 1'!$D7) -> 43339 | B7: =IF(D7="","",'Jour 1'!$D7) -> 43339 | C7: =IF(D7="","",WEEKNUM(D7,2)) -> 35 | D7: =IF($D$3="","",$D$3) -> 43339 | I7: =H7-G7 -> 0 | L7: =IF(K7="",0,K7-J7) -> 0 | M7: =IF(N7="",0,N7-K7) -> 0 | P7: =IF(O7="",0,O7-N7) -> 0 | Q7: =IF(R7="",0,R7-O7) -> 0 | T7: =IF(S7="",0,S7-R7) -> 0 | U7: =IF(V7="",0,V7-S7) -> 0 | X7: =IF(W7="",0,W7-V7) -> 0 | Y7: =IF(Z7="",0,Z7-W7) -> 0 | AB7: =IF(AA7="",0,AA7-Z7) -> 0 | AC7: =IF(AD7="",0,AD7-AA7) -> 0 | AF7: =IF(AE7="",0,AE7-AD7) -> 0 | AG7: =IF(AH7="",0,AH7-AE7) -> 0 | AJ7: =IF(AI7="",0,AI7-AH7) -> 0 | AK7: =IF(AL7="",0,AL7-AI7) -> 0 | AN7: =IF(AM7="",0,AM7-AL7) -> 0 | AO7: =IF(AP7="",0,AP7-AM7) -> 0 | AR7: =IF(AQ7="",0,AQ7-AP7) -> 0 | AS7: =IF(AT7="",0,AT7-AQ7) -> 0 | AV7: =IF(AU7="",0,AU7-AT7) -> 0 | AY7: =IF(AX7="",0,AX7-AW7) -> 0 | BB7: =IF(BA7="",0,BA7-AZ7) -> 0 | BC7: =AY7+BB7 -> 0 | BD7: =IF(BH7>$BM$3,"Infraction","") | BE7: =IF(BH7>=$BN$3,IF(AW7="","Infraction",IF(AW7-J7<$BN$3,IF(AY7>=$BP$3,"",IF(AZ7="","Infraction",IF(AZ7-J7<$BN$3,IF(BC7>=$BP$3,"","Infraction"),"Infraction"))),"Infraction")),"") | BF7: =IF(BG7>=$BO$3,IF(AW7="","Infraction",IF(AW7-K7-BK7<=$BO$3,IF(AY7<$BP$5,"Infraction",IF(AY7>=$BP$4,"",IF(AZ7="","Infraction",IF(AZ7-K7-BL7<=$BO$3,IF(BB7<$BP$3,"Infraction",IF(BC7>=$BP$4,"","Infraction")),"Infraction")))),"Infraction")),"") | BG7: =M7+Q7+U7+Y7+AC7+AG7+AK7+AO7 -> 0 | BH7: =(AR7+AO7+AN7+AK7+AJ7+AG7+AF7+AC7+AB7+Y7+X7+U7+T7+Q7+P7+M7+L7) -> 0 | BI7: =P7+T7+X7+AB7+AF7+AJ7+AN7+AR7+L7 -> 0 | BK7: =IF(N7<AW7,IF(R7<AW7,IF(V7<AW7,IF(Z7<AW7,IF(AD7<AW7,IF(AH7<AW7,IF(AL7<AW7,IF(AP7<AW7,IF(AT7<AW7,P7+T7+X7+AB7+AF7+AJ7+AN7+AR7,P7+T7+X7+AB7+AF7+AJ7+AN7+AR7),P7+T7+X7+AB7+AF7+AJ7+AN7),P7+T7+X7+AB7+AF7+AJ7),P7+T7+X7+AB7+AF7),P7+T7+X7+AB7),P7+T7+X7),P7+T7),P7),"0") -> 0 | BL7: =IF(N7<AZ7,IF(R7<AZ7,IF(V7<AZ7,IF(Z7<AZ7,IF(AD7<AZ7,IF(AH7<AZ7,IF(AL7<AZ7,IF(AP7<AZ7,IF(AT7<AZ7,P7+T7+X7+AB7+AF7+AJ7+AN7+AR7,P7+T7+X7+AB7+AF7+AJ7+AN7+AR7),P7+T7+X7+AB7+AF7+AJ7+AN7),P7+T7+X7+AB7+AF7+AJ7),P7+T7+X7+AB7+AF7),P7+T7+X7+AB7),P7+T7+X7),P7+T7),P7),"0") -> 0
A8: =IF(D8="","",'Jour 1'!$D8) -> 43339 | B8: =IF(D8="","",'Jour 1'!$D8) -> 43339 | C8: =IF(D8="","",WEEKNUM(D8,2)) -> 35 | D8: =IF($D$3="","",$D$3) -> 43339 | I8: =H8-G8 -> 0 | L8: =IF(K8="",0,K8-J8) -> 0 | M8: =IF(N8="",0,N8-K8) -> 0 | P8: =IF(O8="",0,O8-N8) -> 0 | Q8: =IF(R8="",0,R8-O8) -> 0 | T8: =IF(S8="",0,S8-R8) -> 0 | U8: =IF(V8="",0,V8-S8) -> 0 | X8: =IF(W8="",0,W8-V8) -> 0 | Y8: =IF(Z8="",0,Z8-W8) -> 0 | AB8: =IF(AA8="",0,AA8-Z8) -> 0 | AC8: =IF(AD8="",0,AD8-AA8) -> 0 | AF8: =IF(AE8="",0,AE8-AD8) -> 0 | AG8: =IF(AH8="",0,AH8-AE8) -> 0 | AJ8: =IF(AI8="",0,AI8-AH8) -> 0 | AK8: =IF(AL8="",0,AL8-AI8) -> 0 | AN8: =IF(AM8="",0,AM8-AL8) -> 0 | AO8: =IF(AP8="",0,AP8-AM8) -> 0 | AR8: =IF(AQ8="",0,AQ8-AP8) -> 0 | AS8: =IF(AT8="",0,AT8-AQ8) -> 0 | AV8: =IF(AU8="",0,AU8-AT8) -> 0 | AY8: =IF(AX8="",0,AX8-AW8) -> 0 | BB8: =IF(BA8="",0,BA8-AZ8) -> 0 | BC8: =AY8+BB8 -> 0 | BD8: =IF(BH8>$BM$3,"Infraction","") | BE8: =IF(BH8>=$BN$3,IF(AW8="","Infraction",IF(AW8-J8<$BN$3,IF(AY8>=$BP$3,"",IF(AZ8="","Infraction",IF(AZ8-J8<$BN$3,IF(BC8>=$BP$3,"","Infraction"),"Infraction"))),"Infraction")),"") | BF8: =IF(BG8>=$BO$3,IF(AW8="","Infraction",IF(AW8-K8-BK8<=$BO$3,IF(AY8<$BP$5,"Infraction",IF(AY8>=$BP$4,"",IF(AZ8="","Infraction",IF(AZ8-K8-BL8<=$BO$3,IF(BB8<$BP$3,"Infraction",IF(BC8>=$BP$4,"","Infraction")),"Infraction")))),"Infraction")),"") | BG8: =M8+Q8+U8+Y8+AC8+AG8+AK8+AO8 -> 0 | BH8: =(AR8+AO8+AN8+AK8+AJ8+AG8+AF8+AC8+AB8+Y8+X8+U8+T8+Q8+P8+M8+L8) -> 0 | BI8: =P8+T8+X8+AB8+AF8+AJ8+AN8+AR8+L8 -> 0 | BK8: =IF(N8<AW8,IF(R8<AW8,IF(V8<AW8,IF(Z8<AW8,IF(AD8<AW8,IF(AH8<AW8,IF(AL8<AW8,IF(AP8<AW8,IF(AT8<AW8,P8+T8+X8+AB8+AF8+AJ8+AN8+AR8,P8+T8+X8+AB8+AF8+AJ8+AN8+AR8),P8+T8+X8+AB8+AF8+AJ8+AN8),P8+T8+X8+AB8+AF8+AJ8),P8+T8+X8+AB8+AF8),P8+T8+X8+AB8),P8+T8+X8),P8+T8),P8),"0") -> 0 | BL8: =IF(N8<AZ8,IF(R8<AZ8,IF(V8<AZ8,IF(Z8<AZ8,IF(AD8<AZ8,IF(AH8<AZ8,IF(AL8<AZ8,IF(AP8<AZ8,IF(AT8<AZ8,P8+T8+X8+AB8+AF8+AJ8+AN8+AR8,P8+T8+X8+AB8+AF8+AJ8+AN8+AR8),P8+T8+X8+AB8+AF8+AJ8+AN8),P8+T8+X8+AB8+AF8+AJ8),P8+T8+X8+AB8+AF8),P8+T8+X8+AB8),P8+T8+X8),P8+T8),P8),"0") -> 0
A9: =IF(D9="","",'Jour 1'!$D9) -> 43339 | B9: =IF(D9="","",'Jour 1'!$D9) -> 43339 | C9: =IF(D9="","",WEEKNUM(D9,2)) -> 35 | D9: =IF($D$3="","",$D$3) -> 43339 | I9: =H9-G9 -> 0 | L9: =IF(K9="",0,K9-J9) -> 0 | M9: =IF(N9="",0,N9-K9) -> 0 | P9: =IF(O9="",0,O9-N9) -> 0 | Q9: =IF(R9="",0,R9-O9) -> 0 | T9: =IF(S9="",0,S9-R9) -> 0 | U9: =IF(V9="",0,V9-S9) -> 0 | X9: =IF(W9="",0,W9-V9) -> 0 | Y9: =IF(Z9="",0,Z9-W9) -> 0 | AB9: =IF(AA9="",0,AA9-Z9) -> 0 | AC9: =IF(AD9="",0,AD9-AA9) -> 0 | AF9: =IF(AE9="",0,AE9-AD9) -> 0 | AG9: =IF(AH9="",0,AH9-AE9) -> 0 | AJ9: =IF(AI9="",0,AI9-AH9) -> 0 | AK9: =IF(AL9="",0,AL9-AI9) -> 0 | AN9: =IF(AM9="",0,AM9-AL9) -> 0 | AO9: =IF(AP9="",0,AP9-AM9) -> 0 | AR9: =IF(AQ9="",0,AQ9-AP9) -> 0 | AS9: =IF(AT9="",0,AT9-AQ9) -> 0 | AV9: =IF(AU9="",0,AU9-AT9) -> 0 | AY9: =IF(AX9="",0,AX9-AW9) -> 0 | BB9: =IF(BA9="",0,BA9-AZ9) -> 0 | BC9: =AY9+BB9 -> 0 | BD9: =IF(BH9>$BM$3,"Infraction","") | BE9: =IF(BH9>=$BN$3,IF(AW9="","Infraction",IF(AW9-J9<$BN$3,IF(AY9>=$BP$3,"",IF(AZ9="","Infraction",IF(AZ9-J9<$BN$3,IF(BC9>=$BP$3,"","Infraction"),"Infraction"))),"Infraction")),"") | BF9: =IF(BG9>=$BO$3,IF(AW9="","Infraction",IF(AW9-K9-BK9<=$BO$3,IF(AY9<$BP$5,"Infraction",IF(AY9>=$BP$4,"",IF(AZ9="","Infraction",IF(AZ9-K9-BL9<=$BO$3,IF(BB9<$BP$3,"Infraction",IF(BC9>=$BP$4,"","Infraction")),"Infraction")))),"Infraction")),"") | BG9: =M9+Q9+U9+Y9+AC9+AG9+AK9+AO9 -> 0 | BH9: =(AR9+AO9+AN9+AK9+AJ9+AG9+AF9+AC9+AB9+Y9+X9+U9+T9+Q9+P9+M9+L9) -> 0 | BI9: =P9+T9+X9+AB9+AF9+AJ9+AN9+AR9+L9 -> 0 | BK9: =IF(N9<AW9,IF(R9<AW9,IF(V9<AW9,IF(Z9<AW9,IF(AD9<AW9,IF(AH9<AW9,IF(AL9<AW9,IF(AP9<AW9,IF(AT9<AW9,P9+T9+X9+AB9+AF9+AJ9+AN9+AR9,P9+T9+X9+AB9+AF9+AJ9+AN9+AR9),P9+T9+X9+AB9+AF9+AJ9+AN9),P9+T9+X9+AB9+AF9+AJ9),P9+T9+X9+AB9+AF9),P9+T9+X9+AB9),P9+T9+X9),P9+T9),P9),"0") -> 0 | BL9: =IF(N9<AZ9,IF(R9<AZ9,IF(V9<AZ9,IF(Z9<AZ9,IF(AD9<AZ9,IF(AH9<AZ9,IF(AL9<AZ9,IF(AP9<AZ9,IF(AT9<AZ9,P9+T9+X9+AB9+AF9+AJ9+AN9+AR9,P9+T9+X9+AB9+AF9+AJ9+AN9+AR9),P9+T9+X9+AB9+AF9+AJ9+AN9),P9+T9+X9+AB9+AF9+AJ9),P9+T9+X9+AB9+AF9),P9+T9+X9+AB9),P9+T9+X9),P9+T9),P9),"0") -> 0
A10: =IF(D10="","",'Jour 1'!$D10) -> 43339 | B10: =IF(D10="","",'Jour 1'!$D10) -> 43339 | C10: =IF(D10="","",WEEKNUM(D10,2)) -> 35 | D10: =IF($D$3="","",$D$3) -> 43339 | I10: =H10-G10 -> 0 | L10: =IF(K10="",0,K10-J10) -> 0 | M10: =IF(N10="",0,N10-K10) -> 0 | P10: =IF(O10="",0,O10-N10) -> 0 | Q10: =IF(R10="",0,R10-O10) -> 0 | T10: =IF(S10="",0,S10-R10) -> 0 | U10: =IF(V10="",0,V10-S10) -> 0 | X10: =IF(W10="",0,W10-V10) -> 0 | Y10: =IF(Z10="",0,Z10-W10) -> 0 | AB10: =IF(AA10="",0,AA10-Z10) -> 0 | AC10: =IF(AD10="",0,AD10-AA10) -> 0 | AF10: =IF(AE10="",0,AE10-AD10) -> 0 | AG10: =IF(AH10="",0,AH10-AE10) -> 0 | AJ10: =IF(AI10="",0,AI10-AH10) -> 0 | AK10: =IF(AL10="",0,AL10-AI10) -> 0 | AN10: =IF(AM10="",0,AM10-AL10) -> 0 | AO10: =IF(AP10="",0,AP10-AM10) -> 0 | AR10: =IF(AQ10="",0,AQ10-AP10) -> 0 | AS10: =IF(AT10="",0,AT10-AQ10) -> 0 | AV10: =IF(AU10="",0,AU10-AT10) -> 0 | AY10: =IF(AX10="",0,AX10-AW10) -> 0 | BB10: =IF(BA10="",0,BA10-AZ10) -> 0 | BC10: =AY10+BB10 -> 0 | BD10: =IF(BH10>$BM$3,"Infraction","") | BE10: =IF(BH10>=$BN$3,IF(AW10="","Infraction",IF(AW10-J10<$BN$3,IF(AY10>=$BP$3,"",IF(AZ10="","Infraction",IF(AZ10-J10<$BN$3,IF(BC10>=$BP$3,"","Infraction"),"Infraction"))),"Infraction")),"") | BF10: =IF(BG10>=$BO$3,IF(AW10="","Infraction",IF(AW10-K10-BK10<=$BO$3,IF(AY10<$BP$5,"Infraction",IF(AY10>=$BP$4,"",IF(AZ10="","Infraction",IF(AZ10-K10-BL10<=$BO$3,IF(BB10<$BP$3,"Infraction",IF(BC10>=$BP$4,"","Infraction")),"Infraction")))),"Infraction")),"") | BG10: =M10+Q10+U10+Y10+AC10+AG10+AK10+AO10 -> 0 | BH10: =(AR10+AO10+AN10+AK10+AJ10+AG10+AF10+AC10+AB10+Y10+X10+U10+T10+Q10+P10+M10+L10) -> 0 | BI10: =P10+T10+X10+AB10+AF10+AJ10+AN10+AR10+L10 -> 0 | BK10: =IF(N10<AW10,IF(R10<AW10,IF(V10<AW10,IF(Z10<AW10,IF(AD10<AW10,IF(AH10<AW10,IF(AL10<AW10,IF(AP10<AW10,IF(AT10<AW10,P10+T10+X10+AB10+AF10+AJ10+AN10+AR10,P10+T10+X10+AB10+AF10+AJ10+AN10+AR10),P10+T10+X10+AB10+AF10+AJ10+AN10),P10+T10+X10+AB10+AF10+AJ10),P10+T10+X10+AB10+AF10),P10+T10+X10+AB10),P10+T10+X10),P10+T10),P10),"0") -> 0 | BL10: =IF(N10<AZ10,IF(R10<AZ10,IF(V10<AZ10,IF(Z10<AZ10,IF(AD10<AZ10,IF(AH10<AZ10,IF(AL10<AZ10,IF(AP10<AZ10,IF(AT10<AZ10,P10+T10+X10+AB10+AF10+AJ10+AN10+AR10,P10+T10+X10+AB10+AF10+AJ10+AN10+AR10),P10+T10+X10+AB10+AF10+AJ10+AN10),P10+T10+X10+AB10+AF10+AJ10),P10+T10+X10+AB10+AF10),P10+T10+X10+AB10),P10+T10+X10),P10+T10),P10),"0") -> 0
A11: =IF(D11="","",'Jour 1'!$D11) -> 43339 | B11: =IF(D11="","",'Jour 1'!$D11) -> 43339 | C11: =IF(D11="","",WEEKNUM(D11,2)) -> 35 | D11: =IF($D$3="","",$D$3) -> 43339 | I11: =H11-G11 -> 0 | L11: =IF(K11="",0,K11-J11) -> 0 | M11: =IF(N11="",0,N11-K11) -> 0 | P11: =IF(O11="",0,O11-N11) -> 0 | Q11: =IF(R11="",0,R11-O11) -> 0 | T11: =IF(S11="",0,S11-R11) -> 0 | U11: =IF(V11="",0,V11-S11) -> 0 | X11: =IF(W11="",0,W11-V11) -> 0 | Y11: =IF(Z11="",0,Z11-W11) -> 0 | AB11: =IF(AA11="",0,AA11-Z11) -> 0 | AC11: =IF(AD11="",0,AD11-AA11) -> 0 | AF11: =IF(AE11="",0,AE11-AD11) -> 0 | AG11: =IF(AH11="",0,AH11-AE11) -> 0 | AJ11: =IF(AI11="",0,AI11-AH11) -> 0 | AK11: =IF(AL11="",0,AL11-AI11) -> 0 | AN11: =IF(AM11="",0,AM11-AL11) -> 0 | AO11: =IF(AP11="",0,AP11-AM11) -> 0 | AR11: =IF(AQ11="",0,AQ11-AP11) -> 0 | AS11: =IF(AT11="",0,AT11-AQ11) -> 0 | AV11: =IF(AU11="",0,AU11-AT11) -> 0 | AY11: =IF(AX11="",0,AX11-AW11) -> 0 | BB11: =IF(BA11="",0,BA11-AZ11) -> 0 | BC11: =AY11+BB11 -> 0 | BD11: =IF(BH11>$BM$3,"Infraction","") | BE11: =IF(BH11>=$BN$3,IF(AW11="","Infraction",IF(AW11-J11<$BN$3,IF(AY11>=$BP$3,"",IF(AZ11="","Infraction",IF(AZ11-J11<$BN$3,IF(BC11>=$BP$3,"","Infraction"),"Infraction"))),"Infraction")),"") | BF11: =IF(BG11>=$BO$3,IF(AW11="","Infraction",IF(AW11-K11-BK11<=$BO$3,IF(AY11<$BP$5,"Infraction",IF(AY11>=$BP$4,"",IF(AZ11="","Infraction",IF(AZ11-K11-BL11<=$BO$3,IF(BB11<$BP$3,"Infraction",IF(BC11>=$BP$4,"","Infraction")),"Infraction")))),"Infraction")),"") | BG11: =M11+Q11+U11+Y11+AC11+AG11+AK11+AO11 -> 0 | BH11: =(AR11+AO11+AN11+AK11+AJ11+AG11+AF11+AC11+AB11+Y11+X11+U11+T11+Q11+P11+M11+L11) -> 0 | BI11: =P11+T11+X11+AB11+AF11+AJ11+AN11+AR11+L11 -> 0 | BK11: =IF(N11<AW11,IF(R11<AW11,IF(V11<AW11,IF(Z11<AW11,IF(AD11<AW11,IF(AH11<AW11,IF(AL11<AW11,IF(AP11<AW11,IF(AT11<AW11,P11+T11+X11+AB11+AF11+AJ11+AN11+AR11,P11+T11+X11+AB11+AF11+AJ11+AN11+AR11),P11+T11+X11+AB11+AF11+AJ11+AN11),P11+T11+X11+AB11+AF11+AJ11),P11+T11+X11+AB11+AF11),P11+T11+X11+AB11),P11+T11+X11),P11+T11),P11),"0") -> 0 | BL11: =IF(N11<AZ11,IF(R11<AZ11,IF(V11<AZ11,IF(Z11<AZ11,IF(AD11<AZ11,IF(AH11<AZ11,IF(AL11<AZ11,IF(AP11<AZ11,IF(AT11<AZ11,P11+T11+X11+AB11+AF11+AJ11+AN11+AR11,P11+T11+X11+AB11+AF11+AJ11+AN11+AR11),P11+T11+X11+AB11+AF11+AJ11+AN11),P11+T11+X11+AB11+AF11+AJ11),P11+T11+X11+AB11+AF11),P11+T11+X11+AB11),P11+T11+X11),P11+T11),P11),"0") -> 0
A12: =IF(D12="","",'Jour 1'!$D12) -> 43339 | B12: =IF(D12="","",'Jour 1'!$D12) -> 43339 | C12: =IF(D12="","",WEEKNUM(D12,2)) -> 35 | D12: =IF($D$3="","",$D$3) -> 43339 | I12: =H12-G12 -> 0 | L12: =IF(K12="",0,K12-J12) -> 0 | M12: =IF(N12="",0,N12-K12) -> 0 | P12: =IF(O12="",0,O12-N12) -> 0 | Q12: =IF(R12="",0,R12-O12) -> 0 | T12: =IF(S12="",0,S12-R12) -> 0 | U12: =IF(V12="",0,V12-S12) -> 0 | X12: =IF(W12="",0,W12-V12) -> 0 | Y12: =IF(Z12="",0,Z12-W12) -> 0 | AB12: =IF(AA12="",0,AA12-Z12) -> 0 | AC12: =IF(AD12="",0,AD12-AA12) -> 0 | AF12: =IF(AE12="",0,AE12-AD12) -> 0 | AG12: =IF(AH12="",0,AH12-AE12) -> 0 | AJ12: =IF(AI12="",0,AI12-AH12) -> 0 | AK12: =IF(AL12="",0,AL12-AI12) -> 0 | AN12: =IF(AM12="",0,AM12-AL12) -> 0 | AO12: =IF(AP12="",0,AP12-AM12) -> 0 | AR12: =IF(AQ12="",0,AQ12-AP12) -> 0 | AS12: =IF(AT12="",0,AT12-AQ12) -> 0 | AV12: =IF(AU12="",0,AU12-AT12) -> 0 | AY12: =IF(AX12="",0,AX12-AW12) -> 0 | BB12: =IF(BA12="",0,BA12-AZ12) -> 0 | BC12: =AY12+BB12 -> 0 | BD12: =IF(BH12>$BM$3,"Infraction","") | BE12: =IF(BH12>=$BN$3,IF(AW12="","Infraction",IF(AW12-J12<$BN$3,IF(AY12>=$BP$3,"",IF(AZ12="","Infraction",IF(AZ12-J12<$BN$3,IF(BC12>=$BP$3,"","Infraction"),"Infraction"))),"Infraction")),"") | BF12: =IF(BG12>=$BO$3,IF(AW12="","Infraction",IF(AW12-K12-BK12<=$BO$3,IF(AY12<$BP$5,"Infraction",IF(AY12>=$BP$4,"",IF(AZ12="","Infraction",IF(AZ12-K12-BL12<=$BO$3,IF(BB12<$BP$3,"Infraction",IF(BC12>=$BP$4,"","Infraction")),"Infraction")))),"Infraction")),"") | BG12: =M12+Q12+U12+Y12+AC12+AG12+AK12+AO12 -> 0 | BH12: =(AR12+AO12+AN12+AK12+AJ12+AG12+AF12+AC12+AB12+Y12+X12+U12+T12+Q12+P12+M12+L12) -> 0 | BI12: =P12+T12+X12+AB12+AF12+AJ12+AN12+AR12+L12 -> 0 | BK12: =IF(N12<AW12,IF(R12<AW12,IF(V12<AW12,IF(Z12<AW12,IF(AD12<AW12,IF(AH12<AW12,IF(AL12<AW12,IF(AP12<AW12,IF(AT12<AW12,P12+T12+X12+AB12+AF12+AJ12+AN12+AR12,P12+T12+X12+AB12+AF12+AJ12+AN12+AR12),P12+T12+X12+AB12+AF12+AJ12+AN12),P12+T12+X12+AB12+AF12+AJ12),P12+T12+X12+AB12+AF12),P12+T12+X12+AB12),P12+T12+X12),P12+T12),P12),"0") -> 0 | BL12: =IF(N12<AZ12,IF(R12<AZ12,IF(V12<AZ12,IF(Z12<AZ12,IF(AD12<AZ12,IF(AH12<AZ12,IF(AL12<AZ12,IF(AP12<AZ12,IF(AT12<AZ12,P12+T12+X12+AB12+AF12+AJ12+AN12+AR12,P12+T12+X12+AB12+AF12+AJ12+AN12+AR12),P12+T12+X12+AB12+AF12+AJ12+AN12),P12+T12+X12+AB12+AF12+AJ12),P12+T12+X12+AB12+AF12),P12+T12+X12+AB12),P12+T12+X12),P12+T12),P12),"0") -> 0
A13: =IF(D13="","",'Jour 1'!$D13) -> 43339 | B13: =IF(D13="","",'Jour 1'!$D13) -> 43339 | C13: =IF(D13="","",WEEKNUM(D13,2)) -> 35 | D13: =IF($D$3="","",$D$3) -> 43339 | I13: =H13-G13 -> 0 | L13: =IF(K13="",0,K13-J13) -> 0 | M13: =IF(N13="",0,N13-K13) -> 0 | P13: =IF(O13="",0,O13-N13) -> 0 | Q13: =IF(R13="",0,R13-O13) -> 0 | T13: =IF(S13="",0,S13-R13) -> 0 | U13: =IF(V13="",0,V13-S13) -> 0 | X13: =IF(W13="",0,W13-V13) -> 0 | Y13: =IF(Z13="",0,Z13-W13) -> 0 | AB13: =IF(AA13="",0,AA13-Z13) -> 0 | AC13: =IF(AD13="",0,AD13-AA13) -> 0 | AF13: =IF(AE13="",0,AE13-AD13) -> 0 | AG13: =IF(AH13="",0,AH13-AE13) -> 0 | AJ13: =IF(AI13="",0,AI13-AH13) -> 0 | AK13: =IF(AL13="",0,AL13-AI13) -> 0 | AN13: =IF(AM13="",0,AM13-AL13) -> 0 | AO13: =IF(AP13="",0,AP13-AM13) -> 0 | AR13: =IF(AQ13="",0,AQ13-AP13) -> 0 | AS13: =IF(AT13="",0,AT13-AQ13) -> 0 | AV13: =IF(AU13="",0,AU13-AT13) -> 0 | AY13: =IF(AX13="",0,AX13-AW13) -> 0 | BB13: =IF(BA13="",0,BA13-AZ13) -> 0 | BC13: =AY13+BB13 -> 0 | BD13: =IF(BH13>$BM$3,"Infraction","") | BE13: =IF(BH13>=$BN$3,IF(AW13="","Infraction",IF(AW13-J13<$BN$3,IF(AY13>=$BP$3,"",IF(AZ13="","Infraction",IF(AZ13-J13<$BN$3,IF(BC13>=$BP$3,"","Infraction"),"Infraction"))),"Infraction")),"") | BF13: =IF(BG13>=$BO$3,IF(AW13="","Infraction",IF(AW13-K13-BK13<=$BO$3,IF(AY13<$BP$5,"Infraction",IF(AY13>=$BP$4,"",IF(AZ13="","Infraction",IF(AZ13-K13-BL13<=$BO$3,IF(BB13<$BP$3,"Infraction",IF(BC13>=$BP$4,"","Infraction")),"Infraction")))),"Infraction")),"") | BG13: =M13+Q13+U13+Y13+AC13+AG13+AK13+AO13 -> 0 | BH13: =(AR13+AO13+AN13+AK13+AJ13+AG13+AF13+AC13+AB13+Y13+X13+U13+T13+Q13+P13+M13+L13) -> 0 | BI13: =P13+T13+X13+AB13+AF13+AJ13+AN13+AR13+L13 -> 0 | BK13: =IF(N13<AW13,IF(R13<AW13,IF(V13<AW13,IF(Z13<AW13,IF(AD13<AW13,IF(AH13<AW13,IF(AL13<AW13,IF(AP13<AW13,IF(AT13<AW13,P13+T13+X13+AB13+AF13+AJ13+AN13+AR13,P13+T13+X13+AB13+AF13+AJ13+AN13+AR13),P13+T13+X13+AB13+AF13+AJ13+AN13),P13+T13+X13+AB13+AF13+AJ13),P13+T13+X13+AB13+AF13),P13+T13+X13+AB13),P13+T13+X13),P13+T13),P13),"0") -> 0 | BL13: =IF(N13<AZ13,IF(R13<AZ13,IF(V13<AZ13,IF(Z13<AZ13,IF(AD13<AZ13,IF(AH13<AZ13,IF(AL13<AZ13,IF(AP13<AZ13,IF(AT13<AZ13,P13+T13+X13+AB13+AF13+AJ13+AN13+AR13,P13+T13+X13+AB13+AF13+AJ13+AN13+AR13),P13+T13+X13+AB13+AF13+AJ13+AN13),P13+T13+X13+AB13+AF13+AJ13),P13+T13+X13+AB13+AF13),P13+T13+X13+AB13),P13+T13+X13),P13+T13),P13),"0") -> 0
A14: =IF(D14="","",'Jour 1'!$D14) -> 43339 | B14: =IF(D14="","",'Jour 1'!$D14) -> 43339 | C14: =IF(D14="","",WEEKNUM(D14,2)) -> 35 | D14: =IF($D$3="","",$D$3) -> 43339 | I14: =H14-G14 -> 0 | L14: =IF(K14="",0,K14-J14) -> 0 | M14: =IF(N14="",0,N14-K14) -> 0 | P14: =IF(O14="",0,O14-N14) -> 0 | Q14: =IF(R14="",0,R14-O14) -> 0 | T14: =IF(S14="",0,S14-R14) -> 0 | U14: =IF(V14="",0,V14-S14) -> 0 | X14: =IF(W14="",0,W14-V14) -> 0 | Y14: =IF(Z14="",0,Z14-W14) -> 0 | AB14: =IF(AA14="",0,AA14-Z14) -> 0 | AC14: =IF(AD14="",0,AD14-AA14) -> 0 | AF14: =IF(AE14="",0,AE14-AD14) -> 0 | AG14: =IF(AH14="",0,AH14-AE14) -> 0 | AJ14: =IF(AI14="",0,AI14-AH14) -> 0 | AK14: =IF(AL14="",0,AL14-AI14) -> 0 | AN14: =IF(AM14="",0,AM14-AL14) -> 0 | AO14: =IF(AP14="",0,AP14-AM14) -> 0 | AR14: =IF(AQ14="",0,AQ14-AP14) -> 0 | AS14: =IF(AT14="",0,AT14-AQ14) -> 0 | AV14: =IF(AU14="",0,AU14-AT14) -> 0 | AY14: =IF(AX14="",0,AX14-AW14) -> 0 | BB14: =IF(BA14="",0,BA14-AZ14) -> 0 | BC14: =AY14+BB14 -> 0 | BD14: =IF(BH14>$BM$3,"Infraction","") | BE14: =IF(BH14>=$BN$3,IF(AW14="","Infraction",IF(AW14-J14<$BN$3,IF(AY14>=$BP$3,"",IF(AZ14="","Infraction",IF(AZ14-J14<$BN$3,IF(BC14>=$BP$3,"","Infraction"),"Infraction"))),"Infraction")),"") | BF14: =IF(BG14>=$BO$3,IF(AW14="","Infraction",IF(AW14-K14-BK14<=$BO$3,IF(AY14<$BP$5,"Infraction",IF(AY14>=$BP$4,"",IF(AZ14="","Infraction",IF(AZ14-K14-BL14<=$BO$3,IF(BB14<$BP$3,"Infraction",IF(BC14>=$BP$4,"","Infraction")),"Infraction")))),"Infraction")),"") | BG14: =M14+Q14+U14+Y14+AC14+AG14+AK14+AO14 -> 0 | BH14: =(AR14+AO14+AN14+AK14+AJ14+AG14+AF14+AC14+AB14+Y14+X14+U14+T14+Q14+P14+M14+L14) -> 0 | BI14: =P14+T14+X14+AB14+AF14+AJ14+AN14+AR14+L14 -> 0 | BK14: =IF(N14<AW14,IF(R14<AW14,IF(V14<AW14,IF(Z14<AW14,IF(AD14<AW14,IF(AH14<AW14,IF(AL14<AW14,IF(AP14<AW14,IF(AT14<AW14,P14+T14+X14+AB14+AF14+AJ14+AN14+AR14,P14+T14+X14+AB14+AF14+AJ14+AN14+AR14),P14+T14+X14+AB14+AF14+AJ14+AN14),P14+T14+X14+AB14+AF14+AJ14),P14+T14+X14+AB14+AF14),P14+T14+X14+AB14),P14+T14+X14),P14+T14),P14),"0") -> 0 | BL14: =IF(N14<AZ14,IF(R14<AZ14,IF(V14<AZ14,IF(Z14<AZ14,IF(AD14<AZ14,IF(AH14<AZ14,IF(AL14<AZ14,IF(AP14<AZ14,IF(AT14<AZ14,P14+T14+X14+AB14+AF14+AJ14+AN14+AR14,P14+T14+X14+AB14+AF14+AJ14+AN14+AR14),P14+T14+X14+AB14+AF14+AJ14+AN14),P14+T14+X14+AB14+AF14+AJ14),P14+T14+X14+AB14+AF14),P14+T14+X14+AB14),P14+T14+X14),P14+T14),P14),"0") -> 0
A15: =IF(D15="","",'Jour 1'!$D15) -> 43339 | B15: =IF(D15="","",'Jour 1'!$D15) -> 43339 | C15: =IF(D15="","",WEEKNUM(D15,2)) -> 35 | D15: =IF($D$3="","",$D$3) -> 43339 | I15: =H15-G15 -> 0 | L15: =IF(K15="",0,K15-J15) -> 0 | M15: =IF(N15="",0,N15-K15) -> 0 | P15: =IF(O15="",0,O15-N15) -> 0 | Q15: =IF(R15="",0,R15-O15) -> 0 | T15: =IF(S15="",0,S15-R15) -> 0 | U15: =IF(V15="",0,V15-S15) -> 0 | X15: =IF(W15="",0,W15-V15) -> 0 | Y15: =IF(Z15="",0,Z15-W15) -> 0 | AB15: =IF(AA15="",0,AA15-Z15) -> 0 | AC15: =IF(AD15="",0,AD15-AA15) -> 0 | AF15: =IF(AE15="",0,AE15-AD15) -> 0 | AG15: =IF(AH15="",0,AH15-AE15) -> 0 | AJ15: =IF(AI15="",0,AI15-AH15) -> 0 | AK15: =IF(AL15="",0,AL15-AI15) -> 0 | AN15: =IF(AM15="",0,AM15-AL15) -> 0 | AO15: =IF(AP15="",0,AP15-AM15) -> 0 | AR15: =IF(AQ15="",0,AQ15-AP15) -> 0 | AS15: =IF(AT15="",0,AT15-AQ15) -> 0 | AV15: =IF(AU15="",0,AU15-AT15) -> 0 | AY15: =IF(AX15="",0,AX15-AW15) -> 0 | BB15: =IF(BA15="",0,BA15-AZ15) -> 0 | BC15: =AY15+BB15 -> 0 | BD15: =IF(BH15>$BM$3,"Infraction","") | BE15: =IF(BH15>=$BN$3,IF(AW15="","Infraction",IF(AW15-J15<$BN$3,IF(AY15>=$BP$3,"",IF(AZ15="","Infraction",IF(AZ15-J15<$BN$3,IF(BC15>=$BP$3,"","Infraction"),"Infraction"))),"Infraction")),"") | BF15: =IF(BG15>=$BO$3,IF(AW15="","Infraction",IF(AW15-K15-BK15<=$BO$3,IF(AY15<$BP$5,"Infraction",IF(AY15>=$BP$4,"",IF(AZ15="","Infraction",IF(AZ15-K15-BL15<=$BO$3,IF(BB15<$BP$3,"Infraction",IF(BC15>=$BP$4,"","Infraction")),"Infraction")))),"Infraction")),"") | BG15: =M15+Q15+U15+Y15+AC15+AG15+AK15+AO15 -> 0 | BH15: =(AR15+AO15+AN15+AK15+AJ15+AG15+AF15+AC15+AB15+Y15+X15+U15+T15+Q15+P15+M15+L15) -> 0 | BI15: =P15+T15+X15+AB15+AF15+AJ15+AN15+AR15+L15 -> 0 | BK15: =IF(N15<AW15,IF(R15<AW15,IF(V15<AW15,IF(Z15<AW15,IF(AD15<AW15,IF(AH15<AW15,IF(AL15<AW15,IF(AP15<AW15,IF(AT15<AW15,P15+T15+X15+AB15+AF15+AJ15+AN15+AR15,P15+T15+X15+AB15+AF15+AJ15+AN15+AR15),P15+T15+X15+AB15+AF15+AJ15+AN15),P15+T15+X15+AB15+AF15+AJ15),P15+T15+X15+AB15+AF15),P15+T15+X15+AB15),P15+T15+X15),P15+T15),P15),"0") -> 0 | BL15: =IF(N15<AZ15,IF(R15<AZ15,IF(V15<AZ15,IF(Z15<AZ15,IF(AD15<AZ15,IF(AH15<AZ15,IF(AL15<AZ15,IF(AP15<AZ15,IF(AT15<AZ15,P15+T15+X15+AB15+AF15+AJ15+AN15+AR15,P15+T15+X15+AB15+AF15+AJ15+AN15+AR15),P15+T15+X15+AB15+AF15+AJ15+AN15),P15+T15+X15+AB15+AF15+AJ15),P15+T15+X15+AB15+AF15),P15+T15+X15+AB15),P15+T15+X15),P15+T15),P15),"0") -> 0
A16: =IF(D16="","",'Jour 1'!$D16) -> 43339 | B16: =IF(D16="","",'Jour 1'!$D16) -> 43339 | C16: =IF(D16="","",WEEKNUM(D16,2)) -> 35 | D16: =IF($D$3="","",$D$3) -> 43339 | I16: =H16-G16 -> 0 | L16: =IF(K16="",0,K16-J16) -> 0 | M16: =IF(N16="",0,N16-K16) -> 0 | P16: =IF(O16="",0,O16-N16) -> 0 | Q16: =IF(R16="",0,R16-O16) -> 0 | T16: =IF(S16="",0,S16-R16) -> 0 | U16: =IF(V16="",0,V16-S16) -> 0 | X16: =IF(W16="",0,W16-V16) -> 0 | Y16: =IF(Z16="",0,Z16-W16) -> 0 | AB16: =IF(AA16="",0,AA16-Z16) -> 0 | AC16: =IF(AD16="",0,AD16-AA16) -> 0 | AF16: =IF(AE16="",0,AE16-AD16) -> 0 | AG16: =IF(AH16="",0,AH16-AE16) -> 0 | AJ16: =IF(AI16="",0,AI16-AH16) -> 0 | AK16: =IF(AL16="",0,AL16-AI16) -> 0 | AN16: =IF(AM16="",0,AM16-AL16) -> 0 | AO16: =IF(AP16="",0,AP16-AM16) -> 0 | AR16: =IF(AQ16="",0,AQ16-AP16) -> 0 | AS16: =IF(AT16="",0,AT16-AQ16) -> 0 | AV16: =IF(AU16="",0,AU16-AT16) -> 0 | AY16: =IF(AX16="",0,AX16-AW16) -> 0 | BB16: =IF(BA16="",0,BA16-AZ16) -> 0 | BC16: =AY16+BB16 -> 0 | BD16: =IF(BH16>$BM$3,"Infraction","") | BE16: =IF(BH16>=$BN$3,IF(AW16="","Infraction",IF(AW16-J16<$BN$3,IF(AY16>=$BP$3,"",IF(AZ16="","Infraction",IF(AZ16-J16<$BN$3,IF(BC16>=$BP$3,"","Infraction"),"Infraction"))),"Infraction")),"") | BF16: =IF(BG16>=$BO$3,IF(AW16="","Infraction",IF(AW16-K16-BK16<=$BO$3,IF(AY16<$BP$5,"Infraction",IF(AY16>=$BP$4,"",IF(AZ16="","Infraction",IF(AZ16-K16-BL16<=$BO$3,IF(BB16<$BP$3,"Infraction",IF(BC16>=$BP$4,"","Infraction")),"Infraction")))),"Infraction")),"") | BG16: =M16+Q16+U16+Y16+AC16+AG16+AK16+AO16 -> 0 | BH16: =(AR16+AO16+AN16+AK16+AJ16+AG16+AF16+AC16+AB16+Y16+X16+U16+T16+Q16+P16+M16+L16) -> 0 | BI16: =P16+T16+X16+AB16+AF16+AJ16+AN16+AR16+L16 -> 0 | BK16: =IF(N16<AW16,IF(R16<AW16,IF(V16<AW16,IF(Z16<AW16,IF(AD16<AW16,IF(AH16<AW16,IF(AL16<AW16,IF(AP16<AW16,IF(AT16<AW16,P16+T16+X16+AB16+AF16+AJ16+AN16+AR16,P16+T16+X16+AB16+AF16+AJ16+AN16+AR16),P16+T16+X16+AB16+AF16+AJ16+AN16),P16+T16+X16+AB16+AF16+AJ16),P16+T16+X16+AB16+AF16),P16+T16+X16+AB16),P16+T16+X16),P16+T16),P16),"0") -> 0 | BL16: =IF(N16<AZ16,IF(R16<AZ16,IF(V16<AZ16,IF(Z16<AZ16,IF(AD16<AZ16,IF(AH16<AZ16,IF(AL16<AZ16,IF(AP16<AZ16,IF(AT16<AZ16,P16+T16+X16+AB16+AF16+AJ16+AN16+AR16,P16+T16+X16+AB16+AF16+AJ16+AN16+AR16),P16+T16+X16+AB16+AF16+AJ16+AN16),P16+T16+X16+AB16+AF16+AJ16),P16+T16+X16+AB16+AF16),P16+T16+X16+AB16),P16+T16+X16),P16+T16),P16),"0") -> 0
A17: =IF(D17="","",'Jour 1'!$D17) -> 43339 | B17: =IF(D17="","",'Jour 1'!$D17) -> 43339 | C17: =IF(D17="","",WEEKNUM(D17,2)) -> 35 | D17: =IF($D$3="","",$D$3) -> 43339 | I17: =H17-G17 -> 0 | L17: =IF(K17="",0,K17-J17) -> 0 | M17: =IF(N17="",0,N17-K17) -> 0 | P17: =IF(O17="",0,O17-N17) -> 0 | Q17: =IF(R17="",0,R17-O17) -> 0 | T17: =IF(S17="",0,S17-R17) -> 0 | U17: =IF(V17="",0,V17-S17) -> 0 | X17: =IF(W17="",0,W17-V17) -> 0 | Y17: =IF(Z17="",0,Z17-W17) -> 0 | AB17: =IF(AA17="",0,AA17-Z17) -> 0 | AC17: =IF(AD17="",0,AD17-AA17) -> 0 | AF17: =IF(AE17="",0,AE17-AD17) -> 0 | AG17: =IF(AH17="",0,AH17-AE17) -> 0 | AJ17: =IF(AI17="",0,AI17-AH17) -> 0 | AK17: =IF(AL17="",0,AL17-AI17) -> 0 | AN17: =IF(AM17="",0,AM17-AL17) -> 0 | AO17: =IF(AP17="",0,AP17-AM17) -> 0 | AR17: =IF(AQ17="",0,AQ17-AP17) -> 0 | AS17: =IF(AT17="",0,AT17-AQ17) -> 0 | AV17: =IF(AU17="",0,AU17-AT17) -> 0 | AY17: =IF(AX17="",0,AX17-AW17) -> 0 | BB17: =IF(BA17="",0,BA17-AZ17) -> 0 | BC17: =AY17+BB17 -> 0 | BD17: =IF(BH17>$BM$3,"Infraction","") | BE17: =IF(BH17>=$BN$3,IF(AW17="","Infraction",IF(AW17-J17<$BN$3,IF(AY17>=$BP$3,"",IF(AZ17="","Infraction",IF(AZ17-J17<$BN$3,IF(BC17>=$BP$3,"","Infraction"),"Infraction"))),"Infraction")),"") | BF17: =IF(BG17>=$BO$3,IF(AW17="","Infraction",IF(AW17-K17-BK17<=$BO$3,IF(AY17<$BP$5,"Infraction",IF(AY17>=$BP$4,"",IF(AZ17="","Infraction",IF(AZ17-K17-BL17<=$BO$3,IF(BB17<$BP$3,"Infraction",IF(BC17>=$BP$4,"","Infraction")),"Infraction")))),"Infraction")),"") | BG17: =M17+Q17+U17+Y17+AC17+AG17+AK17+AO17 -> 0 | BH17: =(AR17+AO17+AN17+AK17+AJ17+AG17+AF17+AC17+AB17+Y17+X17+U17+T17+Q17+P17+M17+L17) -> 0 | BI17: =P17+T17+X17+AB17+AF17+AJ17+AN17+AR17+L17 -> 0 | BK17: =IF(N17<AW17,IF(R17<AW17,IF(V17<AW17,IF(Z17<AW17,IF(AD17<AW17,IF(AH17<AW17,IF(AL17<AW17,IF(AP17<AW17,IF(AT17<AW17,P17+T17+X17+AB17+AF17+AJ17+AN17+AR17,P17+T17+X17+AB17+AF17+AJ17+AN17+AR17),P17+T17+X17+AB17+AF17+AJ17+AN17),P17+T17+X17+AB17+AF17+AJ17),P17+T17+X17+AB17+AF17),P17+T17+X17+AB17),P17+T17+X17),P17+T17),P17),"0") -> 0 | BL17: =IF(N17<AZ17,IF(R17<AZ17,IF(V17<AZ17,IF(Z17<AZ17,IF(AD17<AZ17,IF(AH17<AZ17,IF(AL17<AZ17,IF(AP17<AZ17,IF(AT17<AZ17,P17+T17+X17+AB17+AF17+AJ17+AN17+AR17,P17+T17+X17+AB17+AF17+AJ17+AN17+AR17),P17+T17+X17+AB17+AF17+AJ17+AN17),P17+T17+X17+AB17+AF17+AJ17),P17+T17+X17+AB17+AF17),P17+T17+X17+AB17),P17+T17+X17),P17+T17),P17),"0") -> 0
... A22: =IF(D22="","",'Jour 1'!$D22) -> 43339 | B22: =IF(D22="","",'Jour 1'!$D22) -> 43339 | C22: =IF(D22="","",WEEKNUM(D22,2)) -> 35 | D22: =IF($D$3="","",$D$3) -> 43339 | I22: =H22-G22 -> 0 | L22: =IF(K22="",0,K22-J22) -> 0 | M22: =IF(N22="",0,N22-K22) -> 0 | P22: =IF(O22="",0,O22-N22) -> 0 | Q22: =IF(R22="",0,R22-O22) -> 0 | T22: =IF(S22="",0,S22-R22) -> 0 | U22: =IF(V22="",0,V22-S22) -> 0 | X22: =IF(W22="",0,W22-V22) -> 0 | Y22: =IF(Z22="",0,Z22-W22) -> 0 | AB22: =IF(AA22="",0,AA22-Z22) -> 0 | AC22: =IF(AD22="",0,AD22-AA22) -> 0 | AF22: =IF(AE22="",0,AE22-AD22) -> 0 | AG22: =IF(AH22="",0,AH22-AE22) -> 0 | AJ22: =IF(AI22="",0,AI22-AH22) -> 0 | AK22: =IF(AL22="",0,AL22-AI22) -> 0 | AN22: =IF(AM22="",0,AM22-AL22) -> 0 | AO22: =IF(AP22="",0,AP22-AM22) -> 0 | AR22: =IF(AQ22="",0,AQ22-AP22) -> 0 | AS22: =IF(AT22="",0,AT22-AQ22) -> 0 | AV22: =IF(AU22="",0,AU22-AT22) -> 0 | AY22: =IF(AX22="",0,AX22-AW22) -> 0 | BB22: =IF(BA22="",0,BA22-AZ22) -> 0 | BC22: =AY22+BB22 -> 0 | BD22: =IF(BH22>$BM$3,"Infraction","") | BE22: =IF(BH22>=$BN$3,IF(AW22="","Infraction",IF(AW22-J22<$BN$3,IF(AY22>=$BP$3,"",IF(AZ22="","Infraction",IF(AZ22-J22<$BN$3,IF(BC22>=$BP$3,"","Infraction"),"Infraction"))),"Infraction")),"") | BF22: =IF(BG22>=$BO$3,IF(AW22="","Infraction",IF(AW22-K22-BK22<=$BO$3,IF(AY22<$BP$5,"Infraction",IF(AY22>=$BP$4,"",IF(AZ22="","Infraction",IF(AZ22-K22-BL22<=$BO$3,IF(BB22<$BP$3,"Infraction",IF(BC22>=$BP$4,"","Infraction")),"Infraction")))),"Infraction")),"") | BG22: =M22+Q22+U22+Y22+AC22+AG22+AK22+AO22 -> 0 | BH22: =(AR22+AO22+AN22+AK22+AJ22+AG22+AF22+AC22+AB22+Y22+X22+U22+T22+Q22+P22+M22+L22) -> 0 | BI22: =P22+T22+X22+AB22+AF22+AJ22+AN22+AR22+L22 -> 0 | BK22: =IF(N22<AW22,IF(R22<AW22,IF(V22<AW22,IF(Z22<AW22,IF(AD22<AW22,IF(AH22<AW22,IF(AL22<AW22,IF(AP22<AW22,IF(AT22<AW22,P22+T22+X22+AB22+AF22+AJ22+AN22+AR22,P22+T22+X22+AB22+AF22+AJ22+AN22+AR22),P22+T22+X22+AB22+AF22+AJ22+AN22),P22+T22+X22+AB22+AF22+AJ22),P22+T22+X22+AB22+AF22),P22+T22+X22+AB22),P22+T22+X22),P22+T22),P22),"0") -> 0 | BL22: =IF(N22<AZ22,IF(R22<AZ22,IF(V22<AZ22,IF(Z22<AZ22,IF(AD22<AZ22,IF(AH22<AZ22,IF(AL22<AZ22,IF(AP22<AZ22,IF(AT22<AZ22,P22+T22+X22+AB22+AF22+AJ22+AN22+AR22,P22+T22+X22+AB22+AF22+AJ22+AN22+AR22),P22+T22+X22+AB22+AF22+AJ22+AN22),P22+T22+X22+AB22+AF22+AJ22),P22+T22+X22+AB22+AF22),P22+T22+X22+AB22),P22+T22+X22),P22+T22),P22),"0") -> 0
A23: =IF(D23="","",'Jour 1'!$D23) -> 43339 | B23: =IF(D23="","",'Jour 1'!$D23) -> 43339 | C23: =IF(D23="","",WEEKNUM(D23,2)) -> 35 | D23: =IF($D$3="","",$D$3) -> 43339 | I23: =H23-G23 -> 0 | L23: =IF(K23="",0,K23-J23) -> 0 | M23: =IF(N23="",0,N23-K23) -> 0 | P23: =IF(O23="",0,O23-N23) -> 0 | Q23: =IF(R23="",0,R23-O23) -> 0 | T23: =IF(S23="",0,S23-R23) -> 0 | U23: =IF(V23="",0,V23-S23) -> 0 | X23: =IF(W23="",0,W23-V23) -> 0 | Y23: =IF(Z23="",0,Z23-W23) -> 0 | AB23: =IF(AA23="",0,AA23-Z23) -> 0 | AC23: =IF(AD23="",0,AD23-AA23) -> 0 | AF23: =IF(AE23="",0,AE23-AD23) -> 0 | AG23: =IF(AH23="",0,AH23-AE23) -> 0 | AJ23: =IF(AI23="",0,AI23-AH23) -> 0 | AK23: =IF(AL23="",0,AL23-AI23) -> 0 | AN23: =IF(AM23="",0,AM23-AL23) -> 0 | AO23: =IF(AP23="",0,AP23-AM23) -> 0 | AR23: =IF(AQ23="",0,AQ23-AP23) -> 0 | AS23: =IF(AT23="",0,AT23-AQ23) -> 0 | AV23: =IF(AU23="",0,AU23-AT23) -> 0 | AY23: =IF(AX23="",0,AX23-AW23) -> 0 | BB23: =IF(BA23="",0,BA23-AZ23) -> 0 | BC23: =AY23+BB23 -> 0 | BD23: =IF(BH23>$BM$3,"Infraction","") | BE23: =IF(BH23>=$BN$3,IF(AW23="","Infraction",IF(AW23-J23<$BN$3,IF(AY23>=$BP$3,"",IF(AZ23="","Infraction",IF(AZ23-J23<$BN$3,IF(BC23>=$BP$3,"","Infraction"),"Infraction"))),"Infraction")),"") | BF23: =IF(BG23>=$BO$3,IF(AW23="","Infraction",IF(AW23-K23-BM23<=$BO$3,IF(AY23<$BP$5,"Infraction",IF(AY23>=$BP$4,"",IF(AZ23="","Infraction",IF(AZ23-K23-BN23<=$BO$3,IF(BB23<$BP$3,"Infraction",IF(BC23>=$BP$4,"","Infraction")),"Infraction")))),"Infraction")),"") | BG23: =M23+Q23+U23+Y23+AC23+AG23+AK23+AO23 -> 0 | BH23: =(AR23+AO23+AN23+AK23+AJ23+AG23+AF23+AC23+AB23+Y23+X23+U23+T23+Q23+P23+M23+L23) -> 0 | BI23: =P23+T23+X23+AB23+AF23+AJ23+AN23+AR23+L23 -> 0 | BK23: =IF(N23<AW23,IF(R23<AW23,IF(V23<AW23,IF(Z23<AW23,IF(AD23<AW23,IF(AH23<AW23,IF(AL23<AW23,IF(AP23<AW23,IF(AT23<AW23,P23+T23+X23+AB23+AF23+AJ23+AN23+AR23,P23+T23+X23+AB23+AF23+AJ23+AN23+AR23),P23+T23+X23+AB23+AF23+AJ23+AN23),P23+T23+X23+AB23+AF23+AJ23),P23+T23+X23+AB23+AF23),P23+T23+X23+AB23),P23+T23+X23),P23+T23),P23),"0") -> 0 | BL23: =IF(N23<AZ23,IF(R23<AZ23,IF(V23<AZ23,IF(Z23<AZ23,IF(AD23<AZ23,IF(AH23<AZ23,IF(AL23<AZ23,IF(AP23<AZ23,IF(AT23<AZ23,P23+T23+X23+AB23+AF23+AJ23+AN23+AR23,P23+T23+X23+AB23+AF23+AJ23+AN23+AR23),P23+T23+X23+AB23+AF23+AJ23+AN23),P23+T23+X23+AB23+AF23+AJ23),P23+T23+X23+AB23+AF23),P23+T23+X23+AB23),P23+T23+X23),P23+T23),P23),"0") -> 0
