Workbook

Sheet base_com
E15: Base_com
A16: par lots de 40 contrats | E16: PAR LOTS DE 80 CONTRATS | I16: PAR LOTS DE 60 CONTRATS
A17: de | B17: à | C17: % | D17: prime | E17: de | F17: à | G17: % | H17: prime | I17: de | J17: à | K17: % | L17: prime
A18: 0 | B18: 1750 | C18: 0.05 | E18: 0 | F18: 3500 | G18: 0.05 | I18: 0 | J18: 2625 | K18: 0.05
A19: 1751 | B19: 2250 | C19: 0.07 | E19: 3501 | F19: 4500 | G19: 0.07 | I19: 2626 | J19: 3375 | K19: 0.07
A20: 2251 | B20: 2950 | C20: 0.08 | E20: 4501 | F20: 5900 | G20: 0.08 | I20: 3376 | J20: 4425 | K20: 0.08
A21: 2951 | B21: 3250 | C21: 0.1 | E21: 5901 | F21: 6500 | G21: 0.1 | I21: 4426 | J21: 4875 | K21: 0.1
A22: 3251 | B22: 4000 | C22: 0.12 | E22: 6501 | F22: 8000 | G22: 0.12 | I22: 4876 | J22: 6000 | K22: 0.12
A23: 4001 | B23: 4375 | C23: 0.13 | E23: 8001 | F23: 8750 | G23: 0.13 | I23: 6001 | J23: 6562 | K23: 0.13
A24: 4376 | C24: 0.13 | D24: 50 | E24: 8751 | G24: 0.13 | H24: 100 | I24: 6562 | K24: 0.13 | L24: 75

Sheet juillet
A1: Y | F1: JUILLET | H1: 2018
A2: A | B2: B | C2: C | D2: D | E2: E | F2: F | G2: G | H2: H | I2: I | J2: J | K2: K | L2: L | M2: M | N2: N | O2: O | P2: P | Q2: Q
A3: lot | B3: date | C3: contrat | D3: contact | F3: LOTS DE 40 CONTACTS | H3: LOTS DE 60 CONTACTS | J3: LOTS DE 80 CONTACTS | L3: COM DÉJÀ VERSEE | M3: SOLDE | N3: PRIME | Q3: TOTAL
D4: Nom | E4: prenom | F4: C.A | G4: COM | H4: C.A | I4: COM | J4: CA | K4: COM | N4: 40 contrats | O4: 60 contacts | P4: 80 contacts
A5: S20 2018 | B5: 43229 | C5: D61140F | D5: XXXXXXXXX | E5: XXXXXXXXX | F5: 1500 | H5: 0 | J5: 0
A6: S20 2018 | B6: 43262 | C6: D116653F | D6: XXXXXXXXX | E6: XXXXXXXXX | F6: 3540 | H6: 0 | J6: 0
A7: S20 2018 | B7: 43291 | C7: D45056E | D7: XXXXXXXXX | E7: XXXXXXXXX | F7: 2500 | H7: 0 | J7: 0
F8: 0 | H8: 0 | J8: 0
A9: JEAN S20 2018 | F9: =SUM(F5:F8) -> 7540 | G9: =IF(F9="","",F9*VLOOKUP(F9,base_com!$A$18:C$26,3,1)) -> 980.2 | H9: =SUM(H5:H8) -> 0 | I9: =IF(H9="","",H9*VLOOKUP(H9,base_com!$I$18:$K$26,3,1)) -> 0 | J9: =SUM(J5:J8) -> 0 | K9: =IF(J9="","",J9)*VLOOKUP(J9,base_com!$E$18:$G$26,3,1) -> 0 | M9: =G9+I9+K9-L9 -> 980.2 | N9: =IF(F9="","",VLOOKUP(F9,base_com!$A$18:$D$26,4,1)) -> 50 | O9: =IF(H9="","",VLOOKUP(H9,base_com!$I$18:$L$26,4,1)) -> 0 | P9: =IF(J9="","",VLOOKUP(J9,base_com!$E$18:$H$26,4,1)) -> 0 | Q9: =M9+N9+O9+P9 -> 1030.2
A10: S26 2018 | B10: 43269 | C10: D15009F | D10: XXXXXXXXX | E10: XXXXXXXXX | F10: 0 | H10: 1568 | J10: 0
A11: S26/2018 | B11: 43296 | C11: D125897E | D11: XXXXXXXXX | E11: XXXXXXXXX | F11: 0 | H11: 2000 | J11: 0
A12: JEAN S26 2018 | F12: =SUM(F10:F11) -> 0 | G12: =IF(F12="","",F12*VLOOKUP(F12,base_com!$A$18:$C$26,3,1)) -> 0 | H12: =SUM(H10:H11) -> 3568 | I12: =IF(H12="","",H12*VLOOKUP(H12,base_com!$I$18:$K$26,3,1)) -> 285.44 | J12: =SUM(J10:J11) -> 0 | K12: =IF(J12="","",J12)*VLOOKUP(J12,base_com!$E$18:$G$26,3,1) -> 0 | M12: =G12+I12+K12-L12 -> 285.44 | N12: =IF(F12="","",VLOOKUP(F12,base_com!$A$18:$D$26,4,1)) -> 0 | O12: =IF(H12="","",VLOOKUP(H12,base_com!$I$18:$L$26,4,1)) -> 0 | P12: =IF(J12="","",VLOOKUP(J12,base_com!$E$18:$H$26,4,1)) -> 0 | Q12: =M12+N12+O12+P12 -> 285.44
A13: S21 2018 | B13: 43198 | C13: D46455F | D13: XXXXXXXXX | E13: XXXXXXXXX | F13: 0 | H13: 0 | J13: 4372
A14: S21 2018 | B14: 43262 | C14: D44265F | D14: XXXXXXXXX | E14: XXXXXXXXX | F14: 0 | H14: 0 | J14: 4883
A15: S21/2018 | B15: 43296 | C15: D425857E | D15: XXXXXXXXX | E15: XXXXXXXXX | F15: 0 | H15: 0 | J15: 2500
A16: JEAN S21 2018 | F16: =SUM(F13:F15) -> 0 | G16: =IF(F16="","",F16*VLOOKUP(F16,base_com!$A$18:$C$26,3,1)) -> 0 | H16: =SUM(H13:H15) -> 0 | I16: =IF(H16="","",H16*VLOOKUP(H16,base_com!$I$18:$K$26,3,1)) -> 0 | J16: =SUM(J13:J15) -> 11755 | K16: =IF(J16="","",J16)*VLOOKUP(J16,base_com!$E$18:$G$26,3,1) -> 1528.15 | M16: =G16+I16+K16-L16 -> 1528.15 | N16: =IF(F16="","",VLOOKUP(F16,base_com!$A$18:$D$26,4,1)) -> 0 | O16: =IF(H16="","",VLOOKUP(H16,base_com!$I$18:$L$26,4,1)) -> 0 | P16: =IF(J16="","",VLOOKUP(J16,base_com!$E$18:$H$26,4,1)) -> 100 | Q16: =M16+N16+O16+P16 -> 1628.15
A17: S 09 2018 | B17: 43193 | C17: D55950F | D17: XXXXXXXXX | E17: XXXXXXXXX | F17: 0 | H17: 3570 | J17: 0
A18: S 09 2018 | B18: 43173 | C18: D12688F | D18: XXXXXXXXX | E18: XXXXXXXXX | F18: 0 | H18: 3450 | J18: 0
A19: S29 2018 | B19: 43205 | C19: D428564E | D19: XXXXXXXXX | E19: XXXXXXXXX | F19: 0 | H19: 2500 | J19: 0
F20: 0 | H20: 0 | J20: 0
A21: JEAN S09 2018 | F21: =SUM(F17:F20) -> 0 | G21: =IF(F21="","",F21*VLOOKUP(F21,base_com!$A$18:$C$26,3,1)) -> 0 | H21: =SUM(H17:H20) -> 9520 | I21: =IF(H21="","",H21*VLOOKUP(H21,base_com!$I$18:$K$26,3,1)) -> 1237.6 | J21: =SUM(J17:J20) -> 0 | K21: =IF(J21="","",J21)*VLOOKUP(J21,base_com!$E$18:$G$26,3,1) -> 0 | M21: =G21+I21+K21-L21 -> 1237.6 | N21: =IF(F21="","",VLOOKUP(F21,base_com!$A$18:$D$26,4,1)) -> 0 | O21: =IF(H21="","",VLOOKUP(H21,base_com!$I$18:$L$26,4,1)) -> 75 | P21: =IF(J21="","",VLOOKUP(J21,base_com!$E$18:$H$26,4,1)) -> 0 | Q21: =M21+N21+O21+P21 -> 1312.6
A33: A | B33: B | C33: C | D33: D | E33: E | F33: F | G33: G | H33: H | I33: I | J33: J | K33: K | L33: L | M33: M | N33: N | O33: O | P33: P | Q33: Q
A34: date | B34: contrat | C34: contact | G34: Nbre de contacts | H34: TAUX | I34: montant com | J34: déjà versé | K34: solde | L34: prime | M34: à régler
C35: nom | D35: prenom | E35: C.A | F35: N° de lot
A36: 43229 | B36: D61140F | C36: XXXXXXXXX | D36: XXXXXXXXX | E36: 1500 | F36: JEAN S20 2018
A37: 43262 | B37: D116653F | C37: XXXXXXXXX | D37: XXXXXXXXX | E37: 3540 | F37: JEAN S20 2018
A38: 43291 | B38: D45056E | C38: XXXXXXXXX | D38: XXXXXXXXX | E38: 2500 | F38: JEAN S20 2018
E39: 0
B40: total | E40: =SUM(E36:E39) -> 7540 | G40: 40 | H40: =VLOOKUP(E40,OFFSET(base_com!$A$18,0,(((G40-20)/20)-1)*4,7,4),3,TRUE) -> 0.13 | I40: =H40*E40 -> 980.2 | L40: =IF(E40="","",VLOOKUP(E40,base_com!$A$18:$D$26,4,1)) -> 50
A41: 43269 | B41: D15009F | C41: XXXXXXXXX | D41: XXXXXXXXX | E41: 1568 | F41: JEAN S26 2018
A42: 43296 | B42: D125897E | C42: XXXXXXXXX | D42: XXXXXXXXX | E42: 2000 | F42: JEAN S26 2018
B43: total | E43: =SUM(E41:E42) -> 3568 | G43: 60 | H43: =VLOOKUP(E43,OFFSET(base_com!$A$18,0,(((G43-20)/20)-1)*4,7,4),3,TRUE) -> 0.07 | I43: =H43*E43 -> 249.76 | L43: =IF(E43="","",VLOOKUP(E43,base_com!$I$18:$L$26,4,1)) -> 0
A44: 43198 | B44: D46455F | C44: XXXXXXXXX | D44: XXXXXXXXX | E44: 4372 | F44: JEAN S22 2018
A45: 43262 | B45: D44265F | C45: XXXXXXXXX | D45: XXXXXXXXX | E45: 4883 | F45: JEAN S22 2018
A46: 43296 | B46: D425857E | C46: XXXXXXXXX | D46: XXXXXXXXX | E46: 2500 | F46: JEAN S22 2018
B47: total | E47: =SUM(E44:E46) -> 11755 | G47: 80 | H47: =VLOOKUP(E47,OFFSET(base_com!$A$18,0,(((G47-20)/20)-1)*4,7,4),3,TRUE) -> 0.13 | I47: =H47*E47 -> 1528.15 | L47: =IF(E47="","",VLOOKUP(E47,base_com!$E$18:$H26,4,1)) -> 100
A48: 43193 | B48: D55950F | C48: XXXXXXXXX | D48: XXXXXXXXX | E48: 3570 | F48: JEAN S09 2018
A49: 43173 | B49: D12688F | C49: XXXXXXXXX | D49: XXXXXXXXX | E49: 3450 | F49: JEAN S09 2018
A50: 43205 | B50: D428564E | C50: XXXXXXXXX | D50: XXXXXXXXX | E50: 2500 | F50: JEAN S09 2018
E51: 0
B52: total | E52: =SUM(E48:E51) -> 9520 | G52: 60 | H52: =VLOOKUP(E52,OFFSET(base_com!$A$18,0,(((G52-20)/20)-1)*4,7,4),3,TRUE) -> 0.13 | I52: =H52*G52 -> 7.8 | L52: =IF(E52="","",VLOOKUP(E52,base_com!$I$18:$L$26,4,1)) -> 75
E53: =+E40+E43+E47+E52 -> 32383 | F53: TOTAL JEAN | I53: =+I40+I43+I47+I52 -> 2765.91 | J53: =+J40+J43+J47+J52 -> 0 | L53: =+L40+L43+L47+L52 -> 225
A70: date | B70: N° | C70: client | F70: Conseillers | G70: nombre | H70: taux | I70: montant | J70: com déjà versée | K70: solde | L70: prime
A71: 43284 | B71: D42382F | D71: XXXXXXXX | E71: 2920 | F71: JEAN S20 2018
A72: 43292 | B72: D42112F | C72: XXXXXXXX | D72: XXXXXXXX | E72: 3540 | F72: JEAN S20 2018
B73: Total | E73: =SUM(E71:E72) -> 6460 | G73: 40 | H73: =VLOOKUP(E73,OFFSET(base_com!$A$18,0,(((G73-20)/20)-1)*4,7,4),3,TRUE) -> 0.13 | I73: =E73*H73 -> 839.8 | J73: 500.5 | K73: =I73-J73 -> 339.3 | L73: =IF(E73="","",VLOOKUP(E73,base_com!$A$18:$D$26,4,1)) -> 50
A74: 43304 | B74: D48010F | C74: XXXXXXXX | D74: XXXXXXXX | E74: 1899 | F74: JEAN S22 2018
A75: 43262 | B75: D47417F | C75: XXXXXXXX | D75: XXXXXXXX | E75: 1448 | F75: JEAN S22 2018
B76: Total | E76: =SUM(E74:E75) -> 3347 | G76: 40 | H76: =VLOOKUP(E76,OFFSET(base_com!$A$18,0,(((G76-20)/20)-1)*4,7,4),3,TRUE) -> 0.12 | I76: =E76*H76 -> 401.64 | J76: 101.36 | K76: =I76-J76 -> 300.28 | L76: =IF(E76="","",VLOOKUP(E76,base_com!$A$18:$D$26,4,1)) -> 0
A78: 43287 | B78: D51436F | C78: XXXXXXXX | D78: XXXXXXXX | E78: 2118 | F78: JEAN S23 2018
A79: 43290 | B79: D50238F | C79: XXXXXXXX | D79: XXXXXXXX | E79: 1598 | F79: JEAN S23 2018
B80: Total | E80: =SUM(E78:E79) -> 3716 | G80: 60 | H80: =VLOOKUP(E80,OFFSET(base_com!$I$18,0,(((G80-20)/20)-1)*4,7,4),3,TRUE) -> #N/A | I80: =E80*H80 -> #N/A | J80: 0 | K80: =I80-J80 -> #N/A | L80: =IF(E80="","",VLOOKUP(E80,base_com!$A$18:$D$26,4,1)) -> 0
A82: 43299 | B82: D61140F | C82: XXXXXXXX | D82: XXXXXXXX | E82: 1568 | F82: JEAN S26 2018
B83: Total | E83: =SUM(E82:E82) -> 1568 | G83: 80 | H83: =VLOOKUP(E83,OFFSET(base_com!$E$18,0,(((G83-20)/20)-1)*4,7,4),3,TRUE) -> #N/A | I83: =E83*H83 -> #N/A | J83: 0 | K83: =I83-J83 -> #N/A | L83: =IF(E83="","",VLOOKUP(E83,base_com!$A$18:$D$26,4,1)) -> 0
A85: 24/07/20018 | C85: XXXXXXXX | E85: 2508
A86: 43305 | B86: D61445F | C86: XXXXXXXX | D86: XXXXXXXX | E86: 1298 | F86: JEAN S28 2018
B87: Total | E87: =SUM(E85:E86) -> 3806 | G87: 60 | I87: =E87*H87 -> 0 | J87: 0 | K87: =I87-J87 -> 0 | L87: =IF(E87="","",VLOOKUP(E87,base_com!$A$18:$D$26,4,1)) -> 0
E88: =E73+E76+E80+E83+E87 -> 18897 | F88: TOTAL JEAN | I88: =I73+I76+I80+I83+I87 -> #N/A | J88: =J73+J76+J80+J83+J87 -> 601.86 | K88: =K73+K76+K80+K83+K87 -> #N/A | L88: =L73+L76+L80+L83+L87 -> 50
A89: 43286 | B89: D15009F | C89: XXXXXXXX | D89: XXXXXXXX | E89: 2519 | F89: CAMILLE S10 2018
A90: 43213 | B90: D14965F | C90: XXXXXXXX | D90: XXXXXXXX | E90: 1512 | F90: CAMILLE S10 2018
B91: Total | E91: =SUM(E89:E90) -> 4031 | G91: 40 | H91: =VLOOKUP(E91,OFFSET(base_com!$A$18,0,(((G91-20)/20)-1)*4,7,4),3,TRUE) -> 0.13 | I91: =E91*H91 -> 524.03 | J91: 168.91 | K91: =I91-J91 -> 355.12 | L91: 188
A93: 43290 | B93: D46455F | C93: XXXXXXXX | D93: XXXXXXXX | E93: 901 | F93: CAMILLE S21 2018
A94: 43262 | B94: D44265F | C94: XXXXXXXX | D94: XXXXXXXX | E94: 1372 | F94: CAMILLE S21 2018
A95: 43270 | B95: D44287F | C95: XXXXXXXX | D95: XXXXXXXX | E95: 1883 | F95: CAMILLE S21 2018
B96: Total | E96: =SUM(E93:E95) -> 4156 | G96: 80 | I96: =E96*H96 -> 0 | J96: 227.85 | K96: =I96-J96 -> -227.85 | L96: 0
A98: 43307 | B98: D55950F | C98: XXXXXXXX | D98: XXXXXXXX | E98: 1573 | F98: CAMILLE S25 2018
B99: Total | E99: =SUM(E98) -> 1573 | G99: 40 | I99: =E99*H99 -> 0 | J99: 0 | K99: =I99-J99 -> 0 | L99: 0
A101: 43292 | B101: D60017F | C101: XXXXXXXX | D101: XXXXXXXX | E101: 571 | F101: CAMILLE S26 2018
A102: 43284 | B102: D60027F | C102: XXXXXXXX | D102: XXXXXXXX | E102: 506 | F102: CAMILLE S26 2018
B103: Total | E103: =SUM(E101:E102) -> 1077 | G103: 60 | I103: =E103*H103 -> 0 | J103: 0 | K103: =I103-J103 -> 0 | L103: 0
A105: 43300 | B105: D61350F | C105: XXXXXXXX | D105: XXXXXXXX | E105: 1215 | F105: CAMILLE S27 2018
A106: 43307 | B106: D61347F | C106: XXXXXXXX | D106: XXXXXXXX | E106: 2508 | F106: CAMILLE S27 2018
B107: Total | E107: =SUM(E105:E106) -> 3723 | G107: 40 | I107: =E107*H107 -> 0 | J107: 0 | K107: =I107-J107 -> 0 | L107: 125
A109: 43294 | B109: D64117F | C109: XXXXXXXX | D109: XXXXXXXX | E109: 2610 | F109: CAMILLE S28 2018
B110: Total | E110: =SUM(E108:E109) -> 2610 | G110: 60 | H110: 0.07 | I110: =E110*H110 -> 182.7 | J110: 0 | K110: =I110-J110 -> 182.7 | L110: 0
E111: =E91+E96+E99+E103+E107+E110 -> 17170 | F111: TOTAL CAMILLE | I111: =I91+I96+I99+I103+I107+I110 -> 706.73 | J111: =J91+J96+J99+J103+J107+J110 -> 396.76 | K111: =K91+K96+K99+K103+K107+K110 -> 309.97 | L111: =L91+L96+L99+L103+L107+L110 -> 313
A114: 43297 | B114: D15609F | C114: XXXXXXXX | D114: XXXXXXXX | E114: 4924 | F114: LOUISE S10 2018
A115: 43200 | B115: D15235F | C115: XXXXXXXX | D115: XXXXXXXX | E115: 0 | F115: LOUISE S10 2018
B116: Total | E116: =SUM(E114:E115) -> 4924 | G116: 60 | I116: =E116*H116 -> 0 | J116: 0 | K116: =I116-J116 -> 0 | L116: 75
A118: 43285 | B118: D30867F | C118: XXXXXXXX | D118: CYRIL | E118: 2735 | F118: LOUISE S15 2018
B119: Total | E119: =SUM(E118) -> 2735 | G119: 80 | I119: =E119*H119 -> 0 | J119: 0 | K119: =I119-J119 -> 0 | L119: 0
A121: 43290 | B121: D60143F | C121: XXXXXXXX | D121: EVELYNE | E121: 1596 | F121: LOUISE S26 2018
B122: Total | E122: =SUM(E121) -> 1596 | G122: 40 | I122: =E122*H122 -> 0 | J122: 0 | K122: =I122-J122 -> 0 | L122: 0
E123: =E116+E119+E122 -> 9255 | F123: TOTAL LOUISE | I123: =I116+I119+I122 -> 0 | J123: =J116+J119+J122 -> 0 | K123: =K116+K119+K122 -> 0 | L123: =L116+L119+L122 -> 75
A125: 43272 | B125: D49141F | C125: XXXXXXXX | D125: XXXXXXXX | E125: 1541 | F125: MARC S17 2018
A126: 43235 | B126: D35492F | C126: XXXXXXXX | D126: XXXXXXXX | E126: 3400 | F126: MARC S17 2018
B127: Total | E127: =SUM(E125:E126) -> 4941 | G127: 40 | I127: =E127*H127 -> 0 | J127: 1324.5 | K127: =I127-J127 -> -1324.5 | L127: 125
A129: 43209 | B129: D31601F | C129: XXXXXXXX | D129: XXXXXXXX | E129: 1414 | F129: MARC S15 2018
A130: 43227 | B130: D31617F | C130: XXXXXXXX | D130: XXXXXXXX | E130: 1372 | F130: MARC S15 2018
B131: Total | E131: =SUM(E129:E130) -> 2786 | G131: 80 | I131: =E131*H131 -> 0 | J131: 961.4 | K131: =I131-J131 -> -961.4 | L131: 0
A133: 43291 | B133: D42670F | C133: XXXXXXXX | D133: XXXXXXXX | E133: 2719 | F133: MARC S25 2018
A134: 43285 | B134: D56076F | C134: XXXXXXXX | D134: XXXXXXXX | E134: 1951 | F134: MARC S25 2018
B135: Total | E135: =SUM(E132:E134) -> 4670 | G135: 40 | I135: =E135*H135 -> 0 | J135: 0 | K135: =I135-J135 -> 0 | L135: 0
A137: 43312 | B137: D42648F | C137: XXXXXXXX | D137: XXXXXXXX | E137: 1131 | F137: MARC S20 2018
A138: 43279 | B138: D42666F | C138: XXXXXXXX | D138: XXXXXXXX | E138: 1131 | F138: MARC S20 2018
B139: Total | E139: =SUM(E137:E138) -> 2262 | G139: 60 | I139: =E139*H139 -> 0 | J139: 56.55 | K139: =I139-J139 -> -56.55 | L139: 188
A141: 43306 | B141: D47083F | C141: XXXXXXXX | D141: XXXXXXXX | E141: 2488 | F141: MARC S22 2018
A142: 43258 | B142: D47078F | C142: XXXXXXXX | D142: XXXXXXXX | E142: 1573 | F142: MARC S22 2018
A143: 43265 | B143: D47077F | C143: XXXXXXXX | D143: XXXXXXXX | E143: 1209 | F143: MARC S22 2018
A144: 43272 | B144: D49141F | C144: XXXXXXXX | D144: XXXXXXXX | E144: 1541 | F144: MARC S22 2018
...

Sheet Feuil1
