Workbook

Sheet base_com
E15: Base_com
A16: par lots de 40 contrats | E16: PAR LOTS DE 80 CONTRATS | I16: PAR LOTS DE 60 CONTRATS
A17: de | B17: à | C17: % | D17: prime | E17: de | F17: à | G17: % | H17: prime | I17: de | J17: à | K17: % | L17: prime
A18: 0 | B18: 1750 | C18: 0.05 | E18: 0 | F18: 3500 | G18: 0.05 | I18: 0 | J18: 2625 | K18: 0.05
A19: 1751 | B19: 2250 | C19: 0.07 | E19: 3501 | F19: 4500 | G19: 0.07 | I19: 2626 | J19: 3375 | K19: 0.07
A20: 2251 | B20: 2950 | C20: 0.08 | E20: 4501 | F20: 5900 | G20: 0.08 | I20: 3376 | J20: 4425 | K20: 0.08
A21: 2951 | B21: 3250 | C21: 0.1 | E21: 5901 | F21: 6500 | G21: 0.1 | I21: 4426 | J21: 4875 | K21: 0.1
A22: 3251 | B22: 4000 | C22: 0.12 | E22: 6501 | F22: 8000 | G22: 0.12 | I22: 4876 | J22: 6000 | K22: 0.12
A23: 4001 | B23: 4375 | C23: 0.13 | E23: 8001 | F23: 8750 | G23: 0.13 | I23: 6001 | J23: 6562 | K23: 0.13
A24: 4376 | C24: 0.13 | D24: 50 | E24: 8751 | G24: 0.13 | H24: 100 | I24: 6562 | K24: 0.13 | L24: 75

Sheet juillet
A1: Y | F1: JUILLET | H1: 2018
A2: A | B2: B | C2: C | D2: D | E2: E | F2: F | G2: G | H2: H | I2: I | J2: J | K2: K | L2: L | M2: M | N2: N | O2: O | P2: P | Q2: Q
A3: lot | B3: date | C3: contrat | D3: contact | F3: LOTS DE 40 CONTACTS | H3: LOTS DE 60 CONTACTS | J3: LOTS DE 80 CONTACTS | L3: COM DÉJÀ VERSEE | M3: SOLDE | N3: PRIME | Q3: TOTAL
D4: Nom | E4: prenom | F4: C.A | G4: COM | H4: C.A | I4: COM | J4: CA | K4: COM | N4: 40 contrats | O4: 60 contacts | P4: 80 contacts
A5: S20 2018 | B5: 43229 | C5: D61140F | D5: XXXXXXXXX | E5: XXXXXXXXX | F5: 1500 | H5: 0 | J5: 0
A6: S20 2018 | B6: 43262 | C6: D116653F | D6: XXXXXXXXX | E6: XXXXXXXXX | F6: 3540 | H6: 0 | J6: 0
A7: S20 2018 | B7: 43291 | C7: D45056E | D7: XXXXXXXXX | E7: XXXXXXXXX | F7: 2500 | H7: 0 | J7: 0
F8: 0 | H8: 0 | J8: 0
A9: JEAN S20 2018 | F9: =SUM(F5:F8) -> 7540 | G9: =IF(F9="","",F9*VLOOKUP(F9,base_com!$A$18:C$26,3,1)) -> 980.2 | H9: =SUM(H5:H8) -> 0 | I9: =IF(H9="","",H9*VLOOKUP(H9,base_com!$I$18:$K$26,3,1)) -> 0 | J9: =SUM(J5:J8) -> 0 | K9: =IF(J9="","",J9)*VLOOKUP(J9,base_com!$E$18:$G$26,3,1) -> 0 | M9: =G9+I9+K9-L9 -> 980.2 | N9: =IF(F9="","",VLOOKUP(F9,base_com!$A$18:$D$26,4,1)) -> 50 | O9: =IF(H9="","",VLOOKUP(H9,base_com!$I$18:$L$26,4,1)) -> 0 | P9: =IF(J9="","",VLOOKUP(J9,base_com!$E$18:$H$26,4,1)) -> 0 | Q9: =M9+N9+O9+P9 -> 1030.2
A10: S26 2018 | B10: 43269 | C10: D15009F | D10: XXXXXXXXX | E10: XXXXXXXXX | F10: 0 | H10: 1568 | J10: 0
A11: S26/2018 | B11: 43296 | C11: D125897E | D11: XXXXXXXXX | E11: XXXXXXXXX | F11: 0 | H11: 2000 | J11: 0
A12: JEAN S26 2018 | F12: =SUM(F10:F11) -> 0 | G12: =IF(F12="","",F12*VLOOKUP(F12,base_com!$A$18:$C$26,3,1)) -> 0 | H12: =SUM(H10:H11) -> 3568 | I12: =IF(H12="","",H12*VLOOKUP(H12,base_com!$I$18:$K$26,3,1)) -> 285.44 | J12: =SUM(J10:J11) -> 0 | K12: =IF(J12="","",J12)*VLOOKUP(J12,base_com!$E$18:$G$26,3,1) -> 0 | M12: =G12+I12+K12-L12 -> 285.44 | N12: =IF(F12="","",VLOOKUP(F12,base_com!$A$18:$D$26,4,1)) -> 0 | O12: =IF(H12="","",VLOOKUP(H12,base_com!$I$18:$L$26,4,1)) -> 0 | P12: =IF(J12="","",VLOOKUP(J12,base_com!$E$18:$H$26,4,1)) -> 0 | Q12: =M12+N12+O12+P12 -> 285.44
A13: S21 2018 | B13: 43198 | C13: D46455F | D13: XXXXXXXXX | E13: XXXXXXXXX | F13: 0 | H13: 0 | J13: 4372
A14: S21 2018 | B14: 43262 | C14: D44265F | D14: XXXXXXXXX | E14: XXXXXXXXX | F14: 0 | H14: 0 | J14: 4883
A15: S21/2018 | B15: 43296 | C15: D425857E | D15: XXXXXXXXX | E15: XXXXXXXXX | F15: 0 | H15: 0 | J15: 2500
A16: JEAN S21 2018 | F16: =SUM(F13:F15) -> 0 | G16: =IF(F16="","",F16*VLOOKUP(F16,base_com!$A$18:$C$26,3,1)) -> 0 | H16: =SUM(H13:H15) -> 0 | I16: =IF(H16="","",H16*VLOOKUP(H16,base_com!$I$18:$K$26,3,1)) -> 0 | J16: =SUM(J13:J15) -> 11755 | K16: =IF(J16="","",J16)*VLOOKUP(J16,base_com!$E$18:$G$26,3,1) -> 1528.15 | M16: =G16+I16+K16-L16 -> 1528.15 | N16: =IF(F16="","",VLOOKUP(F16,base_com!$A$18:$D$26,4,1)) -> 0 | O16: =IF(H16="","",VLOOKUP(H16,base_com!$I$18:$L$26,4,1)) -> 0 | P16: =IF(J16="","",VLOOKUP(J16,base_com!$E$18:$H$26,4,1)) -> 100 | Q16: =M16+N16+O16+P16 -> 1628.15
A17: S 09 2018 | B17: 43193 | C17: D55950F | D17: XXXXXXXXX | E17: XXXXXXXXX | F17: 0 | H17: 3570 | J17: 0
A18: S 09 2018 | B18: 43173 | C18: D12688F | D18: XXXXXXXXX | E18: XXXXXXXXX | F18: 0 | H18: 3450 | J18: 0
A19: S29 2018 | B19: 43205 | C19: D428564E | D19: XXXXXXXXX | E19: XXXXXXXXX | F19: 0 | H19: 2500 | J19: 0
F20: 0 | H20: 0 | J20: 0
A21: JEAN S09 2018 | F21: =SUM(F17:F20) -> 0 | G21: =IF(F21="","",F21*VLOOKUP(F21,base_com!$A$18:$C$26,3,1)) -> 0 | H21: =SUM(H17:H20) -> 9520 | I21: =IF(H21="","",H21*VLOOKUP(H21,base_com!$I$18:$K$26,3,1)) -> 1237.6 | J21: =SUM(J17:J20) -> 0 | K21: =IF(J21="","",J21)*VLOOKUP(J21,base_com!$E$18:$G$26,3,1) -> 0 | M21: =G21+I21+K21-L21 -> 1237.6 | N21: =IF(F21="","",VLOOKUP(F21,base_com!$A$18:$D$26,4,1)) -> 0 | O21: =IF(H21="","",VLOOKUP(H21,base_com!$I$18:$L$26,4,1)) -> 75 | P21: =IF(J21="","",VLOOKUP(J21,base_com!$E$18:$H$26,4,1)) -> 0 | Q21: =M21+N21+O21+P21 -> 1312.6
A33: A | B33: B | C33: C | D33: D | E33: E | F33: F | G33: G | H33: H | I33: I | J33: J | K33: K | L33: L | M33: M | N33: N | O33: O | P33: P | Q33: Q
A34: date | B34: contrat | C34: contact | G34: Nbre de contacts | H34: TAUX | I34: montant com | J34: déjà versé | K34: solde | L34: prime | M34: à régler
C35: nom | D35: prenom | E35: C.A | F35: N° de lot
A36: 43229 | B36: D61140F | C36: XXXXXXXXX | D36: XXXXXXXXX | E36: 1500 | F36: JEAN S20 2018
A37: 43262 | B37: D116653F | C37: XXXXXXXXX | D37: XXXXXXXXX | E37: 3540 | F37: JEAN S20 2018
A38: 43291 | B38: D45056E | C38: XXXXXXXXX | D38: XXXXXXXXX | E38: 2500 | F38: JEAN S20 2018
E39: 0
B40: total | E40: =SUM(E36:E39) -> 7540 | G40: 40 | H40: =VLOOKUP(E40,OFFSET(base_com!$A$18,0,(((G40-20)/20)-1)*4,7,4),3,TRUE) -> 0.13 | I40: =H40*E40 -> 980.2 | L40: =IF(E40="","",VLOOKUP(E40,base_com!$A$18:$D$26,4,1)) -> 50
A41: 43269 | B41: D15009F | C41: XXXXXXXXX | D41: XXXXXXXXX | E41: 1568 | F41: JEAN S26 2018
A42: 43296 | B42: D125897E | C42: XXXXXXXXX | D42: XXXXXXXXX | E42: 2000 | F42: JEAN S26 2018
B43: total | E43: =SUM(E41:E42) -> 3568 | G43: 60 | H43: =VLOOKUP(E43,OFFSET(base_com!$A$18,0,(((G43-20)/20)-1)*4,7,4),3,TRUE) -> 0.07 | I43: =H43*E43 -> 249.76 | L43: =IF(E43="","",VLOOKUP(E43,base_com!$I$18:$L$26,4,1)) -> 0
A44: 43198 | B44: D46455F | C44: XXXXXXXXX | D44: XXXXXXXXX | E44: 4372 | F44: JEAN S22 2018
A45: 43262 | B45: D44265F | C45: XXXXXXXXX | D45: XXXXXXXXX | E45: 4883 | F45: JEAN S22 2018
A46: 43296 | B46: D425857E | C46: XXXXXXXXX | D46: XXXXXXXXX | E46: 2500 | F46: JEAN S22 2018
B47: total | E47: =SUM(E44:E46) -> 11755 | G47: 80 | H47: =VLOOKUP(E47,OFFSET(base_com!$A$18,0,(((G47-20)/20)-1)*4,7,4),3,TRUE) -> 0.13 | I47: =H47*E47 -> 1528.15 | L47: =IF(E47="","",VLOOKUP(E47,base_com!$E$18:$H26,4,1)) -> 100
A48: 43193 | B48: D55950F | C48: XXXXXXXXX | D48: XXXXXXXXX | E48: 3570 | F48: JEAN S09 2018
A49: 43173 | B49: D12688F | C49: XXXXXXXXX | D49: XXXXXXXXX | E49: 3450 | F49: JEAN S09 2018
A50: 43205 | B50: D428564E | C50: XXXXXXXXX | D50: XXXXXXXXX | E50: 2500 | F50: JEAN S09 2018
E51: 0
...

Sheet Feuil1
