Workbook

Sheet base_com
C3: GRILLE DE CALCUL DE LA COM | F3: base_com
G4: COM GROUPE 1
B5: PAR LOTS DE 40 CONTRATS | E5: PAR LOTS DE 60 CONTRATS | I5: PAR LOTS DE 80 CONTRATS
A6: de | B6: à | C6: % | D6: prime | E6: de | F6: à | G6: % | H6: prime | I6: de | J6: à | K6: % | L6: prime
A7: 0 | B7: 1750 | C7: 0.05 | E7: 0 | F7: 2625 | G7: 0.05 | I7: 0 | J7: 3500 | K7: 0.05
A8: 1751 | B8: 2250 | C8: 0.07 | E8: 2626 | F8: 3375 | G8: 0.07 | I8: 3501 | J8: 4500 | K8: 0.07
A9: 2251 | B9: 2750 | C9: 0.08 | E9: 3376 | F9: 4125 | G9: 0.08 | I9: 4501 | J9: 5500 | K9: 0.08
A10: 2751 | B10: 2950 | C10: 0.08 | D10: 15 | E10: 4126 | F10: 4425 | G10: 0.08 | H10: 18 | I10: 5501 | J10: 5900 | K10: 0.08 | L10: 25
A11: 2951 | B11: 3250 | C11: 0.1 | D11: 25 | E11: 4426 | F11: 4875 | G11: 0.1 | H11: 38 | I11: 5901 | J11: 6500 | K11: 0.1 | L11: 50
A12: 3251 | B12: 3500 | C12: 0.12 | D12: 50 | E12: 4876 | F12: 5250 | G12: 0.12 | H12: 75 | I12: 6501 | J12: 7000 | K12: 0.12 | L12: 100
A13: 3501 | B13: 4000 | C13: 0.12 | D13: 75 | E13: 5251 | F13: 6000 | G13: 0.12 | H13: 112 | I13: 7001 | J13: 8000 | K13: 0.12 | L13: 150
A14: 4001 | B14: 4375 | C14: 0.13 | D14: 100 | E14: 6001 | F14: 6562 | G14: 0.13 | H14: 150 | I14: 8001 | J14: 8750 | K14: 0.13 | L14: 200
A15: 4376 | C15: 0.13 | D15: 125 | E15: 6563 | G15: 0.13 | H15: 187 | I15: 8751 | K15: 0.13 | L15: 250

Sheet COM GROUPE 1
A4: date | B4: n°contrat | C4: Clients | E4: C.A | F4: Conseillers | G4: nombre | H4: taux | I4: montant | J4: com déjà | K4: solde | L4: prime | M4: A REGLER
E5: C.A | F5: lots/conseillers | G5: contacts | H5: TAUX | I5: com | J5: déjà versée | K5: SOLDE | L5: PRIME | M5: A REGLER
A6: MOIS DE JANVIER
A7: 43125 | B7: XXXXXXXXX | C7: XXXXXXXXX | D7: XXXXXXXXX | E7: 2012 | F7: JEAN S03 2018 | H7: =IFERROR(CHOOSE(IF(G7=40,1,IF(G7=60,2,IF(G7=80,3,0))),VLOOKUP(E7,[1]base_com!$A$13:$D$21,3,1),VLOOKUP(E7,[1]base_com!$E$13:$H$21,3,1),VLOOKUP(E7,[1]base_com!$I$13:$L$21,3,0)),"") | L7: =IFERROR(CHOOSE(IF($G7=40,1,IF($G7=60,2,IF($G7=80,3,0))),VLOOKUP($E7,[1]base_com!$A$13:$D$21,4,1),VLOOKUP(E7,[1]base_com!$E$13:$H$21,4,1),VLOOKUP(E7,[1]base_com!$I$13:$L$21,4,1)),"")
B8: Total | E8: =SUM(E7) -> 2012 | G8: 40 | H8: =IF(G8="","",VLOOKUP(E8,OFFSET(base_com!$A$7,0,((G8-40)/20)*4,9,4),3,TRUE)) -> 0.07 | I8: =H8*E8 -> 140.84 | J8: 0 | K8: =I8-J8 -> 140.84 | L8: =IF(G8="","",VLOOKUP(E8,OFFSET(base_com!$A$7,0,((G8-40)/20)*4,9,4),4,TRUE)) -> 0 | M8: =SUM(K8:L8) -> 140.84
A9: 43129 | B9: D74118E | C9: XXXXXXXXX | D9: XXXXXXXXX | E9: 4150 | F9: JEAN S49 2017 | H9: =IF(G9="","",VLOOKUP(E9,OFFSET(base_com!$A$7,0,((G9-40)/20)*4,9,4),3,TRUE)) | K9: =I9-J9 -> 0 | L9: =IF(G9="","",VLOOKUP(E9,OFFSET(base_com!$A$7,0,((G9-40)/20)*4,9,4),4,TRUE)) | M9: =SUM(K9:L9) -> 0
B10: Total | E10: =SUM(E9) -> 4150 | G10: 60 | H10: =IF(G10="","",VLOOKUP(E10,OFFSET(base_com!$A$7,0,((G10-40)/20)*4,9,4),3,TRUE)) -> 0.08 | I10: =H10*E10 -> 332 | J10: =SUMPRODUCT((SUBSTITUTE($F$7:$F8,RIGHT($F$7:$F8,4),"")=SUBSTITUTE($F9,RIGHT($F9,4),""))*($M$8:$M9)) -> 0 | K10: =I10-J10 -> 332 | L10: =IF(G10="","",VLOOKUP(E10,OFFSET(base_com!$A$7,0,((G10-40)/20)*4,9,4),4,TRUE)) -> 18 | M10: =SUM(K10:L10) -> 350
A11: 43102 | B11: D76287E | C11: XXXXXXXXX | D11: XXXXXXXXX | E11: 1298 | F11: JEAN S 59 2017 | H11: =IF(G11="","",VLOOKUP(E11,OFFSET(base_com!$A$7,0,((G11-40)/20)*4,9,4),3,TRUE)) | K11: =I11-J11 -> 0 | L11: =IF(G11="","",VLOOKUP(E11,OFFSET(base_com!$A$7,0,((G11-40)/20)*4,9,4),4,TRUE)) | M11: =SUM(K11:L11) -> 0
B12: Total | E12: =SUM(E11) -> 1298 | G12: 80 | H12: =IF(G12="","",VLOOKUP(E12,OFFSET(base_com!$A$7,0,((G12-40)/20)*4,9,4),3,TRUE)) -> 0.05 | I12: =H14*E12 -> 103.84 | J12: =SUMPRODUCT((SUBSTITUTE($F$7:$F10,RIGHT($F$7:$F10,4),"")=SUBSTITUTE($F11,RIGHT($F11,4),""))*($M$8:$M11)) -> 0 | K12: =I12-J12 -> 103.84 | L12: =IF(G12="","",VLOOKUP(E12,OFFSET(base_com!$A$7,0,((G12-40)/20)*4,9,4),4,TRUE)) -> 0 | M12: =SUM(K12:L12) -> 103.84
A13: 43105 | B13: D93080E | C13: XXXXXXXXX | D13: XXXXXXXXX | E13: 2945 | F13: JEAN S04 2018 | H13: =IF(G13="","",VLOOKUP(E13,OFFSET(base_com!$A$7,0,((G13-40)/20)*4,9,4),3,TRUE)) | L13: =IF(G13="","",VLOOKUP(E13,OFFSET(base_com!$A$7,0,((G13-40)/20)*4,9,4),4,TRUE)) | M13: =SUM(K13:L13) -> 0
B14: Total | E14: =SUM(E13) -> 2945 | G14: 40 | H14: =IF(G14="","",VLOOKUP(E14,OFFSET(base_com!$A$7,0,((G14-40)/20)*4,9,4),3,TRUE)) -> 0.08 | I14: =E14*H14 -> 235.6 | J14: =SUMPRODUCT((SUBSTITUTE($F$7:$F12,RIGHT($F$7:$F12,4),"")=SUBSTITUTE($F13,RIGHT($F13,4),""))*($M$8:$M13)) -> 0 | K14: =I14-J14 -> 235.6 | L14: =IF(G14="","",VLOOKUP(E14,OFFSET(base_com!$A$7,0,((G14-40)/20)*4,9,4),4,TRUE)) -> 15 | M14: =SUM(K14:L14) -> 250.6
F15: TOTAL JEAN | H15: =IF(G15="","",VLOOKUP(E15,OFFSET(base_com!$A$7,0,((G15-40)/20)*4,9,4),3,TRUE)) | L15: =IF(G15="","",VLOOKUP(E15,OFFSET(base_com!$A$7,0,((G15-40)/20)*4,9,4),4,TRUE)) | M15: =SUM(K15:L15) -> 0
A16: 43126 | B16: D90779E | C16: XXXXXXXXX | D16: XXXXXXXXX | E16: 5510 | F16: ERIC S03 2018 | H16: =IF(G16="","",VLOOKUP(E16,OFFSET(base_com!$A$7,0,((G16-40)/20)*4,9,4),3,TRUE)) | K16: =I16-J16 -> 0 | L16: =IF(G16="","",VLOOKUP(E16,OFFSET(base_com!$A$7,0,((G16-40)/20)*4,9,4),4,TRUE)) | M16: =SUM(K16:L16) -> 0
B17: Total | E17: =SUM(E16) -> 5510 | G17: 80 | H17: =IF(G17="","",VLOOKUP(E17,OFFSET(base_com!$A$7,0,((G17-40)/20)*4,9,4),3,TRUE)) -> 0.08 | I17: =H17*E17 -> 440.8 | J17: =SUMPRODUCT((SUBSTITUTE($F$7:$F15,RIGHT($F$7:$F15,4),"")=SUBSTITUTE($F16,RIGHT($F16,4),""))*($M$8:$M16)) -> 0 | K17: =I17-J17 -> 440.8 | L17: =IF(G17="","",VLOOKUP(E17,OFFSET(base_com!$A$7,0,((G17-40)/20)*4,9,4),4,TRUE)) -> 25 | M17: =SUM(K17:L17) -> 465.8
A19: 43129 | B19: D62623E | C19: XXXXXXXXX | D19: XXXXXXXXX | E19: 1955 | F19: ERIC S45 2017 | H19: =IF(G19="","",VLOOKUP(E19,OFFSET(base_com!$A$7,0,((G19-40)/20)*4,9,4),3,TRUE)) | K19: =I19-J19 -> 0 | L19: =IF(G19="","",VLOOKUP(E19,OFFSET(base_com!$A$7,0,((G19-40)/20)*4,9,4),4,TRUE)) | M19: =SUM(K19:L19) -> 0
B20: Total | E20: =SUM(E19:E19) -> 1955 | G20: 60 | H20: =IF(G20="","",VLOOKUP(E20,OFFSET(base_com!$A$7,0,((G20-40)/20)*4,9,4),3,TRUE)) -> 0.05 | I20: =H20*E20 -> 97.75 | J20: =SUMPRODUCT((SUBSTITUTE($F$7:$F17,RIGHT($F$7:$F17,4),"")=SUBSTITUTE($F19,RIGHT($F19,4),""))*($M$8:$M19)) -> #N/A | K20: =I20-J20 -> #N/A | L20: =IF(G20="","",VLOOKUP(E20,OFFSET(base_com!$A$7,0,((G20-40)/20)*4,9,4),4,TRUE)) -> 0 | M20: =SUM(K20:L20) -> #N/A
E21: =E17+E20 -> 7465 | F21: TOTAL ERIC | H21: =IF(G21="","",VLOOKUP(E21,OFFSET(base_com!$A$7,0,((G21-40)/20)*4,9,4),3,TRUE)) | I21: =I17+I20 -> 538.55 | K21: =K17+K20 -> #N/A | L21: =IF(G21="","",VLOOKUP(E21,OFFSET(base_com!$A$7,0,((G21-40)/20)*4,9,4),4,TRUE)) | M21: =SUM(K21:L21) -> #N/A
A22: MOIS DE FEVRIER | H22: =IF(G22="","",VLOOKUP(E22,OFFSET(base_com!$A$7,0,((G22-40)/20)*4,9,4),3,TRUE)) | L22: =IF(G22="","",VLOOKUP(E22,OFFSET(base_com!$A$7,0,((G22-40)/20)*4,9,4),4,TRUE)) | M22: =SUM(K22:L22) -> 0
A23: 43146 | B23: D89667E | C23: XXXXXXXXX | D23: XXXXXXXXX | E23: 4648 | F23: JEAN S03 2018 | H23: =IF(G23="","",VLOOKUP(E23,OFFSET(base_com!$A$7,0,((G23-40)/20)*4,9,4),3,TRUE)) | K23: =I23-J23 -> 0 | L23: =IF(G23="","",VLOOKUP(E23,OFFSET(base_com!$A$7,0,((G23-40)/20)*4,9,4),4,TRUE)) | M23: =SUM(K23:L23) -> 0
A24: 43125 | B24: D89623E | C24: XXXXXXXXX | D24: XXXXXXXXX | E24: 2012 | F24: JEAN S03 2018 | H24: =IF(G24="","",VLOOKUP(E24,OFFSET(base_com!$A$7,0,((G24-40)/20)*4,9,4),3,TRUE)) | K24: =I24-J24 -> 0 | L24: =IF(G24="","",VLOOKUP(E24,OFFSET(base_com!$A$7,0,((G24-40)/20)*4,9,4),4,TRUE)) | M24: =SUM(K24:L24) -> 0
B25: Total | E25: =SUM(E23:E24) -> 6660 | G25: 60 | H25: =IF(G25="","",VLOOKUP(E25,OFFSET(base_com!$A$7,0,((G25-40)/20)*4,9,4),3,TRUE)) -> 0.13 | I25: =H25*E25 -> 865.8 | J25: =SUMPRODUCT((SUBSTITUTE($F$7:$F23,RIGHT($F$7:$F23,4),"")=SUBSTITUTE($F24,RIGHT($F24,4),""))*($M$8:$M24)) -> #N/A | K25: =I25-J25 -> #N/A | L25: =IF(G25="","",VLOOKUP(E25,OFFSET(base_com!$A$7,0,((G25-40)/20)*4,9,4),4,TRUE)) -> 187 | M25: =SUM(K25:L25) -> #N/A
A26: 43105 | B26: D93080E | C26: XXXXXXXXX | D26: XXXXXXXXX | E26: 2945 | F26: JEAN S04 2018 | H26: =IF(G26="","",VLOOKUP(E26,OFFSET(base_com!$A$7,0,((G26-40)/20)*4,9,4),3,TRUE)) | K26: =I26-J26 -> 0 | L26: =IF(G26="","",VLOOKUP(E26,OFFSET(base_com!$A$7,0,((G26-40)/20)*4,9,4),4,TRUE)) | M26: =SUM(K26:L26) -> 0
A27: 43146 | B27: D00613F | C27: XXXXXXXXX | D27: XXXXXXXXX | E27: 1515 | F27: JEAN S04 2018 | H27: =IF(G27="","",VLOOKUP(E27,OFFSET(base_com!$A$7,0,((G27-40)/20)*4,9,4),3,TRUE)) | K27: =I27-J27 -> 0 | L27: =IF(G27="","",VLOOKUP(E27,OFFSET(base_com!$A$7,0,((G27-40)/20)*4,9,4),4,TRUE)) | M27: =SUM(K27:L27) -> 0
B28: Total | E28: =SUM(E26:E27) -> 4460 | G28: 40 | H28: =IF(G28="","",VLOOKUP(E28,OFFSET(base_com!$A$7,0,((G28-40)/20)*4,9,4),3,TRUE)) -> 0.13 | I28: =H28*E28 -> 579.8 | J28: =SUMPRODUCT((SUBSTITUTE($F$7:$F26,RIGHT($F$7:$F26,4),"")=SUBSTITUTE($F27,RIGHT($F27,4),""))*($M$8:$M27)) -> #N/A | K28: =I28-J28 -> #N/A | L28: =IF(G28="","",VLOOKUP(E28,OFFSET(base_com!$A$7,0,((G28-40)/20)*4,9,4),4,TRUE)) -> 125 | M28: =SUM(K28:L28) -> #N/A
E29: =+E25+E28 -> 11120 | F29: TOTAL JEAN | H29: =IF(G29="","",VLOOKUP(E29,OFFSET(base_com!$A$7,0,((G29-40)/20)*4,9,4),3,TRUE)) | I29: =+I25+I28 -> 1445.6 | J29: =J25+J28 -> #N/A | K29: =+K25+K28 -> #N/A | L29: =IF(G29="","",VLOOKUP(E29,OFFSET(base_com!$A$7,0,((G29-40)/20)*4,9,4),4,TRUE)) | M29: =+M25+M28 -> #N/A
A30: 43126 | B30: D90779E | C30: XXXXXXXXX | D30: XXXXXXXXX | E30: 5510 | F30: ERIC S03 2018 | H30: =IF(G30="","",VLOOKUP(E30,OFFSET(base_com!$A$7,0,((G30-40)/20)*4,9,4),3,TRUE)) | K30: =I30-J30 -> 0 | L30: =IF(G30="","",VLOOKUP(E30,OFFSET(base_com!$A$7,0,((G30-40)/20)*4,9,4),4,TRUE)) | M30: =SUM(K30:L30) -> 0
A31: 43143 | B31: D89702E | C31: XXXXXXXXX | D31: XXXXXXXXX | E31: 1589 | F31: ERIC S03 2018 | H31: =IF(G31="","",VLOOKUP(E31,OFFSET(base_com!$A$7,0,((G31-40)/20)*4,9,4),3,TRUE)) | K31: =I31-J31 -> 0 | L31: =IF(G31="","",VLOOKUP(E31,OFFSET(base_com!$A$7,0,((G31-40)/20)*4,9,4),4,TRUE)) | M31: =SUM(K31:L31) -> 0
A32: 43153 | B32: D88488E | C32: XXXXXXXXX | D32: XXXXXXXXX | E32: 1448 | F32: ERIC S03 2018 | H32: =IF(G32="","",VLOOKUP(E32,OFFSET(base_com!$A$7,0,((G32-40)/20)*4,9,4),3,TRUE)) | K32: =I32-J32 -> 0 | L32: =IF(G32="","",VLOOKUP(E32,OFFSET(base_com!$A$7,0,((G32-40)/20)*4,9,4),4,TRUE)) | M32: =SUM(K32:L32) -> 0
B33: Total | E33: =SUM(E30:E32) -> 8547 | G33: 60 | H33: =IF(G33="","",VLOOKUP(E33,OFFSET(base_com!$A$7,0,((G33-40)/20)*4,9,4),3,TRUE)) -> 0.13 | I33: =H33*E33 -> 1111.11 | J33: =SUMPRODUCT((SUBSTITUTE($F$7:$F31,RIGHT($F$7:$F31,4),"")=SUBSTITUTE($F32,RIGHT($F32,4),""))*($M$8:$M32)) -> #N/A | K33: =I33-J33 -> #N/A | L33: =IF(G33="","",VLOOKUP(E33,OFFSET(base_com!$A$7,0,((G33-40)/20)*4,9,4),4,TRUE)) -> 187 | M33: =SUM(K33:L33) -> #N/A
A34: 43132 | B34: D95377E | C34: XXXXXXXXX | D34: XXXXXXXXX | E34: 1632 | F34: ERIC S02 2018 | H34: =IF(G34="","",VLOOKUP(E34,OFFSET(base_com!$A$7,0,((G34-40)/20)*4,9,4),3,TRUE)) | K34: =I34-J34 -> 0 | L34: =IF(G34="","",VLOOKUP(E34,OFFSET(base_com!$A$7,0,((G34-40)/20)*4,9,4),4,TRUE)) | M34: =SUM(K34:L34) -> 0
A35: 43132 | B35: D95377E | C35: XXXXXXXXX | D35: XXXXXXXXX | E35: 2612 | F35: ERIC S02 2018 | H35: =IF(G35="","",VLOOKUP(E35,OFFSET(base_com!$A$7,0,((G35-40)/20)*4,9,4),3,TRUE)) | K35: =I35-J35 -> 0 | L35: =IF(G35="","",VLOOKUP(E35,OFFSET(base_com!$A$7,0,((G35-40)/20)*4,9,4),4,TRUE)) | M35: =SUM(K35:L35) -> 0
B36: Total | E36: =SUM(E34:E35) -> 4244 | G36: 60 | H36: =IF(G36="","",VLOOKUP(E36,OFFSET(base_com!$A$7,0,((G36-40)/20)*4,9,4),3,TRUE)) -> 0.08 | I36: =H36*E36 -> 339.52 | J36: =SUMPRODUCT((SUBSTITUTE($F$7:$F34,RIGHT($F$7:$F34,4),"")=SUBSTITUTE($F35,RIGHT($F35,4),""))*($M$8:$M35)) -> #N/A | K36: =I36-J36 -> #N/A | L36: =IF(G36="","",VLOOKUP(E36,OFFSET(base_com!$A$7,0,((G36-40)/20)*4,9,4),4,TRUE)) -> 18 | M36: =SUM(K36:L36) -> #N/A
A37: 43156 | B37: D60384E | C37: XXXXXXXXX | D37: XXXXXXXXX | E37: 3574 | F37: ERIC S45 2018 | H37: =IF(G37="","",VLOOKUP(E37,OFFSET(base_com!$A$7,0,((G37-40)/20)*4,9,4),3,TRUE)) | K37: =I37-J37 -> 0 | L37: =IF(G37="","",VLOOKUP(E37,OFFSET(base_com!$A$7,0,((G37-40)/20)*4,9,4),4,TRUE)) | M37: =SUM(K37:L37) -> 0
A38: 43146 | B38: D62623E | C38: XXXXXXXXX | D38: XXXXXXXXX | E38: 1955 | F38: ERIC S45 2018 | H38: =IF(G38="","",VLOOKUP(E38,OFFSET(base_com!$A$7,0,((G38-40)/20)*4,9,4),3,TRUE)) | K38: =I38-J38 -> 0 | L38: =IF(G38="","",VLOOKUP(E38,OFFSET(base_com!$A$7,0,((G38-40)/20)*4,9,4),4,TRUE)) | M38: =SUM(K38:L38) -> 0
A39: 43147 | B39: D72074E | C39: XXXXXXXXX | D39: XXXXXXXXX | E39: 1876 | F39: ERIC S45 2018 | H39: =IF(G39="","",VLOOKUP(E39,OFFSET(base_com!$A$7,0,((G39-40)/20)*4,9,4),3,TRUE)) | K39: =I39-J39 -> 0 | L39: =IF(G39="","",VLOOKUP(E39,OFFSET(base_com!$A$7,0,((G39-40)/20)*4,9,4),4,TRUE)) | M39: =SUM(K39:L39) -> 0
B40: Total | E40: =SUM(E37:E39) -> 7405 | G40: 60 | H40: =IF(G40="","",VLOOKUP(E40,OFFSET(base_com!$A$7,0,((G40-40)/20)*4,9,4),3,TRUE)) -> 0.13 | I40: =H40*E40 -> 962.65 | J40: =SUMPRODUCT((SUBSTITUTE($F$7:$F38,RIGHT($F$7:$F38,4),"")=SUBSTITUTE($F39,RIGHT($F39,4),""))*($M$8:$M39)) -> #N/A | K40: =I40-J40 -> #N/A | L40: =IF(G40="","",VLOOKUP(E40,OFFSET(base_com!$A$7,0,((G40-40)/20)*4,9,4),4,TRUE)) -> 187 | M40: =SUM(K40:L40) -> #N/A
E41: =+E33+E36+E40 -> 20196 | F41: TOTAL ERIC | H41: =IF(G41="","",VLOOKUP(E41,OFFSET(base_com!$A$7,0,((G41-40)/20)*4,9,4),3,TRUE)) | I41: =+I33+I36+I40 -> 2413.28 | J41: =+J33+J36+J40 -> #N/A | K41: =+K33+K36+K40 -> #N/A | L41: =IF(G41="","",VLOOKUP(E41,OFFSET(base_com!$A$7,0,((G41-40)/20)*4,9,4),4,TRUE)) | M41: =+M33+M36+M40 -> #N/A
A42: MOIS DE MARS | H42: =IF(G42="","",VLOOKUP(E42,OFFSET(base_com!$A$7,0,((G42-40)/20)*4,9,4),3,TRUE)) | K42: =I42-J42 -> 0 | L42: =IF(G42="","",VLOOKUP(E42,OFFSET(base_com!$A$7,0,((G42-40)/20)*4,9,4),4,TRUE)) | M42: =SUM(K42:L42) -> 0
A43: 43105 | B43: D93080E | C43: XXXXXXXXX | D43: XXXXXXXXX | E43: 2945 | F43: JEAN S04 2018 | H43: =IF(G43="","",VLOOKUP(E43,OFFSET(base_com!$A$7,0,((G43-40)/20)*4,9,4),3,TRUE)) | K43: =I43-J43 -> 0 | L43: =IF(G43="","",VLOOKUP(E43,OFFSET(base_com!$A$7,0,((G43-40)/20)*4,9,4),4,TRUE)) | M43: =SUM(K43:L43) -> 0
A44: 43146 | B44: D00613F | C44: XXXXXXXXX | D44: XXXXXXXXX | E44: 1515 | F44: JEAN S04 2018 | H44: =IF(G44="","",VLOOKUP(E44,OFFSET(base_com!$A$7,0,((G44-40)/20)*4,9,4),3,TRUE)) | L44: =IF(G44="","",VLOOKUP(E44,OFFSET(base_com!$A$7,0,((G44-40)/20)*4,9,4),4,TRUE)) | M44: =SUM(K44:L44) -> 0
A45: 43174 | B45: D00613F | C45: XXXXXXXXX | D45: XXXXXXXXX | E45: 1500 | F45: JEAN S04 2018 | H45: =IF(G45="","",VLOOKUP(E45,OFFSET(base_com!$A$7,0,((G45-40)/20)*4,9,4),3,TRUE)) | L45: =IF(G45="","",VLOOKUP(E45,OFFSET(base_com!$A$7,0,((G45-40)/20)*4,9,4),4,TRUE)) | M45: =SUM(K45:L45) -> 0
B46: Total | E46: =SUM(E43:E45) -> 5960 | G46: 40 | H46: =IF(G46="","",VLOOKUP(E46,OFFSET(base_com!$A$7,0,((G46-40)/20)*4,9,4),3,TRUE)) -> 0.13 | I46: =E46*H46 -> 774.8 | J46: =SUMPRODUCT((SUBSTITUTE($F$7:$F44,RIGHT($F$7:$F44,4),"")=SUBSTITUTE($F45,RIGHT($F45,4),""))*($M$8:$M45)) -> #N/A | K46: =I46-J46 -> #N/A | L46: =IF(G46="","",VLOOKUP(E46,OFFSET(base_com!$A$7,0,((G46-40)/20)*4,9,4),4,TRUE)) -> 125 | M46: =SUM(K46:L46) -> #N/A
A47: 43129 | B47: D74118E | C47: XXXXXXXXX | D47: XXXXXXXXX | E47: 4150 | F47: JEAN S49 2017 | H47: =IF(G47="","",VLOOKUP(E47,OFFSET(base_com!$A$7,0,((G47-40)/20)*4,9,4),3,TRUE)) | L47: =IF(G47="","",VLOOKUP(E47,OFFSET(base_com!$A$7,0,((G47-40)/20)*4,9,4),4,TRUE)) | M47: =SUM(K47:L47) -> 0
A48: 43174 | B48: D74116E | C48: XXXXXXXXX | D48: XXXXXXXXX | E48: 1200 | F48: JEAN S49 2017 | H48: =IF(G48="","",VLOOKUP(E48,OFFSET(base_com!$A$7,0,((G48-40)/20)*4,9,4),3,TRUE)) | L48: =IF(G48="","",VLOOKUP(E48,OFFSET(base_com!$A$7,0,((G48-40)/20)*4,9,4),4,TRUE)) | M48: =SUM(K48:L48) -> 0
B49: Total | E49: =SUM(E47:E48) -> 5350 | G49: 60 | H49: =IF(G49="","",VLOOKUP(E49,OFFSET(base_com!$A$7,0,((G49-40)/20)*4,9,4),3,TRUE)) -> 0.12 | I49: =E49*H49 -> 642 | J49: =SUMPRODUCT((SUBSTITUTE($F$7:$F47,RIGHT($F$7:$F47,4),"")=SUBSTITUTE($F48,RIGHT($F48,4),""))*($M$8:$M48)) -> #N/A | L49: =IF(G49="","",VLOOKUP(E49,OFFSET(base_com!$A$7,0,((G49-40)/20)*4,9,4),4,TRUE)) -> 112 | M49: =SUM(K49:L49) -> 112
A50: 43102 | B50: D76287E | C50: XXXXXXXXX | D50: XXXXXXXXX | E50: 1298 | F50: JEAN S59 2017 | H50: =IF(G50="","",VLOOKUP(E50,OFFSET(base_com!$A$7,0,((G50-40)/20)*4,9,4),3,TRUE)) | K50: =I50-J50 -> 0 | L50: =IF(G50="","",VLOOKUP(E50,OFFSET(base_com!$A$7,0,((G50-40)/20)*4,9,4),4,TRUE)) | M50: =SUM(K50:L50) -> 0
A51: 43161 | B51: D756897E | C51: XXXXXXXXX | D51: XXXXXXXXX | E51: 1200 | F51: JEAN S59 2017 | H51: =IF(G51="","",VLOOKUP(E51,OFFSET(base_com!$A$7,0,((G51-40)/20)*4,9,4),3,TRUE)) | L51: =IF(G51="","",VLOOKUP(E51,OFFSET(base_com!$A$7,0,((G51-40)/20)*4,9,4),4,TRUE)) | M51: =SUM(K51:L51) -> 0
B52: Total | E52: =SUM(E50:E51) -> 2498 | G52: 40 | H52: =IF(G52="","",VLOOKUP(E52,OFFSET(base_com!$A$7,0,((G52-40)/20)*4,9,4),3,TRUE)) -> 0.08 | I52: =E52*H52 -> 199.84 | J52: =SUMPRODUCT((SUBSTITUTE($F$7:$F50,RIGHT($F$7:$F50,4),"")=SUBSTITUTE($F51,RIGHT($F51,4),""))*($M$8:$M51)) -> #N/A | L52: =IF(G52="","",VLOOKUP(E52,OFFSET(base_com!$A$7,0,((G52-40)/20)*4,9,4),4,TRUE)) -> 0 | M52: =SUM(K52:L52) -> 0
L53: =IF(G53="","",VLOOKUP(E53,OFFSET(base_com!$A$7,0,((G53-40)/20)*4,9,4),4,TRUE))
A54: MOISI D'AVRIL | B54: D5897597E
A55: 43105 | B55: D93080E | C55: XXXXXXXXX | D55: XXXXXXXXX | E55: 2945 | F55: JEAN S04 2018
A56: 43146 | B56: D00613F | C56: XXXXXXXXX | D56: XXXXXXXXX | E56: 1515 | F56: JEAN S04 2018
A57: 43174 | B57: D00613F | C57: XXXXXXXXX | D57: XXXXXXXXX | E57: 1500 | F57: JEAN S04 2018
A58: 43192 | B58: D14597E | C58: XXXXXXXXX | D58: XXXXXXXXX | E58: 1000 | F58: JEAN S04 2018
B59: Total | E59: =SUM(E55:E58) -> 6960 | G59: 40 | H59: =IF(G59="","",VLOOKUP(E59,OFFSET(base_com!$A$7,0,((G59-40)/20)*4,9,4),3,TRUE)) -> 0.13 | I59: =E59*H59 -> 904.8 | J59: =SUMPRODUCT((SUBSTITUTE($F$7:$F57,RIGHT($F$7:$F57,4),"")=SUBSTITUTE($F58,RIGHT($F58,4),""))*($M$8:$M58)) -> #N/A | K59: =I59-J59 -> #N/A | L59: =IF(G59="","",VLOOKUP(E59,OFFSET(base_com!$A$7,0,((G59-40)/20)*4,9,4),4,TRUE)) -> 125 | M59: =SUM(K59:L59) -> #N/A
