Workbook

Sheet PILOTAGE
A4: PILOTAGE | L4: PILOTAGE
A6: Agences | L6: Conseillers
A7: Siège | B7: Objectifs | C7: 108 | D7: vtes | L7: BONGUANDE | M7: Total ventes | N7: ='RESULTATS '!E10 -> 0 | P7: KIMBALOU | Q7: Total ventes | R7: ='RESULTATS '!E12 -> 0 | T7: BOKOYO | U7: Total ventes | V7: ='RESULTATS '!E14 -> 0
B8: Réalisés S1 & 2 | C8: ='SUIVI DU CHALLENGE'!E12+'SUIVI DU CHALLENGE'!E14+'SUIVI DU CHALLENGE'!E16+'SUIVI DU CHALLENGE'!G12+'SUIVI DU CHALLENGE'!G14+'SUIVI DU CHALLENGE'!G16 -> 0 | D8: vtes | M8: Gain de points | N8: ='RESULTATS '!G10 -> 0 | Q8: Gain de points | R8: ='RESULTATS '!G12 -> 0 | U8: Gain de points | V8: ='RESULTATS '!G14 -> 0
B9: Réalisés S3 & 4 | C9: ='SUIVI DU CHALLENGE'!I12+'SUIVI DU CHALLENGE'!I14+'SUIVI DU CHALLENGE'!I16+'SUIVI DU CHALLENGE'!K12+'SUIVI DU CHALLENGE'!K14+'SUIVI DU CHALLENGE'!K16 -> 0 | D9: vtes | M9: Valeurs cumulées | N9: ='RESULTATS '!F10 -> 0 | Q9: Valeurs cumulées | R9: ='RESULTATS '!F12 -> 0 | U9: Valeurs cumulées | V9: ='RESULTATS '!F14 -> 0
B10: Réalisés S5 & 6 | C10: ='SUIVI DU CHALLENGE'!M12+'SUIVI DU CHALLENGE'!M14+'SUIVI DU CHALLENGE'!M16+'SUIVI DU CHALLENGE'!O12+'SUIVI DU CHALLENGE'!O14+'SUIVI DU CHALLENGE'!O16 -> 0 | D10: vtes | M10: Montant bon d'achats | N10: ='RESULTATS '!H10 -> FALSE | Q10: Montant bon d'achats | R10: ='RESULTATS '!H12 -> FALSE | U10: Montant bon d'achats | V10: ='RESULTATS '!H14 -> FALSE
B11: Réalisés S7 & 8 | C11: ='SUIVI DU CHALLENGE'!Q12+'SUIVI DU CHALLENGE'!Q14+'SUIVI DU CHALLENGE'!Q16+'SUIVI DU CHALLENGE'!S12+'SUIVI DU CHALLENGE'!S14+'SUIVI DU CHALLENGE'!S16 -> 0 | D11: vtes
B12: Réalisés S9 | C12: ='SUIVI DU CHALLENGE'!U12+'SUIVI DU CHALLENGE'!U14+'SUIVI DU CHALLENGE'!U16 -> 0 | D12: vtes | M12: Rang agence | Q12: Rang agence | U12: Rang agence | V12: =
B13: Ecarts | C13: =(C12+C11+C10+C9+C8)-C7 -> -108 | D13: vtes | M13: Rang global | N13: ='RESULTATS '!I10 -> FALSE | Q13: Rang global | R13: ='RESULTATS '!I12 -> FALSE | U13: Rang global | V13: ='RESULTATS '!I14 -> FALSE
A15: Poto-poto | B15: Objectifs | C15: 72 | D15: vtes | L15: GONDZIA | M15: Total ventes | N15: ='RESULTATS '!E18 -> 0 | P15: ALIHONOU | Q15: Total ventes | R15: ='RESULTATS '!E16 -> 0
B16: Réalisés S1 & 2 | C16: ='SUIVI DU CHALLENGE'!E18+'SUIVI DU CHALLENGE'!E20+'SUIVI DU CHALLENGE'!G18+'SUIVI DU CHALLENGE'!G20 -> 0 | D16: vtes | M16: Gain de points | N16: ='RESULTATS '!G18 -> 0 | Q16: Gain de points | R16: ='RESULTATS '!G16 -> 0
B17: Réalisés S3 & 4 | C17: ='SUIVI DU CHALLENGE'!I18+'SUIVI DU CHALLENGE'!I20+'SUIVI DU CHALLENGE'!K18+'SUIVI DU CHALLENGE'!K20 -> 0 | D17: vtes | M17: Valeurs cumulées | N17: ='RESULTATS '!F18 -> 0 | Q17: Valeurs cumulées | R17: ='RESULTATS '!F16 -> 0
B18: Réalisés S5 & 6 | C18: ='SUIVI DU CHALLENGE'!M18+'SUIVI DU CHALLENGE'!M20+'SUIVI DU CHALLENGE'!O18+'SUIVI DU CHALLENGE'!O20 -> 0 | D18: vtes | M18: Montant bon d'achats | N18: ='RESULTATS '!H18 -> FALSE | Q18: Montant bon d'achats | R18: ='RESULTATS '!H16 -> FALSE
B19: Réalisés S7 & 8 | C19: ='SUIVI DU CHALLENGE'!Q18+'SUIVI DU CHALLENGE'!Q20+'SUIVI DU CHALLENGE'!S18+'SUIVI DU CHALLENGE'!S20 -> 0 | D19: vtes
B20: Réalisés S9 | C20: ='SUIVI DU CHALLENGE'!U18+'SUIVI DU CHALLENGE'!U20 -> 0 | D20: vtes | M20: Rang agence | Q20: Rang agence
B21: Ecarts | C21: =(C20+C19+C18+C17+C16)-C15 -> -72 | D21: vtes | M21: Rang global | N21: ='RESULTATS '!I18 -> FALSE | Q21: Rang global | R21: ='RESULTATS '!I16 -> FALSE
A23: Tour Miroir | B23: Objectifs | C23: 144 | D23: vtes | L23: OSSEY | M23: Total ventes | N23: ='RESULTATS '!E22 -> 0 | P23: NTANDOU | Q23: Total ventes | R23: ='RESULTATS '!E20 -> 0 | T23: NGONDO | U23: Total ventes | V23: ='RESULTATS '!E26 -> 0 | X23: BATSINDILA | Y23: Total ventes | Z23: ='RESULTATS '!E24 -> 0
B24: Réalisés S1 & 2 | C24: ='SUIVI DU CHALLENGE'!E22+'SUIVI DU CHALLENGE'!E24+'SUIVI DU CHALLENGE'!E26+'SUIVI DU CHALLENGE'!E28+'SUIVI DU CHALLENGE'!G22+'SUIVI DU CHALLENGE'!G24+'SUIVI DU CHALLENGE'!G26+'SUIVI DU CHALLENGE'!G28 -> 0 | D24: vtes | M24: Gain de points | N24: ='RESULTATS '!G22 -> 0 | Q24: Gain de points | R24: ='RESULTATS '!G20 -> 0 | U24: Gain de points | V24: ='RESULTATS '!G26 -> 0 | Y24: Gain de points | Z24: ='RESULTATS '!G24 -> 0
B25: Réalisés S3 & 4 | C25: ='SUIVI DU CHALLENGE'!I22+'SUIVI DU CHALLENGE'!I24+'SUIVI DU CHALLENGE'!I26+'SUIVI DU CHALLENGE'!I28+'SUIVI DU CHALLENGE'!K22+'SUIVI DU CHALLENGE'!K24+'SUIVI DU CHALLENGE'!K26+'SUIVI DU CHALLENGE'!K28 -> 0 | D25: vtes | M25: Valeurs cumulées | N25: ='RESULTATS '!F22 -> 0 | Q25: Valeurs cumulées | R25: ='RESULTATS '!F20 -> 0 | U25: Valeurs cumulées | V25: ='RESULTATS '!F26 -> 0 | Y25: Valeurs cumulées | Z25: ='RESULTATS '!F24 -> 0
B26: Réalisés S5 & 6 | C26: ='SUIVI DU CHALLENGE'!M22+'SUIVI DU CHALLENGE'!M24+'SUIVI DU CHALLENGE'!M26+'SUIVI DU CHALLENGE'!M28+'SUIVI DU CHALLENGE'!O22+'SUIVI DU CHALLENGE'!O24+'SUIVI DU CHALLENGE'!O26+'SUIVI DU CHALLENGE'!O28 -> 0 | D26: vtes | M26: Montant bon d'achats | N26: ='RESULTATS '!H22 -> FALSE | Q26: Montant bon d'achats | R26: ='RESULTATS '!H20 -> FALSE | U26: Montant bon d'achats | V26: ='RESULTATS '!H26 -> FALSE | Y26: Montant bon d'achats | Z26: ='RESULTATS '!H24 -> FALSE
B27: Réalisés S7 & 8 | C27: ='SUIVI DU CHALLENGE'!Q22+'SUIVI DU CHALLENGE'!Q24+'SUIVI DU CHALLENGE'!Q26+'SUIVI DU CHALLENGE'!Q28+'SUIVI DU CHALLENGE'!S22+'SUIVI DU CHALLENGE'!S24+'SUIVI DU CHALLENGE'!S26+'SUIVI DU CHALLENGE'!S28 -> 0 | D27: vtes
B28: Réalisés S9 | C28: ='SUIVI DU CHALLENGE'!U22+'SUIVI DU CHALLENGE'!U24+'SUIVI DU CHALLENGE'!U26+'SUIVI DU CHALLENGE'!U28 -> 0 | D28: vtes | M28: Rang agence | Q28: Rang agence | U28: Rang agence | Y28: Rang agence
B29: Ecarts | C29: =(C28+C27+C26+C25+C24)-C23 -> -144 | D29: vtes | M29: Rang global | N29: ='RESULTATS '!I22 -> FALSE | Q29: Rang global | R29: ='RESULTATS '!I20 -> FALSE | U29: Rang global | V29: ='RESULTATS '!I26 -> FALSE | Y29: Rang global | Z29: ='RESULTATS '!I24 -> FALSE
A31: Atlantic | B31: Objectifs | C31: 108 | D31: vtes | L31: NDJOULANI | M31: Total ventes | N31: =+'RESULTATS '!E28 -> 0 | P31: MICKAMOU | Q31: Total ventes | R31: =+'RESULTATS '!E32 -> 0 | T31: NGANGA | U31: Total ventes | V31: =+'RESULTATS '!E30 -> 0
B32: Réalisés S1 & 2 | C32: ='SUIVI DU CHALLENGE'!E30+'SUIVI DU CHALLENGE'!E32+'SUIVI DU CHALLENGE'!E34+'SUIVI DU CHALLENGE'!G30+'SUIVI DU CHALLENGE'!G32+'SUIVI DU CHALLENGE'!G34 -> 0 | D32: vtes | M32: Gain de points | N32: =+'RESULTATS '!G28 -> 0 | Q32: Gain de points | R32: =+'RESULTATS '!G32 -> 0 | U32: Gain de points | V32: =+'RESULTATS '!G30 -> 0
B33: Réalisés S3 & 4 | C33: ='SUIVI DU CHALLENGE'!I30+'SUIVI DU CHALLENGE'!I32+'SUIVI DU CHALLENGE'!I34+'SUIVI DU CHALLENGE'!K30+'SUIVI DU CHALLENGE'!K32+'SUIVI DU CHALLENGE'!K34 -> 0 | D33: vtes | M33: Valeurs cumulées | N33: =+'RESULTATS '!F28 -> 0 | Q33: Valeurs cumulées | R33: =+'RESULTATS '!F32 -> 0 | U33: Valeurs cumulées | V33: =+'RESULTATS '!F30 -> 0
B34: Réalisés S5 & 6 | C34: ='SUIVI DU CHALLENGE'!M30+'SUIVI DU CHALLENGE'!M32+'SUIVI DU CHALLENGE'!M34+'SUIVI DU CHALLENGE'!O30+'SUIVI DU CHALLENGE'!O32+'SUIVI DU CHALLENGE'!O34 -> 0 | D34: vtes | M34: Montant bon d'achats | N34: =+'RESULTATS '!H28 -> FALSE | Q34: Montant bon d'achats | R34: =+'RESULTATS '!H32 -> FALSE | U34: Montant bon d'achats | V34: =+'RESULTATS '!H30 -> FALSE
B35: Réalisés S7 & 8 | C35: ='SUIVI DU CHALLENGE'!Q30+'SUIVI DU CHALLENGE'!Q32+'SUIVI DU CHALLENGE'!Q34+'SUIVI DU CHALLENGE'!S30+'SUIVI DU CHALLENGE'!S32+'SUIVI DU CHALLENGE'!S34 -> 0 | D35: vtes
B36: Réalisés S9 | C36: ='SUIVI DU CHALLENGE'!U30+'SUIVI DU CHALLENGE'!U32+'SUIVI DU CHALLENGE'!U34 -> 0 | D36: vtes | M36: Rang agence | Q36: Rang agence | U36: Rang agence
B37: Ecarts | C37: =(C36+C35+C34+C33+C32)-C31 -> -108 | D37: vtes | M37: Rang global | N37: =+'RESULTATS '!I28 -> FALSE | Q37: Rang global | R37: =+'RESULTATS '!I32 -> FALSE | U37: Rang global | V37: =+'RESULTATS '!I30 -> FALSE
A39: Océane | B39: Objectifs | C39: 108 | D39: vtes | L39: POUATY | M39: Total ventes | N39: =+'RESULTATS '!E38 -> 0 | P39: TCHICAYA | Q39: Total ventes | R39: =+'RESULTATS '!E36 -> 0 | T39: KOGUIA | U39: Total ventes
B40: Réalisés S1 & 2 | C40: ='SUIVI DU CHALLENGE'!E36+'SUIVI DU CHALLENGE'!E38+'SUIVI DU CHALLENGE'!E40+'SUIVI DU CHALLENGE'!G36+'SUIVI DU CHALLENGE'!G38+'SUIVI DU CHALLENGE'!G40 -> 0 | D40: vtes | M40: Gain de points | N40: =+'RESULTATS '!G38 -> 0 | Q40: Gain de points | R40: =+'RESULTATS '!G36 -> 0 | U40: Gain de points
B41: Réalisés S3 & 4 | C41: ='SUIVI DU CHALLENGE'!I36+'SUIVI DU CHALLENGE'!I38+'SUIVI DU CHALLENGE'!I40+'SUIVI DU CHALLENGE'!K36+'SUIVI DU CHALLENGE'!K38+'SUIVI DU CHALLENGE'!K40 -> 0 | D41: vtes | M41: Valeurs cumulées | N41: =+'RESULTATS '!F38 -> 0 | Q41: Valeurs cumulées | R41: =+'RESULTATS '!F36 -> 0 | U41: Valeurs cumulées
B42: Réalisés S5 & 6 | C42: ='SUIVI DU CHALLENGE'!M36+'SUIVI DU CHALLENGE'!M38+'SUIVI DU CHALLENGE'!M40+'SUIVI DU CHALLENGE'!O36+'SUIVI DU CHALLENGE'!O38+'SUIVI DU CHALLENGE'!O40 -> 0 | D42: vtes | M42: Montant bon d'achats | N42: =+'RESULTATS '!H38 -> FALSE | Q42: Montant bon d'achats | R42: =+'RESULTATS '!H36 -> FALSE | U42: Montant bon d'achats
B43: Réalisés S7 & 8 | C43: ='SUIVI DU CHALLENGE'!Q36+'SUIVI DU CHALLENGE'!Q38+'SUIVI DU CHALLENGE'!Q40+'SUIVI DU CHALLENGE'!S36+'SUIVI DU CHALLENGE'!S38+'SUIVI DU CHALLENGE'!S40 -> 0 | D43: vtes
B44: Réalisés S9 | C44: ='SUIVI DU CHALLENGE'!U36+'SUIVI DU CHALLENGE'!U38+'SUIVI DU CHALLENGE'!U40 -> 0 | D44: vtes | M44: Rang agence | Q44: Rang agence | U44: Rang agence
B45: Ecarts | C45: =(C44+C43+C42+C41+C40)-C39 -> -108 | D45: vtes | M45: Rang global | N45: =+'RESULTATS '!I38 -> FALSE | Q45: Rang global | R45: =+'RESULTATS '!I36 -> FALSE | U45: Rang global

Sheet SUIVI DU CHALLENGE
B4: TABLEAU DE SUIVI DES VENTES HEBDOMADAIRES
B6: N° | C6: NOMS DES CONCOURANTS | E6: SEPTEMBRE | M6: OCTOBRE
E8: Semaine 1 | G8: Semaine 2 | I8: Semaine 3 | K8: Semaine 4 | M8: Semaine 5 | O8: Semaine 6 | Q8: Semaine 7 | S8: Semaine 8 | U8: Semaine 9
E10: Nbre de vtes | F10: Valeurs | G10: Nbre de vtes | H10: Valeurs | I10: Nbre de vtes | J10: Valeurs | K10: Nbre de vtes | L10: Valeurs | M10: Nbre de vtes | N10: Valeurs | O10: Nbre de vtes | P10: Valeurs | Q10: Nbre de vtes | R10: Valeurs | S10: Nbre de vtes | T10: Valeurs | U10: Nbre de vtes | V10: Valeurs
B12: 1 | C12: Teddy BONGOUANDE | F12: =+E12*5883 -> 0 | H12: =+G12*5883 -> 0 | J12: =+I12*5883 -> 0 | L12: =+K12*5883 -> 0 | N12: =+M12*5883 -> 0 | P12: =+O12*5883 -> 0 | R12: =+Q12*5883 -> 0 | T12: =+S12*5883 -> 0 | V12: =+U12*5883 -> 0
B14: 2 | C14: Julia KIMBALOU | F14: =+E14*5883 -> 0 | H14: =+G14*5883 -> 0 | J14: =+I14*5883 -> 0 | L14: =+K14*5883 -> 0 | N14: =+M14*5883 -> 0 | P14: =+O14*5883 -> 0 | R14: =+Q14*5883 -> 0 | T14: =+S14*5883 -> 0 | V14: =+U14*5883 -> 0
B16: 3 | C16: Martinien BOKOYO | F16: =+E16*5883 -> 0 | H16: =+G16*5883 -> 0 | J16: =+I16*5883 -> 0 | L16: =+K16*5883 -> 0 | N16: =+M16*5883 -> 0 | P16: =+O16*5883 -> 0 | R16: =+Q16*5883 -> 0 | T16: =+S16*5883 -> 0 | V16: =+U16*5883 -> 0
B18: 4 | C18: Vicentia ALIHONOU | F18: =+E18*5883 -> 0 | H18: =+G18*5883 -> 0 | J18: =+I18*5883 -> 0 | L18: =+K18*5883 -> 0 | N18: =+M18*5883 -> 0 | P18: =+O18*5883 -> 0 | R18: =+Q18*5883 -> 0 | T18: =+S18*5883 -> 0 | V18: =+U18*5883 -> 0
B20: 5 | C20: Hermann GONDZIA | F20: =+E20*5883 -> 0 | H20: =+G20*5883 -> 0 | J20: =+I20*5883 -> 0 | L20: =+K20*5883 -> 0 | N20: =+M20*5883 -> 0 | P20: =+O20*5883 -> 0 | R20: =+Q20*5883 -> 0 | T20: =+S20*5883 -> 0 | V20: =+U20*5883 -> 0
B22: 6 | C22: Aubaine NTANDOU | F22: =+E22*5883 -> 0 | H22: =+G22*5883 -> 0 | J22: =+I22*5883 -> 0 | L22: =+K22*5883 -> 0 | N22: =+M22*5883 -> 0 | P22: =+O22*5883 -> 0 | R22: =+Q22*5883 -> 0 | T22: =+S22*5883 -> 0 | V22: =+U22*5883 -> 0
B24: 7 | C24: Danielle OSSEY | F24: =+E24*5883 -> 0 | H24: =+G24*5883 -> 0 | J24: =+I24*5883 -> 0 | L24: =+K24*5883 -> 0 | N24: =+M24*5883 -> 0 | P24: =+O24*5883 -> 0 | R24: =+Q24*5883 -> 0 | T24: =+S24*5883 -> 0 | V24: =+U24*5883 -> 0
B26: 8 | C26: Fleurie BATSINDILA | F26: =+E26*5883 -> 0 | H26: =+G26*5883 -> 0 | J26: =+I26*5883 -> 0 | L26: =+K26*5883 -> 0 | N26: =+M26*5883 -> 0 | P26: =+O26*5883 -> 0 | R26: =+Q26*5883 -> 0 | T26: =+S26*5883 -> 0 | V26: =+U26*5883 -> 0
B28: 9 | C28: Didian NGONDO | F28: =+E28*5883 -> 0 | H28: =+G28*5883 -> 0 | J28: =+I28*5883 -> 0 | L28: =+K28*5883 -> 0 | N28: =+M28*5883 -> 0 | P28: =+O28*5883 -> 0 | R28: =+Q28*5883 -> 0 | T28: =+S28*5883 -> 0 | V28: =+U28*5883 -> 0
B30: 10 | C30: Marinella NDJOULANI | F30: =+E30*5883 -> 0 | H30: =+G30*5883 -> 0 | J30: =+I30*5883 -> 0 | L30: =+K30*5883 -> 0 | N30: =+M30*5883 -> 0 | P30: =+O30*5883 -> 0 | R30: =+Q30*5883 -> 0 | T30: =+S30*5883 -> 0 | V30: =+U30*5883 -> 0
B32: 11 | C32: Annaick NGANGA | F32: =+E32*5883 -> 0 | H32: =+G32*5883 -> 0 | J32: =+I32*5883 -> 0 | L32: =+K32*5883 -> 0 | N32: =+M32*5883 -> 0 | P32: =+O32*5883 -> 0 | R32: =+Q32*5883 -> 0 | T32: =+S32*5883 -> 0 | V32: =+U32*5883 -> 0
B34: 12 | C34: Magalie MICKAMOU | F34: =+E34*5883 -> 0 | H34: =+G34*5883 -> 0 | J34: =+I34*5883 -> 0 | L34: =+K34*5883 -> 0 | N34: =+M34*5883 -> 0 | P34: =+O34*5883 -> 0 | R34: =+Q34*5883 -> 0 | T34: =+S34*5883 -> 0 | V34: =+U34*5883 -> 0
... B40: 15 | C40: Arielle POUATY | F40: =+E40*5883 -> 0 | H40: =+G40*5883 -> 0 | J40: =+I40*5883 -> 0 | L40: =+K40*5883 -> 0 | N40: =+M40*5883 -> 0 | P40: =+O40*5883 -> 0 | R40: =+Q40*5883 -> 0 | T40: =+S40*5883 -> 0 | V40: =+U40*5883 -> 0

Sheet RESULTATS 
B4: TABLEAU DES RESULTATS
B6: N° | C6: NOMS DES CONCOURANTS | E6: TOTAL VENTES | F6: VALEURS ACCUMULEES | G6: GAIN DE POINTS | H6: VALEUR DU BON D'ACHAT | I6: RANG
B10: 1 | C10: Teddy BONGOUANDE | E10: =+'SUIVI DU CHALLENGE'!E12+'SUIVI DU CHALLENGE'!G12+'SUIVI DU CHALLENGE'!I12+'SUIVI DU CHALLENGE'!K12+'SUIVI DU CHALLENGE'!M12+'SUIVI DU CHALLENGE'!O12+'SUIVI DU CHALLENGE'!Q12+'SUIVI DU CHALLENGE'!S12+'SUIVI DU CHALLENGE'!U12 -> 0 | F10: =+E10*5883 -> 0 | G10: =IF(E10>34,"20",IF(E10>26,"15",IF(E10>18,"10","0"))) -> 0 | H10: =IF(E10>=34,"200 000 XAF",IF(E10>=26,"120 000 XAF",IF(E10>=18,"80 000 XAF"))) -> FALSE | I10: =IF(H10=200000,"1er",IF(H10=120000,"2eme",IF(H10=80000,"3eme",IF(H10<80000,"félicitations pour l'effort")))) -> FALSE
B12: 2 | C12: Julia KIMBALOU | E12: =+'SUIVI DU CHALLENGE'!E14+'SUIVI DU CHALLENGE'!G14+'SUIVI DU CHALLENGE'!I14+'SUIVI DU CHALLENGE'!K14+'SUIVI DU CHALLENGE'!M14+'SUIVI DU CHALLENGE'!O14+'SUIVI DU CHALLENGE'!Q14+'SUIVI DU CHALLENGE'!S14+'SUIVI DU CHALLENGE'!U14 -> 0 | F12: =+E12*5883 -> 0 | G12: =IF(E12>34,"20",IF(E12>26,"15",IF(E12>18,"10","0"))) -> 0 | H12: =IF(E12>=34,"200 000 XAF",IF(E12>=26,"120 000 XAF",IF(E12>=18,"80 000 XAF"))) -> FALSE | I12: =IF(H12=200000,"1er",IF(H12=120000,"2eme",IF(H12=80000,"3eme",IF(H12<80000,"félicitations pour l'effort")))) -> FALSE
B14: 3 | C14: Martinien BOKOYO | E14: =+'SUIVI DU CHALLENGE'!E16+'SUIVI DU CHALLENGE'!G16+'SUIVI DU CHALLENGE'!I16+'SUIVI DU CHALLENGE'!K16+'SUIVI DU CHALLENGE'!M16+'SUIVI DU CHALLENGE'!O16+'SUIVI DU CHALLENGE'!Q16+'SUIVI DU CHALLENGE'!S16+'SUIVI DU CHALLENGE'!U16 -> 0 | F14: =+E14*5883 -> 0 | G14: =IF(E14>34,"20",IF(E14>26,"15",IF(E14>18,"10","0"))) -> 0 | H14: =IF(E14>=34,"200 000 XAF",IF(E14>=26,"120 000 XAF",IF(E14>=18,"80 000 XAF"))) -> FALSE | I14: =IF(H14=200000,"1er",IF(H14=120000,"2eme",IF(H14=80000,"3eme",IF(H14<80000,"félicitations pour l'effort")))) -> FALSE
B16: 4 | C16: Vicentia ALIHONOU | E16: =+'SUIVI DU CHALLENGE'!E18+'SUIVI DU CHALLENGE'!G18+'SUIVI DU CHALLENGE'!I18+'SUIVI DU CHALLENGE'!K18+'SUIVI DU CHALLENGE'!M18+'SUIVI DU CHALLENGE'!O18+'SUIVI DU CHALLENGE'!Q18+'SUIVI DU CHALLENGE'!S18+'SUIVI DU CHALLENGE'!U18 -> 0 | F16: =+E16*5883 -> 0 | G16: =IF(E16>34,"20",IF(E16>26,"15",IF(E16>18,"10","0"))) -> 0 | H16: =IF(E16>=34,"200 000 XAF",IF(E16>=26,"120 000 XAF",IF(E16>=18,"80 000 XAF"))) -> FALSE | I16: =IF(H16=200000,"1er",IF(H16=120000,"2eme",IF(H16=80000,"3eme",IF(H16<80000,"félicitations pour l'effort")))) -> FALSE
B18: 5 | C18: Hermann GONDZIA | E18: =+'SUIVI DU CHALLENGE'!E20+'SUIVI DU CHALLENGE'!G20+'SUIVI DU CHALLENGE'!I20+'SUIVI DU CHALLENGE'!K20+'SUIVI DU CHALLENGE'!M20+'SUIVI DU CHALLENGE'!O20+'SUIVI DU CHALLENGE'!Q20+'SUIVI DU CHALLENGE'!S20+'SUIVI DU CHALLENGE'!U20 -> 0 | F18: =+E18*5883 -> 0 | G18: =IF(E18>34,"20",IF(E18>26,"15",IF(E18>18,"10","0"))) -> 0 | H18: =IF(E18>=34,"200 000 XAF",IF(E18>=26,"120 000 XAF",IF(E18>=18,"80 000 XAF"))) -> FALSE | I18: =IF(H18=200000,"1er",IF(H18=120000,"2eme",IF(H18=80000,"3eme",IF(H18<80000,"félicitations pour l'effort")))) -> FALSE
B20: 6 | C20: Aubaine NTANDOU | E20: =+'SUIVI DU CHALLENGE'!E22+'SUIVI DU CHALLENGE'!G22+'SUIVI DU CHALLENGE'!I22+'SUIVI DU CHALLENGE'!K22+'SUIVI DU CHALLENGE'!M22+'SUIVI DU CHALLENGE'!O22+'SUIVI DU CHALLENGE'!Q22+'SUIVI DU CHALLENGE'!S22+'SUIVI DU CHALLENGE'!U22 -> 0 | F20: =+E20*5883 -> 0 | G20: =IF(E20>34,"20",IF(E20>26,"15",IF(E20>18,"10","0"))) -> 0 | H20: =IF(E20>=34,"200 000 XAF",IF(E20>=26,"120 000 XAF",IF(E20>=18,"80 000 XAF"))) -> FALSE | I20: =IF(H20=200000,"1er",IF(H20=120000,"2eme",IF(H20=80000,"3eme",IF(H20<80000,"félicitations pour l'effort")))) -> FALSE
B22: 7 | C22: Danielle OSSEY | E22: =+'SUIVI DU CHALLENGE'!E24+'SUIVI DU CHALLENGE'!G24+'SUIVI DU CHALLENGE'!I24+'SUIVI DU CHALLENGE'!K24+'SUIVI DU CHALLENGE'!M24+'SUIVI DU CHALLENGE'!O24+'SUIVI DU CHALLENGE'!Q24+'SUIVI DU CHALLENGE'!S24+'SUIVI DU CHALLENGE'!U24 -> 0 | F22: =+E22*5883 -> 0 | G22: =IF(E22>34,"20",IF(E22>26,"15",IF(E22>18,"10","0"))) -> 0 | H22: =IF(E22>=34,"200 000 XAF",IF(E22>=26,"120 000 XAF",IF(E22>=18,"80 000 XAF"))) -> FALSE | I22: =IF(H22=200000,"1er",IF(H22=120000,"2eme",IF(H22=80000,"3eme",IF(H22<80000,"félicitations pour l'effort")))) -> FALSE
B24: 8 | C24: Fleurie BATSINDILA | E24: =+'SUIVI DU CHALLENGE'!E26+'SUIVI DU CHALLENGE'!G26+'SUIVI DU CHALLENGE'!I26+'SUIVI DU CHALLENGE'!K26+'SUIVI DU CHALLENGE'!M26+'SUIVI DU CHALLENGE'!O26+'SUIVI DU CHALLENGE'!Q26+'SUIVI DU CHALLENGE'!S26+'SUIVI DU CHALLENGE'!U26 -> 0 | F24: =+E24*5883 -> 0 | G24: =IF(E24>34,"20",IF(E24>26,"15",IF(E24>18,"10","0"))) -> 0 | H24: =IF(E24>=34,"200 000 XAF",IF(E24>=26,"120 000 XAF",IF(E24>=18,"80 000 XAF"))) -> FALSE | I24: =IF(H24=200000,"1er",IF(H24=120000,"2eme",IF(H24=80000,"3eme",IF(H24<80000,"félicitations pour l'effort")))) -> FALSE
B26: 9 | C26: Didian NGONDO | E26: =+'SUIVI DU CHALLENGE'!E28+'SUIVI DU CHALLENGE'!G28+'SUIVI DU CHALLENGE'!I28+'SUIVI DU CHALLENGE'!K28+'SUIVI DU CHALLENGE'!M28+'SUIVI DU CHALLENGE'!O28+'SUIVI DU CHALLENGE'!Q28+'SUIVI DU CHALLENGE'!S28+'SUIVI DU CHALLENGE'!U28 -> 0 | F26: =+E26*5883 -> 0 | G26: =IF(E26>34,"20",IF(E26>26,"15",IF(E26>18,"10","0"))) -> 0 | H26: =IF(E26>=34,"200 000 XAF",IF(E26>=26,"120 000 XAF",IF(E26>=18,"80 000 XAF"))) -> FALSE | I26: =IF(H26=200000,"1er",IF(H26=120000,"2eme",IF(H26=80000,"3eme",IF(H26<80000,"félicitations pour l'effort")))) -> FALSE
B28: 10 | C28: Marinella NDJOULANI | E28: =+'SUIVI DU CHALLENGE'!E30+'SUIVI DU CHALLENGE'!G30+'SUIVI DU CHALLENGE'!I30+'SUIVI DU CHALLENGE'!K30+'SUIVI DU CHALLENGE'!M30+'SUIVI DU CHALLENGE'!O30+'SUIVI DU CHALLENGE'!Q30+'SUIVI DU CHALLENGE'!S30+'SUIVI DU CHALLENGE'!U30 -> 0 | F28: =+E28*5883 -> 0 | G28: =IF(E28>34,"20",IF(E28>26,"15",IF(E28>18,"10","0"))) -> 0 | H28: =IF(E28>=34,"200 000 XAF",IF(E28>=26,"120 000 XAF",IF(E28>=18,"80 000 XAF"))) -> FALSE | I28: =IF(H28=200000,"1er",IF(H28=120000,"2eme",IF(H28=80000,"3eme",IF(H28<80000,"félicitations pour l'effort")))) -> FALSE
B30: 11 | C30: Annaick NGANGA | E30: =+'SUIVI DU CHALLENGE'!E32+'SUIVI DU CHALLENGE'!G32+'SUIVI DU CHALLENGE'!I32+'SUIVI DU CHALLENGE'!K32+'SUIVI DU CHALLENGE'!M32+'SUIVI DU CHALLENGE'!O32+'SUIVI DU CHALLENGE'!Q32+'SUIVI DU CHALLENGE'!S32+'SUIVI DU CHALLENGE'!U32 -> 0 | F30: =+E30*5883 -> 0 | G30: =IF(E30>34,"20",IF(E30>26,"15",IF(E30>18,"10","0"))) -> 0 | H30: =IF(E30>=34,"200 000 XAF",IF(E30>=26,"120 000 XAF",IF(E30>=18,"80 000 XAF"))) -> FALSE | I30: =IF(H30=200000,"1er",IF(H30=120000,"2eme",IF(H30=80000,"3eme",IF(H30<80000,"félicitations pour l'effort")))) -> FALSE
B32: 12 | C32: Magalie MICKAMOU | E32: =+'SUIVI DU CHALLENGE'!E34+'SUIVI DU CHALLENGE'!G34+'SUIVI DU CHALLENGE'!I34+'SUIVI DU CHALLENGE'!K34+'SUIVI DU CHALLENGE'!M34+'SUIVI DU CHALLENGE'!O34+'SUIVI DU CHALLENGE'!Q34+'SUIVI DU CHALLENGE'!S34+'SUIVI DU CHALLENGE'!U34 -> 0 | F32: =+E32*5883 -> 0 | G32: =IF(E32>34,"20",IF(E32>26,"15",IF(E32>18,"10","0"))) -> 0 | H32: =IF(E32>=34,"200 000 XAF",IF(E32>=26,"120 000 XAF",IF(E32>=18,"80 000 XAF"))) -> FALSE | I32: =IF(H32=200000,"1er",IF(H32=120000,"2eme",IF(H32=80000,"3eme",IF(H32<80000,"félicitations pour l'effort")))) -> FALSE
... B38: 15 | C38: Arielle POUATY | E38: =+'SUIVI DU CHALLENGE'!E40+'SUIVI DU CHALLENGE'!G40+'SUIVI DU CHALLENGE'!I40+'SUIVI DU CHALLENGE'!K40+'SUIVI DU CHALLENGE'!M40+'SUIVI DU CHALLENGE'!O40+'SUIVI DU CHALLENGE'!Q40+'SUIVI DU CHALLENGE'!S40+'SUIVI DU CHALLENGE'!U40 -> 0 | F38: =+E38*5883 -> 0 | G38: =IF(E38>34,"20",IF(E38>26,"15",IF(E38>18,"10","0"))) -> 0 | H38: =IF(E38>=34,"200 000 XAF",IF(E38>=26,"120 000 XAF",IF(E38>=18,"80 000 XAF"))) -> FALSE | I38: =IF(H38=200000,"1er",IF(H38=120000,"2eme",IF(H38=80000,"3eme",IF(H38<80000,"félicitations pour l'effort")))) -> FALSE
