Workbook
Name Debut_1_ACH: #REF!
Name Debut_1_NL: #REF!
Name Debut_1_PP: #REF!
Name Debut_1_SD: #REF!
Name Debut_1_SW: #REF!
Name Fin_1_ACH: #REF!
Name Fin_1_NL: #REF!
Name Fin_1_PP: #REF!
Name Fin_1_SD: #REF!
Name Fin_1_SW: #REF!
Name Jours_feries: Sources!$I$3:$I$13
Name Nicolas_L: #REF!
Name Patrick_P: #REF!
Name Remise_Complementaire_1: Sources!$I$42:$I$53
Name Remise_Complementaire_2: Sources!$I$55:$I$66
Name Remise_Principale_1: Sources!$I$16:$I$27
Name Remise_Principale_2: Sources!$I$29:$I$40
Name Sylviane_D: #REF!

Sheet Calendrier
AI1: Remise_Principale_1 | AJ1: Remise_Principale_2
AI2: Sources!AA16 | AJ2: Sources!AA29
B3: 1 | C3: 2 | D3: 3 | E3: 4 | F3: 5 | G3: 6 | H3: 7 | I3: 8 | J3: 9 | K3: 10 | L3: 11 | M3: 12 | N3: 13 | O3: 14 | P3: 15 | Q3: 16 | R3: 17 | S3: 18 | T3: 19 | U3: 20 | V3: 21 | W3: 22 | X3: 23 | Y3: 24 | Z3: 25 | AA3: 26 | AB3: 27 | AC3: 28 | AD3: 29 | AE3: 30 | AF3: 31 | AI3: Début | AJ3: Fin | AK3: Durée
B4: =DATE($A$7,VLOOKUP($A$8,Sources!$A$2:$B$13,2,FALSE),B3) -> 43739 | C4: =DATE($A$7,VLOOKUP($A$8,[1]Sources!$A$2:$B$13,2,FALSE),C3) -> 43740 | D4: =DATE($A$7,VLOOKUP($A$8,[1]Sources!$A$2:$B$13,2,FALSE),D3) -> 43741 | E4: =DATE($A$7,VLOOKUP($A$8,[1]Sources!$A$2:$B$13,2,FALSE),E3) -> 43742 | F4: =DATE($A$7,VLOOKUP($A$8,[1]Sources!$A$2:$B$13,2,FALSE),F3) -> 43743 | G4: =DATE($A$7,VLOOKUP($A$8,[1]Sources!$A$2:$B$13,2,FALSE),G3) -> 43744 | H4: =DATE($A$7,VLOOKUP($A$8,[1]Sources!$A$2:$B$13,2,FALSE),H3) -> 43745 | I4: =DATE($A$7,VLOOKUP($A$8,[1]Sources!$A$2:$B$13,2,FALSE),I3) -> 43746 | J4: =DATE($A$7,VLOOKUP($A$8,[1]Sources!$A$2:$B$13,2,FALSE),J3) -> 43747 | ... AF4: =DATE($A$7,VLOOKUP($A$8,[1]Sources!$A$2:$B$13,2,FALSE),AF3) -> 43769 | AI4: =Sources!I16 -> 43449 | AJ4: =Sources!I29 -> 43453 | AK4: =(AJ4-AI4)+1 -> 5
B5: =IF(AND($A$7<>"",$A$8<>""),IF(MONTH(B4)=MONTH($B$4),TEXT(B4,"jjjj"),""),"") -> mardi | C5: =IF(AND($A$7<>"",$A$8<>""),IF(MONTH(C4)=MONTH($B$4),TEXT(C4,"jjjj"),""),"") -> mercredi | D5: =IF(AND($A$7<>"",$A$8<>""),IF(MONTH(D4)=MONTH($B$4),TEXT(D4,"jjjj"),""),"") -> jeudi | E5: =IF(AND($A$7<>"",$A$8<>""),IF(MONTH(E4)=MONTH($B$4),TEXT(E4,"jjjj"),""),"") -> vendredi | F5: =IF(AND($A$7<>"",$A$8<>""),IF(MONTH(F4)=MONTH($B$4),TEXT(F4,"jjjj"),""),"") -> samedi | G5: =IF(AND($A$7<>"",$A$8<>""),IF(MONTH(G4)=MONTH($B$4),TEXT(G4,"jjjj"),""),"") -> dimanche | H5: =IF(AND($A$7<>"",$A$8<>""),IF(MONTH(H4)=MONTH($B$4),TEXT(H4,"jjjj"),""),"") -> lundi | I5: =IF(AND($A$7<>"",$A$8<>""),IF(MONTH(I4)=MONTH($B$4),TEXT(I4,"jjjj"),""),"") -> mardi | ... AF5: =IF(AND($A$7<>"",$A$8<>""),IF(MONTH(AF4)=MONTH($B$4),TEXT(AF4,"jjjj"),""),"") -> jeudi | AI5: =Sources!I17 -> 43489 | AJ5: =Sources!I30 -> 43493 | AK5: =(AJ5-AI5)+1 -> 5
B6: =IF(B8="L","S" &WEEKNUM(B4),"") | C6: =IF(C8="L","S" &WEEKNUM(C4),"") | D6: =IF(D8="L","S" &WEEKNUM(D4),"") | E6: =IF(E8="L","S" &WEEKNUM(E4),"") | F6: =IF(F8="L","S" &WEEKNUM(F4),"") | G6: =IF(G8="L","S" &WEEKNUM(G4),"") | H6: =IF(H8="L","S" &WEEKNUM(H4),"") -> S41 | I6: =IF(I8="L","S" &WEEKNUM(I4),"") | ... AF6: =IF(AF8="L","S" &WEEKNUM(AF4),"") | AI6: =Sources!I18 -> 43517 | AJ6: =Sources!I31 -> 43521 | AK6: =(AJ6-AI6)+1 -> 5
A7: 2019 | B7: =IF(AND($A$7<>"",$A$8<>""),IF(MONTH(B4)=MONTH($B$4),TEXT(B4,"jj"),""),"") -> 01 | C7: =IF(AND($A$7<>"",$A$8<>""),IF(MONTH(C4)=MONTH($B$4),TEXT(C4,"jj"),""),"") -> 02 | D7: =IF(AND($A$7<>"",$A$8<>""),IF(MONTH(D4)=MONTH($B$4),TEXT(D4,"jj"),""),"") -> 03 | E7: =IF(AND($A$7<>"",$A$8<>""),IF(MONTH(E4)=MONTH($B$4),TEXT(E4,"jj"),""),"") -> 04 | F7: =IF(AND($A$7<>"",$A$8<>""),IF(MONTH(F4)=MONTH($B$4),TEXT(F4,"jj"),""),"") -> 05 | G7: =IF(AND($A$7<>"",$A$8<>""),IF(MONTH(G4)=MONTH($B$4),TEXT(G4,"jj"),""),"") -> 06 | H7: =IF(AND($A$7<>"",$A$8<>""),IF(MONTH(H4)=MONTH($B$4),TEXT(H4,"jj"),""),"") -> 07 | I7: =IF(AND($A$7<>"",$A$8<>""),IF(MONTH(I4)=MONTH($B$4),TEXT(I4,"jj"),""),"") -> 08 | ... AF7: =IF(AND($A$7<>"",$A$8<>""),IF(MONTH(AF4)=MONTH($B$4),TEXT(AF4,"jj"),""),"") -> 31 | AI7: =Sources!I19 -> 43546 | AJ7: =Sources!I32 -> 43550 | AK7: =(AJ7-AI7)+1 -> 5
A8: Octobre | B8: =IF(B5="Lundi","L",IF(B5="Mardi","M",IF(B5="Mercredi","M",IF(B5="Jeudi","J",IF(B5="Vendredi","V",IF(B5="Samedi","S",IF(B5="Dimanche","D",IF(B5="","")))))))) -> M | C8: =IF(C5="Lundi","L",IF(C5="Mardi","M",IF(C5="Mercredi","M",IF(C5="Jeudi","J",IF(C5="Vendredi","V",IF(C5="Samedi","S",IF(C5="Dimanche","D",IF(C5="","")))))))) -> M | D8: =IF(D5="Lundi","L",IF(D5="Mardi","M",IF(D5="Mercredi","M",IF(D5="Jeudi","J",IF(D5="Vendredi","V",IF(D5="Samedi","S",IF(D5="Dimanche","D",IF(D5="","")))))))) -> J | E8: =IF(E5="Lundi","L",IF(E5="Mardi","M",IF(E5="Mercredi","M",IF(E5="Jeudi","J",IF(E5="Vendredi","V",IF(E5="Samedi","S",IF(E5="Dimanche","D",IF(E5="","")))))))) -> V | F8: =IF(F5="Lundi","L",IF(F5="Mardi","M",IF(F5="Mercredi","M",IF(F5="Jeudi","J",IF(F5="Vendredi","V",IF(F5="Samedi","S",IF(F5="Dimanche","D",IF(F5="","")))))))) -> S | G8: =IF(G5="Lundi","L",IF(G5="Mardi","M",IF(G5="Mercredi","M",IF(G5="Jeudi","J",IF(G5="Vendredi","V",IF(G5="Samedi","S",IF(G5="Dimanche","D",IF(G5="","")))))))) -> D | H8: =IF(H5="Lundi","L",IF(H5="Mardi","M",IF(H5="Mercredi","M",IF(H5="Jeudi","J",IF(H5="Vendredi","V",IF(H5="Samedi","S",IF(H5="Dimanche","D",IF(H5="","")))))))) -> L | I8: =IF(I5="Lundi","L",IF(I5="Mardi","M",IF(I5="Mercredi","M",IF(I5="Jeudi","J",IF(I5="Vendredi","V",IF(I5="Samedi","S",IF(I5="Dimanche","D",IF(I5="","")))))))) -> M | ... AF8: =IF(AF5="Lundi","L",IF(AF5="Mardi","M",IF(AF5="Mercredi","M",IF(AF5="Jeudi","J",IF(AF5="Vendredi","V",IF(AF5="Samedi","S",IF(AF5="Dimanche","D",IF(AF5="","")))))))) -> J | AI8: =Sources!I20 -> 43575 | AJ8: =Sources!I33 -> 43579 | AK8: =(AJ8-AI8)+1 -> 5
A9: Sylviane | AI9: =Sources!I21 -> 43608 | AJ9: =Sources!I34 -> 43612 | AK9: =(AJ9-AI9)+1 -> 5
A10: Annie | AI10: =Sources!I22 -> 43637 | AJ10: =Sources!I35 -> 43641 | AK10: =(AJ10-AI10)+1 -> 5
A11: Sandrine | AI11: =Sources!I23 -> 43670 | AJ11: =Sources!I36 -> 43672 | AK11: =(AJ11-AI11)+1 -> 3
A12: Nicolas | AI12: =Sources!I24 -> 43700 | AJ12: =Sources!I37 -> 43704 | AK12: =(AJ12-AI12)+1 -> 5
A13: Patrick | AI13: =Sources!I25 -> 43729 | AJ13: =Sources!I38 -> 43733 | AK13: =(AJ13-AI13)+1 -> 5
A14: Mourad | AI14: =Sources!I26 -> 43762 | AJ14: =Sources!I39 -> 43766 | AK14: =(AJ14-AI14)+1 -> 5
A15: Aurélie | AI15: =Sources!I27 -> 43784 | AJ15: =Sources!I40 -> 43784 | AK15: =(AJ15-AI15)+1 -> 1
A16: Sandrine | AI16: =Sources!I28 -> 2019 | AJ16: =Sources!I41 -> 2019 | AK16: =(AJ16-AI16)+1 -> 1

Sheet Sources
A1: Mois | B1: N° | E1: 2018 | F1: 2019 | G1: 2020 | I1: =Calendrier!A7 -> 2019 | J1: =HLOOKUP(I1,E1:G2,2,FALSE) -> 2
A2: Janvier | B2: 1 | D2: JOURS FERIES | E2: 1 | F2: 2 | G2: 3
A3: Février | B3: 2 | D3: Jour de l'an | E3: 43101 | F3: 43466 | G3: 43831 | I3: =INDEX($E$3:$G$13,J3,$J$1) -> 43466 | J3: 1
A4: Mars | B4: 3 | D4: Lundi de Pâques | E4: 43192 | F4: 43577 | G4: 43934 | I4: =INDEX($E$3:$G$13,J4,$J$1) -> 43577 | J4: 2
A5: Avril | B5: 4 | D5: Fête du Travail | E5: 43221 | F5: 43586 | G5: 43952 | I5: =INDEX($E$3:$G$13,J5,$J$1) -> 43586 | J5: 3
A6: Mai | B6: 5 | D6: Armistice 39/45 | E6: 43228 | F6: 43593 | G6: 43959 | I6: =INDEX($E$3:$G$13,J6,$J$1) -> 43593 | J6: 4
A7: Juin | B7: 6 | D7: Jeudi de l'Ascension | E7: 43230 | F7: 43615 | G7: 43972 | I7: =INDEX($E$3:$G$13,J7,$J$1) -> 43615 | J7: 5
A8: Juillet | B8: 7 | D8: Lundi de Pentecôte | E8: 43240 | F8: 43625 | G8: 43982 | I8: =INDEX($E$3:$G$13,J8,$J$1) -> 43625 | J8: 6
A9: Août | B9: 8 | D9: Fêtre Nationale | E9: 43295 | F9: 43660 | G9: 44026 | I9: =INDEX($E$3:$G$13,J9,$J$1) -> 43660 | J9: 7
A10: Septembre | B10: 9 | D10: Assomption | E10: 43327 | F10: 43692 | G10: 44058 | I10: =INDEX($E$3:$G$13,J10,$J$1) -> 43692 | J10: 8
A11: Octobre | B11: 10 | D11: La Toussaint | E11: 43405 | F11: 43770 | G11: 44136 | I11: =INDEX($E$3:$G$13,J11,$J$1) -> 43770 | J11: 9
A12: Novembre | B12: 11 | D12: Armistice 14/18 | E12: 43415 | F12: 43780 | G12: 44146 | I12: =INDEX($E$3:$G$13,J12,$J$1) -> 43780 | J12: 10
A13: Décembre | B13: 12 | D13: Noël | E13: 43459 | F13: 43824 | G13: 44190 | I13: =INDEX($E$3:$G$13,J13,$J$1) -> 43824 | J13: 11
A15: Date du Jour | C15: Mois de Paye | D15: Remise Principale #1 | E15: Début | F15: Début | G15: Début | I15: =Calendrier!A7 -> 2019
A16: =TODAY() -> 43440 | D16: Janvier | E16: 43088 | F16: 43448 | I16: =INDEX($E$16:$G$27,J16,$J$1)+1 -> 43449 | J16: 1
D17: Février | E17: 43123 | F17: 43488 | I17: =INDEX($E$16:$G$27,J17,$J$1)+1 -> 43489 | J17: 2
D18: Mars | E18: 43151 | F18: 43516 | I18: =INDEX($E$16:$G$27,J18,$J$1)+1 -> 43517 | J18: 3
D19: Avril | E19: 43181 | F19: 43545 | I19: =INDEX($E$16:$G$27,J19,$J$1)+1 -> 43546 | J19: 4
D20: Mai | E20: 43210 | F20: 43574 | I20: =INDEX($E$16:$G$27,J20,$J$1)+1 -> 43575 | J20: 5
D21: Juin | E21: 43243 | F21: 43607 | I21: =INDEX($E$16:$G$27,J21,$J$1)+1 -> 43608 | J21: 6
D22: Juillet | E22: 43272 | F22: 43636 | I22: =INDEX($E$16:$G$27,J22,$J$1)+1 -> 43637 | J22: 7
D23: Août | E23: 43301 | F23: 43669 | I23: =INDEX($E$16:$G$27,J23,$J$1)+1 -> 43670 | J23: 8
D24: Septembre | E24: 43334 | F24: 43699 | I24: =INDEX($E$16:$G$27,J24,$J$1)+1 -> 43700 | J24: 9
D25: Octobre | E25: 43363 | F25: 43728 | I25: =INDEX($E$16:$G$27,J25,$J$1)+1 -> 43729 | J25: 10
D26: Novembre | E26: 43396 | F26: 43761 | I26: =INDEX($E$16:$G$27,J26,$J$1)+1 -> 43762 | J26: 11
D27: Décembre | E27: 43419 | F27: 43783 | I27: =INDEX($E$16:$G$27,J27,$J$1)+1 -> 43784 | J27: 12
D28: Remise Principale #2 | E28: Fin | F28: Fin | G28: Fin | I28: =Calendrier!A7 -> 2019
D29: Janvier | E29: 43091 | F29: 43453 | I29: =INDEX($E$29:$G$40,J29,$J$1) -> 43453 | J29: 1
D30: Février | E30: 43126 | F30: 43493 | I30: =INDEX($E$29:$G$40,J30,$J$1) -> 43493 | J30: 2
D31: Mars | E31: 43154 | F31: 43521 | I31: =INDEX($E$29:$G$40,J31,$J$1) -> 43521 | J31: 3
D32: Avril | E32: 43186 | F32: 43550 | I32: =INDEX($E$29:$G$40,J32,$J$1) -> 43550 | J32: 4
D33: Mai | E33: 43215 | F33: 43579 | I33: =INDEX($E$29:$G$40,J33,$J$1) -> 43579 | J33: 5
D34: Juin | E34: 43248 | F34: 43612 | I34: =INDEX($E$29:$G$40,J34,$J$1) -> 43612 | J34: 6
D35: Juillet | E35: 43277 | F35: 43641 | I35: =INDEX($E$29:$G$40,J35,$J$1) -> 43641 | J35: 7
D36: Août | E36: 43306 | F36: 43672 | I36: =INDEX($E$29:$G$40,J36,$J$1) -> 43672 | J36: 8
D37: Septembre | E37: 43339 | F37: 43704 | I37: =INDEX($E$29:$G$40,J37,$J$1) -> 43704 | J37: 9
D38: Octobre | E38: 43368 | F38: 43733 | I38: =INDEX($E$29:$G$40,J38,$J$1) -> 43733 | J38: 10
D39: Novembre | E39: 43399 | F39: 43766 | I39: =INDEX($E$29:$G$40,J39,$J$1) -> 43766 | J39: 11
D40: Décembre | E40: 43420 | F40: 43784 | I40: =INDEX($E$29:$G$40,J40,$J$1) -> 43784 | J40: 12
D41: Remise Complémentaire #1 | E41: Début | F41: Début | G41: Début | I41: =Calendrier!A7 -> 2019
...
