Workbook

Sheet P5
B3: P5
D4: =SUM(D11:D12) -> 72 | E4: =SUM(E11:E12) -> 56 | F4: =SUM(F11:F12) -> 36
A5: YOUNESS | D5: 18 | E5: 14 | F5: 8
A6: CHRISTOPHE | D6: 12 | E6: 10 | F6: 8
A7: LYNDELL | D7: 8 | E7: 6 | F7: 4
A8: TIPHAINE | D8: 4 | E8: 2 | F8: 2
D9: 4 | E9: 4 | F9: 2
A10: JEROME | D10: 26 | E10: 20 | F10: 12
D11: =SUM(D5:D10) -> 72 | E11: =SUM(E5:E10) -> 56 | F11: =SUM(F5:F10) -> 36
C15: lundi | D15: mardi | E15: mercredi | F15: jeudi | G15: vendredi | H15: samedi | I15: dimanche | L15: lundi | M15: mardi | N15: mercredi | O15: jeudi | P15: vendredi | Q15: samedi | R15: dimanche
C16: 43325 | D16: 43326 | E16: 43327 | F16: 43328 | G16: 43329 | H16: 43330 | I16: 43331 | L16: 43325 | M16: 43326 | N16: 43327 | O16: 43328 | P16: 43329 | Q16: 43330 | R16: 43331
B17: 08h30 | D17: LYNDELL 1 | F17: YOUNESS 3 | H17: JEROME 6 | K17: 08h30 | P17: TIPHAINE EMBRYO 1 | Q17: YOUNESS 2
B18: 10h45 | C18: TIPHAINE HISTO 1 | D18: CHRISTOPHE 1 | F18: JEROME 4 | H18: YOUNESS 4 | K18: 10h45 | P18: JEROME 2 | Q18: JEROME 3
B20: 13h30 | C20: JEROME 1 | D20: JEROME 2 | E20: YOUNESS 2 | G20: TIPHAINE EMBRYO 1 | K20: 13h30 | O20: YOUNESS 1
B21: 15h45 | C21: YOUNESS 1 | E21: JEROME 3 | G21: JEROME 5 | K21: 15h45 | O21: JEROME 1
C26: lundi | D26: mardi | E26: mercredi | F26: jeudi | G26: vendredi | H26: samedi | I26: dimanche | L26: lundi | M26: mardi | N26: mercredi | O26: jeudi | P26: vendredi | Q26: samedi | R26: dimanche
C27: 43332 | D27: 43333 | E27: 43334 | F27: 43335 | G27: 43336 | H27: 43337 | I27: 43338 | L27: 43332 | M27: 43333 | N27: 43334 | O27: 43335 | P27: 43336 | Q27: 43337 | R27: 43338
B28: 08h30 | C28: YOUNESS 5 | D28: JEROME 7 | E28: JEROME 8 | F28: YOUNESS 6 | G28: YOUNESS 7 | H28: JEROME 10 | K28: 08h30 | Q28: LYNDELL 1
B29: 10h45 | C29: CHRISTOPHE 2 | D29: LYNDELL 2 | E29: CHRISTOPHE 3 | F29: JEROME 9 | G29: CHRISTOPHE 4 | H29: LYNDELL 3 | K29: 10h45 | Q29: JEROME 7
B31: 13h30 | K31: 13h30 | L31: YOUNESS 3 | M31: JEROME 4 | N31: JEROME 5 | O31: YOUNESS 4 | P31: 13h15 YOUNESS 5
B32: 15h45 | K32: 15h45 | L32: CHRISTOPHE 1 | M32: LYNDELL 2 | N32: CHRISTOPHE 2 | O32: JEROME 6 | P32: CHRISTOPHE 3
B35: Stage - 82h | K35: Stage - 66h + 46h
C38: lundi | D38: mardi | E38: mercredi | F38: jeudi | G38: vendredi | H38: samedi | I38: dimanche | L38: lundi | M38: mardi | N38: mercredi | O38: jeudi | P38: vendredi | Q38: samedi | R38: dimanche
C39: 43339 | D39: 43340 | E39: 43341 | F39: 43342 | G39: 43343 | H39: 43344 | I39: 43345 | L39: 43339 | M39: 43340 | N39: 43341 | O39: 43342 | P39: 43343 | Q39: 43344 | R39: 43345
B40: 08h30 | K40: 08h30 | L40: YOUNESS 6 | M40: CHRISTOPHE 5 | N40: JEROME 9 | O40: YOUNESS 7 | P40: TIPHAINE EMBRYO 2
B41: 10h45 | K41: 10h45 | L41: CHRISTOPHE 4 | M41: JEROME 8 | N41: TIPHAINE HISTO 1 | O41: LYNDELL 3 | P41: JEROME 10
P42: TAXI TIPHAINE P12
B43: 13h30 | C43: YOUNESS 8 | D43: CHRISTOPHE 6 | E43: JEROME 11 | F43: YOUNESS 9 | G43: JEROME 12 | K43: 13h30
B44: 15h45 | C44: CHRISTOPHE 5 | D44: JEROME 13 | E44: TIPHAINE HISTO 2 | F44: LYNDELL 4 | G44: TIPHAINE EMBRYO 2 | K44: 15h45
B47: Stage - 82h | K47: Stage - 82h + 66h + 46h
C49: lundi | D49: mardi | E49: mercredi | F49: jeudi | G49: vendredi | H49: samedi | I49: dimanche | L49: lundi | M49: mardi | N49: mercredi | O49: jeudi | P49: vendredi | Q49: samedi | R49: dimanche
C50: 43346 | D50: 43347 | E50: 43348 | F50: 43349 | G50: 43350 | H50: 43351 | I50: 43352 | L50: 43346 | M50: 43347 | N50: 43348 | O50: 43349 | P50: 43349 | Q50: 43351 | R50: 43352
B51: 08h30 | K51: 08h30
B52: 10h45 | K52: 10h45
B54: 13h30 | K54: 13h30
B55: 15h45 | K55: 15h45
B57: Stage - 82h | K57: Stage - 82h + 66h + 46h
C59: lundi | D59: mardi | E59: mercredi | F59: jeudi | G59: vendredi | H59: samedi | I59: dimanche | L59: lundi | M59: mardi | N59: mercredi | O59: jeudi | P59: vendredi | Q59: samedi | R59: dimanche
C60: 43353 | D60: 43354 | E60: 43355 | F60: 43356 | G60: 43357 | H60: 43358 | I60: 43359 | L60: 43353 | M60: 43354 | N60: 43355 | O60: 43356 | P60: 43357 | Q60: 43358 | R60: 43359
B61: 08h30 | K61: 08h30
B62: 10h45 | K62: 10h45
B64: 13h30 | K64: 13h30
B65: 15h45 | K65: 15h45

Sheet P7
B2: P7
D3: =SUM(D11:D12) -> 72 | E3: =SUM(E11:E12) -> 56 | F3: =SUM(F11:F12) -> 38
A4: ERIC | D4: 16 | E4: 14 | F4: 8
A5: CHRISTOPHE | D5: 12 | E5: 8 | F5: 6
A6: ABDELGHANI | D6: 10 | E6: 8 | F6: 8
A7: CHARLES-HENRY | D7: 0 | E7: 0 | F7: 0
D8: 0 | E8: 0 | F8: 0
A9: YOUNESS | D9: 20 | E9: 14 | F9: 8
A10: FREDERIQUE | D10: 14 | E10: 12 | F10: 8
D11: =SUM(D4:D10) -> 72 | E11: =SUM(E4:E10) -> 56 | F11: =SUM(F4:F10) -> 38
C15: lundi | D15: mardi | E15: mercredi | F15: jeudi | G15: vendredi | H15: samedi | I15: dimanche | L15: lundi | M15: mardi | N15: mercredi | O15: jeudi | P15: vendredi | Q15: samedi | R15: dimanche
C16: 43325 | D16: 43326 | E16: 43327 | F16: 43328 | G16: 43329 | H16: 43330 | I16: 43331 | L16: 43325 | M16: 43326 | N16: 43327 | O16: 43328 | P16: 43329 | Q16: 43330 | R16: 43331
B17: 08h30 | K17: 08h30 | M17: CHRISTOPHE 2 | O17: ERIC 2 | P17: FRED C 2
B18: 10h45 | K18: 10h45 | L18: CHRISTOPHE 1 | M18: YOUNESS 2 | N18: ERIC 1 | O18: YOUNESS 4 | P18: ABDELGHANI 2
B20: 13h30 | K20: 13h30 | L20: YOUNESS 1 | M20: ABDELGHANI 1 | N20: FRED C 1 | P20: 13h15 YOUNESS 5
B21: 15h45 | K21: 15h45 | N21: YOUNESS 3
C26: lundi | D26: mardi | E26: mercredi | F26: jeudi | G26: vendredi | H26: samedi | I26: dimanche | L26: lundi | M26: mardi | N26: mercredi | O26: jeudi | P26: vendredi | Q26: samedi | R26: dimanche
C27: 43332 | D27: 43333 | E27: 43334 | F27: 43335 | G27: 43336 | H27: 43337 | I27: 43338 | L27: 43332 | M27: 43333 | N27: 43334 | O27: 43335 | P27: 43336 | Q27: 43337 | R27: 43338
B28: 08h30 | K28: 08h30 | M28: FRED C 2
B29: 10h45 | K29: 10h45 | M29: CHRISTOPHE 3
B31: 13h30 | K31: 13h30 | L31: ERIC 3 | N31: ERIC 4 | O31: ERIC 5 | P31: CHRISTOPHE 4
B32: 15h45 | K32: 15h45 | L32: YOUNESS 6 | N32: FRED C 3 | O32: YOUNESS 7 | P32: ABDELGHANI 3
C38: lundi | D38: mardi | E38: mercredi | F38: jeudi | G38: vendredi | H38: samedi | I38: dimanche | L38: lundi | M38: mardi | N38: mercredi | O38: jeudi | P38: vendredi | Q38: samedi | R38: dimanche
C39: 43339 | D39: 43340 | E39: 43341 | F39: 43342 | G39: 43343 | H39: 43344 | I39: 43345 | L39: 43339 | M39: 43340 | N39: 43341 | O39: 43342 | P39: 43343 | Q39: 43344 | R39: 43345
B40: 08h30 | K40: 08h30 | M40: ERIC 6 | N40: 09h00 YOUNESS 10
B41: 10h45 | K41: 10h45 | M41: CHRISTOPHE 5 | N41: 11h15 ABDELGHANI 4 | O41: 10h00 Coaching Chloé et Binjamin
B43: 13h30 | K43: 13h30 | L43: FRED C 4 | N43: 14h ABDELGHANI 5 | O43: FRED C 5 | P43: FRED C6
B44: 15h45 | K44: 15h45 | L44: YOUNESS 8 | O44: YOUNESS 9 | P44: ERIC 7
C49: lundi | D49: mardi | E49: mercredi | F49: jeudi | G49: vendredi | H49: samedi | I49: dimanche | L49: lundi | M49: mardi | N49: mercredi | O49: jeudi | P49: vendredi | Q49: samedi | R49: dimanche
C50: 43346 | D50: 43347 | E50: 43348 | F50: 43349 | G50: 43350 | H50: 43351 | I50: 43352 | L50: 43346 | M50: 43347 | N50: 43348 | O50: 43349 | P50: 43350 | Q50: 43351 | R50: 43352
B51: 08h30 | K51: 08h30
B52: 10h45 | K52: 10h45 | M52: ERIC 8
B54: 13h30 | K54: 13h30 | M54: ABDELGHANI 6
B55: 15h45 | K55: 15h45 | M55: CHRISTOPHE 6
C59: lundi | D59: mardi | E59: mercredi | F59: jeudi | G59: vendredi | H59: samedi | I59: dimanche | L59: lundi | M59: mardi | N59: mercredi | O59: jeudi | P59: vendredi | Q59: samedi | R59: dimanche
C60: 43353 | D60: 43354 | E60: 43355 | F60: 43356 | G60: 43357 | H60: 43358 | I60: 43359 | L60: 43353 | M60: 43354 | N60: 43355 | O60: 43356 | P60: 43357 | Q60: 43358 | R60: 43359
B61: 08h30 | K61: 08h30
B62: 10h45 | K62: 10h45
B64: 13h30 | K64: 13h30
B65: 15h45 | K65: 15h45

Sheet CHRISTOPHE
A1: NOM
A2: Prenom | B2: CHRISTOPHE
A3: Matière(s)
A4: Année 2018/2019 | B4: P5-P7
A6: DISPO
A7: INDISPO
A8: JOUABLE
A15: Aout | B15: 43325 | C15: 43326 | D15: 43327 | E15: 43328 | F15: 43329 | G15: 43330
B16: lundi | C16: mardi | D16: mercredi | E16: jeudi | F16: vendredi | G16: samedi
A17: 08h30-10h30 | B17: =COUNTIF('P5'!C17,"*CHRIST*")+COUNTIF('P5'!L17,"*CHRIST*")+COUNTIF('P7'!C17,"*CHRIST*")+COUNTIF('P7'!L17,"*CHRIST*") -> 0 | C17: =COUNTIF('P5'!D17,"*CHRIST*")+COUNTIF('P5'!M17,"*CHRIST*")+COUNTIF('P7'!D17,"*CHRIST*")+COUNTIF('P7'!M17,"*CHRIST*") -> 1 | D17: =COUNTIF('P5'!E17,"*CHRIST*")+COUNTIF('P5'!N17,"*CHRIST*")+COUNTIF('P7'!E17,"*CHRIST*")+COUNTIF('P7'!N17,"*CHRIST*") -> 0 | E17: =COUNTIF('P5'!F17,"*CHRIST*")+COUNTIF('P5'!O17,"*CHRIST*")+COUNTIF('P7'!F17,"*CHRIST*")+COUNTIF('P7'!O17,"*CHRIST*") -> 0 | F17: =COUNTIF('P5'!G17,"*CHRIST*")+COUNTIF('P5'!P17,"*CHRIST*")+COUNTIF('P7'!G17,"*CHRIST*")+COUNTIF('P7'!P17,"*CHRIST*") -> 0 | G17: =COUNTIF('P5'!H17,"*CHRIST*")+COUNTIF('P5'!Q17,"*CHRIST*")+COUNTIF('P7'!H17,"*CHRIST*")+COUNTIF('P7'!Q17,"*CHRIST*") -> 0
A18: 10h45-12h45 | B18: =COUNTIF('P5'!C18,"*CHRIST*")+COUNTIF('P5'!L18,"*CHRIST*")+COUNTIF('P7'!C18,"*CHRIST*")+COUNTIF('P7'!L18,"*CHRIST*") -> 1 | C18: =COUNTIF('P5'!D18,"*CHRIST*")+COUNTIF('P5'!M18,"*CHRIST*")+COUNTIF('P7'!D18,"*CHRIST*")+COUNTIF('P7'!M18,"*CHRIST*") -> 1 | D18: =COUNTIF('P5'!E18,"*CHRIST*")+COUNTIF('P5'!N18,"*CHRIST*")+COUNTIF('P7'!E18,"*CHRIST*")+COUNTIF('P7'!N18,"*CHRIST*") -> 0 | E18: =COUNTIF('P5'!F18,"*CHRIST*")+COUNTIF('P5'!O18,"*CHRIST*")+COUNTIF('P7'!F18,"*CHRIST*")+COUNTIF('P7'!O18,"*CHRIST*") -> 0 | F18: =COUNTIF('P5'!G18,"*CHRIST*")+COUNTIF('P5'!P18,"*CHRIST*")+COUNTIF('P7'!G18,"*CHRIST*")+COUNTIF('P7'!P18,"*CHRIST*") -> 0 | G18: =COUNTIF('P5'!H18,"*CHRIST*")+COUNTIF('P5'!Q18,"*CHRIST*")+COUNTIF('P7'!H18,"*CHRIST*")+COUNTIF('P7'!Q18,"*CHRIST*") -> 0
A20: 13h30-15h30 | B20: =COUNTIF('P5'!C20,"*CHRIST*")+COUNTIF('P5'!L20,"*CHRIST*")+COUNTIF('P7'!C20,"*CHRIST*")+COUNTIF('P7'!L20,"*CHRIST*") -> 0 | C20: =COUNTIF('P5'!D20,"*CHRIST*")+COUNTIF('P5'!M20,"*CHRIST*")+COUNTIF('P7'!D20,"*CHRIST*")+COUNTIF('P7'!M20,"*CHRIST*") -> 0 | D20: =COUNTIF('P5'!E20,"*CHRIST*")+COUNTIF('P5'!N20,"*CHRIST*")+COUNTIF('P7'!E20,"*CHRIST*")+COUNTIF('P7'!N20,"*CHRIST*") -> 0 | E20: =COUNTIF('P5'!F20,"*CHRIST*")+COUNTIF('P5'!O20,"*CHRIST*")+COUNTIF('P7'!F20,"*CHRIST*")+COUNTIF('P7'!O20,"*CHRIST*") -> 0 | F20: =COUNTIF('P5'!G20,"*CHRIST*")+COUNTIF('P5'!P20,"*CHRIST*")+COUNTIF('P7'!G20,"*CHRIST*")+COUNTIF('P7'!P20,"*CHRIST*") -> 0 | G20: =COUNTIF('P5'!H20,"*CHRIST*")+COUNTIF('P5'!Q20,"*CHRIST*")+COUNTIF('P7'!H20,"*CHRIST*")+COUNTIF('P7'!Q20,"*CHRIST*") -> 0
A21: 15h45-17h45 | B21: =COUNTIF('P5'!C21,"*CHRIST*")+COUNTIF('P5'!L21,"*CHRIST*")+COUNTIF('P7'!C21,"*CHRIST*")+COUNTIF('P7'!L21,"*CHRIST*") -> 0 | C21: =COUNTIF('P5'!D21,"*CHRIST*")+COUNTIF('P5'!M21,"*CHRIST*")+COUNTIF('P7'!D21,"*CHRIST*")+COUNTIF('P7'!M21,"*CHRIST*") -> 0 | D21: =COUNTIF('P5'!E21,"*CHRIST*")+COUNTIF('P5'!N21,"*CHRIST*")+COUNTIF('P7'!E21,"*CHRIST*")+COUNTIF('P7'!N21,"*CHRIST*") -> 0 | E21: =COUNTIF('P5'!F21,"*CHRIST*")+COUNTIF('P5'!O21,"*CHRIST*")+COUNTIF('P7'!F21,"*CHRIST*")+COUNTIF('P7'!O21,"*CHRIST*") -> 0 | F21: =COUNTIF('P5'!G21,"*CHRIST*")+COUNTIF('P5'!P21,"*CHRIST*")+COUNTIF('P7'!G21,"*CHRIST*")+COUNTIF('P7'!P21,"*CHRIST*") -> 0 | G21: =COUNTIF('P5'!H21,"*CHRIST*")+COUNTIF('P5'!Q21,"*CHRIST*")+COUNTIF('P7'!H21,"*CHRIST*")+COUNTIF('P7'!Q21,"*CHRIST*") -> 0
A23: Aout | B23: 43332 | C23: 43333 | D23: 43334 | E23: 43335 | F23: 43336 | G23: 43337
B24: lundi | C24: mardi | D24: mercredi | E24: jeudi | F24: vendredi | G24: samedi
A25: 08h30-10h30 | B25: =COUNTIF('P5'!C28,"*CHRIST*")+COUNTIF('P5'!L28,"*CHRIST*")+COUNTIF('P7'!C28,"*CHRIST*")+COUNTIF('P7'!L28,"*CHRIST*") -> 0 | C25: =COUNTIF('P5'!D28,"*CHRIST*")+COUNTIF('P5'!M28,"*CHRIST*")+COUNTIF('P7'!D28,"*CHRIST*")+COUNTIF('P7'!M28,"*CHRIST*") -> 0 | D25: =COUNTIF('P5'!E28,"*CHRIST*")+COUNTIF('P5'!N28,"*CHRIST*")+COUNTIF('P7'!E28,"*CHRIST*")+COUNTIF('P7'!N28,"*CHRIST*") -> 0 | E25: =COUNTIF('P5'!F28,"*CHRIST*")+COUNTIF('P5'!O28,"*CHRIST*")+COUNTIF('P7'!F28,"*CHRIST*")+COUNTIF('P7'!O28,"*CHRIST*") -> 0 | F25: =COUNTIF('P5'!G28,"*CHRIST*")+COUNTIF('P5'!P28,"*CHRIST*")+COUNTIF('P7'!G28,"*CHRIST*")+COUNTIF('P7'!P28,"*CHRIST*") -> 0 | G25: =COUNTIF('P5'!H28,"*CHRIST*")+COUNTIF('P5'!Q28,"*CHRIST*")+COUNTIF('P7'!H28,"*CHRIST*")+COUNTIF('P7'!Q28,"*CHRIST*") -> 0
A26: 10h45-12h45 | B26: =COUNTIF('P5'!C29,"*CHRIST*")+COUNTIF('P5'!L29,"*CHRIST*")+COUNTIF('P7'!C29,"*CHRIST*")+COUNTIF('P7'!L29,"*CHRIST*") -> 1 | C26: =COUNTIF('P5'!D29,"*CHRIST*")+COUNTIF('P5'!M29,"*CHRIST*")+COUNTIF('P7'!D29,"*CHRIST*")+COUNTIF('P7'!M29,"*CHRIST*") -> 1 | D26: =COUNTIF('P5'!E29,"*CHRIST*")+COUNTIF('P5'!N29,"*CHRIST*")+COUNTIF('P7'!E29,"*CHRIST*")+COUNTIF('P7'!N29,"*CHRIST*") -> 1 | E26: =COUNTIF('P5'!F29,"*CHRIST*")+COUNTIF('P5'!O29,"*CHRIST*")+COUNTIF('P7'!F29,"*CHRIST*")+COUNTIF('P7'!O29,"*CHRIST*") -> 0 | F26: =COUNTIF('P5'!G29,"*CHRIST*")+COUNTIF('P5'!P29,"*CHRIST*")+COUNTIF('P7'!G29,"*CHRIST*")+COUNTIF('P7'!P29,"*CHRIST*") -> 1 | G26: =COUNTIF('P5'!H29,"*CHRIST*")+COUNTIF('P5'!Q29,"*CHRIST*")+COUNTIF('P7'!H29,"*CHRIST*")+COUNTIF('P7'!Q29,"*CHRIST*") -> 0
A28: 13h30-15h30 | B28: =COUNTIF('P5'!C31,"*CHRIST*")+COUNTIF('P5'!L31,"*CHRIST*")+COUNTIF('P7'!C31,"*CHRIST*")+COUNTIF('P7'!L31,"*CHRIST*") -> 0 | C28: =COUNTIF('P5'!D31,"*CHRIST*")+COUNTIF('P5'!M31,"*CHRIST*")+COUNTIF('P7'!D31,"*CHRIST*")+COUNTIF('P7'!M31,"*CHRIST*") -> 0 | D28: =COUNTIF('P5'!E31,"*CHRIST*")+COUNTIF('P5'!N31,"*CHRIST*")+COUNTIF('P7'!E31,"*CHRIST*")+COUNTIF('P7'!N31,"*CHRIST*") -> 0 | E28: =COUNTIF('P5'!F31,"*CHRIST*")+COUNTIF('P5'!O31,"*CHRIST*")+COUNTIF('P7'!F31,"*CHRIST*")+COUNTIF('P7'!O31,"*CHRIST*") -> 0 | F28: =COUNTIF('P5'!G31,"*CHRIST*")+COUNTIF('P5'!P31,"*CHRIST*")+COUNTIF('P7'!G31,"*CHRIST*")+COUNTIF('P7'!P31,"*CHRIST*") -> 1 | G28: =COUNTIF('P5'!H31,"*CHRIST*")+COUNTIF('P5'!Q31,"*CHRIST*")+COUNTIF('P7'!H31,"*CHRIST*")+COUNTIF('P7'!Q31,"*CHRIST*") -> 0
A29: 15h45-17h45 | B29: =COUNTIF('P5'!C32,"*CHRIST*")+COUNTIF('P5'!L32,"*CHRIST*")+COUNTIF('P7'!C32,"*CHRIST*")+COUNTIF('P7'!L32,"*CHRIST*") -> 1 | C29: =COUNTIF('P5'!D32,"*CHRIST*")+COUNTIF('P5'!M32,"*CHRIST*")+COUNTIF('P7'!D32,"*CHRIST*")+COUNTIF('P7'!M32,"*CHRIST*") -> 0 | D29: =COUNTIF('P5'!E32,"*CHRIST*")+COUNTIF('P5'!N32,"*CHRIST*")+COUNTIF('P7'!E32,"*CHRIST*")+COUNTIF('P7'!N32,"*CHRIST*") -> 1 | E29: =COUNTIF('P5'!F32,"*CHRIST*")+COUNTIF('P5'!O32,"*CHRIST*")+COUNTIF('P7'!F32,"*CHRIST*")+COUNTIF('P7'!O32,"*CHRIST*") -> 0 | F29: =COUNTIF('P5'!G32,"*CHRIST*")+COUNTIF('P5'!P32,"*CHRIST*")+COUNTIF('P7'!G32,"*CHRIST*")+COUNTIF('P7'!P32,"*CHRIST*") -> 1 | G29: =COUNTIF('P5'!H32,"*CHRIST*")+COUNTIF('P5'!Q32,"*CHRIST*")+COUNTIF('P7'!H32,"*CHRIST*")+COUNTIF('P7'!Q32,"*CHRIST*") -> 0
A31: Aout | B31: 43339 | C31: 43340 | D31: 43341 | E31: 43342 | F31: 43343 | G31: 43344
B32: lundi | C32: mardi | D32: mercredi | E32: jeudi | F32: vendredi | G32: samedi
A33: 08h30-10h30 | B33: =COUNTIF('P5'!C40,"*CHRIST*")+COUNTIF('P5'!L40,"*CHRIST*")+COUNTIF('P7'!C40,"*CHRIST*")+COUNTIF('P7'!L40,"*CHRIST*") -> 0 | C33: =COUNTIF('P5'!D40,"*CHRIST*")+COUNTIF('P5'!M40,"*CHRIST*")+COUNTIF('P7'!D40,"*CHRIST*")+COUNTIF('P7'!M40,"*CHRIST*") -> 1 | D33: =COUNTIF('P5'!E40,"*CHRIST*")+COUNTIF('P5'!N40,"*CHRIST*")+COUNTIF('P7'!E40,"*CHRIST*")+COUNTIF('P7'!N40,"*CHRIST*") -> 0 | E33: =COUNTIF('P5'!F40,"*CHRIST*")+COUNTIF('P5'!O40,"*CHRIST*")+COUNTIF('P7'!F40,"*CHRIST*")+COUNTIF('P7'!O40,"*CHRIST*") -> 0 | F33: =COUNTIF('P5'!G40,"*CHRIST*")+COUNTIF('P5'!P40,"*CHRIST*")+COUNTIF('P7'!G40,"*CHRIST*")+COUNTIF('P7'!P40,"*CHRIST*") -> 0 | G33: =COUNTIF('P5'!H40,"*CHRIST*")+COUNTIF('P5'!Q40,"*CHRIST*")+COUNTIF('P7'!H40,"*CHRIST*")+COUNTIF('P7'!Q40,"*CHRIST*") -> 0
A34: 10h45-12h45 | B34: =COUNTIF('P5'!C41,"*CHRIST*")+COUNTIF('P5'!L41,"*CHRIST*")+COUNTIF('P7'!C41,"*CHRIST*")+COUNTIF('P7'!L41,"*CHRIST*") -> 1 | C34: =COUNTIF('P5'!D41,"*CHRIST*")+COUNTIF('P5'!M41,"*CHRIST*")+COUNTIF('P7'!D41,"*CHRIST*")+COUNTIF('P7'!M41,"*CHRIST*") -> 1 | D34: =COUNTIF('P5'!E41,"*CHRIST*")+COUNTIF('P5'!N41,"*CHRIST*")+COUNTIF('P7'!E41,"*CHRIST*")+COUNTIF('P7'!N41,"*CHRIST*") -> 0 | E34: =COUNTIF('P5'!F41,"*CHRIST*")+COUNTIF('P5'!O41,"*CHRIST*")+COUNTIF('P7'!F41,"*CHRIST*")+COUNTIF('P7'!O41,"*CHRIST*") -> 0 | F34: =COUNTIF('P5'!G41,"*CHRIST*")+COUNTIF('P5'!P41,"*CHRIST*")+COUNTIF('P7'!G41,"*CHRIST*")+COUNTIF('P7'!P41,"*CHRIST*") -> 0 | G34: =COUNTIF('P5'!H41,"*CHRIST*")+COUNTIF('P5'!Q41,"*CHRIST*")+COUNTIF('P7'!H41,"*CHRIST*")+COUNTIF('P7'!Q41,"*CHRIST*") -> 0
A36: 13h30-15h30 | B36: =COUNTIF('P5'!C43,"*CHRIST*")+COUNTIF('P5'!L43,"*CHRIST*")+COUNTIF('P7'!C43,"*CHRIST*")+COUNTIF('P7'!L43,"*CHRIST*") -> 0 | C36: =COUNTIF('P5'!D43,"*CHRIST*")+COUNTIF('P5'!M43,"*CHRIST*")+COUNTIF('P7'!D43,"*CHRIST*")+COUNTIF('P7'!M43,"*CHRIST*") -> 1 | D36: =COUNTIF('P5'!E43,"*CHRIST*")+COUNTIF('P5'!N43,"*CHRIST*")+COUNTIF('P7'!E43,"*CHRIST*")+COUNTIF('P7'!N43,"*CHRIST*") -> 0 | E36: =COUNTIF('P5'!F43,"*CHRIST*")+COUNTIF('P5'!O43,"*CHRIST*")+COUNTIF('P7'!F43,"*CHRIST*")+COUNTIF('P7'!O43,"*CHRIST*") -> 0 | F36: =COUNTIF('P5'!G43,"*CHRIST*")+COUNTIF('P5'!P43,"*CHRIST*")+COUNTIF('P7'!G43,"*CHRIST*")+COUNTIF('P7'!P43,"*CHRIST*") -> 0 | G36: =COUNTIF('P5'!H43,"*CHRIST*")+COUNTIF('P5'!Q43,"*CHRIST*")+COUNTIF('P7'!H43,"*CHRIST*")+COUNTIF('P7'!Q43,"*CHRIST*") -> 0
A37: 15h45-17h45 | B37: =COUNTIF('P5'!C44,"*CHRIST*")+COUNTIF('P5'!L44,"*CHRIST*")+COUNTIF('P7'!C44,"*CHRIST*")+COUNTIF('P7'!L44,"*CHRIST*") -> 1 | C37: =COUNTIF('P5'!D44,"*CHRIST*")+COUNTIF('P5'!M44,"*CHRIST*")+COUNTIF('P7'!D44,"*CHRIST*")+COUNTIF('P7'!M44,"*CHRIST*") -> 0 | D37: =COUNTIF('P5'!E44,"*CHRIST*")+COUNTIF('P5'!N44,"*CHRIST*")+COUNTIF('P7'!E44,"*CHRIST*")+COUNTIF('P7'!N44,"*CHRIST*") -> 0 | E37: =COUNTIF('P5'!F44,"*CHRIST*")+COUNTIF('P5'!O44,"*CHRIST*")+COUNTIF('P7'!F44,"*CHRIST*")+COUNTIF('P7'!O44,"*CHRIST*") -> 0 | F37: =COUNTIF('P5'!G44,"*CHRIST*")+COUNTIF('P5'!P44,"*CHRIST*")+COUNTIF('P7'!G44,"*CHRIST*")+COUNTIF('P7'!P44,"*CHRIST*") -> 0 | G37: =COUNTIF('P5'!H44,"*CHRIST*")+COUNTIF('P5'!Q44,"*CHRIST*")+COUNTIF('P7'!H44,"*CHRIST*")+COUNTIF('P7'!Q44,"*CHRIST*") -> 0
A39: Septembre | B39: 43346 | C39: 43347 | D39: 43348 | E39: 43349 | F39: 43350 | G39: 43351
B40: lundi | C40: mardi | D40: mercredi | E40: jeudi | F40: vendredi | G40: samedi
A41: 08h30-10h30 | B41: =COUNTIF('P5'!C51,"*CHRIST*")+COUNTIF('P5'!L51,"*CHRIST*")+COUNTIF('P7'!C51,"*CHRIST*")+COUNTIF('P7'!L51,"*CHRIST*") -> 0 | C41: =COUNTIF('P5'!D51,"*CHRIST*")+COUNTIF('P5'!M51,"*CHRIST*")+COUNTIF('P7'!D51,"*CHRIST*")+COUNTIF('P7'!M51,"*CHRIST*") -> 0 | D41: =COUNTIF('P5'!E51,"*CHRIST*")+COUNTIF('P5'!N51,"*CHRIST*")+COUNTIF('P7'!E51,"*CHRIST*")+COUNTIF('P7'!N51,"*CHRIST*") -> 0 | E41: =COUNTIF('P5'!F51,"*CHRIST*")+COUNTIF('P5'!O51,"*CHRIST*")+COUNTIF('P7'!F51,"*CHRIST*")+COUNTIF('P7'!O51,"*CHRIST*") -> 0 | F41: =COUNTIF('P5'!G51,"*CHRIST*")+COUNTIF('P5'!P51,"*CHRIST*")+COUNTIF('P7'!G51,"*CHRIST*")+COUNTIF('P7'!P51,"*CHRIST*") -> 0 | G41: =COUNTIF('P5'!H51,"*CHRIST*")+COUNTIF('P5'!Q51,"*CHRIST*")+COUNTIF('P7'!H51,"*CHRIST*")+COUNTIF('P7'!Q51,"*CHRIST*") -> 0
A42: 10h45-12h45 | B42: =COUNTIF('P5'!C52,"*CHRIST*")+COUNTIF('P5'!L52,"*CHRIST*")+COUNTIF('P7'!C52,"*CHRIST*")+COUNTIF('P7'!L52,"*CHRIST*") -> 0 | C42: =COUNTIF('P5'!D52,"*CHRIST*")+COUNTIF('P5'!M52,"*CHRIST*")+COUNTIF('P7'!D52,"*CHRIST*")+COUNTIF('P7'!M52,"*CHRIST*") -> 0 | D42: =COUNTIF('P5'!E52,"*CHRIST*")+COUNTIF('P5'!N52,"*CHRIST*")+COUNTIF('P7'!E52,"*CHRIST*")+COUNTIF('P7'!N52,"*CHRIST*") -> 0 | E42: =COUNTIF('P5'!F52,"*CHRIST*")+COUNTIF('P5'!O52,"*CHRIST*")+COUNTIF('P7'!F52,"*CHRIST*")+COUNTIF('P7'!O52,"*CHRIST*") -> 0 | F42: =COUNTIF('P5'!G52,"*CHRIST*")+COUNTIF('P5'!P52,"*CHRIST*")+COUNTIF('P7'!G52,"*CHRIST*")+COUNTIF('P7'!P52,"*CHRIST*") -> 0 | G42: =COUNTIF('P5'!H52,"*CHRIST*")+COUNTIF('P5'!Q52,"*CHRIST*")+COUNTIF('P7'!H52,"*CHRIST*")+COUNTIF('P7'!Q52,"*CHRIST*") -> 0
A44: 13h30-15h30 | B44: =COUNTIF('P5'!C54,"*CHRIST*")+COUNTIF('P5'!L54,"*CHRIST*")+COUNTIF('P7'!C54,"*CHRIST*")+COUNTIF('P7'!L54,"*CHRIST*") -> 0 | C44: =COUNTIF('P5'!D54,"*CHRIST*")+COUNTIF('P5'!M54,"*CHRIST*")+COUNTIF('P7'!D54,"*CHRIST*")+COUNTIF('P7'!M54,"*CHRIST*") -> 0 | D44: =COUNTIF('P5'!E54,"*CHRIST*")+COUNTIF('P5'!N54,"*CHRIST*")+COUNTIF('P7'!E54,"*CHRIST*")+COUNTIF('P7'!N54,"*CHRIST*") -> 0 | E44: =COUNTIF('P5'!F54,"*CHRIST*")+COUNTIF('P5'!O54,"*CHRIST*")+COUNTIF('P7'!F54,"*CHRIST*")+COUNTIF('P7'!O54,"*CHRIST*") -> 0 | F44: =COUNTIF('P5'!G54,"*CHRIST*")+COUNTIF('P5'!P54,"*CHRIST*")+COUNTIF('P7'!G54,"*CHRIST*")+COUNTIF('P7'!P54,"*CHRIST*") -> 0 | G44: =COUNTIF('P5'!H54,"*CHRIST*")+COUNTIF('P5'!Q54,"*CHRIST*")+COUNTIF('P7'!H54,"*CHRIST*")+COUNTIF('P7'!Q54,"*CHRIST*") -> 0
A45: 15h45-17h45 | B45: =COUNTIF('P5'!C55,"*CHRIST*")+COUNTIF('P5'!L55,"*CHRIST*")+COUNTIF('P7'!C55,"*CHRIST*")+COUNTIF('P7'!L55,"*CHRIST*") -> 0 | C45: =COUNTIF('P5'!D55,"*CHRIST*")+COUNTIF('P5'!M55,"*CHRIST*")+COUNTIF('P7'!D55,"*CHRIST*")+COUNTIF('P7'!M55,"*CHRIST*") -> 1 | D45: =COUNTIF('P5'!E55,"*CHRIST*")+COUNTIF('P5'!N55,"*CHRIST*")+COUNTIF('P7'!E55,"*CHRIST*")+COUNTIF('P7'!N55,"*CHRIST*") -> 0 | E45: =COUNTIF('P5'!F55,"*CHRIST*")+COUNTIF('P5'!O55,"*CHRIST*")+COUNTIF('P7'!F55,"*CHRIST*")+COUNTIF('P7'!O55,"*CHRIST*") -> 0 | F45: =COUNTIF('P5'!G55,"*CHRIST*")+COUNTIF('P5'!P55,"*CHRIST*")+COUNTIF('P7'!G55,"*CHRIST*")+COUNTIF('P7'!P55,"*CHRIST*") -> 0 | G45: =COUNTIF('P5'!H55,"*CHRIST*")+COUNTIF('P5'!Q55,"*CHRIST*")+COUNTIF('P7'!H55,"*CHRIST*")+COUNTIF('P7'!Q55,"*CHRIST*") -> 0
A47: Septembre | B47: 43353 | C47: 43354 | D47: 43355 | E47: 43356 | F47: 43357 | G47: 43358
B48: lundi | C48: mardi | D48: mercredi | E48: jeudi | F48: vendredi | G48: samedi
A49: 08h30-10h30
A50: 10h45-12h45
A52: 13h30-15h30
A53: 15h45-17h45
A55: Septembre | B55: 43360 | C55: 43361 | D55: 43362 | E55: 43363 | F55: 43364 | G55: 43365
B56: lundi | C56: mardi | D56: mercredi | E56: jeudi | F56: vendredi | G56: samedi
A57: 08h30-10h30
A58: 10h45-12h45
A60: 13h30-15h30
A61: 15h45-17h45
