Workbook

Sheet 100
B1: Bourse aux vêtements - Accueil et Loisirs - St Fulgent
D3: Nom | E3: A
D4: Prénom
B5: Repris / Non repris | D5: Adresse
D6: Téléphone
D8: N° Client | E8: 100
A10: N° | B10: Age | C10: Désignation | D10: Marque | E10: sexe | F10: prix | G10: vendu
A11: 1 | B11: 38-40 | C11: chemise de nuit grossesse marron | D11: calinkalin | F11: 1 | G11: =SUMIFS(vente!D:D,vente!B:B,'100'!$E$8,vente!C:C,'100'!A11) -> 1
A12: =A11+1 -> 2 | B12: M | C12: tunique grossesse grise violette manche 3/4 | D12: piches | F12: 1 | G12: =SUMIFS(vente!D:D,vente!B:B,'100'!$E$8,vente!C:C,'100'!A12) -> 0
A13: =A12+1 -> 3 | B13: M | C13: pantacourts grossesse blanc | D13: cmp | F13: 1 | G13: =SUMIFS(vente!D:D,vente!B:B,'100'!$E$8,vente!C:C,'100'!A13) -> 1
A14: =A13+1 -> 4 | B14: M | C14: robe violette manche 3/4 | D14: only | F14: 2 | G14: =SUMIFS(vente!D:D,vente!B:B,'100'!$E$8,vente!C:C,'100'!A14) -> 0
A15: =A14+1 -> 5 | C15: débardeur grossesse noir | D15: endsky | F15: 1 | G15: =SUMIFS(vente!D:D,vente!B:B,'100'!$E$8,vente!C:C,'100'!A15) -> 1
A16: =A15+1 -> 6 | B16: 40 | C16: débardeur grossesse imprimé jaune gris bleu | D16: kiabi | F16: 2 | G16: =SUMIFS(vente!D:D,vente!B:B,'100'!$E$8,vente!C:C,'100'!A16) -> 2
A17: =A16+1 -> 7 | B17: s | C17: chemisier grossesse taupe | D17: only | F17: 2 | G17: =SUMIFS(vente!D:D,vente!B:B,'100'!$E$8,vente!C:C,'100'!A17) -> 2
A18: =A17+1 -> 8 | B18: 18 mois | C18: pyjama jaune orange vert | D18: orchestra | E18: G | F18: 1 | G18: =SUMIFS(vente!D:D,vente!B:B,'100'!$E$8,vente!C:C,'100'!A18) -> 0
A19: =A18+1 -> 9 | B19: 18 mois | C19: tee shirt ML bleu et blanc | D19: orchestra | E19: G | F19: 1 | G19: =SUMIFS(vente!D:D,vente!B:B,'100'!$E$8,vente!C:C,'100'!A19) -> 0
A20: =A19+1 -> 10 | B20: 18 mois | C20: chemise blanche ML | D20: orchestra | E20: G | F20: 1 | G20: =SUMIFS(vente!D:D,vente!B:B,'100'!$E$8,vente!C:C,'100'!A20) -> 1
A21: =A20+1 -> 11 | B21: 18 mois | C21: tee shirt blanc MC voiture | E21: G | F21: 1 | G21: =SUMIFS(vente!D:D,vente!B:B,'100'!$E$8,vente!C:C,'100'!A21) -> 0
A22: =A21+1 -> 12 | B22: 18 mois | C22: tee shirt MC blanc "use your imagination" | D22: timberland | E22: G | F22: 1 | G22: =SUMIFS(vente!D:D,vente!B:B,'100'!$E$8,vente!C:C,'100'!A22) -> 1
A23: =A22+1 -> 13 | B23: 18 mois | C23: tee shirt ML orange et blanc | D23: timberland | E23: G | F23: 1 | G23: =SUMIFS(vente!D:D,vente!B:B,'100'!$E$8,vente!C:C,'100'!A23) -> 1
A24: =A23+1 -> 14 | B24: 18 mois | C24: ensemble pantalon bordeau et tunique fleurs | D24: u tout petit | E24: F | F24: 2 | G24: =SUMIFS(vente!D:D,vente!B:B,'100'!$E$8,vente!C:C,'100'!A24) -> 0
A25: =A24+1 -> 15 | B25: 18 mois | C25: salopette longue jean noir | D25: orchestra | E25: G | F25: 1 | G25: =SUMIFS(vente!D:D,vente!B:B,'100'!$E$8,vente!C:C,'100'!A25) -> 1
A26: =A25+1 -> 16 | B26: 18 mois | C26: ensemble salopette short jean gris clair et tee shirt rayé | D26: terre de marins | E26: G | F26: 2 | G26: =SUMIFS(vente!D:D,vente!B:B,'100'!$E$8,vente!C:C,'100'!A26) -> 0
A27: =A26+1 -> 17 | B27: 18 mois | C27: tee shirt gris bateau | D27: timberland | E27: G | F27: 1 | G27: =SUMIFS(vente!D:D,vente!B:B,'100'!$E$8,vente!C:C,'100'!A27) -> 0
A28: =A27+1 -> 18 | B28: 18 mois | C28: ensemble pantalon marron et chemise jaune | D28: tom et kiddy | E28: G | F28: 1 | G28: =SUMIFS(vente!D:D,vente!B:B,'100'!$E$8,vente!C:C,'100'!A28) -> 0
A29: 19 | B29: 18 mois | C29: polo ML kaki | D29: kidkanai | E29: G | F29: 1 | G29: =SUMIFS(vente!D:D,vente!B:B,'100'!$E$8,vente!C:C,'100'!A29) -> 0
A30: =A29+1 -> 20 | B30: 18 mois | C30: tee shirt ML blanc "destination bisous" | D30: tape à l'œil | E30: G | F30: 1 | G30: =SUMIFS(vente!D:D,vente!B:B,'100'!$E$8,vente!C:C,'100'!A30) -> 0
A31: =A30+1 -> 21 | B31: 18 mois | C31: chemise ML blanche rayé marron | D31: orchestra | E31: G | F31: 1 | G31: =SUMIFS(vente!D:D,vente!B:B,'100'!$E$8,vente!C:C,'100'!A31) -> 0
A32: =A31+1 -> 22 | B32: 18 mois | C32: chemise ML à carreaux marron vert | D32: les p'tits babies | E32: G | F32: 1 | G32: =SUMIFS(vente!D:D,vente!B:B,'100'!$E$8,vente!C:C,'100'!A32) -> 0
A33: =A32+1 -> 23 | B33: 18 mois | C33: chemise ML rayé bleu clair | D33: jean bourget | E33: G | F33: 1 | G33: =SUMIFS(vente!D:D,vente!B:B,'100'!$E$8,vente!C:C,'100'!A33) -> 0
A34: =A33+1 -> 24 | B34: 3 mois | C34: Tee shirt ML blanc rayé beige | D34: kitchoun | E34: G | F34: 1 | G34: =SUMIFS(vente!D:D,vente!B:B,'100'!$E$8,vente!C:C,'100'!A34) -> 0
A35: =A34+1 -> 25 | B35: 3 mois | C35: tee shirt ML blanc manches bleues | D35: u collection | E35: G | F35: 1 | G35: =SUMIFS(vente!D:D,vente!B:B,'100'!$E$8,vente!C:C,'100'!A35) -> 0
A36: =A35+1 -> 26 | B36: 3 mois | C36: short beige | D36: kitiwatt | E36: G | F36: 1 | G36: =SUMIFS(vente!D:D,vente!B:B,'100'!$E$8,vente!C:C,'100'!A36) -> 0
A37: =A36+1 -> 27 | B37: 6 mois | C37: salopette short beige | D37: u collection | E37: G | F37: 1 | G37: =SUMIFS(vente!D:D,vente!B:B,'100'!$E$8,vente!C:C,'100'!A37) -> 0
A38: =A37+1 -> 28 | B38: 6 mois | C38: tee shirt marron | D38: kimbaloo | E38: G | F38: 1 | G38: =SUMIFS(vente!D:D,vente!B:B,'100'!$E$8,vente!C:C,'100'!A38) -> 0
A39: =A38+1 -> 29 | B39: 6 mois | C39: gilet bleu ciel | E39: G | F39: 1 | G39: =SUMIFS(vente!D:D,vente!B:B,'100'!$E$8,vente!C:C,'100'!A39) -> 0
A40: =A39+1 -> 30 | B40: 6 mois | C40: tee shirt bleu | D40: timberland | E40: G | F40: 1 | G40: =SUMIFS(vente!D:D,vente!B:B,'100'!$E$8,vente!C:C,'100'!A40) -> 0
A41: =A40+1 -> 31 | B41: 6 mois | C41: polo marine | D41: timberland | E41: G | F41: 1 | G41: =SUMIFS(vente!D:D,vente!B:B,'100'!$E$8,vente!C:C,'100'!A41) -> 0
A42: =A41+1 -> 32 | B42: 6 mois | C42: chemise ML à carreaux rouges | D42: hugo boss | E42: G | F42: 1.5 | G42: =SUMIFS(vente!D:D,vente!B:B,'100'!$E$8,vente!C:C,'100'!A42) -> 0
A43: =A42+1 -> 33 | B43: 6 mois | C43: tee shirt ML blanc | D43: petit pirate | E43: G | F43: 1 | G43: =SUMIFS(vente!D:D,vente!B:B,'100'!$E$8,vente!C:C,'100'!A43) -> 0
A44: =A43+1 -> 34 | B44: 6 mois | C44: tee shirt bleu baleine | D44: marese | E44: G | F44: 1 | G44: =SUMIFS(vente!D:D,vente!B:B,'100'!$E$8,vente!C:C,'100'!A44) -> 0
A45: =A44+1 -> 35 | B45: 6 mois | C45: ensemble salopette short rouge et tee shirt | D45: ourson | E45: G | F45: 1.5 | G45: =SUMIFS(vente!D:D,vente!B:B,'100'!$E$8,vente!C:C,'100'!A45) -> 0
A46: =A45+1 -> 36 | B46: 6 mois | C46: salopette marron | D46: pickouic | E46: G | F46: 1 | G46: =SUMIFS(vente!D:D,vente!B:B,'100'!$E$8,vente!C:C,'100'!A46) -> 0
A47: =A46+1 -> 37 | B47: 9 mois | C47: tee shirt orange | D47: alphabet | E47: G | F47: 1 | G47: =SUMIFS(vente!D:D,vente!B:B,'100'!$E$8,vente!C:C,'100'!A47) -> 0
A48: =A47+1 -> 38 | B48: 12 mois | C48: ensemble robe rose et culotte | D48: mini adélie | E48: F | F48: 1.5 | G48: =SUMIFS(vente!D:D,vente!B:B,'100'!$E$8,vente!C:C,'100'!A48) -> 0
A49: =A48+1 -> 39 | B49: 3 ans | C49: chemise ML grise | D49: orchestra | E49: G | F49: 1 | G49: =SUMIFS(vente!D:D,vente!B:B,'100'!$E$8,vente!C:C,'100'!A49) -> 0
A50: =A49+1 -> 40 | B50: 3 ans | C50: chemise rayé | D50: orchestra | E50: G | F50: 1 | G50: =SUMIFS(vente!D:D,vente!B:B,'100'!$E$8,vente!C:C,'100'!A50) -> 0
A51: =A50+1 -> 41 | B51: 8 ans | C51: tee shirt ML beige camion | E51: G | F51: 1 | G51: =SUMIFS(vente!D:D,vente!B:B,'100'!$E$8,vente!C:C,'100'!A51) -> 0
A52: =A51+1 -> 42 | B52: 10 ans | C52: sweat gris | D52: energetics | E52: G | F52: 2 | G52: =SUMIFS(vente!D:D,vente!B:B,'100'!$E$8,vente!C:C,'100'!A52) -> 0
A53: =A52+1 -> 43 | B53: 8 ans | C53: tee shirt ML bleu robot | D53: pick ouic | E53: G | F53: 1 | G53: =SUMIFS(vente!D:D,vente!B:B,'100'!$E$8,vente!C:C,'100'!A53) -> 0
A54: =A53+1 -> 44 | B54: 8 ans | C54: jean bleu | D54: tissaia | E54: G | F54: 1.5 | G54: =SUMIFS(vente!D:D,vente!B:B,'100'!$E$8,vente!C:C,'100'!A54) -> 0
A55: =A54+1 -> 45 | B55: 18 mois | C55: gilet court blanc | D55: tape à l'œil | E55: F | F55: 1 | G55: =SUMIFS(vente!D:D,vente!B:B,'100'!$E$8,vente!C:C,'100'!A55) -> 0
A56: =A55+1 -> 46 | B56: 24 mois | C56: gilet rouge | D56: u collection | E56: F | F56: 1 | G56: =SUMIFS(vente!D:D,vente!B:B,'100'!$E$8,vente!C:C,'100'!A56) -> 0
A57: =A56+1 -> 47 | B57: 23 mois | C57: robe rose winnie l'ourson | D57: disney | E57: F | F57: 1 | G57: =SUMIFS(vente!D:D,vente!B:B,'100'!$E$8,vente!C:C,'100'!A57) -> 0
A58: =A57+1 -> 48 | B58: 4 ans | C58: pantacourts kaki | E58: G | F58: 1 | G58: =SUMIFS(vente!D:D,vente!B:B,'100'!$E$8,vente!C:C,'100'!A58) -> 0
A59: =A58+1 -> 49 | B59: 6 ans | C59: gilet sans manche noir | D59: bestway | E59: G | F59: 1 | G59: =SUMIFS(vente!D:D,vente!B:B,'100'!$E$8,vente!C:C,'100'!A59) -> 0
A60: =A59+1 -> 50 | B60: 6 ans | C60: chemise noir rayé | D60: bestway | E60: G | F60: 1 | G60: =SUMIFS(vente!D:D,vente!B:B,'100'!$E$8,vente!C:C,'100'!A60) -> 0
A61: =A60+1 -> 51 | B61: 6 ans | C61: short flash mc queen | D61: disney | E61: G | F61: 1 | G61: =SUMIFS(vente!D:D,vente!B:B,'100'!$E$8,vente!C:C,'100'!A61) -> 0
A62: =A61+1 -> 52 | B62: 5 ans | C62: chemise beige rayé | D62: bestway | E62: G | F62: 1 | G62: =SUMIFS(vente!D:D,vente!B:B,'100'!$E$8,vente!C:C,'100'!A62) -> 0
A63: =A62+1 -> 53 | B63: 3 ans | C63: short noir motoring 27 | E63: G | F63: 1 | G63: =SUMIFS(vente!D:D,vente!B:B,'100'!$E$8,vente!C:C,'100'!A63) -> 0
A64: =A63+1 -> 54 | B64: 24 mois | C64: robe salopette grise | D64: u collection | E64: F | F64: 2 | G64: =SUMIFS(vente!D:D,vente!B:B,'100'!$E$8,vente!C:C,'100'!A64) -> 0
A65: =A64+1 -> 55 | B65: 8 ans | C65: tee-shirt bleu marine | D65: sportway | E65: G | F65: 1 | G65: =SUMIFS(vente!D:D,vente!B:B,'100'!$E$8,vente!C:C,'100'!A65) -> 0
A66: =A65+1 -> 56 | B66: 8 ans | C66: short gris | D66: u essentiel | E66: G | F66: 2 | G66: =SUMIFS(vente!D:D,vente!B:B,'100'!$E$8,vente!C:C,'100'!A66) -> 0
A67: =A66+1 -> 57 | G67: =SUMIFS(vente!D:D,vente!B:B,'100'!$E$8,vente!C:C,'100'!A67) -> 0
A68: =A67+1 -> 58 | G68: =SUMIFS(vente!D:D,vente!B:B,'100'!$E$8,vente!C:C,'100'!A68) -> 0
A69: =A68+1 -> 59 | G69: =SUMIFS(vente!D:D,vente!B:B,'100'!$E$8,vente!C:C,'100'!A69) -> 0
A70: =A69+1 -> 60 | G70: =SUMIFS(vente!D:D,vente!B:B,'100'!$E$8,vente!C:C,'100'!A70) -> 0
D71: Total Ventes | G71: =SUM(G11:G70) -> 11
D72: Prélèvement asso (30%) | G72: =G71*30% -> 3.3
C73: maximum 60 articles déposés | D73: Total cliente | G73: =G71-G72 -> 7.7

Sheet 101
B1: Bourse aux vêtements - Accueil et Loisirs - St Fulgent
D3: Nom | E3: B
D4: Prénom
B5: Repris / Non repris | D5: Adresse
D6: Téléphone
D8: N° Client | E8: 101
A10: N° | B10: Age | C10: Désignation | D10: Marque | E10: sexe | F10: prix | G10: vendu
A11: 1 | B11: 8 ans | C11: pantacourts orange | D11: intersport | E11: M | F11: 6 | G11: =SUMIFS(vente!D:D,vente!B:B,'101'!$E$8,vente!C:C,'101'!A11) -> 6
A12: =A11+1 -> 2 | B12: 8 ans | C12: short bleu maine | D12: adidas | E12: M | F12: 4 | G12: =SUMIFS(vente!D:D,vente!B:B,'101'!$E$8,vente!C:C,'101'!A12) -> 0
A13: =A12+1 -> 3 | B13: 6 ans | C13: short noir | D13: intersport | E13: M | F13: 2 | G13: =SUMIFS(vente!D:D,vente!B:B,'101'!$E$8,vente!C:C,'101'!A13) -> 2
A14: =A13+1 -> 4 | B14: 8 ans | C14: pantacourts bleu | D14: intersport | E14: M | F14: 4 | G14: =SUMIFS(vente!D:D,vente!B:B,'101'!$E$8,vente!C:C,'101'!A14) -> 0
A15: =A14+1 -> 5 | B15: 8 ans | C15: pantacourts bleu | D15: intersport | E15: M | F15: 4 | G15: =SUMIFS(vente!D:D,vente!B:B,'101'!$E$8,vente!C:C,'101'!A15) -> 4
A16: =A15+1 -> 6 | B16: 9-10 ans | C16: tee-shirt blanc | D16: intersport | E16: M | F16: 4 | G16: =SUMIFS(vente!D:D,vente!B:B,'101'!$E$8,vente!C:C,'101'!A16) -> 4
A17: =A16+1 -> 7 | B17: 8 ans | C17: tee-shirt blanc | D17: intersport | E17: M | F17: 4 | G17: =SUMIFS(vente!D:D,vente!B:B,'101'!$E$8,vente!C:C,'101'!A17) -> 4
A18: =A17+1 -> 8 | B18: 7-8 ans | C18: tee-shirt blanc | D18: adidas | E18: M | F18: 1 | G18: =SUMIFS(vente!D:D,vente!B:B,'101'!$E$8,vente!C:C,'101'!A18) -> 0
A19: =A18+1 -> 9 | B19: 7-8 ans | C19: tee-shirt blanc | D19: adidas | E19: M | F19: 1 | G19: =SUMIFS(vente!D:D,vente!B:B,'101'!$E$8,vente!C:C,'101'!A19) -> 0
A20: =A19+1 -> 10 | B20: 7-8 ans | C20: tee-shirt orange | D20: adidas | E20: M | F20: 2 | G20: =SUMIFS(vente!D:D,vente!B:B,'101'!$E$8,vente!C:C,'101'!A20) -> 2
A21: =A20+1 -> 11 | B21: 9-10 ans | C21: tee-shirt gris | D21: espaces des marques | E21: M | F21: 4 | G21: =SUMIFS(vente!D:D,vente!B:B,'101'!$E$8,vente!C:C,'101'!A21) -> 0
A22: =A21+1 -> 12 | B22: 10 ans | C22: polo | D22: intersport | E22: M | F22: 6 | G22: =SUMIFS(vente!D:D,vente!B:B,'101'!$E$8,vente!C:C,'101'!A22) -> 6
A23: =A22+1 -> 13 | B23: 9-10 ans | C23: débardeur | D23: désigual | E23: F | F23: 7 | G23: =SUMIFS(vente!D:D,vente!B:B,'101'!$E$8,vente!C:C,'101'!A23) -> 7
... A41: =A40+1 -> 31 | B41: 12 ans | C41: écharpe | D41: intersport | E41: F | F41: 5 | G41: =SUMIFS(vente!D:D,vente!B:B,'101'!$E$8,vente!C:C,'101'!A41) -> 0
A42: =A41+1 -> 32 | G42: =SUMIFS(vente!D:D,vente!B:B,'101'!$E$8,vente!C:C,'101'!A42) -> 0
A43: =A42+1 -> 33 | G43: =SUMIFS(vente!D:D,vente!B:B,'101'!$E$8,vente!C:C,'101'!A43) -> 0
A44: =A43+1 -> 34 | G44: =SUMIFS(vente!D:D,vente!B:B,'101'!$E$8,vente!C:C,'101'!A44) -> 0
A45: =A44+1 -> 35 | G45: =SUMIFS(vente!D:D,vente!B:B,'101'!$E$8,vente!C:C,'101'!A45) -> 0
A46: =A45+1 -> 36 | G46: =SUMIFS(vente!D:D,vente!B:B,'101'!$E$8,vente!C:C,'101'!A46) -> 0
A47: =A46+1 -> 37 | G47: =SUMIFS(vente!D:D,vente!B:B,'101'!$E$8,vente!C:C,'101'!A47) -> 0
A48: =A47+1 -> 38 | G48: =SUMIFS(vente!D:D,vente!B:B,'101'!$E$8,vente!C:C,'101'!A48) -> 0
A49: =A48+1 -> 39 | G49: =SUMIFS(vente!D:D,vente!B:B,'101'!$E$8,vente!C:C,'101'!A49) -> 0
A50: =A49+1 -> 40 | G50: =SUMIFS(vente!D:D,vente!B:B,'101'!$E$8,vente!C:C,'101'!A50) -> 0
A51: =A50+1 -> 41 | G51: =SUMIFS(vente!D:D,vente!B:B,'101'!$E$8,vente!C:C,'101'!A51) -> 0
A52: =A51+1 -> 42 | G52: =SUMIFS(vente!D:D,vente!B:B,'101'!$E$8,vente!C:C,'101'!A52) -> 0
A53: =A52+1 -> 43 | G53: =SUMIFS(vente!D:D,vente!B:B,'101'!$E$8,vente!C:C,'101'!A53) -> 0
... A70: =A69+1 -> 60 | G70: =SUMIFS(vente!D:D,vente!B:B,'101'!$E$8,vente!C:C,'101'!A70) -> 0
D71: Total Ventes | G71: =SUM(G11:G70) -> 35.5
D72: Prélèvement asso (30%) | G72: =G71*30% -> 10.65
C73: maximum 60 articles déposés | D73: Total cliente | G73: =G71-G72 -> 24.85

Sheet vente
B3: vente
B4: n° vendeur | C4: n° article | D4: prix
B5: 100 | C5: 1 | D5: =IFERROR(IF(B5=100,VLOOKUP(C5,'100'!$A:$F,6,0),VLOOKUP(C5,'101'!$A:$F,6,0)),"") -> 1
B6: 100 | C6: 3 | D6: =IFERROR(IF(B6=100,VLOOKUP(C6,'100'!$A:$F,6,0),VLOOKUP(C6,'101'!$A:$F,6,0)),"") -> 1
B7: 100 | C7: 5 | D7: =IFERROR(IF(B7=100,VLOOKUP(C7,'100'!$A:$F,6,0),VLOOKUP(C7,'101'!$A:$F,6,0)),"") -> 1
B8: 100 | C8: 6 | D8: =IFERROR(IF(B8=100,VLOOKUP(C8,'100'!$A:$F,6,0),VLOOKUP(C8,'101'!$A:$F,6,0)),"") -> 2
B9: 100 | C9: 7 | D9: =IFERROR(IF(B9=100,VLOOKUP(C9,'100'!$A:$F,6,0),VLOOKUP(C9,'101'!$A:$F,6,0)),"") -> 2
B10: 100 | C10: 10 | D10: =IFERROR(IF(B10=100,VLOOKUP(C10,'100'!$A:$F,6,0),VLOOKUP(C10,'101'!$A:$F,6,0)),"") -> 1
B11: 100 | C11: 12 | D11: =IFERROR(IF(B11=100,VLOOKUP(C11,'100'!$A:$F,6,0),VLOOKUP(C11,'101'!$A:$F,6,0)),"") -> 1
B12: 100 | C12: 13 | D12: =IFERROR(IF(B12=100,VLOOKUP(C12,'100'!$A:$F,6,0),VLOOKUP(C12,'101'!$A:$F,6,0)),"") -> 1
B13: 100 | C13: 15 | D13: =IFERROR(IF(B13=100,VLOOKUP(C13,'100'!$A:$F,6,0),VLOOKUP(C13,'101'!$A:$F,6,0)),"") -> 1
B14: 101 | C14: 1 | D14: =IFERROR(IF(B14=100,VLOOKUP(C14,'100'!$A:$F,6,0),VLOOKUP(C14,'101'!$A:$F,6,0)),"") -> 6
B15: 101 | C15: 3 | D15: =IFERROR(IF(B15=100,VLOOKUP(C15,'100'!$A:$F,6,0),VLOOKUP(C15,'101'!$A:$F,6,0)),"") -> 2
B16: 101 | C16: 5 | D16: =IFERROR(IF(B16=100,VLOOKUP(C16,'100'!$A:$F,6,0),VLOOKUP(C16,'101'!$A:$F,6,0)),"") -> 4
... B22: 101 | C22: 15 | D22: =IFERROR(IF(B22=100,VLOOKUP(C22,'100'!$A:$F,6,0),VLOOKUP(C22,'101'!$A:$F,6,0)),"") -> 0.5
D23: =IFERROR(IF(B23=100,VLOOKUP(C23,'100'!$A:$F,6,0),VLOOKUP(C23,'101'!$A:$F,6,0)),"")
D24: =IFERROR(IF(B24=100,VLOOKUP(C24,'100'!$A:$F,6,0),VLOOKUP(C24,'101'!$A:$F,6,0)),"")
D25: =IFERROR(IF(B25=100,VLOOKUP(C25,'100'!$A:$F,6,0),VLOOKUP(C25,'101'!$A:$F,6,0)),"")
D26: =IFERROR(IF(B26=100,VLOOKUP(C26,'100'!$A:$F,6,0),VLOOKUP(C26,'101'!$A:$F,6,0)),"")
D27: =IFERROR(IF(B27=100,VLOOKUP(C27,'100'!$A:$F,6,0),VLOOKUP(C27,'101'!$A:$F,6,0)),"")
D28: =IFERROR(IF(B28=100,VLOOKUP(C28,'100'!$A:$F,6,0),VLOOKUP(C28,'101'!$A:$F,6,0)),"")
D29: =IFERROR(IF(B29=100,VLOOKUP(C29,'100'!$A:$F,6,0),VLOOKUP(C29,'101'!$A:$F,6,0)),"")
D30: =IFERROR(IF(B30=100,VLOOKUP(C30,'100'!$A:$F,6,0),VLOOKUP(C30,'101'!$A:$F,6,0)),"")
D31: =IFERROR(IF(B31=100,VLOOKUP(C31,'100'!$A:$F,6,0),VLOOKUP(C31,'101'!$A:$F,6,0)),"")
D32: =IFERROR(IF(B32=100,VLOOKUP(C32,'100'!$A:$F,6,0),VLOOKUP(C32,'101'!$A:$F,6,0)),"")

Sheet Feuil3
