Workbook

Sheet Feuil1
B1: Date | C1: Chantier | F1: Indemnités trajet | G1: Km depuis domicile | H1: Indemnités transport | I1: Heures de travail AM | K1: Heures de travail PM
A2: 43709 | B2: 43710 | C2: EHPAD Allonnes | D2: =IF(ISNA(VLOOKUP(C2,Feuil2!A$3:B$51,2,FALSE)),"",(VLOOKUP(C2,Feuil2!A$3:B$51,2,FALSE))) -> 5.2 | E2: =IF(D2="","",IF(D2<=Feuil2!$E$2,Feuil2!$D$2,IF(D2<=Feuil2!$E$3,Feuil2!$D$3,IF(D2<=Feuil2!$E$4,Feuil2!$D$4,IF(D2<=Feuil2!$E$5,Feuil2!$D$5,IF(D2<=Feuil2!$E$6,Feuil2!$D$6,IF(D2<=Feuil2!$E$7,Feuil2!$D$7,IF(D2<=Feuil2!$E$8,Feuil2!$D$8,IF(D2<=Feuil2!$E$9,Feuil2!$D$9,IF(D2>Feuil2!$E$10,Feuil2!$D$10,"")))))))))) -> Zone 1b | F2: =IF(E2=Feuil2!$D$2,Feuil2!$F$2,IF(E2=Feuil2!$D$3,Feuil2!$F$3,IF(E2=Feuil2!$D$4,Feuil2!$F$4,IF(E2=Feuil2!$D$5,Feuil2!$F$5,IF(E2=Feuil2!$D$6,Feuil2!$F$6,IF(E2=Feuil2!$D$7,Feuil2!$F$7,IF(E2=Feuil2!$D$8,Feuil2!$F$8,IF(E2=Feuil2!$D$9,Feuil2!$F$9,IF(E2=Feuil2!$D$10,Feuil2!$F$10,""))))))))) -> 0.67 | H2: =IF(G2<=Feuil2!E$2,Feuil2!G$2,IF(G2<=Feuil2!E$3,Feuil2!G$3,IF(G2<=Feuil2!E$4,Feuil2!G$4,IF(G2<=Feuil2!E$5,Feuil2!G$5,IF(G2<=Feuil2!E$6,Feuil2!G$6,IF(G2<=Feuil2!E$7,Feuil2!G$7,IF(G2<=Feuil2!E$8,Feuil2!G$8,IF(G2<=Feuil2!E$9,Feuil2!G$9,IF(G2<=Feuil2!E$10,Feuil2!G$10,""))))))))) -> 0.77 | I2: 0.33333333 | J2: 0.5 | K2: 0.5625 | L2: 0.74305556 | M2: =IF((L2-K2)+(J2-I2)=0,"",(L2-K2)+(J2-I2)) -> 0.34722222
B3: 43711 | C3: PAMA | D3: =IF(ISNA(VLOOKUP(C3,Feuil2!A$3:B$51,2,FALSE)),"",(VLOOKUP(C3,Feuil2!A$3:B$51,2,FALSE))) -> 4.9 | E3: =IF(D3="","",IF(D3<=Feuil2!$E$2,Feuil2!$D$2,IF(D3<=Feuil2!$E$3,Feuil2!$D$3,IF(D3<=Feuil2!$E$4,Feuil2!$D$4,IF(D3<=Feuil2!$E$5,Feuil2!$D$5,IF(D3<=Feuil2!$E$6,Feuil2!$D$6,IF(D3<=Feuil2!$E$7,Feuil2!$D$7,IF(D3<=Feuil2!$E$8,Feuil2!$D$8,IF(D3<=Feuil2!$E$9,Feuil2!$D$9,IF(D3>Feuil2!$E$10,Feuil2!$D$10,"")))))))))) -> Zone 1a | F3: =IF(E3=Feuil2!$D$2,Feuil2!$F$2,IF(E3=Feuil2!$D$3,Feuil2!$F$3,IF(E3=Feuil2!$D$4,Feuil2!$F$4,IF(E3=Feuil2!$D$5,Feuil2!$F$5,IF(E3=Feuil2!$D$6,Feuil2!$F$6,IF(E3=Feuil2!$D$7,Feuil2!$F$7,IF(E3=Feuil2!$D$8,Feuil2!$F$8,IF(E3=Feuil2!$D$9,Feuil2!$F$9,IF(E3=Feuil2!$D$10,Feuil2!$F$10,""))))))))) -> 0.48 | H3: =IF(G3<=Feuil2!E$2,Feuil2!G$2,IF(G3<=Feuil2!E$3,Feuil2!G$3,IF(G3<=Feuil2!E$4,Feuil2!G$4,IF(G3<=Feuil2!E$5,Feuil2!G$5,IF(G3<=Feuil2!E$6,Feuil2!G$6,IF(G3<=Feuil2!E$7,Feuil2!G$7,IF(G3<=Feuil2!E$8,Feuil2!G$8,IF(G3<=Feuil2!E$9,Feuil2!G$9,IF(G3<=Feuil2!E$10,Feuil2!G$10,""))))))))) -> 0.77 | I3: 0.33333333 | J3: 0.5 | K3: 0.5625 | L3: 0.74305556 | M3: =IF((L3-K3)+(J3-I3)=0,"",(L3-K3)+(J3-I3)) -> 0.34722222
B4: 43712 | C4: DEA | D4: =IF(ISNA(VLOOKUP(C4,Feuil2!A$3:B$51,2,FALSE)),"",(VLOOKUP(C4,Feuil2!A$3:B$51,2,FALSE))) -> 60.7 | E4: =IF(D4="","",IF(D4<=Feuil2!$E$2,Feuil2!$D$2,IF(D4<=Feuil2!$E$3,Feuil2!$D$3,IF(D4<=Feuil2!$E$4,Feuil2!$D$4,IF(D4<=Feuil2!$E$5,Feuil2!$D$5,IF(D4<=Feuil2!$E$6,Feuil2!$D$6,IF(D4<=Feuil2!$E$7,Feuil2!$D$7,IF(D4<=Feuil2!$E$8,Feuil2!$D$8,IF(D4<=Feuil2!$E$9,Feuil2!$D$9,IF(D4>Feuil2!$E$10,Feuil2!$D$10,"")))))))))) -> Zone 6 | F4: =IF(E4=Feuil2!$D$2,Feuil2!$F$2,IF(E4=Feuil2!$D$3,Feuil2!$F$3,IF(E4=Feuil2!$D$4,Feuil2!$F$4,IF(E4=Feuil2!$D$5,Feuil2!$F$5,IF(E4=Feuil2!$D$6,Feuil2!$F$6,IF(E4=Feuil2!$D$7,Feuil2!$F$7,IF(E4=Feuil2!$D$8,Feuil2!$F$8,IF(E4=Feuil2!$D$9,Feuil2!$F$9,IF(E4=Feuil2!$D$10,Feuil2!$F$10,""))))))))) -> 6.86 | H4: =IF(G4<=Feuil2!E$2,Feuil2!G$2,IF(G4<=Feuil2!E$3,Feuil2!G$3,IF(G4<=Feuil2!E$4,Feuil2!G$4,IF(G4<=Feuil2!E$5,Feuil2!G$5,IF(G4<=Feuil2!E$6,Feuil2!G$6,IF(G4<=Feuil2!E$7,Feuil2!G$7,IF(G4<=Feuil2!E$8,Feuil2!G$8,IF(G4<=Feuil2!E$9,Feuil2!G$9,IF(G4<=Feuil2!E$10,Feuil2!G$10,""))))))))) -> 0.77 | I4: 0.33333333 | J4: 0.5 | K4: 0.5625 | L4: 0.74305556 | M4: =IF((L4-K4)+(J4-I4)=0,"",(L4-K4)+(J4-I4)) -> 0.34722222
B5: 43713 | D5: =IF(ISNA(VLOOKUP(C5,Feuil2!A$3:B$51,2,FALSE)),"",(VLOOKUP(C5,Feuil2!A$3:B$51,2,FALSE))) | E5: =IF(D5="","",IF(D5<=Feuil2!$E$2,Feuil2!$D$2,IF(D5<=Feuil2!$E$3,Feuil2!$D$3,IF(D5<=Feuil2!$E$4,Feuil2!$D$4,IF(D5<=Feuil2!$E$5,Feuil2!$D$5,IF(D5<=Feuil2!$E$6,Feuil2!$D$6,IF(D5<=Feuil2!$E$7,Feuil2!$D$7,IF(D5<=Feuil2!$E$8,Feuil2!$D$8,IF(D5<=Feuil2!$E$9,Feuil2!$D$9,IF(D5>Feuil2!$E$10,Feuil2!$D$10,"")))))))))) | F5: =IF(E5=Feuil2!$D$2,Feuil2!$F$2,IF(E5=Feuil2!$D$3,Feuil2!$F$3,IF(E5=Feuil2!$D$4,Feuil2!$F$4,IF(E5=Feuil2!$D$5,Feuil2!$F$5,IF(E5=Feuil2!$D$6,Feuil2!$F$6,IF(E5=Feuil2!$D$7,Feuil2!$F$7,IF(E5=Feuil2!$D$8,Feuil2!$F$8,IF(E5=Feuil2!$D$9,Feuil2!$F$9,IF(E5=Feuil2!$D$10,Feuil2!$F$10,""))))))))) | H5: =IF(G5<=Feuil2!E$2,Feuil2!G$2,IF(G5<=Feuil2!E$3,Feuil2!G$3,IF(G5<=Feuil2!E$4,Feuil2!G$4,IF(G5<=Feuil2!E$5,Feuil2!G$5,IF(G5<=Feuil2!E$6,Feuil2!G$6,IF(G5<=Feuil2!E$7,Feuil2!G$7,IF(G5<=Feuil2!E$8,Feuil2!G$8,IF(G5<=Feuil2!E$9,Feuil2!G$9,IF(G5<=Feuil2!E$10,Feuil2!G$10,""))))))))) -> 0.77 | I5: 0.33333333 | J5: 0.5 | K5: 0.5625 | L5: 0.74305556 | M5: =IF((L5-K5)+(J5-I5)=0,"",(L5-K5)+(J5-I5)) -> 0.34722222
B6: 43714 | D6: =IF(ISNA(VLOOKUP(C6,Feuil2!A$3:B$51,2,FALSE)),"",(VLOOKUP(C6,Feuil2!A$3:B$51,2,FALSE))) | E6: =IF(D6="","",IF(D6<=Feuil2!$E$2,Feuil2!$D$2,IF(D6<=Feuil2!$E$3,Feuil2!$D$3,IF(D6<=Feuil2!$E$4,Feuil2!$D$4,IF(D6<=Feuil2!$E$5,Feuil2!$D$5,IF(D6<=Feuil2!$E$6,Feuil2!$D$6,IF(D6<=Feuil2!$E$7,Feuil2!$D$7,IF(D6<=Feuil2!$E$8,Feuil2!$D$8,IF(D6<=Feuil2!$E$9,Feuil2!$D$9,IF(D6>Feuil2!$E$10,Feuil2!$D$10,"")))))))))) | F6: =IF(E6=Feuil2!$D$2,Feuil2!$F$2,IF(E6=Feuil2!$D$3,Feuil2!$F$3,IF(E6=Feuil2!$D$4,Feuil2!$F$4,IF(E6=Feuil2!$D$5,Feuil2!$F$5,IF(E6=Feuil2!$D$6,Feuil2!$F$6,IF(E6=Feuil2!$D$7,Feuil2!$F$7,IF(E6=Feuil2!$D$8,Feuil2!$F$8,IF(E6=Feuil2!$D$9,Feuil2!$F$9,IF(E6=Feuil2!$D$10,Feuil2!$F$10,""))))))))) | H6: =IF(G6<=Feuil2!E$2,Feuil2!G$2,IF(G6<=Feuil2!E$3,Feuil2!G$3,IF(G6<=Feuil2!E$4,Feuil2!G$4,IF(G6<=Feuil2!E$5,Feuil2!G$5,IF(G6<=Feuil2!E$6,Feuil2!G$6,IF(G6<=Feuil2!E$7,Feuil2!G$7,IF(G6<=Feuil2!E$8,Feuil2!G$8,IF(G6<=Feuil2!E$9,Feuil2!G$9,IF(G6<=Feuil2!E$10,Feuil2!G$10,""))))))))) -> 0.77 | I6: 0.33333333 | J6: 0.5 | K6: 0.5625 | L6: 0.74305556 | M6: =IF((L6-K6)+(J6-I6)=0,"",(L6-K6)+(J6-I6)) -> 0.34722222
B7: 43715 | N7: =SUM(M2:M6) -> 1.7361111
B8: 43716
B9: 43717 | D9: =IF(ISNA(VLOOKUP(C9,Feuil2!A$3:B$51,2,FALSE)),"",(VLOOKUP(C9,Feuil2!A$3:B$51,2,FALSE))) | E9: =IF(D9="","",IF(D9<=Feuil2!$E$2,Feuil2!$D$2,IF(D9<=Feuil2!$E$3,Feuil2!$D$3,IF(D9<=Feuil2!$E$4,Feuil2!$D$4,IF(D9<=Feuil2!$E$5,Feuil2!$D$5,IF(D9<=Feuil2!$E$6,Feuil2!$D$6,IF(D9<=Feuil2!$E$7,Feuil2!$D$7,IF(D9<=Feuil2!$E$8,Feuil2!$D$8,IF(D9<=Feuil2!$E$9,Feuil2!$D$9,IF(D9>Feuil2!$E$10,Feuil2!$D$10,"")))))))))) | F9: =IF(E9=Feuil2!$D$2,Feuil2!$F$2,IF(E9=Feuil2!$D$3,Feuil2!$F$3,IF(E9=Feuil2!$D$4,Feuil2!$F$4,IF(E9=Feuil2!$D$5,Feuil2!$F$5,IF(E9=Feuil2!$D$6,Feuil2!$F$6,IF(E9=Feuil2!$D$7,Feuil2!$F$7,IF(E9=Feuil2!$D$8,Feuil2!$F$8,IF(E9=Feuil2!$D$9,Feuil2!$F$9,IF(E9=Feuil2!$D$10,Feuil2!$F$10,""))))))))) | H9: =IF(G9<=Feuil2!E$2,Feuil2!G$2,IF(G9<=Feuil2!E$3,Feuil2!G$3,IF(G9<=Feuil2!E$4,Feuil2!G$4,IF(G9<=Feuil2!E$5,Feuil2!G$5,IF(G9<=Feuil2!E$6,Feuil2!G$6,IF(G9<=Feuil2!E$7,Feuil2!G$7,IF(G9<=Feuil2!E$8,Feuil2!G$8,IF(G9<=Feuil2!E$9,Feuil2!G$9,IF(G9<=Feuil2!E$10,Feuil2!G$10,""))))))))) -> 0.77 | M9: =IF((L9-K9)+(J9-I9)=0,"",(L9-K9)+(J9-I9))
B10: 43718 | D10: =IF(ISNA(VLOOKUP(C10,Feuil2!A$3:B$51,2,FALSE)),"",(VLOOKUP(C10,Feuil2!A$3:B$51,2,FALSE))) | E10: =IF(D10="","",IF(D10<=Feuil2!$E$2,Feuil2!$D$2,IF(D10<=Feuil2!$E$3,Feuil2!$D$3,IF(D10<=Feuil2!$E$4,Feuil2!$D$4,IF(D10<=Feuil2!$E$5,Feuil2!$D$5,IF(D10<=Feuil2!$E$6,Feuil2!$D$6,IF(D10<=Feuil2!$E$7,Feuil2!$D$7,IF(D10<=Feuil2!$E$8,Feuil2!$D$8,IF(D10<=Feuil2!$E$9,Feuil2!$D$9,IF(D10>Feuil2!$E$10,Feuil2!$D$10,"")))))))))) | F10: =IF(E10=Feuil2!$D$2,Feuil2!$F$2,IF(E10=Feuil2!$D$3,Feuil2!$F$3,IF(E10=Feuil2!$D$4,Feuil2!$F$4,IF(E10=Feuil2!$D$5,Feuil2!$F$5,IF(E10=Feuil2!$D$6,Feuil2!$F$6,IF(E10=Feuil2!$D$7,Feuil2!$F$7,IF(E10=Feuil2!$D$8,Feuil2!$F$8,IF(E10=Feuil2!$D$9,Feuil2!$F$9,IF(E10=Feuil2!$D$10,Feuil2!$F$10,""))))))))) | H10: =IF(G10<=Feuil2!E$2,Feuil2!G$2,IF(G10<=Feuil2!E$3,Feuil2!G$3,IF(G10<=Feuil2!E$4,Feuil2!G$4,IF(G10<=Feuil2!E$5,Feuil2!G$5,IF(G10<=Feuil2!E$6,Feuil2!G$6,IF(G10<=Feuil2!E$7,Feuil2!G$7,IF(G10<=Feuil2!E$8,Feuil2!G$8,IF(G10<=Feuil2!E$9,Feuil2!G$9,IF(G10<=Feuil2!E$10,Feuil2!G$10,""))))))))) -> 0.77 | M10: =IF((L10-K10)+(J10-I10)=0,"",(L10-K10)+(J10-I10))
B11: 43719 | D11: =IF(ISNA(VLOOKUP(C11,Feuil2!A$3:B$51,2,FALSE)),"",(VLOOKUP(C11,Feuil2!A$3:B$51,2,FALSE))) | E11: =IF(D11="","",IF(D11<=Feuil2!$E$2,Feuil2!$D$2,IF(D11<=Feuil2!$E$3,Feuil2!$D$3,IF(D11<=Feuil2!$E$4,Feuil2!$D$4,IF(D11<=Feuil2!$E$5,Feuil2!$D$5,IF(D11<=Feuil2!$E$6,Feuil2!$D$6,IF(D11<=Feuil2!$E$7,Feuil2!$D$7,IF(D11<=Feuil2!$E$8,Feuil2!$D$8,IF(D11<=Feuil2!$E$9,Feuil2!$D$9,IF(D11>Feuil2!$E$10,Feuil2!$D$10,"")))))))))) | F11: =IF(E11=Feuil2!$D$2,Feuil2!$F$2,IF(E11=Feuil2!$D$3,Feuil2!$F$3,IF(E11=Feuil2!$D$4,Feuil2!$F$4,IF(E11=Feuil2!$D$5,Feuil2!$F$5,IF(E11=Feuil2!$D$6,Feuil2!$F$6,IF(E11=Feuil2!$D$7,Feuil2!$F$7,IF(E11=Feuil2!$D$8,Feuil2!$F$8,IF(E11=Feuil2!$D$9,Feuil2!$F$9,IF(E11=Feuil2!$D$10,Feuil2!$F$10,""))))))))) | H11: =IF(G11<=Feuil2!E$2,Feuil2!G$2,IF(G11<=Feuil2!E$3,Feuil2!G$3,IF(G11<=Feuil2!E$4,Feuil2!G$4,IF(G11<=Feuil2!E$5,Feuil2!G$5,IF(G11<=Feuil2!E$6,Feuil2!G$6,IF(G11<=Feuil2!E$7,Feuil2!G$7,IF(G11<=Feuil2!E$8,Feuil2!G$8,IF(G11<=Feuil2!E$9,Feuil2!G$9,IF(G11<=Feuil2!E$10,Feuil2!G$10,""))))))))) -> 0.77 | M11: =IF((L11-K11)+(J11-I11)=0,"",(L11-K11)+(J11-I11))
B12: 43720 | D12: =IF(ISNA(VLOOKUP(C12,Feuil2!A$3:B$51,2,FALSE)),"",(VLOOKUP(C12,Feuil2!A$3:B$51,2,FALSE))) | E12: =IF(D12="","",IF(D12<=Feuil2!$E$2,Feuil2!$D$2,IF(D12<=Feuil2!$E$3,Feuil2!$D$3,IF(D12<=Feuil2!$E$4,Feuil2!$D$4,IF(D12<=Feuil2!$E$5,Feuil2!$D$5,IF(D12<=Feuil2!$E$6,Feuil2!$D$6,IF(D12<=Feuil2!$E$7,Feuil2!$D$7,IF(D12<=Feuil2!$E$8,Feuil2!$D$8,IF(D12<=Feuil2!$E$9,Feuil2!$D$9,IF(D12>Feuil2!$E$10,Feuil2!$D$10,"")))))))))) | F12: =IF(E12=Feuil2!$D$2,Feuil2!$F$2,IF(E12=Feuil2!$D$3,Feuil2!$F$3,IF(E12=Feuil2!$D$4,Feuil2!$F$4,IF(E12=Feuil2!$D$5,Feuil2!$F$5,IF(E12=Feuil2!$D$6,Feuil2!$F$6,IF(E12=Feuil2!$D$7,Feuil2!$F$7,IF(E12=Feuil2!$D$8,Feuil2!$F$8,IF(E12=Feuil2!$D$9,Feuil2!$F$9,IF(E12=Feuil2!$D$10,Feuil2!$F$10,""))))))))) | H12: =IF(G12<=Feuil2!E$2,Feuil2!G$2,IF(G12<=Feuil2!E$3,Feuil2!G$3,IF(G12<=Feuil2!E$4,Feuil2!G$4,IF(G12<=Feuil2!E$5,Feuil2!G$5,IF(G12<=Feuil2!E$6,Feuil2!G$6,IF(G12<=Feuil2!E$7,Feuil2!G$7,IF(G12<=Feuil2!E$8,Feuil2!G$8,IF(G12<=Feuil2!E$9,Feuil2!G$9,IF(G12<=Feuil2!E$10,Feuil2!G$10,""))))))))) -> 0.77 | M12: =IF((L12-K12)+(J12-I12)=0,"",(L12-K12)+(J12-I12))
B13: 43721 | D13: =IF(ISNA(VLOOKUP(C13,Feuil2!A$3:B$51,2,FALSE)),"",(VLOOKUP(C13,Feuil2!A$3:B$51,2,FALSE))) | E13: =IF(D13="","",IF(D13<=Feuil2!$E$2,Feuil2!$D$2,IF(D13<=Feuil2!$E$3,Feuil2!$D$3,IF(D13<=Feuil2!$E$4,Feuil2!$D$4,IF(D13<=Feuil2!$E$5,Feuil2!$D$5,IF(D13<=Feuil2!$E$6,Feuil2!$D$6,IF(D13<=Feuil2!$E$7,Feuil2!$D$7,IF(D13<=Feuil2!$E$8,Feuil2!$D$8,IF(D13<=Feuil2!$E$9,Feuil2!$D$9,IF(D13>Feuil2!$E$10,Feuil2!$D$10,"")))))))))) | F13: =IF(E13=Feuil2!$D$2,Feuil2!$F$2,IF(E13=Feuil2!$D$3,Feuil2!$F$3,IF(E13=Feuil2!$D$4,Feuil2!$F$4,IF(E13=Feuil2!$D$5,Feuil2!$F$5,IF(E13=Feuil2!$D$6,Feuil2!$F$6,IF(E13=Feuil2!$D$7,Feuil2!$F$7,IF(E13=Feuil2!$D$8,Feuil2!$F$8,IF(E13=Feuil2!$D$9,Feuil2!$F$9,IF(E13=Feuil2!$D$10,Feuil2!$F$10,""))))))))) | H13: =IF(G13<=Feuil2!E$2,Feuil2!G$2,IF(G13<=Feuil2!E$3,Feuil2!G$3,IF(G13<=Feuil2!E$4,Feuil2!G$4,IF(G13<=Feuil2!E$5,Feuil2!G$5,IF(G13<=Feuil2!E$6,Feuil2!G$6,IF(G13<=Feuil2!E$7,Feuil2!G$7,IF(G13<=Feuil2!E$8,Feuil2!G$8,IF(G13<=Feuil2!E$9,Feuil2!G$9,IF(G13<=Feuil2!E$10,Feuil2!G$10,""))))))))) -> 0.77 | M13: =IF((L13-K13)+(J13-I13)=0,"",(L13-K13)+(J13-I13))
B14: 43722
B15: 43723
B16: 43724 | D16: =IF(ISNA(VLOOKUP(C16,Feuil2!A$3:B$51,2,FALSE)),"",(VLOOKUP(C16,Feuil2!A$3:B$51,2,FALSE))) | E16: =IF(D16="","",IF(D16<=Feuil2!$E$2,Feuil2!$D$2,IF(D16<=Feuil2!$E$3,Feuil2!$D$3,IF(D16<=Feuil2!$E$4,Feuil2!$D$4,IF(D16<=Feuil2!$E$5,Feuil2!$D$5,IF(D16<=Feuil2!$E$6,Feuil2!$D$6,IF(D16<=Feuil2!$E$7,Feuil2!$D$7,IF(D16<=Feuil2!$E$8,Feuil2!$D$8,IF(D16<=Feuil2!$E$9,Feuil2!$D$9,IF(D16>Feuil2!$E$10,Feuil2!$D$10,"")))))))))) | F16: =IF(E16=Feuil2!$D$2,Feuil2!$F$2,IF(E16=Feuil2!$D$3,Feuil2!$F$3,IF(E16=Feuil2!$D$4,Feuil2!$F$4,IF(E16=Feuil2!$D$5,Feuil2!$F$5,IF(E16=Feuil2!$D$6,Feuil2!$F$6,IF(E16=Feuil2!$D$7,Feuil2!$F$7,IF(E16=Feuil2!$D$8,Feuil2!$F$8,IF(E16=Feuil2!$D$9,Feuil2!$F$9,IF(E16=Feuil2!$D$10,Feuil2!$F$10,""))))))))) | H16: =IF(G16<=Feuil2!E$2,Feuil2!G$2,IF(G16<=Feuil2!E$3,Feuil2!G$3,IF(G16<=Feuil2!E$4,Feuil2!G$4,IF(G16<=Feuil2!E$5,Feuil2!G$5,IF(G16<=Feuil2!E$6,Feuil2!G$6,IF(G16<=Feuil2!E$7,Feuil2!G$7,IF(G16<=Feuil2!E$8,Feuil2!G$8,IF(G16<=Feuil2!E$9,Feuil2!G$9,IF(G16<=Feuil2!E$10,Feuil2!G$10,""))))))))) -> 0.77 | M16: =IF((L16-K16)+(J16-I16)=0,"",(L16-K16)+(J16-I16))
B17: 43725 | D17: =IF(ISNA(VLOOKUP(C17,Feuil2!A$3:B$51,2,FALSE)),"",(VLOOKUP(C17,Feuil2!A$3:B$51,2,FALSE))) | E17: =IF(D17="","",IF(D17<=Feuil2!$E$2,Feuil2!$D$2,IF(D17<=Feuil2!$E$3,Feuil2!$D$3,IF(D17<=Feuil2!$E$4,Feuil2!$D$4,IF(D17<=Feuil2!$E$5,Feuil2!$D$5,IF(D17<=Feuil2!$E$6,Feuil2!$D$6,IF(D17<=Feuil2!$E$7,Feuil2!$D$7,IF(D17<=Feuil2!$E$8,Feuil2!$D$8,IF(D17<=Feuil2!$E$9,Feuil2!$D$9,IF(D17>Feuil2!$E$10,Feuil2!$D$10,"")))))))))) | F17: =IF(E17=Feuil2!$D$2,Feuil2!$F$2,IF(E17=Feuil2!$D$3,Feuil2!$F$3,IF(E17=Feuil2!$D$4,Feuil2!$F$4,IF(E17=Feuil2!$D$5,Feuil2!$F$5,IF(E17=Feuil2!$D$6,Feuil2!$F$6,IF(E17=Feuil2!$D$7,Feuil2!$F$7,IF(E17=Feuil2!$D$8,Feuil2!$F$8,IF(E17=Feuil2!$D$9,Feuil2!$F$9,IF(E17=Feuil2!$D$10,Feuil2!$F$10,""))))))))) | H17: =IF(G17<=Feuil2!E$2,Feuil2!G$2,IF(G17<=Feuil2!E$3,Feuil2!G$3,IF(G17<=Feuil2!E$4,Feuil2!G$4,IF(G17<=Feuil2!E$5,Feuil2!G$5,IF(G17<=Feuil2!E$6,Feuil2!G$6,IF(G17<=Feuil2!E$7,Feuil2!G$7,IF(G17<=Feuil2!E$8,Feuil2!G$8,IF(G17<=Feuil2!E$9,Feuil2!G$9,IF(G17<=Feuil2!E$10,Feuil2!G$10,""))))))))) -> 0.77 | M17: =IF((L17-K17)+(J17-I17)=0,"",(L17-K17)+(J17-I17))
B18: 43726 | D18: =IF(ISNA(VLOOKUP(C18,Feuil2!A$3:B$51,2,FALSE)),"",(VLOOKUP(C18,Feuil2!A$3:B$51,2,FALSE))) | E18: =IF(D18="","",IF(D18<=Feuil2!$E$2,Feuil2!$D$2,IF(D18<=Feuil2!$E$3,Feuil2!$D$3,IF(D18<=Feuil2!$E$4,Feuil2!$D$4,IF(D18<=Feuil2!$E$5,Feuil2!$D$5,IF(D18<=Feuil2!$E$6,Feuil2!$D$6,IF(D18<=Feuil2!$E$7,Feuil2!$D$7,IF(D18<=Feuil2!$E$8,Feuil2!$D$8,IF(D18<=Feuil2!$E$9,Feuil2!$D$9,IF(D18>Feuil2!$E$10,Feuil2!$D$10,"")))))))))) | F18: =IF(E18=Feuil2!$D$2,Feuil2!$F$2,IF(E18=Feuil2!$D$3,Feuil2!$F$3,IF(E18=Feuil2!$D$4,Feuil2!$F$4,IF(E18=Feuil2!$D$5,Feuil2!$F$5,IF(E18=Feuil2!$D$6,Feuil2!$F$6,IF(E18=Feuil2!$D$7,Feuil2!$F$7,IF(E18=Feuil2!$D$8,Feuil2!$F$8,IF(E18=Feuil2!$D$9,Feuil2!$F$9,IF(E18=Feuil2!$D$10,Feuil2!$F$10,""))))))))) | H18: =IF(G18<=Feuil2!E$2,Feuil2!G$2,IF(G18<=Feuil2!E$3,Feuil2!G$3,IF(G18<=Feuil2!E$4,Feuil2!G$4,IF(G18<=Feuil2!E$5,Feuil2!G$5,IF(G18<=Feuil2!E$6,Feuil2!G$6,IF(G18<=Feuil2!E$7,Feuil2!G$7,IF(G18<=Feuil2!E$8,Feuil2!G$8,IF(G18<=Feuil2!E$9,Feuil2!G$9,IF(G18<=Feuil2!E$10,Feuil2!G$10,""))))))))) -> 0.77 | M18: =IF((L18-K18)+(J18-I18)=0,"",(L18-K18)+(J18-I18))
B19: 43727 | D19: =IF(ISNA(VLOOKUP(C19,Feuil2!A$3:B$51,2,FALSE)),"",(VLOOKUP(C19,Feuil2!A$3:B$51,2,FALSE))) | E19: =IF(D19="","",IF(D19<=Feuil2!$E$2,Feuil2!$D$2,IF(D19<=Feuil2!$E$3,Feuil2!$D$3,IF(D19<=Feuil2!$E$4,Feuil2!$D$4,IF(D19<=Feuil2!$E$5,Feuil2!$D$5,IF(D19<=Feuil2!$E$6,Feuil2!$D$6,IF(D19<=Feuil2!$E$7,Feuil2!$D$7,IF(D19<=Feuil2!$E$8,Feuil2!$D$8,IF(D19<=Feuil2!$E$9,Feuil2!$D$9,IF(D19>Feuil2!$E$10,Feuil2!$D$10,"")))))))))) | F19: =IF(E19=Feuil2!$D$2,Feuil2!$F$2,IF(E19=Feuil2!$D$3,Feuil2!$F$3,IF(E19=Feuil2!$D$4,Feuil2!$F$4,IF(E19=Feuil2!$D$5,Feuil2!$F$5,IF(E19=Feuil2!$D$6,Feuil2!$F$6,IF(E19=Feuil2!$D$7,Feuil2!$F$7,IF(E19=Feuil2!$D$8,Feuil2!$F$8,IF(E19=Feuil2!$D$9,Feuil2!$F$9,IF(E19=Feuil2!$D$10,Feuil2!$F$10,""))))))))) | H19: =IF(G19<=Feuil2!E$2,Feuil2!G$2,IF(G19<=Feuil2!E$3,Feuil2!G$3,IF(G19<=Feuil2!E$4,Feuil2!G$4,IF(G19<=Feuil2!E$5,Feuil2!G$5,IF(G19<=Feuil2!E$6,Feuil2!G$6,IF(G19<=Feuil2!E$7,Feuil2!G$7,IF(G19<=Feuil2!E$8,Feuil2!G$8,IF(G19<=Feuil2!E$9,Feuil2!G$9,IF(G19<=Feuil2!E$10,Feuil2!G$10,""))))))))) -> 0.77 | M19: =IF((L19-K19)+(J19-I19)=0,"",(L19-K19)+(J19-I19))
B20: 43728 | D20: =IF(ISNA(VLOOKUP(C20,Feuil2!A$3:B$51,2,FALSE)),"",(VLOOKUP(C20,Feuil2!A$3:B$51,2,FALSE))) | E20: =IF(D20="","",IF(D20<=Feuil2!$E$2,Feuil2!$D$2,IF(D20<=Feuil2!$E$3,Feuil2!$D$3,IF(D20<=Feuil2!$E$4,Feuil2!$D$4,IF(D20<=Feuil2!$E$5,Feuil2!$D$5,IF(D20<=Feuil2!$E$6,Feuil2!$D$6,IF(D20<=Feuil2!$E$7,Feuil2!$D$7,IF(D20<=Feuil2!$E$8,Feuil2!$D$8,IF(D20<=Feuil2!$E$9,Feuil2!$D$9,IF(D20>Feuil2!$E$10,Feuil2!$D$10,"")))))))))) | F20: =IF(E20=Feuil2!$D$2,Feuil2!$F$2,IF(E20=Feuil2!$D$3,Feuil2!$F$3,IF(E20=Feuil2!$D$4,Feuil2!$F$4,IF(E20=Feuil2!$D$5,Feuil2!$F$5,IF(E20=Feuil2!$D$6,Feuil2!$F$6,IF(E20=Feuil2!$D$7,Feuil2!$F$7,IF(E20=Feuil2!$D$8,Feuil2!$F$8,IF(E20=Feuil2!$D$9,Feuil2!$F$9,IF(E20=Feuil2!$D$10,Feuil2!$F$10,""))))))))) | H20: =IF(G20<=Feuil2!E$2,Feuil2!G$2,IF(G20<=Feuil2!E$3,Feuil2!G$3,IF(G20<=Feuil2!E$4,Feuil2!G$4,IF(G20<=Feuil2!E$5,Feuil2!G$5,IF(G20<=Feuil2!E$6,Feuil2!G$6,IF(G20<=Feuil2!E$7,Feuil2!G$7,IF(G20<=Feuil2!E$8,Feuil2!G$8,IF(G20<=Feuil2!E$9,Feuil2!G$9,IF(G20<=Feuil2!E$10,Feuil2!G$10,""))))))))) -> 0.77 | M20: =IF((L20-K20)+(J20-I20)=0,"",(L20-K20)+(J20-I20))
B21: 43729 | D21: =IF(ISNA(VLOOKUP(C21,Feuil2!A$3:B$51,2,FALSE)),"",(VLOOKUP(C21,Feuil2!A$3:B$51,2,FALSE))) | E21: =IF(D21="","",IF(D21<=Feuil2!$E$2,Feuil2!$D$2,IF(D21<=Feuil2!$E$3,Feuil2!$D$3,IF(D21<=Feuil2!$E$4,Feuil2!$D$4,IF(D21<=Feuil2!$E$5,Feuil2!$D$5,IF(D21<=Feuil2!$E$6,Feuil2!$D$6,IF(D21<=Feuil2!$E$7,Feuil2!$D$7,IF(D21<=Feuil2!$E$8,Feuil2!$D$8,IF(D21<=Feuil2!$E$9,Feuil2!$D$9,IF(D21>Feuil2!$E$10,Feuil2!$D$10,"")))))))))) | F21: =IF(E21=Feuil2!$D$2,Feuil2!$F$2,IF(E21=Feuil2!$D$3,Feuil2!$F$3,IF(E21=Feuil2!$D$4,Feuil2!$F$4,IF(E21=Feuil2!$D$5,Feuil2!$F$5,IF(E21=Feuil2!$D$6,Feuil2!$F$6,IF(E21=Feuil2!$D$7,Feuil2!$F$7,IF(E21=Feuil2!$D$8,Feuil2!$F$8,IF(E21=Feuil2!$D$9,Feuil2!$F$9,IF(E21=Feuil2!$D$10,Feuil2!$F$10,""))))))))) | M21: =IF((L21-K21)+(J21-I21)=0,"",(L21-K21)+(J21-I21))
B22: 43730 | D22: =IF(ISNA(VLOOKUP(C22,Feuil2!A$3:B$51,2,FALSE)),"",(VLOOKUP(C22,Feuil2!A$3:B$51,2,FALSE))) | E22: =IF(D22="","",IF(D22<=Feuil2!$E$2,Feuil2!$D$2,IF(D22<=Feuil2!$E$3,Feuil2!$D$3,IF(D22<=Feuil2!$E$4,Feuil2!$D$4,IF(D22<=Feuil2!$E$5,Feuil2!$D$5,IF(D22<=Feuil2!$E$6,Feuil2!$D$6,IF(D22<=Feuil2!$E$7,Feuil2!$D$7,IF(D22<=Feuil2!$E$8,Feuil2!$D$8,IF(D22<=Feuil2!$E$9,Feuil2!$D$9,IF(D22>Feuil2!$E$10,Feuil2!$D$10,"")))))))))) | F22: =IF(E22=Feuil2!$D$2,Feuil2!$F$2,IF(E22=Feuil2!$D$3,Feuil2!$F$3,IF(E22=Feuil2!$D$4,Feuil2!$F$4,IF(E22=Feuil2!$D$5,Feuil2!$F$5,IF(E22=Feuil2!$D$6,Feuil2!$F$6,IF(E22=Feuil2!$D$7,Feuil2!$F$7,IF(E22=Feuil2!$D$8,Feuil2!$F$8,IF(E22=Feuil2!$D$9,Feuil2!$F$9,IF(E22=Feuil2!$D$10,Feuil2!$F$10,""))))))))) | M22: =IF((L22-K22)+(J22-I22)=0,"",(L22-K22)+(J22-I22))
B23: 43731 | D23: =IF(ISNA(VLOOKUP(C23,Feuil2!A$3:B$51,2,FALSE)),"",(VLOOKUP(C23,Feuil2!A$3:B$51,2,FALSE))) | E23: =IF(D23="","",IF(D23<=Feuil2!$E$2,Feuil2!$D$2,IF(D23<=Feuil2!$E$3,Feuil2!$D$3,IF(D23<=Feuil2!$E$4,Feuil2!$D$4,IF(D23<=Feuil2!$E$5,Feuil2!$D$5,IF(D23<=Feuil2!$E$6,Feuil2!$D$6,IF(D23<=Feuil2!$E$7,Feuil2!$D$7,IF(D23<=Feuil2!$E$8,Feuil2!$D$8,IF(D23<=Feuil2!$E$9,Feuil2!$D$9,IF(D23>Feuil2!$E$10,Feuil2!$D$10,"")))))))))) | F23: =IF(E23=Feuil2!$D$2,Feuil2!$F$2,IF(E23=Feuil2!$D$3,Feuil2!$F$3,IF(E23=Feuil2!$D$4,Feuil2!$F$4,IF(E23=Feuil2!$D$5,Feuil2!$F$5,IF(E23=Feuil2!$D$6,Feuil2!$F$6,IF(E23=Feuil2!$D$7,Feuil2!$F$7,IF(E23=Feuil2!$D$8,Feuil2!$F$8,IF(E23=Feuil2!$D$9,Feuil2!$F$9,IF(E23=Feuil2!$D$10,Feuil2!$F$10,""))))))))) | H23: =IF(G23<=Feuil2!E$2,Feuil2!G$2,IF(G23<=Feuil2!E$3,Feuil2!G$3,IF(G23<=Feuil2!E$4,Feuil2!G$4,IF(G23<=Feuil2!E$5,Feuil2!G$5,IF(G23<=Feuil2!E$6,Feuil2!G$6,IF(G23<=Feuil2!E$7,Feuil2!G$7,IF(G23<=Feuil2!E$8,Feuil2!G$8,IF(G23<=Feuil2!E$9,Feuil2!G$9,IF(G23<=Feuil2!E$10,Feuil2!G$10,""))))))))) -> 0.77 | M23: =IF((L23-K23)+(J23-I23)=0,"",(L23-K23)+(J23-I23))
B24: 43732 | D24: =IF(ISNA(VLOOKUP(C24,Feuil2!A$3:B$51,2,FALSE)),"",(VLOOKUP(C24,Feuil2!A$3:B$51,2,FALSE))) | E24: =IF(D24="","",IF(D24<=Feuil2!$E$2,Feuil2!$D$2,IF(D24<=Feuil2!$E$3,Feuil2!$D$3,IF(D24<=Feuil2!$E$4,Feuil2!$D$4,IF(D24<=Feuil2!$E$5,Feuil2!$D$5,IF(D24<=Feuil2!$E$6,Feuil2!$D$6,IF(D24<=Feuil2!$E$7,Feuil2!$D$7,IF(D24<=Feuil2!$E$8,Feuil2!$D$8,IF(D24<=Feuil2!$E$9,Feuil2!$D$9,IF(D24>Feuil2!$E$10,Feuil2!$D$10,"")))))))))) | F24: =IF(E24=Feuil2!$D$2,Feuil2!$F$2,IF(E24=Feuil2!$D$3,Feuil2!$F$3,IF(E24=Feuil2!$D$4,Feuil2!$F$4,IF(E24=Feuil2!$D$5,Feuil2!$F$5,IF(E24=Feuil2!$D$6,Feuil2!$F$6,IF(E24=Feuil2!$D$7,Feuil2!$F$7,IF(E24=Feuil2!$D$8,Feuil2!$F$8,IF(E24=Feuil2!$D$9,Feuil2!$F$9,IF(E24=Feuil2!$D$10,Feuil2!$F$10,""))))))))) | H24: =IF(G24<=Feuil2!E$2,Feuil2!G$2,IF(G24<=Feuil2!E$3,Feuil2!G$3,IF(G24<=Feuil2!E$4,Feuil2!G$4,IF(G24<=Feuil2!E$5,Feuil2!G$5,IF(G24<=Feuil2!E$6,Feuil2!G$6,IF(G24<=Feuil2!E$7,Feuil2!G$7,IF(G24<=Feuil2!E$8,Feuil2!G$8,IF(G24<=Feuil2!E$9,Feuil2!G$9,IF(G24<=Feuil2!E$10,Feuil2!G$10,""))))))))) -> 0.77 | M24: =IF((L24-K24)+(J24-I24)=0,"",(L24-K24)+(J24-I24))
B25: 43733 | D25: =IF(ISNA(VLOOKUP(C25,Feuil2!A$3:B$51,2,FALSE)),"",(VLOOKUP(C25,Feuil2!A$3:B$51,2,FALSE))) | E25: =IF(D25="","",IF(D25<=Feuil2!$E$2,Feuil2!$D$2,IF(D25<=Feuil2!$E$3,Feuil2!$D$3,IF(D25<=Feuil2!$E$4,Feuil2!$D$4,IF(D25<=Feuil2!$E$5,Feuil2!$D$5,IF(D25<=Feuil2!$E$6,Feuil2!$D$6,IF(D25<=Feuil2!$E$7,Feuil2!$D$7,IF(D25<=Feuil2!$E$8,Feuil2!$D$8,IF(D25<=Feuil2!$E$9,Feuil2!$D$9,IF(D25>Feuil2!$E$10,Feuil2!$D$10,"")))))))))) | F25: =IF(E25=Feuil2!$D$2,Feuil2!$F$2,IF(E25=Feuil2!$D$3,Feuil2!$F$3,IF(E25=Feuil2!$D$4,Feuil2!$F$4,IF(E25=Feuil2!$D$5,Feuil2!$F$5,IF(E25=Feuil2!$D$6,Feuil2!$F$6,IF(E25=Feuil2!$D$7,Feuil2!$F$7,IF(E25=Feuil2!$D$8,Feuil2!$F$8,IF(E25=Feuil2!$D$9,Feuil2!$F$9,IF(E25=Feuil2!$D$10,Feuil2!$F$10,""))))))))) | H25: =IF(G25<=Feuil2!E$2,Feuil2!G$2,IF(G25<=Feuil2!E$3,Feuil2!G$3,IF(G25<=Feuil2!E$4,Feuil2!G$4,IF(G25<=Feuil2!E$5,Feuil2!G$5,IF(G25<=Feuil2!E$6,Feuil2!G$6,IF(G25<=Feuil2!E$7,Feuil2!G$7,IF(G25<=Feuil2!E$8,Feuil2!G$8,IF(G25<=Feuil2!E$9,Feuil2!G$9,IF(G25<=Feuil2!E$10,Feuil2!G$10,""))))))))) -> 0.77 | M25: =IF((L25-K25)+(J25-I25)=0,"",(L25-K25)+(J25-I25))
B26: 43734 | D26: =IF(ISNA(VLOOKUP(C26,Feuil2!A$3:B$51,2,FALSE)),"",(VLOOKUP(C26,Feuil2!A$3:B$51,2,FALSE))) | E26: =IF(D26="","",IF(D26<=Feuil2!$E$2,Feuil2!$D$2,IF(D26<=Feuil2!$E$3,Feuil2!$D$3,IF(D26<=Feuil2!$E$4,Feuil2!$D$4,IF(D26<=Feuil2!$E$5,Feuil2!$D$5,IF(D26<=Feuil2!$E$6,Feuil2!$D$6,IF(D26<=Feuil2!$E$7,Feuil2!$D$7,IF(D26<=Feuil2!$E$8,Feuil2!$D$8,IF(D26<=Feuil2!$E$9,Feuil2!$D$9,IF(D26>Feuil2!$E$10,Feuil2!$D$10,"")))))))))) | F26: =IF(E26=Feuil2!$D$2,Feuil2!$F$2,IF(E26=Feuil2!$D$3,Feuil2!$F$3,IF(E26=Feuil2!$D$4,Feuil2!$F$4,IF(E26=Feuil2!$D$5,Feuil2!$F$5,IF(E26=Feuil2!$D$6,Feuil2!$F$6,IF(E26=Feuil2!$D$7,Feuil2!$F$7,IF(E26=Feuil2!$D$8,Feuil2!$F$8,IF(E26=Feuil2!$D$9,Feuil2!$F$9,IF(E26=Feuil2!$D$10,Feuil2!$F$10,""))))))))) | H26: =IF(G26<=Feuil2!E$2,Feuil2!G$2,IF(G26<=Feuil2!E$3,Feuil2!G$3,IF(G26<=Feuil2!E$4,Feuil2!G$4,IF(G26<=Feuil2!E$5,Feuil2!G$5,IF(G26<=Feuil2!E$6,Feuil2!G$6,IF(G26<=Feuil2!E$7,Feuil2!G$7,IF(G26<=Feuil2!E$8,Feuil2!G$8,IF(G26<=Feuil2!E$9,Feuil2!G$9,IF(G26<=Feuil2!E$10,Feuil2!G$10,""))))))))) -> 0.77 | M26: =IF((L26-K26)+(J26-I26)=0,"",(L26-K26)+(J26-I26))
B27: 43735 | D27: =IF(ISNA(VLOOKUP(C27,Feuil2!A$3:B$51,2,FALSE)),"",(VLOOKUP(C27,Feuil2!A$3:B$51,2,FALSE))) | E27: =IF(D27="","",IF(D27<=Feuil2!$E$2,Feuil2!$D$2,IF(D27<=Feuil2!$E$3,Feuil2!$D$3,IF(D27<=Feuil2!$E$4,Feuil2!$D$4,IF(D27<=Feuil2!$E$5,Feuil2!$D$5,IF(D27<=Feuil2!$E$6,Feuil2!$D$6,IF(D27<=Feuil2!$E$7,Feuil2!$D$7,IF(D27<=Feuil2!$E$8,Feuil2!$D$8,IF(D27<=Feuil2!$E$9,Feuil2!$D$9,IF(D27>Feuil2!$E$10,Feuil2!$D$10,"")))))))))) | F27: =IF(E27=Feuil2!$D$2,Feuil2!$F$2,IF(E27=Feuil2!$D$3,Feuil2!$F$3,IF(E27=Feuil2!$D$4,Feuil2!$F$4,IF(E27=Feuil2!$D$5,Feuil2!$F$5,IF(E27=Feuil2!$D$6,Feuil2!$F$6,IF(E27=Feuil2!$D$7,Feuil2!$F$7,IF(E27=Feuil2!$D$8,Feuil2!$F$8,IF(E27=Feuil2!$D$9,Feuil2!$F$9,IF(E27=Feuil2!$D$10,Feuil2!$F$10,""))))))))) | H27: =IF(G27<=Feuil2!E$2,Feuil2!G$2,IF(G27<=Feuil2!E$3,Feuil2!G$3,IF(G27<=Feuil2!E$4,Feuil2!G$4,IF(G27<=Feuil2!E$5,Feuil2!G$5,IF(G27<=Feuil2!E$6,Feuil2!G$6,IF(G27<=Feuil2!E$7,Feuil2!G$7,IF(G27<=Feuil2!E$8,Feuil2!G$8,IF(G27<=Feuil2!E$9,Feuil2!G$9,IF(G27<=Feuil2!E$10,Feuil2!G$10,""))))))))) -> 0.77 | M27: =IF((L27-K27)+(J27-I27)=0,"",(L27-K27)+(J27-I27))
B28: 43736
B29: 43737
B30: 43738 | D30: =IF(ISNA(VLOOKUP(C30,Feuil2!A$3:B$51,2,FALSE)),"",(VLOOKUP(C30,Feuil2!A$3:B$51,2,FALSE))) | E30: =IF(D30="","",IF(D30<=Feuil2!$E$2,Feuil2!$D$2,IF(D30<=Feuil2!$E$3,Feuil2!$D$3,IF(D30<=Feuil2!$E$4,Feuil2!$D$4,IF(D30<=Feuil2!$E$5,Feuil2!$D$5,IF(D30<=Feuil2!$E$6,Feuil2!$D$6,IF(D30<=Feuil2!$E$7,Feuil2!$D$7,IF(D30<=Feuil2!$E$8,Feuil2!$D$8,IF(D30<=Feuil2!$E$9,Feuil2!$D$9,IF(D30>Feuil2!$E$10,Feuil2!$D$10,"")))))))))) | F30: =IF(E30=Feuil2!$D$2,Feuil2!$F$2,IF(E30=Feuil2!$D$3,Feuil2!$F$3,IF(E30=Feuil2!$D$4,Feuil2!$F$4,IF(E30=Feuil2!$D$5,Feuil2!$F$5,IF(E30=Feuil2!$D$6,Feuil2!$F$6,IF(E30=Feuil2!$D$7,Feuil2!$F$7,IF(E30=Feuil2!$D$8,Feuil2!$F$8,IF(E30=Feuil2!$D$9,Feuil2!$F$9,IF(E30=Feuil2!$D$10,Feuil2!$F$10,""))))))))) | H30: =IF(G30<=Feuil2!E$2,Feuil2!G$2,IF(G30<=Feuil2!E$3,Feuil2!G$3,IF(G30<=Feuil2!E$4,Feuil2!G$4,IF(G30<=Feuil2!E$5,Feuil2!G$5,IF(G30<=Feuil2!E$6,Feuil2!G$6,IF(G30<=Feuil2!E$7,Feuil2!G$7,IF(G30<=Feuil2!E$8,Feuil2!G$8,IF(G30<=Feuil2!E$9,Feuil2!G$9,IF(G30<=Feuil2!E$10,Feuil2!G$10,""))))))))) -> 0.77 | M30: =IF((L30-K30)+(J30-I30)=0,"",(L30-K30)+(J30-I30))

Sheet Feuil2
F1: Indem. Trajet | G1: Indem. Transport
A2: Chantier | B2: KM depuis siège | D2: Zone 1a | E2: 5 | F2: 0.48 | G2: 0.77
A3: DEA | B3: 60.7 | D3: Zone 1b | E3: 10 | F3: 0.67 | G3: 0.98
A4: EHPAA Blois | B4: 138 | D4: Zone 2 | E4: 20 | F4: 1.9 | G4: 3.81
A5: Gendarmerie de Loches | B5: 102 | D5: Zone 3 | E5: 30 | F5: 4.08 | G5: 7.2
A6: EHPAD Allonnes | B6: 5.2 | D6: Zone 4 | E6: 40 | F6: 5.12 | G6: 11.02
A7: PAMA | B7: 4.9 | D7: Zone 5 | E7: 50 | F7: 6.11 | G7: 16.4
D8: Zone 6 | E8: 65 | F8: 6.86 | G8: 17.57
D9: Zone 7 | E9: 80 | F9: 8.17 | G9: 21.27
D10: Hors convention | E10: 80.1
