Workbook
Name date: Feuil3!$A$2:$A$262

Sheet STOCKS
A1: date | B1: MAGASINS | C1: Produit | D1: Qté | E1: Produit | F1: Qté | G1: Produit | H1: Qté | I1: TOTAL | J1: consommation produit 1 | K1: consommation produit 2 | L1: consommation produit 3
A2: 43488 | B2: MAGASIN A | C2: Produit 1 | D2: 789 | E2: Produit 2 | F2: 95 | G2: Produit 3 | H2: 230 | I2: =D2+F2+H2 -> 1114
A3: 43488 | B3: MAGASIN B | C3: Produit 1 | D3: 12 | E3: Produit 2 | F3: 446 | G3: Produit 3 | H3: 254 | I3: =D3+F3+H3 -> 712
A4: 43488 | B4: MAGASIN C | C4: Produit 1 | D4: 2453 | E4: Produit 2 | F4: 540 | G4: Produit 3 | H4: 820 | I4: =D4+F4+H4 -> 3813
A5: 43489 | B5: MAGASIN A | C5: Produit 1 | D5: 620 | E5: Produit 2 | F5: 50 | G5: Produit 3 | H5: 156 | I5: =D5+F5+H5 -> 826 | J5: {=INDEX($D$1:D4,MAX(IF($B$2:B4=B5,ROW($D$2:D4))))-D5+SUMIFS(Appro!D:D,Appro!A:A,STOCKS!$B5,Appro!H:H,">="&MAX(IF($B$2:B4=B5,$A$2:A4)),Appro!H:H,"<="&A5)} -> 169 | K5: {=INDEX($F$1:F4,MAX(IF($B$2:B4=B5,ROW($F$2:F4))))-F5+SUMIFS(Appro!E:E,Appro!A:A,STOCKS!$B5,Appro!H:H,">="&MAX(IF($B$2:B4=B5,$A$2:A4)),Appro!H:H,"<="&A5)} -> 45 | L5: {=INDEX($H$1:H4,MAX(IF($B$2:B4=B5,ROW($H$2:H4))))-H5+SUMIFS(Appro!F:F,Appro!A:A,STOCKS!$B5,Appro!H:H,">="&MAX(IF($B$2:B4=B5,$A$2:A4)),Appro!H:H,"<="&A5)} -> 74
A6: 43489 | B6: MAGASIN B | C6: Produit 1 | D6: 11 | E6: Produit 2 | F6: 400 | G6: Produit 3 | H6: 200 | I6: =D6+F6+H6 -> 611 | J6: {=INDEX($D$1:D5,MAX(IF($B$2:B5=B6,ROW($D$2:D5))))-D6+SUMIFS(Appro!D:D,Appro!A:A,STOCKS!$B6,Appro!H:H,">="&MAX(IF($B$2:B5=B6,$A$2:A5)),Appro!H:H,"<="&A6)} -> 1 | K6: {=INDEX($F$1:F5,MAX(IF($B$2:B5=B6,ROW($F$2:F5))))-F6+SUMIFS(Appro!E:E,Appro!A:A,STOCKS!$B6,Appro!H:H,">="&MAX(IF($B$2:B5=B6,$A$2:A5)),Appro!H:H,"<="&A6)} -> 46 | L6: {=INDEX($H$1:H5,MAX(IF($B$2:B5=B6,ROW($H$2:H5))))-H6+SUMIFS(Appro!F:F,Appro!A:A,STOCKS!$B6,Appro!H:H,">="&MAX(IF($B$2:B5=B6,$A$2:A5)),Appro!H:H,"<="&A6)} -> 54
A7: 43490 | B7: MAGASIN A | C7: Produit 1 | D7: 1320 | E7: Produit 2 | F7: 135 | G7: Produit 3 | H7: 401 | I7: =D7+F7+H7 -> 1856 | J7: {=INDEX($D$1:D6,MAX(IF($B$2:B6=B7,ROW($D$2:D6))))-D7+SUMIFS(Appro!D:D,Appro!A:A,STOCKS!$B7,Appro!H:H,">="&MAX(IF($B$2:B6=B7,$A$2:A6)),Appro!H:H,"<="&A7)} -> 100 | K7: {=INDEX($F$1:F6,MAX(IF($B$2:B6=B7,ROW($F$2:F6))))-F7+SUMIFS(Appro!E:E,Appro!A:A,STOCKS!$B7,Appro!H:H,">="&MAX(IF($B$2:B6=B7,$A$2:A6)),Appro!H:H,"<="&A7)} -> 15 | L7: {=INDEX($H$1:H6,MAX(IF($B$2:B6=B7,ROW($H$2:H6))))-H7+SUMIFS(Appro!F:F,Appro!A:A,STOCKS!$B7,Appro!H:H,">="&MAX(IF($B$2:B6=B7,$A$2:A6)),Appro!H:H,"<="&A7)} -> 55
A8: 43490 | B8: MAGASIN B | C8: Produit 1 | D8: 20 | E8: Produit 2 | F8: 800 | G8: Produit 3 | H8: 480 | I8: =D8+F8+H8 -> 1300 | J8: {=INDEX($D$1:D7,MAX(IF($B$2:B7=B8,ROW($D$2:D7))))-D8+SUMIFS(Appro!D:D,Appro!A:A,STOCKS!$B8,Appro!H:H,">="&MAX(IF($B$2:B7=B8,$A$2:A7)),Appro!H:H,"<="&A8)} -> 1 | K8: {=INDEX($F$1:F7,MAX(IF($B$2:B7=B8,ROW($F$2:F7))))-F8+SUMIFS(Appro!E:E,Appro!A:A,STOCKS!$B8,Appro!H:H,">="&MAX(IF($B$2:B7=B8,$A$2:A7)),Appro!H:H,"<="&A8)} -> 50 | L8: {=INDEX($H$1:H7,MAX(IF($B$2:B7=B8,ROW($H$2:H7))))-H8+SUMIFS(Appro!F:F,Appro!A:A,STOCKS!$B8,Appro!H:H,">="&MAX(IF($B$2:B7=B8,$A$2:A7)),Appro!H:H,"<="&A8)} -> 20
A9: 43493 | B9: MAGASIN A | C9: Produit 1 | D9: 1200 | E9: Produit 2 | F9: 110 | G9: Produit 3 | H9: 350 | I9: =D9+F9+H9 -> 1660 | J9: {=INDEX($D$1:D8,MAX(IF($B$2:B8=B9,ROW($D$2:D8))))-D9+SUMIFS(Appro!D:D,Appro!A:A,STOCKS!$B9,Appro!H:H,">="&MAX(IF($B$2:B8=B9,$A$2:A8)),Appro!H:H,"<="&A9)} -> 920 | K9: {=INDEX($F$1:F8,MAX(IF($B$2:B8=B9,ROW($F$2:F8))))-F9+SUMIFS(Appro!E:E,Appro!A:A,STOCKS!$B9,Appro!H:H,">="&MAX(IF($B$2:B8=B9,$A$2:A8)),Appro!H:H,"<="&A9)} -> 125 | L9: {=INDEX($H$1:H8,MAX(IF($B$2:B8=B9,ROW($H$2:H8))))-H9+SUMIFS(Appro!F:F,Appro!A:A,STOCKS!$B9,Appro!H:H,">="&MAX(IF($B$2:B8=B9,$A$2:A8)),Appro!H:H,"<="&A9)} -> 351 | N9: dernier stock | O9: 2453
A10: 43493 | B10: MAGASIN B | C10: Produit 1 | D10: 18 | E10: Produit 2 | F10: 700 | G10: Produit 3 | H10: 470 | I10: =D10+F10+H10 -> 1188 | J10: {=INDEX($D$1:D9,MAX(IF($B$2:B9=B10,ROW($D$2:D9))))-D10+SUMIFS(Appro!D:D,Appro!A:A,STOCKS!$B10,Appro!H:H,">="&MAX(IF($B$2:B9=B10,$A$2:A9)),Appro!H:H,"<="&A10)} -> 12 | K10: {=INDEX($F$1:F9,MAX(IF($B$2:B9=B10,ROW($F$2:F9))))-F10+SUMIFS(Appro!E:E,Appro!A:A,STOCKS!$B10,Appro!H:H,">="&MAX(IF($B$2:B9=B10,$A$2:A9)),Appro!H:H,"<="&A10)} -> 550 | L10: {=INDEX($H$1:H9,MAX(IF($B$2:B9=B10,ROW($H$2:H9))))-H10+SUMIFS(Appro!F:F,Appro!A:A,STOCKS!$B10,Appro!H:H,">="&MAX(IF($B$2:B9=B10,$A$2:A9)),Appro!H:H,"<="&A10)} -> 310 | N10: réception | O10: 2400 | P10: entre le 23/01 et le 31/01
A11: 43493 | B11: MAGASIN C | C11: Produit 1 | D11: 4000 | E11: Produit 2 | F11: 750 | G11: Produit 3 | H11: 1300 | I11: =D11+F11+H11 -> 6050 | J11: {=INDEX($D$1:D10,MAX(IF($B$2:B10=B11,ROW($D$2:D10))))-D11+SUMIFS(Appro!D:D,Appro!A:A,STOCKS!$B11,Appro!H:H,">="&MAX(IF($B$2:B10=B11,$A$2:A10)),Appro!H:H,"<="&A11)} -> 853 | K11: {=INDEX($F$1:F10,MAX(IF($B$2:B10=B11,ROW($F$2:F10))))-F11+SUMIFS(Appro!E:E,Appro!A:A,STOCKS!$B11,Appro!H:H,">="&MAX(IF($B$2:B10=B11,$A$2:A10)),Appro!H:H,"<="&A11)} -> 340 | L11: {=INDEX($H$1:H10,MAX(IF($B$2:B10=B11,ROW($H$2:H10))))-H11+SUMIFS(Appro!F:F,Appro!A:A,STOCKS!$B11,Appro!H:H,">="&MAX(IF($B$2:B10=B11,$A$2:A10)),Appro!H:H,"<="&A11)} -> 370 | N11: stock final | O11: 4000
A12: 43494 | B12: MAGASIN A | C12: Produit 1 | D12: 1150 | E12: Produit 2 | F12: 89 | G12: Produit 3 | H12: 300 | I12: =D12+F12+H12 -> 1539 | J12: {=INDEX($D$1:D11,MAX(IF($B$2:B11=B12,ROW($D$2:D11))))-D12+SUMIFS(Appro!D:D,Appro!A:A,STOCKS!$B12,Appro!H:H,">="&MAX(IF($B$2:B11=B12,$A$2:A11)),Appro!H:H,"<="&A12)} -> 50 | K12: {=INDEX($F$1:F11,MAX(IF($B$2:B11=B12,ROW($F$2:F11))))-F12+SUMIFS(Appro!E:E,Appro!A:A,STOCKS!$B12,Appro!H:H,">="&MAX(IF($B$2:B11=B12,$A$2:A11)),Appro!H:H,"<="&A12)} -> 21 | L12: {=INDEX($H$1:H11,MAX(IF($B$2:B11=B12,ROW($H$2:H11))))-H12+SUMIFS(Appro!F:F,Appro!A:A,STOCKS!$B12,Appro!H:H,">="&MAX(IF($B$2:B11=B12,$A$2:A11)),Appro!H:H,"<="&A12)} -> 50 | N12: consommation | O12: 2453+2400-4000 | P12: soit 853
A13: 43494 | B13: MAGASIN B | C13: Produit 1 | D13: 18 | E13: Produit 2 | F13: 620 | G13: Produit 3 | H13: 450 | I13: =D13+F13+H13 -> 1088 | J13: {=INDEX($D$1:D12,MAX(IF($B$2:B12=B13,ROW($D$2:D12))))-D13+SUMIFS(Appro!D:D,Appro!A:A,STOCKS!$B13,Appro!H:H,">="&MAX(IF($B$2:B12=B13,$A$2:A12)),Appro!H:H,"<="&A13)} -> 0 | K13: {=INDEX($F$1:F12,MAX(IF($B$2:B12=B13,ROW($F$2:F12))))-F13+SUMIFS(Appro!E:E,Appro!A:A,STOCKS!$B13,Appro!H:H,">="&MAX(IF($B$2:B12=B13,$A$2:A12)),Appro!H:H,"<="&A13)} -> 80 | L13: {=INDEX($H$1:H12,MAX(IF($B$2:B12=B13,ROW($H$2:H12))))-H13+SUMIFS(Appro!F:F,Appro!A:A,STOCKS!$B13,Appro!H:H,">="&MAX(IF($B$2:B12=B13,$A$2:A12)),Appro!H:H,"<="&A13)} -> 20
A14: 43494 | B14: MAGASIN C | C14: Produit 1 | D14: 3200 | E14: Produit 2 | F14: 600 | G14: Produit 3 | H14: 1300 | I14: =D14+F14+H14 -> 5100 | J14: {=INDEX($D$1:D13,MAX(IF($B$2:B13=B14,ROW($D$2:D13))))-D14+SUMIFS(Appro!D:D,Appro!A:A,STOCKS!$B14,Appro!H:H,">="&MAX(IF($B$2:B13=B14,$A$2:A13)),Appro!H:H,"<="&A14)} -> 800 | K14: {=INDEX($F$1:F13,MAX(IF($B$2:B13=B14,ROW($F$2:F13))))-F14+SUMIFS(Appro!E:E,Appro!A:A,STOCKS!$B14,Appro!H:H,">="&MAX(IF($B$2:B13=B14,$A$2:A13)),Appro!H:H,"<="&A14)} -> 150 | L14: {=INDEX($H$1:H13,MAX(IF($B$2:B13=B14,ROW($H$2:H13))))-H14+SUMIFS(Appro!F:F,Appro!A:A,STOCKS!$B14,Appro!H:H,">="&MAX(IF($B$2:B13=B14,$A$2:A13)),Appro!H:H,"<="&A14)} -> 0
A15: 43495 | B15: MAGASIN A | C15: Produit 1 | D15: 1000 | E15: Produit 2 | F15: 75 | G15: Produit 3 | H15: 201 | I15: =D15+F15+H15 -> 1276 | J15: {=INDEX($D$1:D14,MAX(IF($B$2:B14=B15,ROW($D$2:D14))))-D15+SUMIFS(Appro!D:D,Appro!A:A,STOCKS!$B15,Appro!H:H,">="&MAX(IF($B$2:B14=B15,$A$2:A14)),Appro!H:H,"<="&A15)} -> 150 | K15: {=INDEX($F$1:F14,MAX(IF($B$2:B14=B15,ROW($F$2:F14))))-F15+SUMIFS(Appro!E:E,Appro!A:A,STOCKS!$B15,Appro!H:H,">="&MAX(IF($B$2:B14=B15,$A$2:A14)),Appro!H:H,"<="&A15)} -> 14 | L15: {=INDEX($H$1:H14,MAX(IF($B$2:B14=B15,ROW($H$2:H14))))-H15+SUMIFS(Appro!F:F,Appro!A:A,STOCKS!$B15,Appro!H:H,">="&MAX(IF($B$2:B14=B15,$A$2:A14)),Appro!H:H,"<="&A15)} -> 99
A16: 43495 | B16: MAGASIN C | C16: Produit 1 | D16: 2700 | E16: Produit 2 | F16: 500 | G16: Produit 3 | H16: 1100 | I16: =D16+F16+H16 -> 4300 | J16: {=INDEX($D$1:D15,MAX(IF($B$2:B15=B16,ROW($D$2:D15))))-D16+SUMIFS(Appro!D:D,Appro!A:A,STOCKS!$B16,Appro!H:H,">="&MAX(IF($B$2:B15=B16,$A$2:A15)),Appro!H:H,"<="&A16)} -> 500 | K16: {=INDEX($F$1:F15,MAX(IF($B$2:B15=B16,ROW($F$2:F15))))-F16+SUMIFS(Appro!E:E,Appro!A:A,STOCKS!$B16,Appro!H:H,">="&MAX(IF($B$2:B15=B16,$A$2:A15)),Appro!H:H,"<="&A16)} -> 100 | L16: {=INDEX($H$1:H15,MAX(IF($B$2:B15=B16,ROW($H$2:H15))))-H16+SUMIFS(Appro!F:F,Appro!A:A,STOCKS!$B16,Appro!H:H,">="&MAX(IF($B$2:B15=B16,$A$2:A15)),Appro!H:H,"<="&A16)} -> 200
A17: 43496 | B17: MAGASIN A | C17: Produit 1 | D17: 756 | E17: Produit 2 | F17: 52 | G17: Produit 3 | H17: 151 | I17: =D17+F17+H17 -> 959 | J17: {=INDEX($D$1:D16,MAX(IF($B$2:B16=B17,ROW($D$2:D16))))-D17+SUMIFS(Appro!D:D,Appro!A:A,STOCKS!$B17,Appro!H:H,">="&MAX(IF($B$2:B16=B17,$A$2:A16)),Appro!H:H,"<="&A17)} -> 244 | K17: {=INDEX($F$1:F16,MAX(IF($B$2:B16=B17,ROW($F$2:F16))))-F17+SUMIFS(Appro!E:E,Appro!A:A,STOCKS!$B17,Appro!H:H,">="&MAX(IF($B$2:B16=B17,$A$2:A16)),Appro!H:H,"<="&A17)} -> 23 | L17: {=INDEX($H$1:H16,MAX(IF($B$2:B16=B17,ROW($H$2:H16))))-H17+SUMIFS(Appro!F:F,Appro!A:A,STOCKS!$B17,Appro!H:H,">="&MAX(IF($B$2:B16=B17,$A$2:A16)),Appro!H:H,"<="&A17)} -> 50
A18: 43496 | B18: MAGASIN B | C18: Produit 1 | D18: 12 | E18: Produit 2 | F18: 302 | G18: Produit 3 | H18: 300 | I18: =D18+F18+H18 -> 614 | J18: {=INDEX($D$1:D17,MAX(IF($B$2:B17=B18,ROW($D$2:D17))))-D18+SUMIFS(Appro!D:D,Appro!A:A,STOCKS!$B18,Appro!H:H,">="&MAX(IF($B$2:B17=B18,$A$2:A17)),Appro!H:H,"<="&A18)} -> 6 | K18: {=INDEX($F$1:F17,MAX(IF($B$2:B17=B18,ROW($F$2:F17))))-F18+SUMIFS(Appro!E:E,Appro!A:A,STOCKS!$B18,Appro!H:H,">="&MAX(IF($B$2:B17=B18,$A$2:A17)),Appro!H:H,"<="&A18)} -> 318 | L18: {=INDEX($H$1:H17,MAX(IF($B$2:B17=B18,ROW($H$2:H17))))-H18+SUMIFS(Appro!F:F,Appro!A:A,STOCKS!$B18,Appro!H:H,">="&MAX(IF($B$2:B17=B18,$A$2:A17)),Appro!H:H,"<="&A18)} -> 150
A19: 43496 | B19: MAGASIN C | C19: Produit 1 | D19: 2200 | E19: Produit 2 | F19: 410 | G19: Produit 3 | H19: 945 | I19: =D19+F19+H19 -> 3555 | J19: {=INDEX($D$1:D18,MAX(IF($B$2:B18=B19,ROW($D$2:D18))))-D19+SUMIFS(Appro!D:D,Appro!A:A,STOCKS!$B19,Appro!H:H,">="&MAX(IF($B$2:B18=B19,$A$2:A18)),Appro!H:H,"<="&A19)} -> 500 | K19: {=INDEX($F$1:F18,MAX(IF($B$2:B18=B19,ROW($F$2:F18))))-F19+SUMIFS(Appro!E:E,Appro!A:A,STOCKS!$B19,Appro!H:H,">="&MAX(IF($B$2:B18=B19,$A$2:A18)),Appro!H:H,"<="&A19)} -> 90 | L19: {=INDEX($H$1:H18,MAX(IF($B$2:B18=B19,ROW($H$2:H18))))-H19+SUMIFS(Appro!F:F,Appro!A:A,STOCKS!$B19,Appro!H:H,">="&MAX(IF($B$2:B18=B19,$A$2:A18)),Appro!H:H,"<="&A19)} -> 155
A20: 43497 | B20: MAGASIN A | C20: Produit 1 | D20: 500 | E20: Produit 2 | F20: 21 | G20: Produit 3 | H20: 89 | I20: =D20+F20+H20 -> 610 | J20: {=INDEX($D$1:D19,MAX(IF($B$2:B19=B20,ROW($D$2:D19))))-D20+SUMIFS(Appro!D:D,Appro!A:A,STOCKS!$B20,Appro!H:H,">="&MAX(IF($B$2:B19=B20,$A$2:A19)),Appro!H:H,"<="&A20)} -> 256 | K20: {=INDEX($F$1:F19,MAX(IF($B$2:B19=B20,ROW($F$2:F19))))-F20+SUMIFS(Appro!E:E,Appro!A:A,STOCKS!$B20,Appro!H:H,">="&MAX(IF($B$2:B19=B20,$A$2:A19)),Appro!H:H,"<="&A20)} -> 31 | L20: {=INDEX($H$1:H19,MAX(IF($B$2:B19=B20,ROW($H$2:H19))))-H20+SUMIFS(Appro!F:F,Appro!A:A,STOCKS!$B20,Appro!H:H,">="&MAX(IF($B$2:B19=B20,$A$2:A19)),Appro!H:H,"<="&A20)} -> 62
A21: 43497 | B21: MAGASIN B | C21: Produit 1 | D21: 8 | E21: Produit 2 | F21: 200 | G21: Produit 3 | H21: 220 | I21: =D21+F21+H21 -> 428 | J21: {=INDEX($D$1:D20,MAX(IF($B$2:B20=B21,ROW($D$2:D20))))-D21+SUMIFS(Appro!D:D,Appro!A:A,STOCKS!$B21,Appro!H:H,">="&MAX(IF($B$2:B20=B21,$A$2:A20)),Appro!H:H,"<="&A21)} -> 4 | K21: {=INDEX($F$1:F20,MAX(IF($B$2:B20=B21,ROW($F$2:F20))))-F21+SUMIFS(Appro!E:E,Appro!A:A,STOCKS!$B21,Appro!H:H,">="&MAX(IF($B$2:B20=B21,$A$2:A20)),Appro!H:H,"<="&A21)} -> 102 | L21: {=INDEX($H$1:H20,MAX(IF($B$2:B20=B21,ROW($H$2:H20))))-H21+SUMIFS(Appro!F:F,Appro!A:A,STOCKS!$B21,Appro!H:H,">="&MAX(IF($B$2:B20=B21,$A$2:A20)),Appro!H:H,"<="&A21)} -> 80
A22: 43497 | B22: MAGASIN C | C22: Produit 1 | D22: 1500 | E22: Produit 2 | F22: 320 | G22: Produit 3 | H22: 780 | I22: =D22+F22+H22 -> 2600 | J22: {=INDEX($D$1:D21,MAX(IF($B$2:B21=B22,ROW($D$2:D21))))-D22+SUMIFS(Appro!D:D,Appro!A:A,STOCKS!$B22,Appro!H:H,">="&MAX(IF($B$2:B21=B22,$A$2:A21)),Appro!H:H,"<="&A22)} -> 700 | K22: {=INDEX($F$1:F21,MAX(IF($B$2:B21=B22,ROW($F$2:F21))))-F22+SUMIFS(Appro!E:E,Appro!A:A,STOCKS!$B22,Appro!H:H,">="&MAX(IF($B$2:B21=B22,$A$2:A21)),Appro!H:H,"<="&A22)} -> 90 | L22: {=INDEX($H$1:H21,MAX(IF($B$2:B21=B22,ROW($H$2:H21))))-H22+SUMIFS(Appro!F:F,Appro!A:A,STOCKS!$B22,Appro!H:H,">="&MAX(IF($B$2:B21=B22,$A$2:A21)),Appro!H:H,"<="&A22)} -> 165
A23: 43500 | B23: MAGASIN A | C23: Produit 1 | D23: 320 | E23: Produit 2 | F23: 12 | G23: Produit 3 | H23: 53 | I23: =D23+F23+H23 -> 385 | J23: {=INDEX($D$1:D22,MAX(IF($B$2:B22=B23,ROW($D$2:D22))))-D23+SUMIFS(Appro!D:D,Appro!A:A,STOCKS!$B23,Appro!H:H,">="&MAX(IF($B$2:B22=B23,$A$2:A22)),Appro!H:H,"<="&A23)} -> 180 | K23: {=INDEX($F$1:F22,MAX(IF($B$2:B22=B23,ROW($F$2:F22))))-F23+SUMIFS(Appro!E:E,Appro!A:A,STOCKS!$B23,Appro!H:H,">="&MAX(IF($B$2:B22=B23,$A$2:A22)),Appro!H:H,"<="&A23)} -> 9 | L23: {=INDEX($H$1:H22,MAX(IF($B$2:B22=B23,ROW($H$2:H22))))-H23+SUMIFS(Appro!F:F,Appro!A:A,STOCKS!$B23,Appro!H:H,">="&MAX(IF($B$2:B22=B23,$A$2:A22)),Appro!H:H,"<="&A23)} -> 36
A24: 43500 | B24: MAGASIN C | C24: Produit 1 | D24: 1300 | E24: Produit 2 | F24: 250 | G24: Produit 3 | H24: 520 | I24: =D24+F24+H24 -> 2070 | J24: {=INDEX($D$1:D23,MAX(IF($B$2:B23=B24,ROW($D$2:D23))))-D24+SUMIFS(Appro!D:D,Appro!A:A,STOCKS!$B24,Appro!H:H,">="&MAX(IF($B$2:B23=B24,$A$2:A23)),Appro!H:H,"<="&A24)} -> 200 | K24: {=INDEX($F$1:F23,MAX(IF($B$2:B23=B24,ROW($F$2:F23))))-F24+SUMIFS(Appro!E:E,Appro!A:A,STOCKS!$B24,Appro!H:H,">="&MAX(IF($B$2:B23=B24,$A$2:A23)),Appro!H:H,"<="&A24)} -> 70 | L24: {=INDEX($H$1:H23,MAX(IF($B$2:B23=B24,ROW($H$2:H23))))-H24+SUMIFS(Appro!F:F,Appro!A:A,STOCKS!$B24,Appro!H:H,">="&MAX(IF($B$2:B23=B24,$A$2:A23)),Appro!H:H,"<="&A24)} -> 260
... A30: 43502 | B30: MAGASIN C | C30: Produit 1 | D30: 3000 | E30: Produit 2 | F30: 300 | G30: Produit 3 | H30: 1000 | I30: =D30+F30+H30 -> 4300 | J30: {=INDEX($D$1:D29,MAX(IF($B$2:B29=B30,ROW($D$2:D29))))-D30+SUMIFS(Appro!D:D,Appro!A:A,STOCKS!$B30,Appro!H:H,">="&MAX(IF($B$2:B29=B30,$A$2:A29)),Appro!H:H,"<="&A30)} -> 2800 | K30: {=INDEX($F$1:F29,MAX(IF($B$2:B29=B30,ROW($F$2:F29))))-F30+SUMIFS(Appro!E:E,Appro!A:A,STOCKS!$B30,Appro!H:H,">="&MAX(IF($B$2:B29=B30,$A$2:A29)),Appro!H:H,"<="&A30)} -> 900 | L30: {=INDEX($H$1:H29,MAX(IF($B$2:B29=B30,ROW($H$2:H29))))-H30+SUMIFS(Appro!F:F,Appro!A:A,STOCKS!$B30,Appro!H:H,">="&MAX(IF($B$2:B29=B30,$A$2:A29)),Appro!H:H,"<="&A30)} -> 1100

Sheet Appro
A2: Magasin | B2: Numéro Commande | C2: Date Commande | D2: Qté Produit 1 | E2: Qté Produit 2 | F2: Qté Produit 3 | G2: TOTAL | H2: date entrée en stock
A3: Magasin A | B3: 5455232 | C3: 43489 | D3: 800 | E3: 100 | F3: 300 | G3: 1200 | H3: =C3+1 -> 43490
A4: Magasin B | B4: 5455231 | C4: 43489 | D4: 10 | E4: 450 | F4: 300 | G4: 760 | H4: =C4+1 -> 43490
A5: Magasin C | B5: 5455230 | C5: 43489 | D5: 2400 | E5: 550 | F5: 850 | G5: 3800 | H5: =C5+1 -> 43490
A6: Magasin A | B6: 5455232 | C6: 43500 | D6: 800 | E6: 100 | F6: 300 | G6: 1200 | H6: =C6+1 -> 43501
A7: Magasin B | B7: 5455231 | C7: 43500 | D7: 10 | E7: 450 | F7: 300 | G7: 760 | H7: =C7+1 -> 43501
A8: Magasin C | B8: 5455230 | C8: 43500 | D8: 2400 | E8: 550 | F8: 850 | G8: 3800 | H8: =C8+1 -> 43501

Sheet Consommation
B2: Date début | D2: Date fin
B3: 43488 | D3: 43497
B6: produit 1 | D6: produit 2 | F6: produit 3
B7: consommation | C7: réception | D7: consommation | E7: réception | F7: consommation | G7: réception
A8: TOTAL MAG | B8: =SUM(B9:B11) -> 5266 | C8: =SUM(C9:C11) -> 3210 | D8: =SUM(D9:D11) -> 2190 | E8: =SUM(E9:E11) -> 1100 | F8: =SUM(F9:F11) -> 2265 | G8: =SUM(G9:G11) -> 1450
A9: MAGASIN A | B9: =SUMPRODUCT((STOCKS!$B$2:$B$30=Consommation!$A9)*(STOCKS!$A$2:$A$30>=Consommation!$B$3)*(STOCKS!$A$2:$A$30<=Consommation!$D$3)*(STOCKS!$J$2:$J$30)) -> 1889 | C9: =SUMPRODUCT((Appro!$A$3:$A$8=Consommation!$A9)*(Appro!$C$3:$C$8>=Consommation!$B$3)*(Appro!$C$3:$C$8<=Consommation!$D$3)*(Appro!$D$3:$D$8)) -> 800 | D9: =SUMPRODUCT((STOCKS!$B$2:$B$30=Consommation!$A9)*(STOCKS!$A$2:$A$30>=Consommation!$B$3)*(STOCKS!$A$2:$A$30<=Consommation!$D$3)*(STOCKS!$K$2:$K$30)) -> 274 | E9: =SUMPRODUCT((Appro!$A$3:$A$8=Consommation!$A9)*(Appro!$C$3:$C$8>=Consommation!$B$3)*(Appro!$C$3:$C$8<=Consommation!$D$3)*(Appro!$E$3:$E$8)) -> 100 | F9: =SUMPRODUCT((STOCKS!$B$2:$B$30=Consommation!$A9)*(STOCKS!$A$2:$A$30>=Consommation!$B$3)*(STOCKS!$A$2:$A$30<=Consommation!$D$3)*(STOCKS!$L$2:$L$30)) -> 741 | G9: =SUMPRODUCT((Appro!$A$3:$A$8=Consommation!$A9)*(Appro!$C$3:$C$8>=Consommation!$B$3)*(Appro!$C$3:$C$8<=Consommation!$D$3)*(Appro!$F$3:$F$8)) -> 300
A10: MAGASIN B | B10: =SUMPRODUCT((STOCKS!$B$2:$B$30=Consommation!$A10)*(STOCKS!$A$2:$A$30>=Consommation!$B$3)*(STOCKS!$A$2:$A$30<=Consommation!$D$3)*(STOCKS!$J$2:$J$30)) -> 24 | C10: =SUMPRODUCT((Appro!$A$3:$A$8=Consommation!$A10)*(Appro!$C$3:$C$8>=Consommation!$B$3)*(Appro!$C$3:$C$8<=Consommation!$D$3)*(Appro!$D$3:$D$8)) -> 10 | D10: =SUMPRODUCT((STOCKS!$B$2:$B$30=Consommation!$A10)*(STOCKS!$A$2:$A$30>=Consommation!$B$3)*(STOCKS!$A$2:$A$30<=Consommation!$D$3)*(STOCKS!$K$2:$K$30)) -> 1146 | E10: =SUMPRODUCT((Appro!$A$3:$A$8=Consommation!$A10)*(Appro!$C$3:$C$8>=Consommation!$B$3)*(Appro!$C$3:$C$8<=Consommation!$D$3)*(Appro!$E$3:$E$8)) -> 450 | F10: =SUMPRODUCT((STOCKS!$B$2:$B$30=Consommation!$A10)*(STOCKS!$A$2:$A$30>=Consommation!$B$3)*(STOCKS!$A$2:$A$30<=Consommation!$D$3)*(STOCKS!$L$2:$L$30)) -> 634 | G10: =SUMPRODUCT((Appro!$A$3:$A$8=Consommation!$A10)*(Appro!$C$3:$C$8>=Consommation!$B$3)*(Appro!$C$3:$C$8<=Consommation!$D$3)*(Appro!$F$3:$F$8)) -> 300
A11: MAGASIN C | B11: =SUMPRODUCT((STOCKS!$B$2:$B$30=Consommation!$A11)*(STOCKS!$A$2:$A$30>=Consommation!$B$3)*(STOCKS!$A$2:$A$30<=Consommation!$D$3)*(STOCKS!$J$2:$J$30)) -> 3353 | C11: =SUMPRODUCT((Appro!$A$3:$A$8=Consommation!$A11)*(Appro!$C$3:$C$8>=Consommation!$B$3)*(Appro!$C$3:$C$8<=Consommation!$D$3)*(Appro!$D$3:$D$8)) -> 2400 | D11: =SUMPRODUCT((STOCKS!$B$2:$B$30=Consommation!$A11)*(STOCKS!$A$2:$A$30>=Consommation!$B$3)*(STOCKS!$A$2:$A$30<=Consommation!$D$3)*(STOCKS!$K$2:$K$30)) -> 770 | E11: =SUMPRODUCT((Appro!$A$3:$A$8=Consommation!$A11)*(Appro!$C$3:$C$8>=Consommation!$B$3)*(Appro!$C$3:$C$8<=Consommation!$D$3)*(Appro!$E$3:$E$8)) -> 550 | F11: =SUMPRODUCT((STOCKS!$B$2:$B$30=Consommation!$A11)*(STOCKS!$A$2:$A$30>=Consommation!$B$3)*(STOCKS!$A$2:$A$30<=Consommation!$D$3)*(STOCKS!$L$2:$L$30)) -> 890 | G11: =SUMPRODUCT((Appro!$A$3:$A$8=Consommation!$A11)*(Appro!$C$3:$C$8>=Consommation!$B$3)*(Appro!$C$3:$C$8<=Consommation!$D$3)*(Appro!$F$3:$F$8)) -> 850

Sheet Feuil3
A2: 43466
A3: 43467
A4: 43468
A5: 43469
A6: 43472
A7: 43473
A8: 43474
A9: 43475
A10: 43476
A11: 43479
A12: 43480
A13: 43481
... A262: 43830
