Workbook

Sheet vente
B2: vente en caisse
A4: client | B4: n° vendeur | C4: n° article | D4: prix | E4: cumul par client
A5: k-ro | B5: 1 | C5: 1 | D5: =IFERROR(VLOOKUP(C5,INDIRECT(B5&"!A:F"),6,0),"") -> 1 | E5: =D5 -> 1
A6: k-ro | B6: 1 | C6: 1 | D6: =IFERROR(VLOOKUP(C6,INDIRECT(B6&"!A:F"),6,0),"") -> 1 | E6: =IFERROR(IF(A6=A5,D6+E5,D6),"") -> 2
A7: k-ro | B7: 1 | C7: 5 | D7: =IFERROR(VLOOKUP(C7,INDIRECT(B7&"!A:F"),6,0),"") -> 1 | E7: =IFERROR(IF(A7=A6,D7+E6,D7),"") -> 3
A8: k-ro | B8: 1 | C8: 6 | D8: =IFERROR(VLOOKUP(C8,INDIRECT(B8&"!A:F"),6,0),"") -> 2 | E8: =IFERROR(IF(A8=A7,D8+E7,D8),"") -> 5
A9: k-ro | B9: 1 | C9: 7 | D9: =IFERROR(VLOOKUP(C9,INDIRECT(B9&"!A:F"),6,0),"") -> 2 | E9: =IFERROR(IF(A9=A8,D9+E8,D9),"") -> 7
A10: k-ro | B10: 1 | C10: 10 | D10: =IFERROR(VLOOKUP(C10,INDIRECT(B10&"!A:F"),6,0),"") -> 1 | E10: =IFERROR(IF(A10=A9,D10+E9,D10),"") -> 8
A11: k-ro | B11: 1 | C11: 12 | D11: =IFERROR(VLOOKUP(C11,INDIRECT(B11&"!A:F"),6,0),"") -> 1 | E11: =IFERROR(IF(A11=A10,D11+E10,D11),"") -> 9
A12: k-ro | B12: 1 | C12: 13 | D12: =IFERROR(VLOOKUP(C12,INDIRECT(B12&"!A:F"),6,0),"") -> 1 | E12: =IFERROR(IF(A12=A11,D12+E11,D12),"") -> 10
A13: k-ro | B13: 2 | C13: 15 | D13: =IFERROR(VLOOKUP(C13,INDIRECT(B13&"!A:F"),6,0),"") -> 1 | E13: =IFERROR(IF(A13=A12,D13+E12,D13),"") -> 11
A14: k-ro | B14: 2 | C14: 1 | D14: =IFERROR(VLOOKUP(C14,INDIRECT(B14&"!A:F"),6,0),"") -> 6 | E14: =IFERROR(IF(A14=A13,D14+E13,D14),"") -> 17
A15: k-ro | B15: 2 | C15: 3 | D15: =IFERROR(VLOOKUP(C15,INDIRECT(B15&"!A:F"),6,0),"") -> 1 | E15: =IFERROR(IF(A15=A14,D15+E14,D15),"") -> 18
A16: k-ro | B16: 2 | C16: 5 | D16: =IFERROR(VLOOKUP(C16,INDIRECT(B16&"!A:F"),6,0),"") -> 1 | E16: =IFERROR(IF(A16=A15,D16+E15,D16),"") -> 19
A17: evolm | B17: 2 | C17: 6 | D17: =IFERROR(VLOOKUP(C17,INDIRECT(B17&"!A:F"),6,0),"") -> 2 | E17: =IFERROR(IF(A17=A16,D17+E16,D17),"") -> 2
... A26: evolm | B26: 56 | C26: 6 | D26: =IFERROR(VLOOKUP(C26,INDIRECT(B26&"!A:F"),6,0),"") -> 2 | E26: =IFERROR(IF(A26=A25,D26+E25,D26),"") -> 13
A27: evolm | D27: =IFERROR(VLOOKUP(C27,INDIRECT(B27&"!A:F"),6,0),"") | E27: =IFERROR(IF(A27=A26,D27+E26,D27),"")
D28: =IFERROR(VLOOKUP(C28,INDIRECT(B28&"!A:F"),6,0),"") | E28: =IFERROR(IF(A28=A27,D28+E27,D28),"")
D29: =IFERROR(VLOOKUP(C29,INDIRECT(B29&"!A:F"),6,0),"") | E29: =IFERROR(IF(A29=A28,D29+E28,D29),"")
D30: =IFERROR(VLOOKUP(C30,INDIRECT(B30&"!A:F"),6,0),"") | E30: =IFERROR(IF(A30=A29,D30+E29,D30),"")
D31: =IFERROR(VLOOKUP(C31,INDIRECT(B31&"!A:F"),6,0),"") | E31: =IFERROR(IF(A31=A30,D31+E30,D31),"")
D32: =IFERROR(VLOOKUP(C32,INDIRECT(B32&"!A:F"),6,0),"") | E32: =IFERROR(IF(A32=A31,D32+E31,D32),"")
D33: =IFERROR(VLOOKUP(C33,INDIRECT(B33&"!A:F"),6,0),"") | E33: =IFERROR(IF(A33=A32,D33+E32,D33),"")
D34: =IFERROR(VLOOKUP(C34,INDIRECT(B34&"!A:F"),6,0),"") | E34: =IFERROR(IF(A34=A33,D34+E33,D34),"")
D35: =IFERROR(VLOOKUP(C35,INDIRECT(B35&"!A:F"),6,0),"") | E35: =IFERROR(IF(A35=A34,D35+E34,D35),"")
D36: =IFERROR(VLOOKUP(C36,INDIRECT(B36&"!A:F"),6,0),"") | E36: =IFERROR(IF(A36=A35,D36+E35,D36),"")
D37: =IFERROR(VLOOKUP(C37,INDIRECT(B37&"!A:F"),6,0),"") | E37: =IFERROR(IF(A37=A36,D37+E36,D37),"")
D38: =IFERROR(VLOOKUP(C38,INDIRECT(B38&"!A:F"),6,0),"") | E38: =IFERROR(IF(A38=A37,D38+E37,D38),"")
D39: =IFERROR(VLOOKUP(C39,INDIRECT(B39&"!A:F"),6,0),"") | E39: =IFERROR(IF(A39=A38,D39+E38,D39),"")
... D169: =IFERROR(VLOOKUP(C169,INDIRECT(B169&"!A:F"),6,0),"") | E169: =IFERROR(IF(A169=A168,D169+E168,D169),"")

Sheet acces onglet
A2: Liste des onglet | B2: lien
A3: {=TRANSPOSE(nom_onglet)} -> [vente_bourse.xlsx]vente | B3: =HYPERLINK(A3&"!A1") -> [vente_bourse.xlsx]vente!A1
A4: [vente_bourse.xlsx]acces onglet | B4: =HYPERLINK(A4&"!A1") -> [vente_bourse.xlsx]acces onglet!A1
A5: [vente_bourse.xlsx]Recap | B5: =HYPERLINK(A5&"!A1") -> [vente_bourse.xlsx]Recap!A1
A6: [vente_bourse.xlsx]1 | B6: =HYPERLINK(A6&"!A1") -> [vente_bourse.xlsx]1!A1
A7: [vente_bourse.xlsx]2 | B7: =HYPERLINK(A7&"!A1") -> [vente_bourse.xlsx]2!A1
A8: [vente_bourse.xlsx]3 | B8: =HYPERLINK(A8&"!A1") -> [vente_bourse.xlsx]3!A1
A9: [vente_bourse.xlsx]4 | B9: =HYPERLINK(A9&"!A1") -> [vente_bourse.xlsx]4!A1
A10: [vente_bourse.xlsx]5 | B10: =HYPERLINK(A10&"!A1") -> [vente_bourse.xlsx]5!A1
A11: [vente_bourse.xlsx]6 | B11: =HYPERLINK(A11&"!A1") -> [vente_bourse.xlsx]6!A1
A12: [vente_bourse.xlsx]7 | B12: =HYPERLINK(A12&"!A1") -> [vente_bourse.xlsx]7!A1
A13: [vente_bourse.xlsx]8 | B13: =HYPERLINK(A13&"!A1") -> [vente_bourse.xlsx]8!A1
A14: [vente_bourse.xlsx]9 | B14: =HYPERLINK(A14&"!A1") -> [vente_bourse.xlsx]9!A1
A15: [vente_bourse.xlsx]10 | B15: =HYPERLINK(A15&"!A1") -> [vente_bourse.xlsx]10!A1
... A105: [vente_bourse.xlsx]100 | B105: =HYPERLINK(A105&"!A1") -> [vente_bourse.xlsx]100!A1
A106: #N/A | B106: =HYPERLINK(A106&"!A1") -> #N/A
A107: #N/A | B107: =HYPERLINK(A107&"!A1") -> #N/A
A108: #N/A | B108: =HYPERLINK(A108&"!A1") -> #N/A
A109: #N/A | B109: =HYPERLINK(A109&"!A1") -> #N/A
A110: #N/A | B110: =HYPERLINK(A110&"!A1") -> #N/A
A111: #N/A | B111: =HYPERLINK(A111&"!A1") -> #N/A
A112: #N/A | B112: =HYPERLINK(A112&"!A1") -> #N/A
A113: #N/A | B113: =HYPERLINK(A113&"!A1") -> #N/A
A114: #N/A | B114: =HYPERLINK(A114&"!A1") -> #N/A
A115: #N/A | B115: =HYPERLINK(A115&"!A1") -> #N/A
A116: #N/A | B116: =HYPERLINK(A116&"!A1") -> #N/A
A117: #N/A | B117: =HYPERLINK(A117&"!A1") -> #N/A
... A123: #N/A | B123: =HYPERLINK(A123&"!A1") -> #N/A

Sheet Recap
B2: vendeur | C2: total article | D2: total prix | E2: prel asso | F2: total client
B3: TOTAL | C3: =SUM(C4:C103) -> 22 | D3: =SUM(D4:D103) -> 32 | E3: =SUM(E4:E103) -> 9.6 | F3: =SUM(F4:F103) -> 22.4
B4: {=MID(INDEX(nom_onglet,ROW()),SEARCH("]",INDEX(nom_onglet,ROW()))+1,30)} -> 1 | C4: =COUNTIF(vente!B:B,Recap!B4) -> 8 | D4: =SUMIFS(vente!D:D,vente!B:B,Recap!B4) -> 10 | E4: =D4*0.3 -> 3 | F4: =D4-E4 -> 7
B5: {=MID(INDEX(nom_onglet,ROW()),SEARCH("]",INDEX(nom_onglet,ROW()))+1,30)} -> 2 | C5: =COUNTIF(vente!B:B,Recap!B5) -> 6 | D5: =SUMIFS(vente!D:D,vente!B:B,Recap!B5) -> 13 | E5: =D5*0.3 -> 3.9 | F5: =D5-E5 -> 9.1
B6: {=MID(INDEX(nom_onglet,ROW()),SEARCH("]",INDEX(nom_onglet,ROW()))+1,30)} -> 3 | C6: =COUNTIF(vente!B:B,Recap!B6) -> 7 | D6: =SUMIFS(vente!D:D,vente!B:B,Recap!B6) -> 7 | E6: =D6*0.3 -> 2.1 | F6: =D6-E6 -> 4.9
B7: {=MID(INDEX(nom_onglet,ROW()),SEARCH("]",INDEX(nom_onglet,ROW()))+1,30)} -> 4 | C7: =COUNTIF(vente!B:B,Recap!B7) -> 0 | D7: =SUMIFS(vente!D:D,vente!B:B,Recap!B7) -> 0 | E7: =D7*0.3 -> 0 | F7: =D7-E7 -> 0
B8: {=MID(INDEX(nom_onglet,ROW()),SEARCH("]",INDEX(nom_onglet,ROW()))+1,30)} -> 5 | C8: =COUNTIF(vente!B:B,Recap!B8) -> 0 | D8: =SUMIFS(vente!D:D,vente!B:B,Recap!B8) -> 0 | E8: =D8*0.3 -> 0 | F8: =D8-E8 -> 0
B9: {=MID(INDEX(nom_onglet,ROW()),SEARCH("]",INDEX(nom_onglet,ROW()))+1,30)} -> 6 | C9: =COUNTIF(vente!B:B,Recap!B9) -> 0 | D9: =SUMIFS(vente!D:D,vente!B:B,Recap!B9) -> 0 | E9: =D9*0.3 -> 0 | F9: =D9-E9 -> 0
B10: {=MID(INDEX(nom_onglet,ROW()),SEARCH("]",INDEX(nom_onglet,ROW()))+1,30)} -> 7 | C10: =COUNTIF(vente!B:B,Recap!B10) -> 0 | D10: =SUMIFS(vente!D:D,vente!B:B,Recap!B10) -> 0 | E10: =D10*0.3 -> 0 | F10: =D10-E10 -> 0
B11: {=MID(INDEX(nom_onglet,ROW()),SEARCH("]",INDEX(nom_onglet,ROW()))+1,30)} -> 8 | C11: =COUNTIF(vente!B:B,Recap!B11) -> 0 | D11: =SUMIFS(vente!D:D,vente!B:B,Recap!B11) -> 0 | E11: =D11*0.3 -> 0 | F11: =D11-E11 -> 0
B12: {=MID(INDEX(nom_onglet,ROW()),SEARCH("]",INDEX(nom_onglet,ROW()))+1,30)} -> 9 | C12: =COUNTIF(vente!B:B,Recap!B12) -> 0 | D12: =SUMIFS(vente!D:D,vente!B:B,Recap!B12) -> 0 | E12: =D12*0.3 -> 0 | F12: =D12-E12 -> 0
B13: {=MID(INDEX(nom_onglet,ROW()),SEARCH("]",INDEX(nom_onglet,ROW()))+1,30)} -> 10 | C13: =COUNTIF(vente!B:B,Recap!B13) -> 0 | D13: =SUMIFS(vente!D:D,vente!B:B,Recap!B13) -> 0 | E13: =D13*0.3 -> 0 | F13: =D13-E13 -> 0
B14: {=MID(INDEX(nom_onglet,ROW()),SEARCH("]",INDEX(nom_onglet,ROW()))+1,30)} -> 11 | C14: =COUNTIF(vente!B:B,Recap!B14) -> 0 | D14: =SUMIFS(vente!D:D,vente!B:B,Recap!B14) -> 0 | E14: =D14*0.3 -> 0 | F14: =D14-E14 -> 0
B15: {=MID(INDEX(nom_onglet,ROW()),SEARCH("]",INDEX(nom_onglet,ROW()))+1,30)} -> 12 | C15: =COUNTIF(vente!B:B,Recap!B15) -> 0 | D15: =SUMIFS(vente!D:D,vente!B:B,Recap!B15) -> 0 | E15: =D15*0.3 -> 0 | F15: =D15-E15 -> 0
... B103: {=MID(INDEX(nom_onglet,ROW()),SEARCH("]",INDEX(nom_onglet,ROW()))+1,30)} -> 100 | C103: =COUNTIF(vente!B:B,Recap!B103) -> 0 | D103: =SUMIFS(vente!D:D,vente!B:B,Recap!B103) -> 0 | E103: =D103*0.3 -> 0 | F103: =D103-E103 -> 0

Sheet 1
B1: Bourse aux vêtements - Accueil et Loisirs - St Fulgent
D3: Nom | E3: A
D4: Prénom
B5: Repris / Non repris | D5: Adresse
D6: Téléphone
D8: N° Client | E8: =MID(CELL("nomfichier",A1),FIND("]",CELL("nomfichier",A1))+1,32) -> 1
A10: N° | B10: Age | C10: Désignation | D10: Marque | E10: sexe | F10: prix | G10: vendu
A11: 1 | B11: 38-40 | C11: chemise de nuit grossesse marron | D11: calinkalin | F11: 1 | G11: =IF(SUMIFS(vente!D:D,vente!B:B,$E$8,vente!C:C,'2'!A11)=0,"",SUMIFS(vente!D:D,vente!B:B,$E$8,vente!C:C,'2'!A11)) -> 2
A12: =A11+1 -> 2 | B12: M | C12: tunique grossesse grise violette manche 3/4 | D12: piches | F12: 1 | G12: =IF(SUMIFS(vente!D:D,vente!B:B,$E$8,vente!C:C,'2'!A12)=0,"",SUMIFS(vente!D:D,vente!B:B,$E$8,vente!C:C,'2'!A12))
A13: =A12+1 -> 3 | B13: M | C13: pantacourts grossesse blanc | D13: cmp | F13: 1 | G13: =IF(SUMIFS(vente!D:D,vente!B:B,$E$8,vente!C:C,'2'!A13)=0,"",SUMIFS(vente!D:D,vente!B:B,$E$8,vente!C:C,'2'!A13))
A14: =A13+1 -> 4 | B14: M | C14: robe violette manche 3/4 | D14: only | F14: 2 | G14: =IF(SUMIFS(vente!D:D,vente!B:B,$E$8,vente!C:C,'2'!A14)=0,"",SUMIFS(vente!D:D,vente!B:B,$E$8,vente!C:C,'2'!A14))
A15: =A14+1 -> 5 | C15: débardeur grossesse noir | D15: endsky | F15: 1 | G15: =IF(SUMIFS(vente!D:D,vente!B:B,$E$8,vente!C:C,'2'!A15)=0,"",SUMIFS(vente!D:D,vente!B:B,$E$8,vente!C:C,'2'!A15)) -> 1
A16: =A15+1 -> 6 | B16: 40 | C16: débardeur grossesse imprimé jaune gris bleu | D16: kiabi | F16: 2 | G16: =IF(SUMIFS(vente!D:D,vente!B:B,$E$8,vente!C:C,'2'!A16)=0,"",SUMIFS(vente!D:D,vente!B:B,$E$8,vente!C:C,'2'!A16)) -> 2
A17: =A16+1 -> 7 | B17: s | C17: chemisier grossesse taupe | D17: only | F17: 2 | G17: =IF(SUMIFS(vente!D:D,vente!B:B,$E$8,vente!C:C,'2'!A17)=0,"",SUMIFS(vente!D:D,vente!B:B,$E$8,vente!C:C,'2'!A17)) -> 2
A18: =A17+1 -> 8 | B18: 18 mois | C18: pyjama jaune orange vert | D18: orchestra | E18: G | F18: 1 | G18: =IF(SUMIFS(vente!D:D,vente!B:B,$E$8,vente!C:C,'2'!A18)=0,"",SUMIFS(vente!D:D,vente!B:B,$E$8,vente!C:C,'2'!A18))
A19: =A18+1 -> 9 | B19: 18 mois | C19: tee shirt ML bleu et blanc | D19: orchestra | E19: G | F19: 1 | G19: =IF(SUMIFS(vente!D:D,vente!B:B,$E$8,vente!C:C,'2'!A19)=0,"",SUMIFS(vente!D:D,vente!B:B,$E$8,vente!C:C,'2'!A19))
A20: =A19+1 -> 10 | B20: 18 mois | C20: chemise blanche ML | D20: orchestra | E20: G | F20: 1 | G20: =IF(SUMIFS(vente!D:D,vente!B:B,$E$8,vente!C:C,'2'!A20)=0,"",SUMIFS(vente!D:D,vente!B:B,$E$8,vente!C:C,'2'!A20)) -> 1
A21: =A20+1 -> 11 | B21: 18 mois | C21: tee shirt blanc MC voiture | E21: G | F21: 1 | G21: =IF(SUMIFS(vente!D:D,vente!B:B,$E$8,vente!C:C,'2'!A21)=0,"",SUMIFS(vente!D:D,vente!B:B,$E$8,vente!C:C,'2'!A21))
A22: =A21+1 -> 12 | B22: 18 mois | C22: tee shirt MC blanc "use your imagination" | D22: timberland | E22: G | F22: 1 | G22: =IF(SUMIFS(vente!D:D,vente!B:B,$E$8,vente!C:C,'2'!A22)=0,"",SUMIFS(vente!D:D,vente!B:B,$E$8,vente!C:C,'2'!A22)) -> 1
A23: =A22+1 -> 13 | B23: 18 mois | C23: tee shirt ML orange et blanc | D23: timberland | E23: G | F23: 1 | G23: =IF(SUMIFS(vente!D:D,vente!B:B,$E$8,vente!C:C,'2'!A23)=0,"",SUMIFS(vente!D:D,vente!B:B,$E$8,vente!C:C,'2'!A23)) -> 1
A24: =A23+1 -> 14 | B24: 18 mois | C24: ensemble pantalon bordeau et tunique fleurs | D24: u tout petit | E24: F | F24: 2 | G24: =IF(SUMIFS(vente!D:D,vente!B:B,$E$8,vente!C:C,'2'!A24)=0,"",SUMIFS(vente!D:D,vente!B:B,$E$8,vente!C:C,'2'!A24))
A25: =A24+1 -> 15 | B25: 18 mois | C25: salopette longue jean noir | D25: orchestra | E25: G | F25: 1 | G25: =IF(SUMIFS(vente!D:D,vente!B:B,$E$8,vente!C:C,'2'!A25)=0,"",SUMIFS(vente!D:D,vente!B:B,$E$8,vente!C:C,'2'!A25))
A26: =A25+1 -> 16 | B26: 18 mois | C26: ensemble salopette short jean gris clair et tee shirt rayé | D26: terre de marins | E26: G | F26: 2 | G26: =IF(SUMIFS(vente!D:D,vente!B:B,$E$8,vente!C:C,'2'!A26)=0,"",SUMIFS(vente!D:D,vente!B:B,$E$8,vente!C:C,'2'!A26))
A27: =A26+1 -> 17 | B27: 18 mois | C27: tee shirt gris bateau | D27: timberland | E27: G | F27: 1 | G27: =IF(SUMIFS(vente!D:D,vente!B:B,$E$8,vente!C:C,'2'!A27)=0,"",SUMIFS(vente!D:D,vente!B:B,$E$8,vente!C:C,'2'!A27))
A28: =A27+1 -> 18 | B28: 18 mois | C28: ensemble pantalon marron et chemise jaune | D28: tom et kiddy | E28: G | F28: 1 | G28: =IF(SUMIFS(vente!D:D,vente!B:B,$E$8,vente!C:C,'2'!A28)=0,"",SUMIFS(vente!D:D,vente!B:B,$E$8,vente!C:C,'2'!A28))
A29: 19 | B29: 18 mois | C29: polo ML kaki | D29: kidkanai | E29: G | F29: 1 | G29: =IF(SUMIFS(vente!D:D,vente!B:B,$E$8,vente!C:C,'2'!A29)=0,"",SUMIFS(vente!D:D,vente!B:B,$E$8,vente!C:C,'2'!A29))
A30: =A29+1 -> 20 | B30: 18 mois | C30: tee shirt ML blanc "destination bisous" | D30: tape à l'œil | E30: G | F30: 1 | G30: =IF(SUMIFS(vente!D:D,vente!B:B,$E$8,vente!C:C,'2'!A30)=0,"",SUMIFS(vente!D:D,vente!B:B,$E$8,vente!C:C,'2'!A30))
A31: =A30+1 -> 21 | B31: 18 mois | C31: chemise ML blanche rayé marron | D31: orchestra | E31: G | F31: 1 | G31: =IF(SUMIFS(vente!D:D,vente!B:B,$E$8,vente!C:C,'2'!A31)=0,"",SUMIFS(vente!D:D,vente!B:B,$E$8,vente!C:C,'2'!A31))
A32: =A31+1 -> 22 | B32: 18 mois | C32: chemise ML à carreaux marron vert | D32: les p'tits babies | E32: G | F32: 1 | G32: =IF(SUMIFS(vente!D:D,vente!B:B,$E$8,vente!C:C,'2'!A32)=0,"",SUMIFS(vente!D:D,vente!B:B,$E$8,vente!C:C,'2'!A32))
A33: =A32+1 -> 23 | B33: 18 mois | C33: chemise ML rayé bleu clair | D33: jean bourget | E33: G | F33: 1 | G33: =IF(SUMIFS(vente!D:D,vente!B:B,$E$8,vente!C:C,'2'!A33)=0,"",SUMIFS(vente!D:D,vente!B:B,$E$8,vente!C:C,'2'!A33))
A34: =A33+1 -> 24 | B34: 3 mois | C34: Tee shirt ML blanc rayé beige | D34: kitchoun | E34: G | F34: 1 | G34: =IF(SUMIFS(vente!D:D,vente!B:B,$E$8,vente!C:C,'2'!A34)=0,"",SUMIFS(vente!D:D,vente!B:B,$E$8,vente!C:C,'2'!A34))
A35: =A34+1 -> 25 | B35: 3 mois | C35: tee shirt ML blanc manches bleues | D35: u collection | E35: G | F35: 1 | G35: =IF(SUMIFS(vente!D:D,vente!B:B,$E$8,vente!C:C,'2'!A35)=0,"",SUMIFS(vente!D:D,vente!B:B,$E$8,vente!C:C,'2'!A35))
A36: =A35+1 -> 26 | B36: 3 mois | C36: short beige | D36: kitiwatt | E36: G | F36: 1 | G36: =IF(SUMIFS(vente!D:D,vente!B:B,$E$8,vente!C:C,'2'!A36)=0,"",SUMIFS(vente!D:D,vente!B:B,$E$8,vente!C:C,'2'!A36))
A37: =A36+1 -> 27 | B37: 6 mois | C37: salopette short beige | D37: u collection | E37: G | F37: 1 | G37: =IF(SUMIFS(vente!D:D,vente!B:B,$E$8,vente!C:C,'2'!A37)=0,"",SUMIFS(vente!D:D,vente!B:B,$E$8,vente!C:C,'2'!A37))
A38: =A37+1 -> 28 | B38: 6 mois | C38: tee shirt marron | D38: kimbaloo | E38: G | F38: 1 | G38: =IF(SUMIFS(vente!D:D,vente!B:B,$E$8,vente!C:C,'2'!A38)=0,"",SUMIFS(vente!D:D,vente!B:B,$E$8,vente!C:C,'2'!A38))
A39: =A38+1 -> 29 | B39: 6 mois | C39: gilet bleu ciel | E39: G | F39: 1 | G39: =IF(SUMIFS(vente!D:D,vente!B:B,$E$8,vente!C:C,'2'!A39)=0,"",SUMIFS(vente!D:D,vente!B:B,$E$8,vente!C:C,'2'!A39))
A40: =A39+1 -> 30 | B40: 6 mois | C40: tee shirt bleu | D40: timberland | E40: G | F40: 1 | G40: =IF(SUMIFS(vente!D:D,vente!B:B,$E$8,vente!C:C,'2'!A40)=0,"",SUMIFS(vente!D:D,vente!B:B,$E$8,vente!C:C,'2'!A40))
A41: =A40+1 -> 31 | B41: 6 mois | C41: polo marine | D41: timberland | E41: G | F41: 1 | G41: =IF(SUMIFS(vente!D:D,vente!B:B,$E$8,vente!C:C,'2'!A41)=0,"",SUMIFS(vente!D:D,vente!B:B,$E$8,vente!C:C,'2'!A41))
A42: =A41+1 -> 32 | B42: 6 mois | C42: chemise ML à carreaux rouges | D42: hugo boss | E42: G | F42: 1.5 | G42: =IF(SUMIFS(vente!D:D,vente!B:B,$E$8,vente!C:C,'2'!A42)=0,"",SUMIFS(vente!D:D,vente!B:B,$E$8,vente!C:C,'2'!A42))
A43: =A42+1 -> 33 | B43: 6 mois | C43: tee shirt ML blanc | D43: petit pirate | E43: G | F43: 1 | G43: =IF(SUMIFS(vente!D:D,vente!B:B,$E$8,vente!C:C,'2'!A43)=0,"",SUMIFS(vente!D:D,vente!B:B,$E$8,vente!C:C,'2'!A43))
A44: =A43+1 -> 34 | B44: 6 mois | C44: tee shirt bleu baleine | D44: marese | E44: G | F44: 1 | G44: =IF(SUMIFS(vente!D:D,vente!B:B,$E$8,vente!C:C,'2'!A44)=0,"",SUMIFS(vente!D:D,vente!B:B,$E$8,vente!C:C,'2'!A44))
A45: =A44+1 -> 35 | B45: 6 mois | C45: ensemble salopette short rouge et tee shirt | D45: ourson | E45: G | F45: 1.5 | G45: =IF(SUMIFS(vente!D:D,vente!B:B,$E$8,vente!C:C,'2'!A45)=0,"",SUMIFS(vente!D:D,vente!B:B,$E$8,vente!C:C,'2'!A45))
A46: =A45+1 -> 36 | B46: 6 mois | C46: salopette marron | D46: pickouic | E46: G | F46: 1 | G46: =IF(SUMIFS(vente!D:D,vente!B:B,$E$8,vente!C:C,'2'!A46)=0,"",SUMIFS(vente!D:D,vente!B:B,$E$8,vente!C:C,'2'!A46))
A47: =A46+1 -> 37 | B47: 9 mois | C47: tee shirt orange | D47: alphabet | E47: G | F47: 1 | G47: =IF(SUMIFS(vente!D:D,vente!B:B,$E$8,vente!C:C,'2'!A47)=0,"",SUMIFS(vente!D:D,vente!B:B,$E$8,vente!C:C,'2'!A47))
A48: =A47+1 -> 38 | B48: 12 mois | C48: ensemble robe rose et culotte | D48: mini adélie | E48: F | F48: 1.5 | G48: =IF(SUMIFS(vente!D:D,vente!B:B,$E$8,vente!C:C,'2'!A48)=0,"",SUMIFS(vente!D:D,vente!B:B,$E$8,vente!C:C,'2'!A48))
A49: =A48+1 -> 39 | B49: 3 ans | C49: chemise ML grise | D49: orchestra | E49: G | F49: 1 | G49: =IF(SUMIFS(vente!D:D,vente!B:B,$E$8,vente!C:C,'2'!A49)=0,"",SUMIFS(vente!D:D,vente!B:B,$E$8,vente!C:C,'2'!A49))
A50: =A49+1 -> 40 | B50: 3 ans | C50: chemise rayé | D50: orchestra | E50: G | F50: 1 | G50: =IF(SUMIFS(vente!D:D,vente!B:B,$E$8,vente!C:C,'2'!A50)=0,"",SUMIFS(vente!D:D,vente!B:B,$E$8,vente!C:C,'2'!A50))
A51: =A50+1 -> 41 | B51: 8 ans | C51: tee shirt ML beige camion | E51: G | F51: 1 | G51: =IF(SUMIFS(vente!D:D,vente!B:B,$E$8,vente!C:C,'2'!A51)=0,"",SUMIFS(vente!D:D,vente!B:B,$E$8,vente!C:C,'2'!A51))
A52: =A51+1 -> 42 | B52: 10 ans | C52: sweat gris | D52: energetics | E52: G | F52: 2 | G52: =IF(SUMIFS(vente!D:D,vente!B:B,$E$8,vente!C:C,'2'!A52)=0,"",SUMIFS(vente!D:D,vente!B:B,$E$8,vente!C:C,'2'!A52))
A53: =A52+1 -> 43 | B53: 8 ans | C53: tee shirt ML bleu robot | D53: pick ouic | E53: G | F53: 1 | G53: =IF(SUMIFS(vente!D:D,vente!B:B,$E$8,vente!C:C,'2'!A53)=0,"",SUMIFS(vente!D:D,vente!B:B,$E$8,vente!C:C,'2'!A53))
A54: =A53+1 -> 44 | B54: 8 ans | C54: jean bleu | D54: tissaia | E54: G | F54: 1.5 | G54: =IF(SUMIFS(vente!D:D,vente!B:B,$E$8,vente!C:C,'2'!A54)=0,"",SUMIFS(vente!D:D,vente!B:B,$E$8,vente!C:C,'2'!A54))
A55: =A54+1 -> 45 | B55: 18 mois | C55: gilet court blanc | D55: tape à l'œil | E55: F | F55: 1 | G55: =IF(SUMIFS(vente!D:D,vente!B:B,$E$8,vente!C:C,'2'!A55)=0,"",SUMIFS(vente!D:D,vente!B:B,$E$8,vente!C:C,'2'!A55))
A56: =A55+1 -> 46 | B56: 24 mois | C56: gilet rouge | D56: u collection | E56: F | F56: 1 | G56: =IF(SUMIFS(vente!D:D,vente!B:B,$E$8,vente!C:C,'2'!A56)=0,"",SUMIFS(vente!D:D,vente!B:B,$E$8,vente!C:C,'2'!A56))
A57: =A56+1 -> 47 | B57: 23 mois | C57: robe rose winnie l'ourson | D57: disney | E57: F | F57: 1 | G57: =IF(SUMIFS(vente!D:D,vente!B:B,$E$8,vente!C:C,'2'!A57)=0,"",SUMIFS(vente!D:D,vente!B:B,$E$8,vente!C:C,'2'!A57))
A58: =A57+1 -> 48 | B58: 4 ans | C58: pantacourts kaki | E58: G | F58: 1 | G58: =IF(SUMIFS(vente!D:D,vente!B:B,$E$8,vente!C:C,'2'!A58)=0,"",SUMIFS(vente!D:D,vente!B:B,$E$8,vente!C:C,'2'!A58))
A59: =A58+1 -> 49 | B59: 6 ans | C59: gilet sans manche noir | D59: bestway | E59: G | F59: 1 | G59: =IF(SUMIFS(vente!D:D,vente!B:B,$E$8,vente!C:C,'2'!A59)=0,"",SUMIFS(vente!D:D,vente!B:B,$E$8,vente!C:C,'2'!A59))
A60: =A59+1 -> 50 | B60: 6 ans | C60: chemise noir rayé | D60: bestway | E60: G | F60: 1 | G60: =IF(SUMIFS(vente!D:D,vente!B:B,$E$8,vente!C:C,'2'!A60)=0,"",SUMIFS(vente!D:D,vente!B:B,$E$8,vente!C:C,'2'!A60))
A61: =A60+1 -> 51 | B61: 6 ans | C61: short flash mc queen | D61: disney | E61: G | F61: 1 | G61: =IF(SUMIFS(vente!D:D,vente!B:B,$E$8,vente!C:C,'2'!A61)=0,"",SUMIFS(vente!D:D,vente!B:B,$E$8,vente!C:C,'2'!A61))
A62: =A61+1 -> 52 | B62: 5 ans | C62: chemise beige rayé | D62: bestway | E62: G | F62: 1 | G62: =IF(SUMIFS(vente!D:D,vente!B:B,$E$8,vente!C:C,'2'!A62)=0,"",SUMIFS(vente!D:D,vente!B:B,$E$8,vente!C:C,'2'!A62))
A63: =A62+1 -> 53 | B63: 3 ans | C63: short noir motoring 27 | E63: G | F63: 1 | G63: =IF(SUMIFS(vente!D:D,vente!B:B,$E$8,vente!C:C,'2'!A63)=0,"",SUMIFS(vente!D:D,vente!B:B,$E$8,vente!C:C,'2'!A63))
A64: =A63+1 -> 54 | B64: 24 mois | C64: robe salopette grise | D64: u collection | E64: F | F64: 2 | G64: =IF(SUMIFS(vente!D:D,vente!B:B,$E$8,vente!C:C,'2'!A64)=0,"",SUMIFS(vente!D:D,vente!B:B,$E$8,vente!C:C,'2'!A64))
A65: =A64+1 -> 55 | B65: 8 ans | C65: tee-shirt bleu marine | D65: sportway | E65: G | F65: 1 | G65: =IF(SUMIFS(vente!D:D,vente!B:B,$E$8,vente!C:C,'2'!A65)=0,"",SUMIFS(vente!D:D,vente!B:B,$E$8,vente!C:C,'2'!A65))
A66: =A65+1 -> 56 | B66: 8 ans | C66: short gris | D66: u essentiel | E66: G | F66: 2 | G66: =IF(SUMIFS(vente!D:D,vente!B:B,$E$8,vente!C:C,'2'!A66)=0,"",SUMIFS(vente!D:D,vente!B:B,$E$8,vente!C:C,'2'!A66))
A67: =A66+1 -> 57 | G67: =IF(SUMIFS(vente!D:D,vente!B:B,$E$8,vente!C:C,'2'!A67)=0,"",SUMIFS(vente!D:D,vente!B:B,$E$8,vente!C:C,'2'!A67))
A68: =A67+1 -> 58 | G68: =IF(SUMIFS(vente!D:D,vente!B:B,$E$8,vente!C:C,'2'!A68)=0,"",SUMIFS(vente!D:D,vente!B:B,$E$8,vente!C:C,'2'!A68))
A69: =A68+1 -> 59 | G69: =IF(SUMIFS(vente!D:D,vente!B:B,$E$8,vente!C:C,'2'!A69)=0,"",SUMIFS(vente!D:D,vente!B:B,$E$8,vente!C:C,'2'!A69))
A70: =A69+1 -> 60 | G70: =IF(SUMIFS(vente!D:D,vente!B:B,$E$8,vente!C:C,'2'!A70)=0,"",SUMIFS(vente!D:D,vente!B:B,$E$8,vente!C:C,'2'!A70))
D71: Total Ventes | G71: =SUM(G11:G70) -> 10
D72: Prélèvement asso (30%) | G72: =G71*30% -> 3
C73: maximum 60 articles déposés | D73: Total cliente | G73: =G71-G72 -> 7

Sheet 2
B1: Bourse aux vêtements - Accueil et Loisirs - St Fulgent
D3: Nom | E3: A
D4: Prénom
B5: Repris / Non repris | D5: Adresse
D6: Téléphone
D8: N° Client | E8: =MID(CELL("nomfichier",A1),FIND("]",CELL("nomfichier",A1))+1,32) -> 2
A10: N° | B10: Age | C10: Désignation | D10: Marque | E10: sexe | F10: prix | G10: vendu
A11: 1 | B11: 38-40 | C11: chemise de nuit grossesse marron | D11: calinkalin | F11: 6 | G11: =IF(SUMIFS(vente!D:D,vente!B:B,$E$8,vente!C:C,'2'!A11)=0,"",SUMIFS(vente!D:D,vente!B:B,$E$8,vente!C:C,'2'!A11)) -> 6
A12: =A11+1 -> 2 | B12: M | C12: tunique grossesse grise violette manche 3/4 | D12: piches | F12: 1 | G12: =IF(SUMIFS(vente!D:D,vente!B:B,$E$8,vente!C:C,'2'!A12)=0,"",SUMIFS(vente!D:D,vente!B:B,$E$8,vente!C:C,'2'!A12))
A13: =A12+1 -> 3 | B13: M | C13: pantacourts grossesse blanc | D13: cmp | F13: 1 | G13: =IF(SUMIFS(vente!D:D,vente!B:B,$E$8,vente!C:C,'2'!A13)=0,"",SUMIFS(vente!D:D,vente!B:B,$E$8,vente!C:C,'2'!A13)) -> 1
A14: =A13+1 -> 4 | B14: M | C14: robe violette manche 3/4 | D14: only | F14: 2 | G14: =IF(SUMIFS(vente!D:D,vente!B:B,$E$8,vente!C:C,'2'!A14)=0,"",SUMIFS(vente!D:D,vente!B:B,$E$8,vente!C:C,'2'!A14))
A15: =A14+1 -> 5 | C15: débardeur grossesse noir | D15: endsky | F15: 1 | G15: =IF(SUMIFS(vente!D:D,vente!B:B,$E$8,vente!C:C,'2'!A15)=0,"",SUMIFS(vente!D:D,vente!B:B,$E$8,vente!C:C,'2'!A15)) -> 1
A16: =A15+1 -> 6 | B16: 40 | C16: débardeur grossesse imprimé jaune gris bleu | D16: kiabi | F16: 2 | G16: =IF(SUMIFS(vente!D:D,vente!B:B,$E$8,vente!C:C,'2'!A16)=0,"",SUMIFS(vente!D:D,vente!B:B,$E$8,vente!C:C,'2'!A16)) -> 2
A17: =A16+1 -> 7 | B17: s | C17: chemisier grossesse taupe | D17: only | F17: 2 | G17: =IF(SUMIFS(vente!D:D,vente!B:B,$E$8,vente!C:C,'2'!A17)=0,"",SUMIFS(vente!D:D,vente!B:B,$E$8,vente!C:C,'2'!A17)) -> 2
A18: =A17+1 -> 8 | B18: 18 mois | C18: pyjama jaune orange vert | D18: orchestra | E18: G | F18: 1 | G18: =IF(SUMIFS(vente!D:D,vente!B:B,$E$8,vente!C:C,'2'!A18)=0,"",SUMIFS(vente!D:D,vente!B:B,$E$8,vente!C:C,'2'!A18))
A19: =A18+1 -> 9 | B19: 18 mois | C19: tee shirt ML bleu et blanc | D19: orchestra | E19: G | F19: 1 | G19: =IF(SUMIFS(vente!D:D,vente!B:B,$E$8,vente!C:C,'2'!A19)=0,"",SUMIFS(vente!D:D,vente!B:B,$E$8,vente!C:C,'2'!A19))
A20: =A19+1 -> 10 | B20: 18 mois | C20: chemise blanche ML | D20: orchestra | E20: G | F20: 1 | G20: =IF(SUMIFS(vente!D:D,vente!B:B,$E$8,vente!C:C,'2'!A20)=0,"",SUMIFS(vente!D:D,vente!B:B,$E$8,vente!C:C,'2'!A20))
A21: =A20+1 -> 11 | B21: 18 mois | C21: tee shirt blanc MC voiture | E21: G | F21: 1 | G21: =IF(SUMIFS(vente!D:D,vente!B:B,$E$8,vente!C:C,'2'!A21)=0,"",SUMIFS(vente!D:D,vente!B:B,$E$8,vente!C:C,'2'!A21))
A22: =A21+1 -> 12 | B22: 18 mois | C22: tee shirt MC blanc "use your imagination" | D22: timberland | E22: G | F22: 1 | G22: =IF(SUMIFS(vente!D:D,vente!B:B,$E$8,vente!C:C,'2'!A22)=0,"",SUMIFS(vente!D:D,vente!B:B,$E$8,vente!C:C,'2'!A22))
A23: =A22+1 -> 13 | B23: 18 mois | C23: tee shirt ML orange et blanc | D23: timberland | E23: G | F23: 1 | G23: =IF(SUMIFS(vente!D:D,vente!B:B,$E$8,vente!C:C,'2'!A23)=0,"",SUMIFS(vente!D:D,vente!B:B,$E$8,vente!C:C,'2'!A23))
A24: =A23+1 -> 14 | B24: 18 mois | C24: ensemble pantalon bordeau et tunique fleurs | D24: u tout petit | E24: F | F24: 2 | G24: =IF(SUMIFS(vente!D:D,vente!B:B,$E$8,vente!C:C,'2'!A24)=0,"",SUMIFS(vente!D:D,vente!B:B,$E$8,vente!C:C,'2'!A24))
A25: =A24+1 -> 15 | B25: 18 mois | C25: salopette longue jean noir | D25: orchestra | E25: G | F25: 1 | G25: =IF(SUMIFS(vente!D:D,vente!B:B,$E$8,vente!C:C,'2'!A25)=0,"",SUMIFS(vente!D:D,vente!B:B,$E$8,vente!C:C,'2'!A25)) -> 1
A26: =A25+1 -> 16 | B26: 18 mois | C26: ensemble salopette short jean gris clair et tee shirt rayé | D26: terre de marins | E26: G | F26: 2 | G26: =IF(SUMIFS(vente!D:D,vente!B:B,$E$8,vente!C:C,'2'!A26)=0,"",SUMIFS(vente!D:D,vente!B:B,$E$8,vente!C:C,'2'!A26))
A27: =A26+1 -> 17 | B27: 18 mois | C27: tee shirt gris bateau | D27: timberland | E27: G | F27: 1 | G27: =IF(SUMIFS(vente!D:D,vente!B:B,$E$8,vente!C:C,'2'!A27)=0,"",SUMIFS(vente!D:D,vente!B:B,$E$8,vente!C:C,'2'!A27))
A28: =A27+1 -> 18 | B28: 18 mois | C28: ensemble pantalon marron et chemise jaune | D28: tom et kiddy | E28: G | F28: 1 | G28: =IF(SUMIFS(vente!D:D,vente!B:B,$E$8,vente!C:C,'2'!A28)=0,"",SUMIFS(vente!D:D,vente!B:B,$E$8,vente!C:C,'2'!A28))
A29: 19 | B29: 18 mois | C29: polo ML kaki | D29: kidkanai | E29: G | F29: 1 | G29: =IF(SUMIFS(vente!D:D,vente!B:B,$E$8,vente!C:C,'2'!A29)=0,"",SUMIFS(vente!D:D,vente!B:B,$E$8,vente!C:C,'2'!A29))
A30: =A29+1 -> 20 | B30: 18 mois | C30: tee shirt ML blanc "destination bisous" | D30: tape à l'œil | E30: G | F30: 1 | G30: =IF(SUMIFS(vente!D:D,vente!B:B,$E$8,vente!C:C,'2'!A30)=0,"",SUMIFS(vente!D:D,vente!B:B,$E$8,vente!C:C,'2'!A30))
A31: =A30+1 -> 21 | B31: 18 mois | C31: chemise ML blanche rayé marron | D31: orchestra | E31: G | F31: 1 | G31: =IF(SUMIFS(vente!D:D,vente!B:B,$E$8,vente!C:C,'2'!A31)=0,"",SUMIFS(vente!D:D,vente!B:B,$E$8,vente!C:C,'2'!A31))
A32: =A31+1 -> 22 | B32: 18 mois | C32: chemise ML à carreaux marron vert | D32: les p'tits babies | E32: G | F32: 1 | G32: =IF(SUMIFS(vente!D:D,vente!B:B,$E$8,vente!C:C,'2'!A32)=0,"",SUMIFS(vente!D:D,vente!B:B,$E$8,vente!C:C,'2'!A32))
A33: =A32+1 -> 23 | B33: 18 mois | C33: chemise ML rayé bleu clair | D33: jean bourget | E33: G | F33: 1 | G33: =IF(SUMIFS(vente!D:D,vente!B:B,$E$8,vente!C:C,'2'!A33)=0,"",SUMIFS(vente!D:D,vente!B:B,$E$8,vente!C:C,'2'!A33))
A34: =A33+1 -> 24 | B34: 3 mois | C34: Tee shirt ML blanc rayé beige | D34: kitchoun | E34: G | F34: 1 | G34: =IF(SUMIFS(vente!D:D,vente!B:B,$E$8,vente!C:C,'2'!A34)=0,"",SUMIFS(vente!D:D,vente!B:B,$E$8,vente!C:C,'2'!A34))
A35: =A34+1 -> 25 | B35: 3 mois | C35: tee shirt ML blanc manches bleues | D35: u collection | E35: G | F35: 1 | G35: =IF(SUMIFS(vente!D:D,vente!B:B,$E$8,vente!C:C,'2'!A35)=0,"",SUMIFS(vente!D:D,vente!B:B,$E$8,vente!C:C,'2'!A35))
A36: =A35+1 -> 26 | B36: 3 mois | C36: short beige | D36: kitiwatt | E36: G | F36: 1 | G36: =IF(SUMIFS(vente!D:D,vente!B:B,$E$8,vente!C:C,'2'!A36)=0,"",SUMIFS(vente!D:D,vente!B:B,$E$8,vente!C:C,'2'!A36))
A37: =A36+1 -> 27 | B37: 6 mois | C37: salopette short beige | D37: u collection | E37: G | F37: 1 | G37: =IF(SUMIFS(vente!D:D,vente!B:B,$E$8,vente!C:C,'2'!A37)=0,"",SUMIFS(vente!D:D,vente!B:B,$E$8,vente!C:C,'2'!A37))
A38: =A37+1 -> 28 | B38: 6 mois | C38: tee shirt marron | D38: kimbaloo | E38: G | F38: 1 | G38: =IF(SUMIFS(vente!D:D,vente!B:B,$E$8,vente!C:C,'2'!A38)=0,"",SUMIFS(vente!D:D,vente!B:B,$E$8,vente!C:C,'2'!A38))
A39: =A38+1 -> 29 | B39: 6 mois | C39: gilet bleu ciel | E39: G | F39: 1 | G39: =IF(SUMIFS(vente!D:D,vente!B:B,$E$8,vente!C:C,'2'!A39)=0,"",SUMIFS(vente!D:D,vente!B:B,$E$8,vente!C:C,'2'!A39))
A40: =A39+1 -> 30 | B40: 6 mois | C40: tee shirt bleu | D40: timberland | E40: G | F40: 1 | G40: =IF(SUMIFS(vente!D:D,vente!B:B,$E$8,vente!C:C,'2'!A40)=0,"",SUMIFS(vente!D:D,vente!B:B,$E$8,vente!C:C,'2'!A40))
A41: =A40+1 -> 31 | B41: 6 mois | C41: polo marine | D41: timberland | E41: G | F41: 1 | G41: =IF(SUMIFS(vente!D:D,vente!B:B,$E$8,vente!C:C,'2'!A41)=0,"",SUMIFS(vente!D:D,vente!B:B,$E$8,vente!C:C,'2'!A41))
A42: =A41+1 -> 32 | B42: 6 mois | C42: chemise ML à carreaux rouges | D42: hugo boss | E42: G | F42: 1.5 | G42: =IF(SUMIFS(vente!D:D,vente!B:B,$E$8,vente!C:C,'2'!A42)=0,"",SUMIFS(vente!D:D,vente!B:B,$E$8,vente!C:C,'2'!A42))
A43: =A42+1 -> 33 | B43: 6 mois | C43: tee shirt ML blanc | D43: petit pirate | E43: G | F43: 1 | G43: =IF(SUMIFS(vente!D:D,vente!B:B,$E$8,vente!C:C,'2'!A43)=0,"",SUMIFS(vente!D:D,vente!B:B,$E$8,vente!C:C,'2'!A43))
A44: =A43+1 -> 34 | B44: 6 mois | C44: tee shirt bleu baleine | D44: marese | E44: G | F44: 1 | G44: =IF(SUMIFS(vente!D:D,vente!B:B,$E$8,vente!C:C,'2'!A44)=0,"",SUMIFS(vente!D:D,vente!B:B,$E$8,vente!C:C,'2'!A44))
A45: =A44+1 -> 35 | B45: 6 mois | C45: ensemble salopette short rouge et tee shirt | D45: ourson | E45: G | F45: 1.5 | G45: =IF(SUMIFS(vente!D:D,vente!B:B,$E$8,vente!C:C,'2'!A45)=0,"",SUMIFS(vente!D:D,vente!B:B,$E$8,vente!C:C,'2'!A45))
A46: =A45+1 -> 36 | B46: 6 mois | C46: salopette marron | D46: pickouic | E46: G | F46: 1 | G46: =IF(SUMIFS(vente!D:D,vente!B:B,$E$8,vente!C:C,'2'!A46)=0,"",SUMIFS(vente!D:D,vente!B:B,$E$8,vente!C:C,'2'!A46))
A47: =A46+1 -> 37 | B47: 9 mois | C47: tee shirt orange | D47: alphabet | E47: G | F47: 1 | G47: =IF(SUMIFS(vente!D:D,vente!B:B,$E$8,vente!C:C,'2'!A47)=0,"",SUMIFS(vente!D:D,vente!B:B,$E$8,vente!C:C,'2'!A47))
A48: =A47+1 -> 38 | B48: 12 mois | C48: ensemble robe rose et culotte | D48: mini adélie | E48: F | F48: 1.5 | G48: =IF(SUMIFS(vente!D:D,vente!B:B,$E$8,vente!C:C,'2'!A48)=0,"",SUMIFS(vente!D:D,vente!B:B,$E$8,vente!C:C,'2'!A48))
A49: =A48+1 -> 39 | B49: 3 ans | C49: chemise ML grise | D49: orchestra | E49: G | F49: 1 | G49: =IF(SUMIFS(vente!D:D,vente!B:B,$E$8,vente!C:C,'2'!A49)=0,"",SUMIFS(vente!D:D,vente!B:B,$E$8,vente!C:C,'2'!A49))
A50: =A49+1 -> 40 | B50: 3 ans | C50: chemise rayé | D50: orchestra | E50: G | F50: 1 | G50: =IF(SUMIFS(vente!D:D,vente!B:B,$E$8,vente!C:C,'2'!A50)=0,"",SUMIFS(vente!D:D,vente!B:B,$E$8,vente!C:C,'2'!A50))
A51: =A50+1 -> 41 | B51: 8 ans | C51: tee shirt ML beige camion | E51: G | F51: 1 | G51: =IF(SUMIFS(vente!D:D,vente!B:B,$E$8,vente!C:C,'2'!A51)=0,"",SUMIFS(vente!D:D,vente!B:B,$E$8,vente!C:C,'2'!A51))
A52: =A51+1 -> 42 | B52: 10 ans | C52: sweat gris | D52: energetics | E52: G | F52: 2 | G52: =IF(SUMIFS(vente!D:D,vente!B:B,$E$8,vente!C:C,'2'!A52)=0,"",SUMIFS(vente!D:D,vente!B:B,$E$8,vente!C:C,'2'!A52))
A53: =A52+1 -> 43 | B53: 8 ans | C53: tee shirt ML bleu robot | D53: pick ouic | E53: G | F53: 1 | G53: =IF(SUMIFS(vente!D:D,vente!B:B,$E$8,vente!C:C,'2'!A53)=0,"",SUMIFS(vente!D:D,vente!B:B,$E$8,vente!C:C,'2'!A53))
A54: =A53+1 -> 44 | B54: 8 ans | C54: jean bleu | D54: tissaia | E54: G | F54: 1.5 | G54: =IF(SUMIFS(vente!D:D,vente!B:B,$E$8,vente!C:C,'2'!A54)=0,"",SUMIFS(vente!D:D,vente!B:B,$E$8,vente!C:C,'2'!A54))
A55: =A54+1 -> 45 | B55: 18 mois | C55: gilet court blanc | D55: tape à l'œil | E55: F | F55: 1 | G55: =IF(SUMIFS(vente!D:D,vente!B:B,$E$8,vente!C:C,'2'!A55)=0,"",SUMIFS(vente!D:D,vente!B:B,$E$8,vente!C:C,'2'!A55))
A56: =A55+1 -> 46 | B56: 24 mois | C56: gilet rouge | D56: u collection | E56: F | F56: 1 | G56: =IF(SUMIFS(vente!D:D,vente!B:B,$E$8,vente!C:C,'2'!A56)=0,"",SUMIFS(vente!D:D,vente!B:B,$E$8,vente!C:C,'2'!A56))
A57: =A56+1 -> 47 | B57: 23 mois | C57: robe rose winnie l'ourson | D57: disney | E57: F | F57: 1 | G57: =IF(SUMIFS(vente!D:D,vente!B:B,$E$8,vente!C:C,'2'!A57)=0,"",SUMIFS(vente!D:D,vente!B:B,$E$8,vente!C:C,'2'!A57))
A58: =A57+1 -> 48 | B58: 4 ans | C58: pantacourts kaki | E58: G | F58: 1 | G58: =IF(SUMIFS(vente!D:D,vente!B:B,$E$8,vente!C:C,'2'!A58)=0,"",SUMIFS(vente!D:D,vente!B:B,$E$8,vente!C:C,'2'!A58))
A59: =A58+1 -> 49 | B59: 6 ans | C59: gilet sans manche noir | D59: bestway | E59: G | F59: 1 | G59: =IF(SUMIFS(vente!D:D,vente!B:B,$E$8,vente!C:C,'2'!A59)=0,"",SUMIFS(vente!D:D,vente!B:B,$E$8,vente!C:C,'2'!A59))
A60: =A59+1 -> 50 | B60: 6 ans | C60: chemise noir rayé | D60: bestway | E60: G | F60: 1 | G60: =IF(SUMIFS(vente!D:D,vente!B:B,$E$8,vente!C:C,'2'!A60)=0,"",SUMIFS(vente!D:D,vente!B:B,$E$8,vente!C:C,'2'!A60))
A61: =A60+1 -> 51 | B61: 6 ans | C61: short flash mc queen | D61: disney | E61: G | F61: 1 | G61: =IF(SUMIFS(vente!D:D,vente!B:B,$E$8,vente!C:C,'2'!A61)=0,"",SUMIFS(vente!D:D,vente!B:B,$E$8,vente!C:C,'2'!A61))
A62: =A61+1 -> 52 | B62: 5 ans | C62: chemise beige rayé | D62: bestway | E62: G | F62: 1 | G62: =IF(SUMIFS(vente!D:D,vente!B:B,$E$8,vente!C:C,'2'!A62)=0,"",SUMIFS(vente!D:D,vente!B:B,$E$8,vente!C:C,'2'!A62))
A63: =A62+1 -> 53 | B63: 3 ans | C63: short noir motoring 27 | E63: G | F63: 1 | G63: =IF(SUMIFS(vente!D:D,vente!B:B,$E$8,vente!C:C,'2'!A63)=0,"",SUMIFS(vente!D:D,vente!B:B,$E$8,vente!C:C,'2'!A63))
A64: =A63+1 -> 54 | B64: 24 mois | C64: robe salopette grise | D64: u collection | E64: F | F64: 2 | G64: =IF(SUMIFS(vente!D:D,vente!B:B,$E$8,vente!C:C,'2'!A64)=0,"",SUMIFS(vente!D:D,vente!B:B,$E$8,vente!C:C,'2'!A64))
A65: =A64+1 -> 55 | B65: 8 ans | C65: tee-shirt bleu marine | D65: sportway | E65: G | F65: 1 | G65: =IF(SUMIFS(vente!D:D,vente!B:B,$E$8,vente!C:C,'2'!A65)=0,"",SUMIFS(vente!D:D,vente!B:B,$E$8,vente!C:C,'2'!A65))
A66: =A65+1 -> 56 | B66: 8 ans | C66: short gris | D66: u essentiel | E66: G | F66: 2 | G66: =IF(SUMIFS(vente!D:D,vente!B:B,$E$8,vente!C:C,'2'!A66)=0,"",SUMIFS(vente!D:D,vente!B:B,$E$8,vente!C:C,'2'!A66))
A67: =A66+1 -> 57 | G67: =IF(SUMIFS(vente!D:D,vente!B:B,$E$8,vente!C:C,'2'!A67)=0,"",SUMIFS(vente!D:D,vente!B:B,$E$8,vente!C:C,'2'!A67))
A68: =A67+1 -> 58 | G68: =IF(SUMIFS(vente!D:D,vente!B:B,$E$8,vente!C:C,'2'!A68)=0,"",SUMIFS(vente!D:D,vente!B:B,$E$8,vente!C:C,'2'!A68))
A69: =A68+1 -> 59 | G69: =IF(SUMIFS(vente!D:D,vente!B:B,$E$8,vente!C:C,'2'!A69)=0,"",SUMIFS(vente!D:D,vente!B:B,$E$8,vente!C:C,'2'!A69))
A70: =A69+1 -> 60 | G70: =IF(SUMIFS(vente!D:D,vente!B:B,$E$8,vente!C:C,'2'!A70)=0,"",SUMIFS(vente!D:D,vente!B:B,$E$8,vente!C:C,'2'!A70))
D71: Total Ventes | G71: =SUM(G11:G70) -> 13
D72: Prélèvement asso (30%) | G72: =G71*30% -> 3.9
C73: maximum 60 articles déposés | D73: Total cliente | G73: =G71-G72 -> 9.1

Sheet 3
B1: Bourse aux vêtements - Accueil et Loisirs - St Fulgent
D3: Nom | E3: A
D4: Prénom
B5: Repris / Non repris | D5: Adresse
D6: Téléphone
D8: N° Client | E8: =MID(CELL("nomfichier",A1),FIND("]",CELL("nomfichier",A1))+1,32) -> 3
A10: N° | B10: Age | C10: Désignation | D10: Marque | E10: sexe | F10: prix | G10: vendu
A11: 1 | B11: 38-40 | C11: chemise de nuit grossesse marron | D11: calinkalin | F11: 1 | G11: =IF(SUMIFS(vente!D:D,vente!B:B,$E$8,vente!C:C,'2'!A11)=0,"",SUMIFS(vente!D:D,vente!B:B,$E$8,vente!C:C,'2'!A11))
A12: =A11+1 -> 2 | B12: M | C12: tunique grossesse grise violette manche 3/4 | D12: piches | F12: 1 | G12: =IF(SUMIFS(vente!D:D,vente!B:B,$E$8,vente!C:C,'2'!A12)=0,"",SUMIFS(vente!D:D,vente!B:B,$E$8,vente!C:C,'2'!A12))
A13: =A12+1 -> 3 | B13: M | C13: pantacourts grossesse blanc | D13: cmp | F13: 1 | G13: =IF(SUMIFS(vente!D:D,vente!B:B,$E$8,vente!C:C,'2'!A13)=0,"",SUMIFS(vente!D:D,vente!B:B,$E$8,vente!C:C,'2'!A13))
A14: =A13+1 -> 4 | B14: M | C14: robe violette manche 3/4 | D14: only | F14: 2 | G14: =IF(SUMIFS(vente!D:D,vente!B:B,$E$8,vente!C:C,'2'!A14)=0,"",SUMIFS(vente!D:D,vente!B:B,$E$8,vente!C:C,'2'!A14))
A15: =A14+1 -> 5 | C15: débardeur grossesse noir | D15: endsky | F15: 1 | G15: =IF(SUMIFS(vente!D:D,vente!B:B,$E$8,vente!C:C,'2'!A15)=0,"",SUMIFS(vente!D:D,vente!B:B,$E$8,vente!C:C,'2'!A15))
A16: =A15+1 -> 6 | B16: 40 | C16: débardeur grossesse imprimé jaune gris bleu | D16: kiabi | F16: 2 | G16: =IF(SUMIFS(vente!D:D,vente!B:B,$E$8,vente!C:C,'2'!A16)=0,"",SUMIFS(vente!D:D,vente!B:B,$E$8,vente!C:C,'2'!A16))
A17: =A16+1 -> 7 | B17: s | C17: chemisier grossesse taupe | D17: only | F17: 2 | G17: =IF(SUMIFS(vente!D:D,vente!B:B,$E$8,vente!C:C,'2'!A17)=0,"",SUMIFS(vente!D:D,vente!B:B,$E$8,vente!C:C,'2'!A17))
A18: =A17+1 -> 8 | B18: 18 mois | C18: pyjama jaune orange vert | D18: orchestra | E18: G | F18: 1 | G18: =IF(SUMIFS(vente!D:D,vente!B:B,$E$8,vente!C:C,'2'!A18)=0,"",SUMIFS(vente!D:D,vente!B:B,$E$8,vente!C:C,'2'!A18))
A19: =A18+1 -> 9 | B19: 18 mois | C19: tee shirt ML bleu et blanc | D19: orchestra | E19: G | F19: 1 | G19: =IF(SUMIFS(vente!D:D,vente!B:B,$E$8,vente!C:C,'2'!A19)=0,"",SUMIFS(vente!D:D,vente!B:B,$E$8,vente!C:C,'2'!A19))
A20: =A19+1 -> 10 | B20: 18 mois | C20: chemise blanche ML | D20: orchestra | E20: G | F20: 1 | G20: =IF(SUMIFS(vente!D:D,vente!B:B,$E$8,vente!C:C,'2'!A20)=0,"",SUMIFS(vente!D:D,vente!B:B,$E$8,vente!C:C,'2'!A20)) -> 1
A21: =A20+1 -> 11 | B21: 18 mois | C21: tee shirt blanc MC voiture | E21: G | F21: 1 | G21: =IF(SUMIFS(vente!D:D,vente!B:B,$E$8,vente!C:C,'2'!A21)=0,"",SUMIFS(vente!D:D,vente!B:B,$E$8,vente!C:C,'2'!A21))
A22: =A21+1 -> 12 | B22: 18 mois | C22: tee shirt MC blanc "use your imagination" | D22: timberland | E22: G | F22: 1 | G22: =IF(SUMIFS(vente!D:D,vente!B:B,$E$8,vente!C:C,'2'!A22)=0,"",SUMIFS(vente!D:D,vente!B:B,$E$8,vente!C:C,'2'!A22)) -> 1
A23: =A22+1 -> 13 | B23: 18 mois | C23: tee shirt ML orange et blanc | D23: timberland | E23: G | F23: 1 | G23: =IF(SUMIFS(vente!D:D,vente!B:B,$E$8,vente!C:C,'2'!A23)=0,"",SUMIFS(vente!D:D,vente!B:B,$E$8,vente!C:C,'2'!A23)) -> 1
A24: =A23+1 -> 14 | B24: 18 mois | C24: ensemble pantalon bordeau et tunique fleurs | D24: u tout petit | E24: F | F24: 2 | G24: =IF(SUMIFS(vente!D:D,vente!B:B,$E$8,vente!C:C,'2'!A24)=0,"",SUMIFS(vente!D:D,vente!B:B,$E$8,vente!C:C,'2'!A24))
A25: =A24+1 -> 15 | B25: 18 mois | C25: salopette longue jean noir | D25: orchestra | E25: G | F25: 1 | G25: =IF(SUMIFS(vente!D:D,vente!B:B,$E$8,vente!C:C,'2'!A25)=0,"",SUMIFS(vente!D:D,vente!B:B,$E$8,vente!C:C,'2'!A25)) -> 4
A26: =A25+1 -> 16 | B26: 18 mois | C26: ensemble salopette short jean gris clair et tee shirt rayé | D26: terre de marins | E26: G | F26: 2 | G26: =IF(SUMIFS(vente!D:D,vente!B:B,$E$8,vente!C:C,'2'!A26)=0,"",SUMIFS(vente!D:D,vente!B:B,$E$8,vente!C:C,'2'!A26))
A27: =A26+1 -> 17 | B27: 18 mois | C27: tee shirt gris bateau | D27: timberland | E27: G | F27: 1 | G27: =IF(SUMIFS(vente!D:D,vente!B:B,$E$8,vente!C:C,'2'!A27)=0,"",SUMIFS(vente!D:D,vente!B:B,$E$8,vente!C:C,'2'!A27))
A28: =A27+1 -> 18 | B28: 18 mois | C28: ensemble pantalon marron et chemise jaune | D28: tom et kiddy | E28: G | F28: 1 | G28: =IF(SUMIFS(vente!D:D,vente!B:B,$E$8,vente!C:C,'2'!A28)=0,"",SUMIFS(vente!D:D,vente!B:B,$E$8,vente!C:C,'2'!A28))
A29: 19 | B29: 18 mois | C29: polo ML kaki | D29: kidkanai | E29: G | F29: 1 | G29: =IF(SUMIFS(vente!D:D,vente!B:B,$E$8,vente!C:C,'2'!A29)=0,"",SUMIFS(vente!D:D,vente!B:B,$E$8,vente!C:C,'2'!A29))
A30: =A29+1 -> 20 | B30: 18 mois | C30: tee shirt ML blanc "destination bisous" | D30: tape à l'œil | E30: G | F30: 1 | G30: =IF(SUMIFS(vente!D:D,vente!B:B,$E$8,vente!C:C,'2'!A30)=0,"",SUMIFS(vente!D:D,vente!B:B,$E$8,vente!C:C,'2'!A30))
A31: =A30+1 -> 21 | B31: 18 mois | C31: chemise ML blanche rayé marron | D31: orchestra | E31: G | F31: 1 | G31: =IF(SUMIFS(vente!D:D,vente!B:B,$E$8,vente!C:C,'2'!A31)=0,"",SUMIFS(vente!D:D,vente!B:B,$E$8,vente!C:C,'2'!A31))
A32: =A31+1 -> 22 | B32: 18 mois | C32: chemise ML à carreaux marron vert | D32: les p'tits babies | E32: G | F32: 1 | G32: =IF(SUMIFS(vente!D:D,vente!B:B,$E$8,vente!C:C,'2'!A32)=0,"",SUMIFS(vente!D:D,vente!B:B,$E$8,vente!C:C,'2'!A32))
A33: =A32+1 -> 23 | B33: 18 mois | C33: chemise ML rayé bleu clair | D33: jean bourget | E33: G | F33: 1 | G33: =IF(SUMIFS(vente!D:D,vente!B:B,$E$8,vente!C:C,'2'!A33)=0,"",SUMIFS(vente!D:D,vente!B:B,$E$8,vente!C:C,'2'!A33))
A34: =A33+1 -> 24 | B34: 3 mois | C34: Tee shirt ML blanc rayé beige | D34: kitchoun | E34: G | F34: 1 | G34: =IF(SUMIFS(vente!D:D,vente!B:B,$E$8,vente!C:C,'2'!A34)=0,"",SUMIFS(vente!D:D,vente!B:B,$E$8,vente!C:C,'2'!A34))
A35: =A34+1 -> 25 | B35: 3 mois | C35: tee shirt ML blanc manches bleues | D35: u collection | E35: G | F35: 1 | G35: =IF(SUMIFS(vente!D:D,vente!B:B,$E$8,vente!C:C,'2'!A35)=0,"",SUMIFS(vente!D:D,vente!B:B,$E$8,vente!C:C,'2'!A35))
A36: =A35+1 -> 26 | B36: 3 mois | C36: short beige | D36: kitiwatt | E36: G | F36: 1 | G36: =IF(SUMIFS(vente!D:D,vente!B:B,$E$8,vente!C:C,'2'!A36)=0,"",SUMIFS(vente!D:D,vente!B:B,$E$8,vente!C:C,'2'!A36))
A37: =A36+1 -> 27 | B37: 6 mois | C37: salopette short beige | D37: u collection | E37: G | F37: 1 | G37: =IF(SUMIFS(vente!D:D,vente!B:B,$E$8,vente!C:C,'2'!A37)=0,"",SUMIFS(vente!D:D,vente!B:B,$E$8,vente!C:C,'2'!A37))
A38: =A37+1 -> 28 | B38: 6 mois | C38: tee shirt marron | D38: kimbaloo | E38: G | F38: 1 | G38: =IF(SUMIFS(vente!D:D,vente!B:B,$E$8,vente!C:C,'2'!A38)=0,"",SUMIFS(vente!D:D,vente!B:B,$E$8,vente!C:C,'2'!A38))
A39: =A38+1 -> 29 | B39: 6 mois | C39: gilet bleu ciel | E39: G | F39: 1 | G39: =IF(SUMIFS(vente!D:D,vente!B:B,$E$8,vente!C:C,'2'!A39)=0,"",SUMIFS(vente!D:D,vente!B:B,$E$8,vente!C:C,'2'!A39))
A40: =A39+1 -> 30 | B40: 6 mois | C40: tee shirt bleu | D40: timberland | E40: G | F40: 1 | G40: =IF(SUMIFS(vente!D:D,vente!B:B,$E$8,vente!C:C,'2'!A40)=0,"",SUMIFS(vente!D:D,vente!B:B,$E$8,vente!C:C,'2'!A40))
A41: =A40+1 -> 31 | B41: 6 mois | C41: polo marine | D41: timberland | E41: G | F41: 1 | G41: =IF(SUMIFS(vente!D:D,vente!B:B,$E$8,vente!C:C,'2'!A41)=0,"",SUMIFS(vente!D:D,vente!B:B,$E$8,vente!C:C,'2'!A41))
A42: =A41+1 -> 32 | B42: 6 mois | C42: chemise ML à carreaux rouges | D42: hugo boss | E42: G | F42: 1.5 | G42: =IF(SUMIFS(vente!D:D,vente!B:B,$E$8,vente!C:C,'2'!A42)=0,"",SUMIFS(vente!D:D,vente!B:B,$E$8,vente!C:C,'2'!A42))
A43: =A42+1 -> 33 | B43: 6 mois | C43: tee shirt ML blanc | D43: petit pirate | E43: G | F43: 1 | G43: =IF(SUMIFS(vente!D:D,vente!B:B,$E$8,vente!C:C,'2'!A43)=0,"",SUMIFS(vente!D:D,vente!B:B,$E$8,vente!C:C,'2'!A43))
A44: =A43+1 -> 34 | B44: 6 mois | C44: tee shirt bleu baleine | D44: marese | E44: G | F44: 1 | G44: =IF(SUMIFS(vente!D:D,vente!B:B,$E$8,vente!C:C,'2'!A44)=0,"",SUMIFS(vente!D:D,vente!B:B,$E$8,vente!C:C,'2'!A44))
A45: =A44+1 -> 35 | B45: 6 mois | C45: ensemble salopette short rouge et tee shirt | D45: ourson | E45: G | F45: 1.5 | G45: =IF(SUMIFS(vente!D:D,vente!B:B,$E$8,vente!C:C,'2'!A45)=0,"",SUMIFS(vente!D:D,vente!B:B,$E$8,vente!C:C,'2'!A45))
A46: =A45+1 -> 36 | B46: 6 mois | C46: salopette marron | D46: pickouic | E46: G | F46: 1 | G46: =IF(SUMIFS(vente!D:D,vente!B:B,$E$8,vente!C:C,'2'!A46)=0,"",SUMIFS(vente!D:D,vente!B:B,$E$8,vente!C:C,'2'!A46))
A47: =A46+1 -> 37 | B47: 9 mois | C47: tee shirt orange | D47: alphabet | E47: G | F47: 1 | G47: =IF(SUMIFS(vente!D:D,vente!B:B,$E$8,vente!C:C,'2'!A47)=0,"",SUMIFS(vente!D:D,vente!B:B,$E$8,vente!C:C,'2'!A47))
A48: =A47+1 -> 38 | B48: 12 mois | C48: ensemble robe rose et culotte | D48: mini adélie | E48: F | F48: 1.5 | G48: =IF(SUMIFS(vente!D:D,vente!B:B,$E$8,vente!C:C,'2'!A48)=0,"",SUMIFS(vente!D:D,vente!B:B,$E$8,vente!C:C,'2'!A48))
A49: =A48+1 -> 39 | B49: 3 ans | C49: chemise ML grise | D49: orchestra | E49: G | F49: 1 | G49: =IF(SUMIFS(vente!D:D,vente!B:B,$E$8,vente!C:C,'2'!A49)=0,"",SUMIFS(vente!D:D,vente!B:B,$E$8,vente!C:C,'2'!A49))
A50: =A49+1 -> 40 | B50: 3 ans | C50: chemise rayé | D50: orchestra | E50: G | F50: 1 | G50: =IF(SUMIFS(vente!D:D,vente!B:B,$E$8,vente!C:C,'2'!A50)=0,"",SUMIFS(vente!D:D,vente!B:B,$E$8,vente!C:C,'2'!A50))
A51: =A50+1 -> 41 | B51: 8 ans | C51: tee shirt ML beige camion | E51: G | F51: 1 | G51: =IF(SUMIFS(vente!D:D,vente!B:B,$E$8,vente!C:C,'2'!A51)=0,"",SUMIFS(vente!D:D,vente!B:B,$E$8,vente!C:C,'2'!A51))
A52: =A51+1 -> 42 | B52: 10 ans | C52: sweat gris | D52: energetics | E52: G | F52: 2 | G52: =IF(SUMIFS(vente!D:D,vente!B:B,$E$8,vente!C:C,'2'!A52)=0,"",SUMIFS(vente!D:D,vente!B:B,$E$8,vente!C:C,'2'!A52))
A53: =A52+1 -> 43 | B53: 8 ans | C53: tee shirt ML bleu robot | D53: pick ouic | E53: G | F53: 1 | G53: =IF(SUMIFS(vente!D:D,vente!B:B,$E$8,vente!C:C,'2'!A53)=0,"",SUMIFS(vente!D:D,vente!B:B,$E$8,vente!C:C,'2'!A53))
A54: =A53+1 -> 44 | B54: 8 ans | C54: jean bleu | D54: tissaia | E54: G | F54: 1.5 | G54: =IF(SUMIFS(vente!D:D,vente!B:B,$E$8,vente!C:C,'2'!A54)=0,"",SUMIFS(vente!D:D,vente!B:B,$E$8,vente!C:C,'2'!A54))
A55: =A54+1 -> 45 | B55: 18 mois | C55: gilet court blanc | D55: tape à l'œil | E55: F | F55: 1 | G55: =IF(SUMIFS(vente!D:D,vente!B:B,$E$8,vente!C:C,'2'!A55)=0,"",SUMIFS(vente!D:D,vente!B:B,$E$8,vente!C:C,'2'!A55))
A56: =A55+1 -> 46 | B56: 24 mois | C56: gilet rouge | D56: u collection | E56: F | F56: 1 | G56: =IF(SUMIFS(vente!D:D,vente!B:B,$E$8,vente!C:C,'2'!A56)=0,"",SUMIFS(vente!D:D,vente!B:B,$E$8,vente!C:C,'2'!A56))
A57: =A56+1 -> 47 | B57: 23 mois | C57: robe rose winnie l'ourson | D57: disney | E57: F | F57: 1 | G57: =IF(SUMIFS(vente!D:D,vente!B:B,$E$8,vente!C:C,'2'!A57)=0,"",SUMIFS(vente!D:D,vente!B:B,$E$8,vente!C:C,'2'!A57))
A58: =A57+1 -> 48 | B58: 4 ans | C58: pantacourts kaki | E58: G | F58: 1 | G58: =IF(SUMIFS(vente!D:D,vente!B:B,$E$8,vente!C:C,'2'!A58)=0,"",SUMIFS(vente!D:D,vente!B:B,$E$8,vente!C:C,'2'!A58))
A59: =A58+1 -> 49 | B59: 6 ans | C59: gilet sans manche noir | D59: bestway | E59: G | F59: 1 | G59: =IF(SUMIFS(vente!D:D,vente!B:B,$E$8,vente!C:C,'2'!A59)=0,"",SUMIFS(vente!D:D,vente!B:B,$E$8,vente!C:C,'2'!A59))
A60: =A59+1 -> 50 | B60: 6 ans | C60: chemise noir rayé | D60: bestway | E60: G | F60: 1 | G60: =IF(SUMIFS(vente!D:D,vente!B:B,$E$8,vente!C:C,'2'!A60)=0,"",SUMIFS(vente!D:D,vente!B:B,$E$8,vente!C:C,'2'!A60))
A61: =A60+1 -> 51 | B61: 6 ans | C61: short flash mc queen | D61: disney | E61: G | F61: 1 | G61: =IF(SUMIFS(vente!D:D,vente!B:B,$E$8,vente!C:C,'2'!A61)=0,"",SUMIFS(vente!D:D,vente!B:B,$E$8,vente!C:C,'2'!A61))
A62: =A61+1 -> 52 | B62: 5 ans | C62: chemise beige rayé | D62: bestway | E62: G | F62: 1 | G62: =IF(SUMIFS(vente!D:D,vente!B:B,$E$8,vente!C:C,'2'!A62)=0,"",SUMIFS(vente!D:D,vente!B:B,$E$8,vente!C:C,'2'!A62))
A63: =A62+1 -> 53 | B63: 3 ans | C63: short noir motoring 27 | E63: G | F63: 1 | G63: =IF(SUMIFS(vente!D:D,vente!B:B,$E$8,vente!C:C,'2'!A63)=0,"",SUMIFS(vente!D:D,vente!B:B,$E$8,vente!C:C,'2'!A63))
A64: =A63+1 -> 54 | B64: 24 mois | C64: robe salopette grise | D64: u collection | E64: F | F64: 2 | G64: =IF(SUMIFS(vente!D:D,vente!B:B,$E$8,vente!C:C,'2'!A64)=0,"",SUMIFS(vente!D:D,vente!B:B,$E$8,vente!C:C,'2'!A64))
A65: =A64+1 -> 55 | B65: 8 ans | C65: tee-shirt bleu marine | D65: sportway | E65: G | F65: 1 | G65: =IF(SUMIFS(vente!D:D,vente!B:B,$E$8,vente!C:C,'2'!A65)=0,"",SUMIFS(vente!D:D,vente!B:B,$E$8,vente!C:C,'2'!A65))
A66: =A65+1 -> 56 | B66: 8 ans | C66: short gris | D66: u essentiel | E66: G | F66: 2 | G66: =IF(SUMIFS(vente!D:D,vente!B:B,$E$8,vente!C:C,'2'!A66)=0,"",SUMIFS(vente!D:D,vente!B:B,$E$8,vente!C:C,'2'!A66))
A67: =A66+1 -> 57 | G67: =IF(SUMIFS(vente!D:D,vente!B:B,$E$8,vente!C:C,'2'!A67)=0,"",SUMIFS(vente!D:D,vente!B:B,$E$8,vente!C:C,'2'!A67))
A68: =A67+1 -> 58 | G68: =IF(SUMIFS(vente!D:D,vente!B:B,$E$8,vente!C:C,'2'!A68)=0,"",SUMIFS(vente!D:D,vente!B:B,$E$8,vente!C:C,'2'!A68))
A69: =A68+1 -> 59 | G69: =IF(SUMIFS(vente!D:D,vente!B:B,$E$8,vente!C:C,'2'!A69)=0,"",SUMIFS(vente!D:D,vente!B:B,$E$8,vente!C:C,'2'!A69))
A70: =A69+1 -> 60 | G70: =IF(SUMIFS(vente!D:D,vente!B:B,$E$8,vente!C:C,'2'!A70)=0,"",SUMIFS(vente!D:D,vente!B:B,$E$8,vente!C:C,'2'!A70))
D71: Total Ventes | G71: =SUM(G11:G70) -> 7
D72: Prélèvement asso (30%) | G72: =G71*30% -> 2.1
C73: maximum 60 articles déposés | D73: Total cliente | G73: =G71-G72 -> 4.9

Sheet 4
B1: Bourse aux vêtements - Accueil et Loisirs - St Fulgent
D3: Nom | E3: A
D4: Prénom
B5: Repris / Non repris | D5: Adresse
D6: Téléphone
D8: N° Client | E8: =MID(CELL("nomfichier",A1),FIND("]",CELL("nomfichier",A1))+1,32) -> 4
A10: N° | B10: Age | C10: Désignation | D10: Marque | E10: sexe | F10: prix | G10: vendu
A11: 1 | B11: 38-40 | C11: chemise de nuit grossesse marron | D11: calinkalin | F11: 1 | G11: =IF(SUMIFS(vente!D:D,vente!B:B,$E$8,vente!C:C,'2'!A11)=0,"",SUMIFS(vente!D:D,vente!B:B,$E$8,vente!C:C,'2'!A11))
A12: =A11+1 -> 2 | B12: M | C12: tunique grossesse grise violette manche 3/4 | D12: piches | F12: 1 | G12: =IF(SUMIFS(vente!D:D,vente!B:B,$E$8,vente!C:C,'2'!A12)=0,"",SUMIFS(vente!D:D,vente!B:B,$E$8,vente!C:C,'2'!A12))
A13: =A12+1 -> 3 | B13: M | C13: pantacourts grossesse blanc | D13: cmp | F13: 1 | G13: =IF(SUMIFS(vente!D:D,vente!B:B,$E$8,vente!C:C,'2'!A13)=0,"",SUMIFS(vente!D:D,vente!B:B,$E$8,vente!C:C,'2'!A13))
A14: =A13+1 -> 4 | B14: M | C14: robe violette manche 3/4 | D14: only | F14: 2 | G14: =IF(SUMIFS(vente!D:D,vente!B:B,$E$8,vente!C:C,'2'!A14)=0,"",SUMIFS(vente!D:D,vente!B:B,$E$8,vente!C:C,'2'!A14))
A15: =A14+1 -> 5 | C15: débardeur grossesse noir | D15: endsky | F15: 1 | G15: =IF(SUMIFS(vente!D:D,vente!B:B,$E$8,vente!C:C,'2'!A15)=0,"",SUMIFS(vente!D:D,vente!B:B,$E$8,vente!C:C,'2'!A15))
A16: =A15+1 -> 6 | B16: 40 | C16: débardeur grossesse imprimé jaune gris bleu | D16: kiabi | F16: 2 | G16: =IF(SUMIFS(vente!D:D,vente!B:B,$E$8,vente!C:C,'2'!A16)=0,"",SUMIFS(vente!D:D,vente!B:B,$E$8,vente!C:C,'2'!A16))
A17: =A16+1 -> 7 | B17: s | C17: chemisier grossesse taupe | D17: only | F17: 2 | G17: =IF(SUMIFS(vente!D:D,vente!B:B,$E$8,vente!C:C,'2'!A17)=0,"",SUMIFS(vente!D:D,vente!B:B,$E$8,vente!C:C,'2'!A17))
A18: =A17+1 -> 8 | B18: 18 mois | C18: pyjama jaune orange vert | D18: orchestra | E18: G | F18: 1 | G18: =IF(SUMIFS(vente!D:D,vente!B:B,$E$8,vente!C:C,'2'!A18)=0,"",SUMIFS(vente!D:D,vente!B:B,$E$8,vente!C:C,'2'!A18))
A19: =A18+1 -> 9 | B19: 18 mois | C19: tee shirt ML bleu et blanc | D19: orchestra | E19: G | F19: 1 | G19: =IF(SUMIFS(vente!D:D,vente!B:B,$E$8,vente!C:C,'2'!A19)=0,"",SUMIFS(vente!D:D,vente!B:B,$E$8,vente!C:C,'2'!A19))
A20: =A19+1 -> 10 | B20: 18 mois | C20: chemise blanche ML | D20: orchestra | E20: G | F20: 1 | G20: =IF(SUMIFS(vente!D:D,vente!B:B,$E$8,vente!C:C,'2'!A20)=0,"",SUMIFS(vente!D:D,vente!B:B,$E$8,vente!C:C,'2'!A20))
A21: =A20+1 -> 11 | B21: 18 mois | C21: tee shirt blanc MC voiture | E21: G | F21: 1 | G21: =IF(SUMIFS(vente!D:D,vente!B:B,$E$8,vente!C:C,'2'!A21)=0,"",SUMIFS(vente!D:D,vente!B:B,$E$8,vente!C:C,'2'!A21))
A22: =A21+1 -> 12 | B22: 18 mois | C22: tee shirt MC blanc "use your imagination" | D22: timberland | E22: G | F22: 1 | G22: =IF(SUMIFS(vente!D:D,vente!B:B,$E$8,vente!C:C,'2'!A22)=0,"",SUMIFS(vente!D:D,vente!B:B,$E$8,vente!C:C,'2'!A22))
A23: =A22+1 -> 13 | B23: 18 mois | C23: tee shirt ML orange et blanc | D23: timberland | E23: G | F23: 1 | G23: =IF(SUMIFS(vente!D:D,vente!B:B,$E$8,vente!C:C,'2'!A23)=0,"",SUMIFS(vente!D:D,vente!B:B,$E$8,vente!C:C,'2'!A23))
A24: =A23+1 -> 14 | B24: 18 mois | C24: ensemble pantalon bordeau et tunique fleurs | D24: u tout petit | E24: F | F24: 2 | G24: =IF(SUMIFS(vente!D:D,vente!B:B,$E$8,vente!C:C,'2'!A24)=0,"",SUMIFS(vente!D:D,vente!B:B,$E$8,vente!C:C,'2'!A24))
A25: =A24+1 -> 15 | B25: 18 mois | C25: salopette longue jean noir | D25: orchestra | E25: G | F25: 1 | G25: =IF(SUMIFS(vente!D:D,vente!B:B,$E$8,vente!C:C,'2'!A25)=0,"",SUMIFS(vente!D:D,vente!B:B,$E$8,vente!C:C,'2'!A25))
A26: =A25+1 -> 16 | B26: 18 mois | C26: ensemble salopette short jean gris clair et tee shirt rayé | D26: terre de marins | E26: G | F26: 2 | G26: =IF(SUMIFS(vente!D:D,vente!B:B,$E$8,vente!C:C,'2'!A26)=0,"",SUMIFS(vente!D:D,vente!B:B,$E$8,vente!C:C,'2'!A26))
A27: =A26+1 -> 17 | B27: 18 mois | C27: tee shirt gris bateau | D27: timberland | E27: G | F27: 1 | G27: =IF(SUMIFS(vente!D:D,vente!B:B,$E$8,vente!C:C,'2'!A27)=0,"",SUMIFS(vente!D:D,vente!B:B,$E$8,vente!C:C,'2'!A27))
A28: =A27+1 -> 18 | B28: 18 mois | C28: ensemble pantalon marron et chemise jaune | D28: tom et kiddy | E28: G | F28: 1 | G28: =IF(SUMIFS(vente!D:D,vente!B:B,$E$8,vente!C:C,'2'!A28)=0,"",SUMIFS(vente!D:D,vente!B:B,$E$8,vente!C:C,'2'!A28))
A29: 19 | B29: 18 mois | C29: polo ML kaki | D29: kidkanai | E29: G | F29: 1 | G29: =IF(SUMIFS(vente!D:D,vente!B:B,$E$8,vente!C:C,'2'!A29)=0,"",SUMIFS(vente!D:D,vente!B:B,$E$8,vente!C:C,'2'!A29))
A30: =A29+1 -> 20 | B30: 18 mois | C30: tee shirt ML blanc "destination bisous" | D30: tape à l'œil | E30: G | F30: 1 | G30: =IF(SUMIFS(vente!D:D,vente!B:B,$E$8,vente!C:C,'2'!A30)=0,"",SUMIFS(vente!D:D,vente!B:B,$E$8,vente!C:C,'2'!A30))
A31: =A30+1 -> 21 | B31: 18 mois | C31: chemise ML blanche rayé marron | D31: orchestra | E31: G | F31: 1 | G31: =IF(SUMIFS(vente!D:D,vente!B:B,$E$8,vente!C:C,'2'!A31)=0,"",SUMIFS(vente!D:D,vente!B:B,$E$8,vente!C:C,'2'!A31))
A32: =A31+1 -> 22 | B32: 18 mois | C32: chemise ML à carreaux marron vert | D32: les p'tits babies | E32: G | F32: 1 | G32: =IF(SUMIFS(vente!D:D,vente!B:B,$E$8,vente!C:C,'2'!A32)=0,"",SUMIFS(vente!D:D,vente!B:B,$E$8,vente!C:C,'2'!A32))
A33: =A32+1 -> 23 | B33: 18 mois | C33: chemise ML rayé bleu clair | D33: jean bourget | E33: G | F33: 1 | G33: =IF(SUMIFS(vente!D:D,vente!B:B,$E$8,vente!C:C,'2'!A33)=0,"",SUMIFS(vente!D:D,vente!B:B,$E$8,vente!C:C,'2'!A33))
A34: =A33+1 -> 24 | B34: 3 mois | C34: Tee shirt ML blanc rayé beige | D34: kitchoun | E34: G | F34: 1 | G34: =IF(SUMIFS(vente!D:D,vente!B:B,$E$8,vente!C:C,'2'!A34)=0,"",SUMIFS(vente!D:D,vente!B:B,$E$8,vente!C:C,'2'!A34))
A35: =A34+1 -> 25 | B35: 3 mois | C35: tee shirt ML blanc manches bleues | D35: u collection | E35: G | F35: 1 | G35: =IF(SUMIFS(vente!D:D,vente!B:B,$E$8,vente!C:C,'2'!A35)=0,"",SUMIFS(vente!D:D,vente!B:B,$E$8,vente!C:C,'2'!A35))
A36: =A35+1 -> 26 | B36: 3 mois | C36: short beige | D36: kitiwatt | E36: G | F36: 1 | G36: =IF(SUMIFS(vente!D:D,vente!B:B,$E$8,vente!C:C,'2'!A36)=0,"",SUMIFS(vente!D:D,vente!B:B,$E$8,vente!C:C,'2'!A36))
A37: =A36+1 -> 27 | B37: 6 mois | C37: salopette short beige | D37: u collection | E37: G | F37: 1 | G37: =IF(SUMIFS(vente!D:D,vente!B:B,$E$8,vente!C:C,'2'!A37)=0,"",SUMIFS(vente!D:D,vente!B:B,$E$8,vente!C:C,'2'!A37))
A38: =A37+1 -> 28 | B38: 6 mois | C38: tee shirt marron | D38: kimbaloo | E38: G | F38: 1 | G38: =IF(SUMIFS(vente!D:D,vente!B:B,$E$8,vente!C:C,'2'!A38)=0,"",SUMIFS(vente!D:D,vente!B:B,$E$8,vente!C:C,'2'!A38))
A39: =A38+1 -> 29 | B39: 6 mois | C39: gilet bleu ciel | E39: G | F39: 1 | G39: =IF(SUMIFS(vente!D:D,vente!B:B,$E$8,vente!C:C,'2'!A39)=0,"",SUMIFS(vente!D:D,vente!B:B,$E$8,vente!C:C,'2'!A39))
A40: =A39+1 -> 30 | B40: 6 mois | C40: tee shirt bleu | D40: timberland | E40: G | F40: 1 | G40: =IF(SUMIFS(vente!D:D,vente!B:B,$E$8,vente!C:C,'2'!A40)=0,"",SUMIFS(vente!D:D,vente!B:B,$E$8,vente!C:C,'2'!A40))
A41: =A40+1 -> 31 | B41: 6 mois | C41: polo marine | D41: timberland | E41: G | F41: 1 | G41: =IF(SUMIFS(vente!D:D,vente!B:B,$E$8,vente!C:C,'2'!A41)=0,"",SUMIFS(vente!D:D,vente!B:B,$E$8,vente!C:C,'2'!A41))
A42: =A41+1 -> 32 | B42: 6 mois | C42: chemise ML à carreaux rouges | D42: hugo boss | E42: G | F42: 1.5 | G42: =IF(SUMIFS(vente!D:D,vente!B:B,$E$8,vente!C:C,'2'!A42)=0,"",SUMIFS(vente!D:D,vente!B:B,$E$8,vente!C:C,'2'!A42))
A43: =A42+1 -> 33 | B43: 6 mois | C43: tee shirt ML blanc | D43: petit pirate | E43: G | F43: 1 | G43: =IF(SUMIFS(vente!D:D,vente!B:B,$E$8,vente!C:C,'2'!A43)=0,"",SUMIFS(vente!D:D,vente!B:B,$E$8,vente!C:C,'2'!A43))
A44: =A43+1 -> 34 | B44: 6 mois | C44: tee shirt bleu baleine | D44: marese | E44: G | F44: 1 | G44: =IF(SUMIFS(vente!D:D,vente!B:B,$E$8,vente!C:C,'2'!A44)=0,"",SUMIFS(vente!D:D,vente!B:B,$E$8,vente!C:C,'2'!A44))
A45: =A44+1 -> 35 | B45: 6 mois | C45: ensemble salopette short rouge et tee shirt | D45: ourson | E45: G | F45: 1.5 | G45: =IF(SUMIFS(vente!D:D,vente!B:B,$E$8,vente!C:C,'2'!A45)=0,"",SUMIFS(vente!D:D,vente!B:B,$E$8,vente!C:C,'2'!A45))
A46: =A45+1 -> 36 | B46: 6 mois | C46: salopette marron | D46: pickouic | E46: G | F46: 1 | G46: =IF(SUMIFS(vente!D:D,vente!B:B,$E$8,vente!C:C,'2'!A46)=0,"",SUMIFS(vente!D:D,vente!B:B,$E$8,vente!C:C,'2'!A46))
A47: =A46+1 -> 37 | B47: 9 mois | C47: tee shirt orange | D47: alphabet | E47: G | F47: 1 | G47: =IF(SUMIFS(vente!D:D,vente!B:B,$E$8,vente!C:C,'2'!A47)=0,"",SUMIFS(vente!D:D,vente!B:B,$E$8,vente!C:C,'2'!A47))
A48: =A47+1 -> 38 | B48: 12 mois | C48: ensemble robe rose et culotte | D48: mini adélie | E48: F | F48: 1.5 | G48: =IF(SUMIFS(vente!D:D,vente!B:B,$E$8,vente!C:C,'2'!A48)=0,"",SUMIFS(vente!D:D,vente!B:B,$E$8,vente!C:C,'2'!A48))
A49: =A48+1 -> 39 | B49: 3 ans | C49: chemise ML grise | D49: orchestra | E49: G | F49: 1 | G49: =IF(SUMIFS(vente!D:D,vente!B:B,$E$8,vente!C:C,'2'!A49)=0,"",SUMIFS(vente!D:D,vente!B:B,$E$8,vente!C:C,'2'!A49))
A50: =A49+1 -> 40 | B50: 3 ans | C50: chemise rayé | D50: orchestra | E50: G | F50: 1 | G50: =IF(SUMIFS(vente!D:D,vente!B:B,$E$8,vente!C:C,'2'!A50)=0,"",SUMIFS(vente!D:D,vente!B:B,$E$8,vente!C:C,'2'!A50))
A51: =A50+1 -> 41 | B51: 8 ans | C51: tee shirt ML beige camion | E51: G | F51: 1 | G51: =IF(SUMIFS(vente!D:D,vente!B:B,$E$8,vente!C:C,'2'!A51)=0,"",SUMIFS(vente!D:D,vente!B:B,$E$8,vente!C:C,'2'!A51))
A52: =A51+1 -> 42 | B52: 10 ans | C52: sweat gris | D52: energetics | E52: G | F52: 2 | G52: =IF(SUMIFS(vente!D:D,vente!B:B,$E$8,vente!C:C,'2'!A52)=0,"",SUMIFS(vente!D:D,vente!B:B,$E$8,vente!C:C,'2'!A52))
A53: =A52+1 -> 43 | B53: 8 ans | C53: tee shirt ML bleu robot | D53: pick ouic | E53: G | F53: 1 | G53: =IF(SUMIFS(vente!D:D,vente!B:B,$E$8,vente!C:C,'2'!A53)=0,"",SUMIFS(vente!D:D,vente!B:B,$E$8,vente!C:C,'2'!A53))
A54: =A53+1 -> 44 | B54: 8 ans | C54: jean bleu | D54: tissaia | E54: G | F54: 1.5 | G54: =IF(SUMIFS(vente!D:D,vente!B:B,$E$8,vente!C:C,'2'!A54)=0,"",SUMIFS(vente!D:D,vente!B:B,$E$8,vente!C:C,'2'!A54))
A55: =A54+1 -> 45 | B55: 18 mois | C55: gilet court blanc | D55: tape à l'œil | E55: F | F55: 1 | G55: =IF(SUMIFS(vente!D:D,vente!B:B,$E$8,vente!C:C,'2'!A55)=0,"",SUMIFS(vente!D:D,vente!B:B,$E$8,vente!C:C,'2'!A55))
A56: =A55+1 -> 46 | B56: 24 mois | C56: gilet rouge | D56: u collection | E56: F | F56: 1 | G56: =IF(SUMIFS(vente!D:D,vente!B:B,$E$8,vente!C:C,'2'!A56)=0,"",SUMIFS(vente!D:D,vente!B:B,$E$8,vente!C:C,'2'!A56))
A57: =A56+1 -> 47 | B57: 23 mois | C57: robe rose winnie l'ourson | D57: disney | E57: F | F57: 1 | G57: =IF(SUMIFS(vente!D:D,vente!B:B,$E$8,vente!C:C,'2'!A57)=0,"",SUMIFS(vente!D:D,vente!B:B,$E$8,vente!C:C,'2'!A57))
A58: =A57+1 -> 48 | B58: 4 ans | C58: pantacourts kaki | E58: G | F58: 1 | G58: =IF(SUMIFS(vente!D:D,vente!B:B,$E$8,vente!C:C,'2'!A58)=0,"",SUMIFS(vente!D:D,vente!B:B,$E$8,vente!C:C,'2'!A58))
A59: =A58+1 -> 49 | B59: 6 ans | C59: gilet sans manche noir | D59: bestway | E59: G | F59: 1 | G59: =IF(SUMIFS(vente!D:D,vente!B:B,$E$8,vente!C:C,'2'!A59)=0,"",SUMIFS(vente!D:D,vente!B:B,$E$8,vente!C:C,'2'!A59))
A60: =A59+1 -> 50 | B60: 6 ans | C60: chemise noir rayé | D60: bestway | E60: G | F60: 1 | G60: =IF(SUMIFS(vente!D:D,vente!B:B,$E$8,vente!C:C,'2'!A60)=0,"",SUMIFS(vente!D:D,vente!B:B,$E$8,vente!C:C,'2'!A60))
A61: =A60+1 -> 51 | B61: 6 ans | C61: short flash mc queen | D61: disney | E61: G | F61: 1 | G61: =IF(SUMIFS(vente!D:D,vente!B:B,$E$8,vente!C:C,'2'!A61)=0,"",SUMIFS(vente!D:D,vente!B:B,$E$8,vente!C:C,'2'!A61))
A62: =A61+1 -> 52 | B62: 5 ans | C62: chemise beige rayé | D62: bestway | E62: G | F62: 1 | G62: =IF(SUMIFS(vente!D:D,vente!B:B,$E$8,vente!C:C,'2'!A62)=0,"",SUMIFS(vente!D:D,vente!B:B,$E$8,vente!C:C,'2'!A62))
A63: =A62+1 -> 53 | B63: 3 ans | C63: short noir motoring 27 | E63: G | F63: 1 | G63: =IF(SUMIFS(vente!D:D,vente!B:B,$E$8,vente!C:C,'2'!A63)=0,"",SUMIFS(vente!D:D,vente!B:B,$E$8,vente!C:C,'2'!A63))
A64: =A63+1 -> 54 | B64: 24 mois | C64: robe salopette grise | D64: u collection | E64: F | F64: 2 | G64: =IF(SUMIFS(vente!D:D,vente!B:B,$E$8,vente!C:C,'2'!A64)=0,"",SUMIFS(vente!D:D,vente!B:B,$E$8,vente!C:C,'2'!A64))
A65: =A64+1 -> 55 | B65: 8 ans | C65: tee-shirt bleu marine | D65: sportway | E65: G | F65: 1 | G65: =IF(SUMIFS(vente!D:D,vente!B:B,$E$8,vente!C:C,'2'!A65)=0,"",SUMIFS(vente!D:D,vente!B:B,$E$8,vente!C:C,'2'!A65))
A66: =A65+1 -> 56 | B66: 8 ans | C66: short gris | D66: u essentiel | E66: G | F66: 2 | G66: =IF(SUMIFS(vente!D:D,vente!B:B,$E$8,vente!C:C,'2'!A66)=0,"",SUMIFS(vente!D:D,vente!B:B,$E$8,vente!C:C,'2'!A66))
A67: =A66+1 -> 57 | G67: =IF(SUMIFS(vente!D:D,vente!B:B,$E$8,vente!C:C,'2'!A67)=0,"",SUMIFS(vente!D:D,vente!B:B,$E$8,vente!C:C,'2'!A67))
A68: =A67+1 -> 58 | G68: =IF(SUMIFS(vente!D:D,vente!B:B,$E$8,vente!C:C,'2'!A68)=0,"",SUMIFS(vente!D:D,vente!B:B,$E$8,vente!C:C,'2'!A68))
A69: =A68+1 -> 59 | G69: =IF(SUMIFS(vente!D:D,vente!B:B,$E$8,vente!C:C,'2'!A69)=0,"",SUMIFS(vente!D:D,vente!B:B,$E$8,vente!C:C,'2'!A69))
A70: =A69+1 -> 60 | G70: =IF(SUMIFS(vente!D:D,vente!B:B,$E$8,vente!C:C,'2'!A70)=0,"",SUMIFS(vente!D:D,vente!B:B,$E$8,vente!C:C,'2'!A70))
D71: Total Ventes | G71: =SUM(G11:G70) -> 0
D72: Prélèvement asso (30%) | G72: =G71*30% -> 0
C73: maximum 60 articles déposés | D73: Total cliente | G73: =G71-G72 -> 0

Sheet 5
B1: Bourse aux vêtements - Accueil et Loisirs - St Fulgent
D3: Nom | E3: A
D4: Prénom
B5: Repris / Non repris | D5: Adresse
D6: Téléphone
D8: N° Client | E8: =MID(CELL("nomfichier",A1),FIND("]",CELL("nomfichier",A1))+1,32) -> 5
A10: N° | B10: Age | C10: Désignation | D10: Marque | E10: sexe | F10: prix | G10: vendu
A11: 1 | B11: 38-40 | C11: chemise de nuit grossesse marron | D11: calinkalin | F11: 1 | G11: =IF(SUMIFS(vente!D:D,vente!B:B,$E$8,vente!C:C,'2'!A11)=0,"",SUMIFS(vente!D:D,vente!B:B,$E$8,vente!C:C,'2'!A11))
A12: =A11+1 -> 2 | B12: M | C12: tunique grossesse grise violette manche 3/4 | D12: piches | F12: 1 | G12: =IF(SUMIFS(vente!D:D,vente!B:B,$E$8,vente!C:C,'2'!A12)=0,"",SUMIFS(vente!D:D,vente!B:B,$E$8,vente!C:C,'2'!A12))
A13: =A12+1 -> 3 | B13: M | C13: pantacourts grossesse blanc | D13: cmp | F13: 1 | G13: =IF(SUMIFS(vente!D:D,vente!B:B,$E$8,vente!C:C,'2'!A13)=0,"",SUMIFS(vente!D:D,vente!B:B,$E$8,vente!C:C,'2'!A13))
A14: =A13+1 -> 4 | B14: M | C14: robe violette manche 3/4 | D14: only | F14: 2 | G14: =IF(SUMIFS(vente!D:D,vente!B:B,$E$8,vente!C:C,'2'!A14)=0,"",SUMIFS(vente!D:D,vente!B:B,$E$8,vente!C:C,'2'!A14))
A15: =A14+1 -> 5 | C15: débardeur grossesse noir | D15: endsky | F15: 1 | G15: =IF(SUMIFS(vente!D:D,vente!B:B,$E$8,vente!C:C,'2'!A15)=0,"",SUMIFS(vente!D:D,vente!B:B,$E$8,vente!C:C,'2'!A15))
A16: =A15+1 -> 6 | B16: 40 | C16: débardeur grossesse imprimé jaune gris bleu | D16: kiabi | F16: 2 | G16: =IF(SUMIFS(vente!D:D,vente!B:B,$E$8,vente!C:C,'2'!A16)=0,"",SUMIFS(vente!D:D,vente!B:B,$E$8,vente!C:C,'2'!A16))
A17: =A16+1 -> 7 | B17: s | C17: chemisier grossesse taupe | D17: only | F17: 2 | G17: =IF(SUMIFS(vente!D:D,vente!B:B,$E$8,vente!C:C,'2'!A17)=0,"",SUMIFS(vente!D:D,vente!B:B,$E$8,vente!C:C,'2'!A17))
A18: =A17+1 -> 8 | B18: 18 mois | C18: pyjama jaune orange vert | D18: orchestra | E18: G | F18: 1 | G18: =IF(SUMIFS(vente!D:D,vente!B:B,$E$8,vente!C:C,'2'!A18)=0,"",SUMIFS(vente!D:D,vente!B:B,$E$8,vente!C:C,'2'!A18))
A19: =A18+1 -> 9 | B19: 18 mois | C19: tee shirt ML bleu et blanc | D19: orchestra | E19: G | F19: 1 | G19: =IF(SUMIFS(vente!D:D,vente!B:B,$E$8,vente!C:C,'2'!A19)=0,"",SUMIFS(vente!D:D,vente!B:B,$E$8,vente!C:C,'2'!A19))
A20: =A19+1 -> 10 | B20: 18 mois | C20: chemise blanche ML | D20: orchestra | E20: G | F20: 1 | G20: =IF(SUMIFS(vente!D:D,vente!B:B,$E$8,vente!C:C,'2'!A20)=0,"",SUMIFS(vente!D:D,vente!B:B,$E$8,vente!C:C,'2'!A20))
A21: =A20+1 -> 11 | B21: 18 mois | C21: tee shirt blanc MC voiture | E21: G | F21: 1 | G21: =IF(SUMIFS(vente!D:D,vente!B:B,$E$8,vente!C:C,'2'!A21)=0,"",SUMIFS(vente!D:D,vente!B:B,$E$8,vente!C:C,'2'!A21))
A22: =A21+1 -> 12 | B22: 18 mois | C22: tee shirt MC blanc "use your imagination" | D22: timberland | E22: G | F22: 1 | G22: =IF(SUMIFS(vente!D:D,vente!B:B,$E$8,vente!C:C,'2'!A22)=0,"",SUMIFS(vente!D:D,vente!B:B,$E$8,vente!C:C,'2'!A22))
A23: =A22+1 -> 13 | B23: 18 mois | C23: tee shirt ML orange et blanc | D23: timberland | E23: G | F23: 1 | G23: =IF(SUMIFS(vente!D:D,vente!B:B,$E$8,vente!C:C,'2'!A23)=0,"",SUMIFS(vente!D:D,vente!B:B,$E$8,vente!C:C,'2'!A23))
A24: =A23+1 -> 14 | B24: 18 mois | C24: ensemble pantalon bordeau et tunique fleurs | D24: u tout petit | E24: F | F24: 2 | G24: =IF(SUMIFS(vente!D:D,vente!B:B,$E$8,vente!C:C,'2'!A24)=0,"",SUMIFS(vente!D:D,vente!B:B,$E$8,vente!C:C,'2'!A24))
A25: =A24+1 -> 15 | B25: 18 mois | C25: salopette longue jean noir | D25: orchestra | E25: G | F25: 1 | G25: =IF(SUMIFS(vente!D:D,vente!B:B,$E$8,vente!C:C,'2'!A25)=0,"",SUMIFS(vente!D:D,vente!B:B,$E$8,vente!C:C,'2'!A25))
A26: =A25+1 -> 16 | B26: 18 mois | C26: ensemble salopette short jean gris clair et tee shirt rayé | D26: terre de marins | E26: G | F26: 2 | G26: =IF(SUMIFS(vente!D:D,vente!B:B,$E$8,vente!C:C,'2'!A26)=0,"",SUMIFS(vente!D:D,vente!B:B,$E$8,vente!C:C,'2'!A26))
A27: =A26+1 -> 17 | B27: 18 mois | C27: tee shirt gris bateau | D27: timberland | E27: G | F27: 1 | G27: =IF(SUMIFS(vente!D:D,vente!B:B,$E$8,vente!C:C,'2'!A27)=0,"",SUMIFS(vente!D:D,vente!B:B,$E$8,vente!C:C,'2'!A27))
A28: =A27+1 -> 18 | B28: 18 mois | C28: ensemble pantalon marron et chemise jaune | D28: tom et kiddy | E28: G | F28: 1 | G28: =IF(SUMIFS(vente!D:D,vente!B:B,$E$8,vente!C:C,'2'!A28)=0,"",SUMIFS(vente!D:D,vente!B:B,$E$8,vente!C:C,'2'!A28))
A29: 19 | B29: 18 mois | C29: polo ML kaki | D29: kidkanai | E29: G | F29: 1 | G29: =IF(SUMIFS(vente!D:D,vente!B:B,$E$8,vente!C:C,'2'!A29)=0,"",SUMIFS(vente!D:D,vente!B:B,$E$8,vente!C:C,'2'!A29))
A30: =A29+1 -> 20 | B30: 18 mois | C30: tee shirt ML blanc "destination bisous" | D30: tape à l'œil | E30: G | F30: 1 | G30: =IF(SUMIFS(vente!D:D,vente!B:B,$E$8,vente!C:C,'2'!A30)=0,"",SUMIFS(vente!D:D,vente!B:B,$E$8,vente!C:C,'2'!A30))
A31: =A30+1 -> 21 | B31: 18 mois | C31: chemise ML blanche rayé marron | D31: orchestra | E31: G | F31: 1 | G31: =IF(SUMIFS(vente!D:D,vente!B:B,$E$8,vente!C:C,'2'!A31)=0,"",SUMIFS(vente!D:D,vente!B:B,$E$8,vente!C:C,'2'!A31))
A32: =A31+1 -> 22 | B32: 18 mois | C32: chemise ML à carreaux marron vert | D32: les p'tits babies | E32: G | F32: 1 | G32: =IF(SUMIFS(vente!D:D,vente!B:B,$E$8,vente!C:C,'2'!A32)=0,"",SUMIFS(vente!D:D,vente!B:B,$E$8,vente!C:C,'2'!A32))
A33: =A32+1 -> 23 | B33: 18 mois | C33: chemise ML rayé bleu clair | D33: jean bourget | E33: G | F33: 1 | G33: =IF(SUMIFS(vente!D:D,vente!B:B,$E$8,vente!C:C,'2'!A33)=0,"",SUMIFS(vente!D:D,vente!B:B,$E$8,vente!C:C,'2'!A33))
A34: =A33+1 -> 24 | B34: 3 mois | C34: Tee shirt ML blanc rayé beige | D34: kitchoun | E34: G | F34: 1 | G34: =IF(SUMIFS(vente!D:D,vente!B:B,$E$8,vente!C:C,'2'!A34)=0,"",SUMIFS(vente!D:D,vente!B:B,$E$8,vente!C:C,'2'!A34))
A35: =A34+1 -> 25 | B35: 3 mois | C35: tee shirt ML blanc manches bleues | D35: u collection | E35: G | F35: 1 | G35: =IF(SUMIFS(vente!D:D,vente!B:B,$E$8,vente!C:C,'2'!A35)=0,"",SUMIFS(vente!D:D,vente!B:B,$E$8,vente!C:C,'2'!A35))
A36: =A35+1 -> 26 | B36: 3 mois | C36: short beige | D36: kitiwatt | E36: G | F36: 1 | G36: =IF(SUMIFS(vente!D:D,vente!B:B,$E$8,vente!C:C,'2'!A36)=0,"",SUMIFS(vente!D:D,vente!B:B,$E$8,vente!C:C,'2'!A36))
A37: =A36+1 -> 27 | B37: 6 mois | C37: salopette short beige | D37: u collection | E37: G | F37: 1 | G37: =IF(SUMIFS(vente!D:D,vente!B:B,$E$8,vente!C:C,'2'!A37)=0,"",SUMIFS(vente!D:D,vente!B:B,$E$8,vente!C:C,'2'!A37))
A38: =A37+1 -> 28 | B38: 6 mois | C38: tee shirt marron | D38: kimbaloo | E38: G | F38: 1 | G38: =IF(SUMIFS(vente!D:D,vente!B:B,$E$8,vente!C:C,'2'!A38)=0,"",SUMIFS(vente!D:D,vente!B:B,$E$8,vente!C:C,'2'!A38))
A39: =A38+1 -> 29 | B39: 6 mois | C39: gilet bleu ciel | E39: G | F39: 1 | G39: =IF(SUMIFS(vente!D:D,vente!B:B,$E$8,vente!C:C,'2'!A39)=0,"",SUMIFS(vente!D:D,vente!B:B,$E$8,vente!C:C,'2'!A39))
A40: =A39+1 -> 30 | B40: 6 mois | C40: tee shirt bleu | D40: timberland | E40: G | F40: 1 | G40: =IF(SUMIFS(vente!D:D,vente!B:B,$E$8,vente!C:C,'2'!A40)=0,"",SUMIFS(vente!D:D,vente!B:B,$E$8,vente!C:C,'2'!A40))
A41: =A40+1 -> 31 | B41: 6 mois | C41: polo marine | D41: timberland | E41: G | F41: 1 | G41: =IF(SUMIFS(vente!D:D,vente!B:B,$E$8,vente!C:C,'2'!A41)=0,"",SUMIFS(vente!D:D,vente!B:B,$E$8,vente!C:C,'2'!A41))
A42: =A41+1 -> 32 | B42: 6 mois | C42: chemise ML à carreaux rouges | D42: hugo boss | E42: G | F42: 1.5 | G42: =IF(SUMIFS(vente!D:D,vente!B:B,$E$8,vente!C:C,'2'!A42)=0,"",SUMIFS(vente!D:D,vente!B:B,$E$8,vente!C:C,'2'!A42))
A43: =A42+1 -> 33 | B43: 6 mois | C43: tee shirt ML blanc | D43: petit pirate | E43: G | F43: 1 | G43: =IF(SUMIFS(vente!D:D,vente!B:B,$E$8,vente!C:C,'2'!A43)=0,"",SUMIFS(vente!D:D,vente!B:B,$E$8,vente!C:C,'2'!A43))
A44: =A43+1 -> 34 | B44: 6 mois | C44: tee shirt bleu baleine | D44: marese | E44: G | F44: 1 | G44: =IF(SUMIFS(vente!D:D,vente!B:B,$E$8,vente!C:C,'2'!A44)=0,"",SUMIFS(vente!D:D,vente!B:B,$E$8,vente!C:C,'2'!A44))
A45: =A44+1 -> 35 | B45: 6 mois | C45: ensemble salopette short rouge et tee shirt | D45: ourson | E45: G | F45: 1.5 | G45: =IF(SUMIFS(vente!D:D,vente!B:B,$E$8,vente!C:C,'2'!A45)=0,"",SUMIFS(vente!D:D,vente!B:B,$E$8,vente!C:C,'2'!A45))
A46: =A45+1 -> 36 | B46: 6 mois | C46: salopette marron | D46: pickouic | E46: G | F46: 1 | G46: =IF(SUMIFS(vente!D:D,vente!B:B,$E$8,vente!C:C,'2'!A46)=0,"",SUMIFS(vente!D:D,vente!B:B,$E$8,vente!C:C,'2'!A46))
A47: =A46+1 -> 37 | B47: 9 mois | C47: tee shirt orange | D47: alphabet | E47: G | F47: 1 | G47: =IF(SUMIFS(vente!D:D,vente!B:B,$E$8,vente!C:C,'2'!A47)=0,"",SUMIFS(vente!D:D,vente!B:B,$E$8,vente!C:C,'2'!A47))
A48: =A47+1 -> 38 | B48: 12 mois | C48: ensemble robe rose et culotte | D48: mini adélie | E48: F | F48: 1.5 | G48: =IF(SUMIFS(vente!D:D,vente!B:B,$E$8,vente!C:C,'2'!A48)=0,"",SUMIFS(vente!D:D,vente!B:B,$E$8,vente!C:C,'2'!A48))
A49: =A48+1 -> 39 | B49: 3 ans | C49: chemise ML grise | D49: orchestra | E49: G | F49: 1 | G49: =IF(SUMIFS(vente!D:D,vente!B:B,$E$8,vente!C:C,'2'!A49)=0,"",SUMIFS(vente!D:D,vente!B:B,$E$8,vente!C:C,'2'!A49))
A50: =A49+1 -> 40 | B50: 3 ans | C50: chemise rayé | D50: orchestra | E50: G | F50: 1 | G50: =IF(SUMIFS(vente!D:D,vente!B:B,$E$8,vente!C:C,'2'!A50)=0,"",SUMIFS(vente!D:D,vente!B:B,$E$8,vente!C:C,'2'!A50))
A51: =A50+1 -> 41 | B51: 8 ans | C51: tee shirt ML beige camion | E51: G | F51: 1 | G51: =IF(SUMIFS(vente!D:D,vente!B:B,$E$8,vente!C:C,'2'!A51)=0,"",SUMIFS(vente!D:D,vente!B:B,$E$8,vente!C:C,'2'!A51))
A52: =A51+1 -> 42 | B52: 10 ans | C52: sweat gris | D52: energetics | E52: G | F52: 2 | G52: =IF(SUMIFS(vente!D:D,vente!B:B,$E$8,vente!C:C,'2'!A52)=0,"",SUMIFS(vente!D:D,vente!B:B,$E$8,vente!C:C,'2'!A52))
A53: =A52+1 -> 43 | B53: 8 ans | C53: tee shirt ML bleu robot | D53: pick ouic | E53: G | F53: 1 | G53: =IF(SUMIFS(vente!D:D,vente!B:B,$E$8,vente!C:C,'2'!A53)=0,"",SUMIFS(vente!D:D,vente!B:B,$E$8,vente!C:C,'2'!A53))
A54: =A53+1 -> 44 | B54: 8 ans | C54: jean bleu | D54: tissaia | E54: G | F54: 1.5 | G54: =IF(SUMIFS(vente!D:D,vente!B:B,$E$8,vente!C:C,'2'!A54)=0,"",SUMIFS(vente!D:D,vente!B:B,$E$8,vente!C:C,'2'!A54))
A55: =A54+1 -> 45 | B55: 18 mois | C55: gilet court blanc | D55: tape à l'œil | E55: F | F55: 1 | G55: =IF(SUMIFS(vente!D:D,vente!B:B,$E$8,vente!C:C,'2'!A55)=0,"",SUMIFS(vente!D:D,vente!B:B,$E$8,vente!C:C,'2'!A55))
A56: =A55+1 -> 46 | B56: 24 mois | C56: gilet rouge | D56: u collection | E56: F | F56: 1 | G56: =IF(SUMIFS(vente!D:D,vente!B:B,$E$8,vente!C:C,'2'!A56)=0,"",SUMIFS(vente!D:D,vente!B:B,$E$8,vente!C:C,'2'!A56))
A57: =A56+1 -> 47 | B57: 23 mois | C57: robe rose winnie l'ourson | D57: disney | E57: F | F57: 1 | G57: =IF(SUMIFS(vente!D:D,vente!B:B,$E$8,vente!C:C,'2'!A57)=0,"",SUMIFS(vente!D:D,vente!B:B,$E$8,vente!C:C,'2'!A57))
A58: =A57+1 -> 48 | B58: 4 ans | C58: pantacourts kaki | E58: G | F58: 1 | G58: =IF(SUMIFS(vente!D:D,vente!B:B,$E$8,vente!C:C,'2'!A58)=0,"",SUMIFS(vente!D:D,vente!B:B,$E$8,vente!C:C,'2'!A58))
A59: =A58+1 -> 49 | B59: 6 ans | C59: gilet sans manche noir | D59: bestway | E59: G | F59: 1 | G59: =IF(SUMIFS(vente!D:D,vente!B:B,$E$8,vente!C:C,'2'!A59)=0,"",SUMIFS(vente!D:D,vente!B:B,$E$8,vente!C:C,'2'!A59))
A60: =A59+1 -> 50 | B60: 6 ans | C60: chemise noir rayé | D60: bestway | E60: G | F60: 1 | G60: =IF(SUMIFS(vente!D:D,vente!B:B,$E$8,vente!C:C,'2'!A60)=0,"",SUMIFS(vente!D:D,vente!B:B,$E$8,vente!C:C,'2'!A60))
A61: =A60+1 -> 51 | B61: 6 ans | C61: short flash mc queen | D61: disney | E61: G | F61: 1 | G61: =IF(SUMIFS(vente!D:D,vente!B:B,$E$8,vente!C:C,'2'!A61)=0,"",SUMIFS(vente!D:D,vente!B:B,$E$8,vente!C:C,'2'!A61))
A62: =A61+1 -> 52 | B62: 5 ans | C62: chemise beige rayé | D62: bestway | E62: G | F62: 1 | G62: =IF(SUMIFS(vente!D:D,vente!B:B,$E$8,vente!C:C,'2'!A62)=0,"",SUMIFS(vente!D:D,vente!B:B,$E$8,vente!C:C,'2'!A62))
A63: =A62+1 -> 53 | B63: 3 ans | C63: short noir motoring 27 | E63: G | F63: 1 | G63: =IF(SUMIFS(vente!D:D,vente!B:B,$E$8,vente!C:C,'2'!A63)=0,"",SUMIFS(vente!D:D,vente!B:B,$E$8,vente!C:C,'2'!A63))
A64: =A63+1 -> 54 | B64: 24 mois | C64: robe salopette grise | D64: u collection | E64: F | F64: 2 | G64: =IF(SUMIFS(vente!D:D,vente!B:B,$E$8,vente!C:C,'2'!A64)=0,"",SUMIFS(vente!D:D,vente!B:B,$E$8,vente!C:C,'2'!A64))
A65: =A64+1 -> 55 | B65: 8 ans | C65: tee-shirt bleu marine | D65: sportway | E65: G | F65: 1 | G65: =IF(SUMIFS(vente!D:D,vente!B:B,$E$8,vente!C:C,'2'!A65)=0,"",SUMIFS(vente!D:D,vente!B:B,$E$8,vente!C:C,'2'!A65))
A66: =A65+1 -> 56 | B66: 8 ans | C66: short gris | D66: u essentiel | E66: G | F66: 2 | G66: =IF(SUMIFS(vente!D:D,vente!B:B,$E$8,vente!C:C,'2'!A66)=0,"",SUMIFS(vente!D:D,vente!B:B,$E$8,vente!C:C,'2'!A66))
A67: =A66+1 -> 57 | G67: =IF(SUMIFS(vente!D:D,vente!B:B,$E$8,vente!C:C,'2'!A67)=0,"",SUMIFS(vente!D:D,vente!B:B,$E$8,vente!C:C,'2'!A67))
A68: =A67+1 -> 58 | G68: =IF(SUMIFS(vente!D:D,vente!B:B,$E$8,vente!C:C,'2'!A68)=0,"",SUMIFS(vente!D:D,vente!B:B,$E$8,vente!C:C,'2'!A68))
A69: =A68+1 -> 59 | G69: =IF(SUMIFS(vente!D:D,vente!B:B,$E$8,vente!C:C,'2'!A69)=0,"",SUMIFS(vente!D:D,vente!B:B,$E$8,vente!C:C,'2'!A69))
A70: =A69+1 -> 60 | G70: =IF(SUMIFS(vente!D:D,vente!B:B,$E$8,vente!C:C,'2'!A70)=0,"",SUMIFS(vente!D:D,vente!B:B,$E$8,vente!C:C,'2'!A70))
D71: Total Ventes | G71: =SUM(G11:G70) -> 0
D72: Prélèvement asso (30%) | G72: =G71*30% -> 0
C73: maximum 60 articles déposés | D73: Total cliente | G73: =G71-G72 -> 0

Sheet 6
B1: Bourse aux vêtements - Accueil et Loisirs - St Fulgent
D3: Nom | E3: A
D4: Prénom
B5: Repris / Non repris | D5: Adresse
D6: Téléphone
D8: N° Client | E8: =MID(CELL("nomfichier",A1),FIND("]",CELL("nomfichier",A1))+1,32) -> 6
A10: N° | B10: Age | C10: Désignation | D10: Marque | E10: sexe | F10: prix | G10: vendu
A11: 1 | B11: 38-40 | C11: chemise de nuit grossesse marron | D11: calinkalin | F11: 1 | G11: =IF(SUMIFS(vente!D:D,vente!B:B,$E$8,vente!C:C,'2'!A11)=0,"",SUMIFS(vente!D:D,vente!B:B,$E$8,vente!C:C,'2'!A11))
A12: =A11+1 -> 2 | B12: M | C12: tunique grossesse grise violette manche 3/4 | D12: piches | F12: 1 | G12: =IF(SUMIFS(vente!D:D,vente!B:B,$E$8,vente!C:C,'2'!A12)=0,"",SUMIFS(vente!D:D,vente!B:B,$E$8,vente!C:C,'2'!A12))
A13: =A12+1 -> 3 | B13: M | C13: pantacourts grossesse blanc | D13: cmp | F13: 1 | G13: =IF(SUMIFS(vente!D:D,vente!B:B,$E$8,vente!C:C,'2'!A13)=0,"",SUMIFS(vente!D:D,vente!B:B,$E$8,vente!C:C,'2'!A13))
A14: =A13+1 -> 4 | B14: M | C14: robe violette manche 3/4 | D14: only | F14: 2 | G14: =IF(SUMIFS(vente!D:D,vente!B:B,$E$8,vente!C:C,'2'!A14)=0,"",SUMIFS(vente!D:D,vente!B:B,$E$8,vente!C:C,'2'!A14))
A15: =A14+1 -> 5 | C15: débardeur grossesse noir | D15: endsky | F15: 1 | G15: =IF(SUMIFS(vente!D:D,vente!B:B,$E$8,vente!C:C,'2'!A15)=0,"",SUMIFS(vente!D:D,vente!B:B,$E$8,vente!C:C,'2'!A15))
A16: =A15+1 -> 6 | B16: 40 | C16: débardeur grossesse imprimé jaune gris bleu | D16: kiabi | F16: 2 | G16: =IF(SUMIFS(vente!D:D,vente!B:B,$E$8,vente!C:C,'2'!A16)=0,"",SUMIFS(vente!D:D,vente!B:B,$E$8,vente!C:C,'2'!A16))
A17: =A16+1 -> 7 | B17: s | C17: chemisier grossesse taupe | D17: only | F17: 2 | G17: =IF(SUMIFS(vente!D:D,vente!B:B,$E$8,vente!C:C,'2'!A17)=0,"",SUMIFS(vente!D:D,vente!B:B,$E$8,vente!C:C,'2'!A17))
A18: =A17+1 -> 8 | B18: 18 mois | C18: pyjama jaune orange vert | D18: orchestra | E18: G | F18: 1 | G18: =IF(SUMIFS(vente!D:D,vente!B:B,$E$8,vente!C:C,'2'!A18)=0,"",SUMIFS(vente!D:D,vente!B:B,$E$8,vente!C:C,'2'!A18))
A19: =A18+1 -> 9 | B19: 18 mois | C19: tee shirt ML bleu et blanc | D19: orchestra | E19: G | F19: 1 | G19: =IF(SUMIFS(vente!D:D,vente!B:B,$E$8,vente!C:C,'2'!A19)=0,"",SUMIFS(vente!D:D,vente!B:B,$E$8,vente!C:C,'2'!A19))
A20: =A19+1 -> 10 | B20: 18 mois | C20: chemise blanche ML | D20: orchestra | E20: G | F20: 1 | G20: =IF(SUMIFS(vente!D:D,vente!B:B,$E$8,vente!C:C,'2'!A20)=0,"",SUMIFS(vente!D:D,vente!B:B,$E$8,vente!C:C,'2'!A20))
A21: =A20+1 -> 11 | B21: 18 mois | C21: tee shirt blanc MC voiture | E21: G | F21: 1 | G21: =IF(SUMIFS(vente!D:D,vente!B:B,$E$8,vente!C:C,'2'!A21)=0,"",SUMIFS(vente!D:D,vente!B:B,$E$8,vente!C:C,'2'!A21))
A22: =A21+1 -> 12 | B22: 18 mois | C22: tee shirt MC blanc "use your imagination" | D22: timberland | E22: G | F22: 1 | G22: =IF(SUMIFS(vente!D:D,vente!B:B,$E$8,vente!C:C,'2'!A22)=0,"",SUMIFS(vente!D:D,vente!B:B,$E$8,vente!C:C,'2'!A22))
A23: =A22+1 -> 13 | B23: 18 mois | C23: tee shirt ML orange et blanc | D23: timberland | E23: G | F23: 1 | G23: =IF(SUMIFS(vente!D:D,vente!B:B,$E$8,vente!C:C,'2'!A23)=0,"",SUMIFS(vente!D:D,vente!B:B,$E$8,vente!C:C,'2'!A23))
A24: =A23+1 -> 14 | B24: 18 mois | C24: ensemble pantalon bordeau et tunique fleurs | D24: u tout petit | E24: F | F24: 2 | G24: =IF(SUMIFS(vente!D:D,vente!B:B,$E$8,vente!C:C,'2'!A24)=0,"",SUMIFS(vente!D:D,vente!B:B,$E$8,vente!C:C,'2'!A24))
A25: =A24+1 -> 15 | B25: 18 mois | C25: salopette longue jean noir | D25: orchestra | E25: G | F25: 1 | G25: =IF(SUMIFS(vente!D:D,vente!B:B,$E$8,vente!C:C,'2'!A25)=0,"",SUMIFS(vente!D:D,vente!B:B,$E$8,vente!C:C,'2'!A25))
A26: =A25+1 -> 16 | B26: 18 mois | C26: ensemble salopette short jean gris clair et tee shirt rayé | D26: terre de marins | E26: G | F26: 2 | G26: =IF(SUMIFS(vente!D:D,vente!B:B,$E$8,vente!C:C,'2'!A26)=0,"",SUMIFS(vente!D:D,vente!B:B,$E$8,vente!C:C,'2'!A26))
A27: =A26+1 -> 17 | B27: 18 mois | C27: tee shirt gris bateau | D27: timberland | E27: G | F27: 1 | G27: =IF(SUMIFS(vente!D:D,vente!B:B,$E$8,vente!C:C,'2'!A27)=0,"",SUMIFS(vente!D:D,vente!B:B,$E$8,vente!C:C,'2'!A27))
A28: =A27+1 -> 18 | B28: 18 mois | C28: ensemble pantalon marron et chemise jaune | D28: tom et kiddy | E28: G | F28: 1 | G28: =IF(SUMIFS(vente!D:D,vente!B:B,$E$8,vente!C:C,'2'!A28)=0,"",SUMIFS(vente!D:D,vente!B:B,$E$8,vente!C:C,'2'!A28))
A29: 19 | B29: 18 mois | C29: polo ML kaki | D29: kidkanai | E29: G | F29: 1 | G29: =IF(SUMIFS(vente!D:D,vente!B:B,$E$8,vente!C:C,'2'!A29)=0,"",SUMIFS(vente!D:D,vente!B:B,$E$8,vente!C:C,'2'!A29))
A30: =A29+1 -> 20 | B30: 18 mois | C30: tee shirt ML blanc "destination bisous" | D30: tape à l'œil | E30: G | F30: 1 | G30: =IF(SUMIFS(vente!D:D,vente!B:B,$E$8,vente!C:C,'2'!A30)=0,"",SUMIFS(vente!D:D,vente!B:B,$E$8,vente!C:C,'2'!A30))
A31: =A30+1 -> 21 | B31: 18 mois | C31: chemise ML blanche rayé marron | D31: orchestra | E31: G | F31: 1 | G31: =IF(SUMIFS(vente!D:D,vente!B:B,$E$8,vente!C:C,'2'!A31)=0,"",SUMIFS(vente!D:D,vente!B:B,$E$8,vente!C:C,'2'!A31))
A32: =A31+1 -> 22 | B32: 18 mois | C32: chemise ML à carreaux marron vert | D32: les p'tits babies | E32: G | F32: 1 | G32: =IF(SUMIFS(vente!D:D,vente!B:B,$E$8,vente!C:C,'2'!A32)=0,"",SUMIFS(vente!D:D,vente!B:B,$E$8,vente!C:C,'2'!A32))
A33: =A32+1 -> 23 | B33: 18 mois | C33: chemise ML rayé bleu clair | D33: jean bourget | E33: G | F33: 1 | G33: =IF(SUMIFS(vente!D:D,vente!B:B,$E$8,vente!C:C,'2'!A33)=0,"",SUMIFS(vente!D:D,vente!B:B,$E$8,vente!C:C,'2'!A33))
A34: =A33+1 -> 24 | B34: 3 mois | C34: Tee shirt ML blanc rayé beige | D34: kitchoun | E34: G | F34: 1 | G34: =IF(SUMIFS(vente!D:D,vente!B:B,$E$8,vente!C:C,'2'!A34)=0,"",SUMIFS(vente!D:D,vente!B:B,$E$8,vente!C:C,'2'!A34))
A35: =A34+1 -> 25 | B35: 3 mois | C35: tee shirt ML blanc manches bleues | D35: u collection | E35: G | F35: 1 | G35: =IF(SUMIFS(vente!D:D,vente!B:B,$E$8,vente!C:C,'2'!A35)=0,"",SUMIFS(vente!D:D,vente!B:B,$E$8,vente!C:C,'2'!A35))
A36: =A35+1 -> 26 | B36: 3 mois | C36: short beige | D36: kitiwatt | E36: G | F36: 1 | G36: =IF(SUMIFS(vente!D:D,vente!B:B,$E$8,vente!C:C,'2'!A36)=0,"",SUMIFS(vente!D:D,vente!B:B,$E$8,vente!C:C,'2'!A36))
A37: =A36+1 -> 27 | B37: 6 mois | C37: salopette short beige | D37: u collection | E37: G | F37: 1 | G37: =IF(SUMIFS(vente!D:D,vente!B:B,$E$8,vente!C:C,'2'!A37)=0,"",SUMIFS(vente!D:D,vente!B:B,$E$8,vente!C:C,'2'!A37))
A38: =A37+1 -> 28 | B38: 6 mois | C38: tee shirt marron | D38: kimbaloo | E38: G | F38: 1 | G38: =IF(SUMIFS(vente!D:D,vente!B:B,$E$8,vente!C:C,'2'!A38)=0,"",SUMIFS(vente!D:D,vente!B:B,$E$8,vente!C:C,'2'!A38))
A39: =A38+1 -> 29 | B39: 6 mois | C39: gilet bleu ciel | E39: G | F39: 1 | G39: =IF(SUMIFS(vente!D:D,vente!B:B,$E$8,vente!C:C,'2'!A39)=0,"",SUMIFS(vente!D:D,vente!B:B,$E$8,vente!C:C,'2'!A39))
A40: =A39+1 -> 30 | B40: 6 mois | C40: tee shirt bleu | D40: timberland | E40: G | F40: 1 | G40: =IF(SUMIFS(vente!D:D,vente!B:B,$E$8,vente!C:C,'2'!A40)=0,"",SUMIFS(vente!D:D,vente!B:B,$E$8,vente!C:C,'2'!A40))
A41: =A40+1 -> 31 | B41: 6 mois | C41: polo marine | D41: timberland | E41: G | F41: 1 | G41: =IF(SUMIFS(vente!D:D,vente!B:B,$E$8,vente!C:C,'2'!A41)=0,"",SUMIFS(vente!D:D,vente!B:B,$E$8,vente!C:C,'2'!A41))
A42: =A41+1 -> 32 | B42: 6 mois | C42: chemise ML à carreaux rouges | D42: hugo boss | E42: G | F42: 1.5 | G42: =IF(SUMIFS(vente!D:D,vente!B:B,$E$8,vente!C:C,'2'!A42)=0,"",SUMIFS(vente!D:D,vente!B:B,$E$8,vente!C:C,'2'!A42))
A43: =A42+1 -> 33 | B43: 6 mois | C43: tee shirt ML blanc | D43: petit pirate | E43: G | F43: 1 | G43: =IF(SUMIFS(vente!D:D,vente!B:B,$E$8,vente!C:C,'2'!A43)=0,"",SUMIFS(vente!D:D,vente!B:B,$E$8,vente!C:C,'2'!A43))
A44: =A43+1 -> 34 | B44: 6 mois | C44: tee shirt bleu baleine | D44: marese | E44: G | F44: 1 | G44: =IF(SUMIFS(vente!D:D,vente!B:B,$E$8,vente!C:C,'2'!A44)=0,"",SUMIFS(vente!D:D,vente!B:B,$E$8,vente!C:C,'2'!A44))
A45: =A44+1 -> 35 | B45: 6 mois | C45: ensemble salopette short rouge et tee shirt | D45: ourson | E45: G | F45: 1.5 | G45: =IF(SUMIFS(vente!D:D,vente!B:B,$E$8,vente!C:C,'2'!A45)=0,"",SUMIFS(vente!D:D,vente!B:B,$E$8,vente!C:C,'2'!A45))
A46: =A45+1 -> 36 | B46: 6 mois | C46: salopette marron | D46: pickouic | E46: G | F46: 1 | G46: =IF(SUMIFS(vente!D:D,vente!B:B,$E$8,vente!C:C,'2'!A46)=0,"",SUMIFS(vente!D:D,vente!B:B,$E$8,vente!C:C,'2'!A46))
A47: =A46+1 -> 37 | B47: 9 mois | C47: tee shirt orange | D47: alphabet | E47: G | F47: 1 | G47: =IF(SUMIFS(vente!D:D,vente!B:B,$E$8,vente!C:C,'2'!A47)=0,"",SUMIFS(vente!D:D,vente!B:B,$E$8,vente!C:C,'2'!A47))
A48: =A47+1 -> 38 | B48: 12 mois | C48: ensemble robe rose et culotte | D48: mini adélie | E48: F | F48: 1.5 | G48: =IF(SUMIFS(vente!D:D,vente!B:B,$E$8,vente!C:C,'2'!A48)=0,"",SUMIFS(vente!D:D,vente!B:B,$E$8,vente!C:C,'2'!A48))
A49: =A48+1 -> 39 | B49: 3 ans | C49: chemise ML grise | D49: orchestra | E49: G | F49: 1 | G49: =IF(SUMIFS(vente!D:D,vente!B:B,$E$8,vente!C:C,'2'!A49)=0,"",SUMIFS(vente!D:D,vente!B:B,$E$8,vente!C:C,'2'!A49))
A50: =A49+1 -> 40 | B50: 3 ans | C50: chemise rayé | D50: orchestra | E50: G | F50: 1 | G50: =IF(SUMIFS(vente!D:D,vente!B:B,$E$8,vente!C:C,'2'!A50)=0,"",SUMIFS(vente!D:D,vente!B:B,$E$8,vente!C:C,'2'!A50))
A51: =A50+1 -> 41 | B51: 8 ans | C51: tee shirt ML beige camion | E51: G | F51: 1 | G51: =IF(SUMIFS(vente!D:D,vente!B:B,$E$8,vente!C:C,'2'!A51)=0,"",SUMIFS(vente!D:D,vente!B:B,$E$8,vente!C:C,'2'!A51))
A52: =A51+1 -> 42 | B52: 10 ans | C52: sweat gris | D52: energetics | E52: G | F52: 2 | G52: =IF(SUMIFS(vente!D:D,vente!B:B,$E$8,vente!C:C,'2'!A52)=0,"",SUMIFS(vente!D:D,vente!B:B,$E$8,vente!C:C,'2'!A52))
A53: =A52+1 -> 43 | B53: 8 ans | C53: tee shirt ML bleu robot | D53: pick ouic | E53: G | F53: 1 | G53: =IF(SUMIFS(vente!D:D,vente!B:B,$E$8,vente!C:C,'2'!A53)=0,"",SUMIFS(vente!D:D,vente!B:B,$E$8,vente!C:C,'2'!A53))
A54: =A53+1 -> 44 | B54: 8 ans | C54: jean bleu | D54: tissaia | E54: G | F54: 1.5 | G54: =IF(SUMIFS(vente!D:D,vente!B:B,$E$8,vente!C:C,'2'!A54)=0,"",SUMIFS(vente!D:D,vente!B:B,$E$8,vente!C:C,'2'!A54))
A55: =A54+1 -> 45 | B55: 18 mois | C55: gilet court blanc | D55: tape à l'œil | E55: F | F55: 1 | G55: =IF(SUMIFS(vente!D:D,vente!B:B,$E$8,vente!C:C,'2'!A55)=0,"",SUMIFS(vente!D:D,vente!B:B,$E$8,vente!C:C,'2'!A55))
A56: =A55+1 -> 46 | B56: 24 mois | C56: gilet rouge | D56: u collection | E56: F | F56: 1 | G56: =IF(SUMIFS(vente!D:D,vente!B:B,$E$8,vente!C:C,'2'!A56)=0,"",SUMIFS(vente!D:D,vente!B:B,$E$8,vente!C:C,'2'!A56))
A57: =A56+1 -> 47 | B57: 23 mois | C57: robe rose winnie l'ourson | D57: disney | E57: F | F57: 1 | G57: =IF(SUMIFS(vente!D:D,vente!B:B,$E$8,vente!C:C,'2'!A57)=0,"",SUMIFS(vente!D:D,vente!B:B,$E$8,vente!C:C,'2'!A57))
A58: =A57+1 -> 48 | B58: 4 ans | C58: pantacourts kaki | E58: G | F58: 1 | G58: =IF(SUMIFS(vente!D:D,vente!B:B,$E$8,vente!C:C,'2'!A58)=0,"",SUMIFS(vente!D:D,vente!B:B,$E$8,vente!C:C,'2'!A58))
A59: =A58+1 -> 49 | B59: 6 ans | C59: gilet sans manche noir | D59: bestway | E59: G | F59: 1 | G59: =IF(SUMIFS(vente!D:D,vente!B:B,$E$8,vente!C:C,'2'!A59)=0,"",SUMIFS(vente!D:D,vente!B:B,$E$8,vente!C:C,'2'!A59))
A60: =A59+1 -> 50 | B60: 6 ans | C60: chemise noir rayé | D60: bestway | E60: G | F60: 1 | G60: =IF(SUMIFS(vente!D:D,vente!B:B,$E$8,vente!C:C,'2'!A60)=0,"",SUMIFS(vente!D:D,vente!B:B,$E$8,vente!C:C,'2'!A60))
A61: =A60+1 -> 51 | B61: 6 ans | C61: short flash mc queen | D61: disney | E61: G | F61: 1 | G61: =IF(SUMIFS(vente!D:D,vente!B:B,$E$8,vente!C:C,'2'!A61)=0,"",SUMIFS(vente!D:D,vente!B:B,$E$8,vente!C:C,'2'!A61))
A62: =A61+1 -> 52 | B62: 5 ans | C62: chemise beige rayé | D62: bestway | E62: G | F62: 1 | G62: =IF(SUMIFS(vente!D:D,vente!B:B,$E$8,vente!C:C,'2'!A62)=0,"",SUMIFS(vente!D:D,vente!B:B,$E$8,vente!C:C,'2'!A62))
A63: =A62+1 -> 53 | B63: 3 ans | C63: short noir motoring 27 | E63: G | F63: 1 | G63: =IF(SUMIFS(vente!D:D,vente!B:B,$E$8,vente!C:C,'2'!A63)=0,"",SUMIFS(vente!D:D,vente!B:B,$E$8,vente!C:C,'2'!A63))
A64: =A63+1 -> 54 | B64: 24 mois | C64: robe salopette grise | D64: u collection | E64: F | F64: 2 | G64: =IF(SUMIFS(vente!D:D,vente!B:B,$E$8,vente!C:C,'2'!A64)=0,"",SUMIFS(vente!D:D,vente!B:B,$E$8,vente!C:C,'2'!A64))
A65: =A64+1 -> 55 | B65: 8 ans | C65: tee-shirt bleu marine | D65: sportway | E65: G | F65: 1 | G65: =IF(SUMIFS(vente!D:D,vente!B:B,$E$8,vente!C:C,'2'!A65)=0,"",SUMIFS(vente!D:D,vente!B:B,$E$8,vente!C:C,'2'!A65))
A66: =A65+1 -> 56 | B66: 8 ans | C66: short gris | D66: u essentiel | E66: G | F66: 2 | G66: =IF(SUMIFS(vente!D:D,vente!B:B,$E$8,vente!C:C,'2'!A66)=0,"",SUMIFS(vente!D:D,vente!B:B,$E$8,vente!C:C,'2'!A66))
A67: =A66+1 -> 57 | G67: =IF(SUMIFS(vente!D:D,vente!B:B,$E$8,vente!C:C,'2'!A67)=0,"",SUMIFS(vente!D:D,vente!B:B,$E$8,vente!C:C,'2'!A67))
A68: =A67+1 -> 58 | G68: =IF(SUMIFS(vente!D:D,vente!B:B,$E$8,vente!C:C,'2'!A68)=0,"",SUMIFS(vente!D:D,vente!B:B,$E$8,vente!C:C,'2'!A68))
A69: =A68+1 -> 59 | G69: =IF(SUMIFS(vente!D:D,vente!B:B,$E$8,vente!C:C,'2'!A69)=0,"",SUMIFS(vente!D:D,vente!B:B,$E$8,vente!C:C,'2'!A69))
A70: =A69+1 -> 60 | G70: =IF(SUMIFS(vente!D:D,vente!B:B,$E$8,vente!C:C,'2'!A70)=0,"",SUMIFS(vente!D:D,vente!B:B,$E$8,vente!C:C,'2'!A70))
D71: Total Ventes | G71: =SUM(G11:G70) -> 0
D72: Prélèvement asso (30%) | G72: =G71*30% -> 0
C73: maximum 60 articles déposés | D73: Total cliente | G73: =G71-G72 -> 0

Sheet 7
B1: Bourse aux vêtements - Accueil et Loisirs - St Fulgent
D3: Nom | E3: A
D4: Prénom
B5: Repris / Non repris | D5: Adresse
D6: Téléphone
D8: N° Client | E8: =MID(CELL("nomfichier",A1),FIND("]",CELL("nomfichier",A1))+1,32) -> 7
A10: N° | B10: Age | C10: Désignation | D10: Marque | E10: sexe | F10: prix | G10: vendu
A11: 1 | B11: 38-40 | C11: chemise de nuit grossesse marron | D11: calinkalin | F11: 1 | G11: =IF(SUMIFS(vente!D:D,vente!B:B,$E$8,vente!C:C,'2'!A11)=0,"",SUMIFS(vente!D:D,vente!B:B,$E$8,vente!C:C,'2'!A11))
A12: =A11+1 -> 2 | B12: M | C12: tunique grossesse grise violette manche 3/4 | D12: piches | F12: 1 | G12: =IF(SUMIFS(vente!D:D,vente!B:B,$E$8,vente!C:C,'2'!A12)=0,"",SUMIFS(vente!D:D,vente!B:B,$E$8,vente!C:C,'2'!A12))
A13: =A12+1 -> 3 | B13: M | C13: pantacourts grossesse blanc | D13: cmp | F13: 1 | G13: =IF(SUMIFS(vente!D:D,vente!B:B,$E$8,vente!C:C,'2'!A13)=0,"",SUMIFS(vente!D:D,vente!B:B,$E$8,vente!C:C,'2'!A13))
A14: =A13+1 -> 4 | B14: M | C14: robe violette manche 3/4 | D14: only | F14: 2 | G14: =IF(SUMIFS(vente!D:D,vente!B:B,$E$8,vente!C:C,'2'!A14)=0,"",SUMIFS(vente!D:D,vente!B:B,$E$8,vente!C:C,'2'!A14))
A15: =A14+1 -> 5 | C15: débardeur grossesse noir | D15: endsky | F15: 1 | G15: =IF(SUMIFS(vente!D:D,vente!B:B,$E$8,vente!C:C,'2'!A15)=0,"",SUMIFS(vente!D:D,vente!B:B,$E$8,vente!C:C,'2'!A15))
A16: =A15+1 -> 6 | B16: 40 | C16: débardeur grossesse imprimé jaune gris bleu | D16: kiabi | F16: 2 | G16: =IF(SUMIFS(vente!D:D,vente!B:B,$E$8,vente!C:C,'2'!A16)=0,"",SUMIFS(vente!D:D,vente!B:B,$E$8,vente!C:C,'2'!A16))
A17: =A16+1 -> 7 | B17: s | C17: chemisier grossesse taupe | D17: only | F17: 2 | G17: =IF(SUMIFS(vente!D:D,vente!B:B,$E$8,vente!C:C,'2'!A17)=0,"",SUMIFS(vente!D:D,vente!B:B,$E$8,vente!C:C,'2'!A17))
A18: =A17+1 -> 8 | B18: 18 mois | C18: pyjama jaune orange vert | D18: orchestra | E18: G | F18: 1 | G18: =IF(SUMIFS(vente!D:D,vente!B:B,$E$8,vente!C:C,'2'!A18)=0,"",SUMIFS(vente!D:D,vente!B:B,$E$8,vente!C:C,'2'!A18))
A19: =A18+1 -> 9 | B19: 18 mois | C19: tee shirt ML bleu et blanc | D19: orchestra | E19: G | F19: 1 | G19: =IF(SUMIFS(vente!D:D,vente!B:B,$E$8,vente!C:C,'2'!A19)=0,"",SUMIFS(vente!D:D,vente!B:B,$E$8,vente!C:C,'2'!A19))
A20: =A19+1 -> 10 | B20: 18 mois | C20: chemise blanche ML | D20: orchestra | E20: G | F20: 1 | G20: =IF(SUMIFS(vente!D:D,vente!B:B,$E$8,vente!C:C,'2'!A20)=0,"",SUMIFS(vente!D:D,vente!B:B,$E$8,vente!C:C,'2'!A20))
A21: =A20+1 -> 11 | B21: 18 mois | C21: tee shirt blanc MC voiture | E21: G | F21: 1 | G21: =IF(SUMIFS(vente!D:D,vente!B:B,$E$8,vente!C:C,'2'!A21)=0,"",SUMIFS(vente!D:D,vente!B:B,$E$8,vente!C:C,'2'!A21))
A22: =A21+1 -> 12 | B22: 18 mois | C22: tee shirt MC blanc "use your imagination" | D22: timberland | E22: G | F22: 1 | G22: =IF(SUMIFS(vente!D:D,vente!B:B,$E$8,vente!C:C,'2'!A22)=0,"",SUMIFS(vente!D:D,vente!B:B,$E$8,vente!C:C,'2'!A22))
A23: =A22+1 -> 13 | B23: 18 mois | C23: tee shirt ML orange et blanc | D23: timberland | E23: G | F23: 1 | G23: =IF(SUMIFS(vente!D:D,vente!B:B,$E$8,vente!C:C,'2'!A23)=0,"",SUMIFS(vente!D:D,vente!B:B,$E$8,vente!C:C,'2'!A23))
A24: =A23+1 -> 14 | B24: 18 mois | C24: ensemble pantalon bordeau et tunique fleurs | D24: u tout petit | E24: F | F24: 2 | G24: =IF(SUMIFS(vente!D:D,vente!B:B,$E$8,vente!C:C,'2'!A24)=0,"",SUMIFS(vente!D:D,vente!B:B,$E$8,vente!C:C,'2'!A24))
A25: =A24+1 -> 15 | B25: 18 mois | C25: salopette longue jean noir | D25: orchestra | E25: G | F25: 1 | G25: =IF(SUMIFS(vente!D:D,vente!B:B,$E$8,vente!C:C,'2'!A25)=0,"",SUMIFS(vente!D:D,vente!B:B,$E$8,vente!C:C,'2'!A25))
A26: =A25+1 -> 16 | B26: 18 mois | C26: ensemble salopette short jean gris clair et tee shirt rayé | D26: terre de marins | E26: G | F26: 2 | G26: =IF(SUMIFS(vente!D:D,vente!B:B,$E$8,vente!C:C,'2'!A26)=0,"",SUMIFS(vente!D:D,vente!B:B,$E$8,vente!C:C,'2'!A26))
A27: =A26+1 -> 17 | B27: 18 mois | C27: tee shirt gris bateau | D27: timberland | E27: G | F27: 1 | G27: =IF(SUMIFS(vente!D:D,vente!B:B,$E$8,vente!C:C,'2'!A27)=0,"",SUMIFS(vente!D:D,vente!B:B,$E$8,vente!C:C,'2'!A27))
A28: =A27+1 -> 18 | B28: 18 mois | C28: ensemble pantalon marron et chemise jaune | D28: tom et kiddy | E28: G | F28: 1 | G28: =IF(SUMIFS(vente!D:D,vente!B:B,$E$8,vente!C:C,'2'!A28)=0,"",SUMIFS(vente!D:D,vente!B:B,$E$8,vente!C:C,'2'!A28))
A29: 19 | B29: 18 mois | C29: polo ML kaki | D29: kidkanai | E29: G | F29: 1 | G29: =IF(SUMIFS(vente!D:D,vente!B:B,$E$8,vente!C:C,'2'!A29)=0,"",SUMIFS(vente!D:D,vente!B:B,$E$8,vente!C:C,'2'!A29))
A30: =A29+1 -> 20 | B30: 18 mois | C30: tee shirt ML blanc "destination bisous" | D30: tape à l'œil | E30: G | F30: 1 | G30: =IF(SUMIFS(vente!D:D,vente!B:B,$E$8,vente!C:C,'2'!A30)=0,"",SUMIFS(vente!D:D,vente!B:B,$E$8,vente!C:C,'2'!A30))
A31: =A30+1 -> 21 | B31: 18 mois | C31: chemise ML blanche rayé marron | D31: orchestra | E31: G | F31: 1 | G31: =IF(SUMIFS(vente!D:D,vente!B:B,$E$8,vente!C:C,'2'!A31)=0,"",SUMIFS(vente!D:D,vente!B:B,$E$8,vente!C:C,'2'!A31))
A32: =A31+1 -> 22 | B32: 18 mois | C32: chemise ML à carreaux marron vert | D32: les p'tits babies | E32: G | F32: 1 | G32: =IF(SUMIFS(vente!D:D,vente!B:B,$E$8,vente!C:C,'2'!A32)=0,"",SUMIFS(vente!D:D,vente!B:B,$E$8,vente!C:C,'2'!A32))
A33: =A32+1 -> 23 | B33: 18 mois | C33: chemise ML rayé bleu clair | D33: jean bourget | E33: G | F33: 1 | G33: =IF(SUMIFS(vente!D:D,vente!B:B,$E$8,vente!C:C,'2'!A33)=0,"",SUMIFS(vente!D:D,vente!B:B,$E$8,vente!C:C,'2'!A33))
A34: =A33+1 -> 24 | B34: 3 mois | C34: Tee shirt ML blanc rayé beige | D34: kitchoun | E34: G | F34: 1 | G34: =IF(SUMIFS(vente!D:D,vente!B:B,$E$8,vente!C:C,'2'!A34)=0,"",SUMIFS(vente!D:D,vente!B:B,$E$8,vente!C:C,'2'!A34))
A35: =A34+1 -> 25 | B35: 3 mois | C35: tee shirt ML blanc manches bleues | D35: u collection | E35: G | F35: 1 | G35: =IF(SUMIFS(vente!D:D,vente!B:B,$E$8,vente!C:C,'2'!A35)=0,"",SUMIFS(vente!D:D,vente!B:B,$E$8,vente!C:C,'2'!A35))
A36: =A35+1 -> 26 | B36: 3 mois | C36: short beige | D36: kitiwatt | E36: G | F36: 1 | G36: =IF(SUMIFS(vente!D:D,vente!B:B,$E$8,vente!C:C,'2'!A36)=0,"",SUMIFS(vente!D:D,vente!B:B,$E$8,vente!C:C,'2'!A36))
A37: =A36+1 -> 27 | B37: 6 mois | C37: salopette short beige | D37: u collection | E37: G | F37: 1 | G37: =IF(SUMIFS(vente!D:D,vente!B:B,$E$8,vente!C:C,'2'!A37)=0,"",SUMIFS(vente!D:D,vente!B:B,$E$8,vente!C:C,'2'!A37))
A38: =A37+1 -> 28 | B38: 6 mois | C38: tee shirt marron | D38: kimbaloo | E38: G | F38: 1 | G38: =IF(SUMIFS(vente!D:D,vente!B:B,$E$8,vente!C:C,'2'!A38)=0,"",SUMIFS(vente!D:D,vente!B:B,$E$8,vente!C:C,'2'!A38))
A39: =A38+1 -> 29 | B39: 6 mois | C39: gilet bleu ciel | E39: G | F39: 1 | G39: =IF(SUMIFS(vente!D:D,vente!B:B,$E$8,vente!C:C,'2'!A39)=0,"",SUMIFS(vente!D:D,vente!B:B,$E$8,vente!C:C,'2'!A39))
A40: =A39+1 -> 30 | B40: 6 mois | C40: tee shirt bleu | D40: timberland | E40: G | F40: 1 | G40: =IF(SUMIFS(vente!D:D,vente!B:B,$E$8,vente!C:C,'2'!A40)=0,"",SUMIFS(vente!D:D,vente!B:B,$E$8,vente!C:C,'2'!A40))
A41: =A40+1 -> 31 | B41: 6 mois | C41: polo marine | D41: timberland | E41: G | F41: 1 | G41: =IF(SUMIFS(vente!D:D,vente!B:B,$E$8,vente!C:C,'2'!A41)=0,"",SUMIFS(vente!D:D,vente!B:B,$E$8,vente!C:C,'2'!A41))
A42: =A41+1 -> 32 | B42: 6 mois | C42: chemise ML à carreaux rouges | D42: hugo boss | E42: G | F42: 1.5 | G42: =IF(SUMIFS(vente!D:D,vente!B:B,$E$8,vente!C:C,'2'!A42)=0,"",SUMIFS(vente!D:D,vente!B:B,$E$8,vente!C:C,'2'!A42))
A43: =A42+1 -> 33 | B43: 6 mois | C43: tee shirt ML blanc | D43: petit pirate | E43: G | F43: 1 | G43: =IF(SUMIFS(vente!D:D,vente!B:B,$E$8,vente!C:C,'2'!A43)=0,"",SUMIFS(vente!D:D,vente!B:B,$E$8,vente!C:C,'2'!A43))
A44: =A43+1 -> 34 | B44: 6 mois | C44: tee shirt bleu baleine | D44: marese | E44: G | F44: 1 | G44: =IF(SUMIFS(vente!D:D,vente!B:B,$E$8,vente!C:C,'2'!A44)=0,"",SUMIFS(vente!D:D,vente!B:B,$E$8,vente!C:C,'2'!A44))
A45: =A44+1 -> 35 | B45: 6 mois | C45: ensemble salopette short rouge et tee shirt | D45: ourson | E45: G | F45: 1.5 | G45: =IF(SUMIFS(vente!D:D,vente!B:B,$E$8,vente!C:C,'2'!A45)=0,"",SUMIFS(vente!D:D,vente!B:B,$E$8,vente!C:C,'2'!A45))
A46: =A45+1 -> 36 | B46: 6 mois | C46: salopette marron | D46: pickouic | E46: G | F46: 1 | G46: =IF(SUMIFS(vente!D:D,vente!B:B,$E$8,vente!C:C,'2'!A46)=0,"",SUMIFS(vente!D:D,vente!B:B,$E$8,vente!C:C,'2'!A46))
A47: =A46+1 -> 37 | B47: 9 mois | C47: tee shirt orange | D47: alphabet | E47: G | F47: 1 | G47: =IF(SUMIFS(vente!D:D,vente!B:B,$E$8,vente!C:C,'2'!A47)=0,"",SUMIFS(vente!D:D,vente!B:B,$E$8,vente!C:C,'2'!A47))
A48: =A47+1 -> 38 | B48: 12 mois | C48: ensemble robe rose et culotte | D48: mini adélie | E48: F | F48: 1.5 | G48: =IF(SUMIFS(vente!D:D,vente!B:B,$E$8,vente!C:C,'2'!A48)=0,"",SUMIFS(vente!D:D,vente!B:B,$E$8,vente!C:C,'2'!A48))
A49: =A48+1 -> 39 | B49: 3 ans | C49: chemise ML grise | D49: orchestra | E49: G | F49: 1 | G49: =IF(SUMIFS(vente!D:D,vente!B:B,$E$8,vente!C:C,'2'!A49)=0,"",SUMIFS(vente!D:D,vente!B:B,$E$8,vente!C:C,'2'!A49))
A50: =A49+1 -> 40 | B50: 3 ans | C50: chemise rayé | D50: orchestra | E50: G | F50: 1 | G50: =IF(SUMIFS(vente!D:D,vente!B:B,$E$8,vente!C:C,'2'!A50)=0,"",SUMIFS(vente!D:D,vente!B:B,$E$8,vente!C:C,'2'!A50))
A51: =A50+1 -> 41 | B51: 8 ans | C51: tee shirt ML beige camion | E51: G | F51: 1 | G51: =IF(SUMIFS(vente!D:D,vente!B:B,$E$8,vente!C:C,'2'!A51)=0,"",SUMIFS(vente!D:D,vente!B:B,$E$8,vente!C:C,'2'!A51))
A52: =A51+1 -> 42 | B52: 10 ans | C52: sweat gris | D52: energetics | E52: G | F52: 2 | G52: =IF(SUMIFS(vente!D:D,vente!B:B,$E$8,vente!C:C,'2'!A52)=0,"",SUMIFS(vente!D:D,vente!B:B,$E$8,vente!C:C,'2'!A52))
A53: =A52+1 -> 43 | B53: 8 ans | C53: tee shirt ML bleu robot | D53: pick ouic | E53: G | F53: 1 | G53: =IF(SUMIFS(vente!D:D,vente!B:B,$E$8,vente!C:C,'2'!A53)=0,"",SUMIFS(vente!D:D,vente!B:B,$E$8,vente!C:C,'2'!A53))
A54: =A53+1 -> 44 | B54: 8 ans | C54: jean bleu | D54: tissaia | E54: G | F54: 1.5 | G54: =IF(SUMIFS(vente!D:D,vente!B:B,$E$8,vente!C:C,'2'!A54)=0,"",SUMIFS(vente!D:D,vente!B:B,$E$8,vente!C:C,'2'!A54))
A55: =A54+1 -> 45 | B55: 18 mois | C55: gilet court blanc | D55: tape à l'œil | E55: F | F55: 1 | G55: =IF(SUMIFS(vente!D:D,vente!B:B,$E$8,vente!C:C,'2'!A55)=0,"",SUMIFS(vente!D:D,vente!B:B,$E$8,vente!C:C,'2'!A55))
A56: =A55+1 -> 46 | B56: 24 mois | C56: gilet rouge | D56: u collection | E56: F | F56: 1 | G56: =IF(SUMIFS(vente!D:D,vente!B:B,$E$8,vente!C:C,'2'!A56)=0,"",SUMIFS(vente!D:D,vente!B:B,$E$8,vente!C:C,'2'!A56))
A57: =A56+1 -> 47 | B57: 23 mois | C57: robe rose winnie l'ourson | D57: disney | E57: F | F57: 1 | G57: =IF(SUMIFS(vente!D:D,vente!B:B,$E$8,vente!C:C,'2'!A57)=0,"",SUMIFS(vente!D:D,vente!B:B,$E$8,vente!C:C,'2'!A57))
A58: =A57+1 -> 48 | B58: 4 ans | C58: pantacourts kaki | E58: G | F58: 1 | G58: =IF(SUMIFS(vente!D:D,vente!B:B,$E$8,vente!C:C,'2'!A58)=0,"",SUMIFS(vente!D:D,vente!B:B,$E$8,vente!C:C,'2'!A58))
A59: =A58+1 -> 49 | B59: 6 ans | C59: gilet sans manche noir | D59: bestway | E59: G | F59: 1 | G59: =IF(SUMIFS(vente!D:D,vente!B:B,$E$8,vente!C:C,'2'!A59)=0,"",SUMIFS(vente!D:D,vente!B:B,$E$8,vente!C:C,'2'!A59))
A60: =A59+1 -> 50 | B60: 6 ans | C60: chemise noir rayé | D60: bestway | E60: G | F60: 1 | G60: =IF(SUMIFS(vente!D:D,vente!B:B,$E$8,vente!C:C,'2'!A60)=0,"",SUMIFS(vente!D:D,vente!B:B,$E$8,vente!C:C,'2'!A60))
A61: =A60+1 -> 51 | B61: 6 ans | C61: short flash mc queen | D61: disney | E61: G | F61: 1 | G61: =IF(SUMIFS(vente!D:D,vente!B:B,$E$8,vente!C:C,'2'!A61)=0,"",SUMIFS(vente!D:D,vente!B:B,$E$8,vente!C:C,'2'!A61))
A62: =A61+1 -> 52 | B62: 5 ans | C62: chemise beige rayé | D62: bestway | E62: G | F62: 1 | G62: =IF(SUMIFS(vente!D:D,vente!B:B,$E$8,vente!C:C,'2'!A62)=0,"",SUMIFS(vente!D:D,vente!B:B,$E$8,vente!C:C,'2'!A62))
A63: =A62+1 -> 53 | B63: 3 ans | C63: short noir motoring 27 | E63: G | F63: 1 | G63: =IF(SUMIFS(vente!D:D,vente!B:B,$E$8,vente!C:C,'2'!A63)=0,"",SUMIFS(vente!D:D,vente!B:B,$E$8,vente!C:C,'2'!A63))
A64: =A63+1 -> 54 | B64: 24 mois | C64: robe salopette grise | D64: u collection | E64: F | F64: 2 | G64: =IF(SUMIFS(vente!D:D,vente!B:B,$E$8,vente!C:C,'2'!A64)=0,"",SUMIFS(vente!D:D,vente!B:B,$E$8,vente!C:C,'2'!A64))
A65: =A64+1 -> 55 | B65: 8 ans | C65: tee-shirt bleu marine | D65: sportway | E65: G | F65: 1 | G65: =IF(SUMIFS(vente!D:D,vente!B:B,$E$8,vente!C:C,'2'!A65)=0,"",SUMIFS(vente!D:D,vente!B:B,$E$8,vente!C:C,'2'!A65))
A66: =A65+1 -> 56 | B66: 8 ans | C66: short gris | D66: u essentiel | E66: G | F66: 2 | G66: =IF(SUMIFS(vente!D:D,vente!B:B,$E$8,vente!C:C,'2'!A66)=0,"",SUMIFS(vente!D:D,vente!B:B,$E$8,vente!C:C,'2'!A66))
A67: =A66+1 -> 57 | G67: =IF(SUMIFS(vente!D:D,vente!B:B,$E$8,vente!C:C,'2'!A67)=0,"",SUMIFS(vente!D:D,vente!B:B,$E$8,vente!C:C,'2'!A67))
A68: =A67+1 -> 58 | G68: =IF(SUMIFS(vente!D:D,vente!B:B,$E$8,vente!C:C,'2'!A68)=0,"",SUMIFS(vente!D:D,vente!B:B,$E$8,vente!C:C,'2'!A68))
A69: =A68+1 -> 59 | G69: =IF(SUMIFS(vente!D:D,vente!B:B,$E$8,vente!C:C,'2'!A69)=0,"",SUMIFS(vente!D:D,vente!B:B,$E$8,vente!C:C,'2'!A69))
A70: =A69+1 -> 60 | G70: =IF(SUMIFS(vente!D:D,vente!B:B,$E$8,vente!C:C,'2'!A70)=0,"",SUMIFS(vente!D:D,vente!B:B,$E$8,vente!C:C,'2'!A70))
D71: Total Ventes | G71: =SUM(G11:G70) -> 0
D72: Prélèvement asso (30%) | G72: =G71*30% -> 0
C73: maximum 60 articles déposés | D73: Total cliente | G73: =G71-G72 -> 0

Sheet 8
B1: Bourse aux vêtements - Accueil et Loisirs - St Fulgent
D3: Nom | E3: A
D4: Prénom
B5: Repris / Non repris | D5: Adresse
D6: Téléphone
D8: N° Client | E8: =MID(CELL("nomfichier",A1),FIND("]",CELL("nomfichier",A1))+1,32) -> 8
A10: N° | B10: Age | C10: Désignation | D10: Marque | E10: sexe | F10: prix | G10: vendu
A11: 1 | B11: 38-40 | C11: chemise de nuit grossesse marron | D11: calinkalin | F11: 1 | G11: =IF(SUMIFS(vente!D:D,vente!B:B,$E$8,vente!C:C,'2'!A11)=0,"",SUMIFS(vente!D:D,vente!B:B,$E$8,vente!C:C,'2'!A11))
A12: =A11+1 -> 2 | B12: M | C12: tunique grossesse grise violette manche 3/4 | D12: piches | F12: 1 | G12: =IF(SUMIFS(vente!D:D,vente!B:B,$E$8,vente!C:C,'2'!A12)=0,"",SUMIFS(vente!D:D,vente!B:B,$E$8,vente!C:C,'2'!A12))
A13: =A12+1 -> 3 | B13: M | C13: pantacourts grossesse blanc | D13: cmp | F13: 1 | G13: =IF(SUMIFS(vente!D:D,vente!B:B,$E$8,vente!C:C,'2'!A13)=0,"",SUMIFS(vente!D:D,vente!B:B,$E$8,vente!C:C,'2'!A13))
A14: =A13+1 -> 4 | B14: M | C14: robe violette manche 3/4 | D14: only | F14: 2 | G14: =IF(SUMIFS(vente!D:D,vente!B:B,$E$8,vente!C:C,'2'!A14)=0,"",SUMIFS(vente!D:D,vente!B:B,$E$8,vente!C:C,'2'!A14))
A15: =A14+1 -> 5 | C15: débardeur grossesse noir | D15: endsky | F15: 1 | G15: =IF(SUMIFS(vente!D:D,vente!B:B,$E$8,vente!C:C,'2'!A15)=0,"",SUMIFS(vente!D:D,vente!B:B,$E$8,vente!C:C,'2'!A15))
A16: =A15+1 -> 6 | B16: 40 | C16: débardeur grossesse imprimé jaune gris bleu | D16: kiabi | F16: 2 | G16: =IF(SUMIFS(vente!D:D,vente!B:B,$E$8,vente!C:C,'2'!A16)=0,"",SUMIFS(vente!D:D,vente!B:B,$E$8,vente!C:C,'2'!A16))
A17: =A16+1 -> 7 | B17: s | C17: chemisier grossesse taupe | D17: only | F17: 2 | G17: =IF(SUMIFS(vente!D:D,vente!B:B,$E$8,vente!C:C,'2'!A17)=0,"",SUMIFS(vente!D:D,vente!B:B,$E$8,vente!C:C,'2'!A17))
A18: =A17+1 -> 8 | B18: 18 mois | C18: pyjama jaune orange vert | D18: orchestra | E18: G | F18: 1 | G18: =IF(SUMIFS(vente!D:D,vente!B:B,$E$8,vente!C:C,'2'!A18)=0,"",SUMIFS(vente!D:D,vente!B:B,$E$8,vente!C:C,'2'!A18))
A19: =A18+1 -> 9 | B19: 18 mois | C19: tee shirt ML bleu et blanc | D19: orchestra | E19: G | F19: 1 | G19: =IF(SUMIFS(vente!D:D,vente!B:B,$E$8,vente!C:C,'2'!A19)=0,"",SUMIFS(vente!D:D,vente!B:B,$E$8,vente!C:C,'2'!A19))
A20: =A19+1 -> 10 | B20: 18 mois | C20: chemise blanche ML | D20: orchestra | E20: G | F20: 1 | G20: =IF(SUMIFS(vente!D:D,vente!B:B,$E$8,vente!C:C,'2'!A20)=0,"",SUMIFS(vente!D:D,vente!B:B,$E$8,vente!C:C,'2'!A20))
A21: =A20+1 -> 11 | B21: 18 mois | C21: tee shirt blanc MC voiture | E21: G | F21: 1 | G21: =IF(SUMIFS(vente!D:D,vente!B:B,$E$8,vente!C:C,'2'!A21)=0,"",SUMIFS(vente!D:D,vente!B:B,$E$8,vente!C:C,'2'!A21))
A22: =A21+1 -> 12 | B22: 18 mois | C22: tee shirt MC blanc "use your imagination" | D22: timberland | E22: G | F22: 1 | G22: =IF(SUMIFS(vente!D:D,vente!B:B,$E$8,vente!C:C,'2'!A22)=0,"",SUMIFS(vente!D:D,vente!B:B,$E$8,vente!C:C,'2'!A22))
A23: =A22+1 -> 13 | B23: 18 mois | C23: tee shirt ML orange et blanc | D23: timberland | E23: G | F23: 1 | G23: =IF(SUMIFS(vente!D:D,vente!B:B,$E$8,vente!C:C,'2'!A23)=0,"",SUMIFS(vente!D:D,vente!B:B,$E$8,vente!C:C,'2'!A23))
A24: =A23+1 -> 14 | B24: 18 mois | C24: ensemble pantalon bordeau et tunique fleurs | D24: u tout petit | E24: F | F24: 2 | G24: =IF(SUMIFS(vente!D:D,vente!B:B,$E$8,vente!C:C,'2'!A24)=0,"",SUMIFS(vente!D:D,vente!B:B,$E$8,vente!C:C,'2'!A24))
A25: =A24+1 -> 15 | B25: 18 mois | C25: salopette longue jean noir | D25: orchestra | E25: G | F25: 1 | G25: =IF(SUMIFS(vente!D:D,vente!B:B,$E$8,vente!C:C,'2'!A25)=0,"",SUMIFS(vente!D:D,vente!B:B,$E$8,vente!C:C,'2'!A25))
A26: =A25+1 -> 16 | B26: 18 mois | C26: ensemble salopette short jean gris clair et tee shirt rayé | D26: terre de marins | E26: G | F26: 2 | G26: =IF(SUMIFS(vente!D:D,vente!B:B,$E$8,vente!C:C,'2'!A26)=0,"",SUMIFS(vente!D:D,vente!B:B,$E$8,vente!C:C,'2'!A26))
A27: =A26+1 -> 17 | B27: 18 mois | C27: tee shirt gris bateau | D27: timberland | E27: G | F27: 1 | G27: =IF(SUMIFS(vente!D:D,vente!B:B,$E$8,vente!C:C,'2'!A27)=0,"",SUMIFS(vente!D:D,vente!B:B,$E$8,vente!C:C,'2'!A27))
A28: =A27+1 -> 18 | B28: 18 mois | C28: ensemble pantalon marron et chemise jaune | D28: tom et kiddy | E28: G | F28: 1 | G28: =IF(SUMIFS(vente!D:D,vente!B:B,$E$8,vente!C:C,'2'!A28)=0,"",SUMIFS(vente!D:D,vente!B:B,$E$8,vente!C:C,'2'!A28))
A29: 19 | B29: 18 mois | C29: polo ML kaki | D29: kidkanai | E29: G | F29: 1 | G29: =IF(SUMIFS(vente!D:D,vente!B:B,$E$8,vente!C:C,'2'!A29)=0,"",SUMIFS(vente!D:D,vente!B:B,$E$8,vente!C:C,'2'!A29))
A30: =A29+1 -> 20 | B30: 18 mois | C30: tee shirt ML blanc "destination bisous" | D30: tape à l'œil | E30: G | F30: 1 | G30: =IF(SUMIFS(vente!D:D,vente!B:B,$E$8,vente!C:C,'2'!A30)=0,"",SUMIFS(vente!D:D,vente!B:B,$E$8,vente!C:C,'2'!A30))
A31: =A30+1 -> 21 | B31: 18 mois | C31: chemise ML blanche rayé marron | D31: orchestra | E31: G | F31: 1 | G31: =IF(SUMIFS(vente!D:D,vente!B:B,$E$8,vente!C:C,'2'!A31)=0,"",SUMIFS(vente!D:D,vente!B:B,$E$8,vente!C:C,'2'!A31))
A32: =A31+1 -> 22 | B32: 18 mois | C32: chemise ML à carreaux marron vert | D32: les p'tits babies | E32: G | F32: 1 | G32: =IF(SUMIFS(vente!D:D,vente!B:B,$E$8,vente!C:C,'2'!A32)=0,"",SUMIFS(vente!D:D,vente!B:B,$E$8,vente!C:C,'2'!A32))
A33: =A32+1 -> 23 | B33: 18 mois | C33: chemise ML rayé bleu clair | D33: jean bourget | E33: G | F33: 1 | G33: =IF(SUMIFS(vente!D:D,vente!B:B,$E$8,vente!C:C,'2'!A33)=0,"",SUMIFS(vente!D:D,vente!B:B,$E$8,vente!C:C,'2'!A33))
A34: =A33+1 -> 24 | B34: 3 mois | C34: Tee shirt ML blanc rayé beige | D34: kitchoun | E34: G | F34: 1 | G34: =IF(SUMIFS(vente!D:D,vente!B:B,$E$8,vente!C:C,'2'!A34)=0,"",SUMIFS(vente!D:D,vente!B:B,$E$8,vente!C:C,'2'!A34))
A35: =A34+1 -> 25 | B35: 3 mois | C35: tee shirt ML blanc manches bleues | D35: u collection | E35: G | F35: 1 | G35: =IF(SUMIFS(vente!D:D,vente!B:B,$E$8,vente!C:C,'2'!A35)=0,"",SUMIFS(vente!D:D,vente!B:B,$E$8,vente!C:C,'2'!A35))
A36: =A35+1 -> 26 | B36: 3 mois | C36: short beige | D36: kitiwatt | E36: G | F36: 1 | G36: =IF(SUMIFS(vente!D:D,vente!B:B,$E$8,vente!C:C,'2'!A36)=0,"",SUMIFS(vente!D:D,vente!B:B,$E$8,vente!C:C,'2'!A36))
A37: =A36+1 -> 27 | B37: 6 mois | C37: salopette short beige | D37: u collection | E37: G | F37: 1 | G37: =IF(SUMIFS(vente!D:D,vente!B:B,$E$8,vente!C:C,'2'!A37)=0,"",SUMIFS(vente!D:D,vente!B:B,$E$8,vente!C:C,'2'!A37))
A38: =A37+1 -> 28 | B38: 6 mois | C38: tee shirt marron | D38: kimbaloo | E38: G | F38: 1 | G38: =IF(SUMIFS(vente!D:D,vente!B:B,$E$8,vente!C:C,'2'!A38)=0,"",SUMIFS(vente!D:D,vente!B:B,$E$8,vente!C:C,'2'!A38))
A39: =A38+1 -> 29 | B39: 6 mois | C39: gilet bleu ciel | E39: G | F39: 1 | G39: =IF(SUMIFS(vente!D:D,vente!B:B,$E$8,vente!C:C,'2'!A39)=0,"",SUMIFS(vente!D:D,vente!B:B,$E$8,vente!C:C,'2'!A39))
A40: =A39+1 -> 30 | B40: 6 mois | C40: tee shirt bleu | D40: timberland | E40: G | F40: 1 | G40: =IF(SUMIFS(vente!D:D,vente!B:B,$E$8,vente!C:C,'2'!A40)=0,"",SUMIFS(vente!D:D,vente!B:B,$E$8,vente!C:C,'2'!A40))
A41: =A40+1 -> 31 | B41: 6 mois | C41: polo marine | D41: timberland | E41: G | F41: 1 | G41: =IF(SUMIFS(vente!D:D,vente!B:B,$E$8,vente!C:C,'2'!A41)=0,"",SUMIFS(vente!D:D,vente!B:B,$E$8,vente!C:C,'2'!A41))
A42: =A41+1 -> 32 | B42: 6 mois | C42: chemise ML à carreaux rouges | D42: hugo boss | E42: G | F42: 1.5 | G42: =IF(SUMIFS(vente!D:D,vente!B:B,$E$8,vente!C:C,'2'!A42)=0,"",SUMIFS(vente!D:D,vente!B:B,$E$8,vente!C:C,'2'!A42))
A43: =A42+1 -> 33 | B43: 6 mois | C43: tee shirt ML blanc | D43: petit pirate | E43: G | F43: 1 | G43: =IF(SUMIFS(vente!D:D,vente!B:B,$E$8,vente!C:C,'2'!A43)=0,"",SUMIFS(vente!D:D,vente!B:B,$E$8,vente!C:C,'2'!A43))
A44: =A43+1 -> 34 | B44: 6 mois | C44: tee shirt bleu baleine | D44: marese | E44: G | F44: 1 | G44: =IF(SUMIFS(vente!D:D,vente!B:B,$E$8,vente!C:C,'2'!A44)=0,"",SUMIFS(vente!D:D,vente!B:B,$E$8,vente!C:C,'2'!A44))
A45: =A44+1 -> 35 | B45: 6 mois | C45: ensemble salopette short rouge et tee shirt | D45: ourson | E45: G | F45: 1.5 | G45: =IF(SUMIFS(vente!D:D,vente!B:B,$E$8,vente!C:C,'2'!A45)=0,"",SUMIFS(vente!D:D,vente!B:B,$E$8,vente!C:C,'2'!A45))
A46: =A45+1 -> 36 | B46: 6 mois | C46: salopette marron | D46: pickouic | E46: G | F46: 1 | G46: =IF(SUMIFS(vente!D:D,vente!B:B,$E$8,vente!C:C,'2'!A46)=0,"",SUMIFS(vente!D:D,vente!B:B,$E$8,vente!C:C,'2'!A46))
A47: =A46+1 -> 37 | B47: 9 mois | C47: tee shirt orange | D47: alphabet | E47: G | F47: 1 | G47: =IF(SUMIFS(vente!D:D,vente!B:B,$E$8,vente!C:C,'2'!A47)=0,"",SUMIFS(vente!D:D,vente!B:B,$E$8,vente!C:C,'2'!A47))
A48: =A47+1 -> 38 | B48: 12 mois | C48: ensemble robe rose et culotte | D48: mini adélie | E48: F | F48: 1.5 | G48: =IF(SUMIFS(vente!D:D,vente!B:B,$E$8,vente!C:C,'2'!A48)=0,"",SUMIFS(vente!D:D,vente!B:B,$E$8,vente!C:C,'2'!A48))
A49: =A48+1 -> 39 | B49: 3 ans | C49: chemise ML grise | D49: orchestra | E49: G | F49: 1 | G49: =IF(SUMIFS(vente!D:D,vente!B:B,$E$8,vente!C:C,'2'!A49)=0,"",SUMIFS(vente!D:D,vente!B:B,$E$8,vente!C:C,'2'!A49))
A50: =A49+1 -> 40 | B50: 3 ans | C50: chemise rayé | D50: orchestra | E50: G | F50: 1 | G50: =IF(SUMIFS(vente!D:D,vente!B:B,$E$8,vente!C:C,'2'!A50)=0,"",SUMIFS(vente!D:D,vente!B:B,$E$8,vente!C:C,'2'!A50))
A51: =A50+1 -> 41 | B51: 8 ans | C51: tee shirt ML beige camion | E51: G | F51: 1 | G51: =IF(SUMIFS(vente!D:D,vente!B:B,$E$8,vente!C:C,'2'!A51)=0,"",SUMIFS(vente!D:D,vente!B:B,$E$8,vente!C:C,'2'!A51))
A52: =A51+1 -> 42 | B52: 10 ans | C52: sweat gris | D52: energetics | E52: G | F52: 2 | G52: =IF(SUMIFS(vente!D:D,vente!B:B,$E$8,vente!C:C,'2'!A52)=0,"",SUMIFS(vente!D:D,vente!B:B,$E$8,vente!C:C,'2'!A52))
A53: =A52+1 -> 43 | B53: 8 ans | C53: tee shirt ML bleu robot | D53: pick ouic | E53: G | F53: 1 | G53: =IF(SUMIFS(vente!D:D,vente!B:B,$E$8,vente!C:C,'2'!A53)=0,"",SUMIFS(vente!D:D,vente!B:B,$E$8,vente!C:C,'2'!A53))
A54: =A53+1 -> 44 | B54: 8 ans | C54: jean bleu | D54: tissaia | E54: G | F54: 1.5 | G54: =IF(SUMIFS(vente!D:D,vente!B:B,$E$8,vente!C:C,'2'!A54)=0,"",SUMIFS(vente!D:D,vente!B:B,$E$8,vente!C:C,'2'!A54))
A55: =A54+1 -> 45 | B55: 18 mois | C55: gilet court blanc | D55: tape à l'œil | E55: F | F55: 1 | G55: =IF(SUMIFS(vente!D:D,vente!B:B,$E$8,vente!C:C,'2'!A55)=0,"",SUMIFS(vente!D:D,vente!B:B,$E$8,vente!C:C,'2'!A55))
A56: =A55+1 -> 46 | B56: 24 mois | C56: gilet rouge | D56: u collection | E56: F | F56: 1 | G56: =IF(SUMIFS(vente!D:D,vente!B:B,$E$8,vente!C:C,'2'!A56)=0,"",SUMIFS(vente!D:D,vente!B:B,$E$8,vente!C:C,'2'!A56))
A57: =A56+1 -> 47 | B57: 23 mois | C57: robe rose winnie l'ourson | D57: disney | E57: F | F57: 1 | G57: =IF(SUMIFS(vente!D:D,vente!B:B,$E$8,vente!C:C,'2'!A57)=0,"",SUMIFS(vente!D:D,vente!B:B,$E$8,vente!C:C,'2'!A57))
A58: =A57+1 -> 48 | B58: 4 ans | C58: pantacourts kaki | E58: G | F58: 1 | G58: =IF(SUMIFS(vente!D:D,vente!B:B,$E$8,vente!C:C,'2'!A58)=0,"",SUMIFS(vente!D:D,vente!B:B,$E$8,vente!C:C,'2'!A58))
A59: =A58+1 -> 49 | B59: 6 ans | C59: gilet sans manche noir | D59: bestway | E59: G | F59: 1 | G59: =IF(SUMIFS(vente!D:D,vente!B:B,$E$8,vente!C:C,'2'!A59)=0,"",SUMIFS(vente!D:D,vente!B:B,$E$8,vente!C:C,'2'!A59))
A60: =A59+1 -> 50 | B60: 6 ans | C60: chemise noir rayé | D60: bestway | E60: G | F60: 1 | G60: =IF(SUMIFS(vente!D:D,vente!B:B,$E$8,vente!C:C,'2'!A60)=0,"",SUMIFS(vente!D:D,vente!B:B,$E$8,vente!C:C,'2'!A60))
A61: =A60+1 -> 51 | B61: 6 ans | C61: short flash mc queen | D61: disney | E61: G | F61: 1 | G61: =IF(SUMIFS(vente!D:D,vente!B:B,$E$8,vente!C:C,'2'!A61)=0,"",SUMIFS(vente!D:D,vente!B:B,$E$8,vente!C:C,'2'!A61))
A62: =A61+1 -> 52 | B62: 5 ans | C62: chemise beige rayé | D62: bestway | E62: G | F62: 1 | G62: =IF(SUMIFS(vente!D:D,vente!B:B,$E$8,vente!C:C,'2'!A62)=0,"",SUMIFS(vente!D:D,vente!B:B,$E$8,vente!C:C,'2'!A62))
A63: =A62+1 -> 53 | B63: 3 ans | C63: short noir motoring 27 | E63: G | F63: 1 | G63: =IF(SUMIFS(vente!D:D,vente!B:B,$E$8,vente!C:C,'2'!A63)=0,"",SUMIFS(vente!D:D,vente!B:B,$E$8,vente!C:C,'2'!A63))
A64: =A63+1 -> 54 | B64: 24 mois | C64: robe salopette grise | D64: u collection | E64: F | F64: 2 | G64: =IF(SUMIFS(vente!D:D,vente!B:B,$E$8,vente!C:C,'2'!A64)=0,"",SUMIFS(vente!D:D,vente!B:B,$E$8,vente!C:C,'2'!A64))
A65: =A64+1 -> 55 | B65: 8 ans | C65: tee-shirt bleu marine | D65: sportway | E65: G | F65: 1 | G65: =IF(SUMIFS(vente!D:D,vente!B:B,$E$8,vente!C:C,'2'!A65)=0,"",SUMIFS(vente!D:D,vente!B:B,$E$8,vente!C:C,'2'!A65))
A66: =A65+1 -> 56 | B66: 8 ans | C66: short gris | D66: u essentiel | E66: G | F66: 2 | G66: =IF(SUMIFS(vente!D:D,vente!B:B,$E$8,vente!C:C,'2'!A66)=0,"",SUMIFS(vente!D:D,vente!B:B,$E$8,vente!C:C,'2'!A66))
A67: =A66+1 -> 57 | G67: =IF(SUMIFS(vente!D:D,vente!B:B,$E$8,vente!C:C,'2'!A67)=0,"",SUMIFS(vente!D:D,vente!B:B,$E$8,vente!C:C,'2'!A67))
A68: =A67+1 -> 58 | G68: =IF(SUMIFS(vente!D:D,vente!B:B,$E$8,vente!C:C,'2'!A68)=0,"",SUMIFS(vente!D:D,vente!B:B,$E$8,vente!C:C,'2'!A68))
A69: =A68+1 -> 59 | G69: =IF(SUMIFS(vente!D:D,vente!B:B,$E$8,vente!C:C,'2'!A69)=0,"",SUMIFS(vente!D:D,vente!B:B,$E$8,vente!C:C,'2'!A69))
A70: =A69+1 -> 60 | G70: =IF(SUMIFS(vente!D:D,vente!B:B,$E$8,vente!C:C,'2'!A70)=0,"",SUMIFS(vente!D:D,vente!B:B,$E$8,vente!C:C,'2'!A70))
D71: Total Ventes | G71: =SUM(G11:G70) -> 0
D72: Prélèvement asso (30%) | G72: =G71*30% -> 0
C73: maximum 60 articles déposés | D73: Total cliente | G73: =G71-G72 -> 0

Sheet 9
B1: Bourse aux vêtements - Accueil et Loisirs - St Fulgent
D3: Nom | E3: A
D4: Prénom
B5: Repris / Non repris | D5: Adresse
D6: Téléphone
D8: N° Client | E8: =MID(CELL("nomfichier",A1),FIND("]",CELL("nomfichier",A1))+1,32) -> 9
A10: N° | B10: Age | C10: Désignation | D10: Marque | E10: sexe | F10: prix | G10: vendu
A11: 1 | B11: 38-40 | C11: chemise de nuit grossesse marron | D11: calinkalin | F11: 1 | G11: =IF(SUMIFS(vente!D:D,vente!B:B,$E$8,vente!C:C,'2'!A11)=0,"",SUMIFS(vente!D:D,vente!B:B,$E$8,vente!C:C,'2'!A11))
A12: =A11+1 -> 2 | B12: M | C12: tunique grossesse grise violette manche 3/4 | D12: piches | F12: 1 | G12: =IF(SUMIFS(vente!D:D,vente!B:B,$E$8,vente!C:C,'2'!A12)=0,"",SUMIFS(vente!D:D,vente!B:B,$E$8,vente!C:C,'2'!A12))
A13: =A12+1 -> 3 | B13: M | C13: pantacourts grossesse blanc | D13: cmp | F13: 1 | G13: =IF(SUMIFS(vente!D:D,vente!B:B,$E$8,vente!C:C,'2'!A13)=0,"",SUMIFS(vente!D:D,vente!B:B,$E$8,vente!C:C,'2'!A13))
A14: =A13+1 -> 4 | B14: M | C14: robe violette manche 3/4 | D14: only | F14: 2 | G14: =IF(SUMIFS(vente!D:D,vente!B:B,$E$8,vente!C:C,'2'!A14)=0,"",SUMIFS(vente!D:D,vente!B:B,$E$8,vente!C:C,'2'!A14))
A15: =A14+1 -> 5 | C15: débardeur grossesse noir | D15: endsky | F15: 1 | G15: =IF(SUMIFS(vente!D:D,vente!B:B,$E$8,vente!C:C,'2'!A15)=0,"",SUMIFS(vente!D:D,vente!B:B,$E$8,vente!C:C,'2'!A15))
A16: =A15+1 -> 6 | B16: 40 | C16: débardeur grossesse imprimé jaune gris bleu | D16: kiabi | F16: 2 | G16: =IF(SUMIFS(vente!D:D,vente!B:B,$E$8,vente!C:C,'2'!A16)=0,"",SUMIFS(vente!D:D,vente!B:B,$E$8,vente!C:C,'2'!A16))
A17: =A16+1 -> 7 | B17: s | C17: chemisier grossesse taupe | D17: only | F17: 2 | G17: =IF(SUMIFS(vente!D:D,vente!B:B,$E$8,vente!C:C,'2'!A17)=0,"",SUMIFS(vente!D:D,vente!B:B,$E$8,vente!C:C,'2'!A17))
A18: =A17+1 -> 8 | B18: 18 mois | C18: pyjama jaune orange vert | D18: orchestra | E18: G | F18: 1 | G18: =IF(SUMIFS(vente!D:D,vente!B:B,$E$8,vente!C:C,'2'!A18)=0,"",SUMIFS(vente!D:D,vente!B:B,$E$8,vente!C:C,'2'!A18))
A19: =A18+1 -> 9 | B19: 18 mois | C19: tee shirt ML bleu et blanc | D19: orchestra | E19: G | F19: 1 | G19: =IF(SUMIFS(vente!D:D,vente!B:B,$E$8,vente!C:C,'2'!A19)=0,"",SUMIFS(vente!D:D,vente!B:B,$E$8,vente!C:C,'2'!A19))
A20: =A19+1 -> 10 | B20: 18 mois | C20: chemise blanche ML | D20: orchestra | E20: G | F20: 1 | G20: =IF(SUMIFS(vente!D:D,vente!B:B,$E$8,vente!C:C,'2'!A20)=0,"",SUMIFS(vente!D:D,vente!B:B,$E$8,vente!C:C,'2'!A20))
A21: =A20+1 -> 11 | B21: 18 mois | C21: tee shirt blanc MC voiture | E21: G | F21: 1 | G21: =IF(SUMIFS(vente!D:D,vente!B:B,$E$8,vente!C:C,'2'!A21)=0,"",SUMIFS(vente!D:D,vente!B:B,$E$8,vente!C:C,'2'!A21))
A22: =A21+1 -> 12 | B22: 18 mois | C22: tee shirt MC blanc "use your imagination" | D22: timberland | E22: G | F22: 1 | G22: =IF(SUMIFS(vente!D:D,vente!B:B,$E$8,vente!C:C,'2'!A22)=0,"",SUMIFS(vente!D:D,vente!B:B,$E$8,vente!C:C,'2'!A22))
A23: =A22+1 -> 13 | B23: 18 mois | C23: tee shirt ML orange et blanc | D23: timberland | E23: G | F23: 1 | G23: =IF(SUMIFS(vente!D:D,vente!B:B,$E$8,vente!C:C,'2'!A23)=0,"",SUMIFS(vente!D:D,vente!B:B,$E$8,vente!C:C,'2'!A23))
A24: =A23+1 -> 14 | B24: 18 mois | C24: ensemble pantalon bordeau et tunique fleurs | D24: u tout petit | E24: F | F24: 2 | G24: =IF(SUMIFS(vente!D:D,vente!B:B,$E$8,vente!C:C,'2'!A24)=0,"",SUMIFS(vente!D:D,vente!B:B,$E$8,vente!C:C,'2'!A24))
A25: =A24+1 -> 15 | B25: 18 mois | C25: salopette longue jean noir | D25: orchestra | E25: G | F25: 1 | G25: =IF(SUMIFS(vente!D:D,vente!B:B,$E$8,vente!C:C,'2'!A25)=0,"",SUMIFS(vente!D:D,vente!B:B,$E$8,vente!C:C,'2'!A25))
A26: =A25+1 -> 16 | B26: 18 mois | C26: ensemble salopette short jean gris clair et tee shirt rayé | D26: terre de marins | E26: G | F26: 2 | G26: =IF(SUMIFS(vente!D:D,vente!B:B,$E$8,vente!C:C,'2'!A26)=0,"",SUMIFS(vente!D:D,vente!B:B,$E$8,vente!C:C,'2'!A26))
A27: =A26+1 -> 17 | B27: 18 mois | C27: tee shirt gris bateau | D27: timberland | E27: G | F27: 1 | G27: =IF(SUMIFS(vente!D:D,vente!B:B,$E$8,vente!C:C,'2'!A27)=0,"",SUMIFS(vente!D:D,vente!B:B,$E$8,vente!C:C,'2'!A27))
A28: =A27+1 -> 18 | B28: 18 mois | C28: ensemble pantalon marron et chemise jaune | D28: tom et kiddy | E28: G | F28: 1 | G28: =IF(SUMIFS(vente!D:D,vente!B:B,$E$8,vente!C:C,'2'!A28)=0,"",SUMIFS(vente!D:D,vente!B:B,$E$8,vente!C:C,'2'!A28))
A29: 19 | B29: 18 mois | C29: polo ML kaki | D29: kidkanai | E29: G | F29: 1 | G29: =IF(SUMIFS(vente!D:D,vente!B:B,$E$8,vente!C:C,'2'!A29)=0,"",SUMIFS(vente!D:D,vente!B:B,$E$8,vente!C:C,'2'!A29))
A30: =A29+1 -> 20 | B30: 18 mois | C30: tee shirt ML blanc "destination bisous" | D30: tape à l'œil | E30: G | F30: 1 | G30: =IF(SUMIFS(vente!D:D,vente!B:B,$E$8,vente!C:C,'2'!A30)=0,"",SUMIFS(vente!D:D,vente!B:B,$E$8,vente!C:C,'2'!A30))
A31: =A30+1 -> 21 | B31: 18 mois | C31: chemise ML blanche rayé marron | D31: orchestra | E31: G | F31: 1 | G31: =IF(SUMIFS(vente!D:D,vente!B:B,$E$8,vente!C:C,'2'!A31)=0,"",SUMIFS(vente!D:D,vente!B:B,$E$8,vente!C:C,'2'!A31))
A32: =A31+1 -> 22 | B32: 18 mois | C32: chemise ML à carreaux marron vert | D32: les p'tits babies | E32: G | F32: 1 | G32: =IF(SUMIFS(vente!D:D,vente!B:B,$E$8,vente!C:C,'2'!A32)=0,"",SUMIFS(vente!D:D,vente!B:B,$E$8,vente!C:C,'2'!A32))
A33: =A32+1 -> 23 | B33: 18 mois | C33: chemise ML rayé bleu clair | D33: jean bourget | E33: G | F33: 1 | G33: =IF(SUMIFS(vente!D:D,vente!B:B,$E$8,vente!C:C,'2'!A33)=0,"",SUMIFS(vente!D:D,vente!B:B,$E$8,vente!C:C,'2'!A33))
A34: =A33+1 -> 24 | B34: 3 mois | C34: Tee shirt ML blanc rayé beige | D34: kitchoun | E34: G | F34: 1 | G34: =IF(SUMIFS(vente!D:D,vente!B:B,$E$8,vente!C:C,'2'!A34)=0,"",SUMIFS(vente!D:D,vente!B:B,$E$8,vente!C:C,'2'!A34))
A35: =A34+1 -> 25 | B35: 3 mois | C35: tee shirt ML blanc manches bleues | D35: u collection | E35: G | F35: 1 | G35: =IF(SUMIFS(vente!D:D,vente!B:B,$E$8,vente!C:C,'2'!A35)=0,"",SUMIFS(vente!D:D,vente!B:B,$E$8,vente!C:C,'2'!A35))
A36: =A35+1 -> 26 | B36: 3 mois | C36: short beige | D36: kitiwatt | E36: G | F36: 1 | G36: =IF(SUMIFS(vente!D:D,vente!B:B,$E$8,vente!C:C,'2'!A36)=0,"",SUMIFS(vente!D:D,vente!B:B,$E$8,vente!C:C,'2'!A36))
A37: =A36+1 -> 27 | B37: 6 mois | C37: salopette short beige | D37: u collection | E37: G | F37: 1 | G37: =IF(SUMIFS(vente!D:D,vente!B:B,$E$8,vente!C:C,'2'!A37)=0,"",SUMIFS(vente!D:D,vente!B:B,$E$8,vente!C:C,'2'!A37))
A38: =A37+1 -> 28 | B38: 6 mois | C38: tee shirt marron | D38: kimbaloo | E38: G | F38: 1 | G38: =IF(SUMIFS(vente!D:D,vente!B:B,$E$8,vente!C:C,'2'!A38)=0,"",SUMIFS(vente!D:D,vente!B:B,$E$8,vente!C:C,'2'!A38))
A39: =A38+1 -> 29 | B39: 6 mois | C39: gilet bleu ciel | E39: G | F39: 1 | G39: =IF(SUMIFS(vente!D:D,vente!B:B,$E$8,vente!C:C,'2'!A39)=0,"",SUMIFS(vente!D:D,vente!B:B,$E$8,vente!C:C,'2'!A39))
A40: =A39+1 -> 30 | B40: 6 mois | C40: tee shirt bleu | D40: timberland | E40: G | F40: 1 | G40: =IF(SUMIFS(vente!D:D,vente!B:B,$E$8,vente!C:C,'2'!A40)=0,"",SUMIFS(vente!D:D,vente!B:B,$E$8,vente!C:C,'2'!A40))
A41: =A40+1 -> 31 | B41: 6 mois | C41: polo marine | D41: timberland | E41: G | F41: 1 | G41: =IF(SUMIFS(vente!D:D,vente!B:B,$E$8,vente!C:C,'2'!A41)=0,"",SUMIFS(vente!D:D,vente!B:B,$E$8,vente!C:C,'2'!A41))
A42: =A41+1 -> 32 | B42: 6 mois | C42: chemise ML à carreaux rouges | D42: hugo boss | E42: G | F42: 1.5 | G42: =IF(SUMIFS(vente!D:D,vente!B:B,$E$8,vente!C:C,'2'!A42)=0,"",SUMIFS(vente!D:D,vente!B:B,$E$8,vente!C:C,'2'!A42))
A43: =A42+1 -> 33 | B43: 6 mois | C43: tee shirt ML blanc | D43: petit pirate | E43: G | F43: 1 | G43: =IF(SUMIFS(vente!D:D,vente!B:B,$E$8,vente!C:C,'2'!A43)=0,"",SUMIFS(vente!D:D,vente!B:B,$E$8,vente!C:C,'2'!A43))
A44: =A43+1 -> 34 | B44: 6 mois | C44: tee shirt bleu baleine | D44: marese | E44: G | F44: 1 | G44: =IF(SUMIFS(vente!D:D,vente!B:B,$E$8,vente!C:C,'2'!A44)=0,"",SUMIFS(vente!D:D,vente!B:B,$E$8,vente!C:C,'2'!A44))
A45: =A44+1 -> 35 | B45: 6 mois | C45: ensemble salopette short rouge et tee shirt | D45: ourson | E45: G | F45: 1.5 | G45: =IF(SUMIFS(vente!D:D,vente!B:B,$E$8,vente!C:C,'2'!A45)=0,"",SUMIFS(vente!D:D,vente!B:B,$E$8,vente!C:C,'2'!A45))
A46: =A45+1 -> 36 | B46: 6 mois | C46: salopette marron | D46: pickouic | E46: G | F46: 1 | G46: =IF(SUMIFS(vente!D:D,vente!B:B,$E$8,vente!C:C,'2'!A46)=0,"",SUMIFS(vente!D:D,vente!B:B,$E$8,vente!C:C,'2'!A46))
A47: =A46+1 -> 37 | B47: 9 mois | C47: tee shirt orange | D47: alphabet | E47: G | F47: 1 | G47: =IF(SUMIFS(vente!D:D,vente!B:B,$E$8,vente!C:C,'2'!A47)=0,"",SUMIFS(vente!D:D,vente!B:B,$E$8,vente!C:C,'2'!A47))
A48: =A47+1 -> 38 | B48: 12 mois | C48: ensemble robe rose et culotte | D48: mini adélie | E48: F | F48: 1.5 | G48: =IF(SUMIFS(vente!D:D,vente!B:B,$E$8,vente!C:C,'2'!A48)=0,"",SUMIFS(vente!D:D,vente!B:B,$E$8,vente!C:C,'2'!A48))
A49: =A48+1 -> 39 | B49: 3 ans | C49: chemise ML grise | D49: orchestra | E49: G | F49: 1 | G49: =IF(SUMIFS(vente!D:D,vente!B:B,$E$8,vente!C:C,'2'!A49)=0,"",SUMIFS(vente!D:D,vente!B:B,$E$8,vente!C:C,'2'!A49))
A50: =A49+1 -> 40 | B50: 3 ans | C50: chemise rayé | D50: orchestra | E50: G | F50: 1 | G50: =IF(SUMIFS(vente!D:D,vente!B:B,$E$8,vente!C:C,'2'!A50)=0,"",SUMIFS(vente!D:D,vente!B:B,$E$8,vente!C:C,'2'!A50))
A51: =A50+1 -> 41 | B51: 8 ans | C51: tee shirt ML beige camion | E51: G | F51: 1 | G51: =IF(SUMIFS(vente!D:D,vente!B:B,$E$8,vente!C:C,'2'!A51)=0,"",SUMIFS(vente!D:D,vente!B:B,$E$8,vente!C:C,'2'!A51))
A52: =A51+1 -> 42 | B52: 10 ans | C52: sweat gris | D52: energetics | E52: G | F52: 2 | G52: =IF(SUMIFS(vente!D:D,vente!B:B,$E$8,vente!C:C,'2'!A52)=0,"",SUMIFS(vente!D:D,vente!B:B,$E$8,vente!C:C,'2'!A52))
A53: =A52+1 -> 43 | B53: 8 ans | C53: tee shirt ML bleu robot | D53: pick ouic | E53: G | F53: 1 | G53: =IF(SUMIFS(vente!D:D,vente!B:B,$E$8,vente!C:C,'2'!A53)=0,"",SUMIFS(vente!D:D,vente!B:B,$E$8,vente!C:C,'2'!A53))
A54: =A53+1 -> 44 | B54: 8 ans | C54: jean bleu | D54: tissaia | E54: G | F54: 1.5 | G54: =IF(SUMIFS(vente!D:D,vente!B:B,$E$8,vente!C:C,'2'!A54)=0,"",SUMIFS(vente!D:D,vente!B:B,$E$8,vente!C:C,'2'!A54))
A55: =A54+1 -> 45 | B55: 18 mois | C55: gilet court blanc | D55: tape à l'œil | E55: F | F55: 1 | G55: =IF(SUMIFS(vente!D:D,vente!B:B,$E$8,vente!C:C,'2'!A55)=0,"",SUMIFS(vente!D:D,vente!B:B,$E$8,vente!C:C,'2'!A55))
A56: =A55+1 -> 46 | B56: 24 mois | C56: gilet rouge | D56: u collection | E56: F | F56: 1 | G56: =IF(SUMIFS(vente!D:D,vente!B:B,$E$8,vente!C:C,'2'!A56)=0,"",SUMIFS(vente!D:D,vente!B:B,$E$8,vente!C:C,'2'!A56))
A57: =A56+1 -> 47 | B57: 23 mois | C57: robe rose winnie l'ourson | D57: disney | E57: F | F57: 1 | G57: =IF(SUMIFS(vente!D:D,vente!B:B,$E$8,vente!C:C,'2'!A57)=0,"",SUMIFS(vente!D:D,vente!B:B,$E$8,vente!C:C,'2'!A57))
A58: =A57+1 -> 48 | B58: 4 ans | C58: pantacourts kaki | E58: G | F58: 1 | G58: =IF(SUMIFS(vente!D:D,vente!B:B,$E$8,vente!C:C,'2'!A58)=0,"",SUMIFS(vente!D:D,vente!B:B,$E$8,vente!C:C,'2'!A58))
A59: =A58+1 -> 49 | B59: 6 ans | C59: gilet sans manche noir | D59: bestway | E59: G | F59: 1 | G59: =IF(SUMIFS(vente!D:D,vente!B:B,$E$8,vente!C:C,'2'!A59)=0,"",SUMIFS(vente!D:D,vente!B:B,$E$8,vente!C:C,'2'!A59))
A60: =A59+1 -> 50 | B60: 6 ans | C60: chemise noir rayé | D60: bestway | E60: G | F60: 1 | G60: =IF(SUMIFS(vente!D:D,vente!B:B,$E$8,vente!C:C,'2'!A60)=0,"",SUMIFS(vente!D:D,vente!B:B,$E$8,vente!C:C,'2'!A60))
A61: =A60+1 -> 51 | B61: 6 ans | C61: short flash mc queen | D61: disney | E61: G | F61: 1 | G61: =IF(SUMIFS(vente!D:D,vente!B:B,$E$8,vente!C:C,'2'!A61)=0,"",SUMIFS(vente!D:D,vente!B:B,$E$8,vente!C:C,'2'!A61))
A62: =A61+1 -> 52 | B62: 5 ans | C62: chemise beige rayé | D62: bestway | E62: G | F62: 1 | G62: =IF(SUMIFS(vente!D:D,vente!B:B,$E$8,vente!C:C,'2'!A62)=0,"",SUMIFS(vente!D:D,vente!B:B,$E$8,vente!C:C,'2'!A62))
A63: =A62+1 -> 53 | B63: 3 ans | C63: short noir motoring 27 | E63: G | F63: 1 | G63: =IF(SUMIFS(vente!D:D,vente!B:B,$E$8,vente!C:C,'2'!A63)=0,"",SUMIFS(vente!D:D,vente!B:B,$E$8,vente!C:C,'2'!A63))
A64: =A63+1 -> 54 | B64: 24 mois | C64: robe salopette grise | D64: u collection | E64: F | F64: 2 | G64: =IF(SUMIFS(vente!D:D,vente!B:B,$E$8,vente!C:C,'2'!A64)=0,"",SUMIFS(vente!D:D,vente!B:B,$E$8,vente!C:C,'2'!A64))
A65: =A64+1 -> 55 | B65: 8 ans | C65: tee-shirt bleu marine | D65: sportway | E65: G | F65: 1 | G65: =IF(SUMIFS(vente!D:D,vente!B:B,$E$8,vente!C:C,'2'!A65)=0,"",SUMIFS(vente!D:D,vente!B:B,$E$8,vente!C:C,'2'!A65))
A66: =A65+1 -> 56 | B66: 8 ans | C66: short gris | D66: u essentiel | E66: G | F66: 2 | G66: =IF(SUMIFS(vente!D:D,vente!B:B,$E$8,vente!C:C,'2'!A66)=0,"",SUMIFS(vente!D:D,vente!B:B,$E$8,vente!C:C,'2'!A66))
A67: =A66+1 -> 57 | G67: =IF(SUMIFS(vente!D:D,vente!B:B,$E$8,vente!C:C,'2'!A67)=0,"",SUMIFS(vente!D:D,vente!B:B,$E$8,vente!C:C,'2'!A67))
A68: =A67+1 -> 58 | G68: =IF(SUMIFS(vente!D:D,vente!B:B,$E$8,vente!C:C,'2'!A68)=0,"",SUMIFS(vente!D:D,vente!B:B,$E$8,vente!C:C,'2'!A68))
A69: =A68+1 -> 59 | G69: =IF(SUMIFS(vente!D:D,vente!B:B,$E$8,vente!C:C,'2'!A69)=0,"",SUMIFS(vente!D:D,vente!B:B,$E$8,vente!C:C,'2'!A69))
A70: =A69+1 -> 60 | G70: =IF(SUMIFS(vente!D:D,vente!B:B,$E$8,vente!C:C,'2'!A70)=0,"",SUMIFS(vente!D:D,vente!B:B,$E$8,vente!C:C,'2'!A70))
D71: Total Ventes | G71: =SUM(G11:G70) -> 0
D72: Prélèvement asso (30%) | G72: =G71*30% -> 0
C73: maximum 60 articles déposés | D73: Total cliente | G73: =G71-G72 -> 0

Sheet 10
B1: Bourse aux vêtements - Accueil et Loisirs - St Fulgent
D3: Nom | E3: A
D4: Prénom
B5: Repris / Non repris | D5: Adresse
D6: Téléphone
D8: N° Client | E8: =MID(CELL("nomfichier",A1),FIND("]",CELL("nomfichier",A1))+1,32) -> 10
A10: N° | B10: Age | C10: Désignation | D10: Marque | E10: sexe | F10: prix | G10: vendu
A11: 1 | B11: 38-40 | C11: chemise de nuit grossesse marron | D11: calinkalin | F11: 1 | G11: =IF(SUMIFS(vente!D:D,vente!B:B,$E$8,vente!C:C,'2'!A11)=0,"",SUMIFS(vente!D:D,vente!B:B,$E$8,vente!C:C,'2'!A11))
A12: =A11+1 -> 2 | B12: M | C12: tunique grossesse grise violette manche 3/4 | D12: piches | F12: 1 | G12: =IF(SUMIFS(vente!D:D,vente!B:B,$E$8,vente!C:C,'2'!A12)=0,"",SUMIFS(vente!D:D,vente!B:B,$E$8,vente!C:C,'2'!A12))
A13: =A12+1 -> 3 | B13: M | C13: pantacourts grossesse blanc | D13: cmp | F13: 1 | G13: =IF(SUMIFS(vente!D:D,vente!B:B,$E$8,vente!C:C,'2'!A13)=0,"",SUMIFS(vente!D:D,vente!B:B,$E$8,vente!C:C,'2'!A13))
A14: =A13+1 -> 4 | B14: M | C14: robe violette manche 3/4 | D14: only | F14: 2 | G14: =IF(SUMIFS(vente!D:D,vente!B:B,$E$8,vente!C:C,'2'!A14)=0,"",SUMIFS(vente!D:D,vente!B:B,$E$8,vente!C:C,'2'!A14))
A15: =A14+1 -> 5 | C15: débardeur grossesse noir | D15: endsky | F15: 1 | G15: =IF(SUMIFS(vente!D:D,vente!B:B,$E$8,vente!C:C,'2'!A15)=0,"",SUMIFS(vente!D:D,vente!B:B,$E$8,vente!C:C,'2'!A15))
A16: =A15+1 -> 6 | B16: 40 | C16: débardeur grossesse imprimé jaune gris bleu | D16: kiabi | F16: 2 | G16: =IF(SUMIFS(vente!D:D,vente!B:B,$E$8,vente!C:C,'2'!A16)=0,"",SUMIFS(vente!D:D,vente!B:B,$E$8,vente!C:C,'2'!A16))
A17: =A16+1 -> 7 | B17: s | C17: chemisier grossesse taupe | D17: only | F17: 2 | G17: =IF(SUMIFS(vente!D:D,vente!B:B,$E$8,vente!C:C,'2'!A17)=0,"",SUMIFS(vente!D:D,vente!B:B,$E$8,vente!C:C,'2'!A17))
A18: =A17+1 -> 8 | B18: 18 mois | C18: pyjama jaune orange vert | D18: orchestra | E18: G | F18: 1 | G18: =IF(SUMIFS(vente!D:D,vente!B:B,$E$8,vente!C:C,'2'!A18)=0,"",SUMIFS(vente!D:D,vente!B:B,$E$8,vente!C:C,'2'!A18))
A19: =A18+1 -> 9 | B19: 18 mois | C19: tee shirt ML bleu et blanc | D19: orchestra | E19: G | F19: 1 | G19: =IF(SUMIFS(vente!D:D,vente!B:B,$E$8,vente!C:C,'2'!A19)=0,"",SUMIFS(vente!D:D,vente!B:B,$E$8,vente!C:C,'2'!A19))
A20: =A19+1 -> 10 | B20: 18 mois | C20: chemise blanche ML | D20: orchestra | E20: G | F20: 1 | G20: =IF(SUMIFS(vente!D:D,vente!B:B,$E$8,vente!C:C,'2'!A20)=0,"",SUMIFS(vente!D:D,vente!B:B,$E$8,vente!C:C,'2'!A20))
A21: =A20+1 -> 11 | B21: 18 mois | C21: tee shirt blanc MC voiture | E21: G | F21: 1 | G21: =IF(SUMIFS(vente!D:D,vente!B:B,$E$8,vente!C:C,'2'!A21)=0,"",SUMIFS(vente!D:D,vente!B:B,$E$8,vente!C:C,'2'!A21))
A22: =A21+1 -> 12 | B22: 18 mois | C22: tee shirt MC blanc "use your imagination" | D22: timberland | E22: G | F22: 1 | G22: =IF(SUMIFS(vente!D:D,vente!B:B,$E$8,vente!C:C,'2'!A22)=0,"",SUMIFS(vente!D:D,vente!B:B,$E$8,vente!C:C,'2'!A22))
A23: =A22+1 -> 13 | B23: 18 mois | C23: tee shirt ML orange et blanc | D23: timberland | E23: G | F23: 1 | G23: =IF(SUMIFS(vente!D:D,vente!B:B,$E$8,vente!C:C,'2'!A23)=0,"",SUMIFS(vente!D:D,vente!B:B,$E$8,vente!C:C,'2'!A23))
A24: =A23+1 -> 14 | B24: 18 mois | C24: ensemble pantalon bordeau et tunique fleurs | D24: u tout petit | E24: F | F24: 2 | G24: =IF(SUMIFS(vente!D:D,vente!B:B,$E$8,vente!C:C,'2'!A24)=0,"",SUMIFS(vente!D:D,vente!B:B,$E$8,vente!C:C,'2'!A24))
A25: =A24+1 -> 15 | B25: 18 mois | C25: salopette longue jean noir | D25: orchestra | E25: G | F25: 1 | G25: =IF(SUMIFS(vente!D:D,vente!B:B,$E$8,vente!C:C,'2'!A25)=0,"",SUMIFS(vente!D:D,vente!B:B,$E$8,vente!C:C,'2'!A25))
A26: =A25+1 -> 16 | B26: 18 mois | C26: ensemble salopette short jean gris clair et tee shirt rayé | D26: terre de marins | E26: G | F26: 2 | G26: =IF(SUMIFS(vente!D:D,vente!B:B,$E$8,vente!C:C,'2'!A26)=0,"",SUMIFS(vente!D:D,vente!B:B,$E$8,vente!C:C,'2'!A26))
A27: =A26+1 -> 17 | B27: 18 mois | C27: tee shirt gris bateau | D27: timberland | E27: G | F27: 1 | G27: =IF(SUMIFS(vente!D:D,vente!B:B,$E$8,vente!C:C,'2'!A27)=0,"",SUMIFS(vente!D:D,vente!B:B,$E$8,vente!C:C,'2'!A27))
A28: =A27+1 -> 18 | B28: 18 mois | C28: ensemble pantalon marron et chemise jaune | D28: tom et kiddy | E28: G | F28: 1 | G28: =IF(SUMIFS(vente!D:D,vente!B:B,$E$8,vente!C:C,'2'!A28)=0,"",SUMIFS(vente!D:D,vente!B:B,$E$8,vente!C:C,'2'!A28))
A29: 19 | B29: 18 mois | C29: polo ML kaki | D29: kidkanai | E29: G | F29: 1 | G29: =IF(SUMIFS(vente!D:D,vente!B:B,$E$8,vente!C:C,'2'!A29)=0,"",SUMIFS(vente!D:D,vente!B:B,$E$8,vente!C:C,'2'!A29))
A30: =A29+1 -> 20 | B30: 18 mois | C30: tee shirt ML blanc "destination bisous" | D30: tape à l'œil | E30: G | F30: 1 | G30: =IF(SUMIFS(vente!D:D,vente!B:B,$E$8,vente!C:C,'2'!A30)=0,"",SUMIFS(vente!D:D,vente!B:B,$E$8,vente!C:C,'2'!A30))
A31: =A30+1 -> 21 | B31: 18 mois | C31: chemise ML blanche rayé marron | D31: orchestra | E31: G | F31: 1 | G31: =IF(SUMIFS(vente!D:D,vente!B:B,$E$8,vente!C:C,'2'!A31)=0,"",SUMIFS(vente!D:D,vente!B:B,$E$8,vente!C:C,'2'!A31))
A32: =A31+1 -> 22 | B32: 18 mois | C32: chemise ML à carreaux marron vert | D32: les p'tits babies | E32: G | F32: 1 | G32: =IF(SUMIFS(vente!D:D,vente!B:B,$E$8,vente!C:C,'2'!A32)=0,"",SUMIFS(vente!D:D,vente!B:B,$E$8,vente!C:C,'2'!A32))
A33: =A32+1 -> 23 | B33: 18 mois | C33: chemise ML rayé bleu clair | D33: jean bourget | E33: G | F33: 1 | G33: =IF(SUMIFS(vente!D:D,vente!B:B,$E$8,vente!C:C,'2'!A33)=0,"",SUMIFS(vente!D:D,vente!B:B,$E$8,vente!C:C,'2'!A33))
A34: =A33+1 -> 24 | B34: 3 mois | C34: Tee shirt ML blanc rayé beige | D34: kitchoun | E34: G | F34: 1 | G34: =IF(SUMIFS(vente!D:D,vente!B:B,$E$8,vente!C:C,'2'!A34)=0,"",SUMIFS(vente!D:D,vente!B:B,$E$8,vente!C:C,'2'!A34))
A35: =A34+1 -> 25 | B35: 3 mois | C35: tee shirt ML blanc manches bleues | D35: u collection | E35: G | F35: 1 | G35: =IF(SUMIFS(vente!D:D,vente!B:B,$E$8,vente!C:C,'2'!A35)=0,"",SUMIFS(vente!D:D,vente!B:B,$E$8,vente!C:C,'2'!A35))
A36: =A35+1 -> 26 | B36: 3 mois | C36: short beige | D36: kitiwatt | E36: G | F36: 1 | G36: =IF(SUMIFS(vente!D:D,vente!B:B,$E$8,vente!C:C,'2'!A36)=0,"",SUMIFS(vente!D:D,vente!B:B,$E$8,vente!C:C,'2'!A36))
A37: =A36+1 -> 27 | B37: 6 mois | C37: salopette short beige | D37: u collection | E37: G | F37: 1 | G37: =IF(SUMIFS(vente!D:D,vente!B:B,$E$8,vente!C:C,'2'!A37)=0,"",SUMIFS(vente!D:D,vente!B:B,$E$8,vente!C:C,'2'!A37))
A38: =A37+1 -> 28 | B38: 6 mois | C38: tee shirt marron | D38: kimbaloo | E38: G | F38: 1 | G38: =IF(SUMIFS(vente!D:D,vente!B:B,$E$8,vente!C:C,'2'!A38)=0,"",SUMIFS(vente!D:D,vente!B:B,$E$8,vente!C:C,'2'!A38))
A39: =A38+1 -> 29 | B39: 6 mois | C39: gilet bleu ciel | E39: G | F39: 1 | G39: =IF(SUMIFS(vente!D:D,vente!B:B,$E$8,vente!C:C,'2'!A39)=0,"",SUMIFS(vente!D:D,vente!B:B,$E$8,vente!C:C,'2'!A39))
A40: =A39+1 -> 30 | B40: 6 mois | C40: tee shirt bleu | D40: timberland | E40: G | F40: 1 | G40: =IF(SUMIFS(vente!D:D,vente!B:B,$E$8,vente!C:C,'2'!A40)=0,"",SUMIFS(vente!D:D,vente!B:B,$E$8,vente!C:C,'2'!A40))
A41: =A40+1 -> 31 | B41: 6 mois | C41: polo marine | D41: timberland | E41: G | F41: 1 | G41: =IF(SUMIFS(vente!D:D,vente!B:B,$E$8,vente!C:C,'2'!A41)=0,"",SUMIFS(vente!D:D,vente!B:B,$E$8,vente!C:C,'2'!A41))
A42: =A41+1 -> 32 | B42: 6 mois | C42: chemise ML à carreaux rouges | D42: hugo boss | E42: G | F42: 1.5 | G42: =IF(SUMIFS(vente!D:D,vente!B:B,$E$8,vente!C:C,'2'!A42)=0,"",SUMIFS(vente!D:D,vente!B:B,$E$8,vente!C:C,'2'!A42))
A43: =A42+1 -> 33 | B43: 6 mois | C43: tee shirt ML blanc | D43: petit pirate | E43: G | F43: 1 | G43: =IF(SUMIFS(vente!D:D,vente!B:B,$E$8,vente!C:C,'2'!A43)=0,"",SUMIFS(vente!D:D,vente!B:B,$E$8,vente!C:C,'2'!A43))
A44: =A43+1 -> 34 | B44: 6 mois | C44: tee shirt bleu baleine | D44: marese | E44: G | F44: 1 | G44: =IF(SUMIFS(vente!D:D,vente!B:B,$E$8,vente!C:C,'2'!A44)=0,"",SUMIFS(vente!D:D,vente!B:B,$E$8,vente!C:C,'2'!A44))
A45: =A44+1 -> 35 | B45: 6 mois | C45: ensemble salopette short rouge et tee shirt | D45: ourson | E45: G | F45: 1.5 | G45: =IF(SUMIFS(vente!D:D,vente!B:B,$E$8,vente!C:C,'2'!A45)=0,"",SUMIFS(vente!D:D,vente!B:B,$E$8,vente!C:C,'2'!A45))
A46: =A45+1 -> 36 | B46: 6 mois | C46: salopette marron | D46: pickouic | E46: G | F46: 1 | G46: =IF(SUMIFS(vente!D:D,vente!B:B,$E$8,vente!C:C,'2'!A46)=0,"",SUMIFS(vente!D:D,vente!B:B,$E$8,vente!C:C,'2'!A46))
A47: =A46+1 -> 37 | B47: 9 mois | C47: tee shirt orange | D47: alphabet | E47: G | F47: 1 | G47: =IF(SUMIFS(vente!D:D,vente!B:B,$E$8,vente!C:C,'2'!A47)=0,"",SUMIFS(vente!D:D,vente!B:B,$E$8,vente!C:C,'2'!A47))
A48: =A47+1 -> 38 | B48: 12 mois | C48: ensemble robe rose et culotte | D48: mini adélie | E48: F | F48: 1.5 | G48: =IF(SUMIFS(vente!D:D,vente!B:B,$E$8,vente!C:C,'2'!A48)=0,"",SUMIFS(vente!D:D,vente!B:B,$E$8,vente!C:C,'2'!A48))
A49: =A48+1 -> 39 | B49: 3 ans | C49: chemise ML grise | D49: orchestra | E49: G | F49: 1 | G49: =IF(SUMIFS(vente!D:D,vente!B:B,$E$8,vente!C:C,'2'!A49)=0,"",SUMIFS(vente!D:D,vente!B:B,$E$8,vente!C:C,'2'!A49))
A50: =A49+1 -> 40 | B50: 3 ans | C50: chemise rayé | D50: orchestra | E50: G | F50: 1 | G50: =IF(SUMIFS(vente!D:D,vente!B:B,$E$8,vente!C:C,'2'!A50)=0,"",SUMIFS(vente!D:D,vente!B:B,$E$8,vente!C:C,'2'!A50))
A51: =A50+1 -> 41 | B51: 8 ans | C51: tee shirt ML beige camion | E51: G | F51: 1 | G51: =IF(SUMIFS(vente!D:D,vente!B:B,$E$8,vente!C:C,'2'!A51)=0,"",SUMIFS(vente!D:D,vente!B:B,$E$8,vente!C:C,'2'!A51))
A52: =A51+1 -> 42 | B52: 10 ans | C52: sweat gris | D52: energetics | E52: G | F52: 2 | G52: =IF(SUMIFS(vente!D:D,vente!B:B,$E$8,vente!C:C,'2'!A52)=0,"",SUMIFS(vente!D:D,vente!B:B,$E$8,vente!C:C,'2'!A52))
A53: =A52+1 -> 43 | B53: 8 ans | C53: tee shirt ML bleu robot | D53: pick ouic | E53: G | F53: 1 | G53: =IF(SUMIFS(vente!D:D,vente!B:B,$E$8,vente!C:C,'2'!A53)=0,"",SUMIFS(vente!D:D,vente!B:B,$E$8,vente!C:C,'2'!A53))
A54: =A53+1 -> 44 | B54: 8 ans | C54: jean bleu | D54: tissaia | E54: G | F54: 1.5 | G54: =IF(SUMIFS(vente!D:D,vente!B:B,$E$8,vente!C:C,'2'!A54)=0,"",SUMIFS(vente!D:D,vente!B:B,$E$8,vente!C:C,'2'!A54))
A55: =A54+1 -> 45 | B55: 18 mois | C55: gilet court blanc | D55: tape à l'œil | E55: F | F55: 1 | G55: =IF(SUMIFS(vente!D:D,vente!B:B,$E$8,vente!C:C,'2'!A55)=0,"",SUMIFS(vente!D:D,vente!B:B,$E$8,vente!C:C,'2'!A55))
A56: =A55+1 -> 46 | B56: 24 mois | C56: gilet rouge | D56: u collection | E56: F | F56: 1 | G56: =IF(SUMIFS(vente!D:D,vente!B:B,$E$8,vente!C:C,'2'!A56)=0,"",SUMIFS(vente!D:D,vente!B:B,$E$8,vente!C:C,'2'!A56))
A57: =A56+1 -> 47 | B57: 23 mois | C57: robe rose winnie l'ourson | D57: disney | E57: F | F57: 1 | G57: =IF(SUMIFS(vente!D:D,vente!B:B,$E$8,vente!C:C,'2'!A57)=0,"",SUMIFS(vente!D:D,vente!B:B,$E$8,vente!C:C,'2'!A57))
A58: =A57+1 -> 48 | B58: 4 ans | C58: pantacourts kaki | E58: G | F58: 1 | G58: =IF(SUMIFS(vente!D:D,vente!B:B,$E$8,vente!C:C,'2'!A58)=0,"",SUMIFS(vente!D:D,vente!B:B,$E$8,vente!C:C,'2'!A58))
A59: =A58+1 -> 49 | B59: 6 ans | C59: gilet sans manche noir | D59: bestway | E59: G | F59: 1 | G59: =IF(SUMIFS(vente!D:D,vente!B:B,$E$8,vente!C:C,'2'!A59)=0,"",SUMIFS(vente!D:D,vente!B:B,$E$8,vente!C:C,'2'!A59))
A60: =A59+1 -> 50 | B60: 6 ans | C60: chemise noir rayé | D60: bestway | E60: G | F60: 1 | G60: =IF(SUMIFS(vente!D:D,vente!B:B,$E$8,vente!C:C,'2'!A60)=0,"",SUMIFS(vente!D:D,vente!B:B,$E$8,vente!C:C,'2'!A60))
A61: =A60+1 -> 51 | B61: 6 ans | C61: short flash mc queen | D61: disney | E61: G | F61: 1 | G61: =IF(SUMIFS(vente!D:D,vente!B:B,$E$8,vente!C:C,'2'!A61)=0,"",SUMIFS(vente!D:D,vente!B:B,$E$8,vente!C:C,'2'!A61))
A62: =A61+1 -> 52 | B62: 5 ans | C62: chemise beige rayé | D62: bestway | E62: G | F62: 1 | G62: =IF(SUMIFS(vente!D:D,vente!B:B,$E$8,vente!C:C,'2'!A62)=0,"",SUMIFS(vente!D:D,vente!B:B,$E$8,vente!C:C,'2'!A62))
A63: =A62+1 -> 53 | B63: 3 ans | C63: short noir motoring 27 | E63: G | F63: 1 | G63: =IF(SUMIFS(vente!D:D,vente!B:B,$E$8,vente!C:C,'2'!A63)=0,"",SUMIFS(vente!D:D,vente!B:B,$E$8,vente!C:C,'2'!A63))
A64: =A63+1 -> 54 | B64: 24 mois | C64: robe salopette grise | D64: u collection | E64: F | F64: 2 | G64: =IF(SUMIFS(vente!D:D,vente!B:B,$E$8,vente!C:C,'2'!A64)=0,"",SUMIFS(vente!D:D,vente!B:B,$E$8,vente!C:C,'2'!A64))
A65: =A64+1 -> 55 | B65: 8 ans | C65: tee-shirt bleu marine | D65: sportway | E65: G | F65: 1 | G65: =IF(SUMIFS(vente!D:D,vente!B:B,$E$8,vente!C:C,'2'!A65)=0,"",SUMIFS(vente!D:D,vente!B:B,$E$8,vente!C:C,'2'!A65))
A66: =A65+1 -> 56 | B66: 8 ans | C66: short gris | D66: u essentiel | E66: G | F66: 2 | G66: =IF(SUMIFS(vente!D:D,vente!B:B,$E$8,vente!C:C,'2'!A66)=0,"",SUMIFS(vente!D:D,vente!B:B,$E$8,vente!C:C,'2'!A66))
A67: =A66+1 -> 57 | G67: =IF(SUMIFS(vente!D:D,vente!B:B,$E$8,vente!C:C,'2'!A67)=0,"",SUMIFS(vente!D:D,vente!B:B,$E$8,vente!C:C,'2'!A67))
A68: =A67+1 -> 58 | G68: =IF(SUMIFS(vente!D:D,vente!B:B,$E$8,vente!C:C,'2'!A68)=0,"",SUMIFS(vente!D:D,vente!B:B,$E$8,vente!C:C,'2'!A68))
A69: =A68+1 -> 59 | G69: =IF(SUMIFS(vente!D:D,vente!B:B,$E$8,vente!C:C,'2'!A69)=0,"",SUMIFS(vente!D:D,vente!B:B,$E$8,vente!C:C,'2'!A69))
A70: =A69+1 -> 60 | G70: =IF(SUMIFS(vente!D:D,vente!B:B,$E$8,vente!C:C,'2'!A70)=0,"",SUMIFS(vente!D:D,vente!B:B,$E$8,vente!C:C,'2'!A70))
D71: Total Ventes | G71: =SUM(G11:G70) -> 0
D72: Prélèvement asso (30%) | G72: =G71*30% -> 0
C73: maximum 60 articles déposés | D73: Total cliente | G73: =G71-G72 -> 0

Sheet 11
B1: Bourse aux vêtements - Accueil et Loisirs - St Fulgent
D3: Nom | E3: A
D4: Prénom
B5: Repris / Non repris | D5: Adresse
D6: Téléphone
D8: N° Client | E8: =MID(CELL("nomfichier",A1),FIND("]",CELL("nomfichier",A1))+1,32) -> 11
A10: N° | B10: Age | C10: Désignation | D10: Marque | E10: sexe | F10: prix | G10: vendu
A11: 1 | B11: 38-40 | C11: chemise de nuit grossesse marron | D11: calinkalin | F11: 1 | G11: =IF(SUMIFS(vente!D:D,vente!B:B,$E$8,vente!C:C,'2'!A11)=0,"",SUMIFS(vente!D:D,vente!B:B,$E$8,vente!C:C,'2'!A11))
A12: =A11+1 -> 2 | B12: M | C12: tunique grossesse grise violette manche 3/4 | D12: piches | F12: 1 | G12: =IF(SUMIFS(vente!D:D,vente!B:B,$E$8,vente!C:C,'2'!A12)=0,"",SUMIFS(vente!D:D,vente!B:B,$E$8,vente!C:C,'2'!A12))
A13: =A12+1 -> 3 | B13: M | C13: pantacourts grossesse blanc | D13: cmp | F13: 1 | G13: =IF(SUMIFS(vente!D:D,vente!B:B,$E$8,vente!C:C,'2'!A13)=0,"",SUMIFS(vente!D:D,vente!B:B,$E$8,vente!C:C,'2'!A13))
A14: =A13+1 -> 4 | B14: M | C14: robe violette manche 3/4 | D14: only | F14: 2 | G14: =IF(SUMIFS(vente!D:D,vente!B:B,$E$8,vente!C:C,'2'!A14)=0,"",SUMIFS(vente!D:D,vente!B:B,$E$8,vente!C:C,'2'!A14))
A15: =A14+1 -> 5 | C15: débardeur grossesse noir | D15: endsky | F15: 1 | G15: =IF(SUMIFS(vente!D:D,vente!B:B,$E$8,vente!C:C,'2'!A15)=0,"",SUMIFS(vente!D:D,vente!B:B,$E$8,vente!C:C,'2'!A15))
A16: =A15+1 -> 6 | B16: 40 | C16: débardeur grossesse imprimé jaune gris bleu | D16: kiabi | F16: 2 | G16: =IF(SUMIFS(vente!D:D,vente!B:B,$E$8,vente!C:C,'2'!A16)=0,"",SUMIFS(vente!D:D,vente!B:B,$E$8,vente!C:C,'2'!A16))
A17: =A16+1 -> 7 | B17: s | C17: chemisier grossesse taupe | D17: only | F17: 2 | G17: =IF(SUMIFS(vente!D:D,vente!B:B,$E$8,vente!C:C,'2'!A17)=0,"",SUMIFS(vente!D:D,vente!B:B,$E$8,vente!C:C,'2'!A17))
A18: =A17+1 -> 8 | B18: 18 mois | C18: pyjama jaune orange vert | D18: orchestra | E18: G | F18: 1 | G18: =IF(SUMIFS(vente!D:D,vente!B:B,$E$8,vente!C:C,'2'!A18)=0,"",SUMIFS(vente!D:D,vente!B:B,$E$8,vente!C:C,'2'!A18))
A19: =A18+1 -> 9 | B19: 18 mois | C19: tee shirt ML bleu et blanc | D19: orchestra | E19: G | F19: 1 | G19: =IF(SUMIFS(vente!D:D,vente!B:B,$E$8,vente!C:C,'2'!A19)=0,"",SUMIFS(vente!D:D,vente!B:B,$E$8,vente!C:C,'2'!A19))
A20: =A19+1 -> 10 | B20: 18 mois | C20: chemise blanche ML | D20: orchestra | E20: G | F20: 1 | G20: =IF(SUMIFS(vente!D:D,vente!B:B,$E$8,vente!C:C,'2'!A20)=0,"",SUMIFS(vente!D:D,vente!B:B,$E$8,vente!C:C,'2'!A20))
A21: =A20+1 -> 11 | B21: 18 mois | C21: tee shirt blanc MC voiture | E21: G | F21: 1 | G21: =IF(SUMIFS(vente!D:D,vente!B:B,$E$8,vente!C:C,'2'!A21)=0,"",SUMIFS(vente!D:D,vente!B:B,$E$8,vente!C:C,'2'!A21))
A22: =A21+1 -> 12 | B22: 18 mois | C22: tee shirt MC blanc "use your imagination" | D22: timberland | E22: G | F22: 1 | G22: =IF(SUMIFS(vente!D:D,vente!B:B,$E$8,vente!C:C,'2'!A22)=0,"",SUMIFS(vente!D:D,vente!B:B,$E$8,vente!C:C,'2'!A22))
A23: =A22+1 -> 13 | B23: 18 mois | C23: tee shirt ML orange et blanc | D23: timberland | E23: G | F23: 1 | G23: =IF(SUMIFS(vente!D:D,vente!B:B,$E$8,vente!C:C,'2'!A23)=0,"",SUMIFS(vente!D:D,vente!B:B,$E$8,vente!C:C,'2'!A23))
A24: =A23+1 -> 14 | B24: 18 mois | C24: ensemble pantalon bordeau et tunique fleurs | D24: u tout petit | E24: F | F24: 2 | G24: =IF(SUMIFS(vente!D:D,vente!B:B,$E$8,vente!C:C,'2'!A24)=0,"",SUMIFS(vente!D:D,vente!B:B,$E$8,vente!C:C,'2'!A24))
A25: =A24+1 -> 15 | B25: 18 mois | C25: salopette longue jean noir | D25: orchestra | E25: G | F25: 1 | G25: =IF(SUMIFS(vente!D:D,vente!B:B,$E$8,vente!C:C,'2'!A25)=0,"",SUMIFS(vente!D:D,vente!B:B,$E$8,vente!C:C,'2'!A25))
A26: =A25+1 -> 16 | B26: 18 mois | C26: ensemble salopette short jean gris clair et tee shirt rayé | D26: terre de marins | E26: G | F26: 2 | G26: =IF(SUMIFS(vente!D:D,vente!B:B,$E$8,vente!C:C,'2'!A26)=0,"",SUMIFS(vente!D:D,vente!B:B,$E$8,vente!C:C,'2'!A26))
A27: =A26+1 -> 17 | B27: 18 mois | C27: tee shirt gris bateau | D27: timberland | E27: G | F27: 1 | G27: =IF(SUMIFS(vente!D:D,vente!B:B,$E$8,vente!C:C,'2'!A27)=0,"",SUMIFS(vente!D:D,vente!B:B,$E$8,vente!C:C,'2'!A27))
A28: =A27+1 -> 18 | B28: 18 mois | C28: ensemble pantalon marron et chemise jaune | D28: tom et kiddy | E28: G | F28: 1 | G28: =IF(SUMIFS(vente!D:D,vente!B:B,$E$8,vente!C:C,'2'!A28)=0,"",SUMIFS(vente!D:D,vente!B:B,$E$8,vente!C:C,'2'!A28))
A29: 19 | B29: 18 mois | C29: polo ML kaki | D29: kidkanai | E29: G | F29: 1 | G29: =IF(SUMIFS(vente!D:D,vente!B:B,$E$8,vente!C:C,'2'!A29)=0,"",SUMIFS(vente!D:D,vente!B:B,$E$8,vente!C:C,'2'!A29))
A30: =A29+1 -> 20 | B30: 18 mois | C30: tee shirt ML blanc "destination bisous" | D30: tape à l'œil | E30: G | F30: 1 | G30: =IF(SUMIFS(vente!D:D,vente!B:B,$E$8,vente!C:C,'2'!A30)=0,"",SUMIFS(vente!D:D,vente!B:B,$E$8,vente!C:C,'2'!A30))
A31: =A30+1 -> 21 | B31: 18 mois | C31: chemise ML blanche rayé marron | D31: orchestra | E31: G | F31: 1 | G31: =IF(SUMIFS(vente!D:D,vente!B:B,$E$8,vente!C:C,'2'!A31)=0,"",SUMIFS(vente!D:D,vente!B:B,$E$8,vente!C:C,'2'!A31))
A32: =A31+1 -> 22 | B32: 18 mois | C32: chemise ML à carreaux marron vert | D32: les p'tits babies | E32: G | F32: 1 | G32: =IF(SUMIFS(vente!D:D,vente!B:B,$E$8,vente!C:C,'2'!A32)=0,"",SUMIFS(vente!D:D,vente!B:B,$E$8,vente!C:C,'2'!A32))
A33: =A32+1 -> 23 | B33: 18 mois | C33: chemise ML rayé bleu clair | D33: jean bourget | E33: G | F33: 1 | G33: =IF(SUMIFS(vente!D:D,vente!B:B,$E$8,vente!C:C,'2'!A33)=0,"",SUMIFS(vente!D:D,vente!B:B,$E$8,vente!C:C,'2'!A33))
A34: =A33+1 -> 24 | B34: 3 mois | C34: Tee shirt ML blanc rayé beige | D34: kitchoun | E34: G | F34: 1 | G34: =IF(SUMIFS(vente!D:D,vente!B:B,$E$8,vente!C:C,'2'!A34)=0,"",SUMIFS(vente!D:D,vente!B:B,$E$8,vente!C:C,'2'!A34))
A35: =A34+1 -> 25 | B35: 3 mois | C35: tee shirt ML blanc manches bleues | D35: u collection | E35: G | F35: 1 | G35: =IF(SUMIFS(vente!D:D,vente!B:B,$E$8,vente!C:C,'2'!A35)=0,"",SUMIFS(vente!D:D,vente!B:B,$E$8,vente!C:C,'2'!A35))
A36: =A35+1 -> 26 | B36: 3 mois | C36: short beige | D36: kitiwatt | E36: G | F36: 1 | G36: =IF(SUMIFS(vente!D:D,vente!B:B,$E$8,vente!C:C,'2'!A36)=0,"",SUMIFS(vente!D:D,vente!B:B,$E$8,vente!C:C,'2'!A36))
A37: =A36+1 -> 27 | B37: 6 mois | C37: salopette short beige | D37: u collection | E37: G | F37: 1 | G37: =IF(SUMIFS(vente!D:D,vente!B:B,$E$8,vente!C:C,'2'!A37)=0,"",SUMIFS(vente!D:D,vente!B:B,$E$8,vente!C:C,'2'!A37))
A38: =A37+1 -> 28 | B38: 6 mois | C38: tee shirt marron | D38: kimbaloo | E38: G | F38: 1 | G38: =IF(SUMIFS(vente!D:D,vente!B:B,$E$8,vente!C:C,'2'!A38)=0,"",SUMIFS(vente!D:D,vente!B:B,$E$8,vente!C:C,'2'!A38))
A39: =A38+1 -> 29 | B39: 6 mois | C39: gilet bleu ciel | E39: G | F39: 1 | G39: =IF(SUMIFS(vente!D:D,vente!B:B,$E$8,vente!C:C,'2'!A39)=0,"",SUMIFS(vente!D:D,vente!B:B,$E$8,vente!C:C,'2'!A39))
A40: =A39+1 -> 30 | B40: 6 mois | C40: tee shirt bleu | D40: timberland | E40: G | F40: 1 | G40: =IF(SUMIFS(vente!D:D,vente!B:B,$E$8,vente!C:C,'2'!A40)=0,"",SUMIFS(vente!D:D,vente!B:B,$E$8,vente!C:C,'2'!A40))
A41: =A40+1 -> 31 | B41: 6 mois | C41: polo marine | D41: timberland | E41: G | F41: 1 | G41: =IF(SUMIFS(vente!D:D,vente!B:B,$E$8,vente!C:C,'2'!A41)=0,"",SUMIFS(vente!D:D,vente!B:B,$E$8,vente!C:C,'2'!A41))
A42: =A41+1 -> 32 | B42: 6 mois | C42: chemise ML à carreaux rouges | D42: hugo boss | E42: G | F42: 1.5 | G42: =IF(SUMIFS(vente!D:D,vente!B:B,$E$8,vente!C:C,'2'!A42)=0,"",SUMIFS(vente!D:D,vente!B:B,$E$8,vente!C:C,'2'!A42))
A43: =A42+1 -> 33 | B43: 6 mois | C43: tee shirt ML blanc | D43: petit pirate | E43: G | F43: 1 | G43: =IF(SUMIFS(vente!D:D,vente!B:B,$E$8,vente!C:C,'2'!A43)=0,"",SUMIFS(vente!D:D,vente!B:B,$E$8,vente!C:C,'2'!A43))
A44: =A43+1 -> 34 | B44: 6 mois | C44: tee shirt bleu baleine | D44: marese | E44: G | F44: 1 | G44: =IF(SUMIFS(vente!D:D,vente!B:B,$E$8,vente!C:C,'2'!A44)=0,"",SUMIFS(vente!D:D,vente!B:B,$E$8,vente!C:C,'2'!A44))
A45: =A44+1 -> 35 | B45: 6 mois | C45: ensemble salopette short rouge et tee shirt | D45: ourson | E45: G | F45: 1.5 | G45: =IF(SUMIFS(vente!D:D,vente!B:B,$E$8,vente!C:C,'2'!A45)=0,"",SUMIFS(vente!D:D,vente!B:B,$E$8,vente!C:C,'2'!A45))
A46: =A45+1 -> 36 | B46: 6 mois | C46: salopette marron | D46: pickouic | E46: G | F46: 1 | G46: =IF(SUMIFS(vente!D:D,vente!B:B,$E$8,vente!C:C,'2'!A46)=0,"",SUMIFS(vente!D:D,vente!B:B,$E$8,vente!C:C,'2'!A46))
A47: =A46+1 -> 37 | B47: 9 mois | C47: tee shirt orange | D47: alphabet | E47: G | F47: 1 | G47: =IF(SUMIFS(vente!D:D,vente!B:B,$E$8,vente!C:C,'2'!A47)=0,"",SUMIFS(vente!D:D,vente!B:B,$E$8,vente!C:C,'2'!A47))
A48: =A47+1 -> 38 | B48: 12 mois | C48: ensemble robe rose et culotte | D48: mini adélie | E48: F | F48: 1.5 | G48: =IF(SUMIFS(vente!D:D,vente!B:B,$E$8,vente!C:C,'2'!A48)=0,"",SUMIFS(vente!D:D,vente!B:B,$E$8,vente!C:C,'2'!A48))
A49: =A48+1 -> 39 | B49: 3 ans | C49: chemise ML grise | D49: orchestra | E49: G | F49: 1 | G49: =IF(SUMIFS(vente!D:D,vente!B:B,$E$8,vente!C:C,'2'!A49)=0,"",SUMIFS(vente!D:D,vente!B:B,$E$8,vente!C:C,'2'!A49))
A50: =A49+1 -> 40 | B50: 3 ans | C50: chemise rayé | D50: orchestra | E50: G | F50: 1 | G50: =IF(SUMIFS(vente!D:D,vente!B:B,$E$8,vente!C:C,'2'!A50)=0,"",SUMIFS(vente!D:D,vente!B:B,$E$8,vente!C:C,'2'!A50))
A51: =A50+1 -> 41 | B51: 8 ans | C51: tee shirt ML beige camion | E51: G | F51: 1 | G51: =IF(SUMIFS(vente!D:D,vente!B:B,$E$8,vente!C:C,'2'!A51)=0,"",SUMIFS(vente!D:D,vente!B:B,$E$8,vente!C:C,'2'!A51))
A52: =A51+1 -> 42 | B52: 10 ans | C52: sweat gris | D52: energetics | E52: G | F52: 2 | G52: =IF(SUMIFS(vente!D:D,vente!B:B,$E$8,vente!C:C,'2'!A52)=0,"",SUMIFS(vente!D:D,vente!B:B,$E$8,vente!C:C,'2'!A52))
A53: =A52+1 -> 43 | B53: 8 ans | C53: tee shirt ML bleu robot | D53: pick ouic | E53: G | F53: 1 | G53: =IF(SUMIFS(vente!D:D,vente!B:B,$E$8,vente!C:C,'2'!A53)=0,"",SUMIFS(vente!D:D,vente!B:B,$E$8,vente!C:C,'2'!A53))
A54: =A53+1 -> 44 | B54: 8 ans | C54: jean bleu | D54: tissaia | E54: G | F54: 1.5 | G54: =IF(SUMIFS(vente!D:D,vente!B:B,$E$8,vente!C:C,'2'!A54)=0,"",SUMIFS(vente!D:D,vente!B:B,$E$8,vente!C:C,'2'!A54))
A55: =A54+1 -> 45 | B55: 18 mois | C55: gilet court blanc | D55: tape à l'œil | E55: F | F55: 1 | G55: =IF(SUMIFS(vente!D:D,vente!B:B,$E$8,vente!C:C,'2'!A55)=0,"",SUMIFS(vente!D:D,vente!B:B,$E$8,vente!C:C,'2'!A55))
A56: =A55+1 -> 46 | B56: 24 mois | C56: gilet rouge | D56: u collection | E56: F | F56: 1 | G56: =IF(SUMIFS(vente!D:D,vente!B:B,$E$8,vente!C:C,'2'!A56)=0,"",SUMIFS(vente!D:D,vente!B:B,$E$8,vente!C:C,'2'!A56))
A57: =A56+1 -> 47 | B57: 23 mois | C57: robe rose winnie l'ourson | D57: disney | E57: F | F57: 1 | G57: =IF(SUMIFS(vente!D:D,vente!B:B,$E$8,vente!C:C,'2'!A57)=0,"",SUMIFS(vente!D:D,vente!B:B,$E$8,vente!C:C,'2'!A57))
A58: =A57+1 -> 48 | B58: 4 ans | C58: pantacourts kaki | E58: G | F58: 1 | G58: =IF(SUMIFS(vente!D:D,vente!B:B,$E$8,vente!C:C,'2'!A58)=0,"",SUMIFS(vente!D:D,vente!B:B,$E$8,vente!C:C,'2'!A58))
A59: =A58+1 -> 49 | B59: 6 ans | C59: gilet sans manche noir | D59: bestway | E59: G | F59: 1 | G59: =IF(SUMIFS(vente!D:D,vente!B:B,$E$8,vente!C:C,'2'!A59)=0,"",SUMIFS(vente!D:D,vente!B:B,$E$8,vente!C:C,'2'!A59))
A60: =A59+1 -> 50 | B60: 6 ans | C60: chemise noir rayé | D60: bestway | E60: G | F60: 1 | G60: =IF(SUMIFS(vente!D:D,vente!B:B,$E$8,vente!C:C,'2'!A60)=0,"",SUMIFS(vente!D:D,vente!B:B,$E$8,vente!C:C,'2'!A60))
A61: =A60+1 -> 51 | B61: 6 ans | C61: short flash mc queen | D61: disney | E61: G | F61: 1 | G61: =IF(SUMIFS(vente!D:D,vente!B:B,$E$8,vente!C:C,'2'!A61)=0,"",SUMIFS(vente!D:D,vente!B:B,$E$8,vente!C:C,'2'!A61))
A62: =A61+1 -> 52 | B62: 5 ans | C62: chemise beige rayé | D62: bestway | E62: G | F62: 1 | G62: =IF(SUMIFS(vente!D:D,vente!B:B,$E$8,vente!C:C,'2'!A62)=0,"",SUMIFS(vente!D:D,vente!B:B,$E$8,vente!C:C,'2'!A62))
A63: =A62+1 -> 53 | B63: 3 ans | C63: short noir motoring 27 | E63: G | F63: 1 | G63: =IF(SUMIFS(vente!D:D,vente!B:B,$E$8,vente!C:C,'2'!A63)=0,"",SUMIFS(vente!D:D,vente!B:B,$E$8,vente!C:C,'2'!A63))
A64: =A63+1 -> 54 | B64: 24 mois | C64: robe salopette grise | D64: u collection | E64: F | F64: 2 | G64: =IF(SUMIFS(vente!D:D,vente!B:B,$E$8,vente!C:C,'2'!A64)=0,"",SUMIFS(vente!D:D,vente!B:B,$E$8,vente!C:C,'2'!A64))
A65: =A64+1 -> 55 | B65: 8 ans | C65: tee-shirt bleu marine | D65: sportway | E65: G | F65: 1 | G65: =IF(SUMIFS(vente!D:D,vente!B:B,$E$8,vente!C:C,'2'!A65)=0,"",SUMIFS(vente!D:D,vente!B:B,$E$8,vente!C:C,'2'!A65))
A66: =A65+1 -> 56 | B66: 8 ans | C66: short gris | D66: u essentiel | E66: G | F66: 2 | G66: =IF(SUMIFS(vente!D:D,vente!B:B,$E$8,vente!C:C,'2'!A66)=0,"",SUMIFS(vente!D:D,vente!B:B,$E$8,vente!C:C,'2'!A66))
A67: =A66+1 -> 57 | G67: =IF(SUMIFS(vente!D:D,vente!B:B,$E$8,vente!C:C,'2'!A67)=0,"",SUMIFS(vente!D:D,vente!B:B,$E$8,vente!C:C,'2'!A67))
A68: =A67+1 -> 58 | G68: =IF(SUMIFS(vente!D:D,vente!B:B,$E$8,vente!C:C,'2'!A68)=0,"",SUMIFS(vente!D:D,vente!B:B,$E$8,vente!C:C,'2'!A68))
A69: =A68+1 -> 59 | G69: =IF(SUMIFS(vente!D:D,vente!B:B,$E$8,vente!C:C,'2'!A69)=0,"",SUMIFS(vente!D:D,vente!B:B,$E$8,vente!C:C,'2'!A69))
A70: =A69+1 -> 60 | G70: =IF(SUMIFS(vente!D:D,vente!B:B,$E$8,vente!C:C,'2'!A70)=0,"",SUMIFS(vente!D:D,vente!B:B,$E$8,vente!C:C,'2'!A70))
D71: Total Ventes | G71: =SUM(G11:G70) -> 0
D72: Prélèvement asso (30%) | G72: =G71*30% -> 0
C73: maximum 60 articles déposés | D73: Total cliente | G73: =G71-G72 -> 0

Sheet 12
B1: Bourse aux vêtements - Accueil et Loisirs - St Fulgent
D3: Nom | E3: A
D4: Prénom
B5: Repris / Non repris | D5: Adresse
D6: Téléphone
D8: N° Client | E8: =MID(CELL("nomfichier",A1),FIND("]",CELL("nomfichier",A1))+1,32) -> 12
A10: N° | B10: Age | C10: Désignation | D10: Marque | E10: sexe | F10: prix | G10: vendu
A11: 1 | B11: 38-40 | C11: chemise de nuit grossesse marron | D11: calinkalin | F11: 1 | G11: =IF(SUMIFS(vente!D:D,vente!B:B,$E$8,vente!C:C,'2'!A11)=0,"",SUMIFS(vente!D:D,vente!B:B,$E$8,vente!C:C,'2'!A11))
A12: =A11+1 -> 2 | B12: M | C12: tunique grossesse grise violette manche 3/4 | D12: piches | F12: 1 | G12: =IF(SUMIFS(vente!D:D,vente!B:B,$E$8,vente!C:C,'2'!A12)=0,"",SUMIFS(vente!D:D,vente!B:B,$E$8,vente!C:C,'2'!A12))
A13: =A12+1 -> 3 | B13: M | C13: pantacourts grossesse blanc | D13: cmp | F13: 1 | G13: =IF(SUMIFS(vente!D:D,vente!B:B,$E$8,vente!C:C,'2'!A13)=0,"",SUMIFS(vente!D:D,vente!B:B,$E$8,vente!C:C,'2'!A13))
A14: =A13+1 -> 4 | B14: M | C14: robe violette manche 3/4 | D14: only | F14: 2 | G14: =IF(SUMIFS(vente!D:D,vente!B:B,$E$8,vente!C:C,'2'!A14)=0,"",SUMIFS(vente!D:D,vente!B:B,$E$8,vente!C:C,'2'!A14))
A15: =A14+1 -> 5 | C15: débardeur grossesse noir | D15: endsky | F15: 1 | G15: =IF(SUMIFS(vente!D:D,vente!B:B,$E$8,vente!C:C,'2'!A15)=0,"",SUMIFS(vente!D:D,vente!B:B,$E$8,vente!C:C,'2'!A15))
A16: =A15+1 -> 6 | B16: 40 | C16: débardeur grossesse imprimé jaune gris bleu | D16: kiabi | F16: 2 | G16: =IF(SUMIFS(vente!D:D,vente!B:B,$E$8,vente!C:C,'2'!A16)=0,"",SUMIFS(vente!D:D,vente!B:B,$E$8,vente!C:C,'2'!A16))
A17: =A16+1 -> 7 | B17: s | C17: chemisier grossesse taupe | D17: only | F17: 2 | G17: =IF(SUMIFS(vente!D:D,vente!B:B,$E$8,vente!C:C,'2'!A17)=0,"",SUMIFS(vente!D:D,vente!B:B,$E$8,vente!C:C,'2'!A17))
A18: =A17+1 -> 8 | B18: 18 mois | C18: pyjama jaune orange vert | D18: orchestra | E18: G | F18: 1 | G18: =IF(SUMIFS(vente!D:D,vente!B:B,$E$8,vente!C:C,'2'!A18)=0,"",SUMIFS(vente!D:D,vente!B:B,$E$8,vente!C:C,'2'!A18))
A19: =A18+1 -> 9 | B19: 18 mois | C19: tee shirt ML bleu et blanc | D19: orchestra | E19: G | F19: 1 | G19: =IF(SUMIFS(vente!D:D,vente!B:B,$E$8,vente!C:C,'2'!A19)=0,"",SUMIFS(vente!D:D,vente!B:B,$E$8,vente!C:C,'2'!A19))
A20: =A19+1 -> 10 | B20: 18 mois | C20: chemise blanche ML | D20: orchestra | E20: G | F20: 1 | G20: =IF(SUMIFS(vente!D:D,vente!B:B,$E$8,vente!C:C,'2'!A20)=0,"",SUMIFS(vente!D:D,vente!B:B,$E$8,vente!C:C,'2'!A20))
A21: =A20+1 -> 11 | B21: 18 mois | C21: tee shirt blanc MC voiture | E21: G | F21: 1 | G21: =IF(SUMIFS(vente!D:D,vente!B:B,$E$8,vente!C:C,'2'!A21)=0,"",SUMIFS(vente!D:D,vente!B:B,$E$8,vente!C:C,'2'!A21))
A22: =A21+1 -> 12 | B22: 18 mois | C22: tee shirt MC blanc "use your imagination" | D22: timberland | E22: G | F22: 1 | G22: =IF(SUMIFS(vente!D:D,vente!B:B,$E$8,vente!C:C,'2'!A22)=0,"",SUMIFS(vente!D:D,vente!B:B,$E$8,vente!C:C,'2'!A22))
A23: =A22+1 -> 13 | B23: 18 mois | C23: tee shirt ML orange et blanc | D23: timberland | E23: G | F23: 1 | G23: =IF(SUMIFS(vente!D:D,vente!B:B,$E$8,vente!C:C,'2'!A23)=0,"",SUMIFS(vente!D:D,vente!B:B,$E$8,vente!C:C,'2'!A23))
A24: =A23+1 -> 14 | B24: 18 mois | C24: ensemble pantalon bordeau et tunique fleurs | D24: u tout petit | E24: F | F24: 2 | G24: =IF(SUMIFS(vente!D:D,vente!B:B,$E$8,vente!C:C,'2'!A24)=0,"",SUMIFS(vente!D:D,vente!B:B,$E$8,vente!C:C,'2'!A24))
A25: =A24+1 -> 15 | B25: 18 mois | C25: salopette longue jean noir | D25: orchestra | E25: G | F25: 1 | G25: =IF(SUMIFS(vente!D:D,vente!B:B,$E$8,vente!C:C,'2'!A25)=0,"",SUMIFS(vente!D:D,vente!B:B,$E$8,vente!C:C,'2'!A25))
A26: =A25+1 -> 16 | B26: 18 mois | C26: ensemble salopette short jean gris clair et tee shirt rayé | D26: terre de marins | E26: G | F26: 2 | G26: =IF(SUMIFS(vente!D:D,vente!B:B,$E$8,vente!C:C,'2'!A26)=0,"",SUMIFS(vente!D:D,vente!B:B,$E$8,vente!C:C,'2'!A26))
A27: =A26+1 -> 17 | B27: 18 mois | C27: tee shirt gris bateau | D27: timberland | E27: G | F27: 1 | G27: =IF(SUMIFS(vente!D:D,vente!B:B,$E$8,vente!C:C,'2'!A27)=0,"",SUMIFS(vente!D:D,vente!B:B,$E$8,vente!C:C,'2'!A27))
A28: =A27+1 -> 18 | B28: 18 mois | C28: ensemble pantalon marron et chemise jaune | D28: tom et kiddy | E28: G | F28: 1 | G28: =IF(SUMIFS(vente!D:D,vente!B:B,$E$8,vente!C:C,'2'!A28)=0,"",SUMIFS(vente!D:D,vente!B:B,$E$8,vente!C:C,'2'!A28))
A29: 19 | B29: 18 mois | C29: polo ML kaki | D29: kidkanai | E29: G | F29: 1 | G29: =IF(SUMIFS(vente!D:D,vente!B:B,$E$8,vente!C:C,'2'!A29)=0,"",SUMIFS(vente!D:D,vente!B:B,$E$8,vente!C:C,'2'!A29))
A30: =A29+1 -> 20 | B30: 18 mois | C30: tee shirt ML blanc "destination bisous" | D30: tape à l'œil | E30: G | F30: 1 | G30: =IF(SUMIFS(vente!D:D,vente!B:B,$E$8,vente!C:C,'2'!A30)=0,"",SUMIFS(vente!D:D,vente!B:B,$E$8,vente!C:C,'2'!A30))
A31: =A30+1 -> 21 | B31: 18 mois | C31: chemise ML blanche rayé marron | D31: orchestra | E31: G | F31: 1 | G31: =IF(SUMIFS(vente!D:D,vente!B:B,$E$8,vente!C:C,'2'!A31)=0,"",SUMIFS(vente!D:D,vente!B:B,$E$8,vente!C:C,'2'!A31))
A32: =A31+1 -> 22 | B32: 18 mois | C32: chemise ML à carreaux marron vert | D32: les p'tits babies | E32: G | F32: 1 | G32: =IF(SUMIFS(vente!D:D,vente!B:B,$E$8,vente!C:C,'2'!A32)=0,"",SUMIFS(vente!D:D,vente!B:B,$E$8,vente!C:C,'2'!A32))
A33: =A32+1 -> 23 | B33: 18 mois | C33: chemise ML rayé bleu clair | D33: jean bourget | E33: G | F33: 1 | G33: =IF(SUMIFS(vente!D:D,vente!B:B,$E$8,vente!C:C,'2'!A33)=0,"",SUMIFS(vente!D:D,vente!B:B,$E$8,vente!C:C,'2'!A33))
A34: =A33+1 -> 24 | B34: 3 mois | C34: Tee shirt ML blanc rayé beige | D34: kitchoun | E34: G | F34: 1 | G34: =IF(SUMIFS(vente!D:D,vente!B:B,$E$8,vente!C:C,'2'!A34)=0,"",SUMIFS(vente!D:D,vente!B:B,$E$8,vente!C:C,'2'!A34))
A35: =A34+1 -> 25 | B35: 3 mois | C35: tee shirt ML blanc manches bleues | D35: u collection | E35: G | F35: 1 | G35: =IF(SUMIFS(vente!D:D,vente!B:B,$E$8,vente!C:C,'2'!A35)=0,"",SUMIFS(vente!D:D,vente!B:B,$E$8,vente!C:C,'2'!A35))
A36: =A35+1 -> 26 | B36: 3 mois | C36: short beige | D36: kitiwatt | E36: G | F36: 1 | G36: =IF(SUMIFS(vente!D:D,vente!B:B,$E$8,vente!C:C,'2'!A36)=0,"",SUMIFS(vente!D:D,vente!B:B,$E$8,vente!C:C,'2'!A36))
A37: =A36+1 -> 27 | B37: 6 mois | C37: salopette short beige | D37: u collection | E37: G | F37: 1 | G37: =IF(SUMIFS(vente!D:D,vente!B:B,$E$8,vente!C:C,'2'!A37)=0,"",SUMIFS(vente!D:D,vente!B:B,$E$8,vente!C:C,'2'!A37))
A38: =A37+1 -> 28 | B38: 6 mois | C38: tee shirt marron | D38: kimbaloo | E38: G | F38: 1 | G38: =IF(SUMIFS(vente!D:D,vente!B:B,$E$8,vente!C:C,'2'!A38)=0,"",SUMIFS(vente!D:D,vente!B:B,$E$8,vente!C:C,'2'!A38))
A39: =A38+1 -> 29 | B39: 6 mois | C39: gilet bleu ciel | E39: G | F39: 1 | G39: =IF(SUMIFS(vente!D:D,vente!B:B,$E$8,vente!C:C,'2'!A39)=0,"",SUMIFS(vente!D:D,vente!B:B,$E$8,vente!C:C,'2'!A39))
A40: =A39+1 -> 30 | B40: 6 mois | C40: tee shirt bleu | D40: timberland | E40: G | F40: 1 | G40: =IF(SUMIFS(vente!D:D,vente!B:B,$E$8,vente!C:C,'2'!A40)=0,"",SUMIFS(vente!D:D,vente!B:B,$E$8,vente!C:C,'2'!A40))
A41: =A40+1 -> 31 | B41: 6 mois | C41: polo marine | D41: timberland | E41: G | F41: 1 | G41: =IF(SUMIFS(vente!D:D,vente!B:B,$E$8,vente!C:C,'2'!A41)=0,"",SUMIFS(vente!D:D,vente!B:B,$E$8,vente!C:C,'2'!A41))
A42: =A41+1 -> 32 | B42: 6 mois | C42: chemise ML à carreaux rouges | D42: hugo boss | E42: G | F42: 1.5 | G42: =IF(SUMIFS(vente!D:D,vente!B:B,$E$8,vente!C:C,'2'!A42)=0,"",SUMIFS(vente!D:D,vente!B:B,$E$8,vente!C:C,'2'!A42))
A43: =A42+1 -> 33 | B43: 6 mois | C43: tee shirt ML blanc | D43: petit pirate | E43: G | F43: 1 | G43: =IF(SUMIFS(vente!D:D,vente!B:B,$E$8,vente!C:C,'2'!A43)=0,"",SUMIFS(vente!D:D,vente!B:B,$E$8,vente!C:C,'2'!A43))
A44: =A43+1 -> 34 | B44: 6 mois | C44: tee shirt bleu baleine | D44: marese | E44: G | F44: 1 | G44: =IF(SUMIFS(vente!D:D,vente!B:B,$E$8,vente!C:C,'2'!A44)=0,"",SUMIFS(vente!D:D,vente!B:B,$E$8,vente!C:C,'2'!A44))
A45: =A44+1 -> 35 | B45: 6 mois | C45: ensemble salopette short rouge et tee shirt | D45: ourson | E45: G | F45: 1.5 | G45: =IF(SUMIFS(vente!D:D,vente!B:B,$E$8,vente!C:C,'2'!A45)=0,"",SUMIFS(vente!D:D,vente!B:B,$E$8,vente!C:C,'2'!A45))
A46: =A45+1 -> 36 | B46: 6 mois | C46: salopette marron | D46: pickouic | E46: G | F46: 1 | G46: =IF(SUMIFS(vente!D:D,vente!B:B,$E$8,vente!C:C,'2'!A46)=0,"",SUMIFS(vente!D:D,vente!B:B,$E$8,vente!C:C,'2'!A46))
A47: =A46+1 -> 37 | B47: 9 mois | C47: tee shirt orange | D47: alphabet | E47: G | F47: 1 | G47: =IF(SUMIFS(vente!D:D,vente!B:B,$E$8,vente!C:C,'2'!A47)=0,"",SUMIFS(vente!D:D,vente!B:B,$E$8,vente!C:C,'2'!A47))
A48: =A47+1 -> 38 | B48: 12 mois | C48: ensemble robe rose et culotte | D48: mini adélie | E48: F | F48: 1.5 | G48: =IF(SUMIFS(vente!D:D,vente!B:B,$E$8,vente!C:C,'2'!A48)=0,"",SUMIFS(vente!D:D,vente!B:B,$E$8,vente!C:C,'2'!A48))
A49: =A48+1 -> 39 | B49: 3 ans | C49: chemise ML grise | D49: orchestra | E49: G | F49: 1 | G49: =IF(SUMIFS(vente!D:D,vente!B:B,$E$8,vente!C:C,'2'!A49)=0,"",SUMIFS(vente!D:D,vente!B:B,$E$8,vente!C:C,'2'!A49))
A50: =A49+1 -> 40 | B50: 3 ans | C50: chemise rayé | D50: orchestra | E50: G | F50: 1 | G50: =IF(SUMIFS(vente!D:D,vente!B:B,$E$8,vente!C:C,'2'!A50)=0,"",SUMIFS(vente!D:D,vente!B:B,$E$8,vente!C:C,'2'!A50))
A51: =A50+1 -> 41 | B51: 8 ans | C51: tee shirt ML beige camion | E51: G | F51: 1 | G51: =IF(SUMIFS(vente!D:D,vente!B:B,$E$8,vente!C:C,'2'!A51)=0,"",SUMIFS(vente!D:D,vente!B:B,$E$8,vente!C:C,'2'!A51))
A52: =A51+1 -> 42 | B52: 10 ans | C52: sweat gris | D52: energetics | E52: G | F52: 2 | G52: =IF(SUMIFS(vente!D:D,vente!B:B,$E$8,vente!C:C,'2'!A52)=0,"",SUMIFS(vente!D:D,vente!B:B,$E$8,vente!C:C,'2'!A52))
A53: =A52+1 -> 43 | B53: 8 ans | C53: tee shirt ML bleu robot | D53: pick ouic | E53: G | F53: 1 | G53: =IF(SUMIFS(vente!D:D,vente!B:B,$E$8,vente!C:C,'2'!A53)=0,"",SUMIFS(vente!D:D,vente!B:B,$E$8,vente!C:C,'2'!A53))
A54: =A53+1 -> 44 | B54: 8 ans | C54: jean bleu | D54: tissaia | E54: G | F54: 1.5 | G54: =IF(SUMIFS(vente!D:D,vente!B:B,$E$8,vente!C:C,'2'!A54)=0,"",SUMIFS(vente!D:D,vente!B:B,$E$8,vente!C:C,'2'!A54))
A55: =A54+1 -> 45 | B55: 18 mois | C55: gilet court blanc | D55: tape à l'œil | E55: F | F55: 1 | G55: =IF(SUMIFS(vente!D:D,vente!B:B,$E$8,vente!C:C,'2'!A55)=0,"",SUMIFS(vente!D:D,vente!B:B,$E$8,vente!C:C,'2'!A55))
A56: =A55+1 -> 46 | B56: 24 mois | C56: gilet rouge | D56: u collection | E56: F | F56: 1 | G56: =IF(SUMIFS(vente!D:D,vente!B:B,$E$8,vente!C:C,'2'!A56)=0,"",SUMIFS(vente!D:D,vente!B:B,$E$8,vente!C:C,'2'!A56))
A57: =A56+1 -> 47 | B57: 23 mois | C57: robe rose winnie l'ourson | D57: disney | E57: F | F57: 1 | G57: =IF(SUMIFS(vente!D:D,vente!B:B,$E$8,vente!C:C,'2'!A57)=0,"",SUMIFS(vente!D:D,vente!B:B,$E$8,vente!C:C,'2'!A57))
A58: =A57+1 -> 48 | B58: 4 ans | C58: pantacourts kaki | E58: G | F58: 1 | G58: =IF(SUMIFS(vente!D:D,vente!B:B,$E$8,vente!C:C,'2'!A58)=0,"",SUMIFS(vente!D:D,vente!B:B,$E$8,vente!C:C,'2'!A58))
A59: =A58+1 -> 49 | B59: 6 ans | C59: gilet sans manche noir | D59: bestway | E59: G | F59: 1 | G59: =IF(SUMIFS(vente!D:D,vente!B:B,$E$8,vente!C:C,'2'!A59)=0,"",SUMIFS(vente!D:D,vente!B:B,$E$8,vente!C:C,'2'!A59))
A60: =A59+1 -> 50 | B60: 6 ans | C60: chemise noir rayé | D60: bestway | E60: G | F60: 1 | G60: =IF(SUMIFS(vente!D:D,vente!B:B,$E$8,vente!C:C,'2'!A60)=0,"",SUMIFS(vente!D:D,vente!B:B,$E$8,vente!C:C,'2'!A60))
A61: =A60+1 -> 51 | B61: 6 ans | C61: short flash mc queen | D61: disney | E61: G | F61: 1 | G61: =IF(SUMIFS(vente!D:D,vente!B:B,$E$8,vente!C:C,'2'!A61)=0,"",SUMIFS(vente!D:D,vente!B:B,$E$8,vente!C:C,'2'!A61))
A62: =A61+1 -> 52 | B62: 5 ans | C62: chemise beige rayé | D62: bestway | E62: G | F62: 1 | G62: =IF(SUMIFS(vente!D:D,vente!B:B,$E$8,vente!C:C,'2'!A62)=0,"",SUMIFS(vente!D:D,vente!B:B,$E$8,vente!C:C,'2'!A62))
A63: =A62+1 -> 53 | B63: 3 ans | C63: short noir motoring 27 | E63: G | F63: 1 | G63: =IF(SUMIFS(vente!D:D,vente!B:B,$E$8,vente!C:C,'2'!A63)=0,"",SUMIFS(vente!D:D,vente!B:B,$E$8,vente!C:C,'2'!A63))
A64: =A63+1 -> 54 | B64: 24 mois | C64: robe salopette grise | D64: u collection | E64: F | F64: 2 | G64: =IF(SUMIFS(vente!D:D,vente!B:B,$E$8,vente!C:C,'2'!A64)=0,"",SUMIFS(vente!D:D,vente!B:B,$E$8,vente!C:C,'2'!A64))
A65: =A64+1 -> 55 | B65: 8 ans | C65: tee-shirt bleu marine | D65: sportway | E65: G | F65: 1 | G65: =IF(SUMIFS(vente!D:D,vente!B:B,$E$8,vente!C:C,'2'!A65)=0,"",SUMIFS(vente!D:D,vente!B:B,$E$8,vente!C:C,'2'!A65))
A66: =A65+1 -> 56 | B66: 8 ans | C66: short gris | D66: u essentiel | E66: G | F66: 2 | G66: =IF(SUMIFS(vente!D:D,vente!B:B,$E$8,vente!C:C,'2'!A66)=0,"",SUMIFS(vente!D:D,vente!B:B,$E$8,vente!C:C,'2'!A66))
A67: =A66+1 -> 57 | G67: =IF(SUMIFS(vente!D:D,vente!B:B,$E$8,vente!C:C,'2'!A67)=0,"",SUMIFS(vente!D:D,vente!B:B,$E$8,vente!C:C,'2'!A67))
A68: =A67+1 -> 58 | G68: =IF(SUMIFS(vente!D:D,vente!B:B,$E$8,vente!C:C,'2'!A68)=0,"",SUMIFS(vente!D:D,vente!B:B,$E$8,vente!C:C,'2'!A68))
A69: =A68+1 -> 59 | G69: =IF(SUMIFS(vente!D:D,vente!B:B,$E$8,vente!C:C,'2'!A69)=0,"",SUMIFS(vente!D:D,vente!B:B,$E$8,vente!C:C,'2'!A69))
A70: =A69+1 -> 60 | G70: =IF(SUMIFS(vente!D:D,vente!B:B,$E$8,vente!C:C,'2'!A70)=0,"",SUMIFS(vente!D:D,vente!B:B,$E$8,vente!C:C,'2'!A70))
D71: Total Ventes | G71: =SUM(G11:G70) -> 0
D72: Prélèvement asso (30%) | G72: =G71*30% -> 0
C73: maximum 60 articles déposés | D73: Total cliente | G73: =G71-G72 -> 0

Sheet 13
B1: Bourse aux vêtements - Accueil et Loisirs - St Fulgent
D3: Nom | E3: A
D4: Prénom
B5: Repris / Non repris | D5: Adresse
D6: Téléphone
D8: N° Client | E8: =MID(CELL("nomfichier",A1),FIND("]",CELL("nomfichier",A1))+1,32) -> 13
A10: N° | B10: Age | C10: Désignation | D10: Marque | E10: sexe | F10: prix | G10: vendu
A11: 1 | B11: 38-40 | C11: chemise de nuit grossesse marron | D11: calinkalin | F11: 1 | G11: =IF(SUMIFS(vente!D:D,vente!B:B,$E$8,vente!C:C,'2'!A11)=0,"",SUMIFS(vente!D:D,vente!B:B,$E$8,vente!C:C,'2'!A11))
A12: =A11+1 -> 2 | B12: M | C12: tunique grossesse grise violette manche 3/4 | D12: piches | F12: 1 | G12: =IF(SUMIFS(vente!D:D,vente!B:B,$E$8,vente!C:C,'2'!A12)=0,"",SUMIFS(vente!D:D,vente!B:B,$E$8,vente!C:C,'2'!A12))
A13: =A12+1 -> 3 | B13: M | C13: pantacourts grossesse blanc | D13: cmp | F13: 1 | G13: =IF(SUMIFS(vente!D:D,vente!B:B,$E$8,vente!C:C,'2'!A13)=0,"",SUMIFS(vente!D:D,vente!B:B,$E$8,vente!C:C,'2'!A13))
A14: =A13+1 -> 4 | B14: M | C14: robe violette manche 3/4 | D14: only | F14: 2 | G14: =IF(SUMIFS(vente!D:D,vente!B:B,$E$8,vente!C:C,'2'!A14)=0,"",SUMIFS(vente!D:D,vente!B:B,$E$8,vente!C:C,'2'!A14))
A15: =A14+1 -> 5 | C15: débardeur grossesse noir | D15: endsky | F15: 1 | G15: =IF(SUMIFS(vente!D:D,vente!B:B,$E$8,vente!C:C,'2'!A15)=0,"",SUMIFS(vente!D:D,vente!B:B,$E$8,vente!C:C,'2'!A15))
A16: =A15+1 -> 6 | B16: 40 | C16: débardeur grossesse imprimé jaune gris bleu | D16: kiabi | F16: 2 | G16: =IF(SUMIFS(vente!D:D,vente!B:B,$E$8,vente!C:C,'2'!A16)=0,"",SUMIFS(vente!D:D,vente!B:B,$E$8,vente!C:C,'2'!A16))
A17: =A16+1 -> 7 | B17: s | C17: chemisier grossesse taupe | D17: only | F17: 2 | G17: =IF(SUMIFS(vente!D:D,vente!B:B,$E$8,vente!C:C,'2'!A17)=0,"",SUMIFS(vente!D:D,vente!B:B,$E$8,vente!C:C,'2'!A17))
A18: =A17+1 -> 8 | B18: 18 mois | C18: pyjama jaune orange vert | D18: orchestra | E18: G | F18: 1 | G18: =IF(SUMIFS(vente!D:D,vente!B:B,$E$8,vente!C:C,'2'!A18)=0,"",SUMIFS(vente!D:D,vente!B:B,$E$8,vente!C:C,'2'!A18))
A19: =A18+1 -> 9 | B19: 18 mois | C19: tee shirt ML bleu et blanc | D19: orchestra | E19: G | F19: 1 | G19: =IF(SUMIFS(vente!D:D,vente!B:B,$E$8,vente!C:C,'2'!A19)=0,"",SUMIFS(vente!D:D,vente!B:B,$E$8,vente!C:C,'2'!A19))
A20: =A19+1 -> 10 | B20: 18 mois | C20: chemise blanche ML | D20: orchestra | E20: G | F20: 1 | G20: =IF(SUMIFS(vente!D:D,vente!B:B,$E$8,vente!C:C,'2'!A20)=0,"",SUMIFS(vente!D:D,vente!B:B,$E$8,vente!C:C,'2'!A20))
A21: =A20+1 -> 11 | B21: 18 mois | C21: tee shirt blanc MC voiture | E21: G | F21: 1 | G21: =IF(SUMIFS(vente!D:D,vente!B:B,$E$8,vente!C:C,'2'!A21)=0,"",SUMIFS(vente!D:D,vente!B:B,$E$8,vente!C:C,'2'!A21))
A22: =A21+1 -> 12 | B22: 18 mois | C22: tee shirt MC blanc "use your imagination" | D22: timberland | E22: G | F22: 1 | G22: =IF(SUMIFS(vente!D:D,vente!B:B,$E$8,vente!C:C,'2'!A22)=0,"",SUMIFS(vente!D:D,vente!B:B,$E$8,vente!C:C,'2'!A22))
A23: =A22+1 -> 13 | B23: 18 mois | C23: tee shirt ML orange et blanc | D23: timberland | E23: G | F23: 1 | G23: =IF(SUMIFS(vente!D:D,vente!B:B,$E$8,vente!C:C,'2'!A23)=0,"",SUMIFS(vente!D:D,vente!B:B,$E$8,vente!C:C,'2'!A23))
A24: =A23+1 -> 14 | B24: 18 mois | C24: ensemble pantalon bordeau et tunique fleurs | D24: u tout petit | E24: F | F24: 2 | G24: =IF(SUMIFS(vente!D:D,vente!B:B,$E$8,vente!C:C,'2'!A24)=0,"",SUMIFS(vente!D:D,vente!B:B,$E$8,vente!C:C,'2'!A24))
A25: =A24+1 -> 15 | B25: 18 mois | C25: salopette longue jean noir | D25: orchestra | E25: G | F25: 1 | G25: =IF(SUMIFS(vente!D:D,vente!B:B,$E$8,vente!C:C,'2'!A25)=0,"",SUMIFS(vente!D:D,vente!B:B,$E$8,vente!C:C,'2'!A25))
A26: =A25+1 -> 16 | B26: 18 mois | C26: ensemble salopette short jean gris clair et tee shirt rayé | D26: terre de marins | E26: G | F26: 2 | G26: =IF(SUMIFS(vente!D:D,vente!B:B,$E$8,vente!C:C,'2'!A26)=0,"",SUMIFS(vente!D:D,vente!B:B,$E$8,vente!C:C,'2'!A26))
A27: =A26+1 -> 17 | B27: 18 mois | C27: tee shirt gris bateau | D27: timberland | E27: G | F27: 1 | G27: =IF(SUMIFS(vente!D:D,vente!B:B,$E$8,vente!C:C,'2'!A27)=0,"",SUMIFS(vente!D:D,vente!B:B,$E$8,vente!C:C,'2'!A27))
A28: =A27+1 -> 18 | B28: 18 mois | C28: ensemble pantalon marron et chemise jaune | D28: tom et kiddy | E28: G | F28: 1 | G28: =IF(SUMIFS(vente!D:D,vente!B:B,$E$8,vente!C:C,'2'!A28)=0,"",SUMIFS(vente!D:D,vente!B:B,$E$8,vente!C:C,'2'!A28))
A29: 19 | B29: 18 mois | C29: polo ML kaki | D29: kidkanai | E29: G | F29: 1 | G29: =IF(SUMIFS(vente!D:D,vente!B:B,$E$8,vente!C:C,'2'!A29)=0,"",SUMIFS(vente!D:D,vente!B:B,$E$8,vente!C:C,'2'!A29))
A30: =A29+1 -> 20 | B30: 18 mois | C30: tee shirt ML blanc "destination bisous" | D30: tape à l'œil | E30: G | F30: 1 | G30: =IF(SUMIFS(vente!D:D,vente!B:B,$E$8,vente!C:C,'2'!A30)=0,"",SUMIFS(vente!D:D,vente!B:B,$E$8,vente!C:C,'2'!A30))
A31: =A30+1 -> 21 | B31: 18 mois | C31: chemise ML blanche rayé marron | D31: orchestra | E31: G | F31: 1 | G31: =IF(SUMIFS(vente!D:D,vente!B:B,$E$8,vente!C:C,'2'!A31)=0,"",SUMIFS(vente!D:D,vente!B:B,$E$8,vente!C:C,'2'!A31))
A32: =A31+1 -> 22 | B32: 18 mois | C32: chemise ML à carreaux marron vert | D32: les p'tits babies | E32: G | F32: 1 | G32: =IF(SUMIFS(vente!D:D,vente!B:B,$E$8,vente!C:C,'2'!A32)=0,"",SUMIFS(vente!D:D,vente!B:B,$E$8,vente!C:C,'2'!A32))
A33: =A32+1 -> 23 | B33: 18 mois | C33: chemise ML rayé bleu clair | D33: jean bourget | E33: G | F33: 1 | G33: =IF(SUMIFS(vente!D:D,vente!B:B,$E$8,vente!C:C,'2'!A33)=0,"",SUMIFS(vente!D:D,vente!B:B,$E$8,vente!C:C,'2'!A33))
A34: =A33+1 -> 24 | B34: 3 mois | C34: Tee shirt ML blanc rayé beige | D34: kitchoun | E34: G | F34: 1 | G34: =IF(SUMIFS(vente!D:D,vente!B:B,$E$8,vente!C:C,'2'!A34)=0,"",SUMIFS(vente!D:D,vente!B:B,$E$8,vente!C:C,'2'!A34))
A35: =A34+1 -> 25 | B35: 3 mois | C35: tee shirt ML blanc manches bleues | D35: u collection | E35: G | F35: 1 | G35: =IF(SUMIFS(vente!D:D,vente!B:B,$E$8,vente!C:C,'2'!A35)=0,"",SUMIFS(vente!D:D,vente!B:B,$E$8,vente!C:C,'2'!A35))
A36: =A35+1 -> 26 | B36: 3 mois | C36: short beige | D36: kitiwatt | E36: G | F36: 1 | G36: =IF(SUMIFS(vente!D:D,vente!B:B,$E$8,vente!C:C,'2'!A36)=0,"",SUMIFS(vente!D:D,vente!B:B,$E$8,vente!C:C,'2'!A36))
A37: =A36+1 -> 27 | B37: 6 mois | C37: salopette short beige | D37: u collection | E37: G | F37: 1 | G37: =IF(SUMIFS(vente!D:D,vente!B:B,$E$8,vente!C:C,'2'!A37)=0,"",SUMIFS(vente!D:D,vente!B:B,$E$8,vente!C:C,'2'!A37))
A38: =A37+1 -> 28 | B38: 6 mois | C38: tee shirt marron | D38: kimbaloo | E38: G | F38: 1 | G38: =IF(SUMIFS(vente!D:D,vente!B:B,$E$8,vente!C:C,'2'!A38)=0,"",SUMIFS(vente!D:D,vente!B:B,$E$8,vente!C:C,'2'!A38))
A39: =A38+1 -> 29 | B39: 6 mois | C39: gilet bleu ciel | E39: G | F39: 1 | G39: =IF(SUMIFS(vente!D:D,vente!B:B,$E$8,vente!C:C,'2'!A39)=0,"",SUMIFS(vente!D:D,vente!B:B,$E$8,vente!C:C,'2'!A39))
A40: =A39+1 -> 30 | B40: 6 mois | C40: tee shirt bleu | D40: timberland | E40: G | F40: 1 | G40: =IF(SUMIFS(vente!D:D,vente!B:B,$E$8,vente!C:C,'2'!A40)=0,"",SUMIFS(vente!D:D,vente!B:B,$E$8,vente!C:C,'2'!A40))
A41: =A40+1 -> 31 | B41: 6 mois | C41: polo marine | D41: timberland | E41: G | F41: 1 | G41: =IF(SUMIFS(vente!D:D,vente!B:B,$E$8,vente!C:C,'2'!A41)=0,"",SUMIFS(vente!D:D,vente!B:B,$E$8,vente!C:C,'2'!A41))
A42: =A41+1 -> 32 | B42: 6 mois | C42: chemise ML à carreaux rouges | D42: hugo boss | E42: G | F42: 1.5 | G42: =IF(SUMIFS(vente!D:D,vente!B:B,$E$8,vente!C:C,'2'!A42)=0,"",SUMIFS(vente!D:D,vente!B:B,$E$8,vente!C:C,'2'!A42))
A43: =A42+1 -> 33 | B43: 6 mois | C43: tee shirt ML blanc | D43: petit pirate | E43: G | F43: 1 | G43: =IF(SUMIFS(vente!D:D,vente!B:B,$E$8,vente!C:C,'2'!A43)=0,"",SUMIFS(vente!D:D,vente!B:B,$E$8,vente!C:C,'2'!A43))
A44: =A43+1 -> 34 | B44: 6 mois | C44: tee shirt bleu baleine | D44: marese | E44: G | F44: 1 | G44: =IF(SUMIFS(vente!D:D,vente!B:B,$E$8,vente!C:C,'2'!A44)=0,"",SUMIFS(vente!D:D,vente!B:B,$E$8,vente!C:C,'2'!A44))
A45: =A44+1 -> 35 | B45: 6 mois | C45: ensemble salopette short rouge et tee shirt | D45: ourson | E45: G | F45: 1.5 | G45: =IF(SUMIFS(vente!D:D,vente!B:B,$E$8,vente!C:C,'2'!A45)=0,"",SUMIFS(vente!D:D,vente!B:B,$E$8,vente!C:C,'2'!A45))
A46: =A45+1 -> 36 | B46: 6 mois | C46: salopette marron | D46: pickouic | E46: G | F46: 1 | G46: =IF(SUMIFS(vente!D:D,vente!B:B,$E$8,vente!C:C,'2'!A46)=0,"",SUMIFS(vente!D:D,vente!B:B,$E$8,vente!C:C,'2'!A46))
A47: =A46+1 -> 37 | B47: 9 mois | C47: tee shirt orange | D47: alphabet | E47: G | F47: 1 | G47: =IF(SUMIFS(vente!D:D,vente!B:B,$E$8,vente!C:C,'2'!A47)=0,"",SUMIFS(vente!D:D,vente!B:B,$E$8,vente!C:C,'2'!A47))
A48: =A47+1 -> 38 | B48: 12 mois | C48: ensemble robe rose et culotte | D48: mini adélie | E48: F | F48: 1.5 | G48: =IF(SUMIFS(vente!D:D,vente!B:B,$E$8,vente!C:C,'2'!A48)=0,"",SUMIFS(vente!D:D,vente!B:B,$E$8,vente!C:C,'2'!A48))
A49: =A48+1 -> 39 | B49: 3 ans | C49: chemise ML grise | D49: orchestra | E49: G | F49: 1 | G49: =IF(SUMIFS(vente!D:D,vente!B:B,$E$8,vente!C:C,'2'!A49)=0,"",SUMIFS(vente!D:D,vente!B:B,$E$8,vente!C:C,'2'!A49))
A50: =A49+1 -> 40 | B50: 3 ans | C50: chemise rayé | D50: orchestra | E50: G | F50: 1 | G50: =IF(SUMIFS(vente!D:D,vente!B:B,$E$8,vente!C:C,'2'!A50)=0,"",SUMIFS(vente!D:D,vente!B:B,$E$8,vente!C:C,'2'!A50))
A51: =A50+1 -> 41 | B51: 8 ans | C51: tee shirt ML beige camion | E51: G | F51: 1 | G51: =IF(SUMIFS(vente!D:D,vente!B:B,$E$8,vente!C:C,'2'!A51)=0,"",SUMIFS(vente!D:D,vente!B:B,$E$8,vente!C:C,'2'!A51))
A52: =A51+1 -> 42 | B52: 10 ans | C52: sweat gris | D52: energetics | E52: G | F52: 2 | G52: =IF(SUMIFS(vente!D:D,vente!B:B,$E$8,vente!C:C,'2'!A52)=0,"",SUMIFS(vente!D:D,vente!B:B,$E$8,vente!C:C,'2'!A52))
A53: =A52+1 -> 43 | B53: 8 ans | C53: tee shirt ML bleu robot | D53: pick ouic | E53: G | F53: 1 | G53: =IF(SUMIFS(vente!D:D,vente!B:B,$E$8,vente!C:C,'2'!A53)=0,"",SUMIFS(vente!D:D,vente!B:B,$E$8,vente!C:C,'2'!A53))
A54: =A53+1 -> 44 | B54: 8 ans | C54: jean bleu | D54: tissaia | E54: G | F54: 1.5 | G54: =IF(SUMIFS(vente!D:D,vente!B:B,$E$8,vente!C:C,'2'!A54)=0,"",SUMIFS(vente!D:D,vente!B:B,$E$8,vente!C:C,'2'!A54))
A55: =A54+1 -> 45 | B55: 18 mois | C55: gilet court blanc | D55: tape à l'œil | E55: F | F55: 1 | G55: =IF(SUMIFS(vente!D:D,vente!B:B,$E$8,vente!C:C,'2'!A55)=0,"",SUMIFS(vente!D:D,vente!B:B,$E$8,vente!C:C,'2'!A55))
A56: =A55+1 -> 46 | B56: 24 mois | C56: gilet rouge | D56: u collection | E56: F | F56: 1 | G56: =IF(SUMIFS(vente!D:D,vente!B:B,$E$8,vente!C:C,'2'!A56)=0,"",SUMIFS(vente!D:D,vente!B:B,$E$8,vente!C:C,'2'!A56))
A57: =A56+1 -> 47 | B57: 23 mois | C57: robe rose winnie l'ourson | D57: disney | E57: F | F57: 1 | G57: =IF(SUMIFS(vente!D:D,vente!B:B,$E$8,vente!C:C,'2'!A57)=0,"",SUMIFS(vente!D:D,vente!B:B,$E$8,vente!C:C,'2'!A57))
A58: =A57+1 -> 48 | B58: 4 ans | C58: pantacourts kaki | E58: G | F58: 1 | G58: =IF(SUMIFS(vente!D:D,vente!B:B,$E$8,vente!C:C,'2'!A58)=0,"",SUMIFS(vente!D:D,vente!B:B,$E$8,vente!C:C,'2'!A58))
A59: =A58+1 -> 49 | B59: 6 ans | C59: gilet sans manche noir | D59: bestway | E59: G | F59: 1 | G59: =IF(SUMIFS(vente!D:D,vente!B:B,$E$8,vente!C:C,'2'!A59)=0,"",SUMIFS(vente!D:D,vente!B:B,$E$8,vente!C:C,'2'!A59))
A60: =A59+1 -> 50 | B60: 6 ans | C60: chemise noir rayé | D60: bestway | E60: G | F60: 1 | G60: =IF(SUMIFS(vente!D:D,vente!B:B,$E$8,vente!C:C,'2'!A60)=0,"",SUMIFS(vente!D:D,vente!B:B,$E$8,vente!C:C,'2'!A60))
A61: =A60+1 -> 51 | B61: 6 ans | C61: short flash mc queen | D61: disney | E61: G | F61: 1 | G61: =IF(SUMIFS(vente!D:D,vente!B:B,$E$8,vente!C:C,'2'!A61)=0,"",SUMIFS(vente!D:D,vente!B:B,$E$8,vente!C:C,'2'!A61))
A62: =A61+1 -> 52 | B62: 5 ans | C62: chemise beige rayé | D62: bestway | E62: G | F62: 1 | G62: =IF(SUMIFS(vente!D:D,vente!B:B,$E$8,vente!C:C,'2'!A62)=0,"",SUMIFS(vente!D:D,vente!B:B,$E$8,vente!C:C,'2'!A62))
A63: =A62+1 -> 53 | B63: 3 ans | C63: short noir motoring 27 | E63: G | F63: 1 | G63: =IF(SUMIFS(vente!D:D,vente!B:B,$E$8,vente!C:C,'2'!A63)=0,"",SUMIFS(vente!D:D,vente!B:B,$E$8,vente!C:C,'2'!A63))
A64: =A63+1 -> 54 | B64: 24 mois | C64: robe salopette grise | D64: u collection | E64: F | F64: 2 | G64: =IF(SUMIFS(vente!D:D,vente!B:B,$E$8,vente!C:C,'2'!A64)=0,"",SUMIFS(vente!D:D,vente!B:B,$E$8,vente!C:C,'2'!A64))
A65: =A64+1 -> 55 | B65: 8 ans | C65: tee-shirt bleu marine | D65: sportway | E65: G | F65: 1 | G65: =IF(SUMIFS(vente!D:D,vente!B:B,$E$8,vente!C:C,'2'!A65)=0,"",SUMIFS(vente!D:D,vente!B:B,$E$8,vente!C:C,'2'!A65))
A66: =A65+1 -> 56 | B66: 8 ans | C66: short gris | D66: u essentiel | E66: G | F66: 2 | G66: =IF(SUMIFS(vente!D:D,vente!B:B,$E$8,vente!C:C,'2'!A66)=0,"",SUMIFS(vente!D:D,vente!B:B,$E$8,vente!C:C,'2'!A66))
A67: =A66+1 -> 57 | G67: =IF(SUMIFS(vente!D:D,vente!B:B,$E$8,vente!C:C,'2'!A67)=0,"",SUMIFS(vente!D:D,vente!B:B,$E$8,vente!C:C,'2'!A67))
A68: =A67+1 -> 58 | G68: =IF(SUMIFS(vente!D:D,vente!B:B,$E$8,vente!C:C,'2'!A68)=0,"",SUMIFS(vente!D:D,vente!B:B,$E$8,vente!C:C,'2'!A68))
A69: =A68+1 -> 59 | G69: =IF(SUMIFS(vente!D:D,vente!B:B,$E$8,vente!C:C,'2'!A69)=0,"",SUMIFS(vente!D:D,vente!B:B,$E$8,vente!C:C,'2'!A69))
A70: =A69+1 -> 60 | G70: =IF(SUMIFS(vente!D:D,vente!B:B,$E$8,vente!C:C,'2'!A70)=0,"",SUMIFS(vente!D:D,vente!B:B,$E$8,vente!C:C,'2'!A70))
D71: Total Ventes | G71: =SUM(G11:G70) -> 0
D72: Prélèvement asso (30%) | G72: =G71*30% -> 0
C73: maximum 60 articles déposés | D73: Total cliente | G73: =G71-G72 -> 0

Sheet 14
B1: Bourse aux vêtements - Accueil et Loisirs - St Fulgent
D3: Nom | E3: A
D4: Prénom
B5: Repris / Non repris | D5: Adresse
D6: Téléphone
D8: N° Client | E8: =MID(CELL("nomfichier",A1),FIND("]",CELL("nomfichier",A1))+1,32) -> 14
A10: N° | B10: Age | C10: Désignation | D10: Marque | E10: sexe | F10: prix | G10: vendu
A11: 1 | B11: 38-40 | C11: chemise de nuit grossesse marron | D11: calinkalin | F11: 1 | G11: =IF(SUMIFS(vente!D:D,vente!B:B,$E$8,vente!C:C,'2'!A11)=0,"",SUMIFS(vente!D:D,vente!B:B,$E$8,vente!C:C,'2'!A11))
A12: =A11+1 -> 2 | B12: M | C12: tunique grossesse grise violette manche 3/4 | D12: piches | F12: 1 | G12: =IF(SUMIFS(vente!D:D,vente!B:B,$E$8,vente!C:C,'2'!A12)=0,"",SUMIFS(vente!D:D,vente!B:B,$E$8,vente!C:C,'2'!A12))
A13: =A12+1 -> 3 | B13: M | C13: pantacourts grossesse blanc | D13: cmp | F13: 1 | G13: =IF(SUMIFS(vente!D:D,vente!B:B,$E$8,vente!C:C,'2'!A13)=0,"",SUMIFS(vente!D:D,vente!B:B,$E$8,vente!C:C,'2'!A13))
A14: =A13+1 -> 4 | B14: M | C14: robe violette manche 3/4 | D14: only | F14: 2 | G14: =IF(SUMIFS(vente!D:D,vente!B:B,$E$8,vente!C:C,'2'!A14)=0,"",SUMIFS(vente!D:D,vente!B:B,$E$8,vente!C:C,'2'!A14))
A15: =A14+1 -> 5 | C15: débardeur grossesse noir | D15: endsky | F15: 1 | G15: =IF(SUMIFS(vente!D:D,vente!B:B,$E$8,vente!C:C,'2'!A15)=0,"",SUMIFS(vente!D:D,vente!B:B,$E$8,vente!C:C,'2'!A15))
A16: =A15+1 -> 6 | B16: 40 | C16: débardeur grossesse imprimé jaune gris bleu | D16: kiabi | F16: 2 | G16: =IF(SUMIFS(vente!D:D,vente!B:B,$E$8,vente!C:C,'2'!A16)=0,"",SUMIFS(vente!D:D,vente!B:B,$E$8,vente!C:C,'2'!A16))
A17: =A16+1 -> 7 | B17: s | C17: chemisier grossesse taupe | D17: only | F17: 2 | G17: =IF(SUMIFS(vente!D:D,vente!B:B,$E$8,vente!C:C,'2'!A17)=0,"",SUMIFS(vente!D:D,vente!B:B,$E$8,vente!C:C,'2'!A17))
A18: =A17+1 -> 8 | B18: 18 mois | C18: pyjama jaune orange vert | D18: orchestra | E18: G | F18: 1 | G18: =IF(SUMIFS(vente!D:D,vente!B:B,$E$8,vente!C:C,'2'!A18)=0,"",SUMIFS(vente!D:D,vente!B:B,$E$8,vente!C:C,'2'!A18))
A19: =A18+1 -> 9 | B19: 18 mois | C19: tee shirt ML bleu et blanc | D19: orchestra | E19: G | F19: 1 | G19: =IF(SUMIFS(vente!D:D,vente!B:B,$E$8,vente!C:C,'2'!A19)=0,"",SUMIFS(vente!D:D,vente!B:B,$E$8,vente!C:C,'2'!A19))
A20: =A19+1 -> 10 | B20: 18 mois | C20: chemise blanche ML | D20: orchestra | E20: G | F20: 1 | G20: =IF(SUMIFS(vente!D:D,vente!B:B,$E$8,vente!C:C,'2'!A20)=0,"",SUMIFS(vente!D:D,vente!B:B,$E$8,vente!C:C,'2'!A20))
A21: =A20+1 -> 11 | B21: 18 mois | C21: tee shirt blanc MC voiture | E21: G | F21: 1 | G21: =IF(SUMIFS(vente!D:D,vente!B:B,$E$8,vente!C:C,'2'!A21)=0,"",SUMIFS(vente!D:D,vente!B:B,$E$8,vente!C:C,'2'!A21))
A22: =A21+1 -> 12 | B22: 18 mois | C22: tee shirt MC blanc "use your imagination" | D22: timberland | E22: G | F22: 1 | G22: =IF(SUMIFS(vente!D:D,vente!B:B,$E$8,vente!C:C,'2'!A22)=0,"",SUMIFS(vente!D:D,vente!B:B,$E$8,vente!C:C,'2'!A22))
A23: =A22+1 -> 13 | B23: 18 mois | C23: tee shirt ML orange et blanc | D23: timberland | E23: G | F23: 1 | G23: =IF(SUMIFS(vente!D:D,vente!B:B,$E$8,vente!C:C,'2'!A23)=0,"",SUMIFS(vente!D:D,vente!B:B,$E$8,vente!C:C,'2'!A23))
A24: =A23+1 -> 14 | B24: 18 mois | C24: ensemble pantalon bordeau et tunique fleurs | D24: u tout petit | E24: F | F24: 2 | G24: =IF(SUMIFS(vente!D:D,vente!B:B,$E$8,vente!C:C,'2'!A24)=0,"",SUMIFS(vente!D:D,vente!B:B,$E$8,vente!C:C,'2'!A24))
A25: =A24+1 -> 15 | B25: 18 mois | C25: salopette longue jean noir | D25: orchestra | E25: G | F25: 1 | G25: =IF(SUMIFS(vente!D:D,vente!B:B,$E$8,vente!C:C,'2'!A25)=0,"",SUMIFS(vente!D:D,vente!B:B,$E$8,vente!C:C,'2'!A25))
A26: =A25+1 -> 16 | B26: 18 mois | C26: ensemble salopette short jean gris clair et tee shirt rayé | D26: terre de marins | E26: G | F26: 2 | G26: =IF(SUMIFS(vente!D:D,vente!B:B,$E$8,vente!C:C,'2'!A26)=0,"",SUMIFS(vente!D:D,vente!B:B,$E$8,vente!C:C,'2'!A26))
A27: =A26+1 -> 17 | B27: 18 mois | C27: tee shirt gris bateau | D27: timberland | E27: G | F27: 1 | G27: =IF(SUMIFS(vente!D:D,vente!B:B,$E$8,vente!C:C,'2'!A27)=0,"",SUMIFS(vente!D:D,vente!B:B,$E$8,vente!C:C,'2'!A27))
A28: =A27+1 -> 18 | B28: 18 mois | C28: ensemble pantalon marron et chemise jaune | D28: tom et kiddy | E28: G | F28: 1 | G28: =IF(SUMIFS(vente!D:D,vente!B:B,$E$8,vente!C:C,'2'!A28)=0,"",SUMIFS(vente!D:D,vente!B:B,$E$8,vente!C:C,'2'!A28))
A29: 19 | B29: 18 mois | C29: polo ML kaki | D29: kidkanai | E29: G | F29: 1 | G29: =IF(SUMIFS(vente!D:D,vente!B:B,$E$8,vente!C:C,'2'!A29)=0,"",SUMIFS(vente!D:D,vente!B:B,$E$8,vente!C:C,'2'!A29))
A30: =A29+1 -> 20 | B30: 18 mois | C30: tee shirt ML blanc "destination bisous" | D30: tape à l'œil | E30: G | F30: 1 | G30: =IF(SUMIFS(vente!D:D,vente!B:B,$E$8,vente!C:C,'2'!A30)=0,"",SUMIFS(vente!D:D,vente!B:B,$E$8,vente!C:C,'2'!A30))
A31: =A30+1 -> 21 | B31: 18 mois | C31: chemise ML blanche rayé marron | D31: orchestra | E31: G | F31: 1 | G31: =IF(SUMIFS(vente!D:D,vente!B:B,$E$8,vente!C:C,'2'!A31)=0,"",SUMIFS(vente!D:D,vente!B:B,$E$8,vente!C:C,'2'!A31))
A32: =A31+1 -> 22 | B32: 18 mois | C32: chemise ML à carreaux marron vert | D32: les p'tits babies | E32: G | F32: 1 | G32: =IF(SUMIFS(vente!D:D,vente!B:B,$E$8,vente!C:C,'2'!A32)=0,"",SUMIFS(vente!D:D,vente!B:B,$E$8,vente!C:C,'2'!A32))
A33: =A32+1 -> 23 | B33: 18 mois | C33: chemise ML rayé bleu clair | D33: jean bourget | E33: G | F33: 1 | G33: =IF(SUMIFS(vente!D:D,vente!B:B,$E$8,vente!C:C,'2'!A33)=0,"",SUMIFS(vente!D:D,vente!B:B,$E$8,vente!C:C,'2'!A33))
A34: =A33+1 -> 24 | B34: 3 mois | C34: Tee shirt ML blanc rayé beige | D34: kitchoun | E34: G | F34: 1 | G34: =IF(SUMIFS(vente!D:D,vente!B:B,$E$8,vente!C:C,'2'!A34)=0,"",SUMIFS(vente!D:D,vente!B:B,$E$8,vente!C:C,'2'!A34))
A35: =A34+1 -> 25 | B35: 3 mois | C35: tee shirt ML blanc manches bleues | D35: u collection | E35: G | F35: 1 | G35: =IF(SUMIFS(vente!D:D,vente!B:B,$E$8,vente!C:C,'2'!A35)=0,"",SUMIFS(vente!D:D,vente!B:B,$E$8,vente!C:C,'2'!A35))
A36: =A35+1 -> 26 | B36: 3 mois | C36: short beige | D36: kitiwatt | E36: G | F36: 1 | G36: =IF(SUMIFS(vente!D:D,vente!B:B,$E$8,vente!C:C,'2'!A36)=0,"",SUMIFS(vente!D:D,vente!B:B,$E$8,vente!C:C,'2'!A36))
A37: =A36+1 -> 27 | B37: 6 mois | C37: salopette short beige | D37: u collection | E37: G | F37: 1 | G37: =IF(SUMIFS(vente!D:D,vente!B:B,$E$8,vente!C:C,'2'!A37)=0,"",SUMIFS(vente!D:D,vente!B:B,$E$8,vente!C:C,'2'!A37))
A38: =A37+1 -> 28 | B38: 6 mois | C38: tee shirt marron | D38: kimbaloo | E38: G | F38: 1 | G38: =IF(SUMIFS(vente!D:D,vente!B:B,$E$8,vente!C:C,'2'!A38)=0,"",SUMIFS(vente!D:D,vente!B:B,$E$8,vente!C:C,'2'!A38))
A39: =A38+1 -> 29 | B39: 6 mois | C39: gilet bleu ciel | E39: G | F39: 1 | G39: =IF(SUMIFS(vente!D:D,vente!B:B,$E$8,vente!C:C,'2'!A39)=0,"",SUMIFS(vente!D:D,vente!B:B,$E$8,vente!C:C,'2'!A39))
A40: =A39+1 -> 30 | B40: 6 mois | C40: tee shirt bleu | D40: timberland | E40: G | F40: 1 | G40: =IF(SUMIFS(vente!D:D,vente!B:B,$E$8,vente!C:C,'2'!A40)=0,"",SUMIFS(vente!D:D,vente!B:B,$E$8,vente!C:C,'2'!A40))
A41: =A40+1 -> 31 | B41: 6 mois | C41: polo marine | D41: timberland | E41: G | F41: 1 | G41: =IF(SUMIFS(vente!D:D,vente!B:B,$E$8,vente!C:C,'2'!A41)=0,"",SUMIFS(vente!D:D,vente!B:B,$E$8,vente!C:C,'2'!A41))
A42: =A41+1 -> 32 | B42: 6 mois | C42: chemise ML à carreaux rouges | D42: hugo boss | E42: G | F42: 1.5 | G42: =IF(SUMIFS(vente!D:D,vente!B:B,$E$8,vente!C:C,'2'!A42)=0,"",SUMIFS(vente!D:D,vente!B:B,$E$8,vente!C:C,'2'!A42))
A43: =A42+1 -> 33 | B43: 6 mois | C43: tee shirt ML blanc | D43: petit pirate | E43: G | F43: 1 | G43: =IF(SUMIFS(vente!D:D,vente!B:B,$E$8,vente!C:C,'2'!A43)=0,"",SUMIFS(vente!D:D,vente!B:B,$E$8,vente!C:C,'2'!A43))
A44: =A43+1 -> 34 | B44: 6 mois | C44: tee shirt bleu baleine | D44: marese | E44: G | F44: 1 | G44: =IF(SUMIFS(vente!D:D,vente!B:B,$E$8,vente!C:C,'2'!A44)=0,"",SUMIFS(vente!D:D,vente!B:B,$E$8,vente!C:C,'2'!A44))
A45: =A44+1 -> 35 | B45: 6 mois | C45: ensemble salopette short rouge et tee shirt | D45: ourson | E45: G | F45: 1.5 | G45: =IF(SUMIFS(vente!D:D,vente!B:B,$E$8,vente!C:C,'2'!A45)=0,"",SUMIFS(vente!D:D,vente!B:B,$E$8,vente!C:C,'2'!A45))
A46: =A45+1 -> 36 | B46: 6 mois | C46: salopette marron | D46: pickouic | E46: G | F46: 1 | G46: =IF(SUMIFS(vente!D:D,vente!B:B,$E$8,vente!C:C,'2'!A46)=0,"",SUMIFS(vente!D:D,vente!B:B,$E$8,vente!C:C,'2'!A46))
A47: =A46+1 -> 37 | B47: 9 mois | C47: tee shirt orange | D47: alphabet | E47: G | F47: 1 | G47: =IF(SUMIFS(vente!D:D,vente!B:B,$E$8,vente!C:C,'2'!A47)=0,"",SUMIFS(vente!D:D,vente!B:B,$E$8,vente!C:C,'2'!A47))
A48: =A47+1 -> 38 | B48: 12 mois | C48: ensemble robe rose et culotte | D48: mini adélie | E48: F | F48: 1.5 | G48: =IF(SUMIFS(vente!D:D,vente!B:B,$E$8,vente!C:C,'2'!A48)=0,"",SUMIFS(vente!D:D,vente!B:B,$E$8,vente!C:C,'2'!A48))
A49: =A48+1 -> 39 | B49: 3 ans | C49: chemise ML grise | D49: orchestra | E49: G | F49: 1 | G49: =IF(SUMIFS(vente!D:D,vente!B:B,$E$8,vente!C:C,'2'!A49)=0,"",SUMIFS(vente!D:D,vente!B:B,$E$8,vente!C:C,'2'!A49))
A50: =A49+1 -> 40 | B50: 3 ans | C50: chemise rayé | D50: orchestra | E50: G | F50: 1 | G50: =IF(SUMIFS(vente!D:D,vente!B:B,$E$8,vente!C:C,'2'!A50)=0,"",SUMIFS(vente!D:D,vente!B:B,$E$8,vente!C:C,'2'!A50))
A51: =A50+1 -> 41 | B51: 8 ans | C51: tee shirt ML beige camion | E51: G | F51: 1 | G51: =IF(SUMIFS(vente!D:D,vente!B:B,$E$8,vente!C:C,'2'!A51)=0,"",SUMIFS(vente!D:D,vente!B:B,$E$8,vente!C:C,'2'!A51))
A52: =A51+1 -> 42 | B52: 10 ans | C52: sweat gris | D52: energetics | E52: G | F52: 2 | G52: =IF(SUMIFS(vente!D:D,vente!B:B,$E$8,vente!C:C,'2'!A52)=0,"",SUMIFS(vente!D:D,vente!B:B,$E$8,vente!C:C,'2'!A52))
A53: =A52+1 -> 43 | B53: 8 ans | C53: tee shirt ML bleu robot | D53: pick ouic | E53: G | F53: 1 | G53: =IF(SUMIFS(vente!D:D,vente!B:B,$E$8,vente!C:C,'2'!A53)=0,"",SUMIFS(vente!D:D,vente!B:B,$E$8,vente!C:C,'2'!A53))
A54: =A53+1 -> 44 | B54: 8 ans | C54: jean bleu | D54: tissaia | E54: G | F54: 1.5 | G54: =IF(SUMIFS(vente!D:D,vente!B:B,$E$8,vente!C:C,'2'!A54)=0,"",SUMIFS(vente!D:D,vente!B:B,$E$8,vente!C:C,'2'!A54))
A55: =A54+1 -> 45 | B55: 18 mois | C55: gilet court blanc | D55: tape à l'œil | E55: F | F55: 1 | G55: =IF(SUMIFS(vente!D:D,vente!B:B,$E$8,vente!C:C,'2'!A55)=0,"",SUMIFS(vente!D:D,vente!B:B,$E$8,vente!C:C,'2'!A55))
A56: =A55+1 -> 46 | B56: 24 mois | C56: gilet rouge | D56: u collection | E56: F | F56: 1 | G56: =IF(SUMIFS(vente!D:D,vente!B:B,$E$8,vente!C:C,'2'!A56)=0,"",SUMIFS(vente!D:D,vente!B:B,$E$8,vente!C:C,'2'!A56))
A57: =A56+1 -> 47 | B57: 23 mois | C57: robe rose winnie l'ourson | D57: disney | E57: F | F57: 1 | G57: =IF(SUMIFS(vente!D:D,vente!B:B,$E$8,vente!C:C,'2'!A57)=0,"",SUMIFS(vente!D:D,vente!B:B,$E$8,vente!C:C,'2'!A57))
A58: =A57+1 -> 48 | B58: 4 ans | C58: pantacourts kaki | E58: G | F58: 1 | G58: =IF(SUMIFS(vente!D:D,vente!B:B,$E$8,vente!C:C,'2'!A58)=0,"",SUMIFS(vente!D:D,vente!B:B,$E$8,vente!C:C,'2'!A58))
A59: =A58+1 -> 49 | B59: 6 ans | C59: gilet sans manche noir | D59: bestway | E59: G | F59: 1 | G59: =IF(SUMIFS(vente!D:D,vente!B:B,$E$8,vente!C:C,'2'!A59)=0,"",SUMIFS(vente!D:D,vente!B:B,$E$8,vente!C:C,'2'!A59))
A60: =A59+1 -> 50 | B60: 6 ans | C60: chemise noir rayé | D60: bestway | E60: G | F60: 1 | G60: =IF(SUMIFS(vente!D:D,vente!B:B,$E$8,vente!C:C,'2'!A60)=0,"",SUMIFS(vente!D:D,vente!B:B,$E$8,vente!C:C,'2'!A60))
A61: =A60+1 -> 51 | B61: 6 ans | C61: short flash mc queen | D61: disney | E61: G | F61: 1 | G61: =IF(SUMIFS(vente!D:D,vente!B:B,$E$8,vente!C:C,'2'!A61)=0,"",SUMIFS(vente!D:D,vente!B:B,$E$8,vente!C:C,'2'!A61))
A62: =A61+1 -> 52 | B62: 5 ans | C62: chemise beige rayé | D62: bestway | E62: G | F62: 1 | G62: =IF(SUMIFS(vente!D:D,vente!B:B,$E$8,vente!C:C,'2'!A62)=0,"",SUMIFS(vente!D:D,vente!B:B,$E$8,vente!C:C,'2'!A62))
A63: =A62+1 -> 53 | B63: 3 ans | C63: short noir motoring 27 | E63: G | F63: 1 | G63: =IF(SUMIFS(vente!D:D,vente!B:B,$E$8,vente!C:C,'2'!A63)=0,"",SUMIFS(vente!D:D,vente!B:B,$E$8,vente!C:C,'2'!A63))
A64: =A63+1 -> 54 | B64: 24 mois | C64: robe salopette grise | D64: u collection | E64: F | F64: 2 | G64: =IF(SUMIFS(vente!D:D,vente!B:B,$E$8,vente!C:C,'2'!A64)=0,"",SUMIFS(vente!D:D,vente!B:B,$E$8,vente!C:C,'2'!A64))
A65: =A64+1 -> 55 | B65: 8 ans | C65: tee-shirt bleu marine | D65: sportway | E65: G | F65: 1 | G65: =IF(SUMIFS(vente!D:D,vente!B:B,$E$8,vente!C:C,'2'!A65)=0,"",SUMIFS(vente!D:D,vente!B:B,$E$8,vente!C:C,'2'!A65))
A66: =A65+1 -> 56 | B66: 8 ans | C66: short gris | D66: u essentiel | E66: G | F66: 2 | G66: =IF(SUMIFS(vente!D:D,vente!B:B,$E$8,vente!C:C,'2'!A66)=0,"",SUMIFS(vente!D:D,vente!B:B,$E$8,vente!C:C,'2'!A66))
A67: =A66+1 -> 57 | G67: =IF(SUMIFS(vente!D:D,vente!B:B,$E$8,vente!C:C,'2'!A67)=0,"",SUMIFS(vente!D:D,vente!B:B,$E$8,vente!C:C,'2'!A67))
A68: =A67+1 -> 58 | G68: =IF(SUMIFS(vente!D:D,vente!B:B,$E$8,vente!C:C,'2'!A68)=0,"",SUMIFS(vente!D:D,vente!B:B,$E$8,vente!C:C,'2'!A68))
A69: =A68+1 -> 59 | G69: =IF(SUMIFS(vente!D:D,vente!B:B,$E$8,vente!C:C,'2'!A69)=0,"",SUMIFS(vente!D:D,vente!B:B,$E$8,vente!C:C,'2'!A69))
A70: =A69+1 -> 60 | G70: =IF(SUMIFS(vente!D:D,vente!B:B,$E$8,vente!C:C,'2'!A70)=0,"",SUMIFS(vente!D:D,vente!B:B,$E$8,vente!C:C,'2'!A70))
D71: Total Ventes | G71: =SUM(G11:G70) -> 0
D72: Prélèvement asso (30%) | G72: =G71*30% -> 0
C73: maximum 60 articles déposés | D73: Total cliente | G73: =G71-G72 -> 0

Sheet 15
B1: Bourse aux vêtements - Accueil et Loisirs - St Fulgent
D3: Nom | E3: A
D4: Prénom
B5: Repris / Non repris | D5: Adresse
D6: Téléphone
D8: N° Client | E8: =MID(CELL("nomfichier",A1),FIND("]",CELL("nomfichier",A1))+1,32) -> 15
A10: N° | B10: Age | C10: Désignation | D10: Marque | E10: sexe | F10: prix | G10: vendu
A11: 1 | B11: 38-40 | C11: chemise de nuit grossesse marron | D11: calinkalin | F11: 1 | G11: =IF(SUMIFS(vente!D:D,vente!B:B,$E$8,vente!C:C,'2'!A11)=0,"",SUMIFS(vente!D:D,vente!B:B,$E$8,vente!C:C,'2'!A11))
A12: =A11+1 -> 2 | B12: M | C12: tunique grossesse grise violette manche 3/4 | D12: piches | F12: 1 | G12: =IF(SUMIFS(vente!D:D,vente!B:B,$E$8,vente!C:C,'2'!A12)=0,"",SUMIFS(vente!D:D,vente!B:B,$E$8,vente!C:C,'2'!A12))
A13: =A12+1 -> 3 | B13: M | C13: pantacourts grossesse blanc | D13: cmp | F13: 1 | G13: =IF(SUMIFS(vente!D:D,vente!B:B,$E$8,vente!C:C,'2'!A13)=0,"",SUMIFS(vente!D:D,vente!B:B,$E$8,vente!C:C,'2'!A13))
A14: =A13+1 -> 4 | B14: M | C14: robe violette manche 3/4 | D14: only | F14: 2 | G14: =IF(SUMIFS(vente!D:D,vente!B:B,$E$8,vente!C:C,'2'!A14)=0,"",SUMIFS(vente!D:D,vente!B:B,$E$8,vente!C:C,'2'!A14))
A15: =A14+1 -> 5 | C15: débardeur grossesse noir | D15: endsky | F15: 1 | G15: =IF(SUMIFS(vente!D:D,vente!B:B,$E$8,vente!C:C,'2'!A15)=0,"",SUMIFS(vente!D:D,vente!B:B,$E$8,vente!C:C,'2'!A15))
A16: =A15+1 -> 6 | B16: 40 | C16: débardeur grossesse imprimé jaune gris bleu | D16: kiabi | F16: 2 | G16: =IF(SUMIFS(vente!D:D,vente!B:B,$E$8,vente!C:C,'2'!A16)=0,"",SUMIFS(vente!D:D,vente!B:B,$E$8,vente!C:C,'2'!A16))
A17: =A16+1 -> 7 | B17: s | C17: chemisier grossesse taupe | D17: only | F17: 2 | G17: =IF(SUMIFS(vente!D:D,vente!B:B,$E$8,vente!C:C,'2'!A17)=0,"",SUMIFS(vente!D:D,vente!B:B,$E$8,vente!C:C,'2'!A17))
A18: =A17+1 -> 8 | B18: 18 mois | C18: pyjama jaune orange vert | D18: orchestra | E18: G | F18: 1 | G18: =IF(SUMIFS(vente!D:D,vente!B:B,$E$8,vente!C:C,'2'!A18)=0,"",SUMIFS(vente!D:D,vente!B:B,$E$8,vente!C:C,'2'!A18))
A19: =A18+1 -> 9 | B19: 18 mois | C19: tee shirt ML bleu et blanc | D19: orchestra | E19: G | F19: 1 | G19: =IF(SUMIFS(vente!D:D,vente!B:B,$E$8,vente!C:C,'2'!A19)=0,"",SUMIFS(vente!D:D,vente!B:B,$E$8,vente!C:C,'2'!A19))
A20: =A19+1 -> 10 | B20: 18 mois | C20: chemise blanche ML | D20: orchestra | E20: G | F20: 1 | G20: =IF(SUMIFS(vente!D:D,vente!B:B,$E$8,vente!C:C,'2'!A20)=0,"",SUMIFS(vente!D:D,vente!B:B,$E$8,vente!C:C,'2'!A20))
A21: =A20+1 -> 11 | B21: 18 mois | C21: tee shirt blanc MC voiture | E21: G | F21: 1 | G21: =IF(SUMIFS(vente!D:D,vente!B:B,$E$8,vente!C:C,'2'!A21)=0,"",SUMIFS(vente!D:D,vente!B:B,$E$8,vente!C:C,'2'!A21))
A22: =A21+1 -> 12 | B22: 18 mois | C22: tee shirt MC blanc "use your imagination" | D22: timberland | E22: G | F22: 1 | G22: =IF(SUMIFS(vente!D:D,vente!B:B,$E$8,vente!C:C,'2'!A22)=0,"",SUMIFS(vente!D:D,vente!B:B,$E$8,vente!C:C,'2'!A22))
A23: =A22+1 -> 13 | B23: 18 mois | C23: tee shirt ML orange et blanc | D23: timberland | E23: G | F23: 1 | G23: =IF(SUMIFS(vente!D:D,vente!B:B,$E$8,vente!C:C,'2'!A23)=0,"",SUMIFS(vente!D:D,vente!B:B,$E$8,vente!C:C,'2'!A23))
A24: =A23+1 -> 14 | B24: 18 mois | C24: ensemble pantalon bordeau et tunique fleurs | D24: u tout petit | E24: F | F24: 2 | G24: =IF(SUMIFS(vente!D:D,vente!B:B,$E$8,vente!C:C,'2'!A24)=0,"",SUMIFS(vente!D:D,vente!B:B,$E$8,vente!C:C,'2'!A24))
A25: =A24+1 -> 15 | B25: 18 mois | C25: salopette longue jean noir | D25: orchestra | E25: G | F25: 1 | G25: =IF(SUMIFS(vente!D:D,vente!B:B,$E$8,vente!C:C,'2'!A25)=0,"",SUMIFS(vente!D:D,vente!B:B,$E$8,vente!C:C,'2'!A25))
A26: =A25+1 -> 16 | B26: 18 mois | C26: ensemble salopette short jean gris clair et tee shirt rayé | D26: terre de marins | E26: G | F26: 2 | G26: =IF(SUMIFS(vente!D:D,vente!B:B,$E$8,vente!C:C,'2'!A26)=0,"",SUMIFS(vente!D:D,vente!B:B,$E$8,vente!C:C,'2'!A26))
A27: =A26+1 -> 17 | B27: 18 mois | C27: tee shirt gris bateau | D27: timberland | E27: G | F27: 1 | G27: =IF(SUMIFS(vente!D:D,vente!B:B,$E$8,vente!C:C,'2'!A27)=0,"",SUMIFS(vente!D:D,vente!B:B,$E$8,vente!C:C,'2'!A27))
A28: =A27+1 -> 18 | B28: 18 mois | C28: ensemble pantalon marron et chemise jaune | D28: tom et kiddy | E28: G | F28: 1 | G28: =IF(SUMIFS(vente!D:D,vente!B:B,$E$8,vente!C:C,'2'!A28)=0,"",SUMIFS(vente!D:D,vente!B:B,$E$8,vente!C:C,'2'!A28))
A29: 19 | B29: 18 mois | C29: polo ML kaki | D29: kidkanai | E29: G | F29: 1 | G29: =IF(SUMIFS(vente!D:D,vente!B:B,$E$8,vente!C:C,'2'!A29)=0,"",SUMIFS(vente!D:D,vente!B:B,$E$8,vente!C:C,'2'!A29))
A30: =A29+1 -> 20 | B30: 18 mois | C30: tee shirt ML blanc "destination bisous" | D30: tape à l'œil | E30: G | F30: 1 | G30: =IF(SUMIFS(vente!D:D,vente!B:B,$E$8,vente!C:C,'2'!A30)=0,"",SUMIFS(vente!D:D,vente!B:B,$E$8,vente!C:C,'2'!A30))
A31: =A30+1 -> 21 | B31: 18 mois | C31: chemise ML blanche rayé marron | D31: orchestra | E31: G | F31: 1 | G31: =IF(SUMIFS(vente!D:D,vente!B:B,$E$8,vente!C:C,'2'!A31)=0,"",SUMIFS(vente!D:D,vente!B:B,$E$8,vente!C:C,'2'!A31))
A32: =A31+1 -> 22 | B32: 18 mois | C32: chemise ML à carreaux marron vert | D32: les p'tits babies | E32: G | F32: 1 | G32: =IF(SUMIFS(vente!D:D,vente!B:B,$E$8,vente!C:C,'2'!A32)=0,"",SUMIFS(vente!D:D,vente!B:B,$E$8,vente!C:C,'2'!A32))
A33: =A32+1 -> 23 | B33: 18 mois | C33: chemise ML rayé bleu clair | D33: jean bourget | E33: G | F33: 1 | G33: =IF(SUMIFS(vente!D:D,vente!B:B,$E$8,vente!C:C,'2'!A33)=0,"",SUMIFS(vente!D:D,vente!B:B,$E$8,vente!C:C,'2'!A33))
A34: =A33+1 -> 24 | B34: 3 mois | C34: Tee shirt ML blanc rayé beige | D34: kitchoun | E34: G | F34: 1 | G34: =IF(SUMIFS(vente!D:D,vente!B:B,$E$8,vente!C:C,'2'!A34)=0,"",SUMIFS(vente!D:D,vente!B:B,$E$8,vente!C:C,'2'!A34))
A35: =A34+1 -> 25 | B35: 3 mois | C35: tee shirt ML blanc manches bleues | D35: u collection | E35: G | F35: 1 | G35: =IF(SUMIFS(vente!D:D,vente!B:B,$E$8,vente!C:C,'2'!A35)=0,"",SUMIFS(vente!D:D,vente!B:B,$E$8,vente!C:C,'2'!A35))
A36: =A35+1 -> 26 | B36: 3 mois | C36: short beige | D36: kitiwatt | E36: G | F36: 1 | G36: =IF(SUMIFS(vente!D:D,vente!B:B,$E$8,vente!C:C,'2'!A36)=0,"",SUMIFS(vente!D:D,vente!B:B,$E$8,vente!C:C,'2'!A36))
A37: =A36+1 -> 27 | B37: 6 mois | C37: salopette short beige | D37: u collection | E37: G | F37: 1 | G37: =IF(SUMIFS(vente!D:D,vente!B:B,$E$8,vente!C:C,'2'!A37)=0,"",SUMIFS(vente!D:D,vente!B:B,$E$8,vente!C:C,'2'!A37))
A38: =A37+1 -> 28 | B38: 6 mois | C38: tee shirt marron | D38: kimbaloo | E38: G | F38: 1 | G38: =IF(SUMIFS(vente!D:D,vente!B:B,$E$8,vente!C:C,'2'!A38)=0,"",SUMIFS(vente!D:D,vente!B:B,$E$8,vente!C:C,'2'!A38))
A39: =A38+1 -> 29 | B39: 6 mois | C39: gilet bleu ciel | E39: G | F39: 1 | G39: =IF(SUMIFS(vente!D:D,vente!B:B,$E$8,vente!C:C,'2'!A39)=0,"",SUMIFS(vente!D:D,vente!B:B,$E$8,vente!C:C,'2'!A39))
A40: =A39+1 -> 30 | B40: 6 mois | C40: tee shirt bleu | D40: timberland | E40: G | F40: 1 | G40: =IF(SUMIFS(vente!D:D,vente!B:B,$E$8,vente!C:C,'2'!A40)=0,"",SUMIFS(vente!D:D,vente!B:B,$E$8,vente!C:C,'2'!A40))
A41: =A40+1 -> 31 | B41: 6 mois | C41: polo marine | D41: timberland | E41: G | F41: 1 | G41: =IF(SUMIFS(vente!D:D,vente!B:B,$E$8,vente!C:C,'2'!A41)=0,"",SUMIFS(vente!D:D,vente!B:B,$E$8,vente!C:C,'2'!A41))
A42: =A41+1 -> 32 | B42: 6 mois | C42: chemise ML à carreaux rouges | D42: hugo boss | E42: G | F42: 1.5 | G42: =IF(SUMIFS(vente!D:D,vente!B:B,$E$8,vente!C:C,'2'!A42)=0,"",SUMIFS(vente!D:D,vente!B:B,$E$8,vente!C:C,'2'!A42))
A43: =A42+1 -> 33 | B43: 6 mois | C43: tee shirt ML blanc | D43: petit pirate | E43: G | F43: 1 | G43: =IF(SUMIFS(vente!D:D,vente!B:B,$E$8,vente!C:C,'2'!A43)=0,"",SUMIFS(vente!D:D,vente!B:B,$E$8,vente!C:C,'2'!A43))
A44: =A43+1 -> 34 | B44: 6 mois | C44: tee shirt bleu baleine | D44: marese | E44: G | F44: 1 | G44: =IF(SUMIFS(vente!D:D,vente!B:B,$E$8,vente!C:C,'2'!A44)=0,"",SUMIFS(vente!D:D,vente!B:B,$E$8,vente!C:C,'2'!A44))
A45: =A44+1 -> 35 | B45: 6 mois | C45: ensemble salopette short rouge et tee shirt | D45: ourson | E45: G | F45: 1.5 | G45: =IF(SUMIFS(vente!D:D,vente!B:B,$E$8,vente!C:C,'2'!A45)=0,"",SUMIFS(vente!D:D,vente!B:B,$E$8,vente!C:C,'2'!A45))
A46: =A45+1 -> 36 | B46: 6 mois | C46: salopette marron | D46: pickouic | E46: G | F46: 1 | G46: =IF(SUMIFS(vente!D:D,vente!B:B,$E$8,vente!C:C,'2'!A46)=0,"",SUMIFS(vente!D:D,vente!B:B,$E$8,vente!C:C,'2'!A46))
A47: =A46+1 -> 37 | B47: 9 mois | C47: tee shirt orange | D47: alphabet | E47: G | F47: 1 | G47: =IF(SUMIFS(vente!D:D,vente!B:B,$E$8,vente!C:C,'2'!A47)=0,"",SUMIFS(vente!D:D,vente!B:B,$E$8,vente!C:C,'2'!A47))
A48: =A47+1 -> 38 | B48: 12 mois | C48: ensemble robe rose et culotte | D48: mini adélie | E48: F | F48: 1.5 | G48: =IF(SUMIFS(vente!D:D,vente!B:B,$E$8,vente!C:C,'2'!A48)=0,"",SUMIFS(vente!D:D,vente!B:B,$E$8,vente!C:C,'2'!A48))
