Workbook
Name equipe: bdd!$J$1:$K$1
Name Interne: bdd!$J$2:$J$13
Name ST: bdd!$K$2:$K$10
Name Type1: #REF!

Sheet Suivi financier
A1: POI | B1: Type Dossier | C1: Secteur | D1: Commune | E1: Rue | F1: Date Travaux | G1: Semaine | H1: Travaux | I1: Equipe | J1: Tech 1 | K1: Tech 2 | L1: Tech 3 | M1: Tech 4 | N1: Montant Prévisionnel | O1: Montant Attaché | P1: Type ATT. | Q1: Coef interne | R1: Coef S/T | S1: Part interne | T1: Part S/T | U1: ATT. Envoyé | V1: PPD | W1: Montant PPD | X1: Commande S/T | Y1: Montant par Tech
A2: MTZ000000 | B2: activité1 | C2: NORD | D2: VILLE | E2: RUE DE L'EGLISE | F2: 44077 | G2: ="S"&_xlfn.ISOWEEKNUM(Suivifi[[#This Row],[Date Travaux]]) -> S36 | H2: Terminé | I2: ST | J2: soustraitant4 | O2: 3000 | P2: ACD01_2020 | Q2: =IF(Suivifi[[#This Row],[Type ATT.]]="ACD01_2020", (bdd!$G$2), IF(Suivifi[[#This Row],[Type ATT.]]="THF01_2020", (bdd!$G$3), IF(Suivifi[[#This Row],[Type ATT.]]="ACD01_2021", (bdd!$G$4), IF(Suivifi[[#This Row],[Type ATT.]]="THF01_2021", (bdd!$G$5), IF(Suivifi[[#This Row],[Type ATT.]]="ACD01_2022", (bdd!$G$6), IF(Suivifi[[#This Row],[Type ATT.]]="THF01_2022", (bdd!$G$7))))))) -> 1.009 | R2: =IF(Suivifi[[#This Row],[Tech 1]]="soustraitant1", (bdd!$L$2), IF(Suivifi[[#This Row],[Tech 1]]="soustraitant2", (bdd!$L$3), IF(Suivifi[[#This Row],[Tech 1]]="soustraitant3", (bdd!$L$4), IF(Suivifi[[#This Row],[Tech 1]]="soustraitant4", (bdd!$L$5), IF(Suivifi[[#This Row],[Tech 1]]="soustraitant5", (bdd!$L$6), 0))))) -> 0.99 | S2: =Suivifi[[#This Row],[Montant Attaché]]*Suivifi[[#This Row],[Coef interne]]-Suivifi[[#This Row],[Part S/T]] -> 57 | T2: =Suivifi[[#This Row],[Montant Attaché]]*Suivifi[[#This Row],[Coef S/T]] -> 2970 | Y2: =Suivifi[[#This Row],[Part interne]]/COUNTA(Suivifi[[#This Row],[Tech 1]:[Tech 4]]) -> 57
A3: MTZ000002 | B3: activité1 | C3: NORD | D3: VILLE | F3: 44077 | G3: ="S"&_xlfn.ISOWEEKNUM(Suivifi[[#This Row],[Date Travaux]]) -> S36 | H3: Terminé | I3: Interne | J3: Matthieu | K3: Jeremy | O3: 4582 | P3: ACD01_2020 | Q3: =IF(Suivifi[[#This Row],[Type ATT.]]="ACD01_2020", (bdd!$G$2), IF(Suivifi[[#This Row],[Type ATT.]]="THF01_2020", (bdd!$G$3), IF(Suivifi[[#This Row],[Type ATT.]]="ACD01_2021", (bdd!$G$4), IF(Suivifi[[#This Row],[Type ATT.]]="THF01_2021", (bdd!$G$5), IF(Suivifi[[#This Row],[Type ATT.]]="ACD01_2022", (bdd!$G$6), IF(Suivifi[[#This Row],[Type ATT.]]="THF01_2022", (bdd!$G$7))))))) -> 1.009 | R3: =IF(Suivifi[[#This Row],[Tech 1]]="soustraitant1", (bdd!$L$2), IF(Suivifi[[#This Row],[Tech 1]]="soustraitant2", (bdd!$L$3), IF(Suivifi[[#This Row],[Tech 1]]="soustraitant3", (bdd!$L$4), IF(Suivifi[[#This Row],[Tech 1]]="soustraitant4", (bdd!$L$5), IF(Suivifi[[#This Row],[Tech 1]]="soustraitant5", (bdd!$L$6), 0))))) -> 0 | S3: =Suivifi[[#This Row],[Montant Attaché]]*Suivifi[[#This Row],[Coef interne]]-Suivifi[[#This Row],[Part S/T]] -> 4623.238 | T3: =Suivifi[[#This Row],[Montant Attaché]]*Suivifi[[#This Row],[Coef S/T]] -> 0 | Y3: =Suivifi[[#This Row],[Part interne]]/COUNTA(Suivifi[[#This Row],[Tech 1]:[Tech 4]]) -> 2311.619
A4: MTZ000003 | B4: activité1 | C4: NORD | D4: VILLE | F4: 44077 | G4: ="S"&_xlfn.ISOWEEKNUM(Suivifi[[#This Row],[Date Travaux]]) -> S36 | H4: Partiel | I4: Interne | J4: Matthieu | K4: Mohamed | O4: 200 | P4: ACD01_2020 | Q4: =IF(Suivifi[[#This Row],[Type ATT.]]="ACD01_2020", (bdd!$G$2), IF(Suivifi[[#This Row],[Type ATT.]]="THF01_2020", (bdd!$G$3), IF(Suivifi[[#This Row],[Type ATT.]]="ACD01_2021", (bdd!$G$4), IF(Suivifi[[#This Row],[Type ATT.]]="THF01_2021", (bdd!$G$5), IF(Suivifi[[#This Row],[Type ATT.]]="ACD01_2022", (bdd!$G$6), IF(Suivifi[[#This Row],[Type ATT.]]="THF01_2022", (bdd!$G$7))))))) -> 1.009 | R4: =IF(Suivifi[[#This Row],[Tech 1]]="soustraitant1", (bdd!$L$2), IF(Suivifi[[#This Row],[Tech 1]]="soustraitant2", (bdd!$L$3), IF(Suivifi[[#This Row],[Tech 1]]="soustraitant3", (bdd!$L$4), IF(Suivifi[[#This Row],[Tech 1]]="soustraitant4", (bdd!$L$5), IF(Suivifi[[#This Row],[Tech 1]]="soustraitant5", (bdd!$L$6), 0))))) -> 0 | S4: =Suivifi[[#This Row],[Montant Attaché]]*Suivifi[[#This Row],[Coef interne]]-Suivifi[[#This Row],[Part S/T]] -> 201.8 | T4: =Suivifi[[#This Row],[Montant Attaché]]*Suivifi[[#This Row],[Coef S/T]] -> 0 | Y4: =Suivifi[[#This Row],[Part interne]]/COUNTA(Suivifi[[#This Row],[Tech 1]:[Tech 4]]) -> 100.9
A5: MTZ000004 | B5: activité1 | C5: NORD | D5: VILLE | F5: 44077 | G5: ="S"&_xlfn.ISOWEEKNUM(Suivifi[[#This Row],[Date Travaux]]) -> S36 | H5: Terminé | I5: Interne | J5: Mohamed | K5: Estelle | O5: 625 | P5: ACD01_2020 | Q5: =IF(Suivifi[[#This Row],[Type ATT.]]="ACD01_2020", (bdd!$G$2), IF(Suivifi[[#This Row],[Type ATT.]]="THF01_2020", (bdd!$G$3), IF(Suivifi[[#This Row],[Type ATT.]]="ACD01_2021", (bdd!$G$4), IF(Suivifi[[#This Row],[Type ATT.]]="THF01_2021", (bdd!$G$5), IF(Suivifi[[#This Row],[Type ATT.]]="ACD01_2022", (bdd!$G$6), IF(Suivifi[[#This Row],[Type ATT.]]="THF01_2022", (bdd!$G$7))))))) -> 1.009 | R5: =IF(Suivifi[[#This Row],[Tech 1]]="soustraitant1", (bdd!$L$2), IF(Suivifi[[#This Row],[Tech 1]]="soustraitant2", (bdd!$L$3), IF(Suivifi[[#This Row],[Tech 1]]="soustraitant3", (bdd!$L$4), IF(Suivifi[[#This Row],[Tech 1]]="soustraitant4", (bdd!$L$5), IF(Suivifi[[#This Row],[Tech 1]]="soustraitant5", (bdd!$L$6), 0))))) -> 0 | S5: =Suivifi[[#This Row],[Montant Attaché]]*Suivifi[[#This Row],[Coef interne]]-Suivifi[[#This Row],[Part S/T]] -> 630.625 | T5: =Suivifi[[#This Row],[Montant Attaché]]*Suivifi[[#This Row],[Coef S/T]] -> 0 | Y5: =Suivifi[[#This Row],[Part interne]]/COUNTA(Suivifi[[#This Row],[Tech 1]:[Tech 4]]) -> 315.3125
A6: MTZ000005 | B6: activité2 | C6: NORD | D6: VILLE | F6: 44077 | G6: ="S"&_xlfn.ISOWEEKNUM(Suivifi[[#This Row],[Date Travaux]]) -> S36 | H6: Terminé | I6: Interne | J6: Matthieu | K6: Thomas | O6: 300 | P6: ACD01_2020 | Q6: =IF(Suivifi[[#This Row],[Type ATT.]]="ACD01_2020", (bdd!$G$2), IF(Suivifi[[#This Row],[Type ATT.]]="THF01_2020", (bdd!$G$3), IF(Suivifi[[#This Row],[Type ATT.]]="ACD01_2021", (bdd!$G$4), IF(Suivifi[[#This Row],[Type ATT.]]="THF01_2021", (bdd!$G$5), IF(Suivifi[[#This Row],[Type ATT.]]="ACD01_2022", (bdd!$G$6), IF(Suivifi[[#This Row],[Type ATT.]]="THF01_2022", (bdd!$G$7))))))) -> 1.009 | R6: =IF(Suivifi[[#This Row],[Tech 1]]="soustraitant1", (bdd!$L$2), IF(Suivifi[[#This Row],[Tech 1]]="soustraitant2", (bdd!$L$3), IF(Suivifi[[#This Row],[Tech 1]]="soustraitant3", (bdd!$L$4), IF(Suivifi[[#This Row],[Tech 1]]="soustraitant4", (bdd!$L$5), IF(Suivifi[[#This Row],[Tech 1]]="soustraitant5", (bdd!$L$6), 0))))) -> 0 | S6: =Suivifi[[#This Row],[Montant Attaché]]*Suivifi[[#This Row],[Coef interne]]-Suivifi[[#This Row],[Part S/T]] -> 302.7 | T6: =Suivifi[[#This Row],[Montant Attaché]]*Suivifi[[#This Row],[Coef S/T]] -> 0 | Y6: =Suivifi[[#This Row],[Part interne]]/COUNTA(Suivifi[[#This Row],[Tech 1]:[Tech 4]]) -> 151.35
A7: MTZ000006 | B7: activité2 | C7: NORD | D7: VILLE | F7: 44077 | G7: ="S"&_xlfn.ISOWEEKNUM(Suivifi[[#This Row],[Date Travaux]]) -> S36 | H7: Terminé | I7: ST | J7: soustraitant4 | O7: 2800 | P7: ACD01_2020 | Q7: =IF(Suivifi[[#This Row],[Type ATT.]]="ACD01_2020", (bdd!$G$2), IF(Suivifi[[#This Row],[Type ATT.]]="THF01_2020", (bdd!$G$3), IF(Suivifi[[#This Row],[Type ATT.]]="ACD01_2021", (bdd!$G$4), IF(Suivifi[[#This Row],[Type ATT.]]="THF01_2021", (bdd!$G$5), IF(Suivifi[[#This Row],[Type ATT.]]="ACD01_2022", (bdd!$G$6), IF(Suivifi[[#This Row],[Type ATT.]]="THF01_2022", (bdd!$G$7))))))) -> 1.009 | R7: =IF(Suivifi[[#This Row],[Tech 1]]="soustraitant1", (bdd!$L$2), IF(Suivifi[[#This Row],[Tech 1]]="soustraitant2", (bdd!$L$3), IF(Suivifi[[#This Row],[Tech 1]]="soustraitant3", (bdd!$L$4), IF(Suivifi[[#This Row],[Tech 1]]="soustraitant4", (bdd!$L$5), IF(Suivifi[[#This Row],[Tech 1]]="soustraitant5", (bdd!$L$6), 0))))) -> 0.99 | S7: =Suivifi[[#This Row],[Montant Attaché]]*Suivifi[[#This Row],[Coef interne]]-Suivifi[[#This Row],[Part S/T]] -> 53.2 | T7: =Suivifi[[#This Row],[Montant Attaché]]*Suivifi[[#This Row],[Coef S/T]] -> 2772 | Y7: =Suivifi[[#This Row],[Part interne]]/COUNTA(Suivifi[[#This Row],[Tech 1]:[Tech 4]]) -> 53.2
A8: MTZ000007 | B8: activité3 | C8: NORD | D8: VILLE | F8: 44071 | G8: ="S"&_xlfn.ISOWEEKNUM(Suivifi[[#This Row],[Date Travaux]]) -> S35 | H8: Terminé | I8: ST | J8: soustraitant3 | O8: 210 | P8: THF01_2020 | Q8: =IF(Suivifi[[#This Row],[Type ATT.]]="ACD01_2020", (bdd!$G$2), IF(Suivifi[[#This Row],[Type ATT.]]="THF01_2020", (bdd!$G$3), IF(Suivifi[[#This Row],[Type ATT.]]="ACD01_2021", (bdd!$G$4), IF(Suivifi[[#This Row],[Type ATT.]]="THF01_2021", (bdd!$G$5), IF(Suivifi[[#This Row],[Type ATT.]]="ACD01_2022", (bdd!$G$6), IF(Suivifi[[#This Row],[Type ATT.]]="THF01_2022", (bdd!$G$7))))))) -> 1.002 | R8: =IF(Suivifi[[#This Row],[Tech 1]]="soustraitant1", (bdd!$L$2), IF(Suivifi[[#This Row],[Tech 1]]="soustraitant2", (bdd!$L$3), IF(Suivifi[[#This Row],[Tech 1]]="soustraitant3", (bdd!$L$4), IF(Suivifi[[#This Row],[Tech 1]]="soustraitant4", (bdd!$L$5), IF(Suivifi[[#This Row],[Tech 1]]="soustraitant5", (bdd!$L$6), 0))))) -> 0.97 | S8: =Suivifi[[#This Row],[Montant Attaché]]*Suivifi[[#This Row],[Coef interne]]-Suivifi[[#This Row],[Part S/T]] -> 6.72 | T8: =Suivifi[[#This Row],[Montant Attaché]]*Suivifi[[#This Row],[Coef S/T]] -> 203.7 | Y8: =Suivifi[[#This Row],[Part interne]]/COUNTA(Suivifi[[#This Row],[Tech 1]:[Tech 4]]) -> 6.72
A9: MTZ000008 | B9: activité3 | C9: NORD | D9: VILLE | F9: 44071 | G9: ="S"&_xlfn.ISOWEEKNUM(Suivifi[[#This Row],[Date Travaux]]) -> S35 | H9: Terminé | I9: ST | J9: soustraitant1 | O9: 887 | P9: THF01_2020 | Q9: =IF(Suivifi[[#This Row],[Type ATT.]]="ACD01_2020", (bdd!$G$2), IF(Suivifi[[#This Row],[Type ATT.]]="THF01_2020", (bdd!$G$3), IF(Suivifi[[#This Row],[Type ATT.]]="ACD01_2021", (bdd!$G$4), IF(Suivifi[[#This Row],[Type ATT.]]="THF01_2021", (bdd!$G$5), IF(Suivifi[[#This Row],[Type ATT.]]="ACD01_2022", (bdd!$G$6), IF(Suivifi[[#This Row],[Type ATT.]]="THF01_2022", (bdd!$G$7))))))) -> 1.002 | R9: =IF(Suivifi[[#This Row],[Tech 1]]="soustraitant1", (bdd!$L$2), IF(Suivifi[[#This Row],[Tech 1]]="soustraitant2", (bdd!$L$3), IF(Suivifi[[#This Row],[Tech 1]]="soustraitant3", (bdd!$L$4), IF(Suivifi[[#This Row],[Tech 1]]="soustraitant4", (bdd!$L$5), IF(Suivifi[[#This Row],[Tech 1]]="soustraitant5", (bdd!$L$6), 0))))) -> 0.98 | S9: =Suivifi[[#This Row],[Montant Attaché]]*Suivifi[[#This Row],[Coef interne]]-Suivifi[[#This Row],[Part S/T]] -> 19.514 | T9: =Suivifi[[#This Row],[Montant Attaché]]*Suivifi[[#This Row],[Coef S/T]] -> 869.26 | Y9: =Suivifi[[#This Row],[Part interne]]/COUNTA(Suivifi[[#This Row],[Tech 1]:[Tech 4]]) -> 19.514
A10: MTZ000009 | B10: activité2 | C10: NORD | D10: VILLE | F10: 44071 | G10: ="S"&_xlfn.ISOWEEKNUM(Suivifi[[#This Row],[Date Travaux]]) -> S35 | H10: Terminé | I10: Interne | J10: Mohamed | K10: Jerome | O10: 325 | P10: ACD01_2020 | Q10: =IF(Suivifi[[#This Row],[Type ATT.]]="ACD01_2020", (bdd!$G$2), IF(Suivifi[[#This Row],[Type ATT.]]="THF01_2020", (bdd!$G$3), IF(Suivifi[[#This Row],[Type ATT.]]="ACD01_2021", (bdd!$G$4), IF(Suivifi[[#This Row],[Type ATT.]]="THF01_2021", (bdd!$G$5), IF(Suivifi[[#This Row],[Type ATT.]]="ACD01_2022", (bdd!$G$6), IF(Suivifi[[#This Row],[Type ATT.]]="THF01_2022", (bdd!$G$7))))))) -> 1.009 | R10: =IF(Suivifi[[#This Row],[Tech 1]]="soustraitant1", (bdd!$L$2), IF(Suivifi[[#This Row],[Tech 1]]="soustraitant2", (bdd!$L$3), IF(Suivifi[[#This Row],[Tech 1]]="soustraitant3", (bdd!$L$4), IF(Suivifi[[#This Row],[Tech 1]]="soustraitant4", (bdd!$L$5), IF(Suivifi[[#This Row],[Tech 1]]="soustraitant5", (bdd!$L$6), 0))))) -> 0 | S10: =Suivifi[[#This Row],[Montant Attaché]]*Suivifi[[#This Row],[Coef interne]]-Suivifi[[#This Row],[Part S/T]] -> 327.925 | T10: =Suivifi[[#This Row],[Montant Attaché]]*Suivifi[[#This Row],[Coef S/T]] -> 0 | Y10: =Suivifi[[#This Row],[Part interne]]/COUNTA(Suivifi[[#This Row],[Tech 1]:[Tech 4]]) -> 163.9625
A11: MTZ0000010 | B11: activité2 | C11: NORD | D11: VILLE | F11: 44071 | G11: ="S"&_xlfn.ISOWEEKNUM(Suivifi[[#This Row],[Date Travaux]]) -> S35 | H11: Terminé | I11: Interne | J11: Estelle | K11: Jeremy | O11: 159 | P11: ACD01_2020 | Q11: =IF(Suivifi[[#This Row],[Type ATT.]]="ACD01_2020", (bdd!$G$2), IF(Suivifi[[#This Row],[Type ATT.]]="THF01_2020", (bdd!$G$3), IF(Suivifi[[#This Row],[Type ATT.]]="ACD01_2021", (bdd!$G$4), IF(Suivifi[[#This Row],[Type ATT.]]="THF01_2021", (bdd!$G$5), IF(Suivifi[[#This Row],[Type ATT.]]="ACD01_2022", (bdd!$G$6), IF(Suivifi[[#This Row],[Type ATT.]]="THF01_2022", (bdd!$G$7))))))) -> 1.009 | R11: =IF(Suivifi[[#This Row],[Tech 1]]="soustraitant1", (bdd!$L$2), IF(Suivifi[[#This Row],[Tech 1]]="soustraitant2", (bdd!$L$3), IF(Suivifi[[#This Row],[Tech 1]]="soustraitant3", (bdd!$L$4), IF(Suivifi[[#This Row],[Tech 1]]="soustraitant4", (bdd!$L$5), IF(Suivifi[[#This Row],[Tech 1]]="soustraitant5", (bdd!$L$6), 0))))) -> 0 | S11: =Suivifi[[#This Row],[Montant Attaché]]*Suivifi[[#This Row],[Coef interne]]-Suivifi[[#This Row],[Part S/T]] -> 160.431 | T11: =Suivifi[[#This Row],[Montant Attaché]]*Suivifi[[#This Row],[Coef S/T]] -> 0 | Y11: =Suivifi[[#This Row],[Part interne]]/COUNTA(Suivifi[[#This Row],[Tech 1]:[Tech 4]]) -> 80.2155
A12: MTZ000003 | B12: activité1 | C12: NORD | D12: VILLE | F12: 44077 | G12: ="S"&_xlfn.ISOWEEKNUM(Suivifi[[#This Row],[Date Travaux]]) -> S36 | H12: Partiel | I12: Interne | J12: Jerome | K12: Matthieu | L12: Jeremy | M12: Thomas | O12: 1250 | P12: ACD01_2020 | Q12: =IF(Suivifi[[#This Row],[Type ATT.]]="ACD01_2020", (bdd!$G$2), IF(Suivifi[[#This Row],[Type ATT.]]="THF01_2020", (bdd!$G$3), IF(Suivifi[[#This Row],[Type ATT.]]="ACD01_2021", (bdd!$G$4), IF(Suivifi[[#This Row],[Type ATT.]]="THF01_2021", (bdd!$G$5), IF(Suivifi[[#This Row],[Type ATT.]]="ACD01_2022", (bdd!$G$6), IF(Suivifi[[#This Row],[Type ATT.]]="THF01_2022", (bdd!$G$7))))))) -> 1.009 | R12: =IF(Suivifi[[#This Row],[Tech 1]]="soustraitant1", (bdd!$L$2), IF(Suivifi[[#This Row],[Tech 1]]="soustraitant2", (bdd!$L$3), IF(Suivifi[[#This Row],[Tech 1]]="soustraitant3", (bdd!$L$4), IF(Suivifi[[#This Row],[Tech 1]]="soustraitant4", (bdd!$L$5), IF(Suivifi[[#This Row],[Tech 1]]="soustraitant5", (bdd!$L$6), 0))))) -> 0 | S12: =Suivifi[[#This Row],[Montant Attaché]]*Suivifi[[#This Row],[Coef interne]]-Suivifi[[#This Row],[Part S/T]] -> 1261.25 | T12: =Suivifi[[#This Row],[Montant Attaché]]*Suivifi[[#This Row],[Coef S/T]] -> 0 | Y12: =Suivifi[[#This Row],[Part interne]]/COUNTA(Suivifi[[#This Row],[Tech 1]:[Tech 4]]) -> 315.3125
A13: Total | S13: =SUBTOTAL(109,Suivifi[Part interne]) -> 7644.403 | X13: =SUBTOTAL(103,Suivifi[Commande S/T]) -> 0

Sheet Cherche à faire
A1: Rendements 2020 | B1: S35 | C1: S36 | D1: S37
A2: Matthieu | C2: 2879.18
A3: Jerome | C3: 315.31 | D3: 161.96
A4: Geauffroy
A5: Thomas | C5: 466.66
A6: Estelle | C6: 315.31 | D6: 80.22
A7: Mohamed | C7: 416.21 | D7: 161.96
A8: Jeremy | C8: 2626.93 | D8: 80.22
B11: S35 | C11: S36 | D11: S37
A12: Matthieu | B12: =SUMIFS('Suivi financier'!$Y:$Y,'Suivi financier'!$C:$C,"NORD",'Suivi financier'!$G:$G,'Cherche à faire'!B$11,'Suivi financier'!$J:$J,'Cherche à faire'!$A12)+SUMIFS('Suivi financier'!$Y:$Y,'Suivi financier'!$C:$C,"NORD",'Suivi financier'!$G:$G,'Cherche à faire'!B$11,'Suivi financier'!$K:$K,'Cherche à faire'!$A12)+SUMIFS('Suivi financier'!$Y:$Y,'Suivi financier'!$C:$C,"NORD",'Suivi financier'!$G:$G,'Cherche à faire'!B$11,'Suivi financier'!$L:$L,'Cherche à faire'!$A12)+SUMIFS('Suivi financier'!$Y:$Y,'Suivi financier'!$C:$C,"NORD",'Suivi financier'!$G:$G,'Cherche à faire'!B$11,'Suivi financier'!$M:$M,'Cherche à faire'!$A12) -> 0 | C12: =SUMIFS('Suivi financier'!$Y:$Y,'Suivi financier'!$C:$C,"NORD",'Suivi financier'!$G:$G,'Cherche à faire'!C$11,'Suivi financier'!$J:$J,'Cherche à faire'!$A12)+SUMIFS('Suivi financier'!$Y:$Y,'Suivi financier'!$C:$C,"NORD",'Suivi financier'!$G:$G,'Cherche à faire'!C$11,'Suivi financier'!$K:$K,'Cherche à faire'!$A12)+SUMIFS('Suivi financier'!$Y:$Y,'Suivi financier'!$C:$C,"NORD",'Suivi financier'!$G:$G,'Cherche à faire'!C$11,'Suivi financier'!$L:$L,'Cherche à faire'!$A12)+SUMIFS('Suivi financier'!$Y:$Y,'Suivi financier'!$C:$C,"NORD",'Suivi financier'!$G:$G,'Cherche à faire'!C$11,'Suivi financier'!$M:$M,'Cherche à faire'!$A12) -> 2879.1815 | D12: =SUMIFS('Suivi financier'!$Y:$Y,'Suivi financier'!$C:$C,"NORD",'Suivi financier'!$G:$G,'Cherche à faire'!D$11,'Suivi financier'!$J:$J,'Cherche à faire'!$A12)+SUMIFS('Suivi financier'!$Y:$Y,'Suivi financier'!$C:$C,"NORD",'Suivi financier'!$G:$G,'Cherche à faire'!D$11,'Suivi financier'!$K:$K,'Cherche à faire'!$A12)+SUMIFS('Suivi financier'!$Y:$Y,'Suivi financier'!$C:$C,"NORD",'Suivi financier'!$G:$G,'Cherche à faire'!D$11,'Suivi financier'!$L:$L,'Cherche à faire'!$A12)+SUMIFS('Suivi financier'!$Y:$Y,'Suivi financier'!$C:$C,"NORD",'Suivi financier'!$G:$G,'Cherche à faire'!D$11,'Suivi financier'!$M:$M,'Cherche à faire'!$A12) -> 0
A13: Jerome | B13: =SUMIFS('Suivi financier'!$Y:$Y,'Suivi financier'!$C:$C,"NORD",'Suivi financier'!$G:$G,'Cherche à faire'!B$11,'Suivi financier'!$J:$J,'Cherche à faire'!$A13)+SUMIFS('Suivi financier'!$Y:$Y,'Suivi financier'!$C:$C,"NORD",'Suivi financier'!$G:$G,'Cherche à faire'!B$11,'Suivi financier'!$K:$K,'Cherche à faire'!$A13)+SUMIFS('Suivi financier'!$Y:$Y,'Suivi financier'!$C:$C,"NORD",'Suivi financier'!$G:$G,'Cherche à faire'!B$11,'Suivi financier'!$L:$L,'Cherche à faire'!$A13)+SUMIFS('Suivi financier'!$Y:$Y,'Suivi financier'!$C:$C,"NORD",'Suivi financier'!$G:$G,'Cherche à faire'!B$11,'Suivi financier'!$M:$M,'Cherche à faire'!$A13) -> 163.9625 | C13: =SUMIFS('Suivi financier'!$Y:$Y,'Suivi financier'!$C:$C,"NORD",'Suivi financier'!$G:$G,'Cherche à faire'!C$11,'Suivi financier'!$J:$J,'Cherche à faire'!$A13)+SUMIFS('Suivi financier'!$Y:$Y,'Suivi financier'!$C:$C,"NORD",'Suivi financier'!$G:$G,'Cherche à faire'!C$11,'Suivi financier'!$K:$K,'Cherche à faire'!$A13)+SUMIFS('Suivi financier'!$Y:$Y,'Suivi financier'!$C:$C,"NORD",'Suivi financier'!$G:$G,'Cherche à faire'!C$11,'Suivi financier'!$L:$L,'Cherche à faire'!$A13)+SUMIFS('Suivi financier'!$Y:$Y,'Suivi financier'!$C:$C,"NORD",'Suivi financier'!$G:$G,'Cherche à faire'!C$11,'Suivi financier'!$M:$M,'Cherche à faire'!$A13) -> 315.3125 | D13: =SUMIFS('Suivi financier'!$Y:$Y,'Suivi financier'!$C:$C,"NORD",'Suivi financier'!$G:$G,'Cherche à faire'!D$11,'Suivi financier'!$J:$J,'Cherche à faire'!$A13)+SUMIFS('Suivi financier'!$Y:$Y,'Suivi financier'!$C:$C,"NORD",'Suivi financier'!$G:$G,'Cherche à faire'!D$11,'Suivi financier'!$K:$K,'Cherche à faire'!$A13)+SUMIFS('Suivi financier'!$Y:$Y,'Suivi financier'!$C:$C,"NORD",'Suivi financier'!$G:$G,'Cherche à faire'!D$11,'Suivi financier'!$L:$L,'Cherche à faire'!$A13)+SUMIFS('Suivi financier'!$Y:$Y,'Suivi financier'!$C:$C,"NORD",'Suivi financier'!$G:$G,'Cherche à faire'!D$11,'Suivi financier'!$M:$M,'Cherche à faire'!$A13) -> 0
A14: Geauffroy | B14: =SUMIFS('Suivi financier'!$Y:$Y,'Suivi financier'!$C:$C,"NORD",'Suivi financier'!$G:$G,'Cherche à faire'!B$11,'Suivi financier'!$J:$J,'Cherche à faire'!$A14)+SUMIFS('Suivi financier'!$Y:$Y,'Suivi financier'!$C:$C,"NORD",'Suivi financier'!$G:$G,'Cherche à faire'!B$11,'Suivi financier'!$K:$K,'Cherche à faire'!$A14)+SUMIFS('Suivi financier'!$Y:$Y,'Suivi financier'!$C:$C,"NORD",'Suivi financier'!$G:$G,'Cherche à faire'!B$11,'Suivi financier'!$L:$L,'Cherche à faire'!$A14)+SUMIFS('Suivi financier'!$Y:$Y,'Suivi financier'!$C:$C,"NORD",'Suivi financier'!$G:$G,'Cherche à faire'!B$11,'Suivi financier'!$M:$M,'Cherche à faire'!$A14) -> 0 | C14: =SUMIFS('Suivi financier'!$Y:$Y,'Suivi financier'!$C:$C,"NORD",'Suivi financier'!$G:$G,'Cherche à faire'!C$11,'Suivi financier'!$J:$J,'Cherche à faire'!$A14)+SUMIFS('Suivi financier'!$Y:$Y,'Suivi financier'!$C:$C,"NORD",'Suivi financier'!$G:$G,'Cherche à faire'!C$11,'Suivi financier'!$K:$K,'Cherche à faire'!$A14)+SUMIFS('Suivi financier'!$Y:$Y,'Suivi financier'!$C:$C,"NORD",'Suivi financier'!$G:$G,'Cherche à faire'!C$11,'Suivi financier'!$L:$L,'Cherche à faire'!$A14)+SUMIFS('Suivi financier'!$Y:$Y,'Suivi financier'!$C:$C,"NORD",'Suivi financier'!$G:$G,'Cherche à faire'!C$11,'Suivi financier'!$M:$M,'Cherche à faire'!$A14) -> 0 | D14: =SUMIFS('Suivi financier'!$Y:$Y,'Suivi financier'!$C:$C,"NORD",'Suivi financier'!$G:$G,'Cherche à faire'!D$11,'Suivi financier'!$J:$J,'Cherche à faire'!$A14)+SUMIFS('Suivi financier'!$Y:$Y,'Suivi financier'!$C:$C,"NORD",'Suivi financier'!$G:$G,'Cherche à faire'!D$11,'Suivi financier'!$K:$K,'Cherche à faire'!$A14)+SUMIFS('Suivi financier'!$Y:$Y,'Suivi financier'!$C:$C,"NORD",'Suivi financier'!$G:$G,'Cherche à faire'!D$11,'Suivi financier'!$L:$L,'Cherche à faire'!$A14)+SUMIFS('Suivi financier'!$Y:$Y,'Suivi financier'!$C:$C,"NORD",'Suivi financier'!$G:$G,'Cherche à faire'!D$11,'Suivi financier'!$M:$M,'Cherche à faire'!$A14) -> 0
A15: Thomas | B15: =SUMIFS('Suivi financier'!$Y:$Y,'Suivi financier'!$C:$C,"NORD",'Suivi financier'!$G:$G,'Cherche à faire'!B$11,'Suivi financier'!$J:$J,'Cherche à faire'!$A15)+SUMIFS('Suivi financier'!$Y:$Y,'Suivi financier'!$C:$C,"NORD",'Suivi financier'!$G:$G,'Cherche à faire'!B$11,'Suivi financier'!$K:$K,'Cherche à faire'!$A15)+SUMIFS('Suivi financier'!$Y:$Y,'Suivi financier'!$C:$C,"NORD",'Suivi financier'!$G:$G,'Cherche à faire'!B$11,'Suivi financier'!$L:$L,'Cherche à faire'!$A15)+SUMIFS('Suivi financier'!$Y:$Y,'Suivi financier'!$C:$C,"NORD",'Suivi financier'!$G:$G,'Cherche à faire'!B$11,'Suivi financier'!$M:$M,'Cherche à faire'!$A15) -> 0 | C15: =SUMIFS('Suivi financier'!$Y:$Y,'Suivi financier'!$C:$C,"NORD",'Suivi financier'!$G:$G,'Cherche à faire'!C$11,'Suivi financier'!$J:$J,'Cherche à faire'!$A15)+SUMIFS('Suivi financier'!$Y:$Y,'Suivi financier'!$C:$C,"NORD",'Suivi financier'!$G:$G,'Cherche à faire'!C$11,'Suivi financier'!$K:$K,'Cherche à faire'!$A15)+SUMIFS('Suivi financier'!$Y:$Y,'Suivi financier'!$C:$C,"NORD",'Suivi financier'!$G:$G,'Cherche à faire'!C$11,'Suivi financier'!$L:$L,'Cherche à faire'!$A15)+SUMIFS('Suivi financier'!$Y:$Y,'Suivi financier'!$C:$C,"NORD",'Suivi financier'!$G:$G,'Cherche à faire'!C$11,'Suivi financier'!$M:$M,'Cherche à faire'!$A15) -> 466.6625 | D15: =SUMIFS('Suivi financier'!$Y:$Y,'Suivi financier'!$C:$C,"NORD",'Suivi financier'!$G:$G,'Cherche à faire'!D$11,'Suivi financier'!$J:$J,'Cherche à faire'!$A15)+SUMIFS('Suivi financier'!$Y:$Y,'Suivi financier'!$C:$C,"NORD",'Suivi financier'!$G:$G,'Cherche à faire'!D$11,'Suivi financier'!$K:$K,'Cherche à faire'!$A15)+SUMIFS('Suivi financier'!$Y:$Y,'Suivi financier'!$C:$C,"NORD",'Suivi financier'!$G:$G,'Cherche à faire'!D$11,'Suivi financier'!$L:$L,'Cherche à faire'!$A15)+SUMIFS('Suivi financier'!$Y:$Y,'Suivi financier'!$C:$C,"NORD",'Suivi financier'!$G:$G,'Cherche à faire'!D$11,'Suivi financier'!$M:$M,'Cherche à faire'!$A15) -> 0
A16: Estelle | B16: =SUMIFS('Suivi financier'!$Y:$Y,'Suivi financier'!$C:$C,"NORD",'Suivi financier'!$G:$G,'Cherche à faire'!B$11,'Suivi financier'!$J:$J,'Cherche à faire'!$A16)+SUMIFS('Suivi financier'!$Y:$Y,'Suivi financier'!$C:$C,"NORD",'Suivi financier'!$G:$G,'Cherche à faire'!B$11,'Suivi financier'!$K:$K,'Cherche à faire'!$A16)+SUMIFS('Suivi financier'!$Y:$Y,'Suivi financier'!$C:$C,"NORD",'Suivi financier'!$G:$G,'Cherche à faire'!B$11,'Suivi financier'!$L:$L,'Cherche à faire'!$A16)+SUMIFS('Suivi financier'!$Y:$Y,'Suivi financier'!$C:$C,"NORD",'Suivi financier'!$G:$G,'Cherche à faire'!B$11,'Suivi financier'!$M:$M,'Cherche à faire'!$A16) -> 80.2155 | C16: =SUMIFS('Suivi financier'!$Y:$Y,'Suivi financier'!$C:$C,"NORD",'Suivi financier'!$G:$G,'Cherche à faire'!C$11,'Suivi financier'!$J:$J,'Cherche à faire'!$A16)+SUMIFS('Suivi financier'!$Y:$Y,'Suivi financier'!$C:$C,"NORD",'Suivi financier'!$G:$G,'Cherche à faire'!C$11,'Suivi financier'!$K:$K,'Cherche à faire'!$A16)+SUMIFS('Suivi financier'!$Y:$Y,'Suivi financier'!$C:$C,"NORD",'Suivi financier'!$G:$G,'Cherche à faire'!C$11,'Suivi financier'!$L:$L,'Cherche à faire'!$A16)+SUMIFS('Suivi financier'!$Y:$Y,'Suivi financier'!$C:$C,"NORD",'Suivi financier'!$G:$G,'Cherche à faire'!C$11,'Suivi financier'!$M:$M,'Cherche à faire'!$A16) -> 315.3125 | D16: =SUMIFS('Suivi financier'!$Y:$Y,'Suivi financier'!$C:$C,"NORD",'Suivi financier'!$G:$G,'Cherche à faire'!D$11,'Suivi financier'!$J:$J,'Cherche à faire'!$A16)+SUMIFS('Suivi financier'!$Y:$Y,'Suivi financier'!$C:$C,"NORD",'Suivi financier'!$G:$G,'Cherche à faire'!D$11,'Suivi financier'!$K:$K,'Cherche à faire'!$A16)+SUMIFS('Suivi financier'!$Y:$Y,'Suivi financier'!$C:$C,"NORD",'Suivi financier'!$G:$G,'Cherche à faire'!D$11,'Suivi financier'!$L:$L,'Cherche à faire'!$A16)+SUMIFS('Suivi financier'!$Y:$Y,'Suivi financier'!$C:$C,"NORD",'Suivi financier'!$G:$G,'Cherche à faire'!D$11,'Suivi financier'!$M:$M,'Cherche à faire'!$A16) -> 0
A17: Mohamed | B17: =SUMIFS('Suivi financier'!$Y:$Y,'Suivi financier'!$C:$C,"NORD",'Suivi financier'!$G:$G,'Cherche à faire'!B$11,'Suivi financier'!$J:$J,'Cherche à faire'!$A17)+SUMIFS('Suivi financier'!$Y:$Y,'Suivi financier'!$C:$C,"NORD",'Suivi financier'!$G:$G,'Cherche à faire'!B$11,'Suivi financier'!$K:$K,'Cherche à faire'!$A17)+SUMIFS('Suivi financier'!$Y:$Y,'Suivi financier'!$C:$C,"NORD",'Suivi financier'!$G:$G,'Cherche à faire'!B$11,'Suivi financier'!$L:$L,'Cherche à faire'!$A17)+SUMIFS('Suivi financier'!$Y:$Y,'Suivi financier'!$C:$C,"NORD",'Suivi financier'!$G:$G,'Cherche à faire'!B$11,'Suivi financier'!$M:$M,'Cherche à faire'!$A17) -> 163.9625 | C17: =SUMIFS('Suivi financier'!$Y:$Y,'Suivi financier'!$C:$C,"NORD",'Suivi financier'!$G:$G,'Cherche à faire'!C$11,'Suivi financier'!$J:$J,'Cherche à faire'!$A17)+SUMIFS('Suivi financier'!$Y:$Y,'Suivi financier'!$C:$C,"NORD",'Suivi financier'!$G:$G,'Cherche à faire'!C$11,'Suivi financier'!$K:$K,'Cherche à faire'!$A17)+SUMIFS('Suivi financier'!$Y:$Y,'Suivi financier'!$C:$C,"NORD",'Suivi financier'!$G:$G,'Cherche à faire'!C$11,'Suivi financier'!$L:$L,'Cherche à faire'!$A17)+SUMIFS('Suivi financier'!$Y:$Y,'Suivi financier'!$C:$C,"NORD",'Suivi financier'!$G:$G,'Cherche à faire'!C$11,'Suivi financier'!$M:$M,'Cherche à faire'!$A17) -> 416.2125 | D17: =SUMIFS('Suivi financier'!$Y:$Y,'Suivi financier'!$C:$C,"NORD",'Suivi financier'!$G:$G,'Cherche à faire'!D$11,'Suivi financier'!$J:$J,'Cherche à faire'!$A17)+SUMIFS('Suivi financier'!$Y:$Y,'Suivi financier'!$C:$C,"NORD",'Suivi financier'!$G:$G,'Cherche à faire'!D$11,'Suivi financier'!$K:$K,'Cherche à faire'!$A17)+SUMIFS('Suivi financier'!$Y:$Y,'Suivi financier'!$C:$C,"NORD",'Suivi financier'!$G:$G,'Cherche à faire'!D$11,'Suivi financier'!$L:$L,'Cherche à faire'!$A17)+SUMIFS('Suivi financier'!$Y:$Y,'Suivi financier'!$C:$C,"NORD",'Suivi financier'!$G:$G,'Cherche à faire'!D$11,'Suivi financier'!$M:$M,'Cherche à faire'!$A17) -> 0
A18: Jeremy | B18: =SUMIFS('Suivi financier'!$Y:$Y,'Suivi financier'!$C:$C,"NORD",'Suivi financier'!$G:$G,'Cherche à faire'!B$11,'Suivi financier'!$J:$J,'Cherche à faire'!$A18)+SUMIFS('Suivi financier'!$Y:$Y,'Suivi financier'!$C:$C,"NORD",'Suivi financier'!$G:$G,'Cherche à faire'!B$11,'Suivi financier'!$K:$K,'Cherche à faire'!$A18)+SUMIFS('Suivi financier'!$Y:$Y,'Suivi financier'!$C:$C,"NORD",'Suivi financier'!$G:$G,'Cherche à faire'!B$11,'Suivi financier'!$L:$L,'Cherche à faire'!$A18)+SUMIFS('Suivi financier'!$Y:$Y,'Suivi financier'!$C:$C,"NORD",'Suivi financier'!$G:$G,'Cherche à faire'!B$11,'Suivi financier'!$M:$M,'Cherche à faire'!$A18) -> 80.2155 | C18: =SUMIFS('Suivi financier'!$Y:$Y,'Suivi financier'!$C:$C,"NORD",'Suivi financier'!$G:$G,'Cherche à faire'!C$11,'Suivi financier'!$J:$J,'Cherche à faire'!$A18)+SUMIFS('Suivi financier'!$Y:$Y,'Suivi financier'!$C:$C,"NORD",'Suivi financier'!$G:$G,'Cherche à faire'!C$11,'Suivi financier'!$K:$K,'Cherche à faire'!$A18)+SUMIFS('Suivi financier'!$Y:$Y,'Suivi financier'!$C:$C,"NORD",'Suivi financier'!$G:$G,'Cherche à faire'!C$11,'Suivi financier'!$L:$L,'Cherche à faire'!$A18)+SUMIFS('Suivi financier'!$Y:$Y,'Suivi financier'!$C:$C,"NORD",'Suivi financier'!$G:$G,'Cherche à faire'!C$11,'Suivi financier'!$M:$M,'Cherche à faire'!$A18) -> 2626.9315 | D18: =SUMIFS('Suivi financier'!$Y:$Y,'Suivi financier'!$C:$C,"NORD",'Suivi financier'!$G:$G,'Cherche à faire'!D$11,'Suivi financier'!$J:$J,'Cherche à faire'!$A18)+SUMIFS('Suivi financier'!$Y:$Y,'Suivi financier'!$C:$C,"NORD",'Suivi financier'!$G:$G,'Cherche à faire'!D$11,'Suivi financier'!$K:$K,'Cherche à faire'!$A18)+SUMIFS('Suivi financier'!$Y:$Y,'Suivi financier'!$C:$C,"NORD",'Suivi financier'!$G:$G,'Cherche à faire'!D$11,'Suivi financier'!$L:$L,'Cherche à faire'!$A18)+SUMIFS('Suivi financier'!$Y:$Y,'Suivi financier'!$C:$C,"NORD",'Suivi financier'!$G:$G,'Cherche à faire'!D$11,'Suivi financier'!$M:$M,'Cherche à faire'!$A18) -> 0

Sheet test TDC
A1: Secteur | B1: NORD
A2: Equipe | B2: Interne
A3: Semaine | B3: S36
A5: Étiquettes de lignes | B5: Somme de Montant par Tech
A6: Jerome | B6: 315.3125
A7: Matthieu | B7: 315.3125
A8: Jeremy | B8: 315.3125
A9: Thomas | B9: 315.3125
A10: Matthieu | B10: 2563.869
A11: Jeremy | B11: 2311.619
A12: (vide) | B12: 2311.619
A13: (vide) | B13: 2311.619
A14: Mohamed | B14: 100.9
A15: (vide) | B15: 100.9
A16: (vide) | B16: 100.9
A17: Thomas | B17: 151.35
... A24: Total général | B24: 3194.494

Sheet bdd
A1: Type | C1: Secteur | F1: Typeatt | G1: Coef Circet | J1: Interne | K1: ST | L1: Coef ST
A2: activité1 | C2: NORD | F2: ACD01_2020 | G2: 1.009 | J2: Matthieu | K2: soustraitant1 | L2: 0.98
A3: activité2 | C3: SUD | F3: THF01_2020 | G3: 1.002 | J3: Jerome | K3: soustraitant2 | L3: 0.95
A4: activité3 | F4: ACD01_2021 | G4: 1 | J4: Geauffroy | K4: soustraitant3 | L4: 0.97
F5: THF01_2021 | G5: 1 | J5: Thomas | K5: soustraitant4 | L5: 0.99
F6: ACD01_2022 | G6: 1 | J6: Estelle | K6: soustraitant5 | L6: 0.97
F7: THF01_2021 | G7: 1 | J7: Mohamed
J8: Jeremy
