Workbook

Sheet Feuil4
D1: somme | G1: moyenne pondérée
D2: =SUM(D4:D51) -> 121 | E2: =SUM(E4:E51) -> 2979238.7 | F2: =SUM(F4:F51) -> 1 | G2: =SUM(G4:G51) -> 5.5826051
D3: délai | E3: somme facture | F3: part | G3: délai pondéré
A4: Étiquettes de lignes | B4: VIR CLIENT A | C4: 082526 | D4: {=IFERROR(INDEX(Feuil1!$A$1:$A$1000,MATCH(Feuil4!$B$4&Feuil4!C4,Feuil1!$F$1:$F$1000&Feuil1!$G$1:$G$1000,0))-INDEX(Feuil1!$A$1:$A$1000,MATCH(Feuil4!$B$5&Feuil4!C4,Feuil1!$F$1:$F$1000&Feuil1!$G$1:$G$1000,0)),"")} -> 3 | E4: {=IFERROR(INDEX(Feuil1!$E$1:$E$1000,MATCH(Feuil4!C4&$B$4,Feuil1!$G$1:$G$1000&Feuil1!$F$1:$F$1000,0)),"")} -> 176984.43 | F4: =IFERROR(E4/$E$2,"") -> 0.059405926 | G4: =IFERROR(D4*F4,"") -> 0.17821778
A5: 082526 | B5: Facture Client | C5: 083055 | D5: {=IFERROR(INDEX(Feuil1!$A$1:$A$1000,MATCH(Feuil4!$B$4&Feuil4!C5,Feuil1!$F$1:$F$1000&Feuil1!$G$1:$G$1000,0))-INDEX(Feuil1!$A$1:$A$1000,MATCH(Feuil4!$B$5&Feuil4!C5,Feuil1!$F$1:$F$1000&Feuil1!$G$1:$G$1000,0)),"")} -> 2 | E5: {=IFERROR(INDEX(Feuil1!$E$1:$E$1000,MATCH(Feuil4!C5&$B$4,Feuil1!$G$1:$G$1000&Feuil1!$F$1:$F$1000,0)),"")} -> 183585.36 | F5: =IFERROR(E5/$E$2,"") -> 0.061621569 | G5: =IFERROR(D5*F5,"") -> 0.12324314
A6: 083055 | C6: 084236 | D6: {=IFERROR(INDEX(Feuil1!$A$1:$A$1000,MATCH(Feuil4!$B$4&Feuil4!C6,Feuil1!$F$1:$F$1000&Feuil1!$G$1:$G$1000,0))-INDEX(Feuil1!$A$1:$A$1000,MATCH(Feuil4!$B$5&Feuil4!C6,Feuil1!$F$1:$F$1000&Feuil1!$G$1:$G$1000,0)),"")} -> 6 | E6: {=IFERROR(INDEX(Feuil1!$E$1:$E$1000,MATCH(Feuil4!C6&$B$4,Feuil1!$G$1:$G$1000&Feuil1!$F$1:$F$1000,0)),"")} -> 165203.86 | F6: =IFERROR(E6/$E$2,"") -> 0.055451704 | G6: =IFERROR(D6*F6,"") -> 0.33271022
A7: 084236 | C7: 084618 | D7: {=IFERROR(INDEX(Feuil1!$A$1:$A$1000,MATCH(Feuil4!$B$4&Feuil4!C7,Feuil1!$F$1:$F$1000&Feuil1!$G$1:$G$1000,0))-INDEX(Feuil1!$A$1:$A$1000,MATCH(Feuil4!$B$5&Feuil4!C7,Feuil1!$F$1:$F$1000&Feuil1!$G$1:$G$1000,0)),"")} -> 5 | E7: {=IFERROR(INDEX(Feuil1!$E$1:$E$1000,MATCH(Feuil4!C7&$B$4,Feuil1!$G$1:$G$1000&Feuil1!$F$1:$F$1000,0)),"")} -> 173199.33 | F7: =IFERROR(E7/$E$2,"") -> 0.058135433 | G7: =IFERROR(D7*F7,"") -> 0.29067717
A8: 084618 | C8: 084901 | D8: {=IFERROR(INDEX(Feuil1!$A$1:$A$1000,MATCH(Feuil4!$B$4&Feuil4!C8,Feuil1!$F$1:$F$1000&Feuil1!$G$1:$G$1000,0))-INDEX(Feuil1!$A$1:$A$1000,MATCH(Feuil4!$B$5&Feuil4!C8,Feuil1!$F$1:$F$1000&Feuil1!$G$1:$G$1000,0)),"")} -> 5 | E8: {=IFERROR(INDEX(Feuil1!$E$1:$E$1000,MATCH(Feuil4!C8&$B$4,Feuil1!$G$1:$G$1000&Feuil1!$F$1:$F$1000,0)),"")} -> 98908.94 | F8: =IFERROR(E8/$E$2,"") -> 0.033199401 | G8: =IFERROR(D8*F8,"") -> 0.16599701
A9: 084901 | C9: 085238 | D9: {=IFERROR(INDEX(Feuil1!$A$1:$A$1000,MATCH(Feuil4!$B$4&Feuil4!C9,Feuil1!$F$1:$F$1000&Feuil1!$G$1:$G$1000,0))-INDEX(Feuil1!$A$1:$A$1000,MATCH(Feuil4!$B$5&Feuil4!C9,Feuil1!$F$1:$F$1000&Feuil1!$G$1:$G$1000,0)),"")} -> 5 | E9: {=IFERROR(INDEX(Feuil1!$E$1:$E$1000,MATCH(Feuil4!C9&$B$4,Feuil1!$G$1:$G$1000&Feuil1!$F$1:$F$1000,0)),"")} -> 6866.72 | F9: =IFERROR(E9/$E$2,"") -> 0.0023048573 | G9: =IFERROR(D9*F9,"") -> 0.011524287
A10: 085238 | C10: 085519 | D10: {=IFERROR(INDEX(Feuil1!$A$1:$A$1000,MATCH(Feuil4!$B$4&Feuil4!C10,Feuil1!$F$1:$F$1000&Feuil1!$G$1:$G$1000,0))-INDEX(Feuil1!$A$1:$A$1000,MATCH(Feuil4!$B$5&Feuil4!C10,Feuil1!$F$1:$F$1000&Feuil1!$G$1:$G$1000,0)),"")} -> 4 | E10: {=IFERROR(INDEX(Feuil1!$E$1:$E$1000,MATCH(Feuil4!C10&$B$4,Feuil1!$G$1:$G$1000&Feuil1!$F$1:$F$1000,0)),"")} -> 6659.35 | F10: =IFERROR(E10/$E$2,"") -> 0.0022352523 | G10: =IFERROR(D10*F10,"") -> 0.0089410091
A11: 085519 | C11: 085926 | D11: {=IFERROR(INDEX(Feuil1!$A$1:$A$1000,MATCH(Feuil4!$B$4&Feuil4!C11,Feuil1!$F$1:$F$1000&Feuil1!$G$1:$G$1000,0))-INDEX(Feuil1!$A$1:$A$1000,MATCH(Feuil4!$B$5&Feuil4!C11,Feuil1!$F$1:$F$1000&Feuil1!$G$1:$G$1000,0)),"")} -> 0 | E11: {=IFERROR(INDEX(Feuil1!$E$1:$E$1000,MATCH(Feuil4!C11&$B$4,Feuil1!$G$1:$G$1000&Feuil1!$F$1:$F$1000,0)),"")} -> 77087.79 | F11: =IFERROR(E11/$E$2,"") -> 0.025874997 | G11: =IFERROR(D11*F11,"") -> 0
A12: 085926 | C12: 085938 | D12: {=IFERROR(INDEX(Feuil1!$A$1:$A$1000,MATCH(Feuil4!$B$4&Feuil4!C12,Feuil1!$F$1:$F$1000&Feuil1!$G$1:$G$1000,0))-INDEX(Feuil1!$A$1:$A$1000,MATCH(Feuil4!$B$5&Feuil4!C12,Feuil1!$F$1:$F$1000&Feuil1!$G$1:$G$1000,0)),"")} -> 3 | E12: {=IFERROR(INDEX(Feuil1!$E$1:$E$1000,MATCH(Feuil4!C12&$B$4,Feuil1!$G$1:$G$1000&Feuil1!$F$1:$F$1000,0)),"")} -> 164433.03 | F12: =IFERROR(E12/$E$2,"") -> 0.05519297 | G12: =IFERROR(D12*F12,"") -> 0.16557891
A13: 085938 | C13: 090234 | D13: {=IFERROR(INDEX(Feuil1!$A$1:$A$1000,MATCH(Feuil4!$B$4&Feuil4!C13,Feuil1!$F$1:$F$1000&Feuil1!$G$1:$G$1000,0))-INDEX(Feuil1!$A$1:$A$1000,MATCH(Feuil4!$B$5&Feuil4!C13,Feuil1!$F$1:$F$1000&Feuil1!$G$1:$G$1000,0)),"")} -> 5 | E13: {=IFERROR(INDEX(Feuil1!$E$1:$E$1000,MATCH(Feuil4!C13&$B$4,Feuil1!$G$1:$G$1000&Feuil1!$F$1:$F$1000,0)),"")} -> 178204.7 | F13: =IFERROR(E13/$E$2,"") -> 0.059815517 | G13: =IFERROR(D13*F13,"") -> 0.29907758
A14: 090234 | C14: 090354 | D14: {=IFERROR(INDEX(Feuil1!$A$1:$A$1000,MATCH(Feuil4!$B$4&Feuil4!C14,Feuil1!$F$1:$F$1000&Feuil1!$G$1:$G$1000,0))-INDEX(Feuil1!$A$1:$A$1000,MATCH(Feuil4!$B$5&Feuil4!C14,Feuil1!$F$1:$F$1000&Feuil1!$G$1:$G$1000,0)),"")} -> 5 | E14: {=IFERROR(INDEX(Feuil1!$E$1:$E$1000,MATCH(Feuil4!C14&$B$4,Feuil1!$G$1:$G$1000&Feuil1!$F$1:$F$1000,0)),"")} -> 19459.42 | F14: =IFERROR(E14/$E$2,"") -> 0.0065316754 | G14: =IFERROR(D14*F14,"") -> 0.032658377
A15: 090354 | C15: 090549 | D15: {=IFERROR(INDEX(Feuil1!$A$1:$A$1000,MATCH(Feuil4!$B$4&Feuil4!C15,Feuil1!$F$1:$F$1000&Feuil1!$G$1:$G$1000,0))-INDEX(Feuil1!$A$1:$A$1000,MATCH(Feuil4!$B$5&Feuil4!C15,Feuil1!$F$1:$F$1000&Feuil1!$G$1:$G$1000,0)),"")} -> 9 | E15: {=IFERROR(INDEX(Feuil1!$E$1:$E$1000,MATCH(Feuil4!C15&$B$4,Feuil1!$G$1:$G$1000&Feuil1!$F$1:$F$1000,0)),"")} -> 180878.01 | F15: =IFERROR(E15/$E$2,"") -> 0.06071283 | G15: =IFERROR(D15*F15,"") -> 0.54641547
A16: 090549 | C16: 090551 | D16: {=IFERROR(INDEX(Feuil1!$A$1:$A$1000,MATCH(Feuil4!$B$4&Feuil4!C16,Feuil1!$F$1:$F$1000&Feuil1!$G$1:$G$1000,0))-INDEX(Feuil1!$A$1:$A$1000,MATCH(Feuil4!$B$5&Feuil4!C16,Feuil1!$F$1:$F$1000&Feuil1!$G$1:$G$1000,0)),"")} -> 11 | E16: {=IFERROR(INDEX(Feuil1!$E$1:$E$1000,MATCH(Feuil4!C16&$B$4,Feuil1!$G$1:$G$1000&Feuil1!$F$1:$F$1000,0)),"")} -> 182976.66 | F16: =IFERROR(E16/$E$2,"") -> 0.061417255 | G16: =IFERROR(D16*F16,"") -> 0.6755898
A17: 090551 | C17: 091144 | D17: {=IFERROR(INDEX(Feuil1!$A$1:$A$1000,MATCH(Feuil4!$B$4&Feuil4!C17,Feuil1!$F$1:$F$1000&Feuil1!$G$1:$G$1000,0))-INDEX(Feuil1!$A$1:$A$1000,MATCH(Feuil4!$B$5&Feuil4!C17,Feuil1!$F$1:$F$1000&Feuil1!$G$1:$G$1000,0)),"")} -> 9 | E17: {=IFERROR(INDEX(Feuil1!$E$1:$E$1000,MATCH(Feuil4!C17&$B$4,Feuil1!$G$1:$G$1000&Feuil1!$F$1:$F$1000,0)),"")} -> 157996.46 | F17: =IFERROR(E17/$E$2,"") -> 0.053032495 | G17: =IFERROR(D17*F17,"") -> 0.47729246
... A26: 110043 | C26: 120746 | D26: {=IFERROR(INDEX(Feuil1!$A$1:$A$1000,MATCH(Feuil4!$B$4&Feuil4!C26,Feuil1!$F$1:$F$1000&Feuil1!$G$1:$G$1000,0))-INDEX(Feuil1!$A$1:$A$1000,MATCH(Feuil4!$B$5&Feuil4!C26,Feuil1!$F$1:$F$1000&Feuil1!$G$1:$G$1000,0)),"")} -> 4 | E26: {=IFERROR(INDEX(Feuil1!$E$1:$E$1000,MATCH(Feuil4!C26&$B$4,Feuil1!$G$1:$G$1000&Feuil1!$F$1:$F$1000,0)),"")} -> 28451.25 | F26: =IFERROR(E26/$E$2,"") -> 0.0095498392 | G26: =IFERROR(D26*F26,"") -> 0.038199357
A27: 120746 | D27: {=IFERROR(INDEX(Feuil1!$A$1:$A$1000,MATCH(Feuil4!$B$4&Feuil4!C27,Feuil1!$F$1:$F$1000&Feuil1!$G$1:$G$1000,0))-INDEX(Feuil1!$A$1:$A$1000,MATCH(Feuil4!$B$5&Feuil4!C27,Feuil1!$F$1:$F$1000&Feuil1!$G$1:$G$1000,0)),"")} | E27: {=IFERROR(INDEX(Feuil1!$E$1:$E$1000,MATCH(Feuil4!C27&$B$4,Feuil1!$G$1:$G$1000&Feuil1!$F$1:$F$1000,0)),"")} | F27: =IFERROR(E27/$E$2,"") | G27: =IFERROR(D27*F27,"")
A28: Moyenne | D28: {=IFERROR(INDEX(Feuil1!$A$1:$A$1000,MATCH(Feuil4!$B$4&Feuil4!C28,Feuil1!$F$1:$F$1000&Feuil1!$G$1:$G$1000,0))-INDEX(Feuil1!$A$1:$A$1000,MATCH(Feuil4!$B$5&Feuil4!C28,Feuil1!$F$1:$F$1000&Feuil1!$G$1:$G$1000,0)),"")} | E28: {=IFERROR(INDEX(Feuil1!$E$1:$E$1000,MATCH(Feuil4!C28&$B$4,Feuil1!$G$1:$G$1000&Feuil1!$F$1:$F$1000,0)),"")} | F28: =IFERROR(E28/$E$2,"") | G28: =IFERROR(D28*F28,"")
A29: Moyenne 082526 | D29: {=IFERROR(INDEX(Feuil1!$A$1:$A$1000,MATCH(Feuil4!$B$4&Feuil4!C29,Feuil1!$F$1:$F$1000&Feuil1!$G$1:$G$1000,0))-INDEX(Feuil1!$A$1:$A$1000,MATCH(Feuil4!$B$5&Feuil4!C29,Feuil1!$F$1:$F$1000&Feuil1!$G$1:$G$1000,0)),"")} | E29: {=IFERROR(INDEX(Feuil1!$E$1:$E$1000,MATCH(Feuil4!C29&$B$4,Feuil1!$G$1:$G$1000&Feuil1!$F$1:$F$1000,0)),"")} | F29: =IFERROR(E29/$E$2,"") | G29: =IFERROR(D29*F29,"")
A30: Moyenne 083055 | D30: {=IFERROR(INDEX(Feuil1!$A$1:$A$1000,MATCH(Feuil4!$B$4&Feuil4!C30,Feuil1!$F$1:$F$1000&Feuil1!$G$1:$G$1000,0))-INDEX(Feuil1!$A$1:$A$1000,MATCH(Feuil4!$B$5&Feuil4!C30,Feuil1!$F$1:$F$1000&Feuil1!$G$1:$G$1000,0)),"")} | E30: {=IFERROR(INDEX(Feuil1!$E$1:$E$1000,MATCH(Feuil4!C30&$B$4,Feuil1!$G$1:$G$1000&Feuil1!$F$1:$F$1000,0)),"")} | F30: =IFERROR(E30/$E$2,"") | G30: =IFERROR(D30*F30,"")
A31: Moyenne 084236 | D31: {=IFERROR(INDEX(Feuil1!$A$1:$A$1000,MATCH(Feuil4!$B$4&Feuil4!C31,Feuil1!$F$1:$F$1000&Feuil1!$G$1:$G$1000,0))-INDEX(Feuil1!$A$1:$A$1000,MATCH(Feuil4!$B$5&Feuil4!C31,Feuil1!$F$1:$F$1000&Feuil1!$G$1:$G$1000,0)),"")} | E31: {=IFERROR(INDEX(Feuil1!$E$1:$E$1000,MATCH(Feuil4!C31&$B$4,Feuil1!$G$1:$G$1000&Feuil1!$F$1:$F$1000,0)),"")} | F31: =IFERROR(E31/$E$2,"") | G31: =IFERROR(D31*F31,"")
A32: Moyenne 084618 | D32: {=IFERROR(INDEX(Feuil1!$A$1:$A$1000,MATCH(Feuil4!$B$4&Feuil4!C32,Feuil1!$F$1:$F$1000&Feuil1!$G$1:$G$1000,0))-INDEX(Feuil1!$A$1:$A$1000,MATCH(Feuil4!$B$5&Feuil4!C32,Feuil1!$F$1:$F$1000&Feuil1!$G$1:$G$1000,0)),"")} | E32: {=IFERROR(INDEX(Feuil1!$E$1:$E$1000,MATCH(Feuil4!C32&$B$4,Feuil1!$G$1:$G$1000&Feuil1!$F$1:$F$1000,0)),"")} | F32: =IFERROR(E32/$E$2,"") | G32: =IFERROR(D32*F32,"")
A33: Moyenne 084901 | D33: {=IFERROR(INDEX(Feuil1!$A$1:$A$1000,MATCH(Feuil4!$B$4&Feuil4!C33,Feuil1!$F$1:$F$1000&Feuil1!$G$1:$G$1000,0))-INDEX(Feuil1!$A$1:$A$1000,MATCH(Feuil4!$B$5&Feuil4!C33,Feuil1!$F$1:$F$1000&Feuil1!$G$1:$G$1000,0)),"")} | E33: {=IFERROR(INDEX(Feuil1!$E$1:$E$1000,MATCH(Feuil4!C33&$B$4,Feuil1!$G$1:$G$1000&Feuil1!$F$1:$F$1000,0)),"")} | F33: =IFERROR(E33/$E$2,"") | G33: =IFERROR(D33*F33,"")
A34: Moyenne 085238 | D34: {=IFERROR(INDEX(Feuil1!$A$1:$A$1000,MATCH(Feuil4!$B$4&Feuil4!C34,Feuil1!$F$1:$F$1000&Feuil1!$G$1:$G$1000,0))-INDEX(Feuil1!$A$1:$A$1000,MATCH(Feuil4!$B$5&Feuil4!C34,Feuil1!$F$1:$F$1000&Feuil1!$G$1:$G$1000,0)),"")} | E34: {=IFERROR(INDEX(Feuil1!$E$1:$E$1000,MATCH(Feuil4!C34&$B$4,Feuil1!$G$1:$G$1000&Feuil1!$F$1:$F$1000,0)),"")} | F34: =IFERROR(E34/$E$2,"") | G34: =IFERROR(D34*F34,"")
A35: Moyenne 085519 | D35: {=IFERROR(INDEX(Feuil1!$A$1:$A$1000,MATCH(Feuil4!$B$4&Feuil4!C35,Feuil1!$F$1:$F$1000&Feuil1!$G$1:$G$1000,0))-INDEX(Feuil1!$A$1:$A$1000,MATCH(Feuil4!$B$5&Feuil4!C35,Feuil1!$F$1:$F$1000&Feuil1!$G$1:$G$1000,0)),"")} | E35: {=IFERROR(INDEX(Feuil1!$E$1:$E$1000,MATCH(Feuil4!C35&$B$4,Feuil1!$G$1:$G$1000&Feuil1!$F$1:$F$1000,0)),"")} | F35: =IFERROR(E35/$E$2,"") | G35: =IFERROR(D35*F35,"")
A36: Moyenne 085926 | D36: {=IFERROR(INDEX(Feuil1!$A$1:$A$1000,MATCH(Feuil4!$B$4&Feuil4!C36,Feuil1!$F$1:$F$1000&Feuil1!$G$1:$G$1000,0))-INDEX(Feuil1!$A$1:$A$1000,MATCH(Feuil4!$B$5&Feuil4!C36,Feuil1!$F$1:$F$1000&Feuil1!$G$1:$G$1000,0)),"")} | E36: {=IFERROR(INDEX(Feuil1!$E$1:$E$1000,MATCH(Feuil4!C36&$B$4,Feuil1!$G$1:$G$1000&Feuil1!$F$1:$F$1000,0)),"")} | F36: =IFERROR(E36/$E$2,"") | G36: =IFERROR(D36*F36,"")
A37: Moyenne 085938 | D37: {=IFERROR(INDEX(Feuil1!$A$1:$A$1000,MATCH(Feuil4!$B$4&Feuil4!C37,Feuil1!$F$1:$F$1000&Feuil1!$G$1:$G$1000,0))-INDEX(Feuil1!$A$1:$A$1000,MATCH(Feuil4!$B$5&Feuil4!C37,Feuil1!$F$1:$F$1000&Feuil1!$G$1:$G$1000,0)),"")} | E37: {=IFERROR(INDEX(Feuil1!$E$1:$E$1000,MATCH(Feuil4!C37&$B$4,Feuil1!$G$1:$G$1000&Feuil1!$F$1:$F$1000,0)),"")} | F37: =IFERROR(E37/$E$2,"") | G37: =IFERROR(D37*F37,"")
A38: Moyenne 090234 | D38: {=IFERROR(INDEX(Feuil1!$A$1:$A$1000,MATCH(Feuil4!$B$4&Feuil4!C38,Feuil1!$F$1:$F$1000&Feuil1!$G$1:$G$1000,0))-INDEX(Feuil1!$A$1:$A$1000,MATCH(Feuil4!$B$5&Feuil4!C38,Feuil1!$F$1:$F$1000&Feuil1!$G$1:$G$1000,0)),"")} | E38: {=IFERROR(INDEX(Feuil1!$E$1:$E$1000,MATCH(Feuil4!C38&$B$4,Feuil1!$G$1:$G$1000&Feuil1!$F$1:$F$1000,0)),"")} | F38: =IFERROR(E38/$E$2,"") | G38: =IFERROR(D38*F38,"")
... A53: Total général | D53: {=IFERROR(INDEX(Feuil1!$A$1:$A$1000,MATCH(Feuil4!$B$4&Feuil4!C53,Feuil1!$F$1:$F$1000&Feuil1!$G$1:$G$1000,0))-INDEX(Feuil1!$A$1:$A$1000,MATCH(Feuil4!$B$5&Feuil4!C53,Feuil1!$F$1:$F$1000&Feuil1!$G$1:$G$1000,0)),"")} | E53: {=IFERROR(INDEX(Feuil1!$E$1:$E$1000,MATCH(Feuil4!C53&$B$4,Feuil1!$G$1:$G$1000&Feuil1!$F$1:$F$1000,0)),"")} | F53: =IFERROR(E53/$E$2,"") | G53: =IFERROR(D53*F53,"")

Sheet Feuil1
A1: Date d'échéance | B1: N° facture | C1: Date comptable | D1: Débit en DO | E1: Crédit en DO | F1: Libellé | G1: Ident. lettrage
A2: 43654 | B2: 18 | C2: 43654 | E2: 176984.43 | F2: VIR CLIENT A | G2: 082526
A3: 43651 | B3: 18 | C3: 43627 | D3: 176984.43 | F3: Facture Client | G3: 082526
G4: Moyenne 082526
A5: 43662 | C5: 43662 | E5: 183585.36 | F5: VIR CLIENT A | G5: 083055
A6: 43660 | B6: 19 | C6: 43635 | D6: 111959.01 | F6: Facture Client | G6: 083055
A7: 43660 | B7: 20 | C7: 43635 | D7: 71626.35 | F7: Facture Client | G7: 083055
G8: Moyenne 083055
A9: 43628 | B9: 13 | C9: 43628 | E9: 165203.86 | F9: VIR CLIENT A | G9: 084236
A10: 43622 | B10: 13 | C10: 43594 | D10: 165203.86 | F10: Facture Client | G10: 084236
G11: Moyenne 084236
A12: 43637 | B12: 14 | C12: 43637 | E12: 173199.33 | F12: VIR CLIENT A | G12: 084618
A13: 43632 | B13: 14 | C13: 43607 | D13: 173199.33 | F13: Facture Client | G13: 084618
G14: Moyenne 084618
A15: 43576 | B15: 3 | C15: 43550 | D15: 98908.94 | F15: Facture Client | G15: 084901
A16: 43581 | B16: 3 | C16: 43581 | E16: 98908.94 | F16: VIR CLIENT A | G16: 084901
G17: Moyenne 084901
A18: 43643 | B18: 15 | C18: 43643 | E18: 6866.72 | F18: VIR CLIENT A | G18: 085238
A19: 43638 | B19: 15 | C19: 43613 | D19: 6866.72 | F19: Facture Client | G19: 085238
G20: Moyenne 085238
A21: 43621 | B21: 11 | C21: 43621 | E21: 6659.35 | F21: VIR CLIENT A | G21: 085519
A22: 43617 | B22: 11 | C22: 43592 | D22: 6659.35 | F22: Facture Client | G22: 085519
G23: Moyenne 085519
A24: 43573 | B24: 2 | C24: 43545 | D24: 77087.79 | F24: Facture Client | G24: 085926
A25: 43573 | B25: 2 | C25: 43573 | E25: 77087.79 | F25: VIR CLIENT A | G25: 085926
G26: Moyenne 085926
A27: 43649 | B27: 17 | C27: 43649 | E27: 164433.03 | F27: VIR CLIENT A | G27: 085938
A28: 43646 | B28: 17 | C28: 43616 | D28: 164433.03 | F28: Facture Client | G28: 085938
G29: Moyenne 085938
A30: 43644 | B30: 16 | C30: 43644 | E30: 178204.7 | F30: VIR CLIENT A | G30: 090234
A31: 43639 | B31: 16 | C31: 43613 | D31: 178204.7 | F31: Facture Client | G31: 090234
G32: Moyenne 090234
A33: 43609 | B33: 9 | C33: 43584 | D33: 19459.42 | F33: Facture Client | G33: 090354
A34: 43614 | B34: 9 | C34: 43614 | E34: 19459.42 | F34: VIR CLIENT A | G34: 090354
G35: Moyenne 090354
A36: 43618 | B36: 12 | C36: 43592 | D36: 180878.01 | F36: Facture Client | G36: 090549
A37: 43627 | B37: 12 | C37: 43627 | E37: 180878.01 | F37: VIR CLIENT A | G37: 090549
G38: Moyenne 090549
A39: 43580 | B39: 4 | C39: 43553 | D39: 119426.64 | F39: Facture Client | G39: 090551
A40: 43580 | B40: 5 | C40: 43553 | D40: 63550.02 | F40: Facture Client | G40: 090551
...

Sheet Feuil2

Sheet Feuil3
