Workbook
Name prestation: prestation!$A$2:$A$20

Sheet Feuil1
B1: type de prestation | C1: imputation
B2: Retour fournisseur | C2: =IFERROR(VLOOKUP(B2,prestation!$A:$B,2,0),"") -> achat
B3: PAV | C3: =IFERROR(VLOOKUP(B3,prestation!$A:$B,2,0),"")
B4: Demande marque - contrôle supplémentaire | C4: =IFERROR(VLOOKUP(B4,prestation!$A:$B,2,0),"") -> achat
B5: AQL - Contrôle qualité additionnel | C5: =IFERROR(VLOOKUP(B5,prestation!$A:$B,2,0),"") -> achat
C6: =IFERROR(VLOOKUP(B6,prestation!$A:$B,2,0),"")
C7: =IFERROR(VLOOKUP(B7,prestation!$A:$B,2,0),"")
C8: =IFERROR(VLOOKUP(B8,prestation!$A:$B,2,0),"")
C9: =IFERROR(VLOOKUP(B9,prestation!$A:$B,2,0),"")
C10: =IFERROR(VLOOKUP(B10,prestation!$A:$B,2,0),"")
C11: =IFERROR(VLOOKUP(B11,prestation!$A:$B,2,0),"")
C12: =IFERROR(VLOOKUP(B12,prestation!$A:$B,2,0),"")
C13: =IFERROR(VLOOKUP(B13,prestation!$A:$B,2,0),"")
C14: =IFERROR(VLOOKUP(B14,prestation!$A:$B,2,0),"")
C15: =IFERROR(VLOOKUP(B15,prestation!$A:$B,2,0),"")
C16: =IFERROR(VLOOKUP(B16,prestation!$A:$B,2,0),"")
C17: =IFERROR(VLOOKUP(B17,prestation!$A:$B,2,0),"")
... C34: =IFERROR(VLOOKUP(B34,prestation!$A:$B,2,0),"")

Sheet prestation
A1: Type de prestation | B1: imputation
A2: Défectueux à réception | B2: achat
A3: AQL - Contrôle qualité additionnel | B3: achat
A4: Demande marque - contrôle supplémentaire | B4: achat
A5: Demande interne - contrôle supplémentaire | B5: achat
A6: Lotage | B6: achat
A7: Délotage | B7: achat
A8: Sur-emballage / renforcement d'emballage | B8: achat
A9: Montage | B9: achat
A10: Etiquetage | B10: achat
A11: Encadrement (manutention) | B11: achat
A12: Déplacement de palettes (manutention) | B12: achat
... A20: Temps de retour magasin JPD | B20: Appro

Sheet Feuil3
