Workbook
Name agent: [1]Agent!$A$1:$A$13
Name agent: [2]Agent!$A$1:$A$13
Name agent: [3]Agent!$A$1:$A$13
Name Astreinte: #REF!
Name HS_Semaine: #REF!
Name HS_Weekend: #REF!
Name mibe: [1]mibe!$A$1:$A$4
Name mibe: [2]mibe!$A$1:$A$4
Name mibe: [3]mibe!$A$1:$A$4
Name mois: #REF!
Name moughataa: [1]Moghataa!$A$1:$A$5
Name moughataa: [2]Moghataa!$A$1:$A$5
Name moughataa: [3]Moghataa!$A$1:$A$5
Name noms: #REF!

Sheet Graphique par CS-PS
F1: GRAPHIQUE PAR CS/PS DANS CHAQUE MOUGHATAA
F4: Moughataa d' ALEG
C6: Selectionner un CS/PS pour afficher le graphique | G6: PS Legned
E7: ="Supervision du "&G6 -> Supervision du PS Legned
E8: 43252 | F8: 43282 | G8: 43313 | H8: 43344 | I8: 43374 | J8: 43405 | K8: 43435 | L8: 43466 | M8: 43497
D9: =G6 -> PS Legned | E9: =SUMIF(récapitulatif!B6:B28,'Graphique par CS-PS'!G6,récapitulatif!D6:D28) -> 0.63098592 | F9: =SUMIF(récapitulatif!C6:C28,'Graphique par CS-PS'!H6,récapitulatif!E6:E28) -> 0 | G9: =SUMIF(récapitulatif!D6:D28,'Graphique par CS-PS'!I6,récapitulatif!F6:F28) -> 136 | H9: =SUMIF(récapitulatif!E6:E28,'Graphique par CS-PS'!J6,récapitulatif!G6:G28) -> 0 | I9: =SUMIF(récapitulatif!F6:F28,'Graphique par CS-PS'!K6,récapitulatif!H6:H28) -> 0 | J9: =SUMIF(récapitulatif!G6:G28,'Graphique par CS-PS'!L6,récapitulatif!I6:I28) -> 2967 | K9: =SUMIF(récapitulatif!H6:H28,'Graphique par CS-PS'!M6,récapitulatif!J6:J28) -> 0 | L9: =SUMIF(récapitulatif!I6:I28,'Graphique par CS-PS'!N6,récapitulatif!K6:K28) -> 0 | M9: =SUMIF(récapitulatif!J6:J28,'Graphique par CS-PS'!O6,récapitulatif!L6:L28) -> 0
G26: Moughataa de BABABE
C28: Selectionner un CS/PS pour afficher le graphique | G28: PS Haire Golere
E29: ="Supervision du "&G28 -> Supervision du PS Haire Golere
E30: 42826 | F30: 42856 | G30: 42887 | H30: 42917 | I30: 42948 | J30: 42979 | K30: 43009 | L30: 43040 | M30: 43070 | N30: 43101 | O30: 43132 | P30: 43160 | Q30: 43191
D31: =G28 -> PS Haire Golere | E31: =SUMIF([1]Graphiques!$R$46:$R$58,'Graphique par CS-PS'!$G$28,[1]Graphiques!S46:S58) -> #VALUE! | F31: =SUMIF([1]Graphiques!$R$46:$R$58,'Graphique par CS-PS'!$G$28,[1]Graphiques!T46:T58) -> #VALUE! | G31: =SUMIF([1]Graphiques!$R$46:$R$58,'Graphique par CS-PS'!$G$28,[1]Graphiques!U46:U58) -> #VALUE! | H31: =SUMIF([1]Graphiques!$R$46:$R$58,'Graphique par CS-PS'!$G$28,[1]Graphiques!V46:V58) -> #VALUE! | I31: =SUMIF([1]Graphiques!$R$46:$R$58,'Graphique par CS-PS'!$G$28,[1]Graphiques!W46:W58) -> #VALUE! | J31: =SUMIF([1]Graphiques!$R$46:$R$58,'Graphique par CS-PS'!$G$28,[1]Graphiques!X46:X58) -> #VALUE! | K31: =SUMIF([1]Graphiques!$R$46:$R$58,'Graphique par CS-PS'!$G$28,[1]Graphiques!Y46:Y58) -> #VALUE! | L31: =SUMIF([1]Graphiques!$R$46:$R$58,'Graphique par CS-PS'!$G$28,[1]Graphiques!Z46:Z58) -> #VALUE! | ... Q31: =SUMIF([1]Graphiques!$R$46:$R$58,'Graphique par CS-PS'!$G$28,[1]Graphiques!AE46:AE58) -> #VALUE!
G48: Moughataa de BOGHE
C50: Selectionner un CS/PS pour afficher le graphique | G50: PS N'Goral Guidal
E51: ="Supervision du "&G50 -> Supervision du PS N'Goral Guidal
E52: 42826 | F52: 42856 | G52: 42887 | H52: 42917 | I52: 42948 | J52: 42979 | K52: 43009 | L52: 43040 | M52: 43070 | N52: 43101 | O52: 43132 | P52: 43160 | Q52: 43191
D53: =G50 -> PS N'Goral Guidal | E53: =SUMIF([1]Graphiques!$R$60:$R$76,'Graphique par CS-PS'!$G$50,[1]Graphiques!S60:S76) -> #VALUE! | F53: =SUMIF([1]Graphiques!$R$60:$R$76,'Graphique par CS-PS'!$G$50,[1]Graphiques!T60:T76) -> #VALUE! | G53: =SUMIF([1]Graphiques!$R$60:$R$76,'Graphique par CS-PS'!$G$50,[1]Graphiques!U60:U76) -> #VALUE! | H53: =SUMIF([1]Graphiques!$R$60:$R$76,'Graphique par CS-PS'!$G$50,[1]Graphiques!V60:V76) -> #VALUE! | I53: =SUMIF([1]Graphiques!$R$60:$R$76,'Graphique par CS-PS'!$G$50,[1]Graphiques!W60:W76) -> #VALUE! | J53: =SUMIF([1]Graphiques!$R$60:$R$76,'Graphique par CS-PS'!$G$50,[1]Graphiques!X60:X76) -> #VALUE! | K53: =SUMIF([1]Graphiques!$R$60:$R$76,'Graphique par CS-PS'!$G$50,[1]Graphiques!Y60:Y76) -> #VALUE! | L53: =SUMIF([1]Graphiques!$R$60:$R$76,'Graphique par CS-PS'!$G$50,[1]Graphiques!Z60:Z76) -> #VALUE! | ... Q53: =SUMIF([1]Graphiques!$R$60:$R$76,'Graphique par CS-PS'!$G$50,[1]Graphiques!AE60:AE76) -> #VALUE!
G70: Moughataa de MBAGNE
C72: Selectionner un CS/PS pour afficher le graphique | G72: PS Niabina
E73: ="Supervision du "&G72 -> Supervision du PS Niabina
E74: 42826 | F74: 42856 | G74: 42887 | H74: 42917 | I74: 42948 | J74: 42979 | K74: 43009 | L74: 43040 | M74: 43070 | N74: 43101 | O74: 43132 | P74: 43160 | Q74: 43191
D75: =G72 -> PS Niabina | E75: =SUMIF([1]Graphiques!$R$78:$R$92,'Graphique par CS-PS'!$G$72,[1]Graphiques!S78:S92) -> #VALUE! | F75: =SUMIF([1]Graphiques!$R$78:$R$92,'Graphique par CS-PS'!$G$72,[1]Graphiques!T78:T92) -> #VALUE! | G75: =SUMIF([1]Graphiques!$R$78:$R$92,'Graphique par CS-PS'!$G$72,[1]Graphiques!U78:U92) -> #VALUE! | H75: =SUMIF([1]Graphiques!$R$78:$R$92,'Graphique par CS-PS'!$G$72,[1]Graphiques!V78:V92) -> #VALUE! | I75: =SUMIF([1]Graphiques!$R$78:$R$92,'Graphique par CS-PS'!$G$72,[1]Graphiques!W78:W92) -> #VALUE! | J75: =SUMIF([1]Graphiques!$R$78:$R$92,'Graphique par CS-PS'!$G$72,[1]Graphiques!X78:X92) -> #VALUE! | K75: =SUMIF([1]Graphiques!$R$78:$R$92,'Graphique par CS-PS'!$G$72,[1]Graphiques!Y78:Y92) -> #VALUE! | L75: =SUMIF([1]Graphiques!$R$78:$R$92,'Graphique par CS-PS'!$G$72,[1]Graphiques!Z78:Z92) -> #VALUE! | ... Q75: =SUMIF([1]Graphiques!$R$78:$R$92,'Graphique par CS-PS'!$G$72,[1]Graphiques!AE78:AE92) -> #VALUE!
F92: Moughataa de MAGHTALAHJAR
C94: Selectionner un CS/PS pour afficher le graphique | G94: TENDL
E95: ="Supervision du "&G94 -> Supervision du TENDL
E96: 42826 | F96: 42856 | G96: 42887 | H96: 42917 | I96: 42948 | J96: 42979 | K96: 43009 | L96: 43040 | M96: 43070 | N96: 43101 | O96: 43132 | P96: 43160 | Q96: 43191
D97: =G94 -> TENDL | E97: =SUMIF([1]Graphiques!$R$94:$R$109,'Graphique par CS-PS'!$G$94,[1]Graphiques!S94:S109) -> #VALUE! | F97: =SUMIF([1]Graphiques!$R$94:$R$109,'Graphique par CS-PS'!$G$94,[1]Graphiques!T94:T109) -> #VALUE! | G97: =SUMIF([1]Graphiques!$R$94:$R$109,'Graphique par CS-PS'!$G$94,[1]Graphiques!U94:U109) -> #VALUE! | H97: =SUMIF([1]Graphiques!$R$94:$R$109,'Graphique par CS-PS'!$G$94,[1]Graphiques!V94:V109) -> #VALUE! | I97: =SUMIF([1]Graphiques!$R$94:$R$109,'Graphique par CS-PS'!$G$94,[1]Graphiques!W94:W109) -> #VALUE! | J97: =SUMIF([1]Graphiques!$R$94:$R$109,'Graphique par CS-PS'!$G$94,[1]Graphiques!X94:X109) -> #VALUE! | K97: =SUMIF([1]Graphiques!$R$94:$R$109,'Graphique par CS-PS'!$G$94,[1]Graphiques!Y94:Y109) -> #VALUE! | L97: =SUMIF([1]Graphiques!$R$94:$R$109,'Graphique par CS-PS'!$G$94,[1]Graphiques!Z94:Z109) -> #VALUE! | ... Q97: =SUMIF([1]Graphiques!$R$94:$R$109,'Graphique par CS-PS'!$G$94,[1]Graphiques!AE94:AE109) -> #VALUE!

Sheet BDD EVALUATION
EU1: MAX POINT | EV1: =5*71 -> 355
A2: Moughataa | B2: Centre/poste de santé de | C2: Agent de sante présent lors de la visite | D2: Date | E2: Nom et Prenom de la personne effectuant la visite: | F2: Outils - Matériels - Équipement-traitement | V2: Structure et organisation de l'espace | X2: Personnel | AF2: Dépistage passif | AH2: Accueil et flux des patients | AP2: Admissions | BD2: Test d'appétit | BP2: Prise en charge-Suivi | CN2: Séance d'éducation: ANJE, PFE | CT2: Décharges | DB2: Rapports mensuels | DH2: Stock/pharmacie | DR2: Wash in Nut | EF2: Activités communautaires | ER2: Total | ES2: Pourcentage | ET2: Autonomie par rapport à la PEC MAS
F3: Matériel anthropométrique présent et en bon état (PB, toise, balance) | H3: Registre PCIMA présent et bien tenu | J3: Fiches de suivi individuel disponibles et utilisées | L3: Fiches de transfert disponibles et utilisées | N3: Table P/T disponibles et utilisées | P3: Fiches de depistage systematique disponibles et utilisées | R3: Fiches de stock hebdomadaire disponibles et utilisées | T3: Protocole/Cahier de resume CRENAS disponibles et utilisées | V3: Espace suffisant: 1 espace abrité pour prise des mesures anthropométriques et enregistrement, 1 espace pour le test d'appétit, 1 salle pour la consultation, 1 salle pour le stock/pharmacie | X3: Personnel présent en nombre pour mener les activités PCIMA | Z3: Personnel formé sur protocole révisé de la PCIMA | AB3: Des réunions d'équipes sont tenues après PEC | AD3: Répartition correcte des tâches entre le personnel | AF3: Dépistage passif réalisé systématiquement au niveau de la consultation externe et des urgences (vérification dans le registre des consultations et la fiche de depistage systematique) | AH3: Accueil des patients organisé (espace d'attente couvert avec nattes ou bancs) | AJ3: Triage des patients réalisé (selon signes de danger) | AL3: Eau sucrée disponible dans la structure afin de prévenir/corriger une éventuelle hypoglycémie. | AN3: Flux des patients organisé et clair (de consultation externe, etc.) | AP3: Mesures anthropométriques (PB, poids, taille) correctement prises, et œdèmes correctement évalués (vérification de patients au hasard) | AR3: Calcul du P/T correctement réalisé (vérification de fiches/patients au hasard) | AT3: Critères d'admission connus, appliqués et notés sur la fiche (vérification de fiches/patients au hasard) | AV3: Admissions des MA référés suite aux dépistages actifs documentées | AX3: Fiches de suivi individuel correctement remplies avec toutes les données d'admission (vérification de fiches/patients au hasard) | AZ3: Registre PCIMA correctement rempli et correcte affectation numéros MAS (vérification au hasard) | BB3: Explications correctes et suffisantes données à la mère lors de l'admission | BD3: Lavage des mains de l'enfant et accompagnant avant manipulation ATPE | BF3: Eau disponible et fournie aux patients | BH3: Endroit approprié (calme, suffisamment d'espace, propre) | BJ3: Explications à l'accompagnant correctes et suffisantes | BL3: Quantités correctes appliquées pour la réussite du test de l'appétit | BN3: Surveillance de la prise réalisée et résultat noté sur la fiche | BP3: Examen médical de suivi (Histoire de la maladie, prise des constantes, reconnaissance des complications) | BR3: Détection prompte des complications et application correcte des critères de référence vers le CRENI | BT3: Protocole médical systématique appliqué et noté sur la fiche (produit, dosage et durée corrects) (vérification de fiches/patients au hasard) | BV3: Protocole nutritionnel (nb sachets ATPE selon le poids) respecté et noté sur la fiche | BX3: Absences notées sur les fiches | BZ3: Non-réponse au traitement diagnostiqué | CB3: Mouvement en interne noté sur la fiche | CD3: Fréquence de la distribution d'ATPE | CF3: Vaccin contre la rougeole administree aux enfants non à jour de leur vaccination | CH3: Besoins de VAD identifies (recherche des absents/abandons/non reponses au traitement) et notes | CJ3: Fiche de suivi classées par ordre de n°MAS | CL3: Explications données à la mère sur statut nutritionnel et médical de son enfant | CN3: Séance d'éducation à la santé et nutrition réalisée | CP3: Supports utilisés adaptés aux messages ANJE, PFE du Pays | CR3: Thèmes bien maitrisés et messages sont simples et transmis en langue locale | CT3: Critères de décharge connus et appliqués | CV3: Procédures de sortie et suivi après guérison expliqué à la mère | CX3: Fiche de transfert remise à l'accompagnant des enfants transférés | CZ3: Type de sortie notée sur la fiche et le registre | DB3: Rapports mensuels correctement remplis (complets et fiables) | DD3: Calcul des indicateurs de performances et d'efficacite maitrisé | DF3: Rapports mensuels envoyés à temps (au plus tard le 5 du mois suivant) | DH3: Conditions du stock/pharmacie adéquates (propreté, rangement sur étagère, étiquetage, utilisation de palettes, absence rongeurs, etc.) | DJ3: Fiches de stock (ATPE, médicaments traitement systématique et spécifique) présentes et correctement remplies | DL3: Quantité suffisante d'intrants thérapeutiques ( ATPE) et de médicaments traitement systématique et spécifique en stock (1 mois de fonctionnement + 2 semaines stock tampon) | DN3: Absence de rupture de stock | DP3: Inventaire physique réalisé chaque mois | DR3: Point d'eau potable disponible et fonctionnel | DT3: Existence de dispositif de lavage des mains dans la structure de santé | DV3: Kits couple mère-enfant disponibles et distribués aux bénéficiaires | DX3: Utilsation des kits correctement expliquée aux accompagnants | DZ3: Latrines disponibles, fonctionnelles et bien entretenues | EB3: Système d'élimination des déchets présents et fonctionnels | ED3: Des sensibilisation sur la promotion à l'hygiène sont données aux bénéficiaires | EF3: Relais communautaires actifs (sur nbre total formé) | EH3: Connaissance et application des critères pour VAD (absence, abandon, etc) | EJ3: VAD réalisées (nbre VAD réalisées pendant le dernier mois) | EL3: Dépistage actif réalisé (nbre patients référés par le relais le dernier mois) | EN3: Réunions mensuelles organisées par CPS avec les relais et données mensuelles de dépistage collectées par CPS lors de ces réunions | EP3: Rapports mensuels dépistage correctement remplis et envoyés a temps (au plus tard le 5 du mois suivant)
F4: MIBE | G4: SCORE | H4: MIBE | I4: SCORE | J4: MIBE | K4: SCORE | L4: MIBE | M4: SCORE | N4: MIBE | O4: SCORE | P4: MIBE | Q4: SCORE | R4: MIBE | S4: SCORE | T4: MIBE | U4: SCORE | V4: MIBE | W4: SCORE | X4: MIBE | Y4: SCORE | Z4: MIBE | AA4: SCORE | AB4: MIBE | AC4: SCORE | AD4: MIBE | AE4: SCORE | AF4: MIBE | AG4: SCORE | AH4: MIBE | AI4: SCORE | AJ4: MIBE | AK4: SCORE | AL4: MIBE | AM4: SCORE | AN4: MIBE | AO4: SCORE | AP4: MIBE | AQ4: SCORE | AR4: MIBE | AS4: SCORE | AT4: MIBE | AU4: SCORE | AV4: MIBE | AW4: SCORE | AX4: MIBE | AY4: SCORE | AZ4: MIBE | BA4: SCORE | BB4: MIBE | BC4: SCORE | BD4: MIBE | BE4: SCORE | BF4: MIBE | BG4: SCORE | BH4: MIBE | BI4: SCORE | BJ4: MIBE | BK4: SCORE | BL4: MIBE | BM4: SCORE | BN4: MIBE | BO4: SCORE | BP4: MIBE | BQ4: SCORE | BR4: MIBE | BS4: SCORE | BT4: MIBE | BU4: SCORE | BV4: MIBE | BW4: SCORE | BX4: MIBE | BY4: SCORE | BZ4: MIBE | CA4: SCORE | CB4: MIBE | CC4: SCORE | CD4: MIBE | CE4: SCORE | CF4: MIBE | CG4: SCORE | CH4: MIBE | CI4: SCORE | CJ4: MIBE | CK4: SCORE | CL4: MIBE | CM4: SCORE | CN4: MIBE | CO4: SCORE | CP4: MIBE | CQ4: SCORE | CR4: MIBE | CS4: SCORE | CT4: MIBE | CU4: SCORE | CV4: MIBE | CW4: SCORE | CX4: MIBE | CY4: SCORE | CZ4: MIBE | DA4: SCORE | DB4: MIBE | DC4: SCORE | DD4: MIBE | DE4: SCORE | DF4: MIBE | DG4: SCORE | DH4: MIBE | DI4: SCORE | DJ4: MIBE | DK4: SCORE | DL4: MIBE | DM4: SCORE | DN4: MIBE | DO4: SCORE | DP4: MIBE | DQ4: SCORE | DR4: MIBE | DS4: SCORE | DT4: MIBE | DU4: SCORE | DV4: MIBE | DW4: SCORE | DX4: MIBE | DY4: SCORE | DZ4: MIBE | EA4: SCORE | EB4: MIBE | EC4: SCORE | ED4: MIBE | EE4: SCORE | EF4: MIBE | EG4: SCORE | EH4: MIBE | EI4: SCORE | EJ4: MIBE | EK4: SCORE | EL4: MIBE | EM4: SCORE | EN4: MIBE | EO4: SCORE | EP4: MIBE | EQ4: SCORE | EU4: mois
A5: ALEG | B5: CS Aleg | C5: Sidi Med Mouhamdy | D5: 43272 | E5: Mohamed Youga | F5: B | G5: =IF(F5="M",0,IF(F5="I",2,IF(F5="B",4,IF(F5="E",5)))) -> 4 | H5: B | I5: =IF(H5="M",0,IF(H5="I",2,IF(H5="B",4,IF(H5="E",5)))) -> 4 | J5: B | K5: =IF(J5="M",0,IF(J5="I",2,IF(J5="B",4,IF(J5="E",5)))) -> 4 | L5: B | M5: =IF(L5="M",0,IF(L5="I",2,IF(L5="B",4,IF(L5="E",5)))) -> 4 | N5: B | O5: =IF(N5="M",0,IF(N5="I",2,IF(N5="B",4,IF(N5="E",5)))) -> 4 | P5: B | Q5: =IF(P5="M",0,IF(P5="I",2,IF(P5="B",4,IF(P5="E",5)))) -> 4 | R5: B | S5: =IF(R5="M",0,IF(R5="I",2,IF(R5="B",4,IF(R5="E",5)))) -> 4 | T5: B | U5: =IF(T5="M",0,IF(T5="I",2,IF(T5="B",4,IF(T5="E",5)))) -> 4 | V5: I | W5: =IF(V5="M",0,IF(V5="I",2,IF(V5="B",4,IF(V5="E",5)))) -> 2 | X5: B | Y5: =IF(X5="M",0,IF(X5="I",2,IF(X5="B",4,IF(X5="E",5)))) -> 4 | Z5: B | AA5: =IF(Z5="M",0,IF(Z5="I",2,IF(Z5="B",4,IF(Z5="E",5)))) -> 4 | AB5: I | AC5: =IF(AB5="M",0,IF(AB5="I",2,IF(AB5="B",4,IF(AB5="E",5)))) -> 2 | AD5: I | AE5: =IF(AD5="M",0,IF(AD5="I",2,IF(AD5="B",4,IF(AD5="E",5)))) -> 2 | AF5: B | AG5: =IF(AF5="M",0,IF(AF5="I",2,IF(AF5="B",4,IF(AF5="E",5)))) -> 4 | AH5: B | AI5: =IF(AH5="M",0,IF(AH5="I",2,IF(AH5="B",4,IF(AH5="E",5)))) -> 4 | AJ5: B | AK5: =IF(AJ5="M",0,IF(AJ5="I",2,IF(AJ5="B",4,IF(AJ5="E",5)))) -> 4 | AL5: B | AM5: =IF(AL5="M",0,IF(AL5="I",2,IF(AL5="B",4,IF(AL5="E",5)))) -> 4 | AN5: B | AO5: =IF(AN5="M",0,IF(AN5="I",2,IF(AN5="B",4,IF(AN5="E",5)))) -> 4 | AP5: B | AQ5: =IF(AP5="M",0,IF(AP5="I",2,IF(AP5="B",4,IF(AP5="E",5)))) -> 4 | AR5: B | AS5: =IF(AR5="M",0,IF(AR5="I",2,IF(AR5="B",4,IF(AR5="E",5)))) -> 4 | AT5: B | AU5: =IF(AT5="M",0,IF(AT5="I",2,IF(AT5="B",4,IF(AT5="E",5)))) -> 4 | AV5: B | AW5: =IF(AV5="M",0,IF(AV5="I",2,IF(AV5="B",4,IF(AV5="E",5)))) -> 4 | AX5: B | AY5: =IF(AX5="M",0,IF(AX5="I",2,IF(AX5="B",4,IF(AX5="E",5)))) -> 4 | AZ5: B | BA5: =IF(AZ5="M",0,IF(AZ5="I",2,IF(AZ5="B",4,IF(AZ5="E",5)))) -> 4 | BB5: I | BC5: =IF(BB5="M",0,IF(BB5="I",2,IF(BB5="B",4,IF(BB5="E",5)))) -> 2 | BD5: B | BE5: =IF(BD5="M",0,IF(BD5="I",2,IF(BD5="B",4,IF(BD5="E",5)))) -> 4 | BF5: B | BG5: =IF(BF5="M",0,IF(BF5="I",2,IF(BF5="B",4,IF(BF5="E",5)))) -> 4 | BH5: B | BI5: =IF(BH5="M",0,IF(BH5="I",2,IF(BH5="B",4,IF(BH5="E",5)))) -> 4 | BJ5: I | BK5: =IF(BJ5="M",0,IF(BJ5="I",2,IF(BJ5="B",4,IF(BJ5="E",5)))) -> 2 | BL5: B | BM5: =IF(BL5="M",0,IF(BL5="I",2,IF(BL5="B",4,IF(BL5="E",5)))) -> 4 | BN5: I | BO5: =IF(BN5="M",0,IF(BN5="I",2,IF(BN5="B",4,IF(BN5="E",5)))) -> 2 | BP5: I | BQ5: =IF(BP5="M",0,IF(BP5="I",2,IF(BP5="B",4,IF(BP5="E",5)))) -> 2 | BR5: B | BS5: =IF(BR5="M",0,IF(BR5="I",2,IF(BR5="B",4,IF(BR5="E",5)))) -> 4 | BT5: B | BU5: =IF(BT5="M",0,IF(BT5="I",2,IF(BT5="B",4,IF(BT5="E",5)))) -> 4 | BV5: B | BW5: =IF(BV5="M",0,IF(BV5="I",2,IF(BV5="B",4,IF(BV5="E",5)))) -> 4 | BX5: B | BY5: =IF(BX5="M",0,IF(BX5="I",2,IF(BX5="B",4,IF(BX5="E",5)))) -> 4 | BZ5: B | CA5: =IF(BZ5="M",0,IF(BZ5="I",2,IF(BZ5="B",4,IF(BZ5="E",5)))) -> 4 | CB5: B | CC5: =IF(CB5="M",0,IF(CB5="I",2,IF(CB5="B",4,IF(CB5="E",5)))) -> 4 | CD5: B | CE5: =IF(CD5="M",0,IF(CD5="I",2,IF(CD5="B",4,IF(CD5="E",5)))) -> 4 | CF5: B | CG5: =IF(CF5="M",0,IF(CF5="I",2,IF(CF5="B",4,IF(CF5="E",5)))) -> 4 | CH5: B | CI5: =IF(CH5="M",0,IF(CH5="I",2,IF(CH5="B",4,IF(CH5="E",5)))) -> 4 | CJ5: B | CK5: =IF(CJ5="M",0,IF(CJ5="I",2,IF(CJ5="B",4,IF(CJ5="E",5)))) -> 4 | CL5: B | CM5: =IF(CL5="M",0,IF(CL5="I",2,IF(CL5="B",4,IF(CL5="E",5)))) -> 4 | CN5: I | CO5: =IF(CN5="M",0,IF(CN5="I",2,IF(CN5="B",4,IF(CN5="E",5)))) -> 2 | CP5: I | CQ5: =IF(CP5="M",0,IF(CP5="I",2,IF(CP5="B",4,IF(CP5="E",5)))) -> 2 | CR5: I | CS5: =IF(CR5="M",0,IF(CR5="I",2,IF(CR5="B",4,IF(CR5="E",5)))) -> 2 | CT5: B | CU5: =IF(CT5="M",0,IF(CT5="I",2,IF(CT5="B",4,IF(CT5="E",5)))) -> 4 | CV5: B | CW5: =IF(CV5="M",0,IF(CV5="I",2,IF(CV5="B",4,IF(CV5="E",5)))) -> 4 | CX5: B | CY5: =IF(CX5="M",0,IF(CX5="I",2,IF(CX5="B",4,IF(CX5="E",5)))) -> 4 | CZ5: B | DA5: =IF(CZ5="M",0,IF(CZ5="I",2,IF(CZ5="B",4,IF(CZ5="E",5)))) -> 4 | DB5: B | DC5: =IF(DB5="M",0,IF(DB5="I",2,IF(DB5="B",4,IF(DB5="E",5)))) -> 4 | DD5: B | DE5: =IF(DD5="M",0,IF(DD5="I",2,IF(DD5="B",4,IF(DD5="E",5)))) -> 4 | DF5: B | DG5: =IF(DF5="M",0,IF(DF5="I",2,IF(DF5="B",4,IF(DF5="E",5)))) -> 4 | DH5: B | DI5: =IF(DH5="M",0,IF(DH5="I",2,IF(DH5="B",4,IF(DH5="E",5)))) -> 4 | DJ5: B | DK5: =IF(DJ5="M",0,IF(DJ5="I",2,IF(DJ5="B",4,IF(DJ5="E",5)))) -> 4 | DL5: B | DM5: =IF(DL5="M",0,IF(DL5="I",2,IF(DL5="B",4,IF(DL5="E",5)))) -> 4 | DN5: B | DO5: =IF(DN5="M",0,IF(DN5="I",2,IF(DN5="B",4,IF(DN5="E",5)))) -> 4 | DP5: M | DQ5: =IF(DP5="M",0,IF(DP5="I",2,IF(DP5="B",4,IF(DP5="E",5)))) -> 0 | DR5: B | DS5: =IF(DR5="M",0,IF(DR5="I",2,IF(DR5="B",4,IF(DR5="E",5)))) -> 4 | DT5: B | DU5: =IF(DT5="M",0,IF(DT5="I",2,IF(DT5="B",4,IF(DT5="E",5)))) -> 4 | DV5: B | DW5: =IF(DV5="M",0,IF(DV5="I",2,IF(DV5="B",4,IF(DV5="E",5)))) -> 4 | DX5: B | DY5: =IF(DX5="M",0,IF(DX5="I",2,IF(DX5="B",4,IF(DX5="E",5)))) -> 4 | DZ5: B | EA5: =IF(DZ5="M",0,IF(DZ5="I",2,IF(DZ5="B",4,IF(DZ5="E",5)))) -> 4 | EB5: B | EC5: =IF(EB5="M",0,IF(EB5="I",2,IF(EB5="B",4,IF(EB5="E",5)))) -> 4 | ED5: B | EE5: =IF(ED5="M",0,IF(ED5="I",2,IF(ED5="B",4,IF(ED5="E",5)))) -> 4 | EF5: M | EG5: =IF(EF5="M",0,IF(EF5="I",2,IF(EF5="B",4,IF(EF5="E",5)))) -> 0 | EH5: M | EI5: =IF(EH5="M",0,IF(EH5="I",2,IF(EH5="B",4,IF(EH5="E",5)))) -> 0 | EJ5: M | EK5: =IF(EJ5="M",0,IF(EJ5="I",2,IF(EJ5="B",4,IF(EJ5="E",5)))) -> 0 | EL5: I | EM5: =IF(EL5="M",0,IF(EL5="I",2,IF(EL5="B",4,IF(EL5="E",5)))) -> 2 | EN5: I | EO5: =IF(EN5="M",0,IF(EN5="I",2,IF(EN5="B",4,IF(EN5="E",5)))) -> 2 | EP5: M | EQ5: =IF(EP5="M",0,IF(EP5="I",2,IF(EP5="B",4,IF(EP5="E",5)))) -> 0 | ER5: =+SUM(F5:EQ5) -> 240 | ES5: =+ER5/$EV$1 -> 0.67605634 | ET5: =IF(ES5>60%,"Autonome","Non Autonome") -> Autonome | EU5: =1&"/"&MONTH(D5)&"/"&YEAR(D5) -> 1/6/2018
A6: MBAGNE | B6: CS Mbagne | C6: Bâ hamet | D6: 43253 | E6: Binta sow | F6: E | G6: =IF(F6="M",0,IF(F6="I",2,IF(F6="B",4,IF(F6="E",5)))) -> 5 | H6: E | I6: =IF(H6="M",0,IF(H6="I",2,IF(H6="B",4,IF(H6="E",5)))) -> 5 | J6: E | K6: =IF(J6="M",0,IF(J6="I",2,IF(J6="B",4,IF(J6="E",5)))) -> 5 | L6: E | M6: =IF(L6="M",0,IF(L6="I",2,IF(L6="B",4,IF(L6="E",5)))) -> 5 | N6: E | O6: =IF(N6="M",0,IF(N6="I",2,IF(N6="B",4,IF(N6="E",5)))) -> 5 | P6: E | Q6: =IF(P6="M",0,IF(P6="I",2,IF(P6="B",4,IF(P6="E",5)))) -> 5 | R6: E | S6: =IF(R6="M",0,IF(R6="I",2,IF(R6="B",4,IF(R6="E",5)))) -> 5 | T6: E | U6: =IF(T6="M",0,IF(T6="I",2,IF(T6="B",4,IF(T6="E",5)))) -> 5 | V6: I | W6: =IF(V6="M",0,IF(V6="I",2,IF(V6="B",4,IF(V6="E",5)))) -> 2 | X6: B | Y6: =IF(X6="M",0,IF(X6="I",2,IF(X6="B",4,IF(X6="E",5)))) -> 4 | Z6: E | AA6: =IF(Z6="M",0,IF(Z6="I",2,IF(Z6="B",4,IF(Z6="E",5)))) -> 5 | AB6: M | AC6: =IF(AB6="M",0,IF(AB6="I",2,IF(AB6="B",4,IF(AB6="E",5)))) -> 0 | AD6: E | AE6: =IF(AD6="M",0,IF(AD6="I",2,IF(AD6="B",4,IF(AD6="E",5)))) -> 5 | AF6: B | AG6: =IF(AF6="M",0,IF(AF6="I",2,IF(AF6="B",4,IF(AF6="E",5)))) -> 4 | AH6: I | AI6: =IF(AH6="M",0,IF(AH6="I",2,IF(AH6="B",4,IF(AH6="E",5)))) -> 2 | AJ6: M | AK6: =IF(AJ6="M",0,IF(AJ6="I",2,IF(AJ6="B",4,IF(AJ6="E",5)))) -> 0 | AL6: M | AM6: =IF(AL6="M",0,IF(AL6="I",2,IF(AL6="B",4,IF(AL6="E",5)))) -> 0 | AN6: B | AO6: =IF(AN6="M",0,IF(AN6="I",2,IF(AN6="B",4,IF(AN6="E",5)))) -> 4 | AP6: E | AQ6: =IF(AP6="M",0,IF(AP6="I",2,IF(AP6="B",4,IF(AP6="E",5)))) -> 5 | AR6: E | AS6: =IF(AR6="M",0,IF(AR6="I",2,IF(AR6="B",4,IF(AR6="E",5)))) -> 5 | AT6: E | AU6: =IF(AT6="M",0,IF(AT6="I",2,IF(AT6="B",4,IF(AT6="E",5)))) -> 5 | AV6: E | AW6: =IF(AV6="M",0,IF(AV6="I",2,IF(AV6="B",4,IF(AV6="E",5)))) -> 5 | AX6: E | AY6: =IF(AX6="M",0,IF(AX6="I",2,IF(AX6="B",4,IF(AX6="E",5)))) -> 5 | AZ6: E | BA6: =IF(AZ6="M",0,IF(AZ6="I",2,IF(AZ6="B",4,IF(AZ6="E",5)))) -> 5 | BB6: B | BC6: =IF(BB6="M",0,IF(BB6="I",2,IF(BB6="B",4,IF(BB6="E",5)))) -> 4 | BD6: B | BE6: =IF(BD6="M",0,IF(BD6="I",2,IF(BD6="B",4,IF(BD6="E",5)))) -> 4 | BF6: E | BG6: =IF(BF6="M",0,IF(BF6="I",2,IF(BF6="B",4,IF(BF6="E",5)))) -> 5 | BH6: M | BI6: =IF(BH6="M",0,IF(BH6="I",2,IF(BH6="B",4,IF(BH6="E",5)))) -> 0 | BJ6: B | BK6: =IF(BJ6="M",0,IF(BJ6="I",2,IF(BJ6="B",4,IF(BJ6="E",5)))) -> 4 | BL6: B | BM6: =IF(BL6="M",0,IF(BL6="I",2,IF(BL6="B",4,IF(BL6="E",5)))) -> 4 | BN6: B | BO6: =IF(BN6="M",0,IF(BN6="I",2,IF(BN6="B",4,IF(BN6="E",5)))) -> 4 | BP6: E | BQ6: =IF(BP6="M",0,IF(BP6="I",2,IF(BP6="B",4,IF(BP6="E",5)))) -> 5 | BR6: I | BS6: =IF(BR6="M",0,IF(BR6="I",2,IF(BR6="B",4,IF(BR6="E",5)))) -> 2 | BT6: E | BU6: =IF(BT6="M",0,IF(BT6="I",2,IF(BT6="B",4,IF(BT6="E",5)))) -> 5 | BV6: B | BW6: =IF(BV6="M",0,IF(BV6="I",2,IF(BV6="B",4,IF(BV6="E",5)))) -> 4 | BX6: E | BY6: =IF(BX6="M",0,IF(BX6="I",2,IF(BX6="B",4,IF(BX6="E",5)))) -> 5 | BZ6: B | CA6: =IF(BZ6="M",0,IF(BZ6="I",2,IF(BZ6="B",4,IF(BZ6="E",5)))) -> 4 | CB6: B | CC6: =IF(CB6="M",0,IF(CB6="I",2,IF(CB6="B",4,IF(CB6="E",5)))) -> 4 | CD6: E | CE6: =IF(CD6="M",0,IF(CD6="I",2,IF(CD6="B",4,IF(CD6="E",5)))) -> 5 | CF6: E | CG6: =IF(CF6="M",0,IF(CF6="I",2,IF(CF6="B",4,IF(CF6="E",5)))) -> 5 | CH6: E | CI6: =IF(CH6="M",0,IF(CH6="I",2,IF(CH6="B",4,IF(CH6="E",5)))) -> 5 | CJ6: I | CK6: =IF(CJ6="M",0,IF(CJ6="I",2,IF(CJ6="B",4,IF(CJ6="E",5)))) -> 2 | CL6: B | CM6: =IF(CL6="M",0,IF(CL6="I",2,IF(CL6="B",4,IF(CL6="E",5)))) -> 4 | CN6: E | CO6: =IF(CN6="M",0,IF(CN6="I",2,IF(CN6="B",4,IF(CN6="E",5)))) -> 5 | CP6: I | CQ6: =IF(CP6="M",0,IF(CP6="I",2,IF(CP6="B",4,IF(CP6="E",5)))) -> 2 | CR6: B | CS6: =IF(CR6="M",0,IF(CR6="I",2,IF(CR6="B",4,IF(CR6="E",5)))) -> 4 | CT6: E | CU6: =IF(CT6="M",0,IF(CT6="I",2,IF(CT6="B",4,IF(CT6="E",5)))) -> 5 | CV6: E | CW6: =IF(CV6="M",0,IF(CV6="I",2,IF(CV6="B",4,IF(CV6="E",5)))) -> 5 | CX6: E | CY6: =IF(CX6="M",0,IF(CX6="I",2,IF(CX6="B",4,IF(CX6="E",5)))) -> 5 | CZ6: E | DA6: =IF(CZ6="M",0,IF(CZ6="I",2,IF(CZ6="B",4,IF(CZ6="E",5)))) -> 5 | DB6: E | DC6: =IF(DB6="M",0,IF(DB6="I",2,IF(DB6="B",4,IF(DB6="E",5)))) -> 5 | DD6: E | DE6: =IF(DD6="M",0,IF(DD6="I",2,IF(DD6="B",4,IF(DD6="E",5)))) -> 5 | DF6: E | DG6: =IF(DF6="M",0,IF(DF6="I",2,IF(DF6="B",4,IF(DF6="E",5)))) -> 5 | DH6: E | DI6: =IF(DH6="M",0,IF(DH6="I",2,IF(DH6="B",4,IF(DH6="E",5)))) -> 5 | DJ6: E | DK6: =IF(DJ6="M",0,IF(DJ6="I",2,IF(DJ6="B",4,IF(DJ6="E",5)))) -> 5 | DL6: E | DM6: =IF(DL6="M",0,IF(DL6="I",2,IF(DL6="B",4,IF(DL6="E",5)))) -> 5 | DN6: E | DO6: =IF(DN6="M",0,IF(DN6="I",2,IF(DN6="B",4,IF(DN6="E",5)))) -> 5 | DP6: B | DQ6: =IF(DP6="M",0,IF(DP6="I",2,IF(DP6="B",4,IF(DP6="E",5)))) -> 4 | DR6: E | DS6: =IF(DR6="M",0,IF(DR6="I",2,IF(DR6="B",4,IF(DR6="E",5)))) -> 5 | DT6: E | DU6: =IF(DT6="M",0,IF(DT6="I",2,IF(DT6="B",4,IF(DT6="E",5)))) -> 5 | DV6: E | DW6: =IF(DV6="M",0,IF(DV6="I",2,IF(DV6="B",4,IF(DV6="E",5)))) -> 5 | DX6: E | DY6: =IF(DX6="M",0,IF(DX6="I",2,IF(DX6="B",4,IF(DX6="E",5)))) -> 5 | DZ6: B | EA6: =IF(DZ6="M",0,IF(DZ6="I",2,IF(DZ6="B",4,IF(DZ6="E",5)))) -> 4 | EB6: B | EC6: =IF(EB6="M",0,IF(EB6="I",2,IF(EB6="B",4,IF(EB6="E",5)))) -> 4 | ED6: E | EE6: =IF(ED6="M",0,IF(ED6="I",2,IF(ED6="B",4,IF(ED6="E",5)))) -> 5 | EF6: E | EG6: =IF(EF6="M",0,IF(EF6="I",2,IF(EF6="B",4,IF(EF6="E",5)))) -> 5 | EH6: B | EI6: =IF(EH6="M",0,IF(EH6="I",2,IF(EH6="B",4,IF(EH6="E",5)))) -> 4 | EJ6: B | EK6: =IF(EJ6="M",0,IF(EJ6="I",2,IF(EJ6="B",4,IF(EJ6="E",5)))) -> 4 | EL6: B | EM6: =IF(EL6="M",0,IF(EL6="I",2,IF(EL6="B",4,IF(EL6="E",5)))) -> 4 | EN6: I | EO6: =IF(EN6="M",0,IF(EN6="I",2,IF(EN6="B",4,IF(EN6="E",5)))) -> 2 | EP6: B | EQ6: =IF(EP6="M",0,IF(EP6="I",2,IF(EP6="B",4,IF(EP6="E",5)))) -> 4 | ER6: =+SUM(F6:EQ6) -> 297 | ES6: =+ER6/$EV$1 -> 0.83661972 | ET6: =IF(ES6>60%,"Autonome","Non Autonome") -> Autonome | EU6: =1&"/"&MONTH(D6)&"/"&YEAR(D6) -> 1/6/2018
A7: MBAGNE | B7: PS Haimedatt | C7: Dia Mohammed | D7: 43271 | E7: Bâ hamet abdaramane | F7: B | G7: =IF(F7="M",0,IF(F7="I",2,IF(F7="B",4,IF(F7="E",5)))) -> 4 | H7: B | I7: =IF(H7="M",0,IF(H7="I",2,IF(H7="B",4,IF(H7="E",5)))) -> 4 | J7: I | K7: =IF(J7="M",0,IF(J7="I",2,IF(J7="B",4,IF(J7="E",5)))) -> 2 | L7: B | M7: =IF(L7="M",0,IF(L7="I",2,IF(L7="B",4,IF(L7="E",5)))) -> 4 | N7: B | O7: =IF(N7="M",0,IF(N7="I",2,IF(N7="B",4,IF(N7="E",5)))) -> 4 | P7: I | Q7: =IF(P7="M",0,IF(P7="I",2,IF(P7="B",4,IF(P7="E",5)))) -> 2 | R7: B | S7: =IF(R7="M",0,IF(R7="I",2,IF(R7="B",4,IF(R7="E",5)))) -> 4 | T7: E | U7: =IF(T7="M",0,IF(T7="I",2,IF(T7="B",4,IF(T7="E",5)))) -> 5 | V7: B | W7: =IF(V7="M",0,IF(V7="I",2,IF(V7="B",4,IF(V7="E",5)))) -> 4 | X7: B | Y7: =IF(X7="M",0,IF(X7="I",2,IF(X7="B",4,IF(X7="E",5)))) -> 4 | Z7: B | AA7: =IF(Z7="M",0,IF(Z7="I",2,IF(Z7="B",4,IF(Z7="E",5)))) -> 4 | AB7: I | AC7: =IF(AB7="M",0,IF(AB7="I",2,IF(AB7="B",4,IF(AB7="E",5)))) -> 2 | AD7: B | AE7: =IF(AD7="M",0,IF(AD7="I",2,IF(AD7="B",4,IF(AD7="E",5)))) -> 4 | AF7: I | AG7: =IF(AF7="M",0,IF(AF7="I",2,IF(AF7="B",4,IF(AF7="E",5)))) -> 2 | AH7: B | AI7: =IF(AH7="M",0,IF(AH7="I",2,IF(AH7="B",4,IF(AH7="E",5)))) -> 4 | AJ7: B | AK7: =IF(AJ7="M",0,IF(AJ7="I",2,IF(AJ7="B",4,IF(AJ7="E",5)))) -> 4 | AL7: M | AM7: =IF(AL7="M",0,IF(AL7="I",2,IF(AL7="B",4,IF(AL7="E",5)))) -> 0 | AN7: B | AO7: =IF(AN7="M",0,IF(AN7="I",2,IF(AN7="B",4,IF(AN7="E",5)))) -> 4 | AP7: B | AQ7: =IF(AP7="M",0,IF(AP7="I",2,IF(AP7="B",4,IF(AP7="E",5)))) -> 4 | AR7: I | AS7: =IF(AR7="M",0,IF(AR7="I",2,IF(AR7="B",4,IF(AR7="E",5)))) -> 2 | AT7: I | AU7: =IF(AT7="M",0,IF(AT7="I",2,IF(AT7="B",4,IF(AT7="E",5)))) -> 2 | AV7: I | AW7: =IF(AV7="M",0,IF(AV7="I",2,IF(AV7="B",4,IF(AV7="E",5)))) -> 2 | AX7: I | AY7: =IF(AX7="M",0,IF(AX7="I",2,IF(AX7="B",4,IF(AX7="E",5)))) -> 2 | AZ7: B | BA7: =IF(AZ7="M",0,IF(AZ7="I",2,IF(AZ7="B",4,IF(AZ7="E",5)))) -> 4 | BB7: B | BC7: =IF(BB7="M",0,IF(BB7="I",2,IF(BB7="B",4,IF(BB7="E",5)))) -> 4 | BD7: B | BE7: =IF(BD7="M",0,IF(BD7="I",2,IF(BD7="B",4,IF(BD7="E",5)))) -> 4 | BF7: B | BG7: =IF(BF7="M",0,IF(BF7="I",2,IF(BF7="B",4,IF(BF7="E",5)))) -> 4 | BH7: B | BI7: =IF(BH7="M",0,IF(BH7="I",2,IF(BH7="B",4,IF(BH7="E",5)))) -> 4 | BJ7: B | BK7: =IF(BJ7="M",0,IF(BJ7="I",2,IF(BJ7="B",4,IF(BJ7="E",5)))) -> 4 | BL7: B | BM7: =IF(BL7="M",0,IF(BL7="I",2,IF(BL7="B",4,IF(BL7="E",5)))) -> 4 | BN7: B | BO7: =IF(BN7="M",0,IF(BN7="I",2,IF(BN7="B",4,IF(BN7="E",5)))) -> 4 | BP7: B | BQ7: =IF(BP7="M",0,IF(BP7="I",2,IF(BP7="B",4,IF(BP7="E",5)))) -> 4 | BR7: B | BS7: =IF(BR7="M",0,IF(BR7="I",2,IF(BR7="B",4,IF(BR7="E",5)))) -> 4 | BT7: I | BU7: =IF(BT7="M",0,IF(BT7="I",2,IF(BT7="B",4,IF(BT7="E",5)))) -> 2 | BV7: B | BW7: =IF(BV7="M",0,IF(BV7="I",2,IF(BV7="B",4,IF(BV7="E",5)))) -> 4 | BX7: I | BY7: =IF(BX7="M",0,IF(BX7="I",2,IF(BX7="B",4,IF(BX7="E",5)))) -> 2 | BZ7: I | CA7: =IF(BZ7="M",0,IF(BZ7="I",2,IF(BZ7="B",4,IF(BZ7="E",5)))) -> 2 | CB7: I | CC7: =IF(CB7="M",0,IF(CB7="I",2,IF(CB7="B",4,IF(CB7="E",5)))) -> 2 | CD7: B | CE7: =IF(CD7="M",0,IF(CD7="I",2,IF(CD7="B",4,IF(CD7="E",5)))) -> 4 | CF7: I | CG7: =IF(CF7="M",0,IF(CF7="I",2,IF(CF7="B",4,IF(CF7="E",5)))) -> 2 | CH7: I | CI7: =IF(CH7="M",0,IF(CH7="I",2,IF(CH7="B",4,IF(CH7="E",5)))) -> 2 | CJ7: I | CK7: =IF(CJ7="M",0,IF(CJ7="I",2,IF(CJ7="B",4,IF(CJ7="E",5)))) -> 2 | CL7: B | CM7: =IF(CL7="M",0,IF(CL7="I",2,IF(CL7="B",4,IF(CL7="E",5)))) -> 4 | CN7: B | CO7: =IF(CN7="M",0,IF(CN7="I",2,IF(CN7="B",4,IF(CN7="E",5)))) -> 4 | CP7: B | CQ7: =IF(CP7="M",0,IF(CP7="I",2,IF(CP7="B",4,IF(CP7="E",5)))) -> 4 | CR7: B | CS7: =IF(CR7="M",0,IF(CR7="I",2,IF(CR7="B",4,IF(CR7="E",5)))) -> 4 | CT7: I | CU7: =IF(CT7="M",0,IF(CT7="I",2,IF(CT7="B",4,IF(CT7="E",5)))) -> 2 | CV7: I | CW7: =IF(CV7="M",0,IF(CV7="I",2,IF(CV7="B",4,IF(CV7="E",5)))) -> 2 | CX7: B | CY7: =IF(CX7="M",0,IF(CX7="I",2,IF(CX7="B",4,IF(CX7="E",5)))) -> 4 | CZ7: I | DA7: =IF(CZ7="M",0,IF(CZ7="I",2,IF(CZ7="B",4,IF(CZ7="E",5)))) -> 2 | DB7: I | DC7: =IF(DB7="M",0,IF(DB7="I",2,IF(DB7="B",4,IF(DB7="E",5)))) -> 2 | DD7: I | DE7: =IF(DD7="M",0,IF(DD7="I",2,IF(DD7="B",4,IF(DD7="E",5)))) -> 2 | DF7: B | DG7: =IF(DF7="M",0,IF(DF7="I",2,IF(DF7="B",4,IF(DF7="E",5)))) -> 4 | DH7: B | DI7: =IF(DH7="M",0,IF(DH7="I",2,IF(DH7="B",4,IF(DH7="E",5)))) -> 4 | DJ7: B | DK7: =IF(DJ7="M",0,IF(DJ7="I",2,IF(DJ7="B",4,IF(DJ7="E",5)))) -> 4 | DL7: I | DM7: =IF(DL7="M",0,IF(DL7="I",2,IF(DL7="B",4,IF(DL7="E",5)))) -> 2 | DN7: I | DO7: =IF(DN7="M",0,IF(DN7="I",2,IF(DN7="B",4,IF(DN7="E",5)))) -> 2 | DP7: I | DQ7: =IF(DP7="M",0,IF(DP7="I",2,IF(DP7="B",4,IF(DP7="E",5)))) -> 2 | DR7: B | DS7: =IF(DR7="M",0,IF(DR7="I",2,IF(DR7="B",4,IF(DR7="E",5)))) -> 4 | DT7: B | DU7: =IF(DT7="M",0,IF(DT7="I",2,IF(DT7="B",4,IF(DT7="E",5)))) -> 4 | DV7: B | DW7: =IF(DV7="M",0,IF(DV7="I",2,IF(DV7="B",4,IF(DV7="E",5)))) -> 4 | DX7: B | DY7: =IF(DX7="M",0,IF(DX7="I",2,IF(DX7="B",4,IF(DX7="E",5)))) -> 4 | DZ7: B | EA7: =IF(DZ7="M",0,IF(DZ7="I",2,IF(DZ7="B",4,IF(DZ7="E",5)))) -> 4 | EB7: I | EC7: =IF(EB7="M",0,IF(EB7="I",2,IF(EB7="B",4,IF(EB7="E",5)))) -> 2 | ED7: B | EE7: =IF(ED7="M",0,IF(ED7="I",2,IF(ED7="B",4,IF(ED7="E",5)))) -> 4 | EF7: I | EG7: =IF(EF7="M",0,IF(EF7="I",2,IF(EF7="B",4,IF(EF7="E",5)))) -> 2 | EH7: B | EI7: =IF(EH7="M",0,IF(EH7="I",2,IF(EH7="B",4,IF(EH7="E",5)))) -> 4 | EJ7: I | EK7: =IF(EJ7="M",0,IF(EJ7="I",2,IF(EJ7="B",4,IF(EJ7="E",5)))) -> 2 | EL7: I | EM7: =IF(EL7="M",0,IF(EL7="I",2,IF(EL7="B",4,IF(EL7="E",5)))) -> 2 | EN7: I | EO7: =IF(EN7="M",0,IF(EN7="I",2,IF(EN7="B",4,IF(EN7="E",5)))) -> 2 | EP7: B | EQ7: =IF(EP7="M",0,IF(EP7="I",2,IF(EP7="B",4,IF(EP7="E",5)))) -> 4 | ER7: =+SUM(F7:EQ7) -> 225 | ES7: =+ER7/$EV$1 -> 0.63380282 | ET7: =IF(ES7>60%,"Autonome","Non Autonome") -> Autonome | EU7: =1&"/"&MONTH(D7)&"/"&YEAR(D7) -> 1/6/2018
A8: BABABE | B8: CS Bababe | C8: Gaye demba soumare | D8: 43271 | E8: Diou Abdoulaye | F8: B | G8: =IF(F8="M",0,IF(F8="I",2,IF(F8="B",4,IF(F8="E",5)))) -> 4 | H8: B | I8: =IF(H8="M",0,IF(H8="I",2,IF(H8="B",4,IF(H8="E",5)))) -> 4 | J8: B | K8: =IF(J8="M",0,IF(J8="I",2,IF(J8="B",4,IF(J8="E",5)))) -> 4 | L8: B | M8: =IF(L8="M",0,IF(L8="I",2,IF(L8="B",4,IF(L8="E",5)))) -> 4 | N8: B | O8: =IF(N8="M",0,IF(N8="I",2,IF(N8="B",4,IF(N8="E",5)))) -> 4 | P8: I | Q8: =IF(P8="M",0,IF(P8="I",2,IF(P8="B",4,IF(P8="E",5)))) -> 2 | R8: B | S8: =IF(R8="M",0,IF(R8="I",2,IF(R8="B",4,IF(R8="E",5)))) -> 4 | T8: B | U8: =IF(T8="M",0,IF(T8="I",2,IF(T8="B",4,IF(T8="E",5)))) -> 4 | V8: I | W8: =IF(V8="M",0,IF(V8="I",2,IF(V8="B",4,IF(V8="E",5)))) -> 2 | X8: I | Y8: =IF(X8="M",0,IF(X8="I",2,IF(X8="B",4,IF(X8="E",5)))) -> 2 | Z8: B | AA8: =IF(Z8="M",0,IF(Z8="I",2,IF(Z8="B",4,IF(Z8="E",5)))) -> 4 | AB8: M | AC8: =IF(AB8="M",0,IF(AB8="I",2,IF(AB8="B",4,IF(AB8="E",5)))) -> 0 | AD8: I | AE8: =IF(AD8="M",0,IF(AD8="I",2,IF(AD8="B",4,IF(AD8="E",5)))) -> 2 | AF8: B | AG8: =IF(AF8="M",0,IF(AF8="I",2,IF(AF8="B",4,IF(AF8="E",5)))) -> 4 | AH8: I | AI8: =IF(AH8="M",0,IF(AH8="I",2,IF(AH8="B",4,IF(AH8="E",5)))) -> 2 | AJ8: I | AK8: =IF(AJ8="M",0,IF(AJ8="I",2,IF(AJ8="B",4,IF(AJ8="E",5)))) -> 2 | AL8: I | AM8: =IF(AL8="M",0,IF(AL8="I",2,IF(AL8="B",4,IF(AL8="E",5)))) -> 2 | AN8: I | AO8: =IF(AN8="M",0,IF(AN8="I",2,IF(AN8="B",4,IF(AN8="E",5)))) -> 2 | AP8: B | AQ8: =IF(AP8="M",0,IF(AP8="I",2,IF(AP8="B",4,IF(AP8="E",5)))) -> 4 | AR8: B | AS8: =IF(AR8="M",0,IF(AR8="I",2,IF(AR8="B",4,IF(AR8="E",5)))) -> 4 | AT8: B | AU8: =IF(AT8="M",0,IF(AT8="I",2,IF(AT8="B",4,IF(AT8="E",5)))) -> 4 | AV8: B | AW8: =IF(AV8="M",0,IF(AV8="I",2,IF(AV8="B",4,IF(AV8="E",5)))) -> 4 | AX8: B | AY8: =IF(AX8="M",0,IF(AX8="I",2,IF(AX8="B",4,IF(AX8="E",5)))) -> 4 | AZ8: B | BA8: =IF(AZ8="M",0,IF(AZ8="I",2,IF(AZ8="B",4,IF(AZ8="E",5)))) -> 4 | BB8: B | BC8: =IF(BB8="M",0,IF(BB8="I",2,IF(BB8="B",4,IF(BB8="E",5)))) -> 4 | BD8: B | BE8: =IF(BD8="M",0,IF(BD8="I",2,IF(BD8="B",4,IF(BD8="E",5)))) -> 4 | BF8: B | BG8: =IF(BF8="M",0,IF(BF8="I",2,IF(BF8="B",4,IF(BF8="E",5)))) -> 4 | BH8: I | BI8: =IF(BH8="M",0,IF(BH8="I",2,IF(BH8="B",4,IF(BH8="E",5)))) -> 2 | BJ8: E | BK8: =IF(BJ8="M",0,IF(BJ8="I",2,IF(BJ8="B",4,IF(BJ8="E",5)))) -> 5 | BL8: B | BM8: =IF(BL8="M",0,IF(BL8="I",2,IF(BL8="B",4,IF(BL8="E",5)))) -> 4 | BN8: B | BO8: =IF(BN8="M",0,IF(BN8="I",2,IF(BN8="B",4,IF(BN8="E",5)))) -> 4 | BP8: B | BQ8: =IF(BP8="M",0,IF(BP8="I",2,IF(BP8="B",4,IF(BP8="E",5)))) -> 4 | BR8: B | BS8: =IF(BR8="M",0,IF(BR8="I",2,IF(BR8="B",4,IF(BR8="E",5)))) -> 4 | BT8: B | BU8: =IF(BT8="M",0,IF(BT8="I",2,IF(BT8="B",4,IF(BT8="E",5)))) -> 4 | BV8: B | BW8: =IF(BV8="M",0,IF(BV8="I",2,IF(BV8="B",4,IF(BV8="E",5)))) -> 4 | BX8: B | BY8: =IF(BX8="M",0,IF(BX8="I",2,IF(BX8="B",4,IF(BX8="E",5)))) -> 4 | BZ8: B | CA8: =IF(BZ8="M",0,IF(BZ8="I",2,IF(BZ8="B",4,IF(BZ8="E",5)))) -> 4 | CB8: B | CC8: =IF(CB8="M",0,IF(CB8="I",2,IF(CB8="B",4,IF(CB8="E",5)))) -> 4 | CD8: B | CE8: =IF(CD8="M",0,IF(CD8="I",2,IF(CD8="B",4,IF(CD8="E",5)))) -> 4 | CF8: I | CG8: =IF(CF8="M",0,IF(CF8="I",2,IF(CF8="B",4,IF(CF8="E",5)))) -> 2 | CH8: I | CI8: =IF(CH8="M",0,IF(CH8="I",2,IF(CH8="B",4,IF(CH8="E",5)))) -> 2 | CJ8: I | CK8: =IF(CJ8="M",0,IF(CJ8="I",2,IF(CJ8="B",4,IF(CJ8="E",5)))) -> 2 | CL8: B | CM8: =IF(CL8="M",0,IF(CL8="I",2,IF(CL8="B",4,IF(CL8="E",5)))) -> 4 | CN8: B | CO8: =IF(CN8="M",0,IF(CN8="I",2,IF(CN8="B",4,IF(CN8="E",5)))) -> 4 | CP8: I | CQ8: =IF(CP8="M",0,IF(CP8="I",2,IF(CP8="B",4,IF(CP8="E",5)))) -> 2 | CR8: B | CS8: =IF(CR8="M",0,IF(CR8="I",2,IF(CR8="B",4,IF(CR8="E",5)))) -> 4 | CT8: B | CU8: =IF(CT8="M",0,IF(CT8="I",2,IF(CT8="B",4,IF(CT8="E",5)))) -> 4 | CV8: B | CW8: =IF(CV8="M",0,IF(CV8="I",2,IF(CV8="B",4,IF(CV8="E",5)))) -> 4 | CX8: B | CY8: =IF(CX8="M",0,IF(CX8="I",2,IF(CX8="B",4,IF(CX8="E",5)))) -> 4 | CZ8: B | DA8: =IF(CZ8="M",0,IF(CZ8="I",2,IF(CZ8="B",4,IF(CZ8="E",5)))) -> 4 | DB8: B | DC8: =IF(DB8="M",0,IF(DB8="I",2,IF(DB8="B",4,IF(DB8="E",5)))) -> 4 | DD8: I | DE8: =IF(DD8="M",0,IF(DD8="I",2,IF(DD8="B",4,IF(DD8="E",5)))) -> 2 | DF8: B | DG8: =IF(DF8="M",0,IF(DF8="I",2,IF(DF8="B",4,IF(DF8="E",5)))) -> 4 | DH8: B | DI8: =IF(DH8="M",0,IF(DH8="I",2,IF(DH8="B",4,IF(DH8="E",5)))) -> 4 | DJ8: B | DK8: =IF(DJ8="M",0,IF(DJ8="I",2,IF(DJ8="B",4,IF(DJ8="E",5)))) -> 4 | DL8: B | DM8: =IF(DL8="M",0,IF(DL8="I",2,IF(DL8="B",4,IF(DL8="E",5)))) -> 4 | DN8: I | DO8: =IF(DN8="M",0,IF(DN8="I",2,IF(DN8="B",4,IF(DN8="E",5)))) -> 2 | DP8: I | DQ8: =IF(DP8="M",0,IF(DP8="I",2,IF(DP8="B",4,IF(DP8="E",5)))) -> 2 | DR8: B | DS8: =IF(DR8="M",0,IF(DR8="I",2,IF(DR8="B",4,IF(DR8="E",5)))) -> 4 | DT8: B | DU8: =IF(DT8="M",0,IF(DT8="I",2,IF(DT8="B",4,IF(DT8="E",5)))) -> 4 | DV8: M | DW8: =IF(DV8="M",0,IF(DV8="I",2,IF(DV8="B",4,IF(DV8="E",5)))) -> 0 | DX8: M | DY8: =IF(DX8="M",0,IF(DX8="I",2,IF(DX8="B",4,IF(DX8="E",5)))) -> 0 | DZ8: I | EA8: =IF(DZ8="M",0,IF(DZ8="I",2,IF(DZ8="B",4,IF(DZ8="E",5)))) -> 2 | EB8: B | EC8: =IF(EB8="M",0,IF(EB8="I",2,IF(EB8="B",4,IF(EB8="E",5)))) -> 4 | ED8: B | EE8: =IF(ED8="M",0,IF(ED8="I",2,IF(ED8="B",4,IF(ED8="E",5)))) -> 4 | EF8: I | EG8: =IF(EF8="M",0,IF(EF8="I",2,IF(EF8="B",4,IF(EF8="E",5)))) -> 2 | EH8: B | EI8: =IF(EH8="M",0,IF(EH8="I",2,IF(EH8="B",4,IF(EH8="E",5)))) -> 4 | EJ8: I | EK8: =IF(EJ8="M",0,IF(EJ8="I",2,IF(EJ8="B",4,IF(EJ8="E",5)))) -> 2 | EL8: B | EM8: =IF(EL8="M",0,IF(EL8="I",2,IF(EL8="B",4,IF(EL8="E",5)))) -> 4 | EN8: M | EO8: =IF(EN8="M",0,IF(EN8="I",2,IF(EN8="B",4,IF(EN8="E",5)))) -> 0 | EP8: B | EQ8: =IF(EP8="M",0,IF(EP8="I",2,IF(EP8="B",4,IF(EP8="E",5)))) -> 4 | ER8: =+SUM(F8:EQ8) -> 231 | ES8: =+ER8/$EV$1 -> 0.65070423 | ET8: =IF(ES8>60%,"Autonome","Non Autonome") -> Autonome | EU8: =1&"/"&MONTH(D8)&"/"&YEAR(D8) -> 1/6/2018
A9: BABABE | B9: PS Abdalla Diérry | C9: Gaye demba soumare | D9: 43271 | E9: Diou Abdoulaye | F9: B | G9: =IF(F9="M",0,IF(F9="I",2,IF(F9="B",4,IF(F9="E",5)))) -> 4 | H9: I | I9: =IF(H9="M",0,IF(H9="I",2,IF(H9="B",4,IF(H9="E",5)))) -> 2 | J9: B | K9: =IF(J9="M",0,IF(J9="I",2,IF(J9="B",4,IF(J9="E",5)))) -> 4 | L9: B | M9: =IF(L9="M",0,IF(L9="I",2,IF(L9="B",4,IF(L9="E",5)))) -> 4 | N9: B | O9: =IF(N9="M",0,IF(N9="I",2,IF(N9="B",4,IF(N9="E",5)))) -> 4 | P9: M | Q9: =IF(P9="M",0,IF(P9="I",2,IF(P9="B",4,IF(P9="E",5)))) -> 0 | R9: B | S9: =IF(R9="M",0,IF(R9="I",2,IF(R9="B",4,IF(R9="E",5)))) -> 4 | T9: B | U9: =IF(T9="M",0,IF(T9="I",2,IF(T9="B",4,IF(T9="E",5)))) -> 4 | V9: I | W9: =IF(V9="M",0,IF(V9="I",2,IF(V9="B",4,IF(V9="E",5)))) -> 2 | X9: B | Y9: =IF(X9="M",0,IF(X9="I",2,IF(X9="B",4,IF(X9="E",5)))) -> 4 | Z9: I | AA9: =IF(Z9="M",0,IF(Z9="I",2,IF(Z9="B",4,IF(Z9="E",5)))) -> 2 | AB9: I | AC9: =IF(AB9="M",0,IF(AB9="I",2,IF(AB9="B",4,IF(AB9="E",5)))) -> 2 | AD9: B | AE9: =IF(AD9="M",0,IF(AD9="I",2,IF(AD9="B",4,IF(AD9="E",5)))) -> 4 | AF9: B | AG9: =IF(AF9="M",0,IF(AF9="I",2,IF(AF9="B",4,IF(AF9="E",5)))) -> 4 | AH9: I | AI9: =IF(AH9="M",0,IF(AH9="I",2,IF(AH9="B",4,IF(AH9="E",5)))) -> 2 | AJ9: I | AK9: =IF(AJ9="M",0,IF(AJ9="I",2,IF(AJ9="B",4,IF(AJ9="E",5)))) -> 2 | AL9: M | AM9: =IF(AL9="M",0,IF(AL9="I",2,IF(AL9="B",4,IF(AL9="E",5)))) -> 0 | AN9: B | AO9: =IF(AN9="M",0,IF(AN9="I",2,IF(AN9="B",4,IF(AN9="E",5)))) -> 4 | AP9: B | AQ9: =IF(AP9="M",0,IF(AP9="I",2,IF(AP9="B",4,IF(AP9="E",5)))) -> 4 | AR9: B | AS9: =IF(AR9="M",0,IF(AR9="I",2,IF(AR9="B",4,IF(AR9="E",5)))) -> 4 | AT9: B | AU9: =IF(AT9="M",0,IF(AT9="I",2,IF(AT9="B",4,IF(AT9="E",5)))) -> 4 | AV9: B | AW9: =IF(AV9="M",0,IF(AV9="I",2,IF(AV9="B",4,IF(AV9="E",5)))) -> 4 | AX9: B | AY9: =IF(AX9="M",0,IF(AX9="I",2,IF(AX9="B",4,IF(AX9="E",5)))) -> 4 | AZ9: B | BA9: =IF(AZ9="M",0,IF(AZ9="I",2,IF(AZ9="B",4,IF(AZ9="E",5)))) -> 4 | BB9: B | BC9: =IF(BB9="M",0,IF(BB9="I",2,IF(BB9="B",4,IF(BB9="E",5)))) -> 4 | BD9: B | BE9: =IF(BD9="M",0,IF(BD9="I",2,IF(BD9="B",4,IF(BD9="E",5)))) -> 4 | BF9: B | BG9: =IF(BF9="M",0,IF(BF9="I",2,IF(BF9="B",4,IF(BF9="E",5)))) -> 4 | BH9: I | BI9: =IF(BH9="M",0,IF(BH9="I",2,IF(BH9="B",4,IF(BH9="E",5)))) -> 2 | BJ9: B | BK9: =IF(BJ9="M",0,IF(BJ9="I",2,IF(BJ9="B",4,IF(BJ9="E",5)))) -> 4 | BL9: B | BM9: =IF(BL9="M",0,IF(BL9="I",2,IF(BL9="B",4,IF(BL9="E",5)))) -> 4 | BN9: B | BO9: =IF(BN9="M",0,IF(BN9="I",2,IF(BN9="B",4,IF(BN9="E",5)))) -> 4 | BP9: B | BQ9: =IF(BP9="M",0,IF(BP9="I",2,IF(BP9="B",4,IF(BP9="E",5)))) -> 4 | BR9: B | BS9: =IF(BR9="M",0,IF(BR9="I",2,IF(BR9="B",4,IF(BR9="E",5)))) -> 4 | BT9: B | BU9: =IF(BT9="M",0,IF(BT9="I",2,IF(BT9="B",4,IF(BT9="E",5)))) -> 4 | BV9: B | BW9: =IF(BV9="M",0,IF(BV9="I",2,IF(BV9="B",4,IF(BV9="E",5)))) -> 4 | BX9: B | BY9: =IF(BX9="M",0,IF(BX9="I",2,IF(BX9="B",4,IF(BX9="E",5)))) -> 4 | BZ9: B | CA9: =IF(BZ9="M",0,IF(BZ9="I",2,IF(BZ9="B",4,IF(BZ9="E",5)))) -> 4 | CB9: B | CC9: =IF(CB9="M",0,IF(CB9="I",2,IF(CB9="B",4,IF(CB9="E",5)))) -> 4 | CD9: B | CE9: =IF(CD9="M",0,IF(CD9="I",2,IF(CD9="B",4,IF(CD9="E",5)))) -> 4 | CF9: M | CG9: =IF(CF9="M",0,IF(CF9="I",2,IF(CF9="B",4,IF(CF9="E",5)))) -> 0 | CH9: B | CI9: =IF(CH9="M",0,IF(CH9="I",2,IF(CH9="B",4,IF(CH9="E",5)))) -> 4 | CJ9: I | CK9: =IF(CJ9="M",0,IF(CJ9="I",2,IF(CJ9="B",4,IF(CJ9="E",5)))) -> 2 | CL9: B | CM9: =IF(CL9="M",0,IF(CL9="I",2,IF(CL9="B",4,IF(CL9="E",5)))) -> 4 | CN9: B | CO9: =IF(CN9="M",0,IF(CN9="I",2,IF(CN9="B",4,IF(CN9="E",5)))) -> 4 | CP9: B | CQ9: =IF(CP9="M",0,IF(CP9="I",2,IF(CP9="B",4,IF(CP9="E",5)))) -> 4 | CR9: B | CS9: =IF(CR9="M",0,IF(CR9="I",2,IF(CR9="B",4,IF(CR9="E",5)))) -> 4 | CT9: B | CU9: =IF(CT9="M",0,IF(CT9="I",2,IF(CT9="B",4,IF(CT9="E",5)))) -> 4 | CV9: B | CW9: =IF(CV9="M",0,IF(CV9="I",2,IF(CV9="B",4,IF(CV9="E",5)))) -> 4 | CX9: B | CY9: =IF(CX9="M",0,IF(CX9="I",2,IF(CX9="B",4,IF(CX9="E",5)))) -> 4 | CZ9: B | DA9: =IF(CZ9="M",0,IF(CZ9="I",2,IF(CZ9="B",4,IF(CZ9="E",5)))) -> 4 | DB9: B | DC9: =IF(DB9="M",0,IF(DB9="I",2,IF(DB9="B",4,IF(DB9="E",5)))) -> 4 | DD9: I | DE9: =IF(DD9="M",0,IF(DD9="I",2,IF(DD9="B",4,IF(DD9="E",5)))) -> 2 | DF9: B | DG9: =IF(DF9="M",0,IF(DF9="I",2,IF(DF9="B",4,IF(DF9="E",5)))) -> 4 | DH9: B | DI9: =IF(DH9="M",0,IF(DH9="I",2,IF(DH9="B",4,IF(DH9="E",5)))) -> 4 | DJ9: B | DK9: =IF(DJ9="M",0,IF(DJ9="I",2,IF(DJ9="B",4,IF(DJ9="E",5)))) -> 4 | DL9: B | DM9: =IF(DL9="M",0,IF(DL9="I",2,IF(DL9="B",4,IF(DL9="E",5)))) -> 4 | DN9: E | DO9: =IF(DN9="M",0,IF(DN9="I",2,IF(DN9="B",4,IF(DN9="E",5)))) -> 5 | DP9: B | DQ9: =IF(DP9="M",0,IF(DP9="I",2,IF(DP9="B",4,IF(DP9="E",5)))) -> 4 | DR9: B | DS9: =IF(DR9="M",0,IF(DR9="I",2,IF(DR9="B",4,IF(DR9="E",5)))) -> 4 | DT9: I | DU9: =IF(DT9="M",0,IF(DT9="I",2,IF(DT9="B",4,IF(DT9="E",5)))) -> 2 | DV9: M | DW9: =IF(DV9="M",0,IF(DV9="I",2,IF(DV9="B",4,IF(DV9="E",5)))) -> 0 | DX9: M | DY9: =IF(DX9="M",0,IF(DX9="I",2,IF(DX9="B",4,IF(DX9="E",5)))) -> 0 | DZ9: B | EA9: =IF(DZ9="M",0,IF(DZ9="I",2,IF(DZ9="B",4,IF(DZ9="E",5)))) -> 4 | EB9: B | EC9: =IF(EB9="M",0,IF(EB9="I",2,IF(EB9="B",4,IF(EB9="E",5)))) -> 4 | ED9: B | EE9: =IF(ED9="M",0,IF(ED9="I",2,IF(ED9="B",4,IF(ED9="E",5)))) -> 4 | EF9: B | EG9: =IF(EF9="M",0,IF(EF9="I",2,IF(EF9="B",4,IF(EF9="E",5)))) -> 4 | EH9: B | EI9: =IF(EH9="M",0,IF(EH9="I",2,IF(EH9="B",4,IF(EH9="E",5)))) -> 4 | EJ9: B | EK9: =IF(EJ9="M",0,IF(EJ9="I",2,IF(EJ9="B",4,IF(EJ9="E",5)))) -> 4 | EL9: I | EM9: =IF(EL9="M",0,IF(EL9="I",2,IF(EL9="B",4,IF(EL9="E",5)))) -> 2 | EN9: M | EO9: =IF(EN9="M",0,IF(EN9="I",2,IF(EN9="B",4,IF(EN9="E",5)))) -> 0 | EP9: B | EQ9: =IF(EP9="M",0,IF(EP9="I",2,IF(EP9="B",4,IF(EP9="E",5)))) -> 4 | ER9: =+SUM(F9:EQ9) -> 239 | ES9: =+ER9/$EV$1 -> 0.67323944 | ET9: =IF(ES9>60%,"Autonome","Non Autonome") -> Autonome | EU9: =1&"/"&MONTH(D9)&"/"&YEAR(D9) -> 1/6/2018
A10: MBAGNE | B10: Ps Ferrala | C10: Bâ hamet abdaramane | D10: 43271 | E10: Dia Mohamed | F10: B | G10: =IF(F10="M",0,IF(F10="I",2,IF(F10="B",4,IF(F10="E",5)))) -> 4 | H10: I | I10: =IF(H10="M",0,IF(H10="I",2,IF(H10="B",4,IF(H10="E",5)))) -> 2 | J10: I | K10: =IF(J10="M",0,IF(J10="I",2,IF(J10="B",4,IF(J10="E",5)))) -> 2 | L10: B | M10: =IF(L10="M",0,IF(L10="I",2,IF(L10="B",4,IF(L10="E",5)))) -> 4 | N10: B | O10: =IF(N10="M",0,IF(N10="I",2,IF(N10="B",4,IF(N10="E",5)))) -> 4 | P10: M | Q10: =IF(P10="M",0,IF(P10="I",2,IF(P10="B",4,IF(P10="E",5)))) -> 0 | R10: B | S10: =IF(R10="M",0,IF(R10="I",2,IF(R10="B",4,IF(R10="E",5)))) -> 4 | T10: B | U10: =IF(T10="M",0,IF(T10="I",2,IF(T10="B",4,IF(T10="E",5)))) -> 4 | V10: B | W10: =IF(V10="M",0,IF(V10="I",2,IF(V10="B",4,IF(V10="E",5)))) -> 4 | X10: B | Y10: =IF(X10="M",0,IF(X10="I",2,IF(X10="B",4,IF(X10="E",5)))) -> 4 | Z10: B | AA10: =IF(Z10="M",0,IF(Z10="I",2,IF(Z10="B",4,IF(Z10="E",5)))) -> 4 | AB10: I | AC10: =IF(AB10="M",0,IF(AB10="I",2,IF(AB10="B",4,IF(AB10="E",5)))) -> 2 | AD10: B | AE10: =IF(AD10="M",0,IF(AD10="I",2,IF(AD10="B",4,IF(AD10="E",5)))) -> 4 | AF10: I | AG10: =IF(AF10="M",0,IF(AF10="I",2,IF(AF10="B",4,IF(AF10="E",5)))) -> 2 | AH10: B | AI10: =IF(AH10="M",0,IF(AH10="I",2,IF(AH10="B",4,IF(AH10="E",5)))) -> 4 | AJ10: B | AK10: =IF(AJ10="M",0,IF(AJ10="I",2,IF(AJ10="B",4,IF(AJ10="E",5)))) -> 4 | AL10: I | AM10: =IF(AL10="M",0,IF(AL10="I",2,IF(AL10="B",4,IF(AL10="E",5)))) -> 2 | AN10: B | AO10: =IF(AN10="M",0,IF(AN10="I",2,IF(AN10="B",4,IF(AN10="E",5)))) -> 4 | AP10: I | AQ10: =IF(AP10="M",0,IF(AP10="I",2,IF(AP10="B",4,IF(AP10="E",5)))) -> 2 | AR10: I | AS10: =IF(AR10="M",0,IF(AR10="I",2,IF(AR10="B",4,IF(AR10="E",5)))) -> 2 | AT10: I | AU10: =IF(AT10="M",0,IF(AT10="I",2,IF(AT10="B",4,IF(AT10="E",5)))) -> 2 | AV10: I | AW10: =IF(AV10="M",0,IF(AV10="I",2,IF(AV10="B",4,IF(AV10="E",5)))) -> 2 | AX10: I | AY10: =IF(AX10="M",0,IF(AX10="I",2,IF(AX10="B",4,IF(AX10="E",5)))) -> 2 | AZ10: I | BA10: =IF(AZ10="M",0,IF(AZ10="I",2,IF(AZ10="B",4,IF(AZ10="E",5)))) -> 2 | BB10: I | BC10: =IF(BB10="M",0,IF(BB10="I",2,IF(BB10="B",4,IF(BB10="E",5)))) -> 2 | BD10: B | BE10: =IF(BD10="M",0,IF(BD10="I",2,IF(BD10="B",4,IF(BD10="E",5)))) -> 4 | BF10: B | BG10: =IF(BF10="M",0,IF(BF10="I",2,IF(BF10="B",4,IF(BF10="E",5)))) -> 4 | BH10: B | BI10: =IF(BH10="M",0,IF(BH10="I",2,IF(BH10="B",4,IF(BH10="E",5)))) -> 4 | BJ10: B | BK10: =IF(BJ10="M",0,IF(BJ10="I",2,IF(BJ10="B",4,IF(BJ10="E",5)))) -> 4 | BL10: B | BM10: =IF(BL10="M",0,IF(BL10="I",2,IF(BL10="B",4,IF(BL10="E",5)))) -> 4 | BN10: B | BO10: =IF(BN10="M",0,IF(BN10="I",2,IF(BN10="B",4,IF(BN10="E",5)))) -> 4 | BP10: B | BQ10: =IF(BP10="M",0,IF(BP10="I",2,IF(BP10="B",4,IF(BP10="E",5)))) -> 4 | BR10: B | BS10: =IF(BR10="M",0,IF(BR10="I",2,IF(BR10="B",4,IF(BR10="E",5)))) -> 4 | BT10: B | BU10: =IF(BT10="M",0,IF(BT10="I",2,IF(BT10="B",4,IF(BT10="E",5)))) -> 4 | BV10: B | BW10: =IF(BV10="M",0,IF(BV10="I",2,IF(BV10="B",4,IF(BV10="E",5)))) -> 4 | BX10: I | BY10: =IF(BX10="M",0,IF(BX10="I",2,IF(BX10="B",4,IF(BX10="E",5)))) -> 2 | BZ10: I | CA10: =IF(BZ10="M",0,IF(BZ10="I",2,IF(BZ10="B",4,IF(BZ10="E",5)))) -> 2 | CB10: I | CC10: =IF(CB10="M",0,IF(CB10="I",2,IF(CB10="B",4,IF(CB10="E",5)))) -> 2 | CD10: B | CE10: =IF(CD10="M",0,IF(CD10="I",2,IF(CD10="B",4,IF(CD10="E",5)))) -> 4 | CF10: M | CG10: =IF(CF10="M",0,IF(CF10="I",2,IF(CF10="B",4,IF(CF10="E",5)))) -> 0 | CH10: B | CI10: =IF(CH10="M",0,IF(CH10="I",2,IF(CH10="B",4,IF(CH10="E",5)))) -> 4 | CJ10: M | CK10: =IF(CJ10="M",0,IF(CJ10="I",2,IF(CJ10="B",4,IF(CJ10="E",5)))) -> 0 | CL10: B | CM10: =IF(CL10="M",0,IF(CL10="I",2,IF(CL10="B",4,IF(CL10="E",5)))) -> 4 | CN10: B | CO10: =IF(CN10="M",0,IF(CN10="I",2,IF(CN10="B",4,IF(CN10="E",5)))) -> 4 | CP10: B | CQ10: =IF(CP10="M",0,IF(CP10="I",2,IF(CP10="B",4,IF(CP10="E",5)))) -> 4 | CR10: B | CS10: =IF(CR10="M",0,IF(CR10="I",2,IF(CR10="B",4,IF(CR10="E",5)))) -> 4 | CT10: B | CU10: =IF(CT10="M",0,IF(CT10="I",2,IF(CT10="B",4,IF(CT10="E",5)))) -> 4 | CV10: B | CW10: =IF(CV10="M",0,IF(CV10="I",2,IF(CV10="B",4,IF(CV10="E",5)))) -> 4 | CX10: B | CY10: =IF(CX10="M",0,IF(CX10="I",2,IF(CX10="B",4,IF(CX10="E",5)))) -> 4 | CZ10: I | DA10: =IF(CZ10="M",0,IF(CZ10="I",2,IF(CZ10="B",4,IF(CZ10="E",5)))) -> 2 | DB10: B | DC10: =IF(DB10="M",0,IF(DB10="I",2,IF(DB10="B",4,IF(DB10="E",5)))) -> 4 | DD10: B | DE10: =IF(DD10="M",0,IF(DD10="I",2,IF(DD10="B",4,IF(DD10="E",5)))) -> 4 | DF10: B | DG10: =IF(DF10="M",0,IF(DF10="I",2,IF(DF10="B",4,IF(DF10="E",5)))) -> 4 | DH10: B | DI10: =IF(DH10="M",0,IF(DH10="I",2,IF(DH10="B",4,IF(DH10="E",5)))) -> 4 | DJ10: B | DK10: =IF(DJ10="M",0,IF(DJ10="I",2,IF(DJ10="B",4,IF(DJ10="E",5)))) -> 4 | DL10: I | DM10: =IF(DL10="M",0,IF(DL10="I",2,IF(DL10="B",4,IF(DL10="E",5)))) -> 2 | DN10: I | DO10: =IF(DN10="M",0,IF(DN10="I",2,IF(DN10="B",4,IF(DN10="E",5)))) -> 2 | DP10: I | DQ10: =IF(DP10="M",0,IF(DP10="I",2,IF(DP10="B",4,IF(DP10="E",5)))) -> 2 | DR10: B | DS10: =IF(DR10="M",0,IF(DR10="I",2,IF(DR10="B",4,IF(DR10="E",5)))) -> 4 | DT10: B | DU10: =IF(DT10="M",0,IF(DT10="I",2,IF(DT10="B",4,IF(DT10="E",5)))) -> 4 | DV10: M | DW10: =IF(DV10="M",0,IF(DV10="I",2,IF(DV10="B",4,IF(DV10="E",5)))) -> 0 | DX10: B | DY10: =IF(DX10="M",0,IF(DX10="I",2,IF(DX10="B",4,IF(DX10="E",5)))) -> 4 | DZ10: B | EA10: =IF(DZ10="M",0,IF(DZ10="I",2,IF(DZ10="B",4,IF(DZ10="E",5)))) -> 4 | EB10: I | EC10: =IF(EB10="M",0,IF(EB10="I",2,IF(EB10="B",4,IF(EB10="E",5)))) -> 2 | ED10: B | EE10: =IF(ED10="M",0,IF(ED10="I",2,IF(ED10="B",4,IF(ED10="E",5)))) -> 4 | EF10: B | EG10: =IF(EF10="M",0,IF(EF10="I",2,IF(EF10="B",4,IF(EF10="E",5)))) -> 4 | EH10: B | EI10: =IF(EH10="M",0,IF(EH10="I",2,IF(EH10="B",4,IF(EH10="E",5)))) -> 4 | EJ10: B | EK10: =IF(EJ10="M",0,IF(EJ10="I",2,IF(EJ10="B",4,IF(EJ10="E",5)))) -> 4 | EL10: I | EM10: =IF(EL10="M",0,IF(EL10="I",2,IF(EL10="B",4,IF(EL10="E",5)))) -> 2 | EN10: I | EO10: =IF(EN10="M",0,IF(EN10="I",2,IF(EN10="B",4,IF(EN10="E",5)))) -> 2 | EP10: I | EQ10: =IF(EP10="M",0,IF(EP10="I",2,IF(EP10="B",4,IF(EP10="E",5)))) -> 2 | ER10: =+SUM(F10:EQ10) -> 222 | ES10: =+ER10/$EV$1 -> 0.62535211 | ET10: =IF(ES10>60%,"Autonome","Non Autonome") -> Autonome | EU10: =1&"/"&MONTH(D10)&"/"&YEAR(D10) -> 1/6/2018
A11: MBAGNE | B11: PS NIABINA | C11: Bâ hamet | D11: 43271 | E11: Dia Mohamed | F11: B | G11: =IF(F11="M",0,IF(F11="I",2,IF(F11="B",4,IF(F11="E",5)))) -> 4 | H11: B | I11: =IF(H11="M",0,IF(H11="I",2,IF(H11="B",4,IF(H11="E",5)))) -> 4 | J11: I | K11: =IF(J11="M",0,IF(J11="I",2,IF(J11="B",4,IF(J11="E",5)))) -> 2 | L11: B | M11: =IF(L11="M",0,IF(L11="I",2,IF(L11="B",4,IF(L11="E",5)))) -> 4 | N11: B | O11: =IF(N11="M",0,IF(N11="I",2,IF(N11="B",4,IF(N11="E",5)))) -> 4 | P11: B | Q11: =IF(P11="M",0,IF(P11="I",2,IF(P11="B",4,IF(P11="E",5)))) -> 4 | R11: B | S11: =IF(R11="M",0,IF(R11="I",2,IF(R11="B",4,IF(R11="E",5)))) -> 4 | T11: B | U11: =IF(T11="M",0,IF(T11="I",2,IF(T11="B",4,IF(T11="E",5)))) -> 4 | V11: B | W11: =IF(V11="M",0,IF(V11="I",2,IF(V11="B",4,IF(V11="E",5)))) -> 4 | X11: B | Y11: =IF(X11="M",0,IF(X11="I",2,IF(X11="B",4,IF(X11="E",5)))) -> 4 | Z11: B | AA11: =IF(Z11="M",0,IF(Z11="I",2,IF(Z11="B",4,IF(Z11="E",5)))) -> 4 | AB11: M | AC11: =IF(AB11="M",0,IF(AB11="I",2,IF(AB11="B",4,IF(AB11="E",5)))) -> 0 | AD11: B | AE11: =IF(AD11="M",0,IF(AD11="I",2,IF(AD11="B",4,IF(AD11="E",5)))) -> 4 | AF11: B | AG11: =IF(AF11="M",0,IF(AF11="I",2,IF(AF11="B",4,IF(AF11="E",5)))) -> 4 | AH11: B | AI11: =IF(AH11="M",0,IF(AH11="I",2,IF(AH11="B",4,IF(AH11="E",5)))) -> 4 | AJ11: B | AK11: =IF(AJ11="M",0,IF(AJ11="I",2,IF(AJ11="B",4,IF(AJ11="E",5)))) -> 4 | AL11: M | AM11: =IF(AL11="M",0,IF(AL11="I",2,IF(AL11="B",4,IF(AL11="E",5)))) -> 0 | AN11: B | AO11: =IF(AN11="M",0,IF(AN11="I",2,IF(AN11="B",4,IF(AN11="E",5)))) -> 4 | AP11: B | AQ11: =IF(AP11="M",0,IF(AP11="I",2,IF(AP11="B",4,IF(AP11="E",5)))) -> 4 | AR11: B | AS11: =IF(AR11="M",0,IF(AR11="I",2,IF(AR11="B",4,IF(AR11="E",5)))) -> 4 | AT11: B | AU11: =IF(AT11="M",0,IF(AT11="I",2,IF(AT11="B",4,IF(AT11="E",5)))) -> 4 | AV11: B | AW11: =IF(AV11="M",0,IF(AV11="I",2,IF(AV11="B",4,IF(AV11="E",5)))) -> 4 | AX11: I | AY11: =IF(AX11="M",0,IF(AX11="I",2,IF(AX11="B",4,IF(AX11="E",5)))) -> 2 | AZ11: B | BA11: =IF(AZ11="M",0,IF(AZ11="I",2,IF(AZ11="B",4,IF(AZ11="E",5)))) -> 4 | BB11: B | BC11: =IF(BB11="M",0,IF(BB11="I",2,IF(BB11="B",4,IF(BB11="E",5)))) -> 4 | BD11: B | BE11: =IF(BD11="M",0,IF(BD11="I",2,IF(BD11="B",4,IF(BD11="E",5)))) -> 4 | BF11: B | BG11: =IF(BF11="M",0,IF(BF11="I",2,IF(BF11="B",4,IF(BF11="E",5)))) -> 4 | BH11: B | BI11: =IF(BH11="M",0,IF(BH11="I",2,IF(BH11="B",4,IF(BH11="E",5)))) -> 4 | BJ11: B | BK11: =IF(BJ11="M",0,IF(BJ11="I",2,IF(BJ11="B",4,IF(BJ11="E",5)))) -> 4 | BL11: B | BM11: =IF(BL11="M",0,IF(BL11="I",2,IF(BL11="B",4,IF(BL11="E",5)))) -> 4 | BN11: B | BO11: =IF(BN11="M",0,IF(BN11="I",2,IF(BN11="B",4,IF(BN11="E",5)))) -> 4 | BP11: B | BQ11: =IF(BP11="M",0,IF(BP11="I",2,IF(BP11="B",4,IF(BP11="E",5)))) -> 4 | BR11: B | BS11: =IF(BR11="M",0,IF(BR11="I",2,IF(BR11="B",4,IF(BR11="E",5)))) -> 4 | BT11: B | BU11: =IF(BT11="M",0,IF(BT11="I",2,IF(BT11="B",4,IF(BT11="E",5)))) -> 4 | BV11: B | BW11: =IF(BV11="M",0,IF(BV11="I",2,IF(BV11="B",4,IF(BV11="E",5)))) -> 4 | BX11: B | BY11: =IF(BX11="M",0,IF(BX11="I",2,IF(BX11="B",4,IF(BX11="E",5)))) -> 4 | BZ11: I | CA11: =IF(BZ11="M",0,IF(BZ11="I",2,IF(BZ11="B",4,IF(BZ11="E",5)))) -> 2 | CB11: B | CC11: =IF(CB11="M",0,IF(CB11="I",2,IF(CB11="B",4,IF(CB11="E",5)))) -> 4 | CD11: B | CE11: =IF(CD11="M",0,IF(CD11="I",2,IF(CD11="B",4,IF(CD11="E",5)))) -> 4 | CF11: B | CG11: =IF(CF11="M",0,IF(CF11="I",2,IF(CF11="B",4,IF(CF11="E",5)))) -> 4 | CH11: B | CI11: =IF(CH11="M",0,IF(CH11="I",2,IF(CH11="B",4,IF(CH11="E",5)))) -> 4 | CJ11: M | CK11: =IF(CJ11="M",0,IF(CJ11="I",2,IF(CJ11="B",4,IF(CJ11="E",5)))) -> 0 | CL11: B | CM11: =IF(CL11="M",0,IF(CL11="I",2,IF(CL11="B",4,IF(CL11="E",5)))) -> 4 | CN11: B | CO11: =IF(CN11="M",0,IF(CN11="I",2,IF(CN11="B",4,IF(CN11="E",5)))) -> 4 | CP11: B | CQ11: =IF(CP11="M",0,IF(CP11="I",2,IF(CP11="B",4,IF(CP11="E",5)))) -> 4 | CR11: B | CS11: =IF(CR11="M",0,IF(CR11="I",2,IF(CR11="B",4,IF(CR11="E",5)))) -> 4 | CT11: B | CU11: =IF(CT11="M",0,IF(CT11="I",2,IF(CT11="B",4,IF(CT11="E",5)))) -> 4 | CV11: B | CW11: =IF(CV11="M",0,IF(CV11="I",2,IF(CV11="B",4,IF(CV11="E",5)))) -> 4 | CX11: B | CY11: =IF(CX11="M",0,IF(CX11="I",2,IF(CX11="B",4,IF(CX11="E",5)))) -> 4 | CZ11: B | DA11: =IF(CZ11="M",0,IF(CZ11="I",2,IF(CZ11="B",4,IF(CZ11="E",5)))) -> 4 | DB11: B | DC11: =IF(DB11="M",0,IF(DB11="I",2,IF(DB11="B",4,IF(DB11="E",5)))) -> 4 | DD11: B | DE11: =IF(DD11="M",0,IF(DD11="I",2,IF(DD11="B",4,IF(DD11="E",5)))) -> 4 | DF11: B | DG11: =IF(DF11="M",0,IF(DF11="I",2,IF(DF11="B",4,IF(DF11="E",5)))) -> 4 | DH11: I | DI11: =IF(DH11="M",0,IF(DH11="I",2,IF(DH11="B",4,IF(DH11="E",5)))) -> 2 | DJ11: B | DK11: =IF(DJ11="M",0,IF(DJ11="I",2,IF(DJ11="B",4,IF(DJ11="E",5)))) -> 4 | DL11: I | DM11: =IF(DL11="M",0,IF(DL11="I",2,IF(DL11="B",4,IF(DL11="E",5)))) -> 2 | DN11: I | DO11: =IF(DN11="M",0,IF(DN11="I",2,IF(DN11="B",4,IF(DN11="E",5)))) -> 2 | DP11: I | DQ11: =IF(DP11="M",0,IF(DP11="I",2,IF(DP11="B",4,IF(DP11="E",5)))) -> 2 | DR11: B | DS11: =IF(DR11="M",0,IF(DR11="I",2,IF(DR11="B",4,IF(DR11="E",5)))) -> 4 | DT11: B | DU11: =IF(DT11="M",0,IF(DT11="I",2,IF(DT11="B",4,IF(DT11="E",5)))) -> 4 | DV11: M | DW11: =IF(DV11="M",0,IF(DV11="I",2,IF(DV11="B",4,IF(DV11="E",5)))) -> 0 | DX11: B | DY11: =IF(DX11="M",0,IF(DX11="I",2,IF(DX11="B",4,IF(DX11="E",5)))) -> 4 | DZ11: B | EA11: =IF(DZ11="M",0,IF(DZ11="I",2,IF(DZ11="B",4,IF(DZ11="E",5)))) -> 4 | EB11: M | EC11: =IF(EB11="M",0,IF(EB11="I",2,IF(EB11="B",4,IF(EB11="E",5)))) -> 0 | ED11: B | EE11: =IF(ED11="M",0,IF(ED11="I",2,IF(ED11="B",4,IF(ED11="E",5)))) -> 4 | EF11: E | EG11: =IF(EF11="M",0,IF(EF11="I",2,IF(EF11="B",4,IF(EF11="E",5)))) -> 5 | EH11: B | EI11: =IF(EH11="M",0,IF(EH11="I",2,IF(EH11="B",4,IF(EH11="E",5)))) -> 4 | EJ11: B | EK11: =IF(EJ11="M",0,IF(EJ11="I",2,IF(EJ11="B",4,IF(EJ11="E",5)))) -> 4 | EL11: B | EM11: =IF(EL11="M",0,IF(EL11="I",2,IF(EL11="B",4,IF(EL11="E",5)))) -> 4 | EN11: M | EO11: =IF(EN11="M",0,IF(EN11="I",2,IF(EN11="B",4,IF(EN11="E",5)))) -> 0 | EP11: B | EQ11: =IF(EP11="M",0,IF(EP11="I",2,IF(EP11="B",4,IF(EP11="E",5)))) -> 4 | ER11: =+SUM(F11:EQ11) -> 247 | ES11: =+ER11/$EV$1 -> 0.69577465 | ET11: =IF(ES11>60%,"Autonome","Non Autonome") -> Autonome | EU11: =1&"/"&MONTH(D11)&"/"&YEAR(D11) -> 1/6/2018
