Workbook

Sheet visiteurs
A1: Date | B1: Heure | C1: Nom du Visiteur | D1: Société visitée | E1: Personne visitée | F1: Remarques
A2: 43313
A3: 43313 | B3: 0.37222222 | C3: M A | D3: STE B | E3: MME C
A4: 43313 | B4: 0.39097222 | C4: M D | D4: STE E | E4: M F
A5: 43314
A6: 43314 | B6: 0.36458333 | C6: M S | D6: STE H | E6: MME K
A7: 43314 | B7: 0.39722222 | C7: M F | D7: STE G | E7: MME N

Sheet STATS
A1: 43314 | B1: 1 | C1: 2 | D1: 3 | E1: 4 | F1: 5 | G1: 6 | H1: 7 | I1: 8 | J1: 9 | K1: 10 | L1: 11 | M1: 12 | N1: 13 | O1: 14 | P1: 15 | Q1: 16 | R1: 17 | S1: 18 | T1: 19 | U1: 20 | V1: 21 | W1: 22 | X1: 23 | Y1: 24 | Z1: 25 | AA1: 26 | AB1: 27 | AC1: 28 | AD1: 29 | AE1: 30 | AF1: 31 | AG1: TOTAL
A2: 8h30-9h00 | B2: =(COUNTIF(visiteurs!$B$3:$B$368,">=8:30")-COUNTIF(visiteurs!$B$3:$B$368,">9:00")) -> 2 | C2: =(COUNTIF(visiteurs!$B$3:$B$368,">=8:30")-COUNTIF(visiteurs!$B$3:$B$368,">9:00")) -> 2 | AG2: =SUM(B2:AF2) -> 4
A3: 9h-10h | B3: =(COUNTIF(visiteurs!$B$3:$B$368,">=9:00")-COUNTIF(visiteurs!$B$3:$B$368,">10:00")) -> 2 | C3: =(COUNTIF(visiteurs!$B$3:$B$368,">=9:00")-COUNTIF(visiteurs!$B$3:$B$368,">10:00")) -> 2 | AG3: =SUM(B3:AF3) -> 4
A4: 10h-11h | B4: =(COUNTIF(visiteurs!$B$3:$B$368,">=10:00")-COUNTIF(visiteurs!$B$3:$B$368,">11:00")) -> 0 | C4: =(COUNTIF(visiteurs!$B$3:$B$368,">=10:00")-COUNTIF(visiteurs!$B$3:$B$368,">11:00")) -> 0 | AG4: =SUM(B4:AF4) -> 0
A5: 11h-12h | B5: =(COUNTIF(visiteurs!$B$3:$B$368,">=11:00")-COUNTIF(visiteurs!$B$3:$B$368,">12:00")) -> 0 | C5: =(COUNTIF(visiteurs!$B$3:$B$368,">=11:00")-COUNTIF(visiteurs!$B$3:$B$368,">12:00")) -> 0 | AG5: =SUM(B5:AF5) -> 0
A6: 12h-13h | B6: =(COUNTIF(visiteurs!$B$3:$B$368,">=12:00")-COUNTIF(visiteurs!$B$3:$B$368,">13:00")) -> 0 | C6: =(COUNTIF(visiteurs!$B$3:$B$368,">=12:00")-COUNTIF(visiteurs!$B$3:$B$368,">13:00")) -> 0 | AG6: =SUM(B6:AF6) -> 0
A7: 13h-14h | B7: =(COUNTIF(visiteurs!$B$3:$B$368,">=13:00")-COUNTIF(visiteurs!$B$3:$B$368,">14:00")) -> 0 | C7: =(COUNTIF(visiteurs!$B$3:$B$368,">=13:00")-COUNTIF(visiteurs!$B$3:$B$368,">14:00")) -> 0 | AG7: =SUM(B7:AF7) -> 0
A8: 14h-15h | B8: =(COUNTIF(visiteurs!$B$3:$B$368,">=14:00")-COUNTIF(visiteurs!$B$3:$B$368,">15:00")) -> 0 | C8: =(COUNTIF(visiteurs!$B$3:$B$368,">=14:00")-COUNTIF(visiteurs!$B$3:$B$368,">15:00")) -> 0 | AG8: =SUM(B8:AF8) -> 0
A9: 15h-16h | B9: =(COUNTIF(visiteurs!$B$3:$B$368,">=15:00")-COUNTIF(visiteurs!$B$3:$B$368,">16:00")) -> 0 | C9: =(COUNTIF(visiteurs!$B$3:$B$368,">=15:00")-COUNTIF(visiteurs!$B$3:$B$368,">16:00")) -> 0 | AG9: =SUM(B9:AF9) -> 0
A10: 16h- 17h00 | B10: =(COUNTIF(visiteurs!$B$3:$B$368,">=16:00")-COUNTIF(visiteurs!$B$3:$B$368,">17:00")) -> 0 | C10: =(COUNTIF(visiteurs!$B$3:$B$368,">=16:00")-COUNTIF(visiteurs!$B$3:$B$368,">17:00")) -> 0 | AG10: =SUM(B10:AF10) -> 0
A11: 17h00-18h30 | B11: =(COUNTIF(visiteurs!$B$3:$B$368,">=17:00")-COUNTIF(visiteurs!$B$3:$B$368,">18:30")) -> 0 | C11: =(COUNTIF(visiteurs!$B$3:$B$368,">=17:00")-COUNTIF(visiteurs!$B$3:$B$368,">18:30")) -> 0 | AG11: =SUM(B11:AF11) -> 0
A12: TOTAL | B12: =SUM(B2:B11) -> 4 | C12: =SUM(C2:C11) -> 4 | D12: =SUM(D2:D11) -> 0 | G12: =SUM(G2:G11) -> 0 | H12: =SUM(H2:H11) -> 0 | I12: =SUM(I2:I11) -> 0 | J12: =SUM(J2:J11) -> 0 | K12: =SUM(K2:K11) -> 0 | N12: =SUM(N2:N11) -> 0 | O12: =SUM(O2:O11) -> 0 | P12: =SUM(P2:P11) -> 0 | Q12: =SUM(Q2:Q11) -> 0 | R12: =SUM(R2:R11) -> 0 | U12: =SUM(U2:U11) -> 0 | V12: =SUM(V2:V11) -> 0 | W12: =SUM(W2:W11) -> 0 | X12: =SUM(X2:X11) -> 0 | Y12: =SUM(Y2:Y11) -> 0 | AB12: =SUM(AB2:AB11) -> 0 | AC12: =SUM(AC2:AC11) -> 0 | AD12: =SUM(AD2:AD11) -> 0 | AE12: =SUM(AE2:AE11) -> 0 | AF12: =SUM(AF2:AF11) -> 0 | AG12: =SUM(AG2:AG11) -> 8
