Workbook

Sheet Config
H2: TOTAL DES JOURS ANNUEL 2018 (1er Juin au 31 Mai)
B3: EFFECTIF | D3: Début d'année : | E3: 43101 | H3: MA | I3: CP | J3: RC | K3: ND | L3: CV | M3: NC | N3: DR | O3: CPA
B4: Employé 1 | H4: =IF(B4="","",Janvier!C11+Février!C11+Mars!C11+Avril!C11+Mai!C11+Juin!C11+Juillet!C11+Août!C11+Septembre!C11+Octobre!C11+Novembre!C11+Décembre!C11) -> 0 | I4: =IF(B4="","",Janvier!D11+Février!D11+Mars!D11+Avril!D11+Mai!D11+Juin!D11+Juillet!D11+Août!D11+Septembre!D11+Octobre!D11+Novembre!D11+Décembre!D11) -> 0 | J4: =IF(B4="","",Janvier!E11+Février!E11+Mars!E11+Avril!E11+Mai!E11+Juin!E11+Juillet!E11+Août!E11+Septembre!E11+Octobre!E11+Novembre!E11+Décembre!E11) -> 0
B5: Employé 2 | D5: Mois | E5: Début de mois | F5: Fin de mois | H5: =IF(B5="","",Janvier!C12+Février!C12+Mars!C12+Avril!C12+Mai!C12+Juin!C12+Juillet!C12+Août!C12+Septembre!C12+Octobre!C12+Novembre!C12+Décembre!C12) -> 0 | I5: =IF(B5="","",Janvier!D12+Février!D12+Mars!D12+Avril!D12+Mai!D12+Juin!D12+Juillet!D12+Août!D12+Septembre!D12+Octobre!D12+Novembre!D12+Décembre!D12) -> 0 | J5: =IF(B5="","",Janvier!E12+Février!E12+Mars!E12+Avril!E12+Mai!E12+Juin!E12+Juillet!E12+Août!E12+Septembre!E12+Octobre!E12+Novembre!E12+Décembre!E12) -> 0
B6: Employé 3 | D6: Janvier | E6: =E3 -> 43101 | F6: =EOMONTH(E6,0) -> 43131 | H6: =IF(B6="","",Janvier!C13+Février!C13+Mars!C13+Avril!C13+Mai!C13+Juin!C13+Juillet!C13+Août!C13+Septembre!C13+Octobre!C13+Novembre!C13+Décembre!C13) -> 0 | I6: =IF(B6="","",Janvier!D13+Février!D13+Mars!D13+Avril!D13+Mai!D13+Juin!D13+Juillet!D13+Août!D13+Septembre!D13+Octobre!D13+Novembre!D13+Décembre!D13) -> 0 | J6: =IF(B6="","",Janvier!E13+Février!E13+Mars!E13+Avril!E13+Mai!E13+Juin!E13+Juillet!E13+Août!E13+Septembre!E13+Octobre!E13+Novembre!E13+Décembre!E13) -> 0
B7: Employé 4 | D7: Février | E7: =EDATE(E6,1) -> 43132 | F7: =EOMONTH(E7,0) -> 43159 | H7: =IF(B7="","",Janvier!C14+Février!C14+Mars!C14+Avril!C14+Mai!C14+Juin!C14+Juillet!C14+Août!C14+Septembre!C14+Octobre!C14+Novembre!C14+Décembre!C14) -> 0 | I7: =IF(B7="","",Janvier!D14+Février!D14+Mars!D14+Avril!D14+Mai!D14+Juin!D14+Juillet!D14+Août!D14+Septembre!D14+Octobre!D14+Novembre!D14+Décembre!D14) -> 0 | J7: =IF(B7="","",Janvier!E14+Février!E14+Mars!E14+Avril!E14+Mai!E14+Juin!E14+Juillet!E14+Août!E14+Septembre!E14+Octobre!E14+Novembre!E14+Décembre!E14) -> 0
B8: Employé 5 | D8: Mars | E8: =EDATE(E7,1) -> 43160 | F8: =EOMONTH(E8,0) -> 43190 | H8: =IF(B8="","",Janvier!C15+Février!C15+Mars!C15+Avril!C15+Mai!C15+Juin!C15+Juillet!C15+Août!C15+Septembre!C15+Octobre!C15+Novembre!C15+Décembre!C15) -> 0 | I8: =IF(B8="","",Janvier!D15+Février!D15+Mars!D15+Avril!D15+Mai!D15+Juin!D15+Juillet!D15+Août!D15+Septembre!D15+Octobre!D15+Novembre!D15+Décembre!D15) -> 0 | J8: =IF(B8="","",Janvier!E15+Février!E15+Mars!E15+Avril!E15+Mai!E15+Juin!E15+Juillet!E15+Août!E15+Septembre!E15+Octobre!E15+Novembre!E15+Décembre!E15) -> 0
B9: Employé 6 | D9: Avril | E9: =EDATE(E8,1) -> 43191 | F9: =EOMONTH(E9,0) -> 43220 | H9: =IF(B9="","",Janvier!C16+Février!C16+Mars!C16+Avril!C16+Mai!C16+Juin!C16+Juillet!C16+Août!C16+Septembre!C16+Octobre!C16+Novembre!C16+Décembre!C16) -> 0 | I9: =IF(B9="","",Janvier!D16+Février!D16+Mars!D16+Avril!D16+Mai!D16+Juin!D16+Juillet!D16+Août!D16+Septembre!D16+Octobre!D16+Novembre!D16+Décembre!D16) -> 0 | J9: =IF(B9="","",Janvier!E16+Février!E16+Mars!E16+Avril!E16+Mai!E16+Juin!E16+Juillet!E16+Août!E16+Septembre!E16+Octobre!E16+Novembre!E16+Décembre!E16) -> 0
B10: Employé 7 | D10: Mai | E10: =EDATE(E9,1) -> 43221 | F10: =EOMONTH(E10,0) -> 43251 | H10: =IF(B10="","",Janvier!C17+Février!C17+Mars!C17+Avril!C17+Mai!C17+Juin!C17+Juillet!C17+Août!C17+Septembre!C17+Octobre!C17+Novembre!C17+Décembre!C17) -> 0 | I10: =IF(B10="","",Janvier!D17+Février!D17+Mars!D17+Avril!D17+Mai!D17+Juin!D17+Juillet!D17+Août!D17+Septembre!D17+Octobre!D17+Novembre!D17+Décembre!D17) -> 0 | J10: =IF(B10="","",Janvier!E17+Février!E17+Mars!E17+Avril!E17+Mai!E17+Juin!E17+Juillet!E17+Août!E17+Septembre!E17+Octobre!E17+Novembre!E17+Décembre!E17) -> 0
B11: Employé 8 | D11: Juin | E11: =EDATE(E10,1) -> 43252 | F11: =EOMONTH(E11,0) -> 43281 | H11: =IF(B11="","",Janvier!C18+Février!C18+Mars!C18+Avril!C18+Mai!C18+Juin!C18+Juillet!C18+Août!C18+Septembre!C18+Octobre!C18+Novembre!C18+Décembre!C18) -> 0 | I11: =IF(B11="","",Janvier!D18+Février!D18+Mars!D18+Avril!D18+Mai!D18+Juin!D18+Juillet!D18+Août!D18+Septembre!D18+Octobre!D18+Novembre!D18+Décembre!D18) -> 0 | J11: =IF(B11="","",Janvier!E18+Février!E18+Mars!E18+Avril!E18+Mai!E18+Juin!E18+Juillet!E18+Août!E18+Septembre!E18+Octobre!E18+Novembre!E18+Décembre!E18) -> 0
B12: Employé 9 | D12: Juillet | E12: =EDATE(E11,1) -> 43282 | F12: =EOMONTH(E12,0) -> 43312 | H12: =IF(B12="","",Janvier!C19+Février!C19+Mars!C19+Avril!C19+Mai!C19+Juin!C19+Juillet!C19+Août!C19+Septembre!C19+Octobre!C19+Novembre!C19+Décembre!C19) -> 0 | I12: =IF(B12="","",Janvier!D19+Février!D19+Mars!D19+Avril!D19+Mai!D19+Juin!D19+Juillet!D19+Août!D19+Septembre!D19+Octobre!D19+Novembre!D19+Décembre!D19) -> 0 | J12: =IF(B12="","",Janvier!E19+Février!E19+Mars!E19+Avril!E19+Mai!E19+Juin!E19+Juillet!E19+Août!E19+Septembre!E19+Octobre!E19+Novembre!E19+Décembre!E19) -> 0
B13: Employé 10 | D13: Août | E13: =EDATE(E12,1) -> 43313 | F13: =EOMONTH(E13,0) -> 43343 | H13: =IF(B13="","",Janvier!C20+Février!C20+Mars!C20+Avril!C20+Mai!C20+Juin!C20+Juillet!C20+Août!C20+Septembre!C20+Octobre!C20+Novembre!C20+Décembre!C20) -> 0 | I13: =IF(B13="","",Janvier!D20+Février!D20+Mars!D20+Avril!D20+Mai!D20+Juin!D20+Juillet!D20+Août!D20+Septembre!D20+Octobre!D20+Novembre!D20+Décembre!D20) -> 0 | J13: =IF(B13="","",Janvier!E20+Février!E20+Mars!E20+Avril!E20+Mai!E20+Juin!E20+Juillet!E20+Août!E20+Septembre!E20+Octobre!E20+Novembre!E20+Décembre!E20) -> 0
B14: Employé 11 | D14: Septembre | E14: =EDATE(E13,1) -> 43344 | F14: =EOMONTH(E14,0) -> 43373 | H14: =IF(B14="","",Janvier!C21+Février!C21+Mars!C21+Avril!C21+Mai!C21+Juin!C21+Juillet!C21+Août!C21+Septembre!C21+Octobre!C21+Novembre!C21+Décembre!C21) -> 0 | I14: =IF(B14="","",Janvier!D21+Février!D21+Mars!D21+Avril!D21+Mai!D21+Juin!D21+Juillet!D21+Août!D21+Septembre!D21+Octobre!D21+Novembre!D21+Décembre!D21) -> 0 | J14: =IF(B14="","",Janvier!E21+Février!E21+Mars!E21+Avril!E21+Mai!E21+Juin!E21+Juillet!E21+Août!E21+Septembre!E21+Octobre!E21+Novembre!E21+Décembre!E21) -> 0
B15: Employé 12 | D15: Octobre | E15: =EDATE(E14,1) -> 43374 | F15: =EOMONTH(E15,0) -> 43404 | H15: =IF(B15="","",Janvier!C22+Février!C22+Mars!C22+Avril!C22+Mai!C22+Juin!C22+Juillet!C22+Août!C22+Septembre!C22+Octobre!C22+Novembre!C22+Décembre!C22) -> 0 | I15: =IF(B15="","",Janvier!D22+Février!D22+Mars!D22+Avril!D22+Mai!D22+Juin!D22+Juillet!D22+Août!D22+Septembre!D22+Octobre!D22+Novembre!D22+Décembre!D22) -> 0 | J15: =IF(B15="","",Janvier!E22+Février!E22+Mars!E22+Avril!E22+Mai!E22+Juin!E22+Juillet!E22+Août!E22+Septembre!E22+Octobre!E22+Novembre!E22+Décembre!E22) -> 0
B16: Employé 13 | D16: Novembre | E16: =EDATE(E15,1) -> 43405 | F16: =EOMONTH(E16,0) -> 43434 | H16: =IF(B16="","",Janvier!C23+Février!C23+Mars!C23+Avril!C23+Mai!C23+Juin!C23+Juillet!C23+Août!C23+Septembre!C23+Octobre!C23+Novembre!C23+Décembre!C23) -> 0 | I16: =IF(B16="","",Janvier!D23+Février!D23+Mars!D23+Avril!D23+Mai!D23+Juin!D23+Juillet!D23+Août!D23+Septembre!D23+Octobre!D23+Novembre!D23+Décembre!D23) -> 0 | J16: =IF(B16="","",Janvier!E23+Février!E23+Mars!E23+Avril!E23+Mai!E23+Juin!E23+Juillet!E23+Août!E23+Septembre!E23+Octobre!E23+Novembre!E23+Décembre!E23) -> 0
B17: Employé 14 | D17: Décembre | E17: =EDATE(E16,1) -> 43435 | F17: =EOMONTH(E17,0) -> 43465 | H17: =IF(B17="","",Janvier!C24+Février!C24+Mars!C24+Avril!C24+Mai!C24+Juin!C24+Juillet!C24+Août!C24+Septembre!C24+Octobre!C24+Novembre!C24+Décembre!C24) -> 0 | I17: =IF(B17="","",Janvier!D24+Février!D24+Mars!D24+Avril!D24+Mai!D24+Juin!D24+Juillet!D24+Août!D24+Septembre!D24+Octobre!D24+Novembre!D24+Décembre!D24) -> 0 | J17: =IF(B17="","",Janvier!E24+Février!E24+Mars!E24+Avril!E24+Mai!E24+Juin!E24+Juillet!E24+Août!E24+Septembre!E24+Octobre!E24+Novembre!E24+Décembre!E24) -> 0
B18: Employé 15 | H18: =IF(B18="","",Janvier!C25+Février!C25+Mars!C25+Avril!C25+Mai!C25+Juin!C25+Juillet!C25+Août!C25+Septembre!C25+Octobre!C25+Novembre!C25+Décembre!C25) -> 0 | I18: =IF(B18="","",Janvier!D25+Février!D25+Mars!D25+Avril!D25+Mai!D25+Juin!D25+Juillet!D25+Août!D25+Septembre!D25+Octobre!D25+Novembre!D25+Décembre!D25) -> 0 | J18: =IF(B18="","",Janvier!E25+Février!E25+Mars!E25+Avril!E25+Mai!E25+Juin!E25+Juillet!E25+Août!E25+Septembre!E25+Octobre!E25+Novembre!E25+Décembre!E25) -> 0
B19: Employé 16 | H19: =IF(B19="","",Janvier!C26+Février!C26+Mars!C26+Avril!C26+Mai!C26+Juin!C26+Juillet!C26+Août!C26+Septembre!C26+Octobre!C26+Novembre!C26+Décembre!C26) -> 0 | I19: =IF(B19="","",Janvier!D26+Février!D26+Mars!D26+Avril!D26+Mai!D26+Juin!D26+Juillet!D26+Août!D26+Septembre!D26+Octobre!D26+Novembre!D26+Décembre!D26) -> 0 | J19: =IF(B19="","",Janvier!E26+Février!E26+Mars!E26+Avril!E26+Mai!E26+Juin!E26+Juillet!E26+Août!E26+Septembre!E26+Octobre!E26+Novembre!E26+Décembre!E26) -> 0
B20: Employé 17 | H20: =IF(B20="","",Janvier!C27+Février!C27+Mars!C27+Avril!C27+Mai!C27+Juin!C27+Juillet!C27+Août!C27+Septembre!C27+Octobre!C27+Novembre!C27+Décembre!C27) -> 0 | I20: =IF(B20="","",Janvier!D27+Février!D27+Mars!D27+Avril!D27+Mai!D27+Juin!D27+Juillet!D27+Août!D27+Septembre!D27+Octobre!D27+Novembre!D27+Décembre!D27) -> 0 | J20: =IF(B20="","",Janvier!E27+Février!E27+Mars!E27+Avril!E27+Mai!E27+Juin!E27+Juillet!E27+Août!E27+Septembre!E27+Octobre!E27+Novembre!E27+Décembre!E27) -> 0
D22: Date | E22: Jours Fériés
D23: 43101 | E23: Jour de L'an
D24: 43192 | E24: Lundi de Pâques
D25: 43209 | E25: Vendredi Saint
D26: 43221 | E26: Fête du Travail
D27: 43228 | E27: Victoire 1945
D28: 43230 | E28: Ascension
D29: 43241 | E29: Pentecôte
D30: 43295 | E30: Fête Nationale
D31: 43327 | E31: Assomption
D32: 43405 | E32: Toussaint
D33: 43415 | E33: Armistice
D34: 43459 | E34: Noêl
D35: 43460 | E35: 2ème Jour de Noël

Sheet Janvier
A1: =Config!E6 -> 43101
A2: =Config!F6 -> 43131
F3: =A1 -> 43101 | G3: =F3+1 -> 43102 | H3: =G3+1 -> 43103 | I3: =H3+1 -> 43104 | J3: =I3+1 -> 43105 | K3: =J3+1 -> 43106 | L3: =K3+1 -> 43107 | M3: =L3+1 -> 43108 | N3: =M3+1 -> 43109 | ... AG3: =AF3+1 -> 43128 | AH3: =IFERROR(IF(AG3+1>A2,"",AG3+1),"") -> 43129 | AI3: =IFERROR(IF(AH3+1>A2,"",AH3+1),"") -> 43130 | AJ3: =IFERROR(IF(AI3+1>A2,"",AI3+1),"") -> 43131
B4: =TEXT(A1,"mmmmmmmmmmmmmm") -> janvier
F9: =DAY(F3) -> 1 | G9: =DAY(G3) -> 2 | H9: =DAY(H3) -> 3 | I9: =DAY(I3) -> 4 | J9: =DAY(J3) -> 5 | K9: =DAY(K3) -> 6 | L9: =DAY(L3) -> 7 | M9: =DAY(M3) -> 8 | ... AG9: =DAY(AG3) -> 28 | AH9: =IFERROR(DAY(AH3),"") -> 29 | AI9: =IFERROR(DAY(AI3),"") -> 30 | AJ9: =IFERROR(DAY(AJ3),"") -> 31
B10: EFFECTIF | C10: Maladie | D10: Vacances | E10: RC | F10: =IFERROR(WEEKDAY(F3),"") -> 2 | G10: =IFERROR(WEEKDAY(G3),"") -> 3 | H10: =IFERROR(WEEKDAY(H3),"") -> 4 | I10: =IFERROR(WEEKDAY(I3),"") -> 5 | J10: =IFERROR(WEEKDAY(J3),"") -> 6 | K10: =IFERROR(WEEKDAY(K3),"") -> 7 | L10: =IFERROR(WEEKDAY(L3),"") -> 1 | M10: =IFERROR(WEEKDAY(M3),"") -> 2 | ... AJ10: =IFERROR(WEEKDAY(AJ3),"") -> 4
B11: =IF(Config!B4<>"",Config!B4,"") -> Employé 1 | C11: =IF(B11="","",COUNTIF(F11:AJ11,"MA")) -> 0 | D11: =IF(B11="","",COUNTIF(F11:AJ11,"CP")) -> 0 | E11: =IF(B11="","",COUNTIF(F11:AJ11,"RC")) -> 0
B12: =IF(Config!B5<>"",Config!B5,"") -> Employé 2 | C12: =IF(B12="","",COUNTIF(F12:AJ12,"MA")) -> 0 | D12: =IF(B12="","",COUNTIF(F12:AJ12,"CP")) -> 0 | E12: =IF(B12="","",COUNTIF(F12:AJ12,"RC")) -> 0
B13: =IF(Config!B6<>"",Config!B6,"") -> Employé 3 | C13: =IF(B13="","",COUNTIF(F13:AJ13,"MA")) -> 0 | D13: =IF(B13="","",COUNTIF(F13:AJ13,"CP")) -> 0 | E13: =IF(B13="","",COUNTIF(F13:AJ13,"RC")) -> 0
B14: =IF(Config!B7<>"",Config!B7,"") -> Employé 4 | C14: =IF(B14="","",COUNTIF(F14:AJ14,"MA")) -> 0 | D14: =IF(B14="","",COUNTIF(F14:AJ14,"CP")) -> 0 | E14: =IF(B14="","",COUNTIF(F14:AJ14,"RC")) -> 0
B15: =IF(Config!B8<>"",Config!B8,"") -> Employé 5 | C15: =IF(B15="","",COUNTIF(F15:AJ15,"MA")) -> 0 | D15: =IF(B15="","",COUNTIF(F15:AJ15,"CP")) -> 0 | E15: =IF(B15="","",COUNTIF(F15:AJ15,"RC")) -> 0
B16: =IF(Config!B9<>"",Config!B9,"") -> Employé 6 | C16: =IF(B16="","",COUNTIF(F16:AJ16,"MA")) -> 0 | D16: =IF(B16="","",COUNTIF(F16:AJ16,"CP")) -> 0 | E16: =IF(B16="","",COUNTIF(F16:AJ16,"RC")) -> 0
B17: =IF(Config!B10<>"",Config!B10,"") -> Employé 7 | C17: =IF(B17="","",COUNTIF(F17:AJ17,"MA")) -> 0 | D17: =IF(B17="","",COUNTIF(F17:AJ17,"CP")) -> 0 | E17: =IF(B17="","",COUNTIF(F17:AJ17,"RC")) -> 0
B18: =IF(Config!B11<>"",Config!B11,"") -> Employé 8 | C18: =IF(B18="","",COUNTIF(F18:AJ18,"MA")) -> 0 | D18: =IF(B18="","",COUNTIF(F18:AJ18,"CP")) -> 0 | E18: =IF(B18="","",COUNTIF(F18:AJ18,"RC")) -> 0
B19: =IF(Config!B12<>"",Config!B12,"") -> Employé 9 | C19: =IF(B19="","",COUNTIF(F19:AJ19,"MA")) -> 0 | D19: =IF(B19="","",COUNTIF(F19:AJ19,"CP")) -> 0 | E19: =IF(B19="","",COUNTIF(F19:AJ19,"RC")) -> 0
B20: =IF(Config!B13<>"",Config!B13,"") -> Employé 10 | C20: =IF(B20="","",COUNTIF(F20:AJ20,"MA")) -> 0 | D20: =IF(B20="","",COUNTIF(F20:AJ20,"CP")) -> 0 | E20: =IF(B20="","",COUNTIF(F20:AJ20,"RC")) -> 0
B21: =IF(Config!B14<>"",Config!B14,"") -> Employé 11 | C21: =IF(B21="","",COUNTIF(F21:AJ21,"MA")) -> 0 | D21: =IF(B21="","",COUNTIF(F21:AJ21,"CP")) -> 0 | E21: =IF(B21="","",COUNTIF(F21:AJ21,"RC")) -> 0
B22: =IF(Config!B15<>"",Config!B15,"") -> Employé 12 | C22: =IF(B22="","",COUNTIF(F22:AJ22,"MA")) -> 0 | D22: =IF(B22="","",COUNTIF(F22:AJ22,"CP")) -> 0 | E22: =IF(B22="","",COUNTIF(F22:AJ22,"RC")) -> 0
... B27: =IF(Config!B20<>"",Config!B20,"") -> Employé 17 | C27: =IF(B27="","",COUNTIF(F27:AJ27,"MA")) -> 0 | D27: =IF(B27="","",COUNTIF(F27:AJ27,"CP")) -> 0 | E27: =IF(B27="","",COUNTIF(F27:AJ27,"RC")) -> 0
F29: CP | G29: Vacances | L29: RC | M29: Récupération | R29: MA | S29: Maladie | Y29: Week-end
F31: ND | G31: Jour non décompté | L31: DR | M31: Demande de Repos | R31: CPA | S31: Congés Paternité | Y31: Jours Fériés
F33: CV | G33: Congé Validé | L33: NC | M33: Ne pas Changer

Sheet Février
A1: =Config!E7 -> 43132
A2: =Config!F7 -> 43159
F3: =A1 -> 43132 | G3: =F3+1 -> 43133 | H3: =G3+1 -> 43134 | I3: =H3+1 -> 43135 | J3: =I3+1 -> 43136 | K3: =J3+1 -> 43137 | L3: =K3+1 -> 43138 | M3: =L3+1 -> 43139 | N3: =M3+1 -> 43140 | ... AG3: =AF3+1 -> 43159 | AH3: =IFERROR(IF(AG3+1>A2,"",AG3+1),"") | AI3: =IFERROR(IF(AH3+1>A2,"",AH3+1),"") | AJ3: =IFERROR(IF(AI3+1>A2,"",AI3+1),"")
B4: =TEXT(A1,"mmmmmmmmmmmmmm") -> février
F9: =DAY(F3) -> 1 | G9: =DAY(G3) -> 2 | H9: =DAY(H3) -> 3 | I9: =DAY(I3) -> 4 | J9: =DAY(J3) -> 5 | K9: =DAY(K3) -> 6 | L9: =DAY(L3) -> 7 | M9: =DAY(M3) -> 8 | ... AG9: =DAY(AG3) -> 28 | AH9: =IFERROR(DAY(AH3),"") | AI9: =IFERROR(DAY(AI3),"") | AJ9: =IFERROR(DAY(AJ3),"")
B10: EFFECTIF | C10: Maladie | D10: Vacances | E10: RC | F10: =IFERROR(WEEKDAY(F3),"") -> 5 | G10: =IFERROR(WEEKDAY(G3),"") -> 6 | H10: =IFERROR(WEEKDAY(H3),"") -> 7 | I10: =IFERROR(WEEKDAY(I3),"") -> 1 | J10: =IFERROR(WEEKDAY(J3),"") -> 2 | K10: =IFERROR(WEEKDAY(K3),"") -> 3 | L10: =IFERROR(WEEKDAY(L3),"") -> 4 | M10: =IFERROR(WEEKDAY(M3),"") -> 5 | ... AJ10: =IFERROR(WEEKDAY(AJ3),"")
B11: =IF(Config!B4<>"",Config!B4,"") -> Employé 1 | C11: =IF(B11="","",COUNTIF(F11:AJ11,"MA")) -> 0 | D11: =IF(B11="","",COUNTIF(F11:AJ11,"CP")) -> 0 | E11: =IF(B11="","",COUNTIF(F11:AJ11,"RC")) -> 0
B12: =IF(Config!B5<>"",Config!B5,"") -> Employé 2 | C12: =IF(B12="","",COUNTIF(F12:AJ12,"MA")) -> 0 | D12: =IF(B12="","",COUNTIF(F12:AJ12,"CP")) -> 0 | E12: =IF(B12="","",COUNTIF(F12:AJ12,"RC")) -> 0
B13: =IF(Config!B6<>"",Config!B6,"") -> Employé 3 | C13: =IF(B13="","",COUNTIF(F13:AJ13,"MA")) -> 0 | D13: =IF(B13="","",COUNTIF(F13:AJ13,"CP")) -> 0 | E13: =IF(B13="","",COUNTIF(F13:AJ13,"RC")) -> 0
B14: =IF(Config!B7<>"",Config!B7,"") -> Employé 4 | C14: =IF(B14="","",COUNTIF(F14:AJ14,"MA")) -> 0 | D14: =IF(B14="","",COUNTIF(F14:AJ14,"CP")) -> 0 | E14: =IF(B14="","",COUNTIF(F14:AJ14,"RC")) -> 0
B15: =IF(Config!B8<>"",Config!B8,"") -> Employé 5 | C15: =IF(B15="","",COUNTIF(F15:AJ15,"MA")) -> 0 | D15: =IF(B15="","",COUNTIF(F15:AJ15,"CP")) -> 0 | E15: =IF(B15="","",COUNTIF(F15:AJ15,"RC")) -> 0
B16: =IF(Config!B9<>"",Config!B9,"") -> Employé 6 | C16: =IF(B16="","",COUNTIF(F16:AJ16,"MA")) -> 0 | D16: =IF(B16="","",COUNTIF(F16:AJ16,"CP")) -> 0 | E16: =IF(B16="","",COUNTIF(F16:AJ16,"RC")) -> 0
B17: =IF(Config!B10<>"",Config!B10,"") -> Employé 7 | C17: =IF(B17="","",COUNTIF(F17:AJ17,"MA")) -> 0 | D17: =IF(B17="","",COUNTIF(F17:AJ17,"CP")) -> 0 | E17: =IF(B17="","",COUNTIF(F17:AJ17,"RC")) -> 0
B18: =IF(Config!B11<>"",Config!B11,"") -> Employé 8 | C18: =IF(B18="","",COUNTIF(F18:AJ18,"MA")) -> 0 | D18: =IF(B18="","",COUNTIF(F18:AJ18,"CP")) -> 0 | E18: =IF(B18="","",COUNTIF(F18:AJ18,"RC")) -> 0
B19: =IF(Config!B12<>"",Config!B12,"") -> Employé 9 | C19: =IF(B19="","",COUNTIF(F19:AJ19,"MA")) -> 0 | D19: =IF(B19="","",COUNTIF(F19:AJ19,"CP")) -> 0 | E19: =IF(B19="","",COUNTIF(F19:AJ19,"RC")) -> 0
B20: =IF(Config!B13<>"",Config!B13,"") -> Employé 10 | C20: =IF(B20="","",COUNTIF(F20:AJ20,"MA")) -> 0 | D20: =IF(B20="","",COUNTIF(F20:AJ20,"CP")) -> 0 | E20: =IF(B20="","",COUNTIF(F20:AJ20,"RC")) -> 0
B21: =IF(Config!B14<>"",Config!B14,"") -> Employé 11 | C21: =IF(B21="","",COUNTIF(F21:AJ21,"MA")) -> 0 | D21: =IF(B21="","",COUNTIF(F21:AJ21,"CP")) -> 0 | E21: =IF(B21="","",COUNTIF(F21:AJ21,"RC")) -> 0
B22: =IF(Config!B15<>"",Config!B15,"") -> Employé 12 | C22: =IF(B22="","",COUNTIF(F22:AJ22,"MA")) -> 0 | D22: =IF(B22="","",COUNTIF(F22:AJ22,"CP")) -> 0 | E22: =IF(B22="","",COUNTIF(F22:AJ22,"RC")) -> 0
... B27: =IF(Config!B20<>"",Config!B20,"") -> Employé 17 | C27: =IF(B27="","",COUNTIF(F27:AJ27,"MA")) -> 0 | D27: =IF(B27="","",COUNTIF(F27:AJ27,"CP")) -> 0 | E27: =IF(B27="","",COUNTIF(F27:AJ27,"RC")) -> 0
F29: CP | G29: Vacances | L29: RC | M29: Récupération | R29: MA | S29: Maladie | Y29: Week-end
F31: ND | G31: Jour non décompté | L31: DR | M31: Demande de Repos | R31: CPA | S31: Congés Paternité | Y31: Jours Fériés
F33: CV | G33: Congé Validé | L33: NC | M33: Ne pas Changer

Sheet Mars
A1: =Config!E8 -> 43160
A2: =Config!F8 -> 43190
F3: =A1 -> 43160 | G3: =F3+1 -> 43161 | H3: =G3+1 -> 43162 | I3: =H3+1 -> 43163 | J3: =I3+1 -> 43164 | K3: =J3+1 -> 43165 | L3: =K3+1 -> 43166 | M3: =L3+1 -> 43167 | N3: =M3+1 -> 43168 | ... AG3: =AF3+1 -> 43187 | AH3: =IFERROR(IF(AG3+1>A2,"",AG3+1),"") -> 43188 | AI3: =IFERROR(IF(AH3+1>A2,"",AH3+1),"") -> 43189 | AJ3: =IFERROR(IF(AI3+1>A2,"",AI3+1),"") -> 43190
B4: =TEXT(A1,"mmmmmmmmmmmmmm") -> mars
F9: =DAY(F3) -> 1 | G9: =DAY(G3) -> 2 | H9: =DAY(H3) -> 3 | I9: =DAY(I3) -> 4 | J9: =DAY(J3) -> 5 | K9: =DAY(K3) -> 6 | L9: =DAY(L3) -> 7 | M9: =DAY(M3) -> 8 | ... AG9: =DAY(AG3) -> 28 | AH9: =IFERROR(DAY(AH3),"") -> 29 | AI9: =IFERROR(DAY(AI3),"") -> 30 | AJ9: =IFERROR(DAY(AJ3),"") -> 31
B10: EFFECTIF | C10: Maladie | D10: Vacances | E10: RC | F10: =IFERROR(WEEKDAY(F3),"") -> 5 | G10: =IFERROR(WEEKDAY(G3),"") -> 6 | H10: =IFERROR(WEEKDAY(H3),"") -> 7 | I10: =IFERROR(WEEKDAY(I3),"") -> 1 | J10: =IFERROR(WEEKDAY(J3),"") -> 2 | K10: =IFERROR(WEEKDAY(K3),"") -> 3 | L10: =IFERROR(WEEKDAY(L3),"") -> 4 | M10: =IFERROR(WEEKDAY(M3),"") -> 5 | ... AJ10: =IFERROR(WEEKDAY(AJ3),"") -> 7
B11: =IF(Config!B4<>"",Config!B4,"") -> Employé 1 | C11: =IF(B11="","",COUNTIF(F11:AJ11,"MA")) -> 0 | D11: =IF(B11="","",COUNTIF(F11:AJ11,"CP")) -> 0 | E11: =IF(B11="","",COUNTIF(F11:AJ11,"RC")) -> 0
B12: =IF(Config!B5<>"",Config!B5,"") -> Employé 2 | C12: =IF(B12="","",COUNTIF(F12:AJ12,"MA")) -> 0 | D12: =IF(B12="","",COUNTIF(F12:AJ12,"CP")) -> 0 | E12: =IF(B12="","",COUNTIF(F12:AJ12,"RC")) -> 0
B13: =IF(Config!B6<>"",Config!B6,"") -> Employé 3 | C13: =IF(B13="","",COUNTIF(F13:AJ13,"MA")) -> 0 | D13: =IF(B13="","",COUNTIF(F13:AJ13,"CP")) -> 0 | E13: =IF(B13="","",COUNTIF(F13:AJ13,"RC")) -> 0
B14: =IF(Config!B7<>"",Config!B7,"") -> Employé 4 | C14: =IF(B14="","",COUNTIF(F14:AJ14,"MA")) -> 0 | D14: =IF(B14="","",COUNTIF(F14:AJ14,"CP")) -> 0 | E14: =IF(B14="","",COUNTIF(F14:AJ14,"RC")) -> 0
B15: =IF(Config!B8<>"",Config!B8,"") -> Employé 5 | C15: =IF(B15="","",COUNTIF(F15:AJ15,"MA")) -> 0 | D15: =IF(B15="","",COUNTIF(F15:AJ15,"CP")) -> 0 | E15: =IF(B15="","",COUNTIF(F15:AJ15,"RC")) -> 0
B16: =IF(Config!B9<>"",Config!B9,"") -> Employé 6 | C16: =IF(B16="","",COUNTIF(F16:AJ16,"MA")) -> 0 | D16: =IF(B16="","",COUNTIF(F16:AJ16,"CP")) -> 0 | E16: =IF(B16="","",COUNTIF(F16:AJ16,"RC")) -> 0
B17: =IF(Config!B10<>"",Config!B10,"") -> Employé 7 | C17: =IF(B17="","",COUNTIF(F17:AJ17,"MA")) -> 0 | D17: =IF(B17="","",COUNTIF(F17:AJ17,"CP")) -> 0 | E17: =IF(B17="","",COUNTIF(F17:AJ17,"RC")) -> 0
B18: =IF(Config!B11<>"",Config!B11,"") -> Employé 8 | C18: =IF(B18="","",COUNTIF(F18:AJ18,"MA")) -> 0 | D18: =IF(B18="","",COUNTIF(F18:AJ18,"CP")) -> 0 | E18: =IF(B18="","",COUNTIF(F18:AJ18,"RC")) -> 0
B19: =IF(Config!B12<>"",Config!B12,"") -> Employé 9 | C19: =IF(B19="","",COUNTIF(F19:AJ19,"MA")) -> 0 | D19: =IF(B19="","",COUNTIF(F19:AJ19,"CP")) -> 0 | E19: =IF(B19="","",COUNTIF(F19:AJ19,"RC")) -> 0
B20: =IF(Config!B13<>"",Config!B13,"") -> Employé 10 | C20: =IF(B20="","",COUNTIF(F20:AJ20,"MA")) -> 0 | D20: =IF(B20="","",COUNTIF(F20:AJ20,"CP")) -> 0 | E20: =IF(B20="","",COUNTIF(F20:AJ20,"RC")) -> 0
B21: =IF(Config!B14<>"",Config!B14,"") -> Employé 11 | C21: =IF(B21="","",COUNTIF(F21:AJ21,"MA")) -> 0 | D21: =IF(B21="","",COUNTIF(F21:AJ21,"CP")) -> 0 | E21: =IF(B21="","",COUNTIF(F21:AJ21,"RC")) -> 0
B22: =IF(Config!B15<>"",Config!B15,"") -> Employé 12 | C22: =IF(B22="","",COUNTIF(F22:AJ22,"MA")) -> 0 | D22: =IF(B22="","",COUNTIF(F22:AJ22,"CP")) -> 0 | E22: =IF(B22="","",COUNTIF(F22:AJ22,"RC")) -> 0
... B27: =IF(Config!B20<>"",Config!B20,"") -> Employé 17 | C27: =IF(B27="","",COUNTIF(F27:AJ27,"MA")) -> 0 | D27: =IF(B27="","",COUNTIF(F27:AJ27,"CP")) -> 0 | E27: =IF(B27="","",COUNTIF(F27:AJ27,"RC")) -> 0
F29: CP | G29: Vacances | L29: RC | M29: Récupération | R29: MA | S29: Maladie | Y29: Week-end
F31: ND | G31: Jour non décompté | L31: DR | M31: Demande de Repos | R31: CPA | S31: Congés Paternité | Y31: Jours Fériés
F33: CV | G33: Congé Validé | L33: NC | M33: Ne pas Changer

Sheet Avril
A1: =Config!E9 -> 43191
A2: =Config!F9 -> 43220
F3: =A1 -> 43191 | G3: =F3+1 -> 43192 | H3: =G3+1 -> 43193 | I3: =H3+1 -> 43194 | J3: =I3+1 -> 43195 | K3: =J3+1 -> 43196 | L3: =K3+1 -> 43197 | M3: =L3+1 -> 43198 | N3: =M3+1 -> 43199 | ... AG3: =AF3+1 -> 43218 | AH3: =IFERROR(IF(AG3+1>A2,"",AG3+1),"") -> 43219 | AI3: =IFERROR(IF(AH3+1>A2,"",AH3+1),"") -> 43220 | AJ3: =IFERROR(IF(AI3+1>A2,"",AI3+1),"")
B4: =TEXT(A1,"mmmmmmmmmmmmmm") -> avril
F9: =DAY(F3) -> 1 | G9: =DAY(G3) -> 2 | H9: =DAY(H3) -> 3 | I9: =DAY(I3) -> 4 | J9: =DAY(J3) -> 5 | K9: =DAY(K3) -> 6 | L9: =DAY(L3) -> 7 | M9: =DAY(M3) -> 8 | ... AG9: =DAY(AG3) -> 28 | AH9: =IFERROR(DAY(AH3),"") -> 29 | AI9: =IFERROR(DAY(AI3),"") -> 30 | AJ9: =IFERROR(DAY(AJ3),"")
B10: EFFECTIF | C10: Maladie | D10: Vacances | E10: RC | F10: =IFERROR(WEEKDAY(F3),"") -> 1 | G10: =IFERROR(WEEKDAY(G3),"") -> 2 | H10: =IFERROR(WEEKDAY(H3),"") -> 3 | I10: =IFERROR(WEEKDAY(I3),"") -> 4 | J10: =IFERROR(WEEKDAY(J3),"") -> 5 | K10: =IFERROR(WEEKDAY(K3),"") -> 6 | L10: =IFERROR(WEEKDAY(L3),"") -> 7 | M10: =IFERROR(WEEKDAY(M3),"") -> 1 | ... AJ10: =IFERROR(WEEKDAY(AJ3),"")
B11: =IF(Config!B4<>"",Config!B4,"") -> Employé 1 | C11: =IF(B11="","",COUNTIF(F11:AJ11,"MA")) -> 0 | D11: =IF(B11="","",COUNTIF(F11:AJ11,"CP")) -> 0 | E11: =IF(B11="","",COUNTIF(F11:AJ11,"RC")) -> 0
B12: =IF(Config!B5<>"",Config!B5,"") -> Employé 2 | C12: =IF(B12="","",COUNTIF(F12:AJ12,"MA")) -> 0 | D12: =IF(B12="","",COUNTIF(F12:AJ12,"CP")) -> 0 | E12: =IF(B12="","",COUNTIF(F12:AJ12,"RC")) -> 0
B13: =IF(Config!B6<>"",Config!B6,"") -> Employé 3 | C13: =IF(B13="","",COUNTIF(F13:AJ13,"MA")) -> 0 | D13: =IF(B13="","",COUNTIF(F13:AJ13,"CP")) -> 0 | E13: =IF(B13="","",COUNTIF(F13:AJ13,"RC")) -> 0
B14: =IF(Config!B7<>"",Config!B7,"") -> Employé 4 | C14: =IF(B14="","",COUNTIF(F14:AJ14,"MA")) -> 0 | D14: =IF(B14="","",COUNTIF(F14:AJ14,"CP")) -> 0 | E14: =IF(B14="","",COUNTIF(F14:AJ14,"RC")) -> 0
B15: =IF(Config!B8<>"",Config!B8,"") -> Employé 5 | C15: =IF(B15="","",COUNTIF(F15:AJ15,"MA")) -> 0 | D15: =IF(B15="","",COUNTIF(F15:AJ15,"CP")) -> 0 | E15: =IF(B15="","",COUNTIF(F15:AJ15,"RC")) -> 0
B16: =IF(Config!B9<>"",Config!B9,"") -> Employé 6 | C16: =IF(B16="","",COUNTIF(F16:AJ16,"MA")) -> 0 | D16: =IF(B16="","",COUNTIF(F16:AJ16,"CP")) -> 0 | E16: =IF(B16="","",COUNTIF(F16:AJ16,"RC")) -> 0
B17: =IF(Config!B10<>"",Config!B10,"") -> Employé 7 | C17: =IF(B17="","",COUNTIF(F17:AJ17,"MA")) -> 0 | D17: =IF(B17="","",COUNTIF(F17:AJ17,"CP")) -> 0 | E17: =IF(B17="","",COUNTIF(F17:AJ17,"RC")) -> 0
B18: =IF(Config!B11<>"",Config!B11,"") -> Employé 8 | C18: =IF(B18="","",COUNTIF(F18:AJ18,"MA")) -> 0 | D18: =IF(B18="","",COUNTIF(F18:AJ18,"CP")) -> 0 | E18: =IF(B18="","",COUNTIF(F18:AJ18,"RC")) -> 0
B19: =IF(Config!B12<>"",Config!B12,"") -> Employé 9 | C19: =IF(B19="","",COUNTIF(F19:AJ19,"MA")) -> 0 | D19: =IF(B19="","",COUNTIF(F19:AJ19,"CP")) -> 0 | E19: =IF(B19="","",COUNTIF(F19:AJ19,"RC")) -> 0
B20: =IF(Config!B13<>"",Config!B13,"") -> Employé 10 | C20: =IF(B20="","",COUNTIF(F20:AJ20,"MA")) -> 0 | D20: =IF(B20="","",COUNTIF(F20:AJ20,"CP")) -> 0 | E20: =IF(B20="","",COUNTIF(F20:AJ20,"RC")) -> 0
B21: =IF(Config!B14<>"",Config!B14,"") -> Employé 11 | C21: =IF(B21="","",COUNTIF(F21:AJ21,"MA")) -> 0 | D21: =IF(B21="","",COUNTIF(F21:AJ21,"CP")) -> 0 | E21: =IF(B21="","",COUNTIF(F21:AJ21,"RC")) -> 0
B22: =IF(Config!B15<>"",Config!B15,"") -> Employé 12 | C22: =IF(B22="","",COUNTIF(F22:AJ22,"MA")) -> 0 | D22: =IF(B22="","",COUNTIF(F22:AJ22,"CP")) -> 0 | E22: =IF(B22="","",COUNTIF(F22:AJ22,"RC")) -> 0
... B27: =IF(Config!B20<>"",Config!B20,"") -> Employé 17 | C27: =IF(B27="","",COUNTIF(F27:AJ27,"MA")) -> 0 | D27: =IF(B27="","",COUNTIF(F27:AJ27,"CP")) -> 0 | E27: =IF(B27="","",COUNTIF(F27:AJ27,"RC")) -> 0
F29: CP | G29: Vacances | L29: RC | M29: Récupération | R29: MA | S29: Maladie | Y29: Week-end
F31: ND | G31: Jour non décompté | L31: DR | M31: Demande de Repos | R31: CPA | S31: Congés Paternité | Y31: Jours Fériés
F33: CV | G33: Congé Validé | L33: NC | M33: Ne pas Changer

Sheet Mai
A1: =Config!E10 -> 43221
A2: =Config!F10 -> 43251
F3: =A1 -> 43221 | G3: =F3+1 -> 43222 | H3: =G3+1 -> 43223 | I3: =H3+1 -> 43224 | J3: =I3+1 -> 43225 | K3: =J3+1 -> 43226 | L3: =K3+1 -> 43227 | M3: =L3+1 -> 43228 | N3: =M3+1 -> 43229 | ... AG3: =AF3+1 -> 43248 | AH3: =IFERROR(IF(AG3+1>A2,"",AG3+1),"") -> 43249 | AI3: =IFERROR(IF(AH3+1>A2,"",AH3+1),"") -> 43250 | AJ3: =IFERROR(IF(AI3+1>A2,"",AI3+1),"") -> 43251
B4: =TEXT(A1,"mmmmmmmmmmmmmm") -> mai
F9: =DAY(F3) -> 1 | G9: =DAY(G3) -> 2 | H9: =DAY(H3) -> 3 | I9: =DAY(I3) -> 4 | J9: =DAY(J3) -> 5 | K9: =DAY(K3) -> 6 | L9: =DAY(L3) -> 7 | M9: =DAY(M3) -> 8 | ... AG9: =DAY(AG3) -> 28 | AH9: =IFERROR(DAY(AH3),"") -> 29 | AI9: =IFERROR(DAY(AI3),"") -> 30 | AJ9: =IFERROR(DAY(AJ3),"") -> 31
B10: EFFECTIF | C10: Maladie | D10: Vacances | E10: RC | F10: =IFERROR(WEEKDAY(F3),"") -> 3 | G10: =IFERROR(WEEKDAY(G3),"") -> 4 | H10: =IFERROR(WEEKDAY(H3),"") -> 5 | I10: =IFERROR(WEEKDAY(I3),"") -> 6 | J10: =IFERROR(WEEKDAY(J3),"") -> 7 | K10: =IFERROR(WEEKDAY(K3),"") -> 1 | L10: =IFERROR(WEEKDAY(L3),"") -> 2 | M10: =IFERROR(WEEKDAY(M3),"") -> 3 | ... AJ10: =IFERROR(WEEKDAY(AJ3),"") -> 5
B11: =IF(Config!B4<>"",Config!B4,"") -> Employé 1 | C11: =IF(B11="","",COUNTIF(F11:AJ11,"MA")) -> 0 | D11: =IF(B11="","",COUNTIF(F11:AJ11,"CP")) -> 0 | E11: =IF(B11="","",COUNTIF(F11:AJ11,"RC")) -> 0
B12: =IF(Config!B5<>"",Config!B5,"") -> Employé 2 | C12: =IF(B12="","",COUNTIF(F12:AJ12,"MA")) -> 0 | D12: =IF(B12="","",COUNTIF(F12:AJ12,"CP")) -> 0 | E12: =IF(B12="","",COUNTIF(F12:AJ12,"RC")) -> 0
B13: =IF(Config!B6<>"",Config!B6,"") -> Employé 3 | C13: =IF(B13="","",COUNTIF(F13:AJ13,"MA")) -> 0 | D13: =IF(B13="","",COUNTIF(F13:AJ13,"CP")) -> 0 | E13: =IF(B13="","",COUNTIF(F13:AJ13,"RC")) -> 0
B14: =IF(Config!B7<>"",Config!B7,"") -> Employé 4 | C14: =IF(B14="","",COUNTIF(F14:AJ14,"MA")) -> 0 | D14: =IF(B14="","",COUNTIF(F14:AJ14,"CP")) -> 0 | E14: =IF(B14="","",COUNTIF(F14:AJ14,"RC")) -> 0
B15: =IF(Config!B8<>"",Config!B8,"") -> Employé 5 | C15: =IF(B15="","",COUNTIF(F15:AJ15,"MA")) -> 0 | D15: =IF(B15="","",COUNTIF(F15:AJ15,"CP")) -> 0 | E15: =IF(B15="","",COUNTIF(F15:AJ15,"RC")) -> 0
B16: =IF(Config!B9<>"",Config!B9,"") -> Employé 6 | C16: =IF(B16="","",COUNTIF(F16:AJ16,"MA")) -> 0 | D16: =IF(B16="","",COUNTIF(F16:AJ16,"CP")) -> 0 | E16: =IF(B16="","",COUNTIF(F16:AJ16,"RC")) -> 0
B17: =IF(Config!B10<>"",Config!B10,"") -> Employé 7 | C17: =IF(B17="","",COUNTIF(F17:AJ17,"MA")) -> 0 | D17: =IF(B17="","",COUNTIF(F17:AJ17,"CP")) -> 0 | E17: =IF(B17="","",COUNTIF(F17:AJ17,"RC")) -> 0
B18: =IF(Config!B11<>"",Config!B11,"") -> Employé 8 | C18: =IF(B18="","",COUNTIF(F18:AJ18,"MA")) -> 0 | D18: =IF(B18="","",COUNTIF(F18:AJ18,"CP")) -> 0 | E18: =IF(B18="","",COUNTIF(F18:AJ18,"RC")) -> 0
B19: =IF(Config!B12<>"",Config!B12,"") -> Employé 9 | C19: =IF(B19="","",COUNTIF(F19:AJ19,"MA")) -> 0 | D19: =IF(B19="","",COUNTIF(F19:AJ19,"CP")) -> 0 | E19: =IF(B19="","",COUNTIF(F19:AJ19,"RC")) -> 0
B20: =IF(Config!B13<>"",Config!B13,"") -> Employé 10 | C20: =IF(B20="","",COUNTIF(F20:AJ20,"MA")) -> 0 | D20: =IF(B20="","",COUNTIF(F20:AJ20,"CP")) -> 0 | E20: =IF(B20="","",COUNTIF(F20:AJ20,"RC")) -> 0
B21: =IF(Config!B14<>"",Config!B14,"") -> Employé 11 | C21: =IF(B21="","",COUNTIF(F21:AJ21,"MA")) -> 0 | D21: =IF(B21="","",COUNTIF(F21:AJ21,"CP")) -> 0 | E21: =IF(B21="","",COUNTIF(F21:AJ21,"RC")) -> 0
B22: =IF(Config!B15<>"",Config!B15,"") -> Employé 12 | C22: =IF(B22="","",COUNTIF(F22:AJ22,"MA")) -> 0 | D22: =IF(B22="","",COUNTIF(F22:AJ22,"CP")) -> 0 | E22: =IF(B22="","",COUNTIF(F22:AJ22,"RC")) -> 0
... B27: =IF(Config!B20<>"",Config!B20,"") -> Employé 17 | C27: =IF(B27="","",COUNTIF(F27:AJ27,"MA")) -> 0 | D27: =IF(B27="","",COUNTIF(F27:AJ27,"CP")) -> 0 | E27: =IF(B27="","",COUNTIF(F27:AJ27,"RC")) -> 0
F29: CP | G29: Vacances | L29: RC | M29: Récupération | R29: MA | S29: Maladie | Y29: Week-end
F31: ND | G31: Jour non décompté | L31: DR | M31: Demande de Repos | R31: CPA | S31: Congés Paternité | Y31: Jours Fériés
F33: CV | G33: Congé Validé | L33: NC | M33: Ne pas Changer

Sheet Juin
A1: =Config!E11 -> 43252
A2: =Config!F11 -> 43281
F3: =A1 -> 43252 | G3: =F3+1 -> 43253 | H3: =G3+1 -> 43254 | I3: =H3+1 -> 43255 | J3: =I3+1 -> 43256 | K3: =J3+1 -> 43257 | L3: =K3+1 -> 43258 | M3: =L3+1 -> 43259 | N3: =M3+1 -> 43260 | ... AG3: =AF3+1 -> 43279 | AH3: =IFERROR(IF(AG3+1>A2,"",AG3+1),"") -> 43280 | AI3: =IFERROR(IF(AH3+1>A2,"",AH3+1),"") -> 43281 | AJ3: =IFERROR(IF(AI3+1>A2,"",AI3+1),"")
B4: =TEXT(A1,"mmmmmmmmmmmmmm") -> juin
F9: =DAY(F3) -> 1 | G9: =DAY(G3) -> 2 | H9: =DAY(H3) -> 3 | I9: =DAY(I3) -> 4 | J9: =DAY(J3) -> 5 | K9: =DAY(K3) -> 6 | L9: =DAY(L3) -> 7 | M9: =DAY(M3) -> 8 | ... AG9: =DAY(AG3) -> 28 | AH9: =IFERROR(DAY(AH3),"") -> 29 | AI9: =IFERROR(DAY(AI3),"") -> 30 | AJ9: =IFERROR(DAY(AJ3),"")
B10: EFFECTIF | C10: Maladie | D10: Vacances | E10: RC | F10: =IFERROR(WEEKDAY(F3),"") -> 6 | G10: =IFERROR(WEEKDAY(G3),"") -> 7 | H10: =IFERROR(WEEKDAY(H3),"") -> 1 | I10: =IFERROR(WEEKDAY(I3),"") -> 2 | J10: =IFERROR(WEEKDAY(J3),"") -> 3 | K10: =IFERROR(WEEKDAY(K3),"") -> 4 | L10: =IFERROR(WEEKDAY(L3),"") -> 5 | M10: =IFERROR(WEEKDAY(M3),"") -> 6 | ... AJ10: =IFERROR(WEEKDAY(AJ3),"")
B11: =IF(Config!B4<>"",Config!B4,"") -> Employé 1 | C11: =IF(B11="","",COUNTIF(F11:AJ11,"MA")) -> 0 | D11: =IF(B11="","",COUNTIF(F11:AJ11,"CP")) -> 0 | E11: =IF(B11="","",COUNTIF(F11:AJ11,"RC")) -> 0
B12: =IF(Config!B5<>"",Config!B5,"") -> Employé 2 | C12: =IF(B12="","",COUNTIF(F12:AJ12,"MA")) -> 0 | D12: =IF(B12="","",COUNTIF(F12:AJ12,"CP")) -> 0 | E12: =IF(B12="","",COUNTIF(F12:AJ12,"RC")) -> 0
B13: =IF(Config!B6<>"",Config!B6,"") -> Employé 3 | C13: =IF(B13="","",COUNTIF(F13:AJ13,"MA")) -> 0 | D13: =IF(B13="","",COUNTIF(F13:AJ13,"CP")) -> 0 | E13: =IF(B13="","",COUNTIF(F13:AJ13,"RC")) -> 0
B14: =IF(Config!B7<>"",Config!B7,"") -> Employé 4 | C14: =IF(B14="","",COUNTIF(F14:AJ14,"MA")) -> 0 | D14: =IF(B14="","",COUNTIF(F14:AJ14,"CP")) -> 0 | E14: =IF(B14="","",COUNTIF(F14:AJ14,"RC")) -> 0
B15: =IF(Config!B8<>"",Config!B8,"") -> Employé 5 | C15: =IF(B15="","",COUNTIF(F15:AJ15,"MA")) -> 0 | D15: =IF(B15="","",COUNTIF(F15:AJ15,"CP")) -> 0 | E15: =IF(B15="","",COUNTIF(F15:AJ15,"RC")) -> 0
B16: =IF(Config!B9<>"",Config!B9,"") -> Employé 6 | C16: =IF(B16="","",COUNTIF(F16:AJ16,"MA")) -> 0 | D16: =IF(B16="","",COUNTIF(F16:AJ16,"CP")) -> 0 | E16: =IF(B16="","",COUNTIF(F16:AJ16,"RC")) -> 0
B17: =IF(Config!B10<>"",Config!B10,"") -> Employé 7 | C17: =IF(B17="","",COUNTIF(F17:AJ17,"MA")) -> 0 | D17: =IF(B17="","",COUNTIF(F17:AJ17,"CP")) -> 0 | E17: =IF(B17="","",COUNTIF(F17:AJ17,"RC")) -> 0
B18: =IF(Config!B11<>"",Config!B11,"") -> Employé 8 | C18: =IF(B18="","",COUNTIF(F18:AJ18,"MA")) -> 0 | D18: =IF(B18="","",COUNTIF(F18:AJ18,"CP")) -> 0 | E18: =IF(B18="","",COUNTIF(F18:AJ18,"RC")) -> 0
B19: =IF(Config!B12<>"",Config!B12,"") -> Employé 9 | C19: =IF(B19="","",COUNTIF(F19:AJ19,"MA")) -> 0 | D19: =IF(B19="","",COUNTIF(F19:AJ19,"CP")) -> 0 | E19: =IF(B19="","",COUNTIF(F19:AJ19,"RC")) -> 0
B20: =IF(Config!B13<>"",Config!B13,"") -> Employé 10 | C20: =IF(B20="","",COUNTIF(F20:AJ20,"MA")) -> 0 | D20: =IF(B20="","",COUNTIF(F20:AJ20,"CP")) -> 0 | E20: =IF(B20="","",COUNTIF(F20:AJ20,"RC")) -> 0
B21: =IF(Config!B14<>"",Config!B14,"") -> Employé 11 | C21: =IF(B21="","",COUNTIF(F21:AJ21,"MA")) -> 0 | D21: =IF(B21="","",COUNTIF(F21:AJ21,"CP")) -> 0 | E21: =IF(B21="","",COUNTIF(F21:AJ21,"RC")) -> 0
B22: =IF(Config!B15<>"",Config!B15,"") -> Employé 12 | C22: =IF(B22="","",COUNTIF(F22:AJ22,"MA")) -> 0 | D22: =IF(B22="","",COUNTIF(F22:AJ22,"CP")) -> 0 | E22: =IF(B22="","",COUNTIF(F22:AJ22,"RC")) -> 0
... B27: =IF(Config!B20<>"",Config!B20,"") -> Employé 17 | C27: =IF(B27="","",COUNTIF(F27:AJ27,"MA")) -> 0 | D27: =IF(B27="","",COUNTIF(F27:AJ27,"CP")) -> 0 | E27: =IF(B27="","",COUNTIF(F27:AJ27,"RC")) -> 0
F29: CP | G29: Vacances | L29: RC | M29: Récupération | R29: MA | S29: Maladie | Y29: Week-end
F31: ND | G31: Jour non décompté | L31: DR | M31: Demande de Repos | R31: CPA | S31: Congés Paternité | Y31: Jours Fériés
F33: CV | G33: Congé Validé | L33: NC | M33: Ne pas Changer

Sheet Juillet
A1: =Config!E12 -> 43282
A2: =Config!F12 -> 43312
F3: =A1 -> 43282 | G3: =F3+1 -> 43283 | H3: =G3+1 -> 43284 | I3: =H3+1 -> 43285 | J3: =I3+1 -> 43286 | K3: =J3+1 -> 43287 | L3: =K3+1 -> 43288 | M3: =L3+1 -> 43289 | N3: =M3+1 -> 43290 | ... AG3: =AF3+1 -> 43309 | AH3: =IFERROR(IF(AG3+1>A2,"",AG3+1),"") -> 43310 | AI3: =IFERROR(IF(AH3+1>A2,"",AH3+1),"") -> 43311 | AJ3: =IFERROR(IF(AI3+1>A2,"",AI3+1),"") -> 43312
B4: =TEXT(A1,"mmmmmmmmmmmmmm") -> juillet
F9: =DAY(F3) -> 1 | G9: =DAY(G3) -> 2 | H9: =DAY(H3) -> 3 | I9: =DAY(I3) -> 4 | J9: =DAY(J3) -> 5 | K9: =DAY(K3) -> 6 | L9: =DAY(L3) -> 7 | M9: =DAY(M3) -> 8 | ... AG9: =DAY(AG3) -> 28 | AH9: =IFERROR(DAY(AH3),"") -> 29 | AI9: =IFERROR(DAY(AI3),"") -> 30 | AJ9: =IFERROR(DAY(AJ3),"") -> 31
B10: EFFECTIF | C10: Maladie | D10: Vacances | E10: RC | F10: =IFERROR(WEEKDAY(F3),"") -> 1 | G10: =IFERROR(WEEKDAY(G3),"") -> 2 | H10: =IFERROR(WEEKDAY(H3),"") -> 3 | I10: =IFERROR(WEEKDAY(I3),"") -> 4 | J10: =IFERROR(WEEKDAY(J3),"") -> 5 | K10: =IFERROR(WEEKDAY(K3),"") -> 6 | L10: =IFERROR(WEEKDAY(L3),"") -> 7 | M10: =IFERROR(WEEKDAY(M3),"") -> 1 | ... AJ10: =IFERROR(WEEKDAY(AJ3),"") -> 3
B11: =IF(Config!B4<>"",Config!B4,"") -> Employé 1 | C11: =IF(B11="","",COUNTIF(F11:AJ11,"MA")) -> 0 | D11: =IF(B11="","",COUNTIF(F11:AJ11,"CP")) -> 0 | E11: =IF(B11="","",COUNTIF(F11:AJ11,"RC")) -> 0
B12: =IF(Config!B5<>"",Config!B5,"") -> Employé 2 | C12: =IF(B12="","",COUNTIF(F12:AJ12,"MA")) -> 0 | D12: =IF(B12="","",COUNTIF(F12:AJ12,"CP")) -> 0 | E12: =IF(B12="","",COUNTIF(F12:AJ12,"RC")) -> 0
B13: =IF(Config!B6<>"",Config!B6,"") -> Employé 3 | C13: =IF(B13="","",COUNTIF(F13:AJ13,"MA")) -> 0 | D13: =IF(B13="","",COUNTIF(F13:AJ13,"CP")) -> 0 | E13: =IF(B13="","",COUNTIF(F13:AJ13,"RC")) -> 0
B14: =IF(Config!B7<>"",Config!B7,"") -> Employé 4 | C14: =IF(B14="","",COUNTIF(F14:AJ14,"MA")) -> 0 | D14: =IF(B14="","",COUNTIF(F14:AJ14,"CP")) -> 0 | E14: =IF(B14="","",COUNTIF(F14:AJ14,"RC")) -> 0
B15: =IF(Config!B8<>"",Config!B8,"") -> Employé 5 | C15: =IF(B15="","",COUNTIF(F15:AJ15,"MA")) -> 0 | D15: =IF(B15="","",COUNTIF(F15:AJ15,"CP")) -> 0 | E15: =IF(B15="","",COUNTIF(F15:AJ15,"RC")) -> 0
B16: =IF(Config!B9<>"",Config!B9,"") -> Employé 6 | C16: =IF(B16="","",COUNTIF(F16:AJ16,"MA")) -> 0 | D16: =IF(B16="","",COUNTIF(F16:AJ16,"CP")) -> 0 | E16: =IF(B16="","",COUNTIF(F16:AJ16,"RC")) -> 0
B17: =IF(Config!B10<>"",Config!B10,"") -> Employé 7 | C17: =IF(B17="","",COUNTIF(F17:AJ17,"MA")) -> 0 | D17: =IF(B17="","",COUNTIF(F17:AJ17,"CP")) -> 0 | E17: =IF(B17="","",COUNTIF(F17:AJ17,"RC")) -> 0
B18: =IF(Config!B11<>"",Config!B11,"") -> Employé 8 | C18: =IF(B18="","",COUNTIF(F18:AJ18,"MA")) -> 0 | D18: =IF(B18="","",COUNTIF(F18:AJ18,"CP")) -> 0 | E18: =IF(B18="","",COUNTIF(F18:AJ18,"RC")) -> 0
B19: =IF(Config!B12<>"",Config!B12,"") -> Employé 9 | C19: =IF(B19="","",COUNTIF(F19:AJ19,"MA")) -> 0 | D19: =IF(B19="","",COUNTIF(F19:AJ19,"CP")) -> 0 | E19: =IF(B19="","",COUNTIF(F19:AJ19,"RC")) -> 0
B20: =IF(Config!B13<>"",Config!B13,"") -> Employé 10 | C20: =IF(B20="","",COUNTIF(F20:AJ20,"MA")) -> 0 | D20: =IF(B20="","",COUNTIF(F20:AJ20,"CP")) -> 0 | E20: =IF(B20="","",COUNTIF(F20:AJ20,"RC")) -> 0
B21: =IF(Config!B14<>"",Config!B14,"") -> Employé 11 | C21: =IF(B21="","",COUNTIF(F21:AJ21,"MA")) -> 0 | D21: =IF(B21="","",COUNTIF(F21:AJ21,"CP")) -> 0 | E21: =IF(B21="","",COUNTIF(F21:AJ21,"RC")) -> 0
B22: =IF(Config!B15<>"",Config!B15,"") -> Employé 12 | C22: =IF(B22="","",COUNTIF(F22:AJ22,"MA")) -> 0 | D22: =IF(B22="","",COUNTIF(F22:AJ22,"CP")) -> 0 | E22: =IF(B22="","",COUNTIF(F22:AJ22,"RC")) -> 0
... B27: =IF(Config!B20<>"",Config!B20,"") -> Employé 17 | C27: =IF(B27="","",COUNTIF(F27:AJ27,"MA")) -> 0 | D27: =IF(B27="","",COUNTIF(F27:AJ27,"CP")) -> 0 | E27: =IF(B27="","",COUNTIF(F27:AJ27,"RC")) -> 0
F29: CP | G29: Vacances | L29: RC | M29: Récupération | R29: MA | S29: Maladie | Y29: Week-end
F31: ND | G31: Jour non décompté | L31: DR | M31: Demande de Repos | R31: CPA | S31: Congés Paternité | Y31: Jours Fériés
F33: CV | G33: Congé Validé | L33: NC | M33: Ne pas Changer

Sheet Août
A1: =Config!E13 -> 43313
A2: =Config!F13 -> 43343
F3: =A1 -> 43313 | G3: =F3+1 -> 43314 | H3: =G3+1 -> 43315 | I3: =H3+1 -> 43316 | J3: =I3+1 -> 43317 | K3: =J3+1 -> 43318 | L3: =K3+1 -> 43319 | M3: =L3+1 -> 43320 | N3: =M3+1 -> 43321 | ... AG3: =AF3+1 -> 43340 | AH3: =IFERROR(IF(AG3+1>A2,"",AG3+1),"") -> 43341 | AI3: =IFERROR(IF(AH3+1>A2,"",AH3+1),"") -> 43342 | AJ3: =IFERROR(IF(AI3+1>A2,"",AI3+1),"") -> 43343
B4: =TEXT(A1,"mmmmmmmmmmmmmm") -> août
F9: =DAY(F3) -> 1 | G9: =DAY(G3) -> 2 | H9: =DAY(H3) -> 3 | I9: =DAY(I3) -> 4 | J9: =DAY(J3) -> 5 | K9: =DAY(K3) -> 6 | L9: =DAY(L3) -> 7 | M9: =DAY(M3) -> 8 | ... AG9: =DAY(AG3) -> 28 | AH9: =IFERROR(DAY(AH3),"") -> 29 | AI9: =IFERROR(DAY(AI3),"") -> 30 | AJ9: =IFERROR(DAY(AJ3),"") -> 31
B10: EFFECTIF | C10: Maladie | D10: Vacances | E10: RC | F10: =IFERROR(WEEKDAY(F3),"") -> 4 | G10: =IFERROR(WEEKDAY(G3),"") -> 5 | H10: =IFERROR(WEEKDAY(H3),"") -> 6 | I10: =IFERROR(WEEKDAY(I3),"") -> 7 | J10: =IFERROR(WEEKDAY(J3),"") -> 1 | K10: =IFERROR(WEEKDAY(K3),"") -> 2 | L10: =IFERROR(WEEKDAY(L3),"") -> 3 | M10: =IFERROR(WEEKDAY(M3),"") -> 4 | ... AJ10: =IFERROR(WEEKDAY(AJ3),"") -> 6
B11: =IF(Config!B4<>"",Config!B4,"") -> Employé 1 | C11: =IF(B11="","",COUNTIF(F11:AJ11,"MA")) -> 0 | D11: =IF(B11="","",COUNTIF(F11:AJ11,"CP")) -> 0 | E11: =IF(B11="","",COUNTIF(F11:AJ11,"RC")) -> 0
B12: =IF(Config!B5<>"",Config!B5,"") -> Employé 2 | C12: =IF(B12="","",COUNTIF(F12:AJ12,"MA")) -> 0 | D12: =IF(B12="","",COUNTIF(F12:AJ12,"CP")) -> 0 | E12: =IF(B12="","",COUNTIF(F12:AJ12,"RC")) -> 0
B13: =IF(Config!B6<>"",Config!B6,"") -> Employé 3 | C13: =IF(B13="","",COUNTIF(F13:AJ13,"MA")) -> 0 | D13: =IF(B13="","",COUNTIF(F13:AJ13,"CP")) -> 0 | E13: =IF(B13="","",COUNTIF(F13:AJ13,"RC")) -> 0
B14: =IF(Config!B7<>"",Config!B7,"") -> Employé 4 | C14: =IF(B14="","",COUNTIF(F14:AJ14,"MA")) -> 0 | D14: =IF(B14="","",COUNTIF(F14:AJ14,"CP")) -> 0 | E14: =IF(B14="","",COUNTIF(F14:AJ14,"RC")) -> 0
B15: =IF(Config!B8<>"",Config!B8,"") -> Employé 5 | C15: =IF(B15="","",COUNTIF(F15:AJ15,"MA")) -> 0 | D15: =IF(B15="","",COUNTIF(F15:AJ15,"CP")) -> 0 | E15: =IF(B15="","",COUNTIF(F15:AJ15,"RC")) -> 0
B16: =IF(Config!B9<>"",Config!B9,"") -> Employé 6 | C16: =IF(B16="","",COUNTIF(F16:AJ16,"MA")) -> 0 | D16: =IF(B16="","",COUNTIF(F16:AJ16,"CP")) -> 0 | E16: =IF(B16="","",COUNTIF(F16:AJ16,"RC")) -> 0
B17: =IF(Config!B10<>"",Config!B10,"") -> Employé 7 | C17: =IF(B17="","",COUNTIF(F17:AJ17,"MA")) -> 0 | D17: =IF(B17="","",COUNTIF(F17:AJ17,"CP")) -> 0 | E17: =IF(B17="","",COUNTIF(F17:AJ17,"RC")) -> 0
B18: =IF(Config!B11<>"",Config!B11,"") -> Employé 8 | C18: =IF(B18="","",COUNTIF(F18:AJ18,"MA")) -> 0 | D18: =IF(B18="","",COUNTIF(F18:AJ18,"CP")) -> 0 | E18: =IF(B18="","",COUNTIF(F18:AJ18,"RC")) -> 0
B19: =IF(Config!B12<>"",Config!B12,"") -> Employé 9 | C19: =IF(B19="","",COUNTIF(F19:AJ19,"MA")) -> 0 | D19: =IF(B19="","",COUNTIF(F19:AJ19,"CP")) -> 0 | E19: =IF(B19="","",COUNTIF(F19:AJ19,"RC")) -> 0
B20: =IF(Config!B13<>"",Config!B13,"") -> Employé 10 | C20: =IF(B20="","",COUNTIF(F20:AJ20,"MA")) -> 0 | D20: =IF(B20="","",COUNTIF(F20:AJ20,"CP")) -> 0 | E20: =IF(B20="","",COUNTIF(F20:AJ20,"RC")) -> 0
B21: =IF(Config!B14<>"",Config!B14,"") -> Employé 11 | C21: =IF(B21="","",COUNTIF(F21:AJ21,"MA")) -> 0 | D21: =IF(B21="","",COUNTIF(F21:AJ21,"CP")) -> 0 | E21: =IF(B21="","",COUNTIF(F21:AJ21,"RC")) -> 0
B22: =IF(Config!B15<>"",Config!B15,"") -> Employé 12 | C22: =IF(B22="","",COUNTIF(F22:AJ22,"MA")) -> 0 | D22: =IF(B22="","",COUNTIF(F22:AJ22,"CP")) -> 0 | E22: =IF(B22="","",COUNTIF(F22:AJ22,"RC")) -> 0
... B27: =IF(Config!B20<>"",Config!B20,"") -> Employé 17 | C27: =IF(B27="","",COUNTIF(F27:AJ27,"MA")) -> 0 | D27: =IF(B27="","",COUNTIF(F27:AJ27,"CP")) -> 0 | E27: =IF(B27="","",COUNTIF(F27:AJ27,"RC")) -> 0
F29: CP | G29: Vacances | L29: RC | M29: Récupération | R29: MA | S29: Maladie | Y29: Week-end
F31: ND | G31: Jour non décompté | L31: DR | M31: Demande de Repos | R31: CPA | S31: Congés Paternité | Y31: Jours Fériés
F33: CV | G33: Congé Validé | L33: NC | M33: Ne pas Changer

Sheet Septembre
A1: =Config!E14 -> 43344
A2: =Config!F14 -> 43373
F3: =A1 -> 43344 | G3: =F3+1 -> 43345 | H3: =G3+1 -> 43346 | I3: =H3+1 -> 43347 | J3: =I3+1 -> 43348 | K3: =J3+1 -> 43349 | L3: =K3+1 -> 43350 | M3: =L3+1 -> 43351 | N3: =M3+1 -> 43352 | ... AG3: =AF3+1 -> 43371 | AH3: =IFERROR(IF(AG3+1>A2,"",AG3+1),"") -> 43372 | AI3: =IFERROR(IF(AH3+1>A2,"",AH3+1),"") -> 43373 | AJ3: =IFERROR(IF(AI3+1>A2,"",AI3+1),"")
B4: =TEXT(A1,"mmmmmmmmmmmmmm") -> septembre
F9: =DAY(F3) -> 1 | G9: =DAY(G3) -> 2 | H9: =DAY(H3) -> 3 | I9: =DAY(I3) -> 4 | J9: =DAY(J3) -> 5 | K9: =DAY(K3) -> 6 | L9: =DAY(L3) -> 7 | M9: =DAY(M3) -> 8 | ... AG9: =DAY(AG3) -> 28 | AH9: =IFERROR(DAY(AH3),"") -> 29 | AI9: =IFERROR(DAY(AI3),"") -> 30 | AJ9: =IFERROR(DAY(AJ3),"")
B10: EFFECTIF | C10: Maladie | D10: Vacances | E10: RC | F10: =IFERROR(WEEKDAY(F3),"") -> 7 | G10: =IFERROR(WEEKDAY(G3),"") -> 1 | H10: =IFERROR(WEEKDAY(H3),"") -> 2 | I10: =IFERROR(WEEKDAY(I3),"") -> 3 | J10: =IFERROR(WEEKDAY(J3),"") -> 4 | K10: =IFERROR(WEEKDAY(K3),"") -> 5 | L10: =IFERROR(WEEKDAY(L3),"") -> 6 | M10: =IFERROR(WEEKDAY(M3),"") -> 7 | ... AJ10: =IFERROR(WEEKDAY(AJ3),"")
B11: =IF(Config!B4<>"",Config!B4,"") -> Employé 1 | C11: =IF(B11="","",COUNTIF(F11:AJ11,"MA")) -> 0 | D11: =IF(B11="","",COUNTIF(F11:AJ11,"CP")) -> 0 | E11: =IF(B11="","",COUNTIF(F11:AJ11,"RC")) -> 0
B12: =IF(Config!B5<>"",Config!B5,"") -> Employé 2 | C12: =IF(B12="","",COUNTIF(F12:AJ12,"MA")) -> 0 | D12: =IF(B12="","",COUNTIF(F12:AJ12,"CP")) -> 0 | E12: =IF(B12="","",COUNTIF(F12:AJ12,"RC")) -> 0
B13: =IF(Config!B6<>"",Config!B6,"") -> Employé 3 | C13: =IF(B13="","",COUNTIF(F13:AJ13,"MA")) -> 0 | D13: =IF(B13="","",COUNTIF(F13:AJ13,"CP")) -> 0 | E13: =IF(B13="","",COUNTIF(F13:AJ13,"RC")) -> 0
B14: =IF(Config!B7<>"",Config!B7,"") -> Employé 4 | C14: =IF(B14="","",COUNTIF(F14:AJ14,"MA")) -> 0 | D14: =IF(B14="","",COUNTIF(F14:AJ14,"CP")) -> 0 | E14: =IF(B14="","",COUNTIF(F14:AJ14,"RC")) -> 0
B15: =IF(Config!B8<>"",Config!B8,"") -> Employé 5 | C15: =IF(B15="","",COUNTIF(F15:AJ15,"MA")) -> 0 | D15: =IF(B15="","",COUNTIF(F15:AJ15,"CP")) -> 0 | E15: =IF(B15="","",COUNTIF(F15:AJ15,"RC")) -> 0
B16: =IF(Config!B9<>"",Config!B9,"") -> Employé 6 | C16: =IF(B16="","",COUNTIF(F16:AJ16,"MA")) -> 0 | D16: =IF(B16="","",COUNTIF(F16:AJ16,"CP")) -> 0 | E16: =IF(B16="","",COUNTIF(F16:AJ16,"RC")) -> 0
B17: =IF(Config!B10<>"",Config!B10,"") -> Employé 7 | C17: =IF(B17="","",COUNTIF(F17:AJ17,"MA")) -> 0 | D17: =IF(B17="","",COUNTIF(F17:AJ17,"CP")) -> 0 | E17: =IF(B17="","",COUNTIF(F17:AJ17,"RC")) -> 0
B18: =IF(Config!B11<>"",Config!B11,"") -> Employé 8 | C18: =IF(B18="","",COUNTIF(F18:AJ18,"MA")) -> 0 | D18: =IF(B18="","",COUNTIF(F18:AJ18,"CP")) -> 0 | E18: =IF(B18="","",COUNTIF(F18:AJ18,"RC")) -> 0
B19: =IF(Config!B12<>"",Config!B12,"") -> Employé 9 | C19: =IF(B19="","",COUNTIF(F19:AJ19,"MA")) -> 0 | D19: =IF(B19="","",COUNTIF(F19:AJ19,"CP")) -> 0 | E19: =IF(B19="","",COUNTIF(F19:AJ19,"RC")) -> 0
B20: =IF(Config!B13<>"",Config!B13,"") -> Employé 10 | C20: =IF(B20="","",COUNTIF(F20:AJ20,"MA")) -> 0 | D20: =IF(B20="","",COUNTIF(F20:AJ20,"CP")) -> 0 | E20: =IF(B20="","",COUNTIF(F20:AJ20,"RC")) -> 0
B21: =IF(Config!B14<>"",Config!B14,"") -> Employé 11 | C21: =IF(B21="","",COUNTIF(F21:AJ21,"MA")) -> 0 | D21: =IF(B21="","",COUNTIF(F21:AJ21,"CP")) -> 0 | E21: =IF(B21="","",COUNTIF(F21:AJ21,"RC")) -> 0
B22: =IF(Config!B15<>"",Config!B15,"") -> Employé 12 | C22: =IF(B22="","",COUNTIF(F22:AJ22,"MA")) -> 0 | D22: =IF(B22="","",COUNTIF(F22:AJ22,"CP")) -> 0 | E22: =IF(B22="","",COUNTIF(F22:AJ22,"RC")) -> 0
... B27: =IF(Config!B20<>"",Config!B20,"") -> Employé 17 | C27: =IF(B27="","",COUNTIF(F27:AJ27,"MA")) -> 0 | D27: =IF(B27="","",COUNTIF(F27:AJ27,"CP")) -> 0 | E27: =IF(B27="","",COUNTIF(F27:AJ27,"RC")) -> 0
F29: CP | G29: Vacances | L29: RC | M29: Récupération | R29: MA | S29: Maladie | Y29: Week-end
F31: ND | G31: Jour non décompté | L31: DR | M31: Demande de Repos | R31: CPA | S31: Congés Paternité | Y31: Jours Fériés
F33: CV | G33: Congé Validé | L33: NC | M33: Ne pas Changer

Sheet Octobre
A1: =Config!E15 -> 43374
A2: =Config!F15 -> 43404
F3: =A1 -> 43374 | G3: =F3+1 -> 43375 | H3: =G3+1 -> 43376 | I3: =H3+1 -> 43377 | J3: =I3+1 -> 43378 | K3: =J3+1 -> 43379 | L3: =K3+1 -> 43380 | M3: =L3+1 -> 43381 | N3: =M3+1 -> 43382 | ... AG3: =AF3+1 -> 43401 | AH3: =IFERROR(IF(AG3+1>A2,"",AG3+1),"") -> 43402 | AI3: =IFERROR(IF(AH3+1>A2,"",AH3+1),"") -> 43403 | AJ3: =IFERROR(IF(AI3+1>A2,"",AI3+1),"") -> 43404
B4: =TEXT(A1,"mmmmmmmmmmmmmm") -> octobre
F9: =DAY(F3) -> 1 | G9: =DAY(G3) -> 2 | H9: =DAY(H3) -> 3 | I9: =DAY(I3) -> 4 | J9: =DAY(J3) -> 5 | K9: =DAY(K3) -> 6 | L9: =DAY(L3) -> 7 | M9: =DAY(M3) -> 8 | ... AG9: =DAY(AG3) -> 28 | AH9: =IFERROR(DAY(AH3),"") -> 29 | AI9: =IFERROR(DAY(AI3),"") -> 30 | AJ9: =IFERROR(DAY(AJ3),"") -> 31
B10: EFFECTIF | C10: Maladie | D10: Vacances | E10: RC | F10: =IFERROR(WEEKDAY(F3),"") -> 2 | G10: =IFERROR(WEEKDAY(G3),"") -> 3 | H10: =IFERROR(WEEKDAY(H3),"") -> 4 | I10: =IFERROR(WEEKDAY(I3),"") -> 5 | J10: =IFERROR(WEEKDAY(J3),"") -> 6 | K10: =IFERROR(WEEKDAY(K3),"") -> 7 | L10: =IFERROR(WEEKDAY(L3),"") -> 1 | M10: =IFERROR(WEEKDAY(M3),"") -> 2 | ... AJ10: =IFERROR(WEEKDAY(AJ3),"") -> 4
B11: =IF(Config!B4<>"",Config!B4,"") -> Employé 1 | C11: =IF(B11="","",COUNTIF(F11:AJ11,"MA")) -> 0 | D11: =IF(B11="","",COUNTIF(F11:AJ11,"CP")) -> 0 | E11: =IF(B11="","",COUNTIF(F11:AJ11,"RC")) -> 0
B12: =IF(Config!B5<>"",Config!B5,"") -> Employé 2 | C12: =IF(B12="","",COUNTIF(F12:AJ12,"MA")) -> 0 | D12: =IF(B12="","",COUNTIF(F12:AJ12,"CP")) -> 0 | E12: =IF(B12="","",COUNTIF(F12:AJ12,"RC")) -> 0
B13: =IF(Config!B6<>"",Config!B6,"") -> Employé 3 | C13: =IF(B13="","",COUNTIF(F13:AJ13,"MA")) -> 0 | D13: =IF(B13="","",COUNTIF(F13:AJ13,"CP")) -> 0 | E13: =IF(B13="","",COUNTIF(F13:AJ13,"RC")) -> 0
B14: =IF(Config!B7<>"",Config!B7,"") -> Employé 4 | C14: =IF(B14="","",COUNTIF(F14:AJ14,"MA")) -> 0 | D14: =IF(B14="","",COUNTIF(F14:AJ14,"CP")) -> 0 | E14: =IF(B14="","",COUNTIF(F14:AJ14,"RC")) -> 0
B15: =IF(Config!B8<>"",Config!B8,"") -> Employé 5 | C15: =IF(B15="","",COUNTIF(F15:AJ15,"MA")) -> 0 | D15: =IF(B15="","",COUNTIF(F15:AJ15,"CP")) -> 0 | E15: =IF(B15="","",COUNTIF(F15:AJ15,"RC")) -> 0
B16: =IF(Config!B9<>"",Config!B9,"") -> Employé 6 | C16: =IF(B16="","",COUNTIF(F16:AJ16,"MA")) -> 0 | D16: =IF(B16="","",COUNTIF(F16:AJ16,"CP")) -> 0 | E16: =IF(B16="","",COUNTIF(F16:AJ16,"RC")) -> 0
B17: =IF(Config!B10<>"",Config!B10,"") -> Employé 7 | C17: =IF(B17="","",COUNTIF(F17:AJ17,"MA")) -> 0 | D17: =IF(B17="","",COUNTIF(F17:AJ17,"CP")) -> 0 | E17: =IF(B17="","",COUNTIF(F17:AJ17,"RC")) -> 0
B18: =IF(Config!B11<>"",Config!B11,"") -> Employé 8 | C18: =IF(B18="","",COUNTIF(F18:AJ18,"MA")) -> 0 | D18: =IF(B18="","",COUNTIF(F18:AJ18,"CP")) -> 0 | E18: =IF(B18="","",COUNTIF(F18:AJ18,"RC")) -> 0
B19: =IF(Config!B12<>"",Config!B12,"") -> Employé 9 | C19: =IF(B19="","",COUNTIF(F19:AJ19,"MA")) -> 0 | D19: =IF(B19="","",COUNTIF(F19:AJ19,"CP")) -> 0 | E19: =IF(B19="","",COUNTIF(F19:AJ19,"RC")) -> 0
B20: =IF(Config!B13<>"",Config!B13,"") -> Employé 10 | C20: =IF(B20="","",COUNTIF(F20:AJ20,"MA")) -> 0 | D20: =IF(B20="","",COUNTIF(F20:AJ20,"CP")) -> 0 | E20: =IF(B20="","",COUNTIF(F20:AJ20,"RC")) -> 0
B21: =IF(Config!B14<>"",Config!B14,"") -> Employé 11 | C21: =IF(B21="","",COUNTIF(F21:AJ21,"MA")) -> 0 | D21: =IF(B21="","",COUNTIF(F21:AJ21,"CP")) -> 0 | E21: =IF(B21="","",COUNTIF(F21:AJ21,"RC")) -> 0
B22: =IF(Config!B15<>"",Config!B15,"") -> Employé 12 | C22: =IF(B22="","",COUNTIF(F22:AJ22,"MA")) -> 0 | D22: =IF(B22="","",COUNTIF(F22:AJ22,"CP")) -> 0 | E22: =IF(B22="","",COUNTIF(F22:AJ22,"RC")) -> 0
... B27: =IF(Config!B20<>"",Config!B20,"") -> Employé 17 | C27: =IF(B27="","",COUNTIF(F27:AJ27,"MA")) -> 0 | D27: =IF(B27="","",COUNTIF(F27:AJ27,"CP")) -> 0 | E27: =IF(B27="","",COUNTIF(F27:AJ27,"RC")) -> 0
F29: CP | G29: Vacances | L29: RC | M29: Récupération | R29: MA | S29: Maladie | Y29: Week-end
F31: ND | G31: Jour non décompté | L31: DR | M31: Demande de Repos | R31: CPA | S31: Congés Paternité | Y31: Jours Fériés
F33: CV | G33: Congé Validé | L33: NC | M33: Ne pas Changer

Sheet Novembre
A1: =Config!E16 -> 43405
A2: =Config!F16 -> 43434
F3: =A1 -> 43405 | G3: =F3+1 -> 43406 | H3: =G3+1 -> 43407 | I3: =H3+1 -> 43408 | J3: =I3+1 -> 43409 | K3: =J3+1 -> 43410 | L3: =K3+1 -> 43411 | M3: =L3+1 -> 43412 | N3: =M3+1 -> 43413 | ... AG3: =AF3+1 -> 43432 | AH3: =IFERROR(IF(AG3+1>A2,"",AG3+1),"") -> 43433 | AI3: =IFERROR(IF(AH3+1>A2,"",AH3+1),"") -> 43434 | AJ3: =IFERROR(IF(AI3+1>A2,"",AI3+1),"")
B4: =TEXT(A1,"mmmmmmmmmmmmmm") -> novembre
F9: =DAY(F3) -> 1 | G9: =DAY(G3) -> 2 | H9: =DAY(H3) -> 3 | I9: =DAY(I3) -> 4 | J9: =DAY(J3) -> 5 | K9: =DAY(K3) -> 6 | L9: =DAY(L3) -> 7 | M9: =DAY(M3) -> 8 | ... AG9: =DAY(AG3) -> 28 | AH9: =IFERROR(DAY(AH3),"") -> 29 | AI9: =IFERROR(DAY(AI3),"") -> 30 | AJ9: =IFERROR(DAY(AJ3),"")
B10: EFFECTIF | C10: Maladie | D10: Vacances | E10: RC | F10: =IFERROR(WEEKDAY(F3),"") -> 5 | G10: =IFERROR(WEEKDAY(G3),"") -> 6 | H10: =IFERROR(WEEKDAY(H3),"") -> 7 | I10: =IFERROR(WEEKDAY(I3),"") -> 1 | J10: =IFERROR(WEEKDAY(J3),"") -> 2 | K10: =IFERROR(WEEKDAY(K3),"") -> 3 | L10: =IFERROR(WEEKDAY(L3),"") -> 4 | M10: =IFERROR(WEEKDAY(M3),"") -> 5 | ... AJ10: =IFERROR(WEEKDAY(AJ3),"")
B11: =IF(Config!B4<>"",Config!B4,"") -> Employé 1 | C11: =IF(B11="","",COUNTIF(F11:AJ11,"MA")) -> 0 | D11: =IF(B11="","",COUNTIF(F11:AJ11,"CP")) -> 0 | E11: =IF(B11="","",COUNTIF(F11:AJ11,"RC")) -> 0
B12: =IF(Config!B5<>"",Config!B5,"") -> Employé 2 | C12: =IF(B12="","",COUNTIF(F12:AJ12,"MA")) -> 0 | D12: =IF(B12="","",COUNTIF(F12:AJ12,"CP")) -> 0 | E12: =IF(B12="","",COUNTIF(F12:AJ12,"RC")) -> 0
B13: =IF(Config!B6<>"",Config!B6,"") -> Employé 3 | C13: =IF(B13="","",COUNTIF(F13:AJ13,"MA")) -> 0 | D13: =IF(B13="","",COUNTIF(F13:AJ13,"CP")) -> 0 | E13: =IF(B13="","",COUNTIF(F13:AJ13,"RC")) -> 0
B14: =IF(Config!B7<>"",Config!B7,"") -> Employé 4 | C14: =IF(B14="","",COUNTIF(F14:AJ14,"MA")) -> 0 | D14: =IF(B14="","",COUNTIF(F14:AJ14,"CP")) -> 0 | E14: =IF(B14="","",COUNTIF(F14:AJ14,"RC")) -> 0
B15: =IF(Config!B8<>"",Config!B8,"") -> Employé 5 | C15: =IF(B15="","",COUNTIF(F15:AJ15,"MA")) -> 0 | D15: =IF(B15="","",COUNTIF(F15:AJ15,"CP")) -> 0 | E15: =IF(B15="","",COUNTIF(F15:AJ15,"RC")) -> 0
B16: =IF(Config!B9<>"",Config!B9,"") -> Employé 6 | C16: =IF(B16="","",COUNTIF(F16:AJ16,"MA")) -> 0 | D16: =IF(B16="","",COUNTIF(F16:AJ16,"CP")) -> 0 | E16: =IF(B16="","",COUNTIF(F16:AJ16,"RC")) -> 0
B17: =IF(Config!B10<>"",Config!B10,"") -> Employé 7 | C17: =IF(B17="","",COUNTIF(F17:AJ17,"MA")) -> 0 | D17: =IF(B17="","",COUNTIF(F17:AJ17,"CP")) -> 0 | E17: =IF(B17="","",COUNTIF(F17:AJ17,"RC")) -> 0
B18: =IF(Config!B11<>"",Config!B11,"") -> Employé 8 | C18: =IF(B18="","",COUNTIF(F18:AJ18,"MA")) -> 0 | D18: =IF(B18="","",COUNTIF(F18:AJ18,"CP")) -> 0 | E18: =IF(B18="","",COUNTIF(F18:AJ18,"RC")) -> 0
B19: =IF(Config!B12<>"",Config!B12,"") -> Employé 9 | C19: =IF(B19="","",COUNTIF(F19:AJ19,"MA")) -> 0 | D19: =IF(B19="","",COUNTIF(F19:AJ19,"CP")) -> 0 | E19: =IF(B19="","",COUNTIF(F19:AJ19,"RC")) -> 0
B20: =IF(Config!B13<>"",Config!B13,"") -> Employé 10 | C20: =IF(B20="","",COUNTIF(F20:AJ20,"MA")) -> 0 | D20: =IF(B20="","",COUNTIF(F20:AJ20,"CP")) -> 0 | E20: =IF(B20="","",COUNTIF(F20:AJ20,"RC")) -> 0
B21: =IF(Config!B14<>"",Config!B14,"") -> Employé 11 | C21: =IF(B21="","",COUNTIF(F21:AJ21,"MA")) -> 0 | D21: =IF(B21="","",COUNTIF(F21:AJ21,"CP")) -> 0 | E21: =IF(B21="","",COUNTIF(F21:AJ21,"RC")) -> 0
B22: =IF(Config!B15<>"",Config!B15,"") -> Employé 12 | C22: =IF(B22="","",COUNTIF(F22:AJ22,"MA")) -> 0 | D22: =IF(B22="","",COUNTIF(F22:AJ22,"CP")) -> 0 | E22: =IF(B22="","",COUNTIF(F22:AJ22,"RC")) -> 0
... B27: =IF(Config!B20<>"",Config!B20,"") -> Employé 17 | C27: =IF(B27="","",COUNTIF(F27:AJ27,"MA")) -> 0 | D27: =IF(B27="","",COUNTIF(F27:AJ27,"CP")) -> 0 | E27: =IF(B27="","",COUNTIF(F27:AJ27,"RC")) -> 0
F29: CP | G29: Vacances | L29: RC | M29: Récupération | R29: MA | S29: Maladie | Y29: Week-end
F31: ND | G31: Jour non décompté | L31: DR | M31: Demande de Repos | R31: CPA | S31: Congés Paternité | Y31: Jours Fériés
F33: CV | G33: Congé Validé | L33: NC | M33: Ne pas Changer

Sheet Décembre
A1: =Config!E17 -> 43435
A2: =Config!F17 -> 43465
F3: =A1 -> 43435 | G3: =F3+1 -> 43436 | H3: =G3+1 -> 43437 | I3: =H3+1 -> 43438 | J3: =I3+1 -> 43439 | K3: =J3+1 -> 43440 | L3: =K3+1 -> 43441 | M3: =L3+1 -> 43442 | N3: =M3+1 -> 43443 | ... AG3: =AF3+1 -> 43462 | AH3: =IFERROR(IF(AG3+1>A2,"",AG3+1),"") -> 43463 | AI3: =IFERROR(IF(AH3+1>A2,"",AH3+1),"") -> 43464 | AJ3: =IFERROR(IF(AI3+1>A2,"",AI3+1),"") -> 43465
B4: =TEXT(A1,"mmmmmmmmmmmmmm") -> décembre
F9: =DAY(F3) -> 1 | G9: =DAY(G3) -> 2 | H9: =DAY(H3) -> 3 | I9: =DAY(I3) -> 4 | J9: =DAY(J3) -> 5 | K9: =DAY(K3) -> 6 | L9: =DAY(L3) -> 7 | M9: =DAY(M3) -> 8 | ... AG9: =DAY(AG3) -> 28 | AH9: =IFERROR(DAY(AH3),"") -> 29 | AI9: =IFERROR(DAY(AI3),"") -> 30 | AJ9: =IFERROR(DAY(AJ3),"") -> 31
B10: EFFECTIF | C10: Maladie | D10: Vacances | E10: RC | F10: =IFERROR(WEEKDAY(F3),"") -> 7 | G10: =IFERROR(WEEKDAY(G3),"") -> 1 | H10: =IFERROR(WEEKDAY(H3),"") -> 2 | I10: =IFERROR(WEEKDAY(I3),"") -> 3 | J10: =IFERROR(WEEKDAY(J3),"") -> 4 | K10: =IFERROR(WEEKDAY(K3),"") -> 5 | L10: =IFERROR(WEEKDAY(L3),"") -> 6 | M10: =IFERROR(WEEKDAY(M3),"") -> 7 | ... AJ10: =IFERROR(WEEKDAY(AJ3),"") -> 2
B11: =IF(Config!B4<>"",Config!B4,"") -> Employé 1 | C11: =IF(B11="","",COUNTIF(F11:AJ11,"MA")) -> 0 | D11: =IF(B11="","",COUNTIF(F11:AJ11,"CP")) -> 0 | E11: =IF(B11="","",COUNTIF(F11:AJ11,"RC")) -> 0
B12: =IF(Config!B5<>"",Config!B5,"") -> Employé 2 | C12: =IF(B12="","",COUNTIF(F12:AJ12,"MA")) -> 0 | D12: =IF(B12="","",COUNTIF(F12:AJ12,"CP")) -> 0 | E12: =IF(B12="","",COUNTIF(F12:AJ12,"RC")) -> 0
B13: =IF(Config!B6<>"",Config!B6,"") -> Employé 3 | C13: =IF(B13="","",COUNTIF(F13:AJ13,"MA")) -> 0 | D13: =IF(B13="","",COUNTIF(F13:AJ13,"CP")) -> 0 | E13: =IF(B13="","",COUNTIF(F13:AJ13,"RC")) -> 0
B14: =IF(Config!B7<>"",Config!B7,"") -> Employé 4 | C14: =IF(B14="","",COUNTIF(F14:AJ14,"MA")) -> 0 | D14: =IF(B14="","",COUNTIF(F14:AJ14,"CP")) -> 0 | E14: =IF(B14="","",COUNTIF(F14:AJ14,"RC")) -> 0
B15: =IF(Config!B8<>"",Config!B8,"") -> Employé 5 | C15: =IF(B15="","",COUNTIF(F15:AJ15,"MA")) -> 0 | D15: =IF(B15="","",COUNTIF(F15:AJ15,"CP")) -> 0 | E15: =IF(B15="","",COUNTIF(F15:AJ15,"RC")) -> 0
B16: =IF(Config!B9<>"",Config!B9,"") -> Employé 6 | C16: =IF(B16="","",COUNTIF(F16:AJ16,"MA")) -> 0 | D16: =IF(B16="","",COUNTIF(F16:AJ16,"CP")) -> 0 | E16: =IF(B16="","",COUNTIF(F16:AJ16,"RC")) -> 0
B17: =IF(Config!B10<>"",Config!B10,"") -> Employé 7 | C17: =IF(B17="","",COUNTIF(F17:AJ17,"MA")) -> 0 | D17: =IF(B17="","",COUNTIF(F17:AJ17,"CP")) -> 0 | E17: =IF(B17="","",COUNTIF(F17:AJ17,"RC")) -> 0
B18: =IF(Config!B11<>"",Config!B11,"") -> Employé 8 | C18: =IF(B18="","",COUNTIF(F18:AJ18,"MA")) -> 0 | D18: =IF(B18="","",COUNTIF(F18:AJ18,"CP")) -> 0 | E18: =IF(B18="","",COUNTIF(F18:AJ18,"RC")) -> 0
B19: =IF(Config!B12<>"",Config!B12,"") -> Employé 9 | C19: =IF(B19="","",COUNTIF(F19:AJ19,"MA")) -> 0 | D19: =IF(B19="","",COUNTIF(F19:AJ19,"CP")) -> 0 | E19: =IF(B19="","",COUNTIF(F19:AJ19,"RC")) -> 0
B20: =IF(Config!B13<>"",Config!B13,"") -> Employé 10 | C20: =IF(B20="","",COUNTIF(F20:AJ20,"MA")) -> 0 | D20: =IF(B20="","",COUNTIF(F20:AJ20,"CP")) -> 0 | E20: =IF(B20="","",COUNTIF(F20:AJ20,"RC")) -> 0
B21: =IF(Config!B14<>"",Config!B14,"") -> Employé 11 | C21: =IF(B21="","",COUNTIF(F21:AJ21,"MA")) -> 0 | D21: =IF(B21="","",COUNTIF(F21:AJ21,"CP")) -> 0 | E21: =IF(B21="","",COUNTIF(F21:AJ21,"RC")) -> 0
B22: =IF(Config!B15<>"",Config!B15,"") -> Employé 12 | C22: =IF(B22="","",COUNTIF(F22:AJ22,"MA")) -> 0 | D22: =IF(B22="","",COUNTIF(F22:AJ22,"CP")) -> 0 | E22: =IF(B22="","",COUNTIF(F22:AJ22,"RC")) -> 0
... B27: =IF(Config!B20<>"",Config!B20,"") -> Employé 17 | C27: =IF(B27="","",COUNTIF(F27:AJ27,"MA")) -> 0 | D27: =IF(B27="","",COUNTIF(F27:AJ27,"CP")) -> 0 | E27: =IF(B27="","",COUNTIF(F27:AJ27,"RC")) -> 0
F29: CP | G29: Vacances | L29: RC | M29: Récupération | R29: MA | S29: Maladie | Y29: Week-end
F31: ND | G31: Jour non décompté | L31: DR | M31: Demande de Repos | R31: CPA | S31: Congés Paternité | Y31: Jours Fériés
F33: CV | G33: Congé Validé | L33: NC | M33: Ne pas Changer
