Workbook

Sheet Devis
B10: DEVIS N°
B12: DATE : | D12: =NOW() -> 43319.583
B14: POSTE | C14: DESIGNATION | F14: QTE | H14: PU | I14: TOTAL HT
I15: =SUM(F15*H15) -> 0
I16: =SUM(F16*H16) -> 0
I17: =SUM(F17*H17) -> 0
I18: =SUM(F18*H18) -> 0
I19: =SUM(F19*H19) -> 0
I20: =SUM(F20*H20) -> 0
I21: =SUM(F21*H21) -> 0
I22: =SUM(F22*H22) -> 0
I23: =SUM(F23*H23) -> 0
I24: =SUM(F24*H24) -> 0
I25: =SUM(F25*H25) -> 0
I26: =SUM(F26*H26) -> 0
I27: =SUM(F27*H27) -> 0
F28: TOTAL HT | I28: =+SUM(I15:I27) -> 0
F29: TVA 20% | I29: =I28*20% -> 0
F30: TOTAL TTC | I30: =+I28+I29 -> 0
F31: ACOMPTE | I31: =I30*40% -> 0
F32: RESTE DU | I32: =I30-I31 -> 0

Sheet BL
E2: Enseigne, Totem, Vitrine
E3: Véhicule, Panneau Publicitaire
E4: Signalétique - Intérieure & Extérieure
E5: Impression Numérique, Textile, Broderie
E6: Création de site internet
B8: BL N° | D8: =YEAR(TODAY()) -> 2018 | G8: =Devis!G7 -> 0
B10: DEVIS N° | D10: =Devis!D10 -> 0
B12: DATE : | D12: =NOW() -> 43319.583
B14: VOS REF | D14: Cde Bureau
B16: NOS REF | D16: Devis N° | E16: =Devis!$D$10 -> 0
B18: POSTE | C18: DESIGNATION | I18: QUANTITE
B19: =Devis!B15 -> 0 | C19: =Devis!C15 -> 0 | I19: =Devis!$F$15 -> 0
B20: =Devis!B16 -> 0 | C20: =Devis!C16 -> 0 | I20: =Devis!$F$16 -> 0
B21: =Devis!B17 -> 0 | C21: =Devis!C17 -> 0 | I21: =Devis!$F$17 -> 0
B22: =Devis!B18 -> 0 | C22: =Devis!C18 -> 0 | I22: =Devis!$F$18 -> 0
B23: =Devis!B19 -> 0 | C23: =Devis!C19 -> 0 | I23: =Devis!$F$19 -> 0
B24: =Devis!B20 -> 0 | C24: =Devis!C20 -> 0 | I24: =Devis!$F$20 -> 0
B25: =Devis!B21 -> 0 | C25: =Devis!C21 -> 0 | I25: =Devis!$F$21 -> 0
B26: =Devis!B22 -> 0 | C26: =Devis!C22 -> 0 | I26: =Devis!$F$22 -> 0
B27: =Devis!B23 -> 0 | C27: =Devis!C23 -> 0 | I27: =Devis!$F$23 -> 0
B28: =Devis!B24 -> 0 | C28: =Devis!C24 -> 0 | I28: =Devis!$F$24 -> 0
B29: =Devis!B25 -> 0 | C29: =Devis!C25 -> 0 | I29: =Devis!$F$25 -> 0
B30: =Devis!B26 -> 0 | C30: =Devis!C26 -> 0 | I30: =Devis!$F$26 -> 0
B31: =Devis!B27 -> 0 | C31: =Devis!C27 -> 0 | I31: =Devis!$F$27 -> 0

Sheet Facture
B8: FACTURE | D8: =Devis!$D$10 -> 0 | G8: =Devis!G7 -> 0
B12: DATE : | D12: =NOW() -> 43319.583
B14: VOS REF | D14: Cde Bureau | E14: =BL!E14 -> 0
B16: NOS REF | D16: Devis N° | E16: =BL!$E$16 -> 0
B18: =Devis!B14 -> POSTE | C18: =Devis!C14 -> DESIGNATION | F18: =Devis!F14 -> QTE | H18: =Devis!H14 -> PU | I18: =Devis!I14 -> TOTAL HT
B19: =Devis!B15 -> 0 | C19: =Devis!C15 -> 0 | F19: =Devis!F15 -> 0 | H19: =Devis!H15 -> 0 | I19: =Devis!I15 -> 0
B20: =Devis!B16 -> 0 | C20: =Devis!C16 -> 0 | F20: =Devis!F16 -> 0 | H20: =Devis!H16 -> 0 | I20: =Devis!I16 -> 0
B21: =Devis!B17 -> 0 | C21: =Devis!C17 -> 0 | F21: =Devis!F17 -> 0 | H21: =Devis!H17 -> 0 | I21: =Devis!I17 -> 0
B22: =Devis!B18 -> 0 | C22: =Devis!C18 -> 0 | F22: =Devis!F18 -> 0 | H22: =Devis!H18 -> 0 | I22: =Devis!I18 -> 0
B23: =Devis!B19 -> 0 | C23: =Devis!C19 -> 0 | F23: =Devis!F19 -> 0 | H23: =Devis!H19 -> 0 | I23: =Devis!I19 -> 0
B24: =Devis!B20 -> 0 | C24: =Devis!C20 -> 0 | F24: =Devis!F20 -> 0 | H24: =Devis!H20 -> 0 | I24: =Devis!I20 -> 0
B25: =Devis!B21 -> 0 | C25: =Devis!C21 -> 0 | F25: =Devis!F21 -> 0 | H25: =Devis!H21 -> 0 | I25: =Devis!I21 -> 0
B26: =Devis!B22 -> 0 | C26: =Devis!C22 -> 0 | F26: =Devis!F22 -> 0 | H26: =Devis!H22 -> 0 | I26: =Devis!I22 -> 0
B27: =Devis!B23 -> 0 | C27: =Devis!C23 -> 0 | F27: =Devis!F23 -> 0 | H27: =Devis!H23 -> 0 | I27: =Devis!I23 -> 0
B28: =Devis!B24 -> 0 | C28: =Devis!C24 -> 0 | F28: =Devis!F24 -> 0 | H28: =Devis!H24 -> 0 | I28: =Devis!I24 -> 0
B29: =Devis!B25 -> 0 | C29: =Devis!C25 -> 0 | F29: =Devis!F25 -> 0 | H29: =Devis!H25 -> 0 | I29: =Devis!I25 -> 0
... B31: =Devis!B27 -> 0 | C31: =Devis!C27 -> 0 | F31: =Devis!F27 -> 0 | H31: =Devis!H27 -> 0 | I31: =Devis!I27 -> 0
B32: =Devis!B28 -> 0 | F32: =Devis!F28 -> TOTAL HT | I32: =Devis!I28 -> 0
B33: =Devis!B29 -> 0 | F33: =Devis!F29 -> TVA 20% | I33: =Devis!I29 -> 0
B34: =Devis!B30 -> 0 | F34: =Devis!F30 -> TOTAL TTC | I34: =Devis!I30 -> 0
B35: =Devis!B31 -> 0 | C35: =Devis!C31 -> 0 | D35: =Devis!D31 -> 0 | E35: =Devis!E31 -> 0
