Workbook

Sheet Calcul prix
A1: Calcul marge total
D2: Freight cost | E2: Freight cost
A3: Référence | B3: Weigt (kg) | C3: MSRP | D3: DPD | E3: LA POSTE
A4: 40405 | B4: 2.81 | C4: 69.99 | D4: =_xlfn.IFS(AND($B4>=0,$B4<='Tarif DPD'!$G$17),'Tarif DPD'!$H$17,AND($B4>='Tarif DPD'!$G$17,$B4<='Tarif DPD'!$G$18),'Tarif DPD'!$H$18,AND($B4>='Tarif DPD'!$G$18,$B4<='Tarif DPD'!$G$19),'Tarif DPD'!$H$19,AND($B4>='Tarif DPD'!$G$19,$B4<='Tarif DPD'!$G$20),'Tarif DPD'!$H$20,AND($B4>='Tarif DPD'!$G$20,$B4<='Tarif DPD'!$G$21),'Tarif DPD'!$H$21,AND($B4>='Tarif DPD'!$G$21,$B4<='Tarif DPD'!$G$22),'Tarif DPD'!$H$22,AND($B4>='Tarif DPD'!$G$22,$B4<='Tarif DPD'!$G$23),'Tarif DPD'!$H$23,AND($B4>='Tarif DPD'!$G$23,$B4<='Tarif DPD'!$G$24),'Tarif DPD'!$H$24,AND($B4>='Tarif DPD'!$G$24,$B4<='Tarif DPD'!$G$25),'Tarif DPD'!$H$25,AND($B4>='Tarif DPD'!$G$25,$B4<='Tarif DPD'!$G$26),'Tarif DPD'!$H$26,AND($B4>='Tarif DPD'!$G$26,$B4<='Tarif DPD'!$G$27),'Tarif DPD'!$H$27,AND($B4>='Tarif DPD'!$G$27,$B4<='Tarif DPD'!$G$28),'Tarif DPD'!$H$28,AND($B4>='Tarif DPD'!$G$28,$B4<='Tarif DPD'!$G$29),'Tarif DPD'!$H$29,AND($B4>='Tarif DPD'!$G$29,$B4<='Tarif DPD'!$G$30),'Tarif DPD'!$H$30,AND($B4>='Tarif DPD'!$G$30,$B4<='Tarif DPD'!$G$31),'Tarif DPD'!$H$31,AND($B4>='Tarif DPD'!$G$31,$B4<='Tarif DPD'!$G$32),'Tarif DPD'!$H$32,AND($B4>='Tarif DPD'!$G$32,$B4<='Tarif DPD'!$G$33),'Tarif DPD'!$H$33,AND($B4>='Tarif DPD'!$G$33,$B4<='Tarif DPD'!$G$34),'Tarif DPD'!$H$34,AND($B4>='Tarif DPD'!$G$34,$B4<='Tarif DPD'!$G$35),'Tarif DPD'!$H$35,AND($B4>='Tarif DPD'!$G$35,$B4<='Tarif DPD'!$G$36),'Tarif DPD'!$H$36,AND($B4>='Tarif DPD'!$G$36,$B4<='Tarif DPD'!$G$37),'Tarif DPD'!$H$37,AND($B4>='Tarif DPD'!$G$37,$B4<='Tarif DPD'!$G$38),'Tarif DPD'!$H$38,AND($B4>='Tarif DPD'!$G$38,$B4<='Tarif DPD'!$G$39),'Tarif DPD'!$H$39,AND($B4>='Tarif DPD'!$G$39,$B4<='Tarif DPD'!$G$40),'Tarif DPD'!$H$40,AND($B4>='Tarif DPD'!$G$40,$B4<='Tarif DPD'!$G$41),'Tarif DPD'!$H$41,AND($B4>='Tarif DPD'!$G$41,$B4<='Tarif DPD'!$G$42),'Tarif DPD'!$H$42,AND($B4>='Tarif DPD'!$G$42,$B4<='Tarif DPD'!$G$43),'Tarif DPD'!$H$43,AND($B4>='Tarif DPD'!$G$43,$B4<='Tarif DPD'!$G$44),'Tarif DPD'!$H$44,AND($B4>='Tarif DPD'!$G$44,$B4<='Tarif DPD'!$G$45),'Tarif DPD'!$H$45,AND($B4>='Tarif DPD'!$G$45,$B4<='Tarif DPD'!$G$46),'Tarif DPD'!$H$46,$B4>'Tarif DPD'!$G$46,"sur devis") -> #NAME? | E4: =_xlfn.IFS(AND($B4>=0,$B4<='Tarif Colissimo2'!$A$5),'Tarif Colissimo2'!$B$5,AND($B4>='Tarif Colissimo2'!$A$5,$B4<='Tarif Colissimo2'!$A$6),'Tarif Colissimo2'!$B$6,AND($B4>='Tarif Colissimo2'!$A$6,$B4<='Tarif Colissimo2'!$A$7),'Tarif Colissimo2'!$B$7,AND($B4>='Tarif Colissimo2'!$A$7,$B4<='Tarif Colissimo2'!$A$8),'Tarif Colissimo2'!$B$8,AND($B4>='Tarif Colissimo2'!$A$8,$B4<='Tarif Colissimo2'!$A$9),'Tarif Colissimo2'!$B$9,AND($B4>='Tarif Colissimo2'!$A$9,$B4<='Tarif Colissimo2'!$A$10),'Tarif Colissimo2'!$B$10,AND($B4>='Tarif Colissimo2'!$A$10,$B4<='Tarif Colissimo2'!$A$11),'Tarif Colissimo2'!$B$11,AND($B4>='Tarif Colissimo2'!$A$11,$B4<='Tarif Colissimo2'!$A$12),'Tarif Colissimo2'!$B$12,$B4>'Tarif Colissimo2'!A11,"Sur devis") -> #NAME?
A5: 45395 | B5: 0.2 | C5: 7.99 | D5: =_xlfn.IFS(AND($B5>=0,$B5<='Tarif DPD'!$G$17),'Tarif DPD'!$H$17,AND($B5>='Tarif DPD'!$G$17,$B5<='Tarif DPD'!$G$18),'Tarif DPD'!$H$18,AND($B5>='Tarif DPD'!$G$18,$B5<='Tarif DPD'!$G$19),'Tarif DPD'!$H$19,AND($B5>='Tarif DPD'!$G$19,$B5<='Tarif DPD'!$G$20),'Tarif DPD'!$H$20,AND($B5>='Tarif DPD'!$G$20,$B5<='Tarif DPD'!$G$21),'Tarif DPD'!$H$21,AND($B5>='Tarif DPD'!$G$21,$B5<='Tarif DPD'!$G$22),'Tarif DPD'!$H$22,AND($B5>='Tarif DPD'!$G$22,$B5<='Tarif DPD'!$G$23),'Tarif DPD'!$H$23,AND($B5>='Tarif DPD'!$G$23,$B5<='Tarif DPD'!$G$24),'Tarif DPD'!$H$24,AND($B5>='Tarif DPD'!$G$24,$B5<='Tarif DPD'!$G$25),'Tarif DPD'!$H$25,AND($B5>='Tarif DPD'!$G$25,$B5<='Tarif DPD'!$G$26),'Tarif DPD'!$H$26,AND($B5>='Tarif DPD'!$G$26,$B5<='Tarif DPD'!$G$27),'Tarif DPD'!$H$27,AND($B5>='Tarif DPD'!$G$27,$B5<='Tarif DPD'!$G$28),'Tarif DPD'!$H$28,AND($B5>='Tarif DPD'!$G$28,$B5<='Tarif DPD'!$G$29),'Tarif DPD'!$H$29,AND($B5>='Tarif DPD'!$G$29,$B5<='Tarif DPD'!$G$30),'Tarif DPD'!$H$30,AND($B5>='Tarif DPD'!$G$30,$B5<='Tarif DPD'!$G$31),'Tarif DPD'!$H$31,AND($B5>='Tarif DPD'!$G$31,$B5<='Tarif DPD'!$G$32),'Tarif DPD'!$H$32,AND($B5>='Tarif DPD'!$G$32,$B5<='Tarif DPD'!$G$33),'Tarif DPD'!$H$33,AND($B5>='Tarif DPD'!$G$33,$B5<='Tarif DPD'!$G$34),'Tarif DPD'!$H$34,AND($B5>='Tarif DPD'!$G$34,$B5<='Tarif DPD'!$G$35),'Tarif DPD'!$H$35,AND($B5>='Tarif DPD'!$G$35,$B5<='Tarif DPD'!$G$36),'Tarif DPD'!$H$36,AND($B5>='Tarif DPD'!$G$36,$B5<='Tarif DPD'!$G$37),'Tarif DPD'!$H$37,AND($B5>='Tarif DPD'!$G$37,$B5<='Tarif DPD'!$G$38),'Tarif DPD'!$H$38,AND($B5>='Tarif DPD'!$G$38,$B5<='Tarif DPD'!$G$39),'Tarif DPD'!$H$39,AND($B5>='Tarif DPD'!$G$39,$B5<='Tarif DPD'!$G$40),'Tarif DPD'!$H$40,AND($B5>='Tarif DPD'!$G$40,$B5<='Tarif DPD'!$G$41),'Tarif DPD'!$H$41,AND($B5>='Tarif DPD'!$G$41,$B5<='Tarif DPD'!$G$42),'Tarif DPD'!$H$42,AND($B5>='Tarif DPD'!$G$42,$B5<='Tarif DPD'!$G$43),'Tarif DPD'!$H$43,AND($B5>='Tarif DPD'!$G$43,$B5<='Tarif DPD'!$G$44),'Tarif DPD'!$H$44,AND($B5>='Tarif DPD'!$G$44,$B5<='Tarif DPD'!$G$45),'Tarif DPD'!$H$45,AND($B5>='Tarif DPD'!$G$45,$B5<='Tarif DPD'!$G$46),'Tarif DPD'!$H$46,$B5>'Tarif DPD'!$G$46,"sur devis") -> #NAME? | E5: =_xlfn.IFS(AND(B5>=0,B5<='Tarif Colissimo2'!$A$5),'Tarif Colissimo2'!$B$5,AND(B5>='Tarif Colissimo2'!$A$5,B5<='Tarif Colissimo2'!$A$6),'Tarif Colissimo2'!$B$6,AND(B5>='Tarif Colissimo2'!$A$6,B5<='Tarif Colissimo2'!$A$7),'Tarif Colissimo2'!$B$7,AND(B5>='Tarif Colissimo2'!$A$7,B5<='Tarif Colissimo2'!$A$8),'Tarif Colissimo2'!$B$8,AND(B5>='Tarif Colissimo2'!$A$8,B5<='Tarif Colissimo2'!$A$9),'Tarif Colissimo2'!$B$9,AND(B5>='Tarif Colissimo2'!$A$9,B5<='Tarif Colissimo2'!$A$10),'Tarif Colissimo2'!$B$10,AND(B5>='Tarif Colissimo2'!$A$10,B5<='Tarif Colissimo2'!$A$11),'Tarif Colissimo2'!$B$11,AND(B5>='Tarif Colissimo2'!$A$11,B5<='Tarif Colissimo2'!$A$12),'Tarif Colissimo2'!$B$12,B5>'Tarif Colissimo2'!A12,"Sur devis") -> #NAME?
A6: 45415 | B6: 0.73 | C6: 24.99 | D6: =_xlfn.IFS(AND($B6>=0,$B6<='Tarif DPD'!$G$17),'Tarif DPD'!$H$17,AND($B6>='Tarif DPD'!$G$17,$B6<='Tarif DPD'!$G$18),'Tarif DPD'!$H$18,AND($B6>='Tarif DPD'!$G$18,$B6<='Tarif DPD'!$G$19),'Tarif DPD'!$H$19,AND($B6>='Tarif DPD'!$G$19,$B6<='Tarif DPD'!$G$20),'Tarif DPD'!$H$20,AND($B6>='Tarif DPD'!$G$20,$B6<='Tarif DPD'!$G$21),'Tarif DPD'!$H$21,AND($B6>='Tarif DPD'!$G$21,$B6<='Tarif DPD'!$G$22),'Tarif DPD'!$H$22,AND($B6>='Tarif DPD'!$G$22,$B6<='Tarif DPD'!$G$23),'Tarif DPD'!$H$23,AND($B6>='Tarif DPD'!$G$23,$B6<='Tarif DPD'!$G$24),'Tarif DPD'!$H$24,AND($B6>='Tarif DPD'!$G$24,$B6<='Tarif DPD'!$G$25),'Tarif DPD'!$H$25,AND($B6>='Tarif DPD'!$G$25,$B6<='Tarif DPD'!$G$26),'Tarif DPD'!$H$26,AND($B6>='Tarif DPD'!$G$26,$B6<='Tarif DPD'!$G$27),'Tarif DPD'!$H$27,AND($B6>='Tarif DPD'!$G$27,$B6<='Tarif DPD'!$G$28),'Tarif DPD'!$H$28,AND($B6>='Tarif DPD'!$G$28,$B6<='Tarif DPD'!$G$29),'Tarif DPD'!$H$29,AND($B6>='Tarif DPD'!$G$29,$B6<='Tarif DPD'!$G$30),'Tarif DPD'!$H$30,AND($B6>='Tarif DPD'!$G$30,$B6<='Tarif DPD'!$G$31),'Tarif DPD'!$H$31,AND($B6>='Tarif DPD'!$G$31,$B6<='Tarif DPD'!$G$32),'Tarif DPD'!$H$32,AND($B6>='Tarif DPD'!$G$32,$B6<='Tarif DPD'!$G$33),'Tarif DPD'!$H$33,AND($B6>='Tarif DPD'!$G$33,$B6<='Tarif DPD'!$G$34),'Tarif DPD'!$H$34,AND($B6>='Tarif DPD'!$G$34,$B6<='Tarif DPD'!$G$35),'Tarif DPD'!$H$35,AND($B6>='Tarif DPD'!$G$35,$B6<='Tarif DPD'!$G$36),'Tarif DPD'!$H$36,AND($B6>='Tarif DPD'!$G$36,$B6<='Tarif DPD'!$G$37),'Tarif DPD'!$H$37,AND($B6>='Tarif DPD'!$G$37,$B6<='Tarif DPD'!$G$38),'Tarif DPD'!$H$38,AND($B6>='Tarif DPD'!$G$38,$B6<='Tarif DPD'!$G$39),'Tarif DPD'!$H$39,AND($B6>='Tarif DPD'!$G$39,$B6<='Tarif DPD'!$G$40),'Tarif DPD'!$H$40,AND($B6>='Tarif DPD'!$G$40,$B6<='Tarif DPD'!$G$41),'Tarif DPD'!$H$41,AND($B6>='Tarif DPD'!$G$41,$B6<='Tarif DPD'!$G$42),'Tarif DPD'!$H$42,AND($B6>='Tarif DPD'!$G$42,$B6<='Tarif DPD'!$G$43),'Tarif DPD'!$H$43,AND($B6>='Tarif DPD'!$G$43,$B6<='Tarif DPD'!$G$44),'Tarif DPD'!$H$44,AND($B6>='Tarif DPD'!$G$44,$B6<='Tarif DPD'!$G$45),'Tarif DPD'!$H$45,AND($B6>='Tarif DPD'!$G$45,$B6<='Tarif DPD'!$G$46),'Tarif DPD'!$H$46,$B6>'Tarif DPD'!$G$46,"sur devis") -> #NAME? | E6: =_xlfn.IFS(AND(B6>=0,B6<='Tarif Colissimo2'!$A$5),'Tarif Colissimo2'!$B$5,AND(B6>='Tarif Colissimo2'!$A$5,B6<='Tarif Colissimo2'!$A$6),'Tarif Colissimo2'!$B$6,AND(B6>='Tarif Colissimo2'!$A$6,B6<='Tarif Colissimo2'!$A$7),'Tarif Colissimo2'!$B$7,AND(B6>='Tarif Colissimo2'!$A$7,B6<='Tarif Colissimo2'!$A$8),'Tarif Colissimo2'!$B$8,AND(B6>='Tarif Colissimo2'!$A$8,B6<='Tarif Colissimo2'!$A$9),'Tarif Colissimo2'!$B$9,AND(B6>='Tarif Colissimo2'!$A$9,B6<='Tarif Colissimo2'!$A$10),'Tarif Colissimo2'!$B$10,AND(B6>='Tarif Colissimo2'!$A$10,B6<='Tarif Colissimo2'!$A$11),'Tarif Colissimo2'!$B$11,AND(B6>='Tarif Colissimo2'!$A$11,B6<='Tarif Colissimo2'!$A$12),'Tarif Colissimo2'!$B$12,B6>'Tarif Colissimo2'!A13,"Sur devis") -> #NAME?
A7: 48985 | B7: 0.91 | C7: 29.99 | D7: =_xlfn.IFS(AND($B7>=0,$B7<='Tarif DPD'!$G$17),'Tarif DPD'!$H$17,AND($B7>='Tarif DPD'!$G$17,$B7<='Tarif DPD'!$G$18),'Tarif DPD'!$H$18,AND($B7>='Tarif DPD'!$G$18,$B7<='Tarif DPD'!$G$19),'Tarif DPD'!$H$19,AND($B7>='Tarif DPD'!$G$19,$B7<='Tarif DPD'!$G$20),'Tarif DPD'!$H$20,AND($B7>='Tarif DPD'!$G$20,$B7<='Tarif DPD'!$G$21),'Tarif DPD'!$H$21,AND($B7>='Tarif DPD'!$G$21,$B7<='Tarif DPD'!$G$22),'Tarif DPD'!$H$22,AND($B7>='Tarif DPD'!$G$22,$B7<='Tarif DPD'!$G$23),'Tarif DPD'!$H$23,AND($B7>='Tarif DPD'!$G$23,$B7<='Tarif DPD'!$G$24),'Tarif DPD'!$H$24,AND($B7>='Tarif DPD'!$G$24,$B7<='Tarif DPD'!$G$25),'Tarif DPD'!$H$25,AND($B7>='Tarif DPD'!$G$25,$B7<='Tarif DPD'!$G$26),'Tarif DPD'!$H$26,AND($B7>='Tarif DPD'!$G$26,$B7<='Tarif DPD'!$G$27),'Tarif DPD'!$H$27,AND($B7>='Tarif DPD'!$G$27,$B7<='Tarif DPD'!$G$28),'Tarif DPD'!$H$28,AND($B7>='Tarif DPD'!$G$28,$B7<='Tarif DPD'!$G$29),'Tarif DPD'!$H$29,AND($B7>='Tarif DPD'!$G$29,$B7<='Tarif DPD'!$G$30),'Tarif DPD'!$H$30,AND($B7>='Tarif DPD'!$G$30,$B7<='Tarif DPD'!$G$31),'Tarif DPD'!$H$31,AND($B7>='Tarif DPD'!$G$31,$B7<='Tarif DPD'!$G$32),'Tarif DPD'!$H$32,AND($B7>='Tarif DPD'!$G$32,$B7<='Tarif DPD'!$G$33),'Tarif DPD'!$H$33,AND($B7>='Tarif DPD'!$G$33,$B7<='Tarif DPD'!$G$34),'Tarif DPD'!$H$34,AND($B7>='Tarif DPD'!$G$34,$B7<='Tarif DPD'!$G$35),'Tarif DPD'!$H$35,AND($B7>='Tarif DPD'!$G$35,$B7<='Tarif DPD'!$G$36),'Tarif DPD'!$H$36,AND($B7>='Tarif DPD'!$G$36,$B7<='Tarif DPD'!$G$37),'Tarif DPD'!$H$37,AND($B7>='Tarif DPD'!$G$37,$B7<='Tarif DPD'!$G$38),'Tarif DPD'!$H$38,AND($B7>='Tarif DPD'!$G$38,$B7<='Tarif DPD'!$G$39),'Tarif DPD'!$H$39,AND($B7>='Tarif DPD'!$G$39,$B7<='Tarif DPD'!$G$40),'Tarif DPD'!$H$40,AND($B7>='Tarif DPD'!$G$40,$B7<='Tarif DPD'!$G$41),'Tarif DPD'!$H$41,AND($B7>='Tarif DPD'!$G$41,$B7<='Tarif DPD'!$G$42),'Tarif DPD'!$H$42,AND($B7>='Tarif DPD'!$G$42,$B7<='Tarif DPD'!$G$43),'Tarif DPD'!$H$43,AND($B7>='Tarif DPD'!$G$43,$B7<='Tarif DPD'!$G$44),'Tarif DPD'!$H$44,AND($B7>='Tarif DPD'!$G$44,$B7<='Tarif DPD'!$G$45),'Tarif DPD'!$H$45,AND($B7>='Tarif DPD'!$G$45,$B7<='Tarif DPD'!$G$46),'Tarif DPD'!$H$46,$B7>'Tarif DPD'!$G$46,"sur devis") -> #NAME? | E7: =_xlfn.IFS(AND(B7>=0,B7<='Tarif Colissimo2'!$A$5),'Tarif Colissimo2'!$B$5,AND(B7>='Tarif Colissimo2'!$A$5,B7<='Tarif Colissimo2'!$A$6),'Tarif Colissimo2'!$B$6,AND(B7>='Tarif Colissimo2'!$A$6,B7<='Tarif Colissimo2'!$A$7),'Tarif Colissimo2'!$B$7,AND(B7>='Tarif Colissimo2'!$A$7,B7<='Tarif Colissimo2'!$A$8),'Tarif Colissimo2'!$B$8,AND(B7>='Tarif Colissimo2'!$A$8,B7<='Tarif Colissimo2'!$A$9),'Tarif Colissimo2'!$B$9,AND(B7>='Tarif Colissimo2'!$A$9,B7<='Tarif Colissimo2'!$A$10),'Tarif Colissimo2'!$B$10,AND(B7>='Tarif Colissimo2'!$A$10,B7<='Tarif Colissimo2'!$A$11),'Tarif Colissimo2'!$B$11,AND(B7>='Tarif Colissimo2'!$A$11,B7<='Tarif Colissimo2'!$A$12),'Tarif Colissimo2'!$B$12,B7>'Tarif Colissimo2'!A14,"Sur devis") -> #NAME?
A8: 50135 | B8: 1.96 | C8: 39.99 | D8: =_xlfn.IFS(AND($B8>=0,$B8<='Tarif DPD'!$G$17),'Tarif DPD'!$H$17,AND($B8>='Tarif DPD'!$G$17,$B8<='Tarif DPD'!$G$18),'Tarif DPD'!$H$18,AND($B8>='Tarif DPD'!$G$18,$B8<='Tarif DPD'!$G$19),'Tarif DPD'!$H$19,AND($B8>='Tarif DPD'!$G$19,$B8<='Tarif DPD'!$G$20),'Tarif DPD'!$H$20,AND($B8>='Tarif DPD'!$G$20,$B8<='Tarif DPD'!$G$21),'Tarif DPD'!$H$21,AND($B8>='Tarif DPD'!$G$21,$B8<='Tarif DPD'!$G$22),'Tarif DPD'!$H$22,AND($B8>='Tarif DPD'!$G$22,$B8<='Tarif DPD'!$G$23),'Tarif DPD'!$H$23,AND($B8>='Tarif DPD'!$G$23,$B8<='Tarif DPD'!$G$24),'Tarif DPD'!$H$24,AND($B8>='Tarif DPD'!$G$24,$B8<='Tarif DPD'!$G$25),'Tarif DPD'!$H$25,AND($B8>='Tarif DPD'!$G$25,$B8<='Tarif DPD'!$G$26),'Tarif DPD'!$H$26,AND($B8>='Tarif DPD'!$G$26,$B8<='Tarif DPD'!$G$27),'Tarif DPD'!$H$27,AND($B8>='Tarif DPD'!$G$27,$B8<='Tarif DPD'!$G$28),'Tarif DPD'!$H$28,AND($B8>='Tarif DPD'!$G$28,$B8<='Tarif DPD'!$G$29),'Tarif DPD'!$H$29,AND($B8>='Tarif DPD'!$G$29,$B8<='Tarif DPD'!$G$30),'Tarif DPD'!$H$30,AND($B8>='Tarif DPD'!$G$30,$B8<='Tarif DPD'!$G$31),'Tarif DPD'!$H$31,AND($B8>='Tarif DPD'!$G$31,$B8<='Tarif DPD'!$G$32),'Tarif DPD'!$H$32,AND($B8>='Tarif DPD'!$G$32,$B8<='Tarif DPD'!$G$33),'Tarif DPD'!$H$33,AND($B8>='Tarif DPD'!$G$33,$B8<='Tarif DPD'!$G$34),'Tarif DPD'!$H$34,AND($B8>='Tarif DPD'!$G$34,$B8<='Tarif DPD'!$G$35),'Tarif DPD'!$H$35,AND($B8>='Tarif DPD'!$G$35,$B8<='Tarif DPD'!$G$36),'Tarif DPD'!$H$36,AND($B8>='Tarif DPD'!$G$36,$B8<='Tarif DPD'!$G$37),'Tarif DPD'!$H$37,AND($B8>='Tarif DPD'!$G$37,$B8<='Tarif DPD'!$G$38),'Tarif DPD'!$H$38,AND($B8>='Tarif DPD'!$G$38,$B8<='Tarif DPD'!$G$39),'Tarif DPD'!$H$39,AND($B8>='Tarif DPD'!$G$39,$B8<='Tarif DPD'!$G$40),'Tarif DPD'!$H$40,AND($B8>='Tarif DPD'!$G$40,$B8<='Tarif DPD'!$G$41),'Tarif DPD'!$H$41,AND($B8>='Tarif DPD'!$G$41,$B8<='Tarif DPD'!$G$42),'Tarif DPD'!$H$42,AND($B8>='Tarif DPD'!$G$42,$B8<='Tarif DPD'!$G$43),'Tarif DPD'!$H$43,AND($B8>='Tarif DPD'!$G$43,$B8<='Tarif DPD'!$G$44),'Tarif DPD'!$H$44,AND($B8>='Tarif DPD'!$G$44,$B8<='Tarif DPD'!$G$45),'Tarif DPD'!$H$45,AND($B8>='Tarif DPD'!$G$45,$B8<='Tarif DPD'!$G$46),'Tarif DPD'!$H$46,$B8>'Tarif DPD'!$G$46,"sur devis") -> #NAME? | E8: =_xlfn.IFS(AND(B8>=0,B8<='Tarif Colissimo2'!$A$5),'Tarif Colissimo2'!$B$5,AND(B8>='Tarif Colissimo2'!$A$5,B8<='Tarif Colissimo2'!$A$6),'Tarif Colissimo2'!$B$6,AND(B8>='Tarif Colissimo2'!$A$6,B8<='Tarif Colissimo2'!$A$7),'Tarif Colissimo2'!$B$7,AND(B8>='Tarif Colissimo2'!$A$7,B8<='Tarif Colissimo2'!$A$8),'Tarif Colissimo2'!$B$8,AND(B8>='Tarif Colissimo2'!$A$8,B8<='Tarif Colissimo2'!$A$9),'Tarif Colissimo2'!$B$9,AND(B8>='Tarif Colissimo2'!$A$9,B8<='Tarif Colissimo2'!$A$10),'Tarif Colissimo2'!$B$10,AND(B8>='Tarif Colissimo2'!$A$10,B8<='Tarif Colissimo2'!$A$11),'Tarif Colissimo2'!$B$11,AND(B8>='Tarif Colissimo2'!$A$11,B8<='Tarif Colissimo2'!$A$12),'Tarif Colissimo2'!$B$12,B8>'Tarif Colissimo2'!A15,"Sur devis") -> #NAME?
A9: 50195 | B9: 1.53 | C9: 39.99 | D9: =_xlfn.IFS(AND($B9>=0,$B9<='Tarif DPD'!$G$17),'Tarif DPD'!$H$17,AND($B9>='Tarif DPD'!$G$17,$B9<='Tarif DPD'!$G$18),'Tarif DPD'!$H$18,AND($B9>='Tarif DPD'!$G$18,$B9<='Tarif DPD'!$G$19),'Tarif DPD'!$H$19,AND($B9>='Tarif DPD'!$G$19,$B9<='Tarif DPD'!$G$20),'Tarif DPD'!$H$20,AND($B9>='Tarif DPD'!$G$20,$B9<='Tarif DPD'!$G$21),'Tarif DPD'!$H$21,AND($B9>='Tarif DPD'!$G$21,$B9<='Tarif DPD'!$G$22),'Tarif DPD'!$H$22,AND($B9>='Tarif DPD'!$G$22,$B9<='Tarif DPD'!$G$23),'Tarif DPD'!$H$23,AND($B9>='Tarif DPD'!$G$23,$B9<='Tarif DPD'!$G$24),'Tarif DPD'!$H$24,AND($B9>='Tarif DPD'!$G$24,$B9<='Tarif DPD'!$G$25),'Tarif DPD'!$H$25,AND($B9>='Tarif DPD'!$G$25,$B9<='Tarif DPD'!$G$26),'Tarif DPD'!$H$26,AND($B9>='Tarif DPD'!$G$26,$B9<='Tarif DPD'!$G$27),'Tarif DPD'!$H$27,AND($B9>='Tarif DPD'!$G$27,$B9<='Tarif DPD'!$G$28),'Tarif DPD'!$H$28,AND($B9>='Tarif DPD'!$G$28,$B9<='Tarif DPD'!$G$29),'Tarif DPD'!$H$29,AND($B9>='Tarif DPD'!$G$29,$B9<='Tarif DPD'!$G$30),'Tarif DPD'!$H$30,AND($B9>='Tarif DPD'!$G$30,$B9<='Tarif DPD'!$G$31),'Tarif DPD'!$H$31,AND($B9>='Tarif DPD'!$G$31,$B9<='Tarif DPD'!$G$32),'Tarif DPD'!$H$32,AND($B9>='Tarif DPD'!$G$32,$B9<='Tarif DPD'!$G$33),'Tarif DPD'!$H$33,AND($B9>='Tarif DPD'!$G$33,$B9<='Tarif DPD'!$G$34),'Tarif DPD'!$H$34,AND($B9>='Tarif DPD'!$G$34,$B9<='Tarif DPD'!$G$35),'Tarif DPD'!$H$35,AND($B9>='Tarif DPD'!$G$35,$B9<='Tarif DPD'!$G$36),'Tarif DPD'!$H$36,AND($B9>='Tarif DPD'!$G$36,$B9<='Tarif DPD'!$G$37),'Tarif DPD'!$H$37,AND($B9>='Tarif DPD'!$G$37,$B9<='Tarif DPD'!$G$38),'Tarif DPD'!$H$38,AND($B9>='Tarif DPD'!$G$38,$B9<='Tarif DPD'!$G$39),'Tarif DPD'!$H$39,AND($B9>='Tarif DPD'!$G$39,$B9<='Tarif DPD'!$G$40),'Tarif DPD'!$H$40,AND($B9>='Tarif DPD'!$G$40,$B9<='Tarif DPD'!$G$41),'Tarif DPD'!$H$41,AND($B9>='Tarif DPD'!$G$41,$B9<='Tarif DPD'!$G$42),'Tarif DPD'!$H$42,AND($B9>='Tarif DPD'!$G$42,$B9<='Tarif DPD'!$G$43),'Tarif DPD'!$H$43,AND($B9>='Tarif DPD'!$G$43,$B9<='Tarif DPD'!$G$44),'Tarif DPD'!$H$44,AND($B9>='Tarif DPD'!$G$44,$B9<='Tarif DPD'!$G$45),'Tarif DPD'!$H$45,AND($B9>='Tarif DPD'!$G$45,$B9<='Tarif DPD'!$G$46),'Tarif DPD'!$H$46,$B9>'Tarif DPD'!$G$46,"sur devis") -> #NAME? | E9: =_xlfn.IFS(AND(B9>=0,B9<='Tarif Colissimo2'!$A$5),'Tarif Colissimo2'!$B$5,AND(B9>='Tarif Colissimo2'!$A$5,B9<='Tarif Colissimo2'!$A$6),'Tarif Colissimo2'!$B$6,AND(B9>='Tarif Colissimo2'!$A$6,B9<='Tarif Colissimo2'!$A$7),'Tarif Colissimo2'!$B$7,AND(B9>='Tarif Colissimo2'!$A$7,B9<='Tarif Colissimo2'!$A$8),'Tarif Colissimo2'!$B$8,AND(B9>='Tarif Colissimo2'!$A$8,B9<='Tarif Colissimo2'!$A$9),'Tarif Colissimo2'!$B$9,AND(B9>='Tarif Colissimo2'!$A$9,B9<='Tarif Colissimo2'!$A$10),'Tarif Colissimo2'!$B$10,AND(B9>='Tarif Colissimo2'!$A$10,B9<='Tarif Colissimo2'!$A$11),'Tarif Colissimo2'!$B$11,AND(B9>='Tarif Colissimo2'!$A$11,B9<='Tarif Colissimo2'!$A$12),'Tarif Colissimo2'!$B$12,B9>'Tarif Colissimo2'!A16,"Sur devis") -> #NAME?
A10: 50305 | B10: 1.51 | C10: 39.99 | D10: =_xlfn.IFS(AND($B10>=0,$B10<='Tarif DPD'!$G$17),'Tarif DPD'!$H$17,AND($B10>='Tarif DPD'!$G$17,$B10<='Tarif DPD'!$G$18),'Tarif DPD'!$H$18,AND($B10>='Tarif DPD'!$G$18,$B10<='Tarif DPD'!$G$19),'Tarif DPD'!$H$19,AND($B10>='Tarif DPD'!$G$19,$B10<='Tarif DPD'!$G$20),'Tarif DPD'!$H$20,AND($B10>='Tarif DPD'!$G$20,$B10<='Tarif DPD'!$G$21),'Tarif DPD'!$H$21,AND($B10>='Tarif DPD'!$G$21,$B10<='Tarif DPD'!$G$22),'Tarif DPD'!$H$22,AND($B10>='Tarif DPD'!$G$22,$B10<='Tarif DPD'!$G$23),'Tarif DPD'!$H$23,AND($B10>='Tarif DPD'!$G$23,$B10<='Tarif DPD'!$G$24),'Tarif DPD'!$H$24,AND($B10>='Tarif DPD'!$G$24,$B10<='Tarif DPD'!$G$25),'Tarif DPD'!$H$25,AND($B10>='Tarif DPD'!$G$25,$B10<='Tarif DPD'!$G$26),'Tarif DPD'!$H$26,AND($B10>='Tarif DPD'!$G$26,$B10<='Tarif DPD'!$G$27),'Tarif DPD'!$H$27,AND($B10>='Tarif DPD'!$G$27,$B10<='Tarif DPD'!$G$28),'Tarif DPD'!$H$28,AND($B10>='Tarif DPD'!$G$28,$B10<='Tarif DPD'!$G$29),'Tarif DPD'!$H$29,AND($B10>='Tarif DPD'!$G$29,$B10<='Tarif DPD'!$G$30),'Tarif DPD'!$H$30,AND($B10>='Tarif DPD'!$G$30,$B10<='Tarif DPD'!$G$31),'Tarif DPD'!$H$31,AND($B10>='Tarif DPD'!$G$31,$B10<='Tarif DPD'!$G$32),'Tarif DPD'!$H$32,AND($B10>='Tarif DPD'!$G$32,$B10<='Tarif DPD'!$G$33),'Tarif DPD'!$H$33,AND($B10>='Tarif DPD'!$G$33,$B10<='Tarif DPD'!$G$34),'Tarif DPD'!$H$34,AND($B10>='Tarif DPD'!$G$34,$B10<='Tarif DPD'!$G$35),'Tarif DPD'!$H$35,AND($B10>='Tarif DPD'!$G$35,$B10<='Tarif DPD'!$G$36),'Tarif DPD'!$H$36,AND($B10>='Tarif DPD'!$G$36,$B10<='Tarif DPD'!$G$37),'Tarif DPD'!$H$37,AND($B10>='Tarif DPD'!$G$37,$B10<='Tarif DPD'!$G$38),'Tarif DPD'!$H$38,AND($B10>='Tarif DPD'!$G$38,$B10<='Tarif DPD'!$G$39),'Tarif DPD'!$H$39,AND($B10>='Tarif DPD'!$G$39,$B10<='Tarif DPD'!$G$40),'Tarif DPD'!$H$40,AND($B10>='Tarif DPD'!$G$40,$B10<='Tarif DPD'!$G$41),'Tarif DPD'!$H$41,AND($B10>='Tarif DPD'!$G$41,$B10<='Tarif DPD'!$G$42),'Tarif DPD'!$H$42,AND($B10>='Tarif DPD'!$G$42,$B10<='Tarif DPD'!$G$43),'Tarif DPD'!$H$43,AND($B10>='Tarif DPD'!$G$43,$B10<='Tarif DPD'!$G$44),'Tarif DPD'!$H$44,AND($B10>='Tarif DPD'!$G$44,$B10<='Tarif DPD'!$G$45),'Tarif DPD'!$H$45,AND($B10>='Tarif DPD'!$G$45,$B10<='Tarif DPD'!$G$46),'Tarif DPD'!$H$46,$B10>'Tarif DPD'!$G$46,"sur devis") -> #NAME? | E10: =_xlfn.IFS(AND(B10>=0,B10<='Tarif Colissimo2'!$A$5),'Tarif Colissimo2'!$B$5,AND(B10>='Tarif Colissimo2'!$A$5,B10<='Tarif Colissimo2'!$A$6),'Tarif Colissimo2'!$B$6,AND(B10>='Tarif Colissimo2'!$A$6,B10<='Tarif Colissimo2'!$A$7),'Tarif Colissimo2'!$B$7,AND(B10>='Tarif Colissimo2'!$A$7,B10<='Tarif Colissimo2'!$A$8),'Tarif Colissimo2'!$B$8,AND(B10>='Tarif Colissimo2'!$A$8,B10<='Tarif Colissimo2'!$A$9),'Tarif Colissimo2'!$B$9,AND(B10>='Tarif Colissimo2'!$A$9,B10<='Tarif Colissimo2'!$A$10),'Tarif Colissimo2'!$B$10,AND(B10>='Tarif Colissimo2'!$A$10,B10<='Tarif Colissimo2'!$A$11),'Tarif Colissimo2'!$B$11,AND(B10>='Tarif Colissimo2'!$A$11,B10<='Tarif Colissimo2'!$A$12),'Tarif Colissimo2'!$B$12,B10>'Tarif Colissimo2'!A17,"Sur devis") -> #NAME?
A11: 50355 | B11: 0.65 | C11: 12.99 | D11: =_xlfn.IFS(AND($B11>=0,$B11<='Tarif DPD'!$G$17),'Tarif DPD'!$H$17,AND($B11>='Tarif DPD'!$G$17,$B11<='Tarif DPD'!$G$18),'Tarif DPD'!$H$18,AND($B11>='Tarif DPD'!$G$18,$B11<='Tarif DPD'!$G$19),'Tarif DPD'!$H$19,AND($B11>='Tarif DPD'!$G$19,$B11<='Tarif DPD'!$G$20),'Tarif DPD'!$H$20,AND($B11>='Tarif DPD'!$G$20,$B11<='Tarif DPD'!$G$21),'Tarif DPD'!$H$21,AND($B11>='Tarif DPD'!$G$21,$B11<='Tarif DPD'!$G$22),'Tarif DPD'!$H$22,AND($B11>='Tarif DPD'!$G$22,$B11<='Tarif DPD'!$G$23),'Tarif DPD'!$H$23,AND($B11>='Tarif DPD'!$G$23,$B11<='Tarif DPD'!$G$24),'Tarif DPD'!$H$24,AND($B11>='Tarif DPD'!$G$24,$B11<='Tarif DPD'!$G$25),'Tarif DPD'!$H$25,AND($B11>='Tarif DPD'!$G$25,$B11<='Tarif DPD'!$G$26),'Tarif DPD'!$H$26,AND($B11>='Tarif DPD'!$G$26,$B11<='Tarif DPD'!$G$27),'Tarif DPD'!$H$27,AND($B11>='Tarif DPD'!$G$27,$B11<='Tarif DPD'!$G$28),'Tarif DPD'!$H$28,AND($B11>='Tarif DPD'!$G$28,$B11<='Tarif DPD'!$G$29),'Tarif DPD'!$H$29,AND($B11>='Tarif DPD'!$G$29,$B11<='Tarif DPD'!$G$30),'Tarif DPD'!$H$30,AND($B11>='Tarif DPD'!$G$30,$B11<='Tarif DPD'!$G$31),'Tarif DPD'!$H$31,AND($B11>='Tarif DPD'!$G$31,$B11<='Tarif DPD'!$G$32),'Tarif DPD'!$H$32,AND($B11>='Tarif DPD'!$G$32,$B11<='Tarif DPD'!$G$33),'Tarif DPD'!$H$33,AND($B11>='Tarif DPD'!$G$33,$B11<='Tarif DPD'!$G$34),'Tarif DPD'!$H$34,AND($B11>='Tarif DPD'!$G$34,$B11<='Tarif DPD'!$G$35),'Tarif DPD'!$H$35,AND($B11>='Tarif DPD'!$G$35,$B11<='Tarif DPD'!$G$36),'Tarif DPD'!$H$36,AND($B11>='Tarif DPD'!$G$36,$B11<='Tarif DPD'!$G$37),'Tarif DPD'!$H$37,AND($B11>='Tarif DPD'!$G$37,$B11<='Tarif DPD'!$G$38),'Tarif DPD'!$H$38,AND($B11>='Tarif DPD'!$G$38,$B11<='Tarif DPD'!$G$39),'Tarif DPD'!$H$39,AND($B11>='Tarif DPD'!$G$39,$B11<='Tarif DPD'!$G$40),'Tarif DPD'!$H$40,AND($B11>='Tarif DPD'!$G$40,$B11<='Tarif DPD'!$G$41),'Tarif DPD'!$H$41,AND($B11>='Tarif DPD'!$G$41,$B11<='Tarif DPD'!$G$42),'Tarif DPD'!$H$42,AND($B11>='Tarif DPD'!$G$42,$B11<='Tarif DPD'!$G$43),'Tarif DPD'!$H$43,AND($B11>='Tarif DPD'!$G$43,$B11<='Tarif DPD'!$G$44),'Tarif DPD'!$H$44,AND($B11>='Tarif DPD'!$G$44,$B11<='Tarif DPD'!$G$45),'Tarif DPD'!$H$45,AND($B11>='Tarif DPD'!$G$45,$B11<='Tarif DPD'!$G$46),'Tarif DPD'!$H$46,$B11>'Tarif DPD'!$G$46,"sur devis") -> #NAME? | E11: =_xlfn.IFS(AND(B11>=0,B11<='Tarif Colissimo2'!$A$5),'Tarif Colissimo2'!$B$5,AND(B11>='Tarif Colissimo2'!$A$5,B11<='Tarif Colissimo2'!$A$6),'Tarif Colissimo2'!$B$6,AND(B11>='Tarif Colissimo2'!$A$6,B11<='Tarif Colissimo2'!$A$7),'Tarif Colissimo2'!$B$7,AND(B11>='Tarif Colissimo2'!$A$7,B11<='Tarif Colissimo2'!$A$8),'Tarif Colissimo2'!$B$8,AND(B11>='Tarif Colissimo2'!$A$8,B11<='Tarif Colissimo2'!$A$9),'Tarif Colissimo2'!$B$9,AND(B11>='Tarif Colissimo2'!$A$9,B11<='Tarif Colissimo2'!$A$10),'Tarif Colissimo2'!$B$10,AND(B11>='Tarif Colissimo2'!$A$10,B11<='Tarif Colissimo2'!$A$11),'Tarif Colissimo2'!$B$11,AND(B11>='Tarif Colissimo2'!$A$11,B11<='Tarif Colissimo2'!$A$12),'Tarif Colissimo2'!$B$12,B11>'Tarif Colissimo2'!A18,"Sur devis") -> #NAME?
A12: 50805 | B12: 0.43 | C12: 14.99 | D12: =_xlfn.IFS(AND($B12>=0,$B12<='Tarif DPD'!$G$17),'Tarif DPD'!$H$17,AND($B12>='Tarif DPD'!$G$17,$B12<='Tarif DPD'!$G$18),'Tarif DPD'!$H$18,AND($B12>='Tarif DPD'!$G$18,$B12<='Tarif DPD'!$G$19),'Tarif DPD'!$H$19,AND($B12>='Tarif DPD'!$G$19,$B12<='Tarif DPD'!$G$20),'Tarif DPD'!$H$20,AND($B12>='Tarif DPD'!$G$20,$B12<='Tarif DPD'!$G$21),'Tarif DPD'!$H$21,AND($B12>='Tarif DPD'!$G$21,$B12<='Tarif DPD'!$G$22),'Tarif DPD'!$H$22,AND($B12>='Tarif DPD'!$G$22,$B12<='Tarif DPD'!$G$23),'Tarif DPD'!$H$23,AND($B12>='Tarif DPD'!$G$23,$B12<='Tarif DPD'!$G$24),'Tarif DPD'!$H$24,AND($B12>='Tarif DPD'!$G$24,$B12<='Tarif DPD'!$G$25),'Tarif DPD'!$H$25,AND($B12>='Tarif DPD'!$G$25,$B12<='Tarif DPD'!$G$26),'Tarif DPD'!$H$26,AND($B12>='Tarif DPD'!$G$26,$B12<='Tarif DPD'!$G$27),'Tarif DPD'!$H$27,AND($B12>='Tarif DPD'!$G$27,$B12<='Tarif DPD'!$G$28),'Tarif DPD'!$H$28,AND($B12>='Tarif DPD'!$G$28,$B12<='Tarif DPD'!$G$29),'Tarif DPD'!$H$29,AND($B12>='Tarif DPD'!$G$29,$B12<='Tarif DPD'!$G$30),'Tarif DPD'!$H$30,AND($B12>='Tarif DPD'!$G$30,$B12<='Tarif DPD'!$G$31),'Tarif DPD'!$H$31,AND($B12>='Tarif DPD'!$G$31,$B12<='Tarif DPD'!$G$32),'Tarif DPD'!$H$32,AND($B12>='Tarif DPD'!$G$32,$B12<='Tarif DPD'!$G$33),'Tarif DPD'!$H$33,AND($B12>='Tarif DPD'!$G$33,$B12<='Tarif DPD'!$G$34),'Tarif DPD'!$H$34,AND($B12>='Tarif DPD'!$G$34,$B12<='Tarif DPD'!$G$35),'Tarif DPD'!$H$35,AND($B12>='Tarif DPD'!$G$35,$B12<='Tarif DPD'!$G$36),'Tarif DPD'!$H$36,AND($B12>='Tarif DPD'!$G$36,$B12<='Tarif DPD'!$G$37),'Tarif DPD'!$H$37,AND($B12>='Tarif DPD'!$G$37,$B12<='Tarif DPD'!$G$38),'Tarif DPD'!$H$38,AND($B12>='Tarif DPD'!$G$38,$B12<='Tarif DPD'!$G$39),'Tarif DPD'!$H$39,AND($B12>='Tarif DPD'!$G$39,$B12<='Tarif DPD'!$G$40),'Tarif DPD'!$H$40,AND($B12>='Tarif DPD'!$G$40,$B12<='Tarif DPD'!$G$41),'Tarif DPD'!$H$41,AND($B12>='Tarif DPD'!$G$41,$B12<='Tarif DPD'!$G$42),'Tarif DPD'!$H$42,AND($B12>='Tarif DPD'!$G$42,$B12<='Tarif DPD'!$G$43),'Tarif DPD'!$H$43,AND($B12>='Tarif DPD'!$G$43,$B12<='Tarif DPD'!$G$44),'Tarif DPD'!$H$44,AND($B12>='Tarif DPD'!$G$44,$B12<='Tarif DPD'!$G$45),'Tarif DPD'!$H$45,AND($B12>='Tarif DPD'!$G$45,$B12<='Tarif DPD'!$G$46),'Tarif DPD'!$H$46,$B12>'Tarif DPD'!$G$46,"sur devis") -> #NAME? | E12: =_xlfn.IFS(AND(B12>=0,B12<='Tarif Colissimo2'!$A$5),'Tarif Colissimo2'!$B$5,AND(B12>='Tarif Colissimo2'!$A$5,B12<='Tarif Colissimo2'!$A$6),'Tarif Colissimo2'!$B$6,AND(B12>='Tarif Colissimo2'!$A$6,B12<='Tarif Colissimo2'!$A$7),'Tarif Colissimo2'!$B$7,AND(B12>='Tarif Colissimo2'!$A$7,B12<='Tarif Colissimo2'!$A$8),'Tarif Colissimo2'!$B$8,AND(B12>='Tarif Colissimo2'!$A$8,B12<='Tarif Colissimo2'!$A$9),'Tarif Colissimo2'!$B$9,AND(B12>='Tarif Colissimo2'!$A$9,B12<='Tarif Colissimo2'!$A$10),'Tarif Colissimo2'!$B$10,AND(B12>='Tarif Colissimo2'!$A$10,B12<='Tarif Colissimo2'!$A$11),'Tarif Colissimo2'!$B$11,AND(B12>='Tarif Colissimo2'!$A$11,B12<='Tarif Colissimo2'!$A$12),'Tarif Colissimo2'!$B$12,B12>'Tarif Colissimo2'!A19,"Sur devis") -> #NAME?
A13: 50905 | B13: 0.82 | C13: 24.99 | D13: =_xlfn.IFS(AND($B13>=0,$B13<='Tarif DPD'!$G$17),'Tarif DPD'!$H$17,AND($B13>='Tarif DPD'!$G$17,$B13<='Tarif DPD'!$G$18),'Tarif DPD'!$H$18,AND($B13>='Tarif DPD'!$G$18,$B13<='Tarif DPD'!$G$19),'Tarif DPD'!$H$19,AND($B13>='Tarif DPD'!$G$19,$B13<='Tarif DPD'!$G$20),'Tarif DPD'!$H$20,AND($B13>='Tarif DPD'!$G$20,$B13<='Tarif DPD'!$G$21),'Tarif DPD'!$H$21,AND($B13>='Tarif DPD'!$G$21,$B13<='Tarif DPD'!$G$22),'Tarif DPD'!$H$22,AND($B13>='Tarif DPD'!$G$22,$B13<='Tarif DPD'!$G$23),'Tarif DPD'!$H$23,AND($B13>='Tarif DPD'!$G$23,$B13<='Tarif DPD'!$G$24),'Tarif DPD'!$H$24,AND($B13>='Tarif DPD'!$G$24,$B13<='Tarif DPD'!$G$25),'Tarif DPD'!$H$25,AND($B13>='Tarif DPD'!$G$25,$B13<='Tarif DPD'!$G$26),'Tarif DPD'!$H$26,AND($B13>='Tarif DPD'!$G$26,$B13<='Tarif DPD'!$G$27),'Tarif DPD'!$H$27,AND($B13>='Tarif DPD'!$G$27,$B13<='Tarif DPD'!$G$28),'Tarif DPD'!$H$28,AND($B13>='Tarif DPD'!$G$28,$B13<='Tarif DPD'!$G$29),'Tarif DPD'!$H$29,AND($B13>='Tarif DPD'!$G$29,$B13<='Tarif DPD'!$G$30),'Tarif DPD'!$H$30,AND($B13>='Tarif DPD'!$G$30,$B13<='Tarif DPD'!$G$31),'Tarif DPD'!$H$31,AND($B13>='Tarif DPD'!$G$31,$B13<='Tarif DPD'!$G$32),'Tarif DPD'!$H$32,AND($B13>='Tarif DPD'!$G$32,$B13<='Tarif DPD'!$G$33),'Tarif DPD'!$H$33,AND($B13>='Tarif DPD'!$G$33,$B13<='Tarif DPD'!$G$34),'Tarif DPD'!$H$34,AND($B13>='Tarif DPD'!$G$34,$B13<='Tarif DPD'!$G$35),'Tarif DPD'!$H$35,AND($B13>='Tarif DPD'!$G$35,$B13<='Tarif DPD'!$G$36),'Tarif DPD'!$H$36,AND($B13>='Tarif DPD'!$G$36,$B13<='Tarif DPD'!$G$37),'Tarif DPD'!$H$37,AND($B13>='Tarif DPD'!$G$37,$B13<='Tarif DPD'!$G$38),'Tarif DPD'!$H$38,AND($B13>='Tarif DPD'!$G$38,$B13<='Tarif DPD'!$G$39),'Tarif DPD'!$H$39,AND($B13>='Tarif DPD'!$G$39,$B13<='Tarif DPD'!$G$40),'Tarif DPD'!$H$40,AND($B13>='Tarif DPD'!$G$40,$B13<='Tarif DPD'!$G$41),'Tarif DPD'!$H$41,AND($B13>='Tarif DPD'!$G$41,$B13<='Tarif DPD'!$G$42),'Tarif DPD'!$H$42,AND($B13>='Tarif DPD'!$G$42,$B13<='Tarif DPD'!$G$43),'Tarif DPD'!$H$43,AND($B13>='Tarif DPD'!$G$43,$B13<='Tarif DPD'!$G$44),'Tarif DPD'!$H$44,AND($B13>='Tarif DPD'!$G$44,$B13<='Tarif DPD'!$G$45),'Tarif DPD'!$H$45,AND($B13>='Tarif DPD'!$G$45,$B13<='Tarif DPD'!$G$46),'Tarif DPD'!$H$46,$B13>'Tarif DPD'!$G$46,"sur devis") -> #NAME? | E13: =_xlfn.IFS(AND(B13>=0,B13<='Tarif Colissimo2'!$A$5),'Tarif Colissimo2'!$B$5,AND(B13>='Tarif Colissimo2'!$A$5,B13<='Tarif Colissimo2'!$A$6),'Tarif Colissimo2'!$B$6,AND(B13>='Tarif Colissimo2'!$A$6,B13<='Tarif Colissimo2'!$A$7),'Tarif Colissimo2'!$B$7,AND(B13>='Tarif Colissimo2'!$A$7,B13<='Tarif Colissimo2'!$A$8),'Tarif Colissimo2'!$B$8,AND(B13>='Tarif Colissimo2'!$A$8,B13<='Tarif Colissimo2'!$A$9),'Tarif Colissimo2'!$B$9,AND(B13>='Tarif Colissimo2'!$A$9,B13<='Tarif Colissimo2'!$A$10),'Tarif Colissimo2'!$B$10,AND(B13>='Tarif Colissimo2'!$A$10,B13<='Tarif Colissimo2'!$A$11),'Tarif Colissimo2'!$B$11,AND(B13>='Tarif Colissimo2'!$A$11,B13<='Tarif Colissimo2'!$A$12),'Tarif Colissimo2'!$B$12,B13>'Tarif Colissimo2'!A20,"Sur devis") -> #NAME?
A14: 50995 | B14: 0.76 | C14: 29.99 | D14: =_xlfn.IFS(AND($B14>=0,$B14<='Tarif DPD'!$G$17),'Tarif DPD'!$H$17,AND($B14>='Tarif DPD'!$G$17,$B14<='Tarif DPD'!$G$18),'Tarif DPD'!$H$18,AND($B14>='Tarif DPD'!$G$18,$B14<='Tarif DPD'!$G$19),'Tarif DPD'!$H$19,AND($B14>='Tarif DPD'!$G$19,$B14<='Tarif DPD'!$G$20),'Tarif DPD'!$H$20,AND($B14>='Tarif DPD'!$G$20,$B14<='Tarif DPD'!$G$21),'Tarif DPD'!$H$21,AND($B14>='Tarif DPD'!$G$21,$B14<='Tarif DPD'!$G$22),'Tarif DPD'!$H$22,AND($B14>='Tarif DPD'!$G$22,$B14<='Tarif DPD'!$G$23),'Tarif DPD'!$H$23,AND($B14>='Tarif DPD'!$G$23,$B14<='Tarif DPD'!$G$24),'Tarif DPD'!$H$24,AND($B14>='Tarif DPD'!$G$24,$B14<='Tarif DPD'!$G$25),'Tarif DPD'!$H$25,AND($B14>='Tarif DPD'!$G$25,$B14<='Tarif DPD'!$G$26),'Tarif DPD'!$H$26,AND($B14>='Tarif DPD'!$G$26,$B14<='Tarif DPD'!$G$27),'Tarif DPD'!$H$27,AND($B14>='Tarif DPD'!$G$27,$B14<='Tarif DPD'!$G$28),'Tarif DPD'!$H$28,AND($B14>='Tarif DPD'!$G$28,$B14<='Tarif DPD'!$G$29),'Tarif DPD'!$H$29,AND($B14>='Tarif DPD'!$G$29,$B14<='Tarif DPD'!$G$30),'Tarif DPD'!$H$30,AND($B14>='Tarif DPD'!$G$30,$B14<='Tarif DPD'!$G$31),'Tarif DPD'!$H$31,AND($B14>='Tarif DPD'!$G$31,$B14<='Tarif DPD'!$G$32),'Tarif DPD'!$H$32,AND($B14>='Tarif DPD'!$G$32,$B14<='Tarif DPD'!$G$33),'Tarif DPD'!$H$33,AND($B14>='Tarif DPD'!$G$33,$B14<='Tarif DPD'!$G$34),'Tarif DPD'!$H$34,AND($B14>='Tarif DPD'!$G$34,$B14<='Tarif DPD'!$G$35),'Tarif DPD'!$H$35,AND($B14>='Tarif DPD'!$G$35,$B14<='Tarif DPD'!$G$36),'Tarif DPD'!$H$36,AND($B14>='Tarif DPD'!$G$36,$B14<='Tarif DPD'!$G$37),'Tarif DPD'!$H$37,AND($B14>='Tarif DPD'!$G$37,$B14<='Tarif DPD'!$G$38),'Tarif DPD'!$H$38,AND($B14>='Tarif DPD'!$G$38,$B14<='Tarif DPD'!$G$39),'Tarif DPD'!$H$39,AND($B14>='Tarif DPD'!$G$39,$B14<='Tarif DPD'!$G$40),'Tarif DPD'!$H$40,AND($B14>='Tarif DPD'!$G$40,$B14<='Tarif DPD'!$G$41),'Tarif DPD'!$H$41,AND($B14>='Tarif DPD'!$G$41,$B14<='Tarif DPD'!$G$42),'Tarif DPD'!$H$42,AND($B14>='Tarif DPD'!$G$42,$B14<='Tarif DPD'!$G$43),'Tarif DPD'!$H$43,AND($B14>='Tarif DPD'!$G$43,$B14<='Tarif DPD'!$G$44),'Tarif DPD'!$H$44,AND($B14>='Tarif DPD'!$G$44,$B14<='Tarif DPD'!$G$45),'Tarif DPD'!$H$45,AND($B14>='Tarif DPD'!$G$45,$B14<='Tarif DPD'!$G$46),'Tarif DPD'!$H$46,$B14>'Tarif DPD'!$G$46,"sur devis") -> #NAME? | E14: =_xlfn.IFS(AND(B14>=0,B14<='Tarif Colissimo2'!$A$5),'Tarif Colissimo2'!$B$5,AND(B14>='Tarif Colissimo2'!$A$5,B14<='Tarif Colissimo2'!$A$6),'Tarif Colissimo2'!$B$6,AND(B14>='Tarif Colissimo2'!$A$6,B14<='Tarif Colissimo2'!$A$7),'Tarif Colissimo2'!$B$7,AND(B14>='Tarif Colissimo2'!$A$7,B14<='Tarif Colissimo2'!$A$8),'Tarif Colissimo2'!$B$8,AND(B14>='Tarif Colissimo2'!$A$8,B14<='Tarif Colissimo2'!$A$9),'Tarif Colissimo2'!$B$9,AND(B14>='Tarif Colissimo2'!$A$9,B14<='Tarif Colissimo2'!$A$10),'Tarif Colissimo2'!$B$10,AND(B14>='Tarif Colissimo2'!$A$10,B14<='Tarif Colissimo2'!$A$11),'Tarif Colissimo2'!$B$11,AND(B14>='Tarif Colissimo2'!$A$11,B14<='Tarif Colissimo2'!$A$12),'Tarif Colissimo2'!$B$12,B14>'Tarif Colissimo2'!A21,"Sur devis") -> #NAME?
A15: 51565 | B15: 1.59 | C15: 39.99 | D15: =_xlfn.IFS(AND($B15>=0,$B15<='Tarif DPD'!$G$17),'Tarif DPD'!$H$17,AND($B15>='Tarif DPD'!$G$17,$B15<='Tarif DPD'!$G$18),'Tarif DPD'!$H$18,AND($B15>='Tarif DPD'!$G$18,$B15<='Tarif DPD'!$G$19),'Tarif DPD'!$H$19,AND($B15>='Tarif DPD'!$G$19,$B15<='Tarif DPD'!$G$20),'Tarif DPD'!$H$20,AND($B15>='Tarif DPD'!$G$20,$B15<='Tarif DPD'!$G$21),'Tarif DPD'!$H$21,AND($B15>='Tarif DPD'!$G$21,$B15<='Tarif DPD'!$G$22),'Tarif DPD'!$H$22,AND($B15>='Tarif DPD'!$G$22,$B15<='Tarif DPD'!$G$23),'Tarif DPD'!$H$23,AND($B15>='Tarif DPD'!$G$23,$B15<='Tarif DPD'!$G$24),'Tarif DPD'!$H$24,AND($B15>='Tarif DPD'!$G$24,$B15<='Tarif DPD'!$G$25),'Tarif DPD'!$H$25,AND($B15>='Tarif DPD'!$G$25,$B15<='Tarif DPD'!$G$26),'Tarif DPD'!$H$26,AND($B15>='Tarif DPD'!$G$26,$B15<='Tarif DPD'!$G$27),'Tarif DPD'!$H$27,AND($B15>='Tarif DPD'!$G$27,$B15<='Tarif DPD'!$G$28),'Tarif DPD'!$H$28,AND($B15>='Tarif DPD'!$G$28,$B15<='Tarif DPD'!$G$29),'Tarif DPD'!$H$29,AND($B15>='Tarif DPD'!$G$29,$B15<='Tarif DPD'!$G$30),'Tarif DPD'!$H$30,AND($B15>='Tarif DPD'!$G$30,$B15<='Tarif DPD'!$G$31),'Tarif DPD'!$H$31,AND($B15>='Tarif DPD'!$G$31,$B15<='Tarif DPD'!$G$32),'Tarif DPD'!$H$32,AND($B15>='Tarif DPD'!$G$32,$B15<='Tarif DPD'!$G$33),'Tarif DPD'!$H$33,AND($B15>='Tarif DPD'!$G$33,$B15<='Tarif DPD'!$G$34),'Tarif DPD'!$H$34,AND($B15>='Tarif DPD'!$G$34,$B15<='Tarif DPD'!$G$35),'Tarif DPD'!$H$35,AND($B15>='Tarif DPD'!$G$35,$B15<='Tarif DPD'!$G$36),'Tarif DPD'!$H$36,AND($B15>='Tarif DPD'!$G$36,$B15<='Tarif DPD'!$G$37),'Tarif DPD'!$H$37,AND($B15>='Tarif DPD'!$G$37,$B15<='Tarif DPD'!$G$38),'Tarif DPD'!$H$38,AND($B15>='Tarif DPD'!$G$38,$B15<='Tarif DPD'!$G$39),'Tarif DPD'!$H$39,AND($B15>='Tarif DPD'!$G$39,$B15<='Tarif DPD'!$G$40),'Tarif DPD'!$H$40,AND($B15>='Tarif DPD'!$G$40,$B15<='Tarif DPD'!$G$41),'Tarif DPD'!$H$41,AND($B15>='Tarif DPD'!$G$41,$B15<='Tarif DPD'!$G$42),'Tarif DPD'!$H$42,AND($B15>='Tarif DPD'!$G$42,$B15<='Tarif DPD'!$G$43),'Tarif DPD'!$H$43,AND($B15>='Tarif DPD'!$G$43,$B15<='Tarif DPD'!$G$44),'Tarif DPD'!$H$44,AND($B15>='Tarif DPD'!$G$44,$B15<='Tarif DPD'!$G$45),'Tarif DPD'!$H$45,AND($B15>='Tarif DPD'!$G$45,$B15<='Tarif DPD'!$G$46),'Tarif DPD'!$H$46,$B15>'Tarif DPD'!$G$46,"sur devis") -> #NAME? | E15: =_xlfn.IFS(AND(B15>=0,B15<='Tarif Colissimo2'!$A$5),'Tarif Colissimo2'!$B$5,AND(B15>='Tarif Colissimo2'!$A$5,B15<='Tarif Colissimo2'!$A$6),'Tarif Colissimo2'!$B$6,AND(B15>='Tarif Colissimo2'!$A$6,B15<='Tarif Colissimo2'!$A$7),'Tarif Colissimo2'!$B$7,AND(B15>='Tarif Colissimo2'!$A$7,B15<='Tarif Colissimo2'!$A$8),'Tarif Colissimo2'!$B$8,AND(B15>='Tarif Colissimo2'!$A$8,B15<='Tarif Colissimo2'!$A$9),'Tarif Colissimo2'!$B$9,AND(B15>='Tarif Colissimo2'!$A$9,B15<='Tarif Colissimo2'!$A$10),'Tarif Colissimo2'!$B$10,AND(B15>='Tarif Colissimo2'!$A$10,B15<='Tarif Colissimo2'!$A$11),'Tarif Colissimo2'!$B$11,AND(B15>='Tarif Colissimo2'!$A$11,B15<='Tarif Colissimo2'!$A$12),'Tarif Colissimo2'!$B$12,B15>'Tarif Colissimo2'!A22,"Sur devis") -> #NAME?
A16: 52645 | B16: 1.12 | C16: 29.99 | D16: =_xlfn.IFS(AND($B16>=0,$B16<='Tarif DPD'!$G$17),'Tarif DPD'!$H$17,AND($B16>='Tarif DPD'!$G$17,$B16<='Tarif DPD'!$G$18),'Tarif DPD'!$H$18,AND($B16>='Tarif DPD'!$G$18,$B16<='Tarif DPD'!$G$19),'Tarif DPD'!$H$19,AND($B16>='Tarif DPD'!$G$19,$B16<='Tarif DPD'!$G$20),'Tarif DPD'!$H$20,AND($B16>='Tarif DPD'!$G$20,$B16<='Tarif DPD'!$G$21),'Tarif DPD'!$H$21,AND($B16>='Tarif DPD'!$G$21,$B16<='Tarif DPD'!$G$22),'Tarif DPD'!$H$22,AND($B16>='Tarif DPD'!$G$22,$B16<='Tarif DPD'!$G$23),'Tarif DPD'!$H$23,AND($B16>='Tarif DPD'!$G$23,$B16<='Tarif DPD'!$G$24),'Tarif DPD'!$H$24,AND($B16>='Tarif DPD'!$G$24,$B16<='Tarif DPD'!$G$25),'Tarif DPD'!$H$25,AND($B16>='Tarif DPD'!$G$25,$B16<='Tarif DPD'!$G$26),'Tarif DPD'!$H$26,AND($B16>='Tarif DPD'!$G$26,$B16<='Tarif DPD'!$G$27),'Tarif DPD'!$H$27,AND($B16>='Tarif DPD'!$G$27,$B16<='Tarif DPD'!$G$28),'Tarif DPD'!$H$28,AND($B16>='Tarif DPD'!$G$28,$B16<='Tarif DPD'!$G$29),'Tarif DPD'!$H$29,AND($B16>='Tarif DPD'!$G$29,$B16<='Tarif DPD'!$G$30),'Tarif DPD'!$H$30,AND($B16>='Tarif DPD'!$G$30,$B16<='Tarif DPD'!$G$31),'Tarif DPD'!$H$31,AND($B16>='Tarif DPD'!$G$31,$B16<='Tarif DPD'!$G$32),'Tarif DPD'!$H$32,AND($B16>='Tarif DPD'!$G$32,$B16<='Tarif DPD'!$G$33),'Tarif DPD'!$H$33,AND($B16>='Tarif DPD'!$G$33,$B16<='Tarif DPD'!$G$34),'Tarif DPD'!$H$34,AND($B16>='Tarif DPD'!$G$34,$B16<='Tarif DPD'!$G$35),'Tarif DPD'!$H$35,AND($B16>='Tarif DPD'!$G$35,$B16<='Tarif DPD'!$G$36),'Tarif DPD'!$H$36,AND($B16>='Tarif DPD'!$G$36,$B16<='Tarif DPD'!$G$37),'Tarif DPD'!$H$37,AND($B16>='Tarif DPD'!$G$37,$B16<='Tarif DPD'!$G$38),'Tarif DPD'!$H$38,AND($B16>='Tarif DPD'!$G$38,$B16<='Tarif DPD'!$G$39),'Tarif DPD'!$H$39,AND($B16>='Tarif DPD'!$G$39,$B16<='Tarif DPD'!$G$40),'Tarif DPD'!$H$40,AND($B16>='Tarif DPD'!$G$40,$B16<='Tarif DPD'!$G$41),'Tarif DPD'!$H$41,AND($B16>='Tarif DPD'!$G$41,$B16<='Tarif DPD'!$G$42),'Tarif DPD'!$H$42,AND($B16>='Tarif DPD'!$G$42,$B16<='Tarif DPD'!$G$43),'Tarif DPD'!$H$43,AND($B16>='Tarif DPD'!$G$43,$B16<='Tarif DPD'!$G$44),'Tarif DPD'!$H$44,AND($B16>='Tarif DPD'!$G$44,$B16<='Tarif DPD'!$G$45),'Tarif DPD'!$H$45,AND($B16>='Tarif DPD'!$G$45,$B16<='Tarif DPD'!$G$46),'Tarif DPD'!$H$46,$B16>'Tarif DPD'!$G$46,"sur devis") -> #NAME? | E16: =_xlfn.IFS(AND(B16>=0,B16<='Tarif Colissimo2'!$A$5),'Tarif Colissimo2'!$B$5,AND(B16>='Tarif Colissimo2'!$A$5,B16<='Tarif Colissimo2'!$A$6),'Tarif Colissimo2'!$B$6,AND(B16>='Tarif Colissimo2'!$A$6,B16<='Tarif Colissimo2'!$A$7),'Tarif Colissimo2'!$B$7,AND(B16>='Tarif Colissimo2'!$A$7,B16<='Tarif Colissimo2'!$A$8),'Tarif Colissimo2'!$B$8,AND(B16>='Tarif Colissimo2'!$A$8,B16<='Tarif Colissimo2'!$A$9),'Tarif Colissimo2'!$B$9,AND(B16>='Tarif Colissimo2'!$A$9,B16<='Tarif Colissimo2'!$A$10),'Tarif Colissimo2'!$B$10,AND(B16>='Tarif Colissimo2'!$A$10,B16<='Tarif Colissimo2'!$A$11),'Tarif Colissimo2'!$B$11,AND(B16>='Tarif Colissimo2'!$A$11,B16<='Tarif Colissimo2'!$A$12),'Tarif Colissimo2'!$B$12,B16>'Tarif Colissimo2'!A23,"Sur devis") -> #NAME?
... A19: 55150 | B19: 0.42 | C19: 9.99 | D19: =_xlfn.IFS(AND($B19>=0,$B19<='Tarif DPD'!$G$17),'Tarif DPD'!$H$17,AND($B19>='Tarif DPD'!$G$17,$B19<='Tarif DPD'!$G$18),'Tarif DPD'!$H$18,AND($B19>='Tarif DPD'!$G$18,$B19<='Tarif DPD'!$G$19),'Tarif DPD'!$H$19,AND($B19>='Tarif DPD'!$G$19,$B19<='Tarif DPD'!$G$20),'Tarif DPD'!$H$20,AND($B19>='Tarif DPD'!$G$20,$B19<='Tarif DPD'!$G$21),'Tarif DPD'!$H$21,AND($B19>='Tarif DPD'!$G$21,$B19<='Tarif DPD'!$G$22),'Tarif DPD'!$H$22,AND($B19>='Tarif DPD'!$G$22,$B19<='Tarif DPD'!$G$23),'Tarif DPD'!$H$23,AND($B19>='Tarif DPD'!$G$23,$B19<='Tarif DPD'!$G$24),'Tarif DPD'!$H$24,AND($B19>='Tarif DPD'!$G$24,$B19<='Tarif DPD'!$G$25),'Tarif DPD'!$H$25,AND($B19>='Tarif DPD'!$G$25,$B19<='Tarif DPD'!$G$26),'Tarif DPD'!$H$26,AND($B19>='Tarif DPD'!$G$26,$B19<='Tarif DPD'!$G$27),'Tarif DPD'!$H$27,AND($B19>='Tarif DPD'!$G$27,$B19<='Tarif DPD'!$G$28),'Tarif DPD'!$H$28,AND($B19>='Tarif DPD'!$G$28,$B19<='Tarif DPD'!$G$29),'Tarif DPD'!$H$29,AND($B19>='Tarif DPD'!$G$29,$B19<='Tarif DPD'!$G$30),'Tarif DPD'!$H$30,AND($B19>='Tarif DPD'!$G$30,$B19<='Tarif DPD'!$G$31),'Tarif DPD'!$H$31,AND($B19>='Tarif DPD'!$G$31,$B19<='Tarif DPD'!$G$32),'Tarif DPD'!$H$32,AND($B19>='Tarif DPD'!$G$32,$B19<='Tarif DPD'!$G$33),'Tarif DPD'!$H$33,AND($B19>='Tarif DPD'!$G$33,$B19<='Tarif DPD'!$G$34),'Tarif DPD'!$H$34,AND($B19>='Tarif DPD'!$G$34,$B19<='Tarif DPD'!$G$35),'Tarif DPD'!$H$35,AND($B19>='Tarif DPD'!$G$35,$B19<='Tarif DPD'!$G$36),'Tarif DPD'!$H$36,AND($B19>='Tarif DPD'!$G$36,$B19<='Tarif DPD'!$G$37),'Tarif DPD'!$H$37,AND($B19>='Tarif DPD'!$G$37,$B19<='Tarif DPD'!$G$38),'Tarif DPD'!$H$38,AND($B19>='Tarif DPD'!$G$38,$B19<='Tarif DPD'!$G$39),'Tarif DPD'!$H$39,AND($B19>='Tarif DPD'!$G$39,$B19<='Tarif DPD'!$G$40),'Tarif DPD'!$H$40,AND($B19>='Tarif DPD'!$G$40,$B19<='Tarif DPD'!$G$41),'Tarif DPD'!$H$41,AND($B19>='Tarif DPD'!$G$41,$B19<='Tarif DPD'!$G$42),'Tarif DPD'!$H$42,AND($B19>='Tarif DPD'!$G$42,$B19<='Tarif DPD'!$G$43),'Tarif DPD'!$H$43,AND($B19>='Tarif DPD'!$G$43,$B19<='Tarif DPD'!$G$44),'Tarif DPD'!$H$44,AND($B19>='Tarif DPD'!$G$44,$B19<='Tarif DPD'!$G$45),'Tarif DPD'!$H$45,AND($B19>='Tarif DPD'!$G$45,$B19<='Tarif DPD'!$G$46),'Tarif DPD'!$H$46,$B19>'Tarif DPD'!$G$46,"sur devis") -> #NAME? | E19: =_xlfn.IFS(AND(B19>=0,B19<='Tarif Colissimo2'!$A$5),'Tarif Colissimo2'!$B$5,AND(B19>='Tarif Colissimo2'!$A$5,B19<='Tarif Colissimo2'!$A$6),'Tarif Colissimo2'!$B$6,AND(B19>='Tarif Colissimo2'!$A$6,B19<='Tarif Colissimo2'!$A$7),'Tarif Colissimo2'!$B$7,AND(B19>='Tarif Colissimo2'!$A$7,B19<='Tarif Colissimo2'!$A$8),'Tarif Colissimo2'!$B$8,AND(B19>='Tarif Colissimo2'!$A$8,B19<='Tarif Colissimo2'!$A$9),'Tarif Colissimo2'!$B$9,AND(B19>='Tarif Colissimo2'!$A$9,B19<='Tarif Colissimo2'!$A$10),'Tarif Colissimo2'!$B$10,AND(B19>='Tarif Colissimo2'!$A$10,B19<='Tarif Colissimo2'!$A$11),'Tarif Colissimo2'!$B$11,AND(B19>='Tarif Colissimo2'!$A$11,B19<='Tarif Colissimo2'!$A$12),'Tarif Colissimo2'!$B$12,B19>'Tarif Colissimo2'!A26,"Sur devis") -> #NAME?
A20: AV-108 | B20: 0.24 | C20: 19.99 | D20: =_xlfn.IFS(AND($B20>=0,$B20<='Tarif DPD'!$G$17),'Tarif DPD'!$H$17,AND($B20>='Tarif DPD'!$G$17,$B20<='Tarif DPD'!$G$18),'Tarif DPD'!$H$18,AND($B20>='Tarif DPD'!$G$18,$B20<='Tarif DPD'!$G$19),'Tarif DPD'!$H$19,AND($B20>='Tarif DPD'!$G$19,$B20<='Tarif DPD'!$G$20),'Tarif DPD'!$H$20,AND($B20>='Tarif DPD'!$G$20,$B20<='Tarif DPD'!$G$21),'Tarif DPD'!$H$21,AND($B20>='Tarif DPD'!$G$21,$B20<='Tarif DPD'!$G$22),'Tarif DPD'!$H$22,AND($B20>='Tarif DPD'!$G$22,$B20<='Tarif DPD'!$G$23),'Tarif DPD'!$H$23,AND($B20>='Tarif DPD'!$G$23,$B20<='Tarif DPD'!$G$24),'Tarif DPD'!$H$24,AND($B20>='Tarif DPD'!$G$24,$B20<='Tarif DPD'!$G$25),'Tarif DPD'!$H$25,AND($B20>='Tarif DPD'!$G$25,$B20<='Tarif DPD'!$G$26),'Tarif DPD'!$H$26,AND($B20>='Tarif DPD'!$G$26,$B20<='Tarif DPD'!$G$27),'Tarif DPD'!$H$27,AND($B20>='Tarif DPD'!$G$27,$B20<='Tarif DPD'!$G$28),'Tarif DPD'!$H$28,AND($B20>='Tarif DPD'!$G$28,$B20<='Tarif DPD'!$G$29),'Tarif DPD'!$H$29,AND($B20>='Tarif DPD'!$G$29,$B20<='Tarif DPD'!$G$30),'Tarif DPD'!$H$30,AND($B20>='Tarif DPD'!$G$30,$B20<='Tarif DPD'!$G$31),'Tarif DPD'!$H$31,AND($B20>='Tarif DPD'!$G$31,$B20<='Tarif DPD'!$G$32),'Tarif DPD'!$H$32,AND($B20>='Tarif DPD'!$G$32,$B20<='Tarif DPD'!$G$33),'Tarif DPD'!$H$33,AND($B20>='Tarif DPD'!$G$33,$B20<='Tarif DPD'!$G$34),'Tarif DPD'!$H$34,AND($B20>='Tarif DPD'!$G$34,$B20<='Tarif DPD'!$G$35),'Tarif DPD'!$H$35,AND($B20>='Tarif DPD'!$G$35,$B20<='Tarif DPD'!$G$36),'Tarif DPD'!$H$36,AND($B20>='Tarif DPD'!$G$36,$B20<='Tarif DPD'!$G$37),'Tarif DPD'!$H$37,AND($B20>='Tarif DPD'!$G$37,$B20<='Tarif DPD'!$G$38),'Tarif DPD'!$H$38,AND($B20>='Tarif DPD'!$G$38,$B20<='Tarif DPD'!$G$39),'Tarif DPD'!$H$39,AND($B20>='Tarif DPD'!$G$39,$B20<='Tarif DPD'!$G$40),'Tarif DPD'!$H$40,AND($B20>='Tarif DPD'!$G$40,$B20<='Tarif DPD'!$G$41),'Tarif DPD'!$H$41,AND($B20>='Tarif DPD'!$G$41,$B20<='Tarif DPD'!$G$42),'Tarif DPD'!$H$42,AND($B20>='Tarif DPD'!$G$42,$B20<='Tarif DPD'!$G$43),'Tarif DPD'!$H$43,AND($B20>='Tarif DPD'!$G$43,$B20<='Tarif DPD'!$G$44),'Tarif DPD'!$H$44,AND($B20>='Tarif DPD'!$G$44,$B20<='Tarif DPD'!$G$45),'Tarif DPD'!$H$45,AND($B20>='Tarif DPD'!$G$45,$B20<='Tarif DPD'!$G$46),'Tarif DPD'!$H$46,$B20>'Tarif DPD'!$G$46,"sur devis") -> #NAME? | E20: =_xlfn.IFS(AND(B20>=0,B20<='Tarif Colissimo2'!$A$5),'Tarif Colissimo2'!$B$5,AND(B20>='Tarif Colissimo2'!$A$5,B20<='Tarif Colissimo2'!$A$6),'Tarif Colissimo2'!$B$6,AND(B20>='Tarif Colissimo2'!$A$6,B20<='Tarif Colissimo2'!$A$7),'Tarif Colissimo2'!$B$7,AND(B20>='Tarif Colissimo2'!$A$7,B20<='Tarif Colissimo2'!$A$8),'Tarif Colissimo2'!$B$8,AND(B20>='Tarif Colissimo2'!$A$8,B20<='Tarif Colissimo2'!$A$9),'Tarif Colissimo2'!$B$9,AND(B20>='Tarif Colissimo2'!$A$9,B20<='Tarif Colissimo2'!$A$10),'Tarif Colissimo2'!$B$10,AND(B20>='Tarif Colissimo2'!$A$10,B20<='Tarif Colissimo2'!$A$11),'Tarif Colissimo2'!$B$11,AND(B20>='Tarif Colissimo2'!$A$11,B20<='Tarif Colissimo2'!$A$12),'Tarif Colissimo2'!$B$12,B20>'Tarif Colissimo2'!A27,"Sur devis") -> #NAME?
A21: AV-136 | B21: 0.19 | C21: 19.99 | D21: =_xlfn.IFS(AND($B21>=0,$B21<='Tarif DPD'!$G$17),'Tarif DPD'!$H$17,AND($B21>='Tarif DPD'!$G$17,$B21<='Tarif DPD'!$G$18),'Tarif DPD'!$H$18,AND($B21>='Tarif DPD'!$G$18,$B21<='Tarif DPD'!$G$19),'Tarif DPD'!$H$19,AND($B21>='Tarif DPD'!$G$19,$B21<='Tarif DPD'!$G$20),'Tarif DPD'!$H$20,AND($B21>='Tarif DPD'!$G$20,$B21<='Tarif DPD'!$G$21),'Tarif DPD'!$H$21,AND($B21>='Tarif DPD'!$G$21,$B21<='Tarif DPD'!$G$22),'Tarif DPD'!$H$22,AND($B21>='Tarif DPD'!$G$22,$B21<='Tarif DPD'!$G$23),'Tarif DPD'!$H$23,AND($B21>='Tarif DPD'!$G$23,$B21<='Tarif DPD'!$G$24),'Tarif DPD'!$H$24,AND($B21>='Tarif DPD'!$G$24,$B21<='Tarif DPD'!$G$25),'Tarif DPD'!$H$25,AND($B21>='Tarif DPD'!$G$25,$B21<='Tarif DPD'!$G$26),'Tarif DPD'!$H$26,AND($B21>='Tarif DPD'!$G$26,$B21<='Tarif DPD'!$G$27),'Tarif DPD'!$H$27,AND($B21>='Tarif DPD'!$G$27,$B21<='Tarif DPD'!$G$28),'Tarif DPD'!$H$28,AND($B21>='Tarif DPD'!$G$28,$B21<='Tarif DPD'!$G$29),'Tarif DPD'!$H$29,AND($B21>='Tarif DPD'!$G$29,$B21<='Tarif DPD'!$G$30),'Tarif DPD'!$H$30,AND($B21>='Tarif DPD'!$G$30,$B21<='Tarif DPD'!$G$31),'Tarif DPD'!$H$31,AND($B21>='Tarif DPD'!$G$31,$B21<='Tarif DPD'!$G$32),'Tarif DPD'!$H$32,AND($B21>='Tarif DPD'!$G$32,$B21<='Tarif DPD'!$G$33),'Tarif DPD'!$H$33,AND($B21>='Tarif DPD'!$G$33,$B21<='Tarif DPD'!$G$34),'Tarif DPD'!$H$34,AND($B21>='Tarif DPD'!$G$34,$B21<='Tarif DPD'!$G$35),'Tarif DPD'!$H$35,AND($B21>='Tarif DPD'!$G$35,$B21<='Tarif DPD'!$G$36),'Tarif DPD'!$H$36,AND($B21>='Tarif DPD'!$G$36,$B21<='Tarif DPD'!$G$37),'Tarif DPD'!$H$37,AND($B21>='Tarif DPD'!$G$37,$B21<='Tarif DPD'!$G$38),'Tarif DPD'!$H$38,AND($B21>='Tarif DPD'!$G$38,$B21<='Tarif DPD'!$G$39),'Tarif DPD'!$H$39,AND($B21>='Tarif DPD'!$G$39,$B21<='Tarif DPD'!$G$40),'Tarif DPD'!$H$40,AND($B21>='Tarif DPD'!$G$40,$B21<='Tarif DPD'!$G$41),'Tarif DPD'!$H$41,AND($B21>='Tarif DPD'!$G$41,$B21<='Tarif DPD'!$G$42),'Tarif DPD'!$H$42,AND($B21>='Tarif DPD'!$G$42,$B21<='Tarif DPD'!$G$43),'Tarif DPD'!$H$43,AND($B21>='Tarif DPD'!$G$43,$B21<='Tarif DPD'!$G$44),'Tarif DPD'!$H$44,AND($B21>='Tarif DPD'!$G$44,$B21<='Tarif DPD'!$G$45),'Tarif DPD'!$H$45,AND($B21>='Tarif DPD'!$G$45,$B21<='Tarif DPD'!$G$46),'Tarif DPD'!$H$46,$B21>'Tarif DPD'!$G$46,"sur devis") -> #NAME? | E21: =_xlfn.IFS(AND(B21>=0,B21<='Tarif Colissimo2'!$A$5),'Tarif Colissimo2'!$B$5,AND(B21>='Tarif Colissimo2'!$A$5,B21<='Tarif Colissimo2'!$A$6),'Tarif Colissimo2'!$B$6,AND(B21>='Tarif Colissimo2'!$A$6,B21<='Tarif Colissimo2'!$A$7),'Tarif Colissimo2'!$B$7,AND(B21>='Tarif Colissimo2'!$A$7,B21<='Tarif Colissimo2'!$A$8),'Tarif Colissimo2'!$B$8,AND(B21>='Tarif Colissimo2'!$A$8,B21<='Tarif Colissimo2'!$A$9),'Tarif Colissimo2'!$B$9,AND(B21>='Tarif Colissimo2'!$A$9,B21<='Tarif Colissimo2'!$A$10),'Tarif Colissimo2'!$B$10,AND(B21>='Tarif Colissimo2'!$A$10,B21<='Tarif Colissimo2'!$A$11),'Tarif Colissimo2'!$B$11,AND(B21>='Tarif Colissimo2'!$A$11,B21<='Tarif Colissimo2'!$A$12),'Tarif Colissimo2'!$B$12,B21>'Tarif Colissimo2'!A28,"Sur devis") -> #NAME?
A22: AV-140 | B22: 0.2 | C22: 24.99 | D22: =_xlfn.IFS(AND($B22>=0,$B22<='Tarif DPD'!$G$17),'Tarif DPD'!$H$17,AND($B22>='Tarif DPD'!$G$17,$B22<='Tarif DPD'!$G$18),'Tarif DPD'!$H$18,AND($B22>='Tarif DPD'!$G$18,$B22<='Tarif DPD'!$G$19),'Tarif DPD'!$H$19,AND($B22>='Tarif DPD'!$G$19,$B22<='Tarif DPD'!$G$20),'Tarif DPD'!$H$20,AND($B22>='Tarif DPD'!$G$20,$B22<='Tarif DPD'!$G$21),'Tarif DPD'!$H$21,AND($B22>='Tarif DPD'!$G$21,$B22<='Tarif DPD'!$G$22),'Tarif DPD'!$H$22,AND($B22>='Tarif DPD'!$G$22,$B22<='Tarif DPD'!$G$23),'Tarif DPD'!$H$23,AND($B22>='Tarif DPD'!$G$23,$B22<='Tarif DPD'!$G$24),'Tarif DPD'!$H$24,AND($B22>='Tarif DPD'!$G$24,$B22<='Tarif DPD'!$G$25),'Tarif DPD'!$H$25,AND($B22>='Tarif DPD'!$G$25,$B22<='Tarif DPD'!$G$26),'Tarif DPD'!$H$26,AND($B22>='Tarif DPD'!$G$26,$B22<='Tarif DPD'!$G$27),'Tarif DPD'!$H$27,AND($B22>='Tarif DPD'!$G$27,$B22<='Tarif DPD'!$G$28),'Tarif DPD'!$H$28,AND($B22>='Tarif DPD'!$G$28,$B22<='Tarif DPD'!$G$29),'Tarif DPD'!$H$29,AND($B22>='Tarif DPD'!$G$29,$B22<='Tarif DPD'!$G$30),'Tarif DPD'!$H$30,AND($B22>='Tarif DPD'!$G$30,$B22<='Tarif DPD'!$G$31),'Tarif DPD'!$H$31,AND($B22>='Tarif DPD'!$G$31,$B22<='Tarif DPD'!$G$32),'Tarif DPD'!$H$32,AND($B22>='Tarif DPD'!$G$32,$B22<='Tarif DPD'!$G$33),'Tarif DPD'!$H$33,AND($B22>='Tarif DPD'!$G$33,$B22<='Tarif DPD'!$G$34),'Tarif DPD'!$H$34,AND($B22>='Tarif DPD'!$G$34,$B22<='Tarif DPD'!$G$35),'Tarif DPD'!$H$35,AND($B22>='Tarif DPD'!$G$35,$B22<='Tarif DPD'!$G$36),'Tarif DPD'!$H$36,AND($B22>='Tarif DPD'!$G$36,$B22<='Tarif DPD'!$G$37),'Tarif DPD'!$H$37,AND($B22>='Tarif DPD'!$G$37,$B22<='Tarif DPD'!$G$38),'Tarif DPD'!$H$38,AND($B22>='Tarif DPD'!$G$38,$B22<='Tarif DPD'!$G$39),'Tarif DPD'!$H$39,AND($B22>='Tarif DPD'!$G$39,$B22<='Tarif DPD'!$G$40),'Tarif DPD'!$H$40,AND($B22>='Tarif DPD'!$G$40,$B22<='Tarif DPD'!$G$41),'Tarif DPD'!$H$41,AND($B22>='Tarif DPD'!$G$41,$B22<='Tarif DPD'!$G$42),'Tarif DPD'!$H$42,AND($B22>='Tarif DPD'!$G$42,$B22<='Tarif DPD'!$G$43),'Tarif DPD'!$H$43,AND($B22>='Tarif DPD'!$G$43,$B22<='Tarif DPD'!$G$44),'Tarif DPD'!$H$44,AND($B22>='Tarif DPD'!$G$44,$B22<='Tarif DPD'!$G$45),'Tarif DPD'!$H$45,AND($B22>='Tarif DPD'!$G$45,$B22<='Tarif DPD'!$G$46),'Tarif DPD'!$H$46,$B22>'Tarif DPD'!$G$46,"sur devis") -> #NAME? | E22: =_xlfn.IFS(AND(B22>=0,B22<='Tarif Colissimo2'!$A$5),'Tarif Colissimo2'!$B$5,AND(B22>='Tarif Colissimo2'!$A$5,B22<='Tarif Colissimo2'!$A$6),'Tarif Colissimo2'!$B$6,AND(B22>='Tarif Colissimo2'!$A$6,B22<='Tarif Colissimo2'!$A$7),'Tarif Colissimo2'!$B$7,AND(B22>='Tarif Colissimo2'!$A$7,B22<='Tarif Colissimo2'!$A$8),'Tarif Colissimo2'!$B$8,AND(B22>='Tarif Colissimo2'!$A$8,B22<='Tarif Colissimo2'!$A$9),'Tarif Colissimo2'!$B$9,AND(B22>='Tarif Colissimo2'!$A$9,B22<='Tarif Colissimo2'!$A$10),'Tarif Colissimo2'!$B$10,AND(B22>='Tarif Colissimo2'!$A$10,B22<='Tarif Colissimo2'!$A$11),'Tarif Colissimo2'!$B$11,AND(B22>='Tarif Colissimo2'!$A$11,B22<='Tarif Colissimo2'!$A$12),'Tarif Colissimo2'!$B$12,B22>'Tarif Colissimo2'!A29,"Sur devis") -> #NAME?
A23: AV-174 | B23: 0.89 | C23: 49.99 | D23: =_xlfn.IFS(AND($B23>=0,$B23<='Tarif DPD'!$G$17),'Tarif DPD'!$H$17,AND($B23>='Tarif DPD'!$G$17,$B23<='Tarif DPD'!$G$18),'Tarif DPD'!$H$18,AND($B23>='Tarif DPD'!$G$18,$B23<='Tarif DPD'!$G$19),'Tarif DPD'!$H$19,AND($B23>='Tarif DPD'!$G$19,$B23<='Tarif DPD'!$G$20),'Tarif DPD'!$H$20,AND($B23>='Tarif DPD'!$G$20,$B23<='Tarif DPD'!$G$21),'Tarif DPD'!$H$21,AND($B23>='Tarif DPD'!$G$21,$B23<='Tarif DPD'!$G$22),'Tarif DPD'!$H$22,AND($B23>='Tarif DPD'!$G$22,$B23<='Tarif DPD'!$G$23),'Tarif DPD'!$H$23,AND($B23>='Tarif DPD'!$G$23,$B23<='Tarif DPD'!$G$24),'Tarif DPD'!$H$24,AND($B23>='Tarif DPD'!$G$24,$B23<='Tarif DPD'!$G$25),'Tarif DPD'!$H$25,AND($B23>='Tarif DPD'!$G$25,$B23<='Tarif DPD'!$G$26),'Tarif DPD'!$H$26,AND($B23>='Tarif DPD'!$G$26,$B23<='Tarif DPD'!$G$27),'Tarif DPD'!$H$27,AND($B23>='Tarif DPD'!$G$27,$B23<='Tarif DPD'!$G$28),'Tarif DPD'!$H$28,AND($B23>='Tarif DPD'!$G$28,$B23<='Tarif DPD'!$G$29),'Tarif DPD'!$H$29,AND($B23>='Tarif DPD'!$G$29,$B23<='Tarif DPD'!$G$30),'Tarif DPD'!$H$30,AND($B23>='Tarif DPD'!$G$30,$B23<='Tarif DPD'!$G$31),'Tarif DPD'!$H$31,AND($B23>='Tarif DPD'!$G$31,$B23<='Tarif DPD'!$G$32),'Tarif DPD'!$H$32,AND($B23>='Tarif DPD'!$G$32,$B23<='Tarif DPD'!$G$33),'Tarif DPD'!$H$33,AND($B23>='Tarif DPD'!$G$33,$B23<='Tarif DPD'!$G$34),'Tarif DPD'!$H$34,AND($B23>='Tarif DPD'!$G$34,$B23<='Tarif DPD'!$G$35),'Tarif DPD'!$H$35,AND($B23>='Tarif DPD'!$G$35,$B23<='Tarif DPD'!$G$36),'Tarif DPD'!$H$36,AND($B23>='Tarif DPD'!$G$36,$B23<='Tarif DPD'!$G$37),'Tarif DPD'!$H$37,AND($B23>='Tarif DPD'!$G$37,$B23<='Tarif DPD'!$G$38),'Tarif DPD'!$H$38,AND($B23>='Tarif DPD'!$G$38,$B23<='Tarif DPD'!$G$39),'Tarif DPD'!$H$39,AND($B23>='Tarif DPD'!$G$39,$B23<='Tarif DPD'!$G$40),'Tarif DPD'!$H$40,AND($B23>='Tarif DPD'!$G$40,$B23<='Tarif DPD'!$G$41),'Tarif DPD'!$H$41,AND($B23>='Tarif DPD'!$G$41,$B23<='Tarif DPD'!$G$42),'Tarif DPD'!$H$42,AND($B23>='Tarif DPD'!$G$42,$B23<='Tarif DPD'!$G$43),'Tarif DPD'!$H$43,AND($B23>='Tarif DPD'!$G$43,$B23<='Tarif DPD'!$G$44),'Tarif DPD'!$H$44,AND($B23>='Tarif DPD'!$G$44,$B23<='Tarif DPD'!$G$45),'Tarif DPD'!$H$45,AND($B23>='Tarif DPD'!$G$45,$B23<='Tarif DPD'!$G$46),'Tarif DPD'!$H$46,$B23>'Tarif DPD'!$G$46,"sur devis") -> #NAME? | E23: =_xlfn.IFS(AND(B23>=0,B23<='Tarif Colissimo2'!$A$5),'Tarif Colissimo2'!$B$5,AND(B23>='Tarif Colissimo2'!$A$5,B23<='Tarif Colissimo2'!$A$6),'Tarif Colissimo2'!$B$6,AND(B23>='Tarif Colissimo2'!$A$6,B23<='Tarif Colissimo2'!$A$7),'Tarif Colissimo2'!$B$7,AND(B23>='Tarif Colissimo2'!$A$7,B23<='Tarif Colissimo2'!$A$8),'Tarif Colissimo2'!$B$8,AND(B23>='Tarif Colissimo2'!$A$8,B23<='Tarif Colissimo2'!$A$9),'Tarif Colissimo2'!$B$9,AND(B23>='Tarif Colissimo2'!$A$9,B23<='Tarif Colissimo2'!$A$10),'Tarif Colissimo2'!$B$10,AND(B23>='Tarif Colissimo2'!$A$10,B23<='Tarif Colissimo2'!$A$11),'Tarif Colissimo2'!$B$11,AND(B23>='Tarif Colissimo2'!$A$11,B23<='Tarif Colissimo2'!$A$12),'Tarif Colissimo2'!$B$12,B23>'Tarif Colissimo2'!A30,"Sur devis") -> #NAME?
A24: AV-202 | B24: 0.28 | C24: 19.99 | D24: =_xlfn.IFS(AND($B24>=0,$B24<='Tarif DPD'!$G$17),'Tarif DPD'!$H$17,AND($B24>='Tarif DPD'!$G$17,$B24<='Tarif DPD'!$G$18),'Tarif DPD'!$H$18,AND($B24>='Tarif DPD'!$G$18,$B24<='Tarif DPD'!$G$19),'Tarif DPD'!$H$19,AND($B24>='Tarif DPD'!$G$19,$B24<='Tarif DPD'!$G$20),'Tarif DPD'!$H$20,AND($B24>='Tarif DPD'!$G$20,$B24<='Tarif DPD'!$G$21),'Tarif DPD'!$H$21,AND($B24>='Tarif DPD'!$G$21,$B24<='Tarif DPD'!$G$22),'Tarif DPD'!$H$22,AND($B24>='Tarif DPD'!$G$22,$B24<='Tarif DPD'!$G$23),'Tarif DPD'!$H$23,AND($B24>='Tarif DPD'!$G$23,$B24<='Tarif DPD'!$G$24),'Tarif DPD'!$H$24,AND($B24>='Tarif DPD'!$G$24,$B24<='Tarif DPD'!$G$25),'Tarif DPD'!$H$25,AND($B24>='Tarif DPD'!$G$25,$B24<='Tarif DPD'!$G$26),'Tarif DPD'!$H$26,AND($B24>='Tarif DPD'!$G$26,$B24<='Tarif DPD'!$G$27),'Tarif DPD'!$H$27,AND($B24>='Tarif DPD'!$G$27,$B24<='Tarif DPD'!$G$28),'Tarif DPD'!$H$28,AND($B24>='Tarif DPD'!$G$28,$B24<='Tarif DPD'!$G$29),'Tarif DPD'!$H$29,AND($B24>='Tarif DPD'!$G$29,$B24<='Tarif DPD'!$G$30),'Tarif DPD'!$H$30,AND($B24>='Tarif DPD'!$G$30,$B24<='Tarif DPD'!$G$31),'Tarif DPD'!$H$31,AND($B24>='Tarif DPD'!$G$31,$B24<='Tarif DPD'!$G$32),'Tarif DPD'!$H$32,AND($B24>='Tarif DPD'!$G$32,$B24<='Tarif DPD'!$G$33),'Tarif DPD'!$H$33,AND($B24>='Tarif DPD'!$G$33,$B24<='Tarif DPD'!$G$34),'Tarif DPD'!$H$34,AND($B24>='Tarif DPD'!$G$34,$B24<='Tarif DPD'!$G$35),'Tarif DPD'!$H$35,AND($B24>='Tarif DPD'!$G$35,$B24<='Tarif DPD'!$G$36),'Tarif DPD'!$H$36,AND($B24>='Tarif DPD'!$G$36,$B24<='Tarif DPD'!$G$37),'Tarif DPD'!$H$37,AND($B24>='Tarif DPD'!$G$37,$B24<='Tarif DPD'!$G$38),'Tarif DPD'!$H$38,AND($B24>='Tarif DPD'!$G$38,$B24<='Tarif DPD'!$G$39),'Tarif DPD'!$H$39,AND($B24>='Tarif DPD'!$G$39,$B24<='Tarif DPD'!$G$40),'Tarif DPD'!$H$40,AND($B24>='Tarif DPD'!$G$40,$B24<='Tarif DPD'!$G$41),'Tarif DPD'!$H$41,AND($B24>='Tarif DPD'!$G$41,$B24<='Tarif DPD'!$G$42),'Tarif DPD'!$H$42,AND($B24>='Tarif DPD'!$G$42,$B24<='Tarif DPD'!$G$43),'Tarif DPD'!$H$43,AND($B24>='Tarif DPD'!$G$43,$B24<='Tarif DPD'!$G$44),'Tarif DPD'!$H$44,AND($B24>='Tarif DPD'!$G$44,$B24<='Tarif DPD'!$G$45),'Tarif DPD'!$H$45,AND($B24>='Tarif DPD'!$G$45,$B24<='Tarif DPD'!$G$46),'Tarif DPD'!$H$46,$B24>'Tarif DPD'!$G$46,"sur devis") -> #NAME? | E24: =_xlfn.IFS(AND(B24>=0,B24<='Tarif Colissimo2'!$A$5),'Tarif Colissimo2'!$B$5,AND(B24>='Tarif Colissimo2'!$A$5,B24<='Tarif Colissimo2'!$A$6),'Tarif Colissimo2'!$B$6,AND(B24>='Tarif Colissimo2'!$A$6,B24<='Tarif Colissimo2'!$A$7),'Tarif Colissimo2'!$B$7,AND(B24>='Tarif Colissimo2'!$A$7,B24<='Tarif Colissimo2'!$A$8),'Tarif Colissimo2'!$B$8,AND(B24>='Tarif Colissimo2'!$A$8,B24<='Tarif Colissimo2'!$A$9),'Tarif Colissimo2'!$B$9,AND(B24>='Tarif Colissimo2'!$A$9,B24<='Tarif Colissimo2'!$A$10),'Tarif Colissimo2'!$B$10,AND(B24>='Tarif Colissimo2'!$A$10,B24<='Tarif Colissimo2'!$A$11),'Tarif Colissimo2'!$B$11,AND(B24>='Tarif Colissimo2'!$A$11,B24<='Tarif Colissimo2'!$A$12),'Tarif Colissimo2'!$B$12,B24>'Tarif Colissimo2'!A31,"Sur devis") -> #NAME?
A25: AV-216 | B25: 0.83 | C25: 39.99 | D25: =_xlfn.IFS(AND($B25>=0,$B25<='Tarif DPD'!$G$17),'Tarif DPD'!$H$17,AND($B25>='Tarif DPD'!$G$17,$B25<='Tarif DPD'!$G$18),'Tarif DPD'!$H$18,AND($B25>='Tarif DPD'!$G$18,$B25<='Tarif DPD'!$G$19),'Tarif DPD'!$H$19,AND($B25>='Tarif DPD'!$G$19,$B25<='Tarif DPD'!$G$20),'Tarif DPD'!$H$20,AND($B25>='Tarif DPD'!$G$20,$B25<='Tarif DPD'!$G$21),'Tarif DPD'!$H$21,AND($B25>='Tarif DPD'!$G$21,$B25<='Tarif DPD'!$G$22),'Tarif DPD'!$H$22,AND($B25>='Tarif DPD'!$G$22,$B25<='Tarif DPD'!$G$23),'Tarif DPD'!$H$23,AND($B25>='Tarif DPD'!$G$23,$B25<='Tarif DPD'!$G$24),'Tarif DPD'!$H$24,AND($B25>='Tarif DPD'!$G$24,$B25<='Tarif DPD'!$G$25),'Tarif DPD'!$H$25,AND($B25>='Tarif DPD'!$G$25,$B25<='Tarif DPD'!$G$26),'Tarif DPD'!$H$26,AND($B25>='Tarif DPD'!$G$26,$B25<='Tarif DPD'!$G$27),'Tarif DPD'!$H$27,AND($B25>='Tarif DPD'!$G$27,$B25<='Tarif DPD'!$G$28),'Tarif DPD'!$H$28,AND($B25>='Tarif DPD'!$G$28,$B25<='Tarif DPD'!$G$29),'Tarif DPD'!$H$29,AND($B25>='Tarif DPD'!$G$29,$B25<='Tarif DPD'!$G$30),'Tarif DPD'!$H$30,AND($B25>='Tarif DPD'!$G$30,$B25<='Tarif DPD'!$G$31),'Tarif DPD'!$H$31,AND($B25>='Tarif DPD'!$G$31,$B25<='Tarif DPD'!$G$32),'Tarif DPD'!$H$32,AND($B25>='Tarif DPD'!$G$32,$B25<='Tarif DPD'!$G$33),'Tarif DPD'!$H$33,AND($B25>='Tarif DPD'!$G$33,$B25<='Tarif DPD'!$G$34),'Tarif DPD'!$H$34,AND($B25>='Tarif DPD'!$G$34,$B25<='Tarif DPD'!$G$35),'Tarif DPD'!$H$35,AND($B25>='Tarif DPD'!$G$35,$B25<='Tarif DPD'!$G$36),'Tarif DPD'!$H$36,AND($B25>='Tarif DPD'!$G$36,$B25<='Tarif DPD'!$G$37),'Tarif DPD'!$H$37,AND($B25>='Tarif DPD'!$G$37,$B25<='Tarif DPD'!$G$38),'Tarif DPD'!$H$38,AND($B25>='Tarif DPD'!$G$38,$B25<='Tarif DPD'!$G$39),'Tarif DPD'!$H$39,AND($B25>='Tarif DPD'!$G$39,$B25<='Tarif DPD'!$G$40),'Tarif DPD'!$H$40,AND($B25>='Tarif DPD'!$G$40,$B25<='Tarif DPD'!$G$41),'Tarif DPD'!$H$41,AND($B25>='Tarif DPD'!$G$41,$B25<='Tarif DPD'!$G$42),'Tarif DPD'!$H$42,AND($B25>='Tarif DPD'!$G$42,$B25<='Tarif DPD'!$G$43),'Tarif DPD'!$H$43,AND($B25>='Tarif DPD'!$G$43,$B25<='Tarif DPD'!$G$44),'Tarif DPD'!$H$44,AND($B25>='Tarif DPD'!$G$44,$B25<='Tarif DPD'!$G$45),'Tarif DPD'!$H$45,AND($B25>='Tarif DPD'!$G$45,$B25<='Tarif DPD'!$G$46),'Tarif DPD'!$H$46,$B25>'Tarif DPD'!$G$46,"sur devis") -> #NAME? | E25: =_xlfn.IFS(AND(B25>=0,B25<='Tarif Colissimo2'!$A$5),'Tarif Colissimo2'!$B$5,AND(B25>='Tarif Colissimo2'!$A$5,B25<='Tarif Colissimo2'!$A$6),'Tarif Colissimo2'!$B$6,AND(B25>='Tarif Colissimo2'!$A$6,B25<='Tarif Colissimo2'!$A$7),'Tarif Colissimo2'!$B$7,AND(B25>='Tarif Colissimo2'!$A$7,B25<='Tarif Colissimo2'!$A$8),'Tarif Colissimo2'!$B$8,AND(B25>='Tarif Colissimo2'!$A$8,B25<='Tarif Colissimo2'!$A$9),'Tarif Colissimo2'!$B$9,AND(B25>='Tarif Colissimo2'!$A$9,B25<='Tarif Colissimo2'!$A$10),'Tarif Colissimo2'!$B$10,AND(B25>='Tarif Colissimo2'!$A$10,B25<='Tarif Colissimo2'!$A$11),'Tarif Colissimo2'!$B$11,AND(B25>='Tarif Colissimo2'!$A$11,B25<='Tarif Colissimo2'!$A$12),'Tarif Colissimo2'!$B$12,B25>'Tarif Colissimo2'!A32,"Sur devis") -> #NAME?
