Workbook

Sheet Demande de Prix
A1: DEMANDE DE PRIX MATERIELS 2018
A3: MACHINE | B3: CODE | C3: Model | D3: Caractéristique | E3: Quantité
A4: MACHINES | F4: Prix U Fournisseur 1 | G4: Prix Total Fournisseur 1 | H4: Prix U Fournisseur 2 | I4: Prix Total Fournisseur 2 | J4: Fournisseur 1 | K4: fournisseur2 | L4: PRIX MIN | M4: FOURNISSEUR CHOISI
A5: Ponçeuse à bande MAKITA | B5: 123 | E5: QU: 1 machine | F5: 351.9 | G5: 351.9 | J5: =G5 -> 351.9 | K5: =I5 -> 0 | L5: {=MIN(IF(J5:K5<>0,J5:K5))} -> 351.9 | M5: =INDEX($J$4:$K$4,1,MATCH(L5,J5:K5,0)) -> Fournisseur 1
A6: Cloueur MAKITA sans fil | B6: 456 | C6: 18V - LI 4AH | D6: Pointes : 15 à 50 mm | E6: QU: 2 machines | F6: 591.09 | G6: 1182.18 | J6: =G6 -> 1182.18 | K6: =I6 -> 0 | L6: {=MIN(IF(J6:K6<>0,J6:K6))} -> 1182.18 | M6: =INDEX($J$4:$K$4,1,MATCH(L6,J6:K6,0)) -> Fournisseur 1
A7: Cloueur MAKITA sans fil | B7: DPT351RMJ | C7: 18V - LI 4AH | D7: Pointes : 18-25-30-35 mm | E7: QU: 2 machines | F7: 402.4 | J7: =G7 -> 0 | K7: =I7 -> 0 | L7: {=MIN(IF(J7:K7<>0,J7:K7))} -> 0 | M7: =INDEX($J$4:$K$4,1,MATCH(L7,J7:K7,0)) -> Fournisseur 1
A8: Cloueur pointe en bande | C8: SN22-130 C | D8: Pointe en bande 20° SCAB ARCA | E8: QU: 1 machine | F8: 632.73 | J8: =G8 -> 0 | K8: =I8 -> 0 | L8: {=MIN(IF(J8:K8<>0,J8:K8))} -> 0 | M8: =INDEX($J$4:$K$4,1,MATCH(L8,J8:K8,0)) -> Fournisseur 1
A9: Cloueur pointe en bande | B9: 789 | C9: SN883 100 CH | D9: Pointe en bande 34° SCAB ARCA | E9: QU: 1 machine | F9: 423.35 | G9: 423.35 | J9: =G9 -> 423.35 | K9: =I9 -> 0 | L9: {=MIN(IF(J9:K9<>0,J9:K9))} -> 423.35 | M9: =INDEX($J$4:$K$4,1,MATCH(L9,J9:K9,0)) -> Fournisseur 1
A10: Fraiseuse domino FESTOOL | B10: 101 | C10: DF 700 EQ-PLUS | E10: QU: 1 machine | F10: 955.9 | G10: 955.9 | J10: =G10 -> 955.9 | K10: =I10 -> 0 | L10: {=MIN(IF(J10:K10<>0,J10:K10))} -> 955.9 | M10: =INDEX($J$4:$K$4,1,MATCH(L10,J10:K10,0)) -> Fournisseur 1
A11: Fraiseuse domino FESTOOL | B11: 213 | C11: DF 500 Q-PLUS | D11: 230V | E11: QU: 1 machine | F11: 691.17 | G11: 691.17 | H11: 649.94 | I11: 649.94 | J11: =G11 -> 691.17 | K11: =I11 -> 649.94 | L11: {=MIN(IF(J11:K11<>0,J11:K11))} -> 649.94 | M11: =INDEX($J$4:$K$4,1,MATCH(L11,J11:K11,0)) -> fournisseur2
A12: Percuteur sans fil Bosch | B12: 141 | C12: TE 6-A 2 batteries | E12: QU: 1 machine | H12: 689.02 | I12: 689.02 | J12: =G12 -> 0 | K12: =I12 -> 689.02 | L12: {=MIN(IF(J12:K12<>0,J12:K12))} -> 689.02 | M12: =INDEX($J$4:$K$4,1,MATCH(L12,J12:K12,0)) -> fournisseur2
A13: Perçeuse / visseuse BOSCH | B13: 516 | C13: GSR 18V + 2 LI 4,0Ah | E13: QU: 2 machines | F13: 300 | G13: 600 | J13: =G13 -> 600 | K13: =I13 -> 0 | L13: {=MIN(IF(J13:K13<>0,J13:K13))} -> 600 | M13: =INDEX($J$4:$K$4,1,MATCH(L13,J13:K13,0)) -> Fournisseur 1
A14: Perçeuse / visseuse FESTOOL | B14: 171 | C14: T18 + 3 LI 5,2Ah | E14: QU: 3 machines | F14: 419.5 | G14: 1258.5 | H14: 471.38 | I14: 1414.14 | J14: =G14 -> 1258.5 | K14: =I14 -> 1414.14 | L14: {=MIN(IF(J14:K14<>0,J14:K14))} -> 1258.5 | M14: =INDEX($J$4:$K$4,1,MATCH(L14,J14:K14,0)) -> Fournisseur 1
A15: Scie plongeante FESTOOL | B15: 819 | C15: TS55 REBQ-PLUS-FS | D15: 1200W D.160mm | E15: QU: 1 machine | F15: 485 | G15: 485 | H15: 453.15 | I15: 453.15 | J15: =G15 -> 485 | K15: =I15 -> 453.15 | L15: {=MIN(IF(J15:K15<>0,J15:K15))} -> 453.15 | M15: =INDEX($J$4:$K$4,1,MATCH(L15,J15:K15,0)) -> fournisseur2
A16: Scie sauteuse FESTOOL | B16: 202 | C16: PSB 300 EQ-PLUS | D16: 720W | E16: QU: 3 machines | F16: 254 | G16: 762 | H16: 239.59 | I16: 718.77 | J16: =G16 -> 762 | K16: =I16 -> 718.77 | L16: {=MIN(IF(J16:K16<>0,J16:K16))} -> 718.77 | M16: =INDEX($J$4:$K$4,1,MATCH(L16,J16:K16,0)) -> fournisseur2
A17: Scie radiale BOSCH | B17: 122 | C17: GCM 650-254 | D17: D.254MM | E17: QU: 2 machines | F17: 688.44 | G17: 1376.88 | J17: =G17 -> 1376.88 | K17: =I17 -> 0 | L17: {=MIN(IF(J17:K17<>0,J17:K17))} -> 1376.88 | M17: =INDEX($J$4:$K$4,1,MATCH(L17,J17:K17,0)) -> Fournisseur 1

Sheet Devis F1
A2: Machine | B2: Code article | C2: Modèle | D2: Quantité | E2: Caractéristique | F2: Prix U | G2: Prix T
A3: {=IFERROR(INDEX('Demande de Prix'!$A$1:$M$20,SMALL(IF('Demande de Prix'!$M$5:$M$20="Fournisseur 1",ROW('Demande de Prix'!$M$5:$M$20)),ROWS($1:1)),MATCH(A$2,'Demande de Prix'!$A$3:$E$3,0)),"")} -> Ponçeuse à bande MAKITA | B3: {=IFERROR(INDEX('Demande de Prix'!$A$1:$M$20,SMALL(IF('Demande de Prix'!$M$5:$M$20="Fournisseur 1",ROW('Demande de Prix'!$M$5:$M$20)),ROWS($1:1)),MATCH(B$2,'Demande de Prix'!$A$3:$E$3,0)),"")} | C3: {=IFERROR(INDEX('Demande de Prix'!$A$1:$M$20,SMALL(IF('Demande de Prix'!$M$5:$M$20="Fournisseur 1",ROW('Demande de Prix'!$M$5:$M$20)),ROWS($1:1)),MATCH(C$2,'Demande de Prix'!$A$3:$E$3,0)),"")} | D3: {=IFERROR(INDEX('Demande de Prix'!$A$1:$M$20,SMALL(IF('Demande de Prix'!$M$5:$M$20="Fournisseur 1",ROW('Demande de Prix'!$M$5:$M$20)),ROWS($1:1)),MATCH(D$2,'Demande de Prix'!$A$3:$E$3,0)),"")} -> QU: 1 machine | E3: {=IFERROR(INDEX('Demande de Prix'!$A$1:$M$20,SMALL(IF('Demande de Prix'!$M$5:$M$20="Fournisseur 1",ROW('Demande de Prix'!$M$5:$M$20)),ROWS($1:1)),MATCH(E$2,'Demande de Prix'!$A$3:$E$3,0)),"")} | F3: {=IFERROR(INDEX('Demande de Prix'!$A$1:$M$20,SMALL(IF('Demande de Prix'!$M$5:$M$20="Fournisseur 1",ROW('Demande de Prix'!$M$5:$M$20)),ROWS($1:1)),MATCH(F$2,'Demande de Prix'!$A$3:$E$3,0)),"")} | G3: {=IFERROR(INDEX('Demande de Prix'!$A$1:$M$20,SMALL(IF('Demande de Prix'!$M$5:$M$20="Fournisseur 1",ROW('Demande de Prix'!$M$5:$M$20)),ROWS($1:1)),MATCH(G$2,'Demande de Prix'!$A$3:$E$3,0)),"")} | H3: {=IFERROR(INDEX('Demande de Prix'!$A$1:$M$20,SMALL(IF('Demande de Prix'!$M$5:$M$20="Fournisseur 1",ROW('Demande de Prix'!$M$5:$M$20)),ROWS($1:1)),MATCH(H$2,'Demande de Prix'!$A$3:$E$3,0)),"")} | ... P3: {=IFERROR(INDEX('Demande de Prix'!$A$1:$M$20,SMALL(IF('Demande de Prix'!$M$5:$M$20="Fournisseur 1",ROW('Demande de Prix'!$M$5:$M$20)),ROWS($1:1)),MATCH(P$2,'Demande de Prix'!$A$3:$E$3,0)),"")}
A4: {=IFERROR(INDEX('Demande de Prix'!$A$1:$M$20,SMALL(IF('Demande de Prix'!$M$5:$M$20="Fournisseur 1",ROW('Demande de Prix'!$M$5:$M$20)),ROWS($1:2)),MATCH(A$2,'Demande de Prix'!$A$3:$E$3,0)),"")} -> Cloueur MAKITA sans fil | B4: {=IFERROR(INDEX('Demande de Prix'!$A$1:$M$20,SMALL(IF('Demande de Prix'!$M$5:$M$20="Fournisseur 1",ROW('Demande de Prix'!$M$5:$M$20)),ROWS($1:2)),MATCH(B$2,'Demande de Prix'!$A$3:$E$3,0)),"")} | C4: {=IFERROR(INDEX('Demande de Prix'!$A$1:$M$20,SMALL(IF('Demande de Prix'!$M$5:$M$20="Fournisseur 1",ROW('Demande de Prix'!$M$5:$M$20)),ROWS($1:2)),MATCH(C$2,'Demande de Prix'!$A$3:$E$3,0)),"")} | D4: {=IFERROR(INDEX('Demande de Prix'!$A$1:$M$20,SMALL(IF('Demande de Prix'!$M$5:$M$20="Fournisseur 1",ROW('Demande de Prix'!$M$5:$M$20)),ROWS($1:2)),MATCH(D$2,'Demande de Prix'!$A$3:$E$3,0)),"")} -> QU: 2 machines | E4: {=IFERROR(INDEX('Demande de Prix'!$A$1:$M$20,SMALL(IF('Demande de Prix'!$M$5:$M$20="Fournisseur 1",ROW('Demande de Prix'!$M$5:$M$20)),ROWS($1:2)),MATCH(E$2,'Demande de Prix'!$A$3:$E$3,0)),"")} | F4: {=IFERROR(INDEX('Demande de Prix'!$A$1:$M$20,SMALL(IF('Demande de Prix'!$M$5:$M$20="Fournisseur 1",ROW('Demande de Prix'!$M$5:$M$20)),ROWS($1:2)),MATCH(F$2,'Demande de Prix'!$A$3:$E$3,0)),"")} | G4: {=IFERROR(INDEX('Demande de Prix'!$A$1:$M$20,SMALL(IF('Demande de Prix'!$M$5:$M$20="Fournisseur 1",ROW('Demande de Prix'!$M$5:$M$20)),ROWS($1:2)),MATCH(G$2,'Demande de Prix'!$A$3:$E$3,0)),"")} | H4: {=IFERROR(INDEX('Demande de Prix'!$A$1:$M$20,SMALL(IF('Demande de Prix'!$M$5:$M$20="Fournisseur 1",ROW('Demande de Prix'!$M$5:$M$20)),ROWS($1:2)),MATCH(H$2,'Demande de Prix'!$A$3:$E$3,0)),"")} | I4: {=IFERROR(INDEX('Demande de Prix'!$A$1:$M$20,SMALL(IF('Demande de Prix'!$M$5:$M$20="Fournisseur 1",ROW('Demande de Prix'!$M$5:$M$20)),ROWS($1:2)),MATCH(I$2,'Demande de Prix'!$A$3:$E$3,0)),"")}
A5: {=IFERROR(INDEX('Demande de Prix'!$A$1:$M$20,SMALL(IF('Demande de Prix'!$M$5:$M$20="Fournisseur 1",ROW('Demande de Prix'!$M$5:$M$20)),ROWS($1:3)),MATCH(A$2,'Demande de Prix'!$A$3:$E$3,0)),"")} -> Cloueur MAKITA sans fil | B5: {=IFERROR(INDEX('Demande de Prix'!$A$1:$M$20,SMALL(IF('Demande de Prix'!$M$5:$M$20="Fournisseur 1",ROW('Demande de Prix'!$M$5:$M$20)),ROWS($1:3)),MATCH(B$2,'Demande de Prix'!$A$3:$E$3,0)),"")} | C5: {=IFERROR(INDEX('Demande de Prix'!$A$1:$M$20,SMALL(IF('Demande de Prix'!$M$5:$M$20="Fournisseur 1",ROW('Demande de Prix'!$M$5:$M$20)),ROWS($1:3)),MATCH(C$2,'Demande de Prix'!$A$3:$E$3,0)),"")} | D5: {=IFERROR(INDEX('Demande de Prix'!$A$1:$M$20,SMALL(IF('Demande de Prix'!$M$5:$M$20="Fournisseur 1",ROW('Demande de Prix'!$M$5:$M$20)),ROWS($1:3)),MATCH(D$2,'Demande de Prix'!$A$3:$E$3,0)),"")} -> QU: 2 machines | E5: {=IFERROR(INDEX('Demande de Prix'!$A$1:$M$20,SMALL(IF('Demande de Prix'!$M$5:$M$20="Fournisseur 1",ROW('Demande de Prix'!$M$5:$M$20)),ROWS($1:3)),MATCH(E$2,'Demande de Prix'!$A$3:$E$3,0)),"")} | F5: {=IFERROR(INDEX('Demande de Prix'!$A$1:$M$20,SMALL(IF('Demande de Prix'!$M$5:$M$20="Fournisseur 1",ROW('Demande de Prix'!$M$5:$M$20)),ROWS($1:3)),MATCH(F$2,'Demande de Prix'!$A$3:$E$3,0)),"")} | G5: {=IFERROR(INDEX('Demande de Prix'!$A$1:$M$20,SMALL(IF('Demande de Prix'!$M$5:$M$20="Fournisseur 1",ROW('Demande de Prix'!$M$5:$M$20)),ROWS($1:3)),MATCH(G$2,'Demande de Prix'!$A$3:$E$3,0)),"")} | H5: {=IFERROR(INDEX('Demande de Prix'!$A$1:$M$20,SMALL(IF('Demande de Prix'!$M$5:$M$20="Fournisseur 1",ROW('Demande de Prix'!$M$5:$M$20)),ROWS($1:3)),MATCH(H$2,'Demande de Prix'!$A$3:$E$3,0)),"")} | I5: {=IFERROR(INDEX('Demande de Prix'!$A$1:$M$20,SMALL(IF('Demande de Prix'!$M$5:$M$20="Fournisseur 1",ROW('Demande de Prix'!$M$5:$M$20)),ROWS($1:3)),MATCH(I$2,'Demande de Prix'!$A$3:$E$3,0)),"")}
A6: {=IFERROR(INDEX('Demande de Prix'!$A$1:$M$20,SMALL(IF('Demande de Prix'!$M$5:$M$20="Fournisseur 1",ROW('Demande de Prix'!$M$5:$M$20)),ROWS($1:4)),MATCH(A$2,'Demande de Prix'!$A$3:$E$3,0)),"")} -> Cloueur pointe en bande | B6: {=IFERROR(INDEX('Demande de Prix'!$A$1:$M$20,SMALL(IF('Demande de Prix'!$M$5:$M$20="Fournisseur 1",ROW('Demande de Prix'!$M$5:$M$20)),ROWS($1:4)),MATCH(B$2,'Demande de Prix'!$A$3:$E$3,0)),"")} | C6: {=IFERROR(INDEX('Demande de Prix'!$A$1:$M$20,SMALL(IF('Demande de Prix'!$M$5:$M$20="Fournisseur 1",ROW('Demande de Prix'!$M$5:$M$20)),ROWS($1:4)),MATCH(C$2,'Demande de Prix'!$A$3:$E$3,0)),"")} | D6: {=IFERROR(INDEX('Demande de Prix'!$A$1:$M$20,SMALL(IF('Demande de Prix'!$M$5:$M$20="Fournisseur 1",ROW('Demande de Prix'!$M$5:$M$20)),ROWS($1:4)),MATCH(D$2,'Demande de Prix'!$A$3:$E$3,0)),"")} -> QU: 1 machine | E6: {=IFERROR(INDEX('Demande de Prix'!$A$1:$M$20,SMALL(IF('Demande de Prix'!$M$5:$M$20="Fournisseur 1",ROW('Demande de Prix'!$M$5:$M$20)),ROWS($1:4)),MATCH(E$2,'Demande de Prix'!$A$3:$E$3,0)),"")} | F6: {=IFERROR(INDEX('Demande de Prix'!$A$1:$M$20,SMALL(IF('Demande de Prix'!$M$5:$M$20="Fournisseur 1",ROW('Demande de Prix'!$M$5:$M$20)),ROWS($1:4)),MATCH(F$2,'Demande de Prix'!$A$3:$E$3,0)),"")} | G6: {=IFERROR(INDEX('Demande de Prix'!$A$1:$M$20,SMALL(IF('Demande de Prix'!$M$5:$M$20="Fournisseur 1",ROW('Demande de Prix'!$M$5:$M$20)),ROWS($1:4)),MATCH(G$2,'Demande de Prix'!$A$3:$E$3,0)),"")} | H6: {=IFERROR(INDEX('Demande de Prix'!$A$1:$M$20,SMALL(IF('Demande de Prix'!$M$5:$M$20="Fournisseur 1",ROW('Demande de Prix'!$M$5:$M$20)),ROWS($1:4)),MATCH(H$2,'Demande de Prix'!$A$3:$E$3,0)),"")} | I6: {=IFERROR(INDEX('Demande de Prix'!$A$1:$M$20,SMALL(IF('Demande de Prix'!$M$5:$M$20="Fournisseur 1",ROW('Demande de Prix'!$M$5:$M$20)),ROWS($1:4)),MATCH(I$2,'Demande de Prix'!$A$3:$E$3,0)),"")}
A7: {=IFERROR(INDEX('Demande de Prix'!$A$1:$M$20,SMALL(IF('Demande de Prix'!$M$5:$M$20="Fournisseur 1",ROW('Demande de Prix'!$M$5:$M$20)),ROWS($1:5)),MATCH(A$2,'Demande de Prix'!$A$3:$E$3,0)),"")} -> Cloueur pointe en bande | B7: {=IFERROR(INDEX('Demande de Prix'!$A$1:$M$20,SMALL(IF('Demande de Prix'!$M$5:$M$20="Fournisseur 1",ROW('Demande de Prix'!$M$5:$M$20)),ROWS($1:5)),MATCH(B$2,'Demande de Prix'!$A$3:$E$3,0)),"")} | C7: {=IFERROR(INDEX('Demande de Prix'!$A$1:$M$20,SMALL(IF('Demande de Prix'!$M$5:$M$20="Fournisseur 1",ROW('Demande de Prix'!$M$5:$M$20)),ROWS($1:5)),MATCH(C$2,'Demande de Prix'!$A$3:$E$3,0)),"")} | D7: {=IFERROR(INDEX('Demande de Prix'!$A$1:$M$20,SMALL(IF('Demande de Prix'!$M$5:$M$20="Fournisseur 1",ROW('Demande de Prix'!$M$5:$M$20)),ROWS($1:5)),MATCH(D$2,'Demande de Prix'!$A$3:$E$3,0)),"")} -> QU: 1 machine | E7: {=IFERROR(INDEX('Demande de Prix'!$A$1:$M$20,SMALL(IF('Demande de Prix'!$M$5:$M$20="Fournisseur 1",ROW('Demande de Prix'!$M$5:$M$20)),ROWS($1:5)),MATCH(E$2,'Demande de Prix'!$A$3:$E$3,0)),"")} | F7: {=IFERROR(INDEX('Demande de Prix'!$A$1:$M$20,SMALL(IF('Demande de Prix'!$M$5:$M$20="Fournisseur 1",ROW('Demande de Prix'!$M$5:$M$20)),ROWS($1:5)),MATCH(F$2,'Demande de Prix'!$A$3:$E$3,0)),"")} | G7: {=IFERROR(INDEX('Demande de Prix'!$A$1:$M$20,SMALL(IF('Demande de Prix'!$M$5:$M$20="Fournisseur 1",ROW('Demande de Prix'!$M$5:$M$20)),ROWS($1:5)),MATCH(G$2,'Demande de Prix'!$A$3:$E$3,0)),"")} | H7: {=IFERROR(INDEX('Demande de Prix'!$A$1:$M$20,SMALL(IF('Demande de Prix'!$M$5:$M$20="Fournisseur 1",ROW('Demande de Prix'!$M$5:$M$20)),ROWS($1:5)),MATCH(H$2,'Demande de Prix'!$A$3:$E$3,0)),"")} | I7: {=IFERROR(INDEX('Demande de Prix'!$A$1:$M$20,SMALL(IF('Demande de Prix'!$M$5:$M$20="Fournisseur 1",ROW('Demande de Prix'!$M$5:$M$20)),ROWS($1:5)),MATCH(I$2,'Demande de Prix'!$A$3:$E$3,0)),"")}
A8: {=IFERROR(INDEX('Demande de Prix'!$A$1:$M$20,SMALL(IF('Demande de Prix'!$M$5:$M$20="Fournisseur 1",ROW('Demande de Prix'!$M$5:$M$20)),ROWS($1:6)),MATCH(A$2,'Demande de Prix'!$A$3:$E$3,0)),"")} -> Fraiseuse domino FESTOOL | B8: {=IFERROR(INDEX('Demande de Prix'!$A$1:$M$20,SMALL(IF('Demande de Prix'!$M$5:$M$20="Fournisseur 1",ROW('Demande de Prix'!$M$5:$M$20)),ROWS($1:6)),MATCH(B$2,'Demande de Prix'!$A$3:$E$3,0)),"")} | C8: {=IFERROR(INDEX('Demande de Prix'!$A$1:$M$20,SMALL(IF('Demande de Prix'!$M$5:$M$20="Fournisseur 1",ROW('Demande de Prix'!$M$5:$M$20)),ROWS($1:6)),MATCH(C$2,'Demande de Prix'!$A$3:$E$3,0)),"")} | D8: {=IFERROR(INDEX('Demande de Prix'!$A$1:$M$20,SMALL(IF('Demande de Prix'!$M$5:$M$20="Fournisseur 1",ROW('Demande de Prix'!$M$5:$M$20)),ROWS($1:6)),MATCH(D$2,'Demande de Prix'!$A$3:$E$3,0)),"")} -> QU: 1 machine | E8: {=IFERROR(INDEX('Demande de Prix'!$A$1:$M$20,SMALL(IF('Demande de Prix'!$M$5:$M$20="Fournisseur 1",ROW('Demande de Prix'!$M$5:$M$20)),ROWS($1:6)),MATCH(E$2,'Demande de Prix'!$A$3:$E$3,0)),"")} | F8: {=IFERROR(INDEX('Demande de Prix'!$A$1:$M$20,SMALL(IF('Demande de Prix'!$M$5:$M$20="Fournisseur 1",ROW('Demande de Prix'!$M$5:$M$20)),ROWS($1:6)),MATCH(F$2,'Demande de Prix'!$A$3:$E$3,0)),"")} | G8: {=IFERROR(INDEX('Demande de Prix'!$A$1:$M$20,SMALL(IF('Demande de Prix'!$M$5:$M$20="Fournisseur 1",ROW('Demande de Prix'!$M$5:$M$20)),ROWS($1:6)),MATCH(G$2,'Demande de Prix'!$A$3:$E$3,0)),"")} | H8: {=IFERROR(INDEX('Demande de Prix'!$A$1:$M$20,SMALL(IF('Demande de Prix'!$M$5:$M$20="Fournisseur 1",ROW('Demande de Prix'!$M$5:$M$20)),ROWS($1:6)),MATCH(H$2,'Demande de Prix'!$A$3:$E$3,0)),"")} | I8: {=IFERROR(INDEX('Demande de Prix'!$A$1:$M$20,SMALL(IF('Demande de Prix'!$M$5:$M$20="Fournisseur 1",ROW('Demande de Prix'!$M$5:$M$20)),ROWS($1:6)),MATCH(I$2,'Demande de Prix'!$A$3:$E$3,0)),"")}
A9: {=IFERROR(INDEX('Demande de Prix'!$A$1:$M$20,SMALL(IF('Demande de Prix'!$M$5:$M$20="Fournisseur 1",ROW('Demande de Prix'!$M$5:$M$20)),ROWS($1:7)),MATCH(A$2,'Demande de Prix'!$A$3:$E$3,0)),"")} -> Perçeuse / visseuse BOSCH | B9: {=IFERROR(INDEX('Demande de Prix'!$A$1:$M$20,SMALL(IF('Demande de Prix'!$M$5:$M$20="Fournisseur 1",ROW('Demande de Prix'!$M$5:$M$20)),ROWS($1:7)),MATCH(B$2,'Demande de Prix'!$A$3:$E$3,0)),"")} | C9: {=IFERROR(INDEX('Demande de Prix'!$A$1:$M$20,SMALL(IF('Demande de Prix'!$M$5:$M$20="Fournisseur 1",ROW('Demande de Prix'!$M$5:$M$20)),ROWS($1:7)),MATCH(C$2,'Demande de Prix'!$A$3:$E$3,0)),"")} | D9: {=IFERROR(INDEX('Demande de Prix'!$A$1:$M$20,SMALL(IF('Demande de Prix'!$M$5:$M$20="Fournisseur 1",ROW('Demande de Prix'!$M$5:$M$20)),ROWS($1:7)),MATCH(D$2,'Demande de Prix'!$A$3:$E$3,0)),"")} -> QU: 2 machines | E9: {=IFERROR(INDEX('Demande de Prix'!$A$1:$M$20,SMALL(IF('Demande de Prix'!$M$5:$M$20="Fournisseur 1",ROW('Demande de Prix'!$M$5:$M$20)),ROWS($1:7)),MATCH(E$2,'Demande de Prix'!$A$3:$E$3,0)),"")} | F9: {=IFERROR(INDEX('Demande de Prix'!$A$1:$M$20,SMALL(IF('Demande de Prix'!$M$5:$M$20="Fournisseur 1",ROW('Demande de Prix'!$M$5:$M$20)),ROWS($1:7)),MATCH(F$2,'Demande de Prix'!$A$3:$E$3,0)),"")} | G9: {=IFERROR(INDEX('Demande de Prix'!$A$1:$M$20,SMALL(IF('Demande de Prix'!$M$5:$M$20="Fournisseur 1",ROW('Demande de Prix'!$M$5:$M$20)),ROWS($1:7)),MATCH(G$2,'Demande de Prix'!$A$3:$E$3,0)),"")} | H9: {=IFERROR(INDEX('Demande de Prix'!$A$1:$M$20,SMALL(IF('Demande de Prix'!$M$5:$M$20="Fournisseur 1",ROW('Demande de Prix'!$M$5:$M$20)),ROWS($1:7)),MATCH(H$2,'Demande de Prix'!$A$3:$E$3,0)),"")} | I9: {=IFERROR(INDEX('Demande de Prix'!$A$1:$M$20,SMALL(IF('Demande de Prix'!$M$5:$M$20="Fournisseur 1",ROW('Demande de Prix'!$M$5:$M$20)),ROWS($1:7)),MATCH(I$2,'Demande de Prix'!$A$3:$E$3,0)),"")}
A10: {=IFERROR(INDEX('Demande de Prix'!$A$1:$M$20,SMALL(IF('Demande de Prix'!$M$5:$M$20="Fournisseur 1",ROW('Demande de Prix'!$M$5:$M$20)),ROWS($1:8)),MATCH(A$2,'Demande de Prix'!$A$3:$E$3,0)),"")} -> Perçeuse / visseuse FESTOOL | B10: {=IFERROR(INDEX('Demande de Prix'!$A$1:$M$20,SMALL(IF('Demande de Prix'!$M$5:$M$20="Fournisseur 1",ROW('Demande de Prix'!$M$5:$M$20)),ROWS($1:8)),MATCH(B$2,'Demande de Prix'!$A$3:$E$3,0)),"")} | C10: {=IFERROR(INDEX('Demande de Prix'!$A$1:$M$20,SMALL(IF('Demande de Prix'!$M$5:$M$20="Fournisseur 1",ROW('Demande de Prix'!$M$5:$M$20)),ROWS($1:8)),MATCH(C$2,'Demande de Prix'!$A$3:$E$3,0)),"")} | D10: {=IFERROR(INDEX('Demande de Prix'!$A$1:$M$20,SMALL(IF('Demande de Prix'!$M$5:$M$20="Fournisseur 1",ROW('Demande de Prix'!$M$5:$M$20)),ROWS($1:8)),MATCH(D$2,'Demande de Prix'!$A$3:$E$3,0)),"")} -> QU: 3 machines | E10: {=IFERROR(INDEX('Demande de Prix'!$A$1:$M$20,SMALL(IF('Demande de Prix'!$M$5:$M$20="Fournisseur 1",ROW('Demande de Prix'!$M$5:$M$20)),ROWS($1:8)),MATCH(E$2,'Demande de Prix'!$A$3:$E$3,0)),"")} | F10: {=IFERROR(INDEX('Demande de Prix'!$A$1:$M$20,SMALL(IF('Demande de Prix'!$M$5:$M$20="Fournisseur 1",ROW('Demande de Prix'!$M$5:$M$20)),ROWS($1:8)),MATCH(F$2,'Demande de Prix'!$A$3:$E$3,0)),"")} | G10: {=IFERROR(INDEX('Demande de Prix'!$A$1:$M$20,SMALL(IF('Demande de Prix'!$M$5:$M$20="Fournisseur 1",ROW('Demande de Prix'!$M$5:$M$20)),ROWS($1:8)),MATCH(G$2,'Demande de Prix'!$A$3:$E$3,0)),"")} | H10: {=IFERROR(INDEX('Demande de Prix'!$A$1:$M$20,SMALL(IF('Demande de Prix'!$M$5:$M$20="Fournisseur 1",ROW('Demande de Prix'!$M$5:$M$20)),ROWS($1:8)),MATCH(H$2,'Demande de Prix'!$A$3:$E$3,0)),"")} | I10: {=IFERROR(INDEX('Demande de Prix'!$A$1:$M$20,SMALL(IF('Demande de Prix'!$M$5:$M$20="Fournisseur 1",ROW('Demande de Prix'!$M$5:$M$20)),ROWS($1:8)),MATCH(I$2,'Demande de Prix'!$A$3:$E$3,0)),"")}
A11: {=IFERROR(INDEX('Demande de Prix'!$A$1:$M$20,SMALL(IF('Demande de Prix'!$M$5:$M$20="Fournisseur 1",ROW('Demande de Prix'!$M$5:$M$20)),ROWS($1:9)),MATCH(A$2,'Demande de Prix'!$A$3:$E$3,0)),"")} -> Scie radiale BOSCH | B11: {=IFERROR(INDEX('Demande de Prix'!$A$1:$M$20,SMALL(IF('Demande de Prix'!$M$5:$M$20="Fournisseur 1",ROW('Demande de Prix'!$M$5:$M$20)),ROWS($1:9)),MATCH(B$2,'Demande de Prix'!$A$3:$E$3,0)),"")} | C11: {=IFERROR(INDEX('Demande de Prix'!$A$1:$M$20,SMALL(IF('Demande de Prix'!$M$5:$M$20="Fournisseur 1",ROW('Demande de Prix'!$M$5:$M$20)),ROWS($1:9)),MATCH(C$2,'Demande de Prix'!$A$3:$E$3,0)),"")} | D11: {=IFERROR(INDEX('Demande de Prix'!$A$1:$M$20,SMALL(IF('Demande de Prix'!$M$5:$M$20="Fournisseur 1",ROW('Demande de Prix'!$M$5:$M$20)),ROWS($1:9)),MATCH(D$2,'Demande de Prix'!$A$3:$E$3,0)),"")} -> QU: 2 machines | E11: {=IFERROR(INDEX('Demande de Prix'!$A$1:$M$20,SMALL(IF('Demande de Prix'!$M$5:$M$20="Fournisseur 1",ROW('Demande de Prix'!$M$5:$M$20)),ROWS($1:9)),MATCH(E$2,'Demande de Prix'!$A$3:$E$3,0)),"")} | F11: {=IFERROR(INDEX('Demande de Prix'!$A$1:$M$20,SMALL(IF('Demande de Prix'!$M$5:$M$20="Fournisseur 1",ROW('Demande de Prix'!$M$5:$M$20)),ROWS($1:9)),MATCH(F$2,'Demande de Prix'!$A$3:$E$3,0)),"")} | G11: {=IFERROR(INDEX('Demande de Prix'!$A$1:$M$20,SMALL(IF('Demande de Prix'!$M$5:$M$20="Fournisseur 1",ROW('Demande de Prix'!$M$5:$M$20)),ROWS($1:9)),MATCH(G$2,'Demande de Prix'!$A$3:$E$3,0)),"")} | H11: {=IFERROR(INDEX('Demande de Prix'!$A$1:$M$20,SMALL(IF('Demande de Prix'!$M$5:$M$20="Fournisseur 1",ROW('Demande de Prix'!$M$5:$M$20)),ROWS($1:9)),MATCH(H$2,'Demande de Prix'!$A$3:$E$3,0)),"")} | I11: {=IFERROR(INDEX('Demande de Prix'!$A$1:$M$20,SMALL(IF('Demande de Prix'!$M$5:$M$20="Fournisseur 1",ROW('Demande de Prix'!$M$5:$M$20)),ROWS($1:9)),MATCH(I$2,'Demande de Prix'!$A$3:$E$3,0)),"")}
A12: {=IFERROR(INDEX('Demande de Prix'!$A$1:$M$20,SMALL(IF('Demande de Prix'!$M$5:$M$20="Fournisseur 1",ROW('Demande de Prix'!$M$5:$M$20)),ROWS($1:10)),MATCH(A$2,'Demande de Prix'!$A$3:$E$3,0)),"")}
A13: {=IFERROR(INDEX('Demande de Prix'!$A$1:$M$20,SMALL(IF('Demande de Prix'!$M$5:$M$20="Fournisseur 1",ROW('Demande de Prix'!$M$5:$M$20)),ROWS($1:11)),MATCH(A$2,'Demande de Prix'!$A$3:$E$3,0)),"")}
A14: {=IFERROR(INDEX('Demande de Prix'!$A$1:$M$20,SMALL(IF('Demande de Prix'!$M$5:$M$20="Fournisseur 1",ROW('Demande de Prix'!$M$5:$M$20)),ROWS($1:12)),MATCH(A$2,'Demande de Prix'!$A$3:$E$3,0)),"")}
A15: {=IFERROR(INDEX('Demande de Prix'!$A$1:$M$20,SMALL(IF('Demande de Prix'!$M$5:$M$20="Fournisseur 1",ROW('Demande de Prix'!$M$5:$M$20)),ROWS($1:13)),MATCH(A$2,'Demande de Prix'!$A$3:$E$3,0)),"")}
A16: {=IFERROR(INDEX('Demande de Prix'!$A$1:$M$20,SMALL(IF('Demande de Prix'!$M$5:$M$20="Fournisseur 1",ROW('Demande de Prix'!$M$5:$M$20)),ROWS($1:14)),MATCH(A$2,'Demande de Prix'!$A$3:$E$3,0)),"")}
A17: {=IFERROR(INDEX('Demande de Prix'!$A$1:$M$20,SMALL(IF('Demande de Prix'!$M$5:$M$20="Fournisseur 1",ROW('Demande de Prix'!$M$5:$M$20)),ROWS($1:15)),MATCH(A$2,'Demande de Prix'!$A$3:$E$3,0)),"")}
A18: {=IFERROR(INDEX('Demande de Prix'!$A$1:$M$20,SMALL(IF('Demande de Prix'!$M$5:$M$20="Fournisseur 1",ROW('Demande de Prix'!$M$5:$M$20)),ROWS($1:16)),MATCH(A$2,'Demande de Prix'!$A$3:$E$3,0)),"")}
A19: {=IFERROR(INDEX('Demande de Prix'!$A$1:$M$20,SMALL(IF('Demande de Prix'!$M$5:$M$20="Fournisseur 1",ROW('Demande de Prix'!$M$5:$M$20)),ROWS($1:17)),MATCH(A$2,'Demande de Prix'!$A$3:$E$3,0)),"")}
A20: {=IFERROR(INDEX('Demande de Prix'!$A$1:$M$20,SMALL(IF('Demande de Prix'!$M$5:$M$20="Fournisseur 1",ROW('Demande de Prix'!$M$5:$M$20)),ROWS($1:18)),MATCH(A$2,'Demande de Prix'!$A$3:$E$3,0)),"")}
A21: {=IFERROR(INDEX('Demande de Prix'!$A$1:$M$20,SMALL(IF('Demande de Prix'!$M$5:$M$20="Fournisseur 1",ROW('Demande de Prix'!$M$5:$M$20)),ROWS($1:19)),MATCH(A$2,'Demande de Prix'!$A$3:$E$3,0)),"")}
A22: {=IFERROR(INDEX('Demande de Prix'!$A$1:$M$20,SMALL(IF('Demande de Prix'!$M$5:$M$20="Fournisseur 1",ROW('Demande de Prix'!$M$5:$M$20)),ROWS($1:20)),MATCH(A$2,'Demande de Prix'!$A$3:$E$3,0)),"")}
A23: {=IFERROR(INDEX('Demande de Prix'!$A$1:$M$20,SMALL(IF('Demande de Prix'!$M$5:$M$20="Fournisseur 1",ROW('Demande de Prix'!$M$5:$M$20)),ROWS($1:21)),MATCH(A$2,'Demande de Prix'!$A$3:$E$3,0)),"")}
F25: Total | G25: =SUM(G3:G24) -> 0

Sheet Devis F2
A2: Code article | B2: Machine | C2: Modèle | D2: Caractéristique
I4: {=IFERROR(INDEX('Demande de Prix'!$A$1:$M$20,SMALL(IF('Demande de Prix'!$M$5:$M$20="Fournisseur 1",ROW('Demande de Prix'!$M$5:$M$20)),ROWS($1:1)),MATCH(F$2,'Demande de Prix'!$A$3:$E$3,0)),"")} | J4: {=IFERROR(INDEX('Demande de Prix'!$A$1:$M$20,SMALL(IF('Demande de Prix'!$M$5:$M$20="Fournisseur 1",ROW('Demande de Prix'!$M$5:$M$20)),ROWS($1:1)),MATCH(G$2,'Demande de Prix'!$A$3:$E$3,0)),"")} | K4: {=IFERROR(INDEX('Demande de Prix'!$A$1:$M$20,SMALL(IF('Demande de Prix'!$M$5:$M$20="Fournisseur 1",ROW('Demande de Prix'!$M$5:$M$20)),ROWS($1:1)),MATCH(H$2,'Demande de Prix'!$A$3:$E$3,0)),"")} | L4: {=IFERROR(INDEX('Demande de Prix'!$A$1:$M$20,SMALL(IF('Demande de Prix'!$M$5:$M$20="Fournisseur 1",ROW('Demande de Prix'!$M$5:$M$20)),ROWS($1:1)),MATCH(I$2,'Demande de Prix'!$A$3:$E$3,0)),"")} | M4: {=IFERROR(INDEX('Demande de Prix'!$A$1:$M$20,SMALL(IF('Demande de Prix'!$M$5:$M$20="Fournisseur 1",ROW('Demande de Prix'!$M$5:$M$20)),ROWS($1:1)),MATCH(J$2,'Demande de Prix'!$A$3:$E$3,0)),"")} | N4: {=IFERROR(INDEX('Demande de Prix'!$A$1:$M$20,SMALL(IF('Demande de Prix'!$M$5:$M$20="Fournisseur 1",ROW('Demande de Prix'!$M$5:$M$20)),ROWS($1:1)),MATCH(K$2,'Demande de Prix'!$A$3:$E$3,0)),"")} | O4: {=IFERROR(INDEX('Demande de Prix'!$A$1:$M$20,SMALL(IF('Demande de Prix'!$M$5:$M$20="Fournisseur 1",ROW('Demande de Prix'!$M$5:$M$20)),ROWS($1:1)),MATCH(L$2,'Demande de Prix'!$A$3:$E$3,0)),"")} | P4: {=IFERROR(INDEX('Demande de Prix'!$A$1:$M$20,SMALL(IF('Demande de Prix'!$M$5:$M$20="Fournisseur 1",ROW('Demande de Prix'!$M$5:$M$20)),ROWS($1:1)),MATCH(M$2,'Demande de Prix'!$A$3:$E$3,0)),"")}
