Workbook

Sheet Calculator
D2: COVER | G2: TOTAL RAILS : | I2: =SUM(D12,D36,D60) -> 735 | L2: PROJECT NAME : | T2: DWG NAME :
E3: TOP | G3: TOTAL STUDS : | L3: CLIENT : | T3: DATE :
E4: BOTTOM
C6: DIAM STUDS : | E6: 1 | F6: 2 | G6: 3 | H6: 4 | I6: 5 | J6: 6 | K6: 7 | L6: 8 | M6: 9 | N6: 10 | O6: 11
C7: QUANTITY OF STUD PER RAIL : | E7: 1 | F7: 2 | G7: 3 | H7: 4 | I7: 5 | J7: 6 | K7: 7 | L7: 8 | M7: 9 | N7: 10 | O7: 11
C8: END SPACING : | E8: 1 | F8: 2 | G8: 3 | H8: 4 | I8: 5 | J8: 6 | K8: 7 | L8: 8 | M8: 9 | N8: 10 | O8: 11
C9: SPACING BETWEEN STUDS : | E9: 1 | F9: 2 | G9: 3 | H9: 4 | I9: 5 | J9: 6 | K9: 7 | L9: 8 | M9: 9 | N9: 10 | O9: 11
A11: TOP | B11: 1 | C11: STUD HEIGHT : | E11: =$B13-($B11+$B12) -> 8 | F11: =$B13-($B11+$B12) -> 8 | G11: =$B13-($B11+$B12) -> 8 | H11: =$B13-($B11+$B12) -> 8 | I11: =$B13-($B11+$B12) -> 8 | J11: =$B13-($B11+$B12) -> 8 | K11: =$B13-($B11+$B12) -> 8 | L11: =$B13-($B11+$B12) -> 8 | ... BV11: =$B13-($B11+$B12) -> 8
A12: BOTTOM | B12: 1 | C12: TOTAL RAILS : | D12: =SUM(E12:BV12) -> 279 | E12: =E13*SUM(E15:E34) -> 8 | F12: =F13*SUM(F15:F34) -> 15 | G12: =G13*SUM(G15:G34) -> 0 | H12: =H13*SUM(H15:H34) -> 8 | I12: =I13*SUM(I15:I34) -> 16 | J12: =J13*SUM(J15:J34) -> 0 | K12: =K13*SUM(K15:K34) -> 0 | L12: =L13*SUM(L15:L34) -> 160 | ... BV12: =BV13*SUM(BV15:BV34) -> 0
A13: SLAB | B13: 10 | C13: QUANTITY OF RAILS PER COLUMNS : | E13: 8 | F13: 15 | G13: 20 | H13: 8 | I13: 8 | J13: 7 | K13: 8 | L13: 20 | M13: 8 | N13: 7 | O13: 9
A14: =B13 -> 10 | B14: PAGES | C14: LEVEL | D14: COL | E14: SR-1 | F14: SR-2 | G14: SR-3 | H14: SR-4 | I14: SR-5 | J14: SR-6 | K14: SR-7 | L14: SR-8 | M14: SR-9 | N14: SR-10 | O14: SR-11 | P14: SR-12 | Q14: SR-13 | R14: SR-14 | S14: SR-15 | T14: SR-16 | U14: SR-17 | V14: SR-18 | W14: SR-19 | X14: SR-20 | Y14: SR-21 | Z14: SR-22 | AA14: SR-23 | AB14: SR-24 | AC14: SR-25 | AD14: SR-26 | AE14: SR-27 | AF14: SR-28 | AG14: SR-29 | AH14: SR-30 | AI14: SR-31 | AJ14: SR-32 | AK14: SR-33 | AL14: SR-34 | AM14: SR-35 | AN14: SR-36 | AO14: SR-37 | AP14: SR-38 | AQ14: SR-39 | AR14: SR-40 | AS14: SR-41 | AT14: SR-42 | AU14: SR-43 | AV14: SR-44 | AW14: SR-45 | AX14: SR-46 | AY14: SR-47 | AZ14: SR-48 | BA14: SR-49 | BB14: SR-50 | BC14: SR-51 | BD14: SR-52 | BE14: SR-53 | BF14: SR-54 | BG14: SR-55 | BH14: SR-56 | BI14: SR-57 | BJ14: SR-58 | BK14: SR-59 | BL14: SR-60 | BM14: SR-61 | BN14: SR-62 | BO14: SR-63 | BP14: SR-64 | BQ14: SR-65 | BR14: SR-66 | BS14: SR-67 | BT14: SR-68 | BU14: SR-69 | BV14: SR-70
B15: S404 | C15: Niveau 1 | D15: =SUM(E15:X15) -> 22 | E15: 1 | F15: 1 | H15: 1 | I15: 2 | L15: 8 | M15: 9
D16: =SUM(E16:X16) -> 0
D17: =SUM(E17:X17) -> 0
D18: =SUM(E18:X18) -> 0
D19: =SUM(E19:X19) -> 0
D20: =SUM(E20:X20) -> 0
D21: =SUM(E21:X21) -> 0
D22: =SUM(E22:X22) -> 0
D23: =SUM(E23:X23) -> 0
A24: SLAB | D24: =SUM(E24:X24) -> 0
D25: =SUM(E25:X25) -> 0
D26: =SUM(E26:X26) -> 0
D27: =SUM(E27:X27) -> 0
D28: =SUM(E28:X28) -> 0
D29: =SUM(E29:X29) -> 0
D30: =SUM(E30:X30) -> 0
D31: =SUM(E31:X31) -> 0
D32: =SUM(E32:X32) -> 0
D33: =SUM(E33:X33) -> 0
D34: =SUM(E34:X34) -> 0
A35: TOP | B35: 1 | C35: STUD HEIGHT : | E35: =$B37-($B35+$B36) -> 10 | F35: =$B37-($B35+$B36) -> 10 | G35: =$B37-($B35+$B36) -> 10 | H35: =$B37-($B35+$B36) -> 10 | I35: =$B37-($B35+$B36) -> 10 | J35: =$B37-($B35+$B36) -> 10 | K35: =$B37-($B35+$B36) -> 10 | L35: =$B37-($B35+$B36) -> 10 | ... BV35: =$B37-($B35+$B36) -> 10
A36: BOTTOM | B36: 1 | C36: TOTAL RAILS : | D36: =SUM(E36:BV36) -> 456 | E36: =E37*SUM(E39:E58) -> 8 | F36: =F37*SUM(F39:F58) -> 0 | G36: =G37*SUM(G39:G58) -> 40 | H36: =H37*SUM(H39:H58) -> 0 | I36: =I37*SUM(I39:I58) -> 0 | J36: =J37*SUM(J39:J58) -> 49 | K36: =K37*SUM(K39:K58) -> 64 | L36: =L37*SUM(L39:L58) -> 180 | ... BV36: =BV37*SUM(BV39:BV58) -> 0
A37: SLAB | B37: 12 | C37: QUANTITY OF RAILS PER COLUMNS : | E37: =E13 -> 8 | F37: =F13 -> 15 | G37: =G13 -> 20 | H37: =H13 -> 8 | I37: =I13 -> 8 | J37: =J13 -> 7 | K37: =K13 -> 8 | L37: =L13 -> 20 | ... BV37: =BV13 -> 0
A38: =B37 -> 12 | B38: PAGES | C38: LEVEL | D38: COL | E38: SR-1a | F38: SR-2a | G38: SR-3a | H38: SR-4a | I38: SR-5a | J38: SR-6a | K38: SR-7a | L38: SR-8a | M38: SR-9a | N38: SR-10a | O38: SR-11a | P38: SR-12a | Q38: SR-13a | R38: SR-14a | S38: SR-15a | T38: SR-16a | U38: SR-17a | V38: SR-18a | W38: SR-19a | X38: SR-20a | Y38: SR-21a | Z38: SR-22a | AA38: SR-23a | AB38: SR-24a | AC38: SR-25a | AD38: SR-26a | AE38: SR-27a | AF38: SR-28a | AG38: SR-29a | AH38: SR-30a | AI38: SR-31a | AJ38: SR-32a | AK38: SR-33a | AL38: SR-34a | AM38: SR-35a | AN38: SR-36a | AO38: SR-37a | AP38: SR-38a | AQ38: SR-39a | AR38: SR-40a | AS38: SR-41a | AT38: SR-42a | AU38: SR-43a | AV38: SR-44a | AW38: SR-45a | AX38: SR-46a | AY38: SR-47a | AZ38: SR-48a | BA38: SR-49a | BB38: SR-50a | BC38: SR-51a | BD38: SR-52a | BE38: SR-53a | BF38: SR-54a | BG38: SR-55a | BH38: SR-56a | BI38: SR-57a | BJ38: SR-58a | BK38: SR-59a | BL38: SR-60a | BM38: SR-61a | BN38: SR-62a | BO38: SR-63a | BP38: SR-64a | BQ38: SR-65a | BR38: SR-66a | BS38: SR-67a | BT38: SR-68a | BU38: SR-69a | BV38: SR-70a
B39: =B15 -> S404 | C39: =C15 -> Niveau 1 | D39: =SUM(E39:X39) -> 42 | E39: 1 | G39: 2 | J39: 7 | K39: 8 | L39: 9 | N39: 10 | O39: 5
B40: =B16 -> 0 | C40: =C16 -> 0 | D40: =SUM(E40:X40) -> 0
B41: =B17 -> 0 | C41: =C17 -> 0 | D41: =SUM(E41:X41) -> 0
B42: =B18 -> 0 | C42: =C18 -> 0 | D42: =SUM(E42:X42) -> 0
B43: =B19 -> 0 | C43: =C19 -> 0 | D43: =SUM(E43:X43) -> 0
...

Sheet Resultat
B2: SLAB
B3: =Calculator!B13 -> 10
B4: TYPES | C4: QTY RAILS | D4: DIAM STUDS | E4: STUD HEIGHT | F4: QUANTITY OF STUD PER RAIL | G4: END SPACING | H4: SPACING BETWEEN STUDS
B5: =OFFSET(Calculator!$E$14,,ROW()-5) -> SR-1 | C5: =OFFSET(Calculator!$E$12,,ROW()-5) -> 8 | D5: =OFFSET(Calculator!$E$6,,ROW()-5) -> 1 | E5: =OFFSET(Calculator!$E$11,,ROW()-5) -> 8 | F5: =OFFSET(Calculator!$E$7,,ROW()-5) -> 1 | G5: =OFFSET(Calculator!$E$8,,ROW()-5) -> 1 | H5: =OFFSET(Calculator!$E$9,,ROW()-5) -> 1
B6: =OFFSET(Calculator!$E$14,,ROW()-5) -> SR-2 | C6: =OFFSET(Calculator!$E$12,,ROW()-5) -> 15 | D6: =OFFSET(Calculator!$E$6,,ROW()-5) -> 2 | E6: =OFFSET(Calculator!$E$11,,ROW()-5) -> 8 | F6: =OFFSET(Calculator!$E$7,,ROW()-5) -> 2 | G6: =OFFSET(Calculator!$E$8,,ROW()-5) -> 2 | H6: =OFFSET(Calculator!$E$9,,ROW()-5) -> 2
B7: =OFFSET(Calculator!$E$14,,ROW()-5) -> SR-3 | C7: =OFFSET(Calculator!$E$12,,ROW()-5) -> 0 | D7: =OFFSET(Calculator!$E$6,,ROW()-5) -> 3 | E7: =OFFSET(Calculator!$E$11,,ROW()-5) -> 8 | F7: =OFFSET(Calculator!$E$7,,ROW()-5) -> 3 | G7: =OFFSET(Calculator!$E$8,,ROW()-5) -> 3 | H7: =OFFSET(Calculator!$E$9,,ROW()-5) -> 3
B8: =OFFSET(Calculator!$E$14,,ROW()-5) -> SR-4 | C8: =OFFSET(Calculator!$E$12,,ROW()-5) -> 8 | D8: =OFFSET(Calculator!$E$6,,ROW()-5) -> 4 | E8: =OFFSET(Calculator!$E$11,,ROW()-5) -> 8 | F8: =OFFSET(Calculator!$E$7,,ROW()-5) -> 4 | G8: =OFFSET(Calculator!$E$8,,ROW()-5) -> 4 | H8: =OFFSET(Calculator!$E$9,,ROW()-5) -> 4
B9: =OFFSET(Calculator!$E$14,,ROW()-5) -> SR-5 | C9: =OFFSET(Calculator!$E$12,,ROW()-5) -> 16 | D9: =OFFSET(Calculator!$E$6,,ROW()-5) -> 5 | E9: =OFFSET(Calculator!$E$11,,ROW()-5) -> 8 | F9: =OFFSET(Calculator!$E$7,,ROW()-5) -> 5 | G9: =OFFSET(Calculator!$E$8,,ROW()-5) -> 5 | H9: =OFFSET(Calculator!$E$9,,ROW()-5) -> 5
B10: =OFFSET(Calculator!$E$14,,ROW()-5) -> SR-6 | C10: =OFFSET(Calculator!$E$12,,ROW()-5) -> 0 | D10: =OFFSET(Calculator!$E$6,,ROW()-5) -> 6 | E10: =OFFSET(Calculator!$E$11,,ROW()-5) -> 8 | F10: =OFFSET(Calculator!$E$7,,ROW()-5) -> 6 | G10: =OFFSET(Calculator!$E$8,,ROW()-5) -> 6 | H10: =OFFSET(Calculator!$E$9,,ROW()-5) -> 6
B11: =OFFSET(Calculator!$E$14,,ROW()-5) -> SR-7 | C11: =OFFSET(Calculator!$E$12,,ROW()-5) -> 0 | D11: =OFFSET(Calculator!$E$6,,ROW()-5) -> 7 | E11: =OFFSET(Calculator!$E$11,,ROW()-5) -> 8 | F11: =OFFSET(Calculator!$E$7,,ROW()-5) -> 7 | G11: =OFFSET(Calculator!$E$8,,ROW()-5) -> 7 | H11: =OFFSET(Calculator!$E$9,,ROW()-5) -> 7
B12: =OFFSET(Calculator!$E$14,,ROW()-5) -> SR-8 | C12: =OFFSET(Calculator!$E$12,,ROW()-5) -> 160 | D12: =OFFSET(Calculator!$E$6,,ROW()-5) -> 8 | E12: =OFFSET(Calculator!$E$11,,ROW()-5) -> 8 | F12: =OFFSET(Calculator!$E$7,,ROW()-5) -> 8 | G12: =OFFSET(Calculator!$E$8,,ROW()-5) -> 8 | H12: =OFFSET(Calculator!$E$9,,ROW()-5) -> 8
B13: =OFFSET(Calculator!$E$14,,ROW()-5) -> SR-9 | C13: =OFFSET(Calculator!$E$12,,ROW()-5) -> 72 | D13: =OFFSET(Calculator!$E$6,,ROW()-5) -> 9 | E13: =OFFSET(Calculator!$E$11,,ROW()-5) -> 8 | F13: =OFFSET(Calculator!$E$7,,ROW()-5) -> 9 | G13: =OFFSET(Calculator!$E$8,,ROW()-5) -> 9 | H13: =OFFSET(Calculator!$E$9,,ROW()-5) -> 9
B14: =OFFSET(Calculator!$E$14,,ROW()-5) -> SR-10 | C14: =OFFSET(Calculator!$E$12,,ROW()-5) -> 0 | D14: =OFFSET(Calculator!$E$6,,ROW()-5) -> 10 | E14: =OFFSET(Calculator!$E$11,,ROW()-5) -> 8 | F14: =OFFSET(Calculator!$E$7,,ROW()-5) -> 10 | G14: =OFFSET(Calculator!$E$8,,ROW()-5) -> 10 | H14: =OFFSET(Calculator!$E$9,,ROW()-5) -> 10
B15: =OFFSET(Calculator!$E$14,,ROW()-5) -> SR-11 | C15: =OFFSET(Calculator!$E$12,,ROW()-5) -> 0 | D15: =OFFSET(Calculator!$E$6,,ROW()-5) -> 11 | E15: =OFFSET(Calculator!$E$11,,ROW()-5) -> 8 | F15: =OFFSET(Calculator!$E$7,,ROW()-5) -> 11 | G15: =OFFSET(Calculator!$E$8,,ROW()-5) -> 11 | H15: =OFFSET(Calculator!$E$9,,ROW()-5) -> 11
B16: =OFFSET(Calculator!$E$14,,ROW()-5) -> SR-12 | C16: =OFFSET(Calculator!$E$12,,ROW()-5) -> 0 | D16: =OFFSET(Calculator!$E$6,,ROW()-5) -> 0 | E16: =OFFSET(Calculator!$E$11,,ROW()-5) -> 8 | F16: =OFFSET(Calculator!$E$7,,ROW()-5) -> 0 | G16: =OFFSET(Calculator!$E$8,,ROW()-5) -> 0 | H16: =OFFSET(Calculator!$E$9,,ROW()-5) -> 0
... B74: =OFFSET(Calculator!$E$14,,ROW()-5) -> SR-70 | C74: =OFFSET(Calculator!$E$12,,ROW()-5) -> 0 | D74: =OFFSET(Calculator!$E$6,,ROW()-5) -> 0 | E74: =OFFSET(Calculator!$E$11,,ROW()-5) -> 8 | F74: =OFFSET(Calculator!$E$7,,ROW()-5) -> 0 | G74: =OFFSET(Calculator!$E$8,,ROW()-5) -> 0 | H74: =OFFSET(Calculator!$E$9,,ROW()-5) -> 0
B75: SLAB
B76: =Calculator!B37 -> 12
B77: TYPES | C77: QTY RAILS | D77: DIAM STUDS | E77: STUD HEIGHT | F77: QUANTITY OF STUD PER RAIL | G77: END SPACING | H77: SPACING BETWEEN STUDS
B78: =OFFSET(Calculator!$E$38,,ROW()-78) -> SR-1a | C78: =OFFSET(Calculator!$E$36,,ROW()-78) -> 8 | D78: =OFFSET(Calculator!$E$6,,ROW()-78) -> 1 | E78: =OFFSET(Calculator!$E$35,,ROW()-78) -> 10 | F78: =OFFSET(Calculator!$E$7,,ROW()-78) -> 1 | G78: =OFFSET(Calculator!$E$8,,ROW()-78) -> 1 | H78: =OFFSET(Calculator!$E$9,,ROW()-78) -> 1
B79: =OFFSET(Calculator!$E$38,,ROW()-78) -> SR-2a | C79: =OFFSET(Calculator!$E$36,,ROW()-78) -> 0 | D79: =OFFSET(Calculator!$E$6,,ROW()-78) -> 2 | E79: =OFFSET(Calculator!$E$35,,ROW()-78) -> 10 | F79: =OFFSET(Calculator!$E$7,,ROW()-78) -> 2 | G79: =OFFSET(Calculator!$E$8,,ROW()-78) -> 2 | H79: =OFFSET(Calculator!$E$9,,ROW()-78) -> 2
B80: =OFFSET(Calculator!$E$38,,ROW()-78) -> SR-3a | C80: =OFFSET(Calculator!$E$36,,ROW()-78) -> 40 | D80: =OFFSET(Calculator!$E$6,,ROW()-78) -> 3 | E80: =OFFSET(Calculator!$E$35,,ROW()-78) -> 10 | F80: =OFFSET(Calculator!$E$7,,ROW()-78) -> 3 | G80: =OFFSET(Calculator!$E$8,,ROW()-78) -> 3 | H80: =OFFSET(Calculator!$E$9,,ROW()-78) -> 3
B81: =OFFSET(Calculator!$E$38,,ROW()-78) -> SR-4a | C81: =OFFSET(Calculator!$E$36,,ROW()-78) -> 0 | D81: =OFFSET(Calculator!$E$6,,ROW()-78) -> 4 | E81: =OFFSET(Calculator!$E$35,,ROW()-78) -> 10 | F81: =OFFSET(Calculator!$E$7,,ROW()-78) -> 4 | G81: =OFFSET(Calculator!$E$8,,ROW()-78) -> 4 | H81: =OFFSET(Calculator!$E$9,,ROW()-78) -> 4
B82: =OFFSET(Calculator!$E$38,,ROW()-78) -> SR-5a | C82: =OFFSET(Calculator!$E$36,,ROW()-78) -> 0 | D82: =OFFSET(Calculator!$E$6,,ROW()-78) -> 5 | E82: =OFFSET(Calculator!$E$35,,ROW()-78) -> 10 | F82: =OFFSET(Calculator!$E$7,,ROW()-78) -> 5 | G82: =OFFSET(Calculator!$E$8,,ROW()-78) -> 5 | H82: =OFFSET(Calculator!$E$9,,ROW()-78) -> 5
B83: =OFFSET(Calculator!$E$38,,ROW()-78) -> SR-6a | C83: =OFFSET(Calculator!$E$36,,ROW()-78) -> 49 | D83: =OFFSET(Calculator!$E$6,,ROW()-78) -> 6 | E83: =OFFSET(Calculator!$E$35,,ROW()-78) -> 10 | F83: =OFFSET(Calculator!$E$7,,ROW()-78) -> 6 | G83: =OFFSET(Calculator!$E$8,,ROW()-78) -> 6 | H83: =OFFSET(Calculator!$E$9,,ROW()-78) -> 6
B84: =OFFSET(Calculator!$E$38,,ROW()-78) -> SR-7a | C84: =OFFSET(Calculator!$E$36,,ROW()-78) -> 64 | D84: =OFFSET(Calculator!$E$6,,ROW()-78) -> 7 | E84: =OFFSET(Calculator!$E$35,,ROW()-78) -> 10 | F84: =OFFSET(Calculator!$E$7,,ROW()-78) -> 7 | G84: =OFFSET(Calculator!$E$8,,ROW()-78) -> 7 | H84: =OFFSET(Calculator!$E$9,,ROW()-78) -> 7
B85: =OFFSET(Calculator!$E$38,,ROW()-78) -> SR-8a | C85: =OFFSET(Calculator!$E$36,,ROW()-78) -> 180 | D85: =OFFSET(Calculator!$E$6,,ROW()-78) -> 8 | E85: =OFFSET(Calculator!$E$35,,ROW()-78) -> 10 | F85: =OFFSET(Calculator!$E$7,,ROW()-78) -> 8 | G85: =OFFSET(Calculator!$E$8,,ROW()-78) -> 8 | H85: =OFFSET(Calculator!$E$9,,ROW()-78) -> 8
B86: =OFFSET(Calculator!$E$38,,ROW()-78) -> SR-9a | C86: =OFFSET(Calculator!$E$36,,ROW()-78) -> 0 | D86: =OFFSET(Calculator!$E$6,,ROW()-78) -> 9 | E86: =OFFSET(Calculator!$E$35,,ROW()-78) -> 10 | F86: =OFFSET(Calculator!$E$7,,ROW()-78) -> 9 | G86: =OFFSET(Calculator!$E$8,,ROW()-78) -> 9 | H86: =OFFSET(Calculator!$E$9,,ROW()-78) -> 9
B87: =OFFSET(Calculator!$E$38,,ROW()-78) -> SR-10a | C87: =OFFSET(Calculator!$E$36,,ROW()-78) -> 70 | D87: =OFFSET(Calculator!$E$6,,ROW()-78) -> 10 | E87: =OFFSET(Calculator!$E$35,,ROW()-78) -> 10 | F87: =OFFSET(Calculator!$E$7,,ROW()-78) -> 10 | G87: =OFFSET(Calculator!$E$8,,ROW()-78) -> 10 | H87: =OFFSET(Calculator!$E$9,,ROW()-78) -> 10
B88: =OFFSET(Calculator!$E$38,,ROW()-78) -> SR-11a | C88: =OFFSET(Calculator!$E$36,,ROW()-78) -> 45 | D88: =OFFSET(Calculator!$E$6,,ROW()-78) -> 11 | E88: =OFFSET(Calculator!$E$35,,ROW()-78) -> 10 | F88: =OFFSET(Calculator!$E$7,,ROW()-78) -> 11 | G88: =OFFSET(Calculator!$E$8,,ROW()-78) -> 11 | H88: =OFFSET(Calculator!$E$9,,ROW()-78) -> 11
B89: =OFFSET(Calculator!$E$38,,ROW()-78) -> SR-12a | C89: =OFFSET(Calculator!$E$36,,ROW()-78) -> 0 | D89: =OFFSET(Calculator!$E$6,,ROW()-78) -> 0 | E89: =OFFSET(Calculator!$E$35,,ROW()-78) -> 10 | F89: =OFFSET(Calculator!$E$7,,ROW()-78) -> 0 | G89: =OFFSET(Calculator!$E$8,,ROW()-78) -> 0 | H89: =OFFSET(Calculator!$E$9,,ROW()-78) -> 0
... B147: =OFFSET(Calculator!$E$38,,ROW()-78) -> SR-70a | C147: =OFFSET(Calculator!$E$36,,ROW()-78) -> 0 | D147: =OFFSET(Calculator!$E$6,,ROW()-78) -> 0 | E147: =OFFSET(Calculator!$E$35,,ROW()-78) -> 10 | F147: =OFFSET(Calculator!$E$7,,ROW()-78) -> 0 | G147: =OFFSET(Calculator!$E$8,,ROW()-78) -> 0 | H147: =OFFSET(Calculator!$E$9,,ROW()-78) -> 0
B148: SLAB
B149: =Calculator!B61 -> 0
B150: TYPES | C150: QTY RAILS | D150: DIAM STUDS | E150: STUD HEIGHT | F150: QTY OF STUD PER RAIL | G150: END SPACING | H150: SPACING BETWEEN STUDS
B151: =OFFSET(Calculator!$E$62,,ROW()-151) -> SR-1b | C151: =OFFSET(Calculator!$E$60,,ROW()-151) -> 0 | D151: =OFFSET(Calculator!$E$6,,ROW()-151) -> 1 | E151: =OFFSET(Calculator!$E$35,,ROW()-151) -> 10 | F151: =OFFSET(Calculator!$E$7,,ROW()-151) -> 1 | G151: =OFFSET(Calculator!$E$8,,ROW()-151) -> 1 | H151: =OFFSET(Calculator!$E$9,,ROW()-151) -> 1
B152: =OFFSET(Calculator!$E$62,,ROW()-151) -> SR-2b | C152: =OFFSET(Calculator!$E$60,,ROW()-151) -> 0 | D152: =OFFSET(Calculator!$E$6,,ROW()-151) -> 2 | E152: =OFFSET(Calculator!$E$35,,ROW()-151) -> 10 | F152: =OFFSET(Calculator!$E$7,,ROW()-151) -> 2 | G152: =OFFSET(Calculator!$E$8,,ROW()-151) -> 2 | H152: =OFFSET(Calculator!$E$9,,ROW()-151) -> 2
B153: =OFFSET(Calculator!$E$62,,ROW()-151) -> SR-3b | C153: =OFFSET(Calculator!$E$60,,ROW()-151) -> 0 | D153: =OFFSET(Calculator!$E$6,,ROW()-151) -> 3 | E153: =OFFSET(Calculator!$E$35,,ROW()-151) -> 10 | F153: =OFFSET(Calculator!$E$7,,ROW()-151) -> 3 | G153: =OFFSET(Calculator!$E$8,,ROW()-151) -> 3 | H153: =OFFSET(Calculator!$E$9,,ROW()-151) -> 3
B154: =OFFSET(Calculator!$E$62,,ROW()-151) -> SR-4b | C154: =OFFSET(Calculator!$E$60,,ROW()-151) -> 0 | D154: =OFFSET(Calculator!$E$6,,ROW()-151) -> 4 | E154: =OFFSET(Calculator!$E$35,,ROW()-151) -> 10 | F154: =OFFSET(Calculator!$E$7,,ROW()-151) -> 4 | G154: =OFFSET(Calculator!$E$8,,ROW()-151) -> 4 | H154: =OFFSET(Calculator!$E$9,,ROW()-151) -> 4
B155: =OFFSET(Calculator!$E$62,,ROW()-151) -> SR-5b | C155: =OFFSET(Calculator!$E$60,,ROW()-151) -> 0 | D155: =OFFSET(Calculator!$E$6,,ROW()-151) -> 5 | E155: =OFFSET(Calculator!$E$35,,ROW()-151) -> 10 | F155: =OFFSET(Calculator!$E$7,,ROW()-151) -> 5 | G155: =OFFSET(Calculator!$E$8,,ROW()-151) -> 5 | H155: =OFFSET(Calculator!$E$9,,ROW()-151) -> 5
...
