Workbook
Name Animation: Paramètrages!$E$2:$E$5
Name Anti_Dopage: Paramètrages!$D$2:$D$5
Name categorie: Inscriptions!#REF!
Name Choisir_une_fonction: Paramètrages!$A$3
Name Chrono_electrique: Paramètrages!$J$2:$J$7
Name Chronometreur: Paramètrages!$I$2:$I$4
Name Directeur_Competition: Paramètrages!$B$2
Name Directeur_Reunion: Paramètrages!$C$2
Name Edition1: Paramètrages!$D$21:$D$43
Name Edition2: Paramètrages!$E$21:$E$43
Name Edition3: Paramètrages!$H$21:$H$25
Name f_licence: OFFSET(p_licence,0,0,COUNTA(l_licence),1)
Name Fonction: Paramètrages!$A$1:$W$1
Name Fonctions2: Paramètrages!$B$21:$B$43
Name Fonctions3: Paramètrages!$C$21:$C$43
Name Juge_Arbitre_Concours: Paramètrages!$M$2:$M$4
Name Juge_Arbitre_Courses: Paramètrages!$L$2:$L$4
Name Juge_arbitre_général: Paramètrages!$K$2:$K$4
Name Jury_Course: Paramètrages!$H$2:$H$5
Name Jury_Disque: Paramètrages!$T$2:$T$5
Name Jury_Hauteur: Paramètrages!$Q$2:$Q$5
Name Jury_Javelot: Paramètrages!$U$2:$U$5
Name Jury_Longueur: Paramètrages!$O$2:$O$5
Name Jury_Marche: Paramètrages!$N$2:$N$6
Name Jury_Marteau: Paramètrages!$S$2:$S$5
Name Jury_Perche: Paramètrages!$R$2:$R$5
Name Jury_Poids: Paramètrages!$V$2:$V$5
Name Jury_Triple_Saut: Paramètrages!$P$2:$P$5
Name l_licence: Inscriptions!$A$5:$A$16
Name Licence: Inscriptions!$A$4:$A$16
Name p_licence: Inscriptions!$A$4
Name Poste102: Paramètrages!$H$13:$H$14
Name Poste112: Paramètrages!$I$13:$I$14
Name Poste122: Paramètrages!$J$13:$J$15
Name Poste132: Paramètrages!$K$13:$K$15
Name Poste142: Paramètrages!$L$13:$L$15
Name Poste152: Paramètrages!$M$13:$M$15
Name Poste162: Paramètrages!$N$13:$N$15
Name Poste172: Paramètrages!$O$13:$O$15
Name Poste182: Paramètrages!$P$13:$P$15
Name Poste192: Paramètrages!$Q$13:$Q$15
Name Poste202: Paramètrages!$R$13:$R$15
Name Poste32: Paramètrages!$A$13:$A$15
Name Poste42: Paramètrages!$B$13:$B$17
Name Poste52: Paramètrages!$C$13:$C$15
Name Poste62: Paramètrages!$D$13:$D$15
Name Poste72: Paramètrages!$E$13:$E$15
Name Poste82: Paramètrages!$F$14:$F$15
Name Poste92: Paramètrages!$G$13:$G$14
Name qualif: Inscriptions!$I$4:$I$16
Name Responsable_matériel: Paramètrages!$W$2
Name Secretariat: Paramètrages!$F$2:$F$7
Name Sous_fonctions: Paramètrages!$A$12:$R$12
Name Ssdomaine: Paramètrages!$G$21:$G$25
Name Starters: Paramètrages!$G$2:$G$5

Sheet Inscriptions
A4: N° de Licence | B4: NOM | C4: Prénom | D4: N° Asso | E4: Asso | F4: Poste | H4: Fonction | I4: Qualification
A5: 100001 | B5: =IF(ISBLANK(A5)," ",(LOOKUP(A5,Base!A:A,Base!B:B))) -> MU | C5: =IF(ISBLANK(A5)," ",LOOKUP(A5,Base!A:A,Base!C:C)) -> J | D5: =IF(ISBLANK(A5)," ",LOOKUP(A5,Base!A:A,Base!F:F)) -> 010010 | E5: =IF(ISBLANK(A5)," ",LOOKUP(A5,Base!A:A,Base!G:G)) -> ASSO1 | F5: Poste20 | G5: =CONCATENATE(F5,2) -> Poste202
A6: 100004 | B6: =IF(ISBLANK(A6)," ",(LOOKUP(A6,Base!A:A,Base!B:B))) -> HE | C6: =IF(ISBLANK(A6)," ",LOOKUP(A6,Base!A:A,Base!C:C)) -> L | D6: =IF(ISBLANK(A6)," ",LOOKUP(A6,Base!A:A,Base!F:F)) -> 040010 | E6: =IF(ISBLANK(A6)," ",LOOKUP(A6,Base!A:A,Base!G:G)) -> ASSO4 | F6: Poste4 | G6: =CONCATENATE(F6,2) -> Poste42
A7: 100011 | B7: =IF(ISBLANK(A7)," ",(LOOKUP(A7,Base!A:A,Base!B:B))) -> ON | C7: =IF(ISBLANK(A7)," ",LOOKUP(A7,Base!A:A,Base!C:C)) -> L | D7: =IF(ISBLANK(A7)," ",LOOKUP(A7,Base!A:A,Base!F:F)) -> 020020 | E7: =IF(ISBLANK(A7)," ",LOOKUP(A7,Base!A:A,Base!G:G)) -> ASSO11 | F7: Poste7 | G7: =CONCATENATE(F7,2) -> Poste72
A8: 100012 | B8: =IF(ISBLANK(A8)," ",(LOOKUP(A8,Base!A:A,Base!B:B))) -> LEV | C8: =IF(ISBLANK(A8)," ",LOOKUP(A8,Base!A:A,Base!C:C)) -> A | D8: =IF(ISBLANK(A8)," ",LOOKUP(A8,Base!A:A,Base!F:F)) -> 030030 | E8: =IF(ISBLANK(A8)," ",LOOKUP(A8,Base!A:A,Base!G:G)) -> ASSO12 | F8: Poste17 | G8: =CONCATENATE(F8,2) -> Poste172
B9: =IF(ISBLANK(A9)," ",(LOOKUP(A9,Base!A:A,Base!B:B))) | C9: =IF(ISBLANK(A9)," ",LOOKUP(A9,Base!A:A,Base!C:C)) | D9: =IF(ISBLANK(A9)," ",LOOKUP(A9,Base!A:A,Base!F:F)) | E9: =IF(ISBLANK(A9)," ",LOOKUP(A9,Base!A:A,Base!G:G)) | F9: Choisir_une_fonction | G9: =CONCATENATE(F9,2) -> Choisir_une_fonction2
B10: =IF(ISBLANK(A10)," ",(LOOKUP(A10,Base!A:A,Base!B:B))) | C10: =IF(ISBLANK(A10)," ",LOOKUP(A10,Base!A:A,Base!C:C)) | D10: =IF(ISBLANK(A10)," ",LOOKUP(A10,Base!A:A,Base!F:F)) | E10: =IF(ISBLANK(A10)," ",LOOKUP(A10,Base!A:A,Base!G:G)) | F10: Choisir_une_fonction | G10: =CONCATENATE(F10,2) -> Choisir_une_fonction2
B11: =IF(ISBLANK(A11)," ",(LOOKUP(A11,Base!A:A,Base!B:B))) | C11: =IF(ISBLANK(A11)," ",LOOKUP(A11,Base!A:A,Base!C:C)) | D11: =IF(ISBLANK(A11)," ",LOOKUP(A11,Base!A:A,Base!F:F)) | E11: =IF(ISBLANK(A11)," ",LOOKUP(A11,Base!A:A,Base!G:G)) | F11: Choisir_une_fonction | G11: =CONCATENATE(F11,2) -> Choisir_une_fonction2
B12: =IF(ISBLANK(A12)," ",(LOOKUP(A12,Base!A:A,Base!B:B))) | C12: =IF(ISBLANK(A12)," ",LOOKUP(A12,Base!A:A,Base!C:C)) | D12: =IF(ISBLANK(A12)," ",LOOKUP(A12,Base!A:A,Base!F:F)) | E12: =IF(ISBLANK(A12)," ",LOOKUP(A12,Base!A:A,Base!G:G)) | F12: Choisir_une_fonction | G12: =CONCATENATE(F12,2) -> Choisir_une_fonction2
B13: =IF(ISBLANK(A13)," ",(LOOKUP(A13,Base!A:A,Base!B:B))) | C13: =IF(ISBLANK(A13)," ",LOOKUP(A13,Base!A:A,Base!C:C)) | D13: =IF(ISBLANK(A13)," ",LOOKUP(A13,Base!A:A,Base!F:F)) | E13: =IF(ISBLANK(A13)," ",LOOKUP(A13,Base!A:A,Base!G:G)) | F13: Choisir_une_fonction | G13: =CONCATENATE(F13,2) -> Choisir_une_fonction2
B14: =IF(ISBLANK(A14)," ",(LOOKUP(A14,Base!A:A,Base!B:B))) | C14: =IF(ISBLANK(A14)," ",LOOKUP(A14,Base!A:A,Base!C:C)) | D14: =IF(ISBLANK(A14)," ",LOOKUP(A14,Base!A:A,Base!F:F)) | E14: =IF(ISBLANK(A14)," ",LOOKUP(A14,Base!A:A,Base!G:G)) | F14: Choisir_une_fonction | G14: =CONCATENATE(F14,2) -> Choisir_une_fonction2
B15: =IF(ISBLANK(A15)," ",(LOOKUP(A15,Base!A:A,Base!B:B))) | C15: =IF(ISBLANK(A15)," ",LOOKUP(A15,Base!A:A,Base!C:C)) | D15: =IF(ISBLANK(A15)," ",LOOKUP(A15,Base!A:A,Base!F:F)) | E15: =IF(ISBLANK(A15)," ",LOOKUP(A15,Base!A:A,Base!G:G)) | F15: Choisir_une_fonction | G15: =CONCATENATE(F15,2) -> Choisir_une_fonction2
B16: =IF(ISBLANK(A16)," ",(LOOKUP(A16,Base!A:A,Base!B:B))) | C16: =IF(ISBLANK(A16)," ",LOOKUP(A16,Base!A:A,Base!C:C)) | D16: =IF(ISBLANK(A16)," ",LOOKUP(A16,Base!A:A,Base!F:F)) | E16: =IF(ISBLANK(A16)," ",LOOKUP(A16,Base!A:A,Base!G:G)) | F16: Choisir_une_fonction | G16: =CONCATENATE(F16,2) -> Choisir_une_fonction2
B17: =IF(ISBLANK(A17)," ",(LOOKUP(A17,Base!A:A,Base!B:B))) | C17: =IF(ISBLANK(A17)," ",LOOKUP(A17,Base!A:A,Base!C:C)) | D17: =IF(ISBLANK(A17)," ",LOOKUP(A17,Base!A:A,Base!F:F)) | E17: =IF(ISBLANK(A17)," ",LOOKUP(A17,Base!A:A,Base!G:G)) | F17: Choisir_une_fonction | G17: =CONCATENATE(F17,2) -> Choisir_une_fonction2
B18: =IF(ISBLANK(A18)," ",(LOOKUP(A18,Base!A:A,Base!B:B))) | C18: =IF(ISBLANK(A18)," ",LOOKUP(A18,Base!A:A,Base!C:C)) | D18: =IF(ISBLANK(A18)," ",LOOKUP(A18,Base!A:A,Base!F:F)) | E18: =IF(ISBLANK(A18)," ",LOOKUP(A18,Base!A:A,Base!G:G)) | F18: Choisir_une_fonction | G18: =CONCATENATE(F18,2) -> Choisir_une_fonction2
B19: =IF(ISBLANK(A19)," ",(LOOKUP(A19,Base!A:A,Base!B:B))) | C19: =IF(ISBLANK(A19)," ",LOOKUP(A19,Base!A:A,Base!C:C)) | D19: =IF(ISBLANK(A19)," ",LOOKUP(A19,Base!A:A,Base!F:F)) | E19: =IF(ISBLANK(A19)," ",LOOKUP(A19,Base!A:A,Base!G:G)) | F19: Choisir_une_fonction | G19: =CONCATENATE(F19,2) -> Choisir_une_fonction2
B20: =IF(ISBLANK(A20)," ",(LOOKUP(A20,Base!A:A,Base!B:B))) | C20: =IF(ISBLANK(A20)," ",LOOKUP(A20,Base!A:A,Base!C:C)) | D20: =IF(ISBLANK(A20)," ",LOOKUP(A20,Base!A:A,Base!F:F)) | E20: =IF(ISBLANK(A20)," ",LOOKUP(A20,Base!A:A,Base!G:G)) | F20: Choisir_une_fonction | G20: =CONCATENATE(F20,2) -> Choisir_une_fonction2
... B103: =IF(ISBLANK(A103)," ",(LOOKUP(A103,Base!A:A,Base!B:B))) | C103: =IF(ISBLANK(A103)," ",LOOKUP(A103,Base!A:A,Base!C:C)) | D103: =IF(ISBLANK(A103)," ",LOOKUP(A103,Base!A:A,Base!F:F)) | E103: =IF(ISBLANK(A103)," ",LOOKUP(A103,Base!A:A,Base!G:G)) | F103: Choisir_une_fonction | G103: =CONCATENATE(F103,2) -> Choisir_une_fonction2

Sheet Base
A1: 100001 | B1: MU | C1: J | D1: 19640622 | E1: M | F1: 010010 | G1: ASSO1 | H1: SIPR | I1: Juge Secrétaire informatique Piste de niveau Régional
A2: 100001 | B2: MU | C2: J | D2: 19640622 | E2: M | F2: 010010 | G2: ASSO1 | H2: SIF | I2: Secrétaire Informatique de Compétition Fédéral
A3: 100001 | B3: MU | C3: J | D3: 19640622 | E3: M | F3: 010010 | G3: ASSO1 | H3: SICR | I3: Juge Secrétaire informatique Cross/Route de niveau Régional
A4: 100002 | B4: HO | C4: P | D4: 19630718 | E4: M | F4: 020010 | G4: ASSO2 | H4: JSD | I4: Juge Sauts Départemental
A5: 100002 | B5: HO | C5: P | D5: 19630718 | E5: M | F5: 020010 | G5: ASSO2 | H5: CLAN | I5: Certification de lecteur d'anémomètre
A6: 100002 | B6: HO | C6: P | D6: 19630718 | E6: M | F6: 020010 | G6: ASSO2 | H6: JSR | I6: Juge Sauts Régional
A7: 100003 | B7: MO | C7: M | D7: 19500503 | E7: F | F7: 030010 | G7: ASSO3 | H7: JCR | I7: Juge Courses Régional
A8: 100003 | B8: MO | C8: M | D8: 19500503 | E8: F | F8: 030010 | G8: ASSO3 | H8: CLAN | I8: Certification de lecteur d'anémomètre
A9: 100003 | B9: MO | C9: M | D9: 19500503 | E9: F | F9: 030010 | G9: ASSO3 | H9: CLPF | I9: Certification lecteur photo finish
A10: 100004 | B10: HE | C10: L | D10: 19651211 | E10: M | F10: 040010 | G10: ASSO4 | H10: JCR | I10: Juge Courses Régional
A11: 100005 | B11: CL | C11: N | D11: 19600822 | E11: F | F11: 050010 | G11: ASSO5 | H11: CAD2 | I11: Délégué Escorteur Anti-Dopage
A12: 100006 | B12: GU | C12: M | D12: 19600624 | E12: F | F12: 060010 | G12: ASSO6 | H12: SID | I12: Secrétaire Informatique de Compétition Départemental
... A33: 100014 | B33: BO | C33: F | D33: 19690616 | E33: M | F33: 020030 | G33: ASSO14 | H33: SICR | I33: Juge Secrétaire informatique Cross/Route de niveau Régional

Sheet Paramètrages
A1: Choisir_un_poste | B1: Poste1 | C1: Poste2 | D1: Poste3 | E1: Poste4 | F1: Poste5 | G1: Poste6 | H1: Poste7 | I1: Poste8 | J1: Poste9 | K1: Poste10 | L1: Poste11 | M1: Poste12 | N1: Poste13 | O1: Poste14 | P1: Poste15 | Q1: Poste16 | R1: Poste17 | S1: Poste18 | T1: Poste19 | U1: Poste20 | V1: Poste21 | W1: Poste22
D3: CAD | E3: AC1 | F3: SID | G3: STD | H3: JCD | I3: CCR | J3: JCP | K3: JAR | L3: JAR | M3: JAR | N3: JMD | O3: JSD | P3: JSD | Q3: JSD | R3: JSD | S3: JLD | T3: JLD | U3: JLD | V3: JLD
D4: CAD2 | E4: AC2 | F4: SIPR | G4: STR | H4: JCR | I4: CCF | J4: JPR | K4: JAF | L4: JAF | M4: JAF | N4: JMR | O4: JSR | P4: JSR | Q4: JSR | R4: JSR | S4: JLR | T4: JLR | U4: JLR | V4: JLR
D5: CAD3 | E5: AC3 | F5: SICR | G5: STF | H5: JCF | J5: CLPF | N5: JMF | O5: JCS | P5: JCS | Q5: JCS | R5: JCS | S5: JCL | T5: JCL | U5: JCL | V5: JCL
F6: SIR | J6: CIMP | N6: JMN
F7: SIF | J7: LFR
A11: Poste3 | B11: Poste4 | C11: Poste5 | D11: Poste6 | E11: Poste7 | F11: Poste8 | G11: Poste9 | H11: Poste10 | I11: Poste11 | J11: Poste12 | K11: Poste13 | L11: Poste14 | M11: Poste15 | N11: Poste16 | O11: Poste17 | P11: Poste18 | Q11: Poste19 | R11: Poste20 | S11: Poste21
A12: =CONCATENATE(A11,2) -> Poste32 | B12: =CONCATENATE(B11,2) -> Poste42 | C12: =CONCATENATE(C11,2) -> Poste52 | D12: =CONCATENATE(D11,2) -> Poste62 | E12: =CONCATENATE(E11,2) -> Poste72 | F12: =CONCATENATE(F11,2) -> Poste82 | G12: =CONCATENATE(G11,2) -> Poste92 | H12: =CONCATENATE(H11,2) -> Poste102 | ... R12: =CONCATENATE(R11,2) -> Poste202
A14: Chef de poste | B14: Officiel | C14: Chef de poste | D14: Chef de poste | E14: Chef de poste | F14: Chef de poste | G14: En formation | H14: En formation | I14: En formation | J14: Chef de poste | K14: Chef de poste | L14: Chef de poste | M14: Chef de poste | N14: Chef de poste | O14: Chef de poste | P14: Chef de poste | Q14: Chef de poste | R14: Chef de poste
A15: En formation | B15: Navette | C15: En formation | D15: En formation | E15: En formation | F15: En formation | J15: En formation | K15: En formation | L15: En formation | M15: En formation | N15: En formation | O15: En formation | P15: En formation | Q15: En formation | R15: En formation
B16: Repro
B17: En formation
