Workbook
Name CIVILITE: #REF!
Name CIVILITE: #REF!
Name CIVILITE: #REF!
Name CIVILITE: #REF!
Name CIVILITE: #REF!
Name CONDUCTEUR_DE_TRAVAUX: #REF!
Name CONDUCTEUR_DE_TRAVAUX: #REF!
Name CONDUCTEUR_DE_TRAVAUX: #REF!
Name CONDUCTEUR_DE_TRAVAUX: #REF!
Name CONDUCTEUR_DE_TRAVAUX: #REF!
Name CONTACT: #REF!
Name CONTACT: #REF!
Name CONTACT: #REF!
Name CONTACT: #REF!
Name CONTACT: #REF!
Name CP: #REF!
Name CP: #REF!
Name CP: #REF!
Name CP: #REF!
Name CP: #REF!
Name ECHEANCE: #REF!
Name ECHEANCE: #REF!
Name ECHEANCE: #REF!
Name ECHEANCE: #REF!
Name ECHEANCE: #REF!
Name ENTREPRISE: #REF!
Name ENTREPRISE: #REF!
Name ENTREPRISE: #REF!
Name ENTREPRISE: #REF!
Name ENTREPRISE: #REF!
Name FONCTION: #REF!
Name FONCTION: #REF!
Name FONCTION: #REF!
Name FONCTION: #REF!
Name FONCTION: #REF!
Name VILLE: #REF!
Name VILLE: #REF!
Name VILLE: #REF!
Name VILLE: #REF!
Name VILLE: #REF!

Sheet 2016
A1: CHANTIERS 2016
B4: CHANTIER PAYE | D4: TOTAL FACTURE | E4: JANVIER | F4: FEVRIER | G4: MARS | H4: AVRIL | I4: MAI | J4: JUIN | K4: JUILLET | L4: AOÛT | M4: SEPTEMBRE | N4: OCTOBRE | O4: NOVEMBRE | P4: DÉCEMBRE
B5: CHANTIER EN ATTENTE DE PAIEMENT | D5: =SUM(H5:P5) -> 17316.6 | H5: =G13+G14+G15+G16+G17+G18+G19+G20 -> 4079.6 | I5: =G21+G22+G23+G24+G27 -> 2213.4 | J5: =G32+G31+G30+G29+G28+G26+G25 -> 3027.15 | K5: =SUM(G33:G36) -> 1844.5 | L5: =SUM(G37) -> 531.65 | M5: =SUM(G38:G40) -> 1247.75 | N5: =SUM(G42:G45) -> 1410.5 | O5: =+G46+G47+G49 -> 1410.5 | P5: =SUM(G50:G54) -> 1551.55
B6: CHANTIER EN ATTENTE | D6: =+D5+E6+F6+G6 -> 26794.08 | E6: 4009.08 | F6: 3558.8 | G6: 1909.6
B7: DEVIS EN ATTENTE | D7: AVEC AES | E7: SOUS AES
A10: CHANTIER | D10: ENTEPRISE | G10: MONTANT TTC | H10: DATE | P10: OBSERVATION
A11: N° | B11: NOM | C11: LIEU | D11: NOM | E11: CONTACT | H11: DEVIS | I11: ESSAIS EFFECTUES | J11: FACTURE | K11: REGLEMENT
E12: CONDUCTEUR DE TRAVAUX CHEF D'ENTREPRISE | F12: CHEF DE CHANTIER | K12: ECHEANCE | L12: PREVU | M12: N° FACTURE | N12: CHEQUE | O12: VIREMENT
A13: 16-1 | B13: BAGATELLE | C13: GROS MORNE | D13: CDC | E13: Jonathan RUIZ | F13: Marc | G13: 477.4 | H13: NEANT | I13: 42464 | J13: 42464 | K13: 2 MOIS 10 DU MOIS | L13: 42531 | M13: F-1604-1 | N13: 42544 | P13: payent bien et ont des chantiers à venir
A14: 16-2 | B14: Maison de M. ARON Rte de BALATA | C14: FORT DE France | D14: OEGTP SAS | E14: Marc Olivier RASCAR | G14: 477.4 | H14: NEANT | I14: 42468 | J14: 42468 | K14: 1 MOIS FIN DE MOIS | L14: 42520 | M14: F-1604-2 | O14: 42536 | P14: payent bien et ont des chantiers à venir
A15: 16-3 | B15: espace sportif et associatif | C15: SAINT JOSEPH | D15: GYP CONSTRUCTIONS SARL | E15: M. LOUISIA | G15: 477.4 | H15: 42474 | I15: 42480 | J15: 42480 | K15: TOUT DE SUITE | M15: F-1604-3 | N15: 42485 | P15: payent super bien et ont des chantiers à venir
A16: 16-4 | B16: GESTRAM | C16: ANSE D'ARLET | D16: OEGTP SAS | E16: Marc Olivier RASCAR | G16: 911.4 | H16: NEANT | I16: 42478 | J16: 42478 | K16: 1 MOIS FIN DE MOIS | L16: 42520 | M16: F-1604-4 | O16: 42536 | P16: payent bien et ont des chantiers à venir
A17: 16-5 | B17: BAGATELLE trou grue | C17: GROS MORNE | D17: CDC | E17: Jonathan RUIZ | F17: Marc | G17: 477.4 | H17: NEANT | I17: 42479 | J17: 42479 | K17: 2 MOIS 10 DU MOIS | L17: 42561 | M17: F-1604-5 | N17: 42577 | P17: payent bien et ont des chantiers à venir
A18: 16-6 | B18: Usine du SIMON | C18: FRANCOIS | D18: HERVE DE JAHAM | E18: Olivier BALLY | G18: 390.6 | H18: NEANT | I18: 42482 | J18: 42482 | K18: 1 MOIS FIN DE MOIS | L18: 42520 | M18: F-1604-6 | N18: 42636 | P18: payent bien
A19: 16-7 | B19: CCIM entrée | C19: SCHOELCHER | D19: NORCABAT | E19: M. PALAMY | F19: Jean Marc CESTO | G19: 390.6 | H19: NEANT | I19: 42488 | J19: 42488 | K19: 1 MOIS FIN DE MOIS | L19: 42520 | M19: F-1604-7 | O19: 42549 | P19: ATTENTION, problème de trésorerie car pas payés. Me payent après
A20: 16-8 | B20: BAGATELLE | C20: GROS MORNE | D20: TRASS | G20: 477.4 | H20: NEANT | I20: 42489 | J20: 42489 | K20: 1 MOIS FIN DE MOIS | L20: 42520 | M20: F-1604-8 | N20: 42510 | P20: payent bien
A21: 16-9 | B21: HOTEL DE POLICE | C21: FORT DE France | D21: CDC | E21: Alex MONDESIR | F21: M. CLOTAIL | G21: 651 | H21: NEANT | I21: 42514 | J21: 42514 | K21: 2 MOIS 10 DU MOIS | L21: 42592 | M21: F-1605-9 | N21: 42605 | P21: payent bien
A22: 16-10 | B22: Résidence KASSIOPE | C22: LES TROIS ILETS | D22: HERVE DE JAHAM | E22: Olivier BALLY | G22: 303.8 | H22: NEANT | I22: 42514 | J22: 42514 | K22: 1 MOIS FIN DE MOIS | L22: 42551 | M22: F-1605-10 | N22: 42543 | P22: payent bien
A23: 16-11 | B23: BAGATELLE | C23: GROS MORNE | D23: CDC | E23: Jonathan RUIZ | F23: M. RENGASSAMY | G23: 390.6 | H23: NEANT | I23: 42516 | J23: 42516 | K23: 2 MOIS 10 DU MOIS | L23: 42592 | M23: F-1605-11 | N23: 42605 | P23: payent bien
A24: 16-12 | B24: CCIM entrée | C24: SCHOELCHER | D24: NORCABAT | E24: M. PALAMY | F24: Jean Marc CESTO | G24: 390.6 | H24: NEANT | I24: 42520 | J24: 42520 | K24: 1 MOIS FIN DE MOIS | L24: 42551 | M24: F-1605-12 | O24: 42549 | P24: ATTENTION, problème de trésorerie car pas payés. Me payent après
A25: 16-13 | B25: MORNE VERT | C25: DUCOS | D25: CDC | E25: Jean Baptiste DUCHAMP DE CHASTAIGNE | F25: MICHEL ETIENNE | G25: 477.4 | H25: NEANT | I25: 42523 | J25: 42523 | K25: 2 MOIS 10 DU MOIS | L25: 42592 | M25: F-1606-13 | N25: 42605 | P25: payent bien
A26: 16-14 | B26: BAGATELLE | C26: GROS MORNE | D26: CDC | E26: Jonathan RUIZ | F26: M. RENGASSAMY | G26: 390.6 | H26: NEANT | I26: 42529 | J26: 42529 | K26: 2 MOIS 10 DU MOIS | L26: 42592 | M26: F-1606-14 | N26: 42605 | P26: payent bien
A27: 16-15 | B27: DECHETERIE CHOCO CHOISY | C27: St JOSEPH | D27: CDC | E27: Jonathan RUIZ | G27: 477.4 | H27: NEANT | I27: 42520 | J27: 42520 | K27: 2 MOIS 10 DU MOIS | L27: 42592 | M27: F-1605-15 | N27: 42605 | P27: payent bien
A28: 16-16 | B28: SMHLM | C28: St ESPRIT | D28: PROVIAB | E28: M. MARCELIN | G28: 477.4 | H28: NEANT | I28: 42534 | J28: 42535 | K28: 1 MOIS FIN DE MOIS | L28: 42582 | M28: F-1606-16 | N28: 43027 | P28: payent bien
A29: 16-17 | B29: RIVIERE BLANCHE | C29: St JOSEPH | D29: ETP | E29: M. EDWARD | G29: 390.6 | H29: NEANT | I29: 42534 | J29: 42535 | K29: TOUT DE SUITE | M29: F-1606-17 | N29: 42543 | P29: payent bien
A30: 16-18 | B30: LA MAUGEE 2 | C30: St JOSEPH | D30: CDC | E30: Jonathan RUIZ | F30: M. LAFOLLE | G30: 325.5 | H30: NEANT | I30: 42538 | J30: 42538 | K30: 2 MOIS 10 DU MOIS | L30: 42623 | M30: F-1606-18 | N30: 42636 | P30: payent bien
A31: 16-19 | B31: STATION SERVICE | C31: ROBERT | D31: OEGTP SAS | E31: Marc Olivier RASCAR | G31: 401.45 | H31: NEANT | I31: 42544 | J31: 42544 | K31: 1 MOIS FIN DE MOIS | L31: 42582 | M31: F-1606-19 | O31: 42632 | P31: payent super bien et ont des chantiers à venir
A32: 16-20 | B32: CCIM | C32: SCHOELCHER | D32: NORCABAT | E32: M. PALAMY | F32: Jean Marc CESTO | G32: 564.2 | H32: NEANT | I32: 42548 | J32: 42548 | K32: 1 MOIS FIN DE MOIS | L32: 42618 | M32: F-1606-20 | O32: 42702 | P32: ATTENTION, problème de trésorerie car pas payés. Me payent après
A33: 16-21 | B33: STATION SERVICE | C33: ROBERT | D33: OEGTP SAS | E33: Marc Olivier RASCAR | G33: 705.25 | H33: NEANT | I33: 42556 | J33: 42556 | K33: 1 MOIS FIN DE MOIS | L33: 42613 | M33: F-1607-21 | O33: 42632 | P33: payent super bien et ont des chantiers à venir
A34: 16-22 | B34: BELLEVUE | C34: MACOUBA | D34: HERVE DE JAHAM | E34: Olivier BALLY | G34: 444.85 | H34: NEANT | I34: 42576 | J34: 42576 | K34: 1 MOIS FIN DE MOIS | L34: 42613 | M34: F-1607-22 | N34: 42671 | P34: payent super bien et ont des chantiers à venir
A35: 16-23 | B35: BELLE ETOILE | C35: St JOSEPH | D35: G'Oplus | E35: Frantz VERNON | G35: 303.8 | H35: NEANT | I35: 42576 | J35: 42576 | K35: 1 MOIS FIN DE MOIS | L35: 42613 | M35: F-1607-23 | O35: 42579 | P35: payent super bien et ont des chantiers à venir
A36: 16-24 | B36: HOTEL DE POLICE | C36: FORT DE France | D36: CDC | E36: Alex MONDESIR | F36: M. RENGASSAMY | G36: 390.6 | H36: NEANT | I36: 42580 | J36: 42580 | K36: 2 MOIS 10 DU MOIS | L36: 42653 | M36: F-1607-24 | N36: 42670 | P36: payent bien et ont des chantiers à venir
A37: 16-25 | B37: SIMAR - MORNE DES ESSES | C37: SAINTE MARIE | D37: GYP CONSTRUCTIONS SARL | E37: M. LOUISIA | G37: 531.65 | H37: NEANT | I37: 42608 | J37: 42608 | K37: 45 JOURS | L37: 42643 | M37: F-1608-25 | N37: 43027
A38: 16-26 | B38: CCIM | C38: SCHOELCHER | D38: NORCABAT | E38: M. PALAMY | F38: Jean Marc CESTO | G38: 477.4 | H38: NEANT | I38: 42625 | J38: 42625 | K38: 1 MOIS FIN DE MOIS | L38: 42674 | M38: F-1609-26 | O38: 42702
A39: 16-27 | B39: LA MAUGEE 2 | C39: St JOSEPH | D39: CDC | E39: Jean Baptiste DUCHAMP DE CHASTAIGNE | F39: M. GERIER | G39: 325.5 | H39: NEANT | I39: 42626 | J39: 42626 | K39: 2 MOIS 10 DU MOIS | L39: 42684 | M39: F-1609-27 | N39: 43071 | P39: payent bien
A40: 16-28 | B40: SIMAR - MORNE DES ESSES | C40: SAINTE MARIE | D40: GYP CONSTRUCTIONS SARL | E40: M. LOUISIA | G40: 444.85 | H40: NEANT | I40: 42629 | J40: 42629 | K40: 1 MOIS FIN DE MOIS | L40: 42674 | M40: F-1609-28 | N40: 43027
A41: 16-29 | B41: SIMAR - MORNE DES ESSES | C41: SAINTE MARIE | D41: GYP CONSTRUCTIONS SARL | E41: M. LOUISIA | G41: 444.85 | H41: NEANT | I41: 42649 | J41: 42649 | K41: 1 MOIS FIN DE MOIS | L41: 42704 | M41: F-1610-29 | N41: 43027
A42: 16-30 | B42: CCIM | C42: SCHOELCHER | D42: NORCABAT | E42: M. PALAMY | F42: Jean Marc CESTO | G42: 390.6 | H42: NEANT | I42: 42654 | J42: 42654 | K42: 1 MOIS FIN DE MOIS | L42: 42704 | M42: F-1610-30 | O42: 42702
A43: 16-31 | B43: LA MAUGEE 2 | C43: St JOSEPH | D43: CDC | E43: Jean Baptiste DUCHAMP DE CHASTAIGNE | G43: 325.5 | H43: NEANT | I43: 42664 | J43: 42664 | K43: 2 MOIS 10 DU MOIS | L43: 42745 | M43: F-1610-31 | N43: 42759
A44: 16-32 | B44: OFFICE DU TOURISME | C44: LE MARIN | D44: TRAV BTP | E44: M. BORRY | G44: 303.8 | H44: NEANT | I44: 42664 | J44: 42664 | M44: F-1610-32 | N44: 42671
...

Sheet 2017
A1: CHANTIERS 2017
B4: CHANTIER PAYE | D4: TOTAL FACTURE | E4: JANVIER | F4: FEVRIER | G4: MARS | H4: AVRIL | I4: MAI | J4: JUIN | K4: JUILLET | L4: AOÛT | M4: SEPTEMBRE | N4: OCTOBRE | O4: NOVEMBRE | P4: DÉCEMBRE
B5: CHANTIER EN ATTENTE DE PAIEMENT | C5: 2017 | D5: =SUM(E5:P5) -> 29858.5 | E5: =SUM(H13:H19) -> 4018.12 | F5: =SUM(H20:H21) -> 1085 | G5: =SUM(H22:H34)-H25 -> 5110.36 | H5: =SUM(H35:H42) -> 4144.7 | I5: =SUM(H43:H50)-H49 -> 3764.95 | J5: =SUM(H51:H54) -> 1871.63 | K5: =SUM(H55:H60) -> 3386.29 | L5: =SUM(H61:H62) -> 726.95 | M5: =SUM(H64) -> 444.85 | N5: =SUM(H65:H66) -> 792.05 | O5: =SUM(H67:H69)+H63 -> 1833.65 | P5: =SUM(H70:H76)-H75 -> 2679.95
B6: CHANTIER EN ATTENTE | C6: 2016 | D6: =SUM(E6:P6) -> 26794.08 | E6: 4009.08 | F6: 3558.8 | G6: 1909.6 | H6: ='2016'!H5 -> 4079.6 | I6: ='2016'!I5 -> 2213.4 | J6: ='2016'!J5 -> 3027.15 | K6: ='2016'!K5 -> 1844.5 | L6: ='2016'!L5 -> 531.65 | M6: ='2016'!M5 -> 1247.75 | N6: ='2016'!N5 -> 1410.5 | O6: ='2016'!O5 -> 1410.5 | P6: ='2016'!P5 -> 1551.55
B7: DEVIS EN ATTENTE | C7: 2017 - 2016 | D7: =IF(D5="","",D5-D6) -> 3064.42 | E7: =IF(E5="","",E5-E6) -> 9.04 | F7: =IF(F5="","",F5-F6) -> -2473.8 | G7: =IF(G5="","",G5-G6) -> 3200.76 | H7: =IF(H5="","",H5-H6) -> 65.1 | I7: =IF(I5="","",I5-I6) -> 1551.55 | J7: =IF(J5="","",J5-J6) -> -1155.52 | K7: =IF(K5="","",K5-K6) -> 1541.79 | ... P7: =IF(P5="","",P5-P6) -> 1128.4
A10: CHANTIER | D10: ENTEPRISE | H10: MONTANT TTC | I10: DATE | R10: OBSERVATION
A11: N° | B11: NOM | C11: LIEU | D11: NOM | E11: CONTACT | I11: DEVIS | J11: ESSAIS | K11: FACTURE | L11: REGLEMENT
E12: CONDUCTEUR DE TRAVAUX | F12: CHEF DE CHANTIER | G12: CHEF D'ENTRERPISE | J12: EFFECTUES | L12: ECHEANCE | M12: PREVU | N12: RELANCE | O12: N° FACTURE | P12: CHEQUE | Q12: VIREMENT
A13: 17-01 | B13: LA MAUGEE 2 | C13: St JOSEPH | D13: CDC | E13: Jean Baptiste DUCHAMP DE CHASTAIGNE | F13: M. GERIER | H13: 325.5 | I13: NEANT | J13: 42744 | K13: 42744 | L13: 2 MOIS 10 DU MOIS FIN DE MOIS | M13: 42804 | N13: 42824 | O13: F-170101 | P13: 42759 | S13: ?
A14: 17-02 | B14: LOTISSEMENT LES OLIVIERS | C14: SAINT ESPRIT | D14: LOCAMAT ANTILLES | E14: Julie MARRY | H14: 390.6 | I14: NEANT | J14: 42745 | K14: 42745 | L14: 1 MOIS FIN DE MOIS | M14: 42794 | N14: 42772 | O14: F-1701-02 | P14: 42761 | Q14: 42761 | R14: Essais déjà effectués cf chantier 16-43
A15: 17-03 | B15: CCIM | C15: SCHOELCHER | D15: NORCABAT | F15: M. CESTO | G15: M. PALAMY | H15: 651 | I15: NEANT | J15: 42747 | K15: 42747 | L15: 2 MOIS | M15: 42806 | N15: 42800 | O15: F-1701-03 | Q15: 42832
A16: 17-04 | B16: GIRATOIRE MORNE AUX BŒUFS | C16: LE CARBET | D16: CARAIB MOTER | E16: Gladys GROS-DESORMEAUX | F16: M. JOREL | H16: 888.62 | I16: 42751 | J16: 42751 | K16: 42751 | L16: 45 JOURS | M16: 42796 | N16: 42804 | O16: F-1701-04 | Q16: 42830 | R16: NOUVEAUX TARIFS -10%
A17: 17-05 | B17: CCIM | C17: SCHOELCHER | D17: NORCABAT | F17: M. CESTO | G17: M. PALAMY | H17: 564.2 | I17: NEANT | J17: 42754 | K17: 42754 | L17: 2 MOIS | M17: 42813 | N17: 42800 | O17: F-1701-05 | Q17: 42832
A18: 17-06 | B18: CCIM | C18: SCHOELCHER | D18: NORCABAT | F18: M. CESTO | G18: M. PALAMY | H18: 651 | I18: NEANT | J18: 42766 | K18: 42766 | L18: 2 MOIS | M18: 42825 | N18: 42800 | O18: F-1701-06 | Q18: 42832
A19: 17-07 | B19: SMHLM | C19: St ESPRIT | D19: PROVIAB | G19: M. MARCELIN | H19: 547.2 | I19: NEANT | J19: 42766 | K19: 42766 | L19: 1 MOIS FIN DE MOIS | M19: 42794 | N19: 42800 | O19: F-1701-07 | Q19: 42801 | R19: NOUVEAUX TARIFS
A20: 17-08 | B20: PREVOTEAU | C20: LE LAMENTIN | D20: HERVE DE JAHAM | E20: Olivier BALLY | H20: 444.85 | I20: NEANT | J20: 42773 | K20: 42773 | L20: 1 MOIS FIN DE MOIS | M20: 42825 | N20: 42832 | O20: F-1702-08 | P20: 42852 | R20: NOUVEAUX TARIFS
A21: 17-09 | B21: GESTRAM | C21: LES ANSES D'ARLET | D21: C REEL SERVICES + | E21: André MONLOUIS-BONHEUR | F21: Johnny LECNACH | H21: 640.15 | I21: NEANT | J21: 42775 | K21: 42775 | L21: 1 MOIS FIN DE MOIS | M21: 42825 | N21: 42832 | O21: F-1702-09 | Q21: 42831 | R21: NOUVEAUX TARIFS
A22: 17-10 | B22: GIRATOIRE MORNE AUX BŒUFS | C22: LE CARBET | D22: CARAIB MOTER | E22: Gladys GROS-DESORMEAUX | F22: M. JOREL | H22: 537.08 | I22: 42796 | J22: 42796 | K22: 42796 | L22: 45 JOURS | M22: 42842 | N22: 42845 | O22: F-1703-10 | Q22: 42859 | R22: NOUVEAUX TARIFS -10%
A23: 17-11 | B23: CCIM | C23: SCHOELCHER | D23: NORCABAT | F23: M. CESTO | G23: M. PALAMY | H23: 737.8 | I23: NEANT | J23: 42797 | K23: 42797 | L23: 2 MOIS | M23: 42858 | N23: 4/5+17/5+6/6 | O23: F-1703-11 | Q23: 42895
A24: 17-12 | B24: FAUBOURG LACAMILLE | C24: FORT DE France | D24: SAGNE TP | F24: M. BAVIER | G24: M. PALAMY | H24: 444.85 | I24: NEANT | J24: 42801 | K24: 42801 | L24: 2 MOIS | M24: 42862 | N24: 4/5+17/5+6/6 | O24: F-1703-12 | Q24: 42895 | R24: NOUVEAUX TARIFS
A25: 16-36 | B25: AGRANDISSEMENT AEROPORT | C25: LE LAMENTIN | D25: CDC | H25: 16275 | I25: 42690 | L25: 2 MOIS 10 DU MOIS
A26: 16-39 | B26: LES HAUTS DE LA MARINA ETANG Z'ABRICOT | C26: LE LAMENTIN | D26: SIMP | I26: NEANT | R26: PREVU EN JANVIER 2017
A27: 16-40 | B27: CARREFOUR LA MEYNARD | C27: FORT DE France | D27: CARICAN | I27: NEANT | L27: 1 MOIS FIN DE MOIS | R27: TEMPS POURRI DONC REPORTE
A28: 17-13 | B28: SCI ATTIS | C28: LE LAMENTIN | D28: HERVE DE JAHAM | E28: Olivier BALLY | H28: 444.85 | I28: NEANT | J28: 42802 | K28: 42802 | L28: 1 MOIS FIN DE MOIS | M28: 42855 | N28: 42865 | O28: F-1703-13 | P28: 42894 | R28: NOUVEAUX TARIFS
A29: 17-14 | B29: FAUBOURG LACAMILLE | C29: FORT DE France | D29: SAGNE TP | F29: M. BAVIER | G29: M. PALAMY | H29: 444.85 | I29: NEANT | J29: 42803 | K29: 42803 | L29: 2 MOIS | M29: 42864 | N29: 4/5+17/5+6/6 | O29: F-1703-14 | Q29: 42895 | R29: NOUVEAUX TARIFS
A30: 17-15 | B30: FAUBOURG LACAMILLE | C30: FORT DE France | D30: SAGNE TP | F30: M. BAVIER | G30: M. PALAMY | H30: 444.85 | I30: NEANT | J30: 42807 | K30: 42807 | L30: 2 MOIS | M30: 42868 | N30: A relancer en oct qd il sera payé | O30: F-1703-15 | P30: 42958 | R30: NOUVEAUX TARIFS Chantier fini. Déjà relancé les 4/5 + 17/5 + 26/5 + 6/6 +15/7 + 24/7 + 31/7
A31: 17-16 | B31: LES TERRASSES DE LA PLAGE | C31: LES TROIS ILEST | D31: SDTP SARL | G31: Gérard GIACOMETTI | H31: 444.85 | I31: 42808 | J31: 42814 | K31: 42814 | O31: F-1703-16 | P31: 42872 | R31: NOUVEAUX TARIFS
A32: 17-17 | B32: GIRATOIRE MORNE AUX BŒUFS | C32: LE CARBET | D32: CARAIB MOTER | E32: Gladys GROS-DESORMEAUX | H32: 537.08 | I32: 42808 | J32: 42809 | K32: 42809 | L32: 45 JOURS | M32: 42853 | O32: F-1703-17 | Q32: 42859 | R32: NOUVEAUX TARIFS -10%
A33: 17-18 | B33: GIRATOIRE MORNE AUX BŒUFS | C33: LE CARBET | D33: CARAIB MOTER | E33: Gladys GROS-DESORMEAUX | H33: 449.19 | I33: 42817 | J33: 42818 | K33: 42818 | L33: 45 JOURS | M33: 42863 | N33: 42865 | O33: F-1703-18 | Q33: 42887 | R33: NOUVEAUX TARIFS -10%
A34: 17-19 | B34: GIRATOIRE MORNE AUX BŒUFS | C34: LE CARBET | D34: CARAIB MOTER | E34: Gladys GROS-DESORMEAUX | H34: 624.96 | I34: 42824 | J34: 42825 | K34: 42825 | L34: 45 JOURS | M34: 42870 | N34: 42865 | O34: F-1703-19 | Q34: 42887 | R34: NOUVEAUX TARIFS -10%
A35: 17-20 | B35: CABINET DENTAIRE | C35: SAINT JOSEPH | D35: G'Oplus | E35: M. VERNON | G35: M. VERNON | H35: 444.85 | I35: NEANT | J35: 42828 | K35: 42828 | L35: 1 MOIS FIN DE MOIS | M35: 42886 | N35: 42872 | O35: F-1704-20 | P35: 42886 | R35: NOUVEAUX TARIFS
A36: 17-21 | B36: CCIM | C36: SCHOELCHER | D36: NORCABAT | F36: M. CESTO | G36: M. PALAMY | H36: 651 | I36: NEANT | J36: 42829 | K36: 42829 | L36: 2 MOIS | M36: 42890 | N36: 42892 | O36: F-1704-21 | Q36: 42895 | R36: NOUVEAUX TARIFS
A37: 17-22 | B37: SCI ATTIS | C37: LE LAMENTIN | D37: HERVE DE JAHAM | E37: Olivier BALLY | H37: 835.45 | I37: NEANT | J37: 42828 | K37: 42828 | L37: 1 MOIS FIN DE MOIS | M37: 42886 | N37: 10/5 + 6/6 + 8/6 + 29/6 | O37: F-1704-22 | P37: 42921 | R37: NOUVEAUX TARIFS
A38: 17-23 | B38: GRANDE TERRE | C38: FORT DE France | D38: CDC | E38: Jean Baptiste DUCHAMP DE CHASTAIGNE | F38: Régis WACOGNE | H38: 325.5 | I38: NEANT | J38: 42831 | K38: 42831 | L38: 30 jours à compter du 9 mai mais il faudra compter 2 mois 10 du mois | M38: 42926 | O38: F-1704-23 | P38: 42941 | R38: TARIF IDEM LA MAUGEE 2 : 80 / 60 / 100
A39: 17-24 | B39: FRANPRIX | C39: LORRAIN | D39: OEGTP | E39: Marc Olivier RASCAR | H39: 401.45 | I39: NEANT | J39: 42836 | K39: 42836 | L39: 1 MOIS FIN DE MOIS | M39: 42886 | N39: 31/5 + 6/6 + 14/6 + 29/6 + 12/7 + 20/7 + 8/9 | O39: F-1704-24 | R39: NOUVEAUX TARIFS
A40: 17-25 | B40: CARRIERE ERNOULT | C40: SCHOELCHER | D40: CDC | E40: Jean Baptiste DUCHAMP DE CHASTAIGNE | F40: M. RUTHER | H40: 770.35 | I40: NEANT | J40: 42837 | K40: 42837 | L40: 30 jours à compter du 9 mai mais il faudra compter 2 mois 10 du mois | M40: 42926 | O40: F-1704-25 | P40: 42941 | R40: NOUVEAUX TARIFS AVEC ESSAIS = 80
A41: 17-26 | B41: CARRIERE ERNOULT | C41: SCHOELCHER | D41: CDC | E41: Jean Baptiste DUCHAMP DE CHASTAIGNE | F41: M. RUTHER | H41: 173.6 | I41: NEANT | J41: 42837 | K41: 42837 | L41: 30 jours à compter du 9 mai mais il faudra compter 2 mois 10 du mois | M41: 42926 | O41: F-1704-26 | P41: 42941 | R41: NOUVEAUX TARIFS AVEC ESSAIS = 80
A42: 17-27 | B42: GUY VIEULES | C42: LAMENTIN | D42: CDC | E42: Alex MONDESIR | F42: M. RENGASSAMY | H42: 542.5 | I42: NEANT | J42: 42849 | K42: 42849 | L42: 2 MOIS 10 DU MOIS FIN DE MOIS | M42: 42940 | O42: F-1704-27 | P42: 42942 | R42: NOUVEAUX TARIFS
A43: 17-28 | B43: FRANPRIX | C43: LORRAIN | D43: OEGTP | E43: Marc Olivier RASCAR | H43: 596.75 | I43: NEANT | J43: 42857 | K43: 42857 | L43: 1 MOIS FIN DE MOIS | M43: 42916 | N43: 30/6 + 12/7 + 20/7 + 8/9 | O43: F-1704-28 | R43: NOUVEAUX TARIFS
A44: 17-29 | B44: FAUBOURG LACAMILLE | C44: FORT DE France | D44: SAGNE TP | F44: M. BAVIER | G44: M. PALAMY | H44: 347.2 | I44: NEANT | J44: 42859 | K44: 42859 | L44: 2 MOIS | M44: 42920 | N44: A relancer en oct qd il sera payé | O44: F-1705-29 | P44: 42958 | R44: NOUVEAUX TARIFS Chantier fini. Déjà relancé les 26/5 + 6/6 +15/7 + 24/7 + 31/7
...

Sheet 2018
A1: CHANTIERS 2018
B4: CHANTIER PAYE | D4: TOTAL FACTURE | E4: JANVIER | F4: FEVRIER | G4: MARS | H4: AVRIL | I4: MAI | J4: JUIN | K4: JUILLET | L4: AOÛT | M4: SEPTEMBRE | N4: OCTOBRE | O4: NOVEMBRE | P4: DÉCEMBRE
B5: CHANTIER EN ATTENTE DE PAIEMENT | C5: 2018 | D5: =SUM(E5:P5) -> 32967.76 | E5: =SUM($H$13:$H$23)-$H$20-$H$22 -> 4957.37 | F5: =SUM($H$24:$H$33)+$H$20+$H$22-$H$28-$H$30 -> 4881.42 | G5: =SUM($H$34:$H$49)+$H$28 -> 10407.34 | H5: =SUM($H$50:$H$53) -> 2104.9 | I5: =SUM($H$54:$H$59) -> 2777.6 | J5: =SUM($H$60:$H$67)+$H$30 -> 4361.7 | K5: =SUM($H$69:$H$75) -> 3477.43
B6: CHANTIER EN ATTENTE | C6: 2017 | D6: =SUM(E6:P6) -> 29858.5 | E6: 4018.12 | F6: 1085 | G6: 5110.36 | H6: 4144.7 | I6: 3764.95 | J6: 1871.63 | K6: 3386.29 | L6: 726.95 | M6: 444.85 | N6: 792.05 | O6: 1833.65 | P6: 2679.95
B7: DEVIS EN ATTENTE | C7: 2018 - 2017 | D7: =SUM(E7:P7) -> 9586.71 | E7: =IF(E5="","",E5-E6) -> 939.25 | F7: =IF(F5="","",F5-F6) -> 3796.42 | G7: =IF(G5="","",G5-G6) -> 5296.98 | H7: =IF(H5="","",H5-H6) -> -2039.8 | I7: =IF(I5="","",I5-I6) -> -987.35 | J7: =IF(J5="","",J5-J6) -> 2490.07 | K7: =IF(K5="","",K5-K6) -> 91.14 | L7: =IF(L5="","",L5-L6) | ... P7: =IF(P5="","",P5-P6)
C8: 2016 | D8: =SUM(E8:P8) -> 17316.6 | E8: 4009,08 € sous AES | F8: 3558,8 € sous AES | G8: 1909,6 € sous AES | H8: ='2016'!H5 -> 4079.6 | I8: ='2016'!I5 -> 2213.4 | J8: ='2016'!J5 -> 3027.15 | K8: ='2016'!K5 -> 1844.5 | L8: ='2016'!L5 -> 531.65 | M8: ='2016'!M5 -> 1247.75 | N8: ='2016'!N5 -> 1410.5 | O8: ='2016'!O5 -> 1410.5 | P8: ='2016'!P5 -> 1551.55
A10: CHANTIER | D10: ENTEPRISE | H10: MONTANT TTC | I10: DATE | R10: OBSERVATIONS
A11: N° | B11: NOM | C11: LIEU | D11: NOM | E11: CONTACT | I11: DEVIS | J11: ESSAIS | K11: FACTURE | L11: REGLEMENT
E12: CONDUCTEUR DE TRAVAUX | F12: CHEF DE CHANTIER | G12: CHEF D'ENTRERPISE | J12: EFFECTUES | L12: ECHEANCE | M12: PREVU | N12: A RELANCER | O12: N° FACTURE | P12: CHEQUE | Q12: VIREMENT
A13: 18-01 | B13: VENUTOLO | C13: CLUNY | D13: NIAGARA | G13: Eriv VINCENT | H13: 444.85 | I13: NEANT | J13: 43104 | K13: 43104 | L13: TOUT DE SUITE | M13: 43105 | O13: F-1801-01 | P13: 43117
A14: 18-02 | B14: CLEMENT | C14: LE FRANCOIS | D14: HERVE DE JAHAM | E14: Olivier BALLY | F14: Cédric JEGO | H14: 2158.07 | I14: NEANT | J14: 43115 | K14: 43130 | L14: 1 MOIS FIN DE MOIS | M14: 43190 | O14: F-1801-02 | P14: 43179 | R14: trop d'essais pour une facture à chaque chantier donc 1 facture mensuelle
A15: 18-03 | B15: OUVRAGE PHILIBO | C15: LE LAMENTIN | D15: CARAIB MOTER | E15: Gladys GROS-DESORMEAUX | F15: José ADELISE | H15: 347.2 | I15: NEANT | J15: 43119 | K15: 43119 | L15: 45 JOURS FIN DE MOIS | M15: 43190 | O15: F-1801-03 | Q15: 43194 | R15: 1ère intervention le 16/01
A16: 18-04 | B16: CLEMENT | C16: LE FRANCOIS | D16: HERVE DE JAHAM | E16: Olivier BALLY | F16: Cédric JEGO | H16: cf 18-02 | I16: NEANT | J16: 43116 | K16: 43130 | L16: 1 MOIS FIN DE MOIS | M16: cf 18-02 | O16: F-1801-02 | R16: trop d'essais pour une facture à chaque chantier donc 1 facture mensuelle
A17: 18-05 | B17: SCI GEMINI | C17: LE LAMENTIN | D17: CDC | E17: Jean-Baptiste DUCHAMP DE CHASTAIGNE | H17: 444.85 | I17: NEANT | J17: 43117 | K17: 43117 | L17: 2 MOIS 10 DU MOIS FIN DE MOIS | M17: 10/04/2018 donc 25/04/18 | O17: F-1801-05 | P17: 43211
A18: 18-06 | B18: CARYOTAS | C18: FORT DE France | D18: CDC | E18: Jean Baptiste DUCHAMP DE CHASTAIGNE | F18: Hubert Jean Privât | H18: 423.15 | I18: NEANT | J18: 43125 | K18: 43125 | L18: 2 MOIS 10 DU MOIS FIN DE MOIS | M18: 10/04/2018 donc 25/04/18 | O18: F-1801-06 | P18: 43243
A19: 18-07 | B19: 59 MAXIME | C19: LE LORRAIN | D19: PROVIAB | G19: M. MARCELIN | H19: 596.75 | I19: NEANT | J19: 43126 | K19: 43126 | L19: 1 MOIS FIN DE MOIS | M19: 43159 | O19: F-1801-07 | Q19: 43153
A20: 18-08 | B20: 59 MAXIME | C20: LE LORRAIN | D20: PROVIAB | G20: M. MARCELIN | H20: 401.45 | I20: NEANT | J20: 43152 | K20: 43152 | L20: 1 MOIS FIN DE MOIS | M20: 43190 | O20: F-1801-08 | Q20: 43153
A21: 18-09 | B21: CLEMENT | C21: LE FRANCOIS | D21: HERVE DE JAHAM | E21: Olivier BALLY | F21: Cédric JEGO | H21: cf 18-02 | I21: NEANT | J21: 43130 | K21: 43130 | L21: 1 MOIS FIN DE MOIS | M21: cf 18-02 | O21: F-1801-02 | R21: trop d'essais pour une facture à chaque chantier donc 1 facture mensuelle
A22: 18-10 | B22: SCI MAO | C22: LE ROBERT | D22: CONSTRUCTION PLUS EURL | G22: Hervé ELY-MARIUS | H22: 444.85 | I22: 30/01/2018 31/01/2018 | J22: 43153 | K22: 43153 | L22: TOUT DE SUITE | M22: 43153 | O22: F-1801-10 | P22: 43158 | R22: 1ère intervention 31/01 mais trop mouillé attendre qu'il y ai plus d'épaisseur
A23: 18-11 | B23: SMHLM GONDEAU | C23: FORT DE France | D23: CDC | E23: Alex MONDESIR | H23: 542.5 | I23: NEANT | J23: 43131 | K23: 43131 | L23: 2 MOIS 10 DU MOIS FIN DE MOIS | M23: 10/04/2018 donc 25/04/18 | O23: F-1801-11 | P23: 43211
A24: 18-12 | B24: EOLE DILLON | C24: FORT DE France | D24: CDC | E24: Jean Baptiste DUCHAMP DE CHASTAIGNE | F24: Mathurin GERIER | H24: 423.15 | I24: NEANT | J24: 43143 | K24: 43143 | L24: 2 MOIS 10 DU MOIS FIN DE MOIS | M24: 10/05/2018 donc 25/05/18 | O24: F-1802-12 | P24: 43272
A25: 18-13 | B25: VIVRE EN BOIS | C25: LE ROBERT | D25: TRASS | G25: Philippe André REGIS | H25: 542.5 | I25: 43147 | J25: 43150 | K25: 43150 | L25: 3 SEMAINES | M25: 43171 | O25: F-1802-13 | Q25: 43172
A26: 18-14 | B26: SDIS | C26: LE LAMENTIN | D26: CARICAN | F26: Monsieur BEAUNOIR | G26: Olivier TENEBAY | H26: 444.85 | I26: 16/02/2018 20/02/2018 20/02/2018 | J26: 43153 | K26: 43153 | L26: 1 MOIS FIN DE MOIS | M26: 43190 | O26: F-1802-14 | P26: 43223 | R26: 1ère intervention 16/02 mais trop mouillé
A27: 18-15 | B27: CAP MARIN STATION | C27: LE MARIN | D27: SAGNE TP | F27: Alain FRANCIS | G27: M. PALAMY | H27: 444.85 | I27: NEANT | J27: 43150 | K27: 43150 | L27: 2 MOIS | M27: 43209 | O27: F-1802-15 | P27: 43188
A28: 18-16 | B28: POLE ACAJOU | C28: LE LAMENTIN | D28: SOGEA | E28: Vincent MARQUINE | F28: Daniel RENGASSAMY | H28: 347.2 | I28: NEANT | J28: 43167 | K28: 43167 | L28: 45 JOURS | M28: 43233 | O28: F-1802-16 | Q28: 43244 | R28: échéance à 45 jours à partir de l'envoi du BDC
A29: 18-17 | B29: CLEMENT | C29: LE FRANCOIS | D29: HERVE DE JAHAM | E29: Olivier BALLY | F29: Cédric JEGO | H29: 400.37 | I29: NEANT | J29: 43153 | K29: 43159 | L29: 2 MOIS | M29: 43233 | O29: F-1802-17 | P29: 43223
A30: 18-18 | B30: SERVICES TECHNIQUES | C30: LES TROIS ILETS | D30: GYP | E30: Henry LOUISIA | H30: 542.5 | I30: NEANT | J30: 43255 | K30: 43255 | L30: 45 JOURS | M30: 43300 | O30: F-1802-18 | R30: 1er intervention le 22/02 pour voir état matériau : matériau mouillé. 2ème intervention 4-5 jours après : quand compacteur passe, ça bouge, ça fait de la boue. 3ème intervention le 20/3 : 1er essai pas bon. Résultat M. Louisia décide de changer le matériau,.
A31: 18-19 | B31: POLE ACAJOU | C31: LE LAMENTIN | D31: CDC | E31: Alex MONDESIR | H31: 542.5 | I31: NEANT | J31: 43154 | K31: 43154 | L31: 2 MOIS 10 DU MOIS FIN DE MOIS | M31: 43244 | O31: F-1802-19 | P31: 43243
A32: 18-20 | B32: CHAI N°1 LASSALLE SAINT JAMES | C32: SAINTE MARIE | D32: HERVE DE JAHAM | E32: Olivier BALLY | H32: 596.75 | I32: NEANT | J32: 43158 | K32: 43158 | L32: 1 MOIS FIN DE MOIS | M32: 43190 | O32: F-1802-20 | P32: 43223
A33: 18-21 | B33: 13 LOGEMENTS PERRINON | C33: LE FRANCOIS | D33: GYP | E33: Henry LOUISIA | H33: 640.15 | I33: NEANT | J33: 43159 | K33: 43159 | L33: 1 SEMAINE | M33: 43166 | O33: F-1802-21 | Q33: 43194
A34: 18-22 | B34: CLEMENT | C34: LE FRANCOIS | D34: HERVE DE JAHAM | E34: Olivier BALLY | F34: Cédric JEGO | H34: 2382.66 | I34: NEANT | J34: 43160 | K34: 43160 | L34: 2 MOIS | M34: 20/05/18 car dernier chantier 20/03 | O34: F-1803-22 | P34: 43250 | R34: trop d'essais pour une facture à chaque chantier donc 1 facture mensuelle
A35: 18-23 | B35: GIRATOIRE MORNE AUX BŒUFS | C35: LE CARBET | D35: CARAIB MOTER | E35: Gladys GROS-DESORMEAUX | H35: 537.08 | I35: NEANT | J35: 43164 | K35: 43164 | L35: 45 JOURS FIN DE MOIS | M35: 43220 | O35: F-1803-23 | Q35: 43217
A36: 18-24 | B36: CARRIERE ERNOULT | C36: SCHOELCHER | D36: CDC | E36: Jean Baptiste DUCHAMP DE CHASTAIGNE | F36: M. RUTHER | H36: 771.44 | I36: NEANT | J36: 43166 | K36: 43166 | L36: 2 MOIS 10 DU MOIS FIN DE MOIS | M36: 10/05/2018 donc 25/05/18 | O36: F-1803-24 | P36: 43243 | R36: le 5/3 pas prêts
A37: 18-25 | B37: CHAI N°2 LASSALLE SAINT JAMES | C37: SAINTE MARIE | D37: HERVE DE JAHAM | E37: Olivier BALLY | H37: 596.75 | I37: NEANT | J37: 43160 | K37: 43160 | L37: 2 MOIS | M37: 43221 | O37: F-1803-25 | P37: 43250
A38: 18-26 | B38: STATION ACAJOU | C38: LE LAMENTIN | D38: SOGEA | E38: Julie LAUZEA | H38: 400.37 | I38: 43165 | J38: 43167 | K38: 43167 | L38: 45 JOURS | M38: 43233 | O38: F-1803-26 | Q38: 43251 | R38: échéance à 45 jours à partir de l'envoi du BDC
A39: 18-27 | B39: GIRATOIRE MORNE AUX BŒUFS | C39: LE CARBET | D39: CARAIB MOTER | E39: Gladys GROS-DESORMEAUX | H39: 800.73 | I39: NEANT | J39: 43167 | K39: 43167 | L39: 45 JOURS FIN DE MOIS | M39: 43220 | O39: F-1803-27 | Q39: 43217
A40: 18-28 | B40: OPERATION RECULEE SMHLM | C40: SAINTE MARIE | D40: SDTP SARL | G40: Gérard GIACOMETTI | H40: 499.1 | I40: 43174 | J40: 43178 | K40: 43178 | L40: TOUT DE SUITE | M40: 43178 | O40: F-1803-28 | P40: 43216 | R40: paiement finalement à 1,5 mois
A41: 18-29 | B41: OZANAM | C41: SAINTE MARIE | D41: SAGNE TP | F41: Marius | G41: M. PALAMY | H41: 694.4 | I41: NEANT | J41: 43185 | K41: 43185 | L41: 2 MOIS | M41: 43246 | O41: F-1803-29 | P41: 43257
A42: 18-30 | B42: POLE ACAJOU | C42: LE LAMENTIN | D42: SOGEA | E42: Vincent MARQUINE | H42: 347.2 | I42: NEANT | J42: 43178 | K42: 43178 | L42: 45 JOURS | M42: 43233 | O42: F-1803-30 | Q42: 43244 | R42: échéance à 45 jours à partir de l'envoi du BDC
A43: 18-31 | B43: LES HAUTS DE LA MARINA ETANG Z'ABRICOT | C43: LE LAMENTIN | D43: SGTPM | E43: Alexis DROBOWSKI | G43: M. David COUTA | H43: 651 | I43: NEANT | J43: 43178 | K43: 43178 | L43: 45 JOURS | M43: 43224 | O43: F-1803-31 | P43: 43245
...

Sheet 2018 EN ATTENTE DE PAIEMENT
A1: CHANTIERS 2018 EN ATTENTE DE PAIEMENT PAR CLIENT | M1: =SUM(G8:G98) -> 9108.58
A5: CHANTIER | D5: CONTACT | G5: MONTANT TTC
A6: N° | B6: NOM | C6: LIEU | H6: ESSAIS | I6: REGLEMENT
D7: CONDUCTEUR DE TRAVAUX | E7: CHEF DE CHANTIER | F7: CHEF D'ENTRERPISE | H7: EFFECTUES | I7: ECHEANCE | J7: PREVU | K7: RELANCE | L7: N° FACTURE | M7: OBSERVATION
A10: BTMF | C10: =SUM(#REF!) -> #REF!
A12: C REEL SERVICES +
A15: CARAIB MOTER | C15: =SUM(G16:G18) -> 1236.9
A16: 18-49 | B16: CFTU | C16: FDF | D16: Gladys GROS-DESORMEAUX | G16: 347.2 | H16: 43257 | I16: 45 JOURS FIN DE MOIS | J16: 43312 | L16: F-1806-49
A17: 18-55 | B17: SAMAC | C17: LE LAMENTIN | D17: Gladys GROS-DESORMEAUX | G17: 444.85 | H17: 43278 | I17: 45 JOURS FIN DE MOIS | J17: 43343 | L17: F-1806-55
A18: 18-61 | B18: CFTU | C18: FDF | D18: Gladys GROS-DESORMEAUX | G18: 444.85 | H18: 43293 | I18: 45 JOURS FIN DE MOIS | J18: 43343 | L18: F-1807-61
A20: CARICAN | C20: =SUM(G21:G22) -> 889.7
A21: 18-43 | B21: PAUI MORNE DESAIX | C21: FORT DE France | D21: CARICAN | F21: Olivier TENEBAY | G21: 444.85 | H21: 43235 | I21: 1 MOIS FIN DE MOIS | J21: 43281 | L21: F-1805-43
A22: 18-46 | B22: APID FRANCOIS | C22: LE FRANCOIS | D22: CARICAN | F22: Olivier TENEBAY | G22: 444.85 | H22: 43246 | I22: 1 MOIS FIN DE MOIS | J22: 43281 | L22: F-1805-46
A24: CCTP-M
A26: CDC | C26: =SUM(G27:G30) -> 2213.4
A27: 18-39 | B27: ALMA DOMINA | C27: SAINT JOSEPH | D27: Jean Baptiste DUCHAMP DE CHASTAIGNE | G27: 423.15 | H27: 43203 | I27: 2 MOIS 10 DU MOIS FIN DE MOIS | J27: 10/07/2018 donc 25/07/18 | L27: F-1804-39
A28: 18-53 | B28: GRANDE TERRE | C28: FORT DE France | D28: Jean Baptiste DUCHAMP DE CHASTAIGNE | E28: Mathurin GERIER | G28: 509.95 | H28: 43259 | I28: 2 MOIS 10 DU MOIS FIN DE MOIS | J28: 43373 | L28: F-1806-53 | M28: septembre car facture envoyée le dimanche 10 juin
A29: 18-57 | B29: FRANPRIX | C29: LES TROIS ILETS | D29: Alex MONDESIR | E29: Daniel RENGASSAMY | G29: 640.15 | H29: 43285 | I29: 2 MOIS 10 DU MOIS FIN DE MOIS | J29: 43373 | L29: F-1807-57
A30: 18-58 | B30: TDF | C30: LE LAMENTIN | D30: Alex MONDESIR | E30: NEW MEXICAIN | G30: 640.15 | H30: 43287 | I30: 2 MOIS 10 DU MOIS FIN DE MOIS | J30: 43373 | L30: F-1807-58
A32: CONSTRUCTION PLUS EURL
A35: DGM CONSTRUCTION PLUS
A38: DRUTINUS
A41: ETP
A44: G'OPLUS
A47: GYP CONSTRUCTIONS | C47: =G48 -> 542.5
A48: 18-18 | B48: SERVICES TECHNIQUES | C48: LES TROIS ILETS | D48: Henry LOUISIA | G48: 542.5 | H48: 43255 | I48: 45 JOURS | J48: 43300 | L48: F-1802-18 | M48: 1er intervention le 22/02 pour voir état matériau : matériau mouillé. 2ème intervention 4-5 jours après : quand compacteur passe, ça bouge, ça fait de la boue. 3ème intervention le 20/3 : 1er essai pas bon. Résultat M. Louisia décide de changer le matériau,.
A50: HERVE DE JAHAM | C50: =SUM(G51:G51) -> 542.5
A51: 18-51 | B51: MONTAIGNE 3 | C51: LE LAMENTIN | D51: Olivier BALLY | E51: Antoine REYNAL | G51: 542.5 | H51: 43258 | I51: 2 MOIS | J51: 43319 | L51: F-1806-51
A53: JLTP | C53: =SUM(G54) -> 515.38
A54: 18-62 | B54: CFTU | C54: FDF | D54: Thomas MARCOT | G54: 515.38 | H54: 43294 | I54: 45 JOURS FIN DE MOIS | J54: 43343 | L54: F-1807-62
A56: LOCAMAT ANTILLES | C56: =SUM(G57:G57) -> 444.85
A57: 18-52 | B57: SARL MINICHOCO | C57: SAINT JOSEPH | D57: Julie MARIE | G57: 444.85 | H57: 43259 | I57: 1 MOIS FIN DE MOIS | J57: 43312 | L57: F-1806-52
A59: NIAGARA SARL
A62: OEGTP SAS | C62: =SUM(G63:G64) -> 792.05
A63: 18-60 | B63: 198 LOGTS RIV ROCHE | C63: FORT DE France | F63: Marc Olivier RASCAR | G63: 347.2 | H63: 43292 | I63: 1 MOIS FIN DE MOIS | J63: 43343 | L63: F-1807-60
A64: 18-63 | B64: 198 LOGTS RIV ROCHE | C64: FORT DE France | F64: Marc Olivier RASCAR | G64: 444.85 | H64: 43304 | I64: 1 MOIS FIN DE MOIS | J64: 43343 | L64: F-1807-63
A66: PROVIAB
A69: SAGNE TP | C69: =SUM(G70:G71) -> 943.95
A70: 18-44 | B70: ROXELANE | C70: SAINT PIERRE | F70: M. PALAMY | G70: 401.45 | H70: 43238 | I70: 2 MOIS | J70: 43299 | L70: F-1805-44
A71: 18-50 | B71: MONTAIGNE 3 | C71: LE LAMENTIN | F71: M. PALAMY | G71: 542.5 | H71: 43257 | I71: 2 MOIS | J71: 43318 | L71: F-1806-50
...

Sheet 2017+2018 EN ATTENTE
A1: CHANTIERS 2017 ET 2018 EN ATTENTE DE PAIEMENT | O1: =SUM(H7:H45) -> 11701.73
E2: =SUM(H7:H11) -> 2593.15 | F2: =SUM(H12:H49) -> 9108.58 | G2: dont | H2: =SUM(H12:H16) -> 2256.8 | K2: en retard
A4: CHANTIER | D4: ENTEPRISE | H4: MONTANT TTC | I4: DATE
A5: N° | B5: NOM | C5: LIEU | D5: NOM | E5: CONTACT | I5: DEVIS | J5: ESSAIS | K5: REGLEMENT
E6: CONDUCTEUR DE TRAVAUX | F6: CHEF DE CHANTIER | G6: CHEF D'ENTRERPISE | J6: EFFECTUES | K6: ECHEANCE | L6: PREVU | M6: RELANCE | N6: N° FACTURE | O6: OBSERVATION
A7: 17-24 | B7: FRANPRIX | C7: LORRAIN | D7: OEGTP | E7: Marc Olivier RASCAR | H7: 401.45 | I7: NEANT | J7: 42836 | K7: 1 MOIS FIN DE MOIS | L7: 42886 | M7: 31/5 + 6/6 + 14/6 + 29/6 + 12/7 + 20/7 + 8/9 + 26/3 + 03/4 | N7: F-1704-24 | O7: NOUVEAUX TARIFS
A8: 17-28 | B8: FRANPRIX | C8: LORRAIN | D8: OEGTP | E8: Marc Olivier RASCAR | H8: 596.75 | I8: NEANT | J8: 42857 | K8: 1 MOIS FIN DE MOIS | L8: 42916 | M8: 30/6 + 12/7 + 20/7 + 8/9 + 26/3 + 03/4 | N8: F-1704-28 | O8: NOUVEAUX TARIFS
A9: 17-30 | B9: FRANPRIX | C9: LORRAIN | D9: OEGTP | E9: Marc Olivier RASCAR | H9: 401.45 | I9: NEANT | J9: 42860 | K9: 1 MOIS FIN DE MOIS | L9: 42916 | M9: 30/6 + 12/7 + 20/7 + 8/9 + 26/3 + 03/4 | N9: F-1705-30 | O9: NOUVEAUX TARIFS
A10: 17-33 | B10: FRANPRIX | C10: LORRAIN | D10: OEGTP | E10: Marc Olivier RASCAR | H10: 596.75 | I10: NEANT | J10: 42871 | K10: 1 MOIS FIN DE MOIS | L10: 42916 | M10: 30/6 + 12/7 + 20/7 + 8/9 + 26/3 + 03/4 | N10: F-1705-33 | O10: NOUVEAUX TARIFS
A11: 17-41 | B11: FRANPRIX | C11: LORRAIN | D11: OEGTP | E11: Marc Olivier RASCAR | H11: 596.75 | I11: NEANT | J11: 42927 | K11: 1 MOIS FIN DE MOIS | L11: 42978 | M11: 8/9 + 26/3 + 03/4 | N11: F-1707-41 | O11: NOUVEAUX TARIFS
A12: 18-43 | B12: PAUI MORNE DESAIX | C12: FORT DE France | D12: CARICAN | G12: Olivier TENEBAY | H12: 444.85 | I12: 43222 | J12: 43235 | K12: 1 MOIS FIN DE MOIS | L12: 43281 | M12: 2/7 + 16/7 | N12: F-1805-43
A13: 18-46 | B13: APID FRANCOIS | C13: LE FRANCOIS | D13: CARICAN | G13: Olivier TENEBAY | H13: 444.85 | I13: 43244 | J13: 43246 | K13: 1 MOIS FIN DE MOIS | L13: 43281 | M13: 2/7 + 16/7 | N13: F-1805-46
A14: 18-44 | B14: ROXELANE | C14: SAINT PIERRE | D14: SAGNE TP | G14: M. PALAMY | H14: 401.45 | I14: NEANT | J14: 43238 | K14: 2 MOIS | L14: 43299 | M14: 16/7 | N14: F-1805-44
A15: 18-18 | B15: SERVICES TECHNIQUES | C15: LES TROIS ILETS | D15: GYP | E15: Henry LOUISIA | H15: 542.5 | I15: NEANT | J15: 43255 | K15: 45 JOURS | L15: 43300 | M15: 16/7 | N15: F-1802-18 | O15: 1er intervention le 22/02 pour voir état matériau : matériau mouillé. 2ème intervention 4-5 jours après : quand compacteur passe, ça bouge, ça fait de la boue. 3ème intervention le 20/3 : 1er essai pas bon. Résultat M. Louisia décide de changer le matériau,.
A16: 18-39 | B16: ALMA DOMINA | C16: SAINT JOSEPH | D16: CDC | E16: Jean Baptiste DUCHAMP DE CHASTAIGNE | H16: 423.15 | I16: NEANT | J16: 43203 | K16: 2 MOIS 10 DU MOIS FIN DE MOIS | L16: 10/07/2018 donc 25/07/18 | N16: F-1804-39
A17: 18-59 | B17: VIVRE EN BOIS | C17: LE ROBERT | D17: TRASS | G17: Philippe André REGIS | H17: 444.85 | I17: NEANT | J17: 43286 | K17: 3 SEMAINES | L17: 43307 | N17: F-1807-59
A18: 18-52 | B18: SARL MINICHOCO | C18: SAINT JOSEPH | D18: LOCAMAT ANTILLES | E18: Julie MARIE | H18: 444.85 | I18: NEANT | J18: 43259 | K18: 1 MOIS FIN DE MOIS | L18: 43312 | M18: chèque parti | N18: F-1806-52
A19: 18-49 | B19: CFTU | C19: FDF | D19: CARAIB MOTER | E19: Gladys GROS-DESORMEAUX | H19: 347.2 | I19: NEANT | J19: 43257 | K19: 45 JOURS FIN DE MOIS | L19: 43312 | N19: F-1806-49
A20: 18-54 | B20: LES HAUTS DE LA MARINA ETANG Z'ABRICOT | C20: LE LAMENTIN | D20: SGTPM | E20: Alexis DROBOWSKI | G20: M. David COUTA | H20: 542.5 | I20: NEANT | J20: 43272 | K20: 45 JOURS | L20: 43317 | N20: F-1806-54
A21: 18-50 | B21: MONTAIGNE 3 | C21: LE LAMENTIN | D21: SAGNE TP | E21: Alain FRANCIS | G21: M. PALAMY | H21: 542.5 | I21: NEANT | J21: 43257 | K21: 2 MOIS | L21: 43318 | N21: F-1806-50
A22: 18-51 | B22: MONTAIGNE 3 | C22: LE LAMENTIN | D22: HERVE DE JAHAM | E22: Olivier BALLY | F22: Antoine REYNAL | H22: 542.5 | I22: NEANT | J22: 43258 | K22: 2 MOIS | L22: 43319 | N22: F-1806-51
A23: 18-55 | B23: SAMAC | C23: LE LAMENTIN | D23: CARAIB MOTER | E23: Gladys GROS-DESORMEAUX | H23: 444.85 | I23: NEANT | J23: 43278 | K23: 45 JOURS FIN DE MOIS | L23: 43343 | N23: F-1806-55
A24: 18-60 | B24: 198 LOGTS RIV ROCHE | C24: FORT DE France | D24: OEGTP | G24: Marc Olivier RASCAR | H24: 347.2 | I24: NEANT | J24: 43292 | K24: 1 MOIS FIN DE MOIS | L24: 43343 | N24: F-1807-60
A25: 18-61 | B25: CFTU | C25: FDF | D25: CARAIB MOTER | E25: Gladys GROS-DESORMEAUX | H25: 444.85 | I25: NEANT | J25: 43293 | K25: 45 JOURS FIN DE MOIS | L25: 43343 | N25: F-1807-61
A26: 18-62 | B26: CFTU | C26: FDF | D26: JLTP | E26: Thomas MARCOT | H26: 515.38 | I26: NEANT | J26: 43294 | K26: 45 JOURS FIN DE MOIS | L26: 43343 | N26: F-1807-62
A27: 18-63 | B27: 198 LOGTS RIV ROCHE | C27: FORT DE France | D27: OEGTP | G27: Marc Olivier RASCAR | H27: 444.85 | I27: NEANT | J27: 43304 | K27: 1 MOIS FIN DE MOIS | L27: 43343 | N27: F-1807-63
A28: 18-53 | B28: GRANDE TERRE | C28: FORT DE France | D28: CDC | E28: Jean Baptiste DUCHAMP DE CHASTAIGNE | F28: Mathurin GERIER | H28: 509.95 | I28: NEANT | J28: 43259 | K28: 2 MOIS 10 DU MOIS FIN DE MOIS | L28: 43373 | N28: F-1806-53 | O28: septembre car facture envoyée le dimanche 10 juin
A29: 18-57 | B29: FRANPRIX | C29: LES TROIS ILETS | D29: CDC | E29: Alex MONDESIR | F29: Daniel RENGASSAMY | H29: 640.15 | I29: NEANT | J29: 43285 | K29: 2 MOIS 10 DU MOIS FIN DE MOIS | L29: 43373 | N29: F-1807-57
A30: 18-58 | B30: TDF | C30: LE LAMENTIN | D30: CDC | E30: Alex MONDESIR | F30: NEW MEXICAIN | H30: 640.15 | I30: NEANT | J30: 43287 | K30: 2 MOIS 10 DU MOIS FIN DE MOIS | L30: 43373 | N30: F-1807-58
B32: EN VERT = demande de paiement par virement car hors du département.
