Workbook

Sheet CALENDRIER 2S
C1: Année | D1: 2020 | I1: Mois | J1: 1 | N1: Jour de début | O1: 2 | Q1: 1:Dim, 2:Lun… | AA1: CALENDRIERS ANNUELS par Vertex42.com
B3: =IF($J$1=1,D1,D1&"-"&D1+1) -> 2020
B4: 80 | C4: Haute saison | F4: 55 | G4: Basse saison | AA4: ← Entrez un titre ou supprimez/masquez cette ligne
B6: =DATE(D1,J1,1) -> 43831 | J6: =DATE(YEAR(B6+42),MONTH(B6+42),1) -> 43862 | R6: =DATE(YEAR(J6+42),MONTH(J6+42),1) -> 43891
B7: =CHOOSE(1+MOD($O$1+1-2,7),"D","L","M","M","J","V","S") -> L | C7: =CHOOSE(1+MOD($O$1+2-2,7),"D","L","M","M","J","V","S") -> M | D7: =CHOOSE(1+MOD($O$1+3-2,7),"D","L","M","M","J","V","S") -> M | E7: =CHOOSE(1+MOD($O$1+4-2,7),"D","L","M","M","J","V","S") -> J | F7: =CHOOSE(1+MOD($O$1+5-2,7),"D","L","M","M","J","V","S") -> V | G7: =CHOOSE(1+MOD($O$1+6-2,7),"D","L","M","M","J","V","S") -> S | H7: =CHOOSE(1+MOD($O$1+7-2,7),"D","L","M","M","J","V","S") -> D | J7: =CHOOSE(1+MOD($O$1+1-2,7),"D","L","M","M","J","V","S") -> L | K7: =CHOOSE(1+MOD($O$1+2-2,7),"D","L","M","M","J","V","S") -> M | L7: =CHOOSE(1+MOD($O$1+3-2,7),"D","L","M","M","J","V","S") -> M | M7: =CHOOSE(1+MOD($O$1+4-2,7),"D","L","M","M","J","V","S") -> J | N7: =CHOOSE(1+MOD($O$1+5-2,7),"D","L","M","M","J","V","S") -> V | O7: =CHOOSE(1+MOD($O$1+6-2,7),"D","L","M","M","J","V","S") -> S | P7: =CHOOSE(1+MOD($O$1+7-2,7),"D","L","M","M","J","V","S") -> D | R7: =CHOOSE(1+MOD($O$1+1-2,7),"D","L","M","M","J","V","S") -> L | S7: =CHOOSE(1+MOD($O$1+2-2,7),"D","L","M","M","J","V","S") -> M | T7: =CHOOSE(1+MOD($O$1+3-2,7),"D","L","M","M","J","V","S") -> M | U7: =CHOOSE(1+MOD($O$1+4-2,7),"D","L","M","M","J","V","S") -> J | V7: =CHOOSE(1+MOD($O$1+5-2,7),"D","L","M","M","J","V","S") -> V | W7: =CHOOSE(1+MOD($O$1+6-2,7),"D","L","M","M","J","V","S") -> S | X7: =CHOOSE(1+MOD($O$1+7-2,7),"D","L","M","M","J","V","S") -> D | AA7: Choisissez un nouveau modèle de couleurs : Accédez Mise en page > Couleurs pour modifier les couleurs du thème, ou à Mise en Page > Polices pour modifier les polices du thème.
B8: =IF(WEEKDAY(B6,1)=MOD($O$1,7),B6,"") | C8: =IF(B8="",IF(WEEKDAY(B6,1)=MOD($O$1,7)+1,B6,""),B8+1) | D8: =IF(C8="",IF(WEEKDAY(B6,1)=MOD($O$1+1,7)+1,B6,""),C8+1) -> 43831 | E8: =IF(D8="",IF(WEEKDAY(B6,1)=MOD($O$1+2,7)+1,B6,""),D8+1) -> 43832 | F8: =IF(E8="",IF(WEEKDAY(B6,1)=MOD($O$1+3,7)+1,B6,""),E8+1) -> 43833 | G8: =IF(F8="",IF(WEEKDAY(B6,1)=MOD($O$1+4,7)+1,B6,""),F8+1) -> 43834 | H8: =IF(G8="",IF(WEEKDAY(B6,1)=MOD($O$1+5,7)+1,B6,""),G8+1) -> 43835 | J8: =IF(WEEKDAY(J6,1)=MOD($O$1,7),J6,"") | K8: =IF(J8="",IF(WEEKDAY(J6,1)=MOD($O$1,7)+1,J6,""),J8+1) | L8: =IF(K8="",IF(WEEKDAY(J6,1)=MOD($O$1+1,7)+1,J6,""),K8+1) | M8: =IF(L8="",IF(WEEKDAY(J6,1)=MOD($O$1+2,7)+1,J6,""),L8+1) | N8: =IF(M8="",IF(WEEKDAY(J6,1)=MOD($O$1+3,7)+1,J6,""),M8+1) | O8: =IF(N8="",IF(WEEKDAY(J6,1)=MOD($O$1+4,7)+1,J6,""),N8+1) -> 43862 | P8: =IF(O8="",IF(WEEKDAY(J6,1)=MOD($O$1+5,7)+1,J6,""),O8+1) -> 43863 | R8: =IF(WEEKDAY(R6,1)=MOD($O$1,7),R6,"") | S8: =IF(R8="",IF(WEEKDAY(R6,1)=MOD($O$1,7)+1,R6,""),R8+1) | T8: =IF(S8="",IF(WEEKDAY(R6,1)=MOD($O$1+1,7)+1,R6,""),S8+1) | U8: =IF(T8="",IF(WEEKDAY(R6,1)=MOD($O$1+2,7)+1,R6,""),T8+1) | V8: =IF(U8="",IF(WEEKDAY(R6,1)=MOD($O$1+3,7)+1,R6,""),U8+1) | W8: =IF(V8="",IF(WEEKDAY(R6,1)=MOD($O$1+4,7)+1,R6,""),V8+1) | X8: =IF(W8="",IF(WEEKDAY(R6,1)=MOD($O$1+5,7)+1,R6,""),W8+1) -> 43891
B9: =IF(H8="","",IF(MONTH(H8+1)<>MONTH(H8),"",H8+1)) -> 43836 | C9: =IF(B9="","",IF(MONTH(B9+1)<>MONTH(B9),"",B9+1)) -> 43837 | D9: =IF(C9="","",IF(MONTH(C9+1)<>MONTH(C9),"",C9+1)) -> 43838 | E9: =IF(D9="","",IF(MONTH(D9+1)<>MONTH(D9),"",D9+1)) -> 43839 | F9: =IF(E9="","",IF(MONTH(E9+1)<>MONTH(E9),"",E9+1)) -> 43840 | G9: =IF(F9="","",IF(MONTH(F9+1)<>MONTH(F9),"",F9+1)) -> 43841 | H9: =IF(G9="","",IF(MONTH(G9+1)<>MONTH(G9),"",G9+1)) -> 43842 | J9: =IF(P8="","",IF(MONTH(P8+1)<>MONTH(P8),"",P8+1)) -> 43864 | K9: =IF(J9="","",IF(MONTH(J9+1)<>MONTH(J9),"",J9+1)) -> 43865 | L9: =IF(K9="","",IF(MONTH(K9+1)<>MONTH(K9),"",K9+1)) -> 43866 | M9: =IF(L9="","",IF(MONTH(L9+1)<>MONTH(L9),"",L9+1)) -> 43867 | N9: =IF(M9="","",IF(MONTH(M9+1)<>MONTH(M9),"",M9+1)) -> 43868 | O9: =IF(N9="","",IF(MONTH(N9+1)<>MONTH(N9),"",N9+1)) -> 43869 | P9: =IF(O9="","",IF(MONTH(O9+1)<>MONTH(O9),"",O9+1)) -> 43870 | R9: =IF(X8="","",IF(MONTH(X8+1)<>MONTH(X8),"",X8+1)) -> 43892 | S9: =IF(R9="","",IF(MONTH(R9+1)<>MONTH(R9),"",R9+1)) -> 43893 | T9: =IF(S9="","",IF(MONTH(S9+1)<>MONTH(S9),"",S9+1)) -> 43894 | U9: =IF(T9="","",IF(MONTH(T9+1)<>MONTH(T9),"",T9+1)) -> 43895 | V9: =IF(U9="","",IF(MONTH(U9+1)<>MONTH(U9),"",U9+1)) -> 43896 | W9: =IF(V9="","",IF(MONTH(V9+1)<>MONTH(V9),"",V9+1)) -> 43897 | X9: =IF(W9="","",IF(MONTH(W9+1)<>MONTH(W9),"",W9+1)) -> 43898
B10: =IF(H9="","",IF(MONTH(H9+1)<>MONTH(H9),"",H9+1)) -> 43843 | C10: =IF(B10="","",IF(MONTH(B10+1)<>MONTH(B10),"",B10+1)) -> 43844 | D10: =IF(C10="","",IF(MONTH(C10+1)<>MONTH(C10),"",C10+1)) -> 43845 | E10: =IF(D10="","",IF(MONTH(D10+1)<>MONTH(D10),"",D10+1)) -> 43846 | F10: =IF(E10="","",IF(MONTH(E10+1)<>MONTH(E10),"",E10+1)) -> 43847 | G10: =IF(F10="","",IF(MONTH(F10+1)<>MONTH(F10),"",F10+1)) -> 43848 | H10: =IF(G10="","",IF(MONTH(G10+1)<>MONTH(G10),"",G10+1)) -> 43849 | J10: =IF(P9="","",IF(MONTH(P9+1)<>MONTH(P9),"",P9+1)) -> 43871 | K10: =IF(J10="","",IF(MONTH(J10+1)<>MONTH(J10),"",J10+1)) -> 43872 | L10: =IF(K10="","",IF(MONTH(K10+1)<>MONTH(K10),"",K10+1)) -> 43873 | M10: =IF(L10="","",IF(MONTH(L10+1)<>MONTH(L10),"",L10+1)) -> 43874 | N10: =IF(M10="","",IF(MONTH(M10+1)<>MONTH(M10),"",M10+1)) -> 43875 | O10: =IF(N10="","",IF(MONTH(N10+1)<>MONTH(N10),"",N10+1)) -> 43876 | P10: =IF(O10="","",IF(MONTH(O10+1)<>MONTH(O10),"",O10+1)) -> 43877 | R10: =IF(X9="","",IF(MONTH(X9+1)<>MONTH(X9),"",X9+1)) -> 43899 | S10: =IF(R10="","",IF(MONTH(R10+1)<>MONTH(R10),"",R10+1)) -> 43900 | T10: =IF(S10="","",IF(MONTH(S10+1)<>MONTH(S10),"",S10+1)) -> 43901 | U10: =IF(T10="","",IF(MONTH(T10+1)<>MONTH(T10),"",T10+1)) -> 43902 | V10: =IF(U10="","",IF(MONTH(U10+1)<>MONTH(U10),"",U10+1)) -> 43903 | W10: =IF(V10="","",IF(MONTH(V10+1)<>MONTH(V10),"",V10+1)) -> 43904 | X10: =IF(W10="","",IF(MONTH(W10+1)<>MONTH(W10),"",W10+1)) -> 43905
B11: =IF(H10="","",IF(MONTH(H10+1)<>MONTH(H10),"",H10+1)) -> 43850 | C11: =IF(B11="","",IF(MONTH(B11+1)<>MONTH(B11),"",B11+1)) -> 43851 | D11: =IF(C11="","",IF(MONTH(C11+1)<>MONTH(C11),"",C11+1)) -> 43852 | E11: =IF(D11="","",IF(MONTH(D11+1)<>MONTH(D11),"",D11+1)) -> 43853 | F11: =IF(E11="","",IF(MONTH(E11+1)<>MONTH(E11),"",E11+1)) -> 43854 | G11: =IF(F11="","",IF(MONTH(F11+1)<>MONTH(F11),"",F11+1)) -> 43855 | H11: =IF(G11="","",IF(MONTH(G11+1)<>MONTH(G11),"",G11+1)) -> 43856 | J11: =IF(P10="","",IF(MONTH(P10+1)<>MONTH(P10),"",P10+1)) -> 43878 | K11: =IF(J11="","",IF(MONTH(J11+1)<>MONTH(J11),"",J11+1)) -> 43879 | L11: =IF(K11="","",IF(MONTH(K11+1)<>MONTH(K11),"",K11+1)) -> 43880 | M11: =IF(L11="","",IF(MONTH(L11+1)<>MONTH(L11),"",L11+1)) -> 43881 | N11: =IF(M11="","",IF(MONTH(M11+1)<>MONTH(M11),"",M11+1)) -> 43882 | O11: =IF(N11="","",IF(MONTH(N11+1)<>MONTH(N11),"",N11+1)) -> 43883 | P11: =IF(O11="","",IF(MONTH(O11+1)<>MONTH(O11),"",O11+1)) -> 43884 | R11: =IF(X10="","",IF(MONTH(X10+1)<>MONTH(X10),"",X10+1)) -> 43906 | S11: =IF(R11="","",IF(MONTH(R11+1)<>MONTH(R11),"",R11+1)) -> 43907 | T11: =IF(S11="","",IF(MONTH(S11+1)<>MONTH(S11),"",S11+1)) -> 43908 | U11: =IF(T11="","",IF(MONTH(T11+1)<>MONTH(T11),"",T11+1)) -> 43909 | V11: =IF(U11="","",IF(MONTH(U11+1)<>MONTH(U11),"",U11+1)) -> 43910 | W11: =IF(V11="","",IF(MONTH(V11+1)<>MONTH(V11),"",V11+1)) -> 43911 | X11: =IF(W11="","",IF(MONTH(W11+1)<>MONTH(W11),"",W11+1)) -> 43912
B12: =IF(H11="","",IF(MONTH(H11+1)<>MONTH(H11),"",H11+1)) -> 43857 | C12: =IF(B12="","",IF(MONTH(B12+1)<>MONTH(B12),"",B12+1)) -> 43858 | D12: =IF(C12="","",IF(MONTH(C12+1)<>MONTH(C12),"",C12+1)) -> 43859 | E12: =IF(D12="","",IF(MONTH(D12+1)<>MONTH(D12),"",D12+1)) -> 43860 | F12: =IF(E12="","",IF(MONTH(E12+1)<>MONTH(E12),"",E12+1)) -> 43861 | G12: =IF(F12="","",IF(MONTH(F12+1)<>MONTH(F12),"",F12+1)) | H12: =IF(G12="","",IF(MONTH(G12+1)<>MONTH(G12),"",G12+1)) | J12: =IF(P11="","",IF(MONTH(P11+1)<>MONTH(P11),"",P11+1)) -> 43885 | K12: =IF(J12="","",IF(MONTH(J12+1)<>MONTH(J12),"",J12+1)) -> 43886 | L12: =IF(K12="","",IF(MONTH(K12+1)<>MONTH(K12),"",K12+1)) -> 43887 | M12: =IF(L12="","",IF(MONTH(L12+1)<>MONTH(L12),"",L12+1)) -> 43888 | N12: =IF(M12="","",IF(MONTH(M12+1)<>MONTH(M12),"",M12+1)) -> 43889 | O12: =IF(N12="","",IF(MONTH(N12+1)<>MONTH(N12),"",N12+1)) -> 43890 | P12: =IF(O12="","",IF(MONTH(O12+1)<>MONTH(O12),"",O12+1)) | R12: =IF(X11="","",IF(MONTH(X11+1)<>MONTH(X11),"",X11+1)) -> 43913 | S12: =IF(R12="","",IF(MONTH(R12+1)<>MONTH(R12),"",R12+1)) -> 43914 | T12: =IF(S12="","",IF(MONTH(S12+1)<>MONTH(S12),"",S12+1)) -> 43915 | U12: =IF(T12="","",IF(MONTH(T12+1)<>MONTH(T12),"",T12+1)) -> 43916 | V12: =IF(U12="","",IF(MONTH(U12+1)<>MONTH(U12),"",U12+1)) -> 43917 | W12: =IF(V12="","",IF(MONTH(V12+1)<>MONTH(V12),"",V12+1)) -> 43918 | X12: =IF(W12="","",IF(MONTH(W12+1)<>MONTH(W12),"",W12+1)) -> 43919
B13: =IF(H12="","",IF(MONTH(H12+1)<>MONTH(H12),"",H12+1)) | C13: =IF(B13="","",IF(MONTH(B13+1)<>MONTH(B13),"",B13+1)) | D13: =IF(C13="","",IF(MONTH(C13+1)<>MONTH(C13),"",C13+1)) | E13: =IF(D13="","",IF(MONTH(D13+1)<>MONTH(D13),"",D13+1)) | F13: =IF(E13="","",IF(MONTH(E13+1)<>MONTH(E13),"",E13+1)) | G13: =IF(F13="","",IF(MONTH(F13+1)<>MONTH(F13),"",F13+1)) | H13: =IF(G13="","",IF(MONTH(G13+1)<>MONTH(G13),"",G13+1)) | J13: =IF(P12="","",IF(MONTH(P12+1)<>MONTH(P12),"",P12+1)) | K13: =IF(J13="","",IF(MONTH(J13+1)<>MONTH(J13),"",J13+1)) | L13: =IF(K13="","",IF(MONTH(K13+1)<>MONTH(K13),"",K13+1)) | M13: =IF(L13="","",IF(MONTH(L13+1)<>MONTH(L13),"",L13+1)) | N13: =IF(M13="","",IF(MONTH(M13+1)<>MONTH(M13),"",M13+1)) | O13: =IF(N13="","",IF(MONTH(N13+1)<>MONTH(N13),"",N13+1)) | P13: =IF(O13="","",IF(MONTH(O13+1)<>MONTH(O13),"",O13+1)) | R13: =IF(X12="","",IF(MONTH(X12+1)<>MONTH(X12),"",X12+1)) -> 43920 | S13: =IF(R13="","",IF(MONTH(R13+1)<>MONTH(R13),"",R13+1)) -> 43921 | T13: =IF(S13="","",IF(MONTH(S13+1)<>MONTH(S13),"",S13+1)) | U13: =IF(T13="","",IF(MONTH(T13+1)<>MONTH(T13),"",T13+1)) | V13: =IF(U13="","",IF(MONTH(U13+1)<>MONTH(U13),"",U13+1)) | W13: =IF(V13="","",IF(MONTH(V13+1)<>MONTH(V13),"",V13+1)) | X13: =IF(W13="","",IF(MONTH(W13+1)<>MONTH(W13),"",W13+1))
B15: =DATE(YEAR(R6+42),MONTH(R6+42),1) -> 43922 | J15: =DATE(YEAR(B15+42),MONTH(B15+42),1) -> 43952 | R15: =DATE(YEAR(J15+42),MONTH(J15+42),1) -> 43983
B16: =CHOOSE(1+MOD($O$1+1-2,7),"D","L","M","M","J","V","S") -> L | C16: =CHOOSE(1+MOD($O$1+2-2,7),"D","L","M","M","J","V","S") -> M | D16: =CHOOSE(1+MOD($O$1+3-2,7),"D","L","M","M","J","V","S") -> M | E16: =CHOOSE(1+MOD($O$1+4-2,7),"D","L","M","M","J","V","S") -> J | F16: =CHOOSE(1+MOD($O$1+5-2,7),"D","L","M","M","J","V","S") -> V | G16: =CHOOSE(1+MOD($O$1+6-2,7),"D","L","M","M","J","V","S") -> S | H16: =CHOOSE(1+MOD($O$1+7-2,7),"D","L","M","M","J","V","S") -> D | J16: =CHOOSE(1+MOD($O$1+1-2,7),"D","L","M","M","J","V","S") -> L | K16: =CHOOSE(1+MOD($O$1+2-2,7),"D","L","M","M","J","V","S") -> M | L16: =CHOOSE(1+MOD($O$1+3-2,7),"D","L","M","M","J","V","S") -> M | M16: =CHOOSE(1+MOD($O$1+4-2,7),"D","L","M","M","J","V","S") -> J | N16: =CHOOSE(1+MOD($O$1+5-2,7),"D","L","M","M","J","V","S") -> V | O16: =CHOOSE(1+MOD($O$1+6-2,7),"D","L","M","M","J","V","S") -> S | P16: =CHOOSE(1+MOD($O$1+7-2,7),"D","L","M","M","J","V","S") -> D | R16: =CHOOSE(1+MOD($O$1+1-2,7),"D","L","M","M","J","V","S") -> L | S16: =CHOOSE(1+MOD($O$1+2-2,7),"D","L","M","M","J","V","S") -> M | T16: =CHOOSE(1+MOD($O$1+3-2,7),"D","L","M","M","J","V","S") -> M | U16: =CHOOSE(1+MOD($O$1+4-2,7),"D","L","M","M","J","V","S") -> J | V16: =CHOOSE(1+MOD($O$1+5-2,7),"D","L","M","M","J","V","S") -> V | W16: =CHOOSE(1+MOD($O$1+6-2,7),"D","L","M","M","J","V","S") -> S | X16: =CHOOSE(1+MOD($O$1+7-2,7),"D","L","M","M","J","V","S") -> D
B17: =IF(WEEKDAY(B15,1)=MOD($O$1,7),B15,"") | C17: =IF(B17="",IF(WEEKDAY(B15,1)=MOD($O$1,7)+1,B15,""),B17+1) | D17: =IF(C17="",IF(WEEKDAY(B15,1)=MOD($O$1+1,7)+1,B15,""),C17+1) -> 43922 | E17: =IF(D17="",IF(WEEKDAY(B15,1)=MOD($O$1+2,7)+1,B15,""),D17+1) -> 43923 | F17: =IF(E17="",IF(WEEKDAY(B15,1)=MOD($O$1+3,7)+1,B15,""),E17+1) -> 43924 | G17: =IF(F17="",IF(WEEKDAY(B15,1)=MOD($O$1+4,7)+1,B15,""),F17+1) -> 43925 | H17: =IF(G17="",IF(WEEKDAY(B15,1)=MOD($O$1+5,7)+1,B15,""),G17+1) -> 43926 | J17: =IF(WEEKDAY(J15,1)=MOD($O$1,7),J15,"") | K17: =IF(J17="",IF(WEEKDAY(J15,1)=MOD($O$1,7)+1,J15,""),J17+1) | L17: =IF(K17="",IF(WEEKDAY(J15,1)=MOD($O$1+1,7)+1,J15,""),K17+1) | M17: =IF(L17="",IF(WEEKDAY(J15,1)=MOD($O$1+2,7)+1,J15,""),L17+1) | N17: =IF(M17="",IF(WEEKDAY(J15,1)=MOD($O$1+3,7)+1,J15,""),M17+1) -> 43952 | O17: =IF(N17="",IF(WEEKDAY(J15,1)=MOD($O$1+4,7)+1,J15,""),N17+1) -> 43953 | P17: =IF(O17="",IF(WEEKDAY(J15,1)=MOD($O$1+5,7)+1,J15,""),O17+1) -> 43954 | R17: =IF(WEEKDAY(R15,1)=MOD($O$1,7),R15,"") -> 43983 | S17: =IF(R17="",IF(WEEKDAY(R15,1)=MOD($O$1,7)+1,R15,""),R17+1) -> 43984 | T17: =IF(S17="",IF(WEEKDAY(R15,1)=MOD($O$1+1,7)+1,R15,""),S17+1) -> 43985 | U17: =IF(T17="",IF(WEEKDAY(R15,1)=MOD($O$1+2,7)+1,R15,""),T17+1) -> 43986 | V17: =IF(U17="",IF(WEEKDAY(R15,1)=MOD($O$1+3,7)+1,R15,""),U17+1) -> 43987 | W17: =IF(V17="",IF(WEEKDAY(R15,1)=MOD($O$1+4,7)+1,R15,""),V17+1) -> 43988 | X17: =IF(W17="",IF(WEEKDAY(R15,1)=MOD($O$1+5,7)+1,R15,""),W17+1) -> 43989
B18: =IF(H17="","",IF(MONTH(H17+1)<>MONTH(H17),"",H17+1)) -> 43927 | C18: =IF(B18="","",IF(MONTH(B18+1)<>MONTH(B18),"",B18+1)) -> 43928 | D18: =IF(C18="","",IF(MONTH(C18+1)<>MONTH(C18),"",C18+1)) -> 43929 | E18: =IF(D18="","",IF(MONTH(D18+1)<>MONTH(D18),"",D18+1)) -> 43930 | F18: =IF(E18="","",IF(MONTH(E18+1)<>MONTH(E18),"",E18+1)) -> 43931 | G18: =IF(F18="","",IF(MONTH(F18+1)<>MONTH(F18),"",F18+1)) -> 43932 | H18: =IF(G18="","",IF(MONTH(G18+1)<>MONTH(G18),"",G18+1)) -> 43933 | J18: =IF(P17="","",IF(MONTH(P17+1)<>MONTH(P17),"",P17+1)) -> 43955 | K18: =IF(J18="","",IF(MONTH(J18+1)<>MONTH(J18),"",J18+1)) -> 43956 | L18: =IF(K18="","",IF(MONTH(K18+1)<>MONTH(K18),"",K18+1)) -> 43957 | M18: =IF(L18="","",IF(MONTH(L18+1)<>MONTH(L18),"",L18+1)) -> 43958 | N18: =IF(M18="","",IF(MONTH(M18+1)<>MONTH(M18),"",M18+1)) -> 43959 | O18: =IF(N18="","",IF(MONTH(N18+1)<>MONTH(N18),"",N18+1)) -> 43960 | P18: =IF(O18="","",IF(MONTH(O18+1)<>MONTH(O18),"",O18+1)) -> 43961 | R18: =IF(X17="","",IF(MONTH(X17+1)<>MONTH(X17),"",X17+1)) -> 43990 | S18: =IF(R18="","",IF(MONTH(R18+1)<>MONTH(R18),"",R18+1)) -> 43991 | T18: =IF(S18="","",IF(MONTH(S18+1)<>MONTH(S18),"",S18+1)) -> 43992 | U18: =IF(T18="","",IF(MONTH(T18+1)<>MONTH(T18),"",T18+1)) -> 43993 | V18: =IF(U18="","",IF(MONTH(U18+1)<>MONTH(U18),"",U18+1)) -> 43994 | W18: =IF(V18="","",IF(MONTH(V18+1)<>MONTH(V18),"",V18+1)) -> 43995 | X18: =IF(W18="","",IF(MONTH(W18+1)<>MONTH(W18),"",W18+1)) -> 43996
B19: =IF(H18="","",IF(MONTH(H18+1)<>MONTH(H18),"",H18+1)) -> 43934 | C19: =IF(B19="","",IF(MONTH(B19+1)<>MONTH(B19),"",B19+1)) -> 43935 | D19: =IF(C19="","",IF(MONTH(C19+1)<>MONTH(C19),"",C19+1)) -> 43936 | E19: =IF(D19="","",IF(MONTH(D19+1)<>MONTH(D19),"",D19+1)) -> 43937 | F19: =IF(E19="","",IF(MONTH(E19+1)<>MONTH(E19),"",E19+1)) -> 43938 | G19: =IF(F19="","",IF(MONTH(F19+1)<>MONTH(F19),"",F19+1)) -> 43939 | H19: =IF(G19="","",IF(MONTH(G19+1)<>MONTH(G19),"",G19+1)) -> 43940 | J19: =IF(P18="","",IF(MONTH(P18+1)<>MONTH(P18),"",P18+1)) -> 43962 | K19: =IF(J19="","",IF(MONTH(J19+1)<>MONTH(J19),"",J19+1)) -> 43963 | L19: =IF(K19="","",IF(MONTH(K19+1)<>MONTH(K19),"",K19+1)) -> 43964 | M19: =IF(L19="","",IF(MONTH(L19+1)<>MONTH(L19),"",L19+1)) -> 43965 | N19: =IF(M19="","",IF(MONTH(M19+1)<>MONTH(M19),"",M19+1)) -> 43966 | O19: =IF(N19="","",IF(MONTH(N19+1)<>MONTH(N19),"",N19+1)) -> 43967 | P19: =IF(O19="","",IF(MONTH(O19+1)<>MONTH(O19),"",O19+1)) -> 43968 | R19: =IF(X18="","",IF(MONTH(X18+1)<>MONTH(X18),"",X18+1)) -> 43997 | S19: =IF(R19="","",IF(MONTH(R19+1)<>MONTH(R19),"",R19+1)) -> 43998 | T19: =IF(S19="","",IF(MONTH(S19+1)<>MONTH(S19),"",S19+1)) -> 43999 | U19: =IF(T19="","",IF(MONTH(T19+1)<>MONTH(T19),"",T19+1)) -> 44000 | V19: =IF(U19="","",IF(MONTH(U19+1)<>MONTH(U19),"",U19+1)) -> 44001 | W19: =IF(V19="","",IF(MONTH(V19+1)<>MONTH(V19),"",V19+1)) -> 44002 | X19: =IF(W19="","",IF(MONTH(W19+1)<>MONTH(W19),"",W19+1)) -> 44003
B20: =IF(H19="","",IF(MONTH(H19+1)<>MONTH(H19),"",H19+1)) -> 43941 | C20: =IF(B20="","",IF(MONTH(B20+1)<>MONTH(B20),"",B20+1)) -> 43942 | D20: =IF(C20="","",IF(MONTH(C20+1)<>MONTH(C20),"",C20+1)) -> 43943 | E20: =IF(D20="","",IF(MONTH(D20+1)<>MONTH(D20),"",D20+1)) -> 43944 | F20: =IF(E20="","",IF(MONTH(E20+1)<>MONTH(E20),"",E20+1)) -> 43945 | G20: =IF(F20="","",IF(MONTH(F20+1)<>MONTH(F20),"",F20+1)) -> 43946 | H20: =IF(G20="","",IF(MONTH(G20+1)<>MONTH(G20),"",G20+1)) -> 43947 | J20: =IF(P19="","",IF(MONTH(P19+1)<>MONTH(P19),"",P19+1)) -> 43969 | K20: =IF(J20="","",IF(MONTH(J20+1)<>MONTH(J20),"",J20+1)) -> 43970 | L20: =IF(K20="","",IF(MONTH(K20+1)<>MONTH(K20),"",K20+1)) -> 43971 | M20: =IF(L20="","",IF(MONTH(L20+1)<>MONTH(L20),"",L20+1)) -> 43972 | N20: =IF(M20="","",IF(MONTH(M20+1)<>MONTH(M20),"",M20+1)) -> 43973 | O20: =IF(N20="","",IF(MONTH(N20+1)<>MONTH(N20),"",N20+1)) -> 43974 | P20: =IF(O20="","",IF(MONTH(O20+1)<>MONTH(O20),"",O20+1)) -> 43975 | R20: =IF(X19="","",IF(MONTH(X19+1)<>MONTH(X19),"",X19+1)) -> 44004 | S20: =IF(R20="","",IF(MONTH(R20+1)<>MONTH(R20),"",R20+1)) -> 44005 | T20: =IF(S20="","",IF(MONTH(S20+1)<>MONTH(S20),"",S20+1)) -> 44006 | U20: =IF(T20="","",IF(MONTH(T20+1)<>MONTH(T20),"",T20+1)) -> 44007 | V20: =IF(U20="","",IF(MONTH(U20+1)<>MONTH(U20),"",U20+1)) -> 44008 | W20: =IF(V20="","",IF(MONTH(V20+1)<>MONTH(V20),"",V20+1)) -> 44009 | X20: =IF(W20="","",IF(MONTH(W20+1)<>MONTH(W20),"",W20+1)) -> 44010
B21: =IF(H20="","",IF(MONTH(H20+1)<>MONTH(H20),"",H20+1)) -> 43948 | C21: =IF(B21="","",IF(MONTH(B21+1)<>MONTH(B21),"",B21+1)) -> 43949 | D21: =IF(C21="","",IF(MONTH(C21+1)<>MONTH(C21),"",C21+1)) -> 43950 | E21: =IF(D21="","",IF(MONTH(D21+1)<>MONTH(D21),"",D21+1)) -> 43951 | F21: =IF(E21="","",IF(MONTH(E21+1)<>MONTH(E21),"",E21+1)) | G21: =IF(F21="","",IF(MONTH(F21+1)<>MONTH(F21),"",F21+1)) | H21: =IF(G21="","",IF(MONTH(G21+1)<>MONTH(G21),"",G21+1)) | J21: =IF(P20="","",IF(MONTH(P20+1)<>MONTH(P20),"",P20+1)) -> 43976 | K21: =IF(J21="","",IF(MONTH(J21+1)<>MONTH(J21),"",J21+1)) -> 43977 | L21: =IF(K21="","",IF(MONTH(K21+1)<>MONTH(K21),"",K21+1)) -> 43978 | M21: =IF(L21="","",IF(MONTH(L21+1)<>MONTH(L21),"",L21+1)) -> 43979 | N21: =IF(M21="","",IF(MONTH(M21+1)<>MONTH(M21),"",M21+1)) -> 43980 | O21: =IF(N21="","",IF(MONTH(N21+1)<>MONTH(N21),"",N21+1)) -> 43981 | P21: =IF(O21="","",IF(MONTH(O21+1)<>MONTH(O21),"",O21+1)) -> 43982 | R21: =IF(X20="","",IF(MONTH(X20+1)<>MONTH(X20),"",X20+1)) -> 44011 | S21: =IF(R21="","",IF(MONTH(R21+1)<>MONTH(R21),"",R21+1)) -> 44012 | T21: =IF(S21="","",IF(MONTH(S21+1)<>MONTH(S21),"",S21+1)) | U21: =IF(T21="","",IF(MONTH(T21+1)<>MONTH(T21),"",T21+1)) | V21: =IF(U21="","",IF(MONTH(U21+1)<>MONTH(U21),"",U21+1)) | W21: =IF(V21="","",IF(MONTH(V21+1)<>MONTH(V21),"",V21+1)) | X21: =IF(W21="","",IF(MONTH(W21+1)<>MONTH(W21),"",W21+1))
B22: =IF(H21="","",IF(MONTH(H21+1)<>MONTH(H21),"",H21+1)) | C22: =IF(B22="","",IF(MONTH(B22+1)<>MONTH(B22),"",B22+1)) | D22: =IF(C22="","",IF(MONTH(C22+1)<>MONTH(C22),"",C22+1)) | E22: =IF(D22="","",IF(MONTH(D22+1)<>MONTH(D22),"",D22+1)) | F22: =IF(E22="","",IF(MONTH(E22+1)<>MONTH(E22),"",E22+1)) | G22: =IF(F22="","",IF(MONTH(F22+1)<>MONTH(F22),"",F22+1)) | H22: =IF(G22="","",IF(MONTH(G22+1)<>MONTH(G22),"",G22+1)) | J22: =IF(P21="","",IF(MONTH(P21+1)<>MONTH(P21),"",P21+1)) | K22: =IF(J22="","",IF(MONTH(J22+1)<>MONTH(J22),"",J22+1)) | L22: =IF(K22="","",IF(MONTH(K22+1)<>MONTH(K22),"",K22+1)) | M22: =IF(L22="","",IF(MONTH(L22+1)<>MONTH(L22),"",L22+1)) | N22: =IF(M22="","",IF(MONTH(M22+1)<>MONTH(M22),"",M22+1)) | O22: =IF(N22="","",IF(MONTH(N22+1)<>MONTH(N22),"",N22+1)) | P22: =IF(O22="","",IF(MONTH(O22+1)<>MONTH(O22),"",O22+1)) | R22: =IF(X21="","",IF(MONTH(X21+1)<>MONTH(X21),"",X21+1)) | S22: =IF(R22="","",IF(MONTH(R22+1)<>MONTH(R22),"",R22+1)) | T22: =IF(S22="","",IF(MONTH(S22+1)<>MONTH(S22),"",S22+1)) | U22: =IF(T22="","",IF(MONTH(T22+1)<>MONTH(T22),"",T22+1)) | V22: =IF(U22="","",IF(MONTH(U22+1)<>MONTH(U22),"",U22+1)) | W22: =IF(V22="","",IF(MONTH(V22+1)<>MONTH(V22),"",V22+1)) | X22: =IF(W22="","",IF(MONTH(W22+1)<>MONTH(W22),"",W22+1))
B24: =DATE(YEAR(R15+42),MONTH(R15+42),1) -> 44013 | J24: =DATE(YEAR(B24+42),MONTH(B24+42),1) -> 44044 | R24: =DATE(YEAR(J24+42),MONTH(J24+42),1) -> 44075
B25: =CHOOSE(1+MOD($O$1+1-2,7),"D","L","M","M","J","V","S") -> L | C25: =CHOOSE(1+MOD($O$1+2-2,7),"D","L","M","M","J","V","S") -> M | D25: =CHOOSE(1+MOD($O$1+3-2,7),"D","L","M","M","J","V","S") -> M | E25: =CHOOSE(1+MOD($O$1+4-2,7),"D","L","M","M","J","V","S") -> J | F25: =CHOOSE(1+MOD($O$1+5-2,7),"D","L","M","M","J","V","S") -> V | G25: =CHOOSE(1+MOD($O$1+6-2,7),"D","L","M","M","J","V","S") -> S | H25: =CHOOSE(1+MOD($O$1+7-2,7),"D","L","M","M","J","V","S") -> D | J25: =CHOOSE(1+MOD($O$1+1-2,7),"D","L","M","M","J","V","S") -> L | K25: =CHOOSE(1+MOD($O$1+2-2,7),"D","L","M","M","J","V","S") -> M | L25: =CHOOSE(1+MOD($O$1+3-2,7),"D","L","M","M","J","V","S") -> M | M25: =CHOOSE(1+MOD($O$1+4-2,7),"D","L","M","M","J","V","S") -> J | N25: =CHOOSE(1+MOD($O$1+5-2,7),"D","L","M","M","J","V","S") -> V | O25: =CHOOSE(1+MOD($O$1+6-2,7),"D","L","M","M","J","V","S") -> S | P25: =CHOOSE(1+MOD($O$1+7-2,7),"D","L","M","M","J","V","S") -> D | R25: =CHOOSE(1+MOD($O$1+1-2,7),"D","L","M","M","J","V","S") -> L | S25: =CHOOSE(1+MOD($O$1+2-2,7),"D","L","M","M","J","V","S") -> M | T25: =CHOOSE(1+MOD($O$1+3-2,7),"D","L","M","M","J","V","S") -> M | U25: =CHOOSE(1+MOD($O$1+4-2,7),"D","L","M","M","J","V","S") -> J | V25: =CHOOSE(1+MOD($O$1+5-2,7),"D","L","M","M","J","V","S") -> V | W25: =CHOOSE(1+MOD($O$1+6-2,7),"D","L","M","M","J","V","S") -> S | X25: =CHOOSE(1+MOD($O$1+7-2,7),"D","L","M","M","J","V","S") -> D
B26: =IF(WEEKDAY(B24,1)=MOD($O$1,7),B24,"") | C26: =IF(B26="",IF(WEEKDAY(B24,1)=MOD($O$1,7)+1,B24,""),B26+1) | D26: =IF(C26="",IF(WEEKDAY(B24,1)=MOD($O$1+1,7)+1,B24,""),C26+1) -> 44013 | E26: =IF(D26="",IF(WEEKDAY(B24,1)=MOD($O$1+2,7)+1,B24,""),D26+1) -> 44014 | F26: =IF(E26="",IF(WEEKDAY(B24,1)=MOD($O$1+3,7)+1,B24,""),E26+1) -> 44015 | G26: =IF(F26="",IF(WEEKDAY(B24,1)=MOD($O$1+4,7)+1,B24,""),F26+1) -> 44016 | H26: =IF(G26="",IF(WEEKDAY(B24,1)=MOD($O$1+5,7)+1,B24,""),G26+1) -> 44017 | J26: =IF(WEEKDAY(J24,1)=MOD($O$1,7),J24,"") | K26: =IF(J26="",IF(WEEKDAY(J24,1)=MOD($O$1,7)+1,J24,""),J26+1) | L26: =IF(K26="",IF(WEEKDAY(J24,1)=MOD($O$1+1,7)+1,J24,""),K26+1) | M26: =IF(L26="",IF(WEEKDAY(J24,1)=MOD($O$1+2,7)+1,J24,""),L26+1) | N26: =IF(M26="",IF(WEEKDAY(J24,1)=MOD($O$1+3,7)+1,J24,""),M26+1) | O26: =IF(N26="",IF(WEEKDAY(J24,1)=MOD($O$1+4,7)+1,J24,""),N26+1) -> 44044 | P26: =IF(O26="",IF(WEEKDAY(J24,1)=MOD($O$1+5,7)+1,J24,""),O26+1) -> 44045 | R26: =IF(WEEKDAY(R24,1)=MOD($O$1,7),R24,"") | S26: =IF(R26="",IF(WEEKDAY(R24,1)=MOD($O$1,7)+1,R24,""),R26+1) -> 44075 | T26: =IF(S26="",IF(WEEKDAY(R24,1)=MOD($O$1+1,7)+1,R24,""),S26+1) -> 44076 | U26: =IF(T26="",IF(WEEKDAY(R24,1)=MOD($O$1+2,7)+1,R24,""),T26+1) -> 44077 | V26: =IF(U26="",IF(WEEKDAY(R24,1)=MOD($O$1+3,7)+1,R24,""),U26+1) -> 44078 | W26: =IF(V26="",IF(WEEKDAY(R24,1)=MOD($O$1+4,7)+1,R24,""),V26+1) -> 44079 | X26: =IF(W26="",IF(WEEKDAY(R24,1)=MOD($O$1+5,7)+1,R24,""),W26+1) -> 44080
B27: =IF(H26="","",IF(MONTH(H26+1)<>MONTH(H26),"",H26+1)) -> 44018 | C27: =IF(B27="","",IF(MONTH(B27+1)<>MONTH(B27),"",B27+1)) -> 44019 | D27: =IF(C27="","",IF(MONTH(C27+1)<>MONTH(C27),"",C27+1)) -> 44020 | E27: =IF(D27="","",IF(MONTH(D27+1)<>MONTH(D27),"",D27+1)) -> 44021 | F27: =IF(E27="","",IF(MONTH(E27+1)<>MONTH(E27),"",E27+1)) -> 44022 | G27: =IF(F27="","",IF(MONTH(F27+1)<>MONTH(F27),"",F27+1)) -> 44023 | H27: =IF(G27="","",IF(MONTH(G27+1)<>MONTH(G27),"",G27+1)) -> 44024 | J27: =IF(P26="","",IF(MONTH(P26+1)<>MONTH(P26),"",P26+1)) -> 44046 | K27: =IF(J27="","",IF(MONTH(J27+1)<>MONTH(J27),"",J27+1)) -> 44047 | L27: =IF(K27="","",IF(MONTH(K27+1)<>MONTH(K27),"",K27+1)) -> 44048 | M27: =IF(L27="","",IF(MONTH(L27+1)<>MONTH(L27),"",L27+1)) -> 44049 | N27: =IF(M27="","",IF(MONTH(M27+1)<>MONTH(M27),"",M27+1)) -> 44050 | O27: =IF(N27="","",IF(MONTH(N27+1)<>MONTH(N27),"",N27+1)) -> 44051 | P27: =IF(O27="","",IF(MONTH(O27+1)<>MONTH(O27),"",O27+1)) -> 44052 | R27: =IF(X26="","",IF(MONTH(X26+1)<>MONTH(X26),"",X26+1)) -> 44081 | S27: =IF(R27="","",IF(MONTH(R27+1)<>MONTH(R27),"",R27+1)) -> 44082 | T27: =IF(S27="","",IF(MONTH(S27+1)<>MONTH(S27),"",S27+1)) -> 44083 | U27: =IF(T27="","",IF(MONTH(T27+1)<>MONTH(T27),"",T27+1)) -> 44084 | V27: =IF(U27="","",IF(MONTH(U27+1)<>MONTH(U27),"",U27+1)) -> 44085 | W27: =IF(V27="","",IF(MONTH(V27+1)<>MONTH(V27),"",V27+1)) -> 44086 | X27: =IF(W27="","",IF(MONTH(W27+1)<>MONTH(W27),"",W27+1)) -> 44087
B28: =IF(H27="","",IF(MONTH(H27+1)<>MONTH(H27),"",H27+1)) -> 44025 | C28: =IF(B28="","",IF(MONTH(B28+1)<>MONTH(B28),"",B28+1)) -> 44026 | D28: =IF(C28="","",IF(MONTH(C28+1)<>MONTH(C28),"",C28+1)) -> 44027 | E28: =IF(D28="","",IF(MONTH(D28+1)<>MONTH(D28),"",D28+1)) -> 44028 | F28: =IF(E28="","",IF(MONTH(E28+1)<>MONTH(E28),"",E28+1)) -> 44029 | G28: =IF(F28="","",IF(MONTH(F28+1)<>MONTH(F28),"",F28+1)) -> 44030 | H28: =IF(G28="","",IF(MONTH(G28+1)<>MONTH(G28),"",G28+1)) -> 44031 | J28: =IF(P27="","",IF(MONTH(P27+1)<>MONTH(P27),"",P27+1)) -> 44053 | K28: =IF(J28="","",IF(MONTH(J28+1)<>MONTH(J28),"",J28+1)) -> 44054 | L28: =IF(K28="","",IF(MONTH(K28+1)<>MONTH(K28),"",K28+1)) -> 44055 | M28: =IF(L28="","",IF(MONTH(L28+1)<>MONTH(L28),"",L28+1)) -> 44056 | N28: =IF(M28="","",IF(MONTH(M28+1)<>MONTH(M28),"",M28+1)) -> 44057 | O28: =IF(N28="","",IF(MONTH(N28+1)<>MONTH(N28),"",N28+1)) -> 44058 | P28: =IF(O28="","",IF(MONTH(O28+1)<>MONTH(O28),"",O28+1)) -> 44059 | R28: =IF(X27="","",IF(MONTH(X27+1)<>MONTH(X27),"",X27+1)) -> 44088 | S28: =IF(R28="","",IF(MONTH(R28+1)<>MONTH(R28),"",R28+1)) -> 44089 | T28: =IF(S28="","",IF(MONTH(S28+1)<>MONTH(S28),"",S28+1)) -> 44090 | U28: =IF(T28="","",IF(MONTH(T28+1)<>MONTH(T28),"",T28+1)) -> 44091 | V28: =IF(U28="","",IF(MONTH(U28+1)<>MONTH(U28),"",U28+1)) -> 44092 | W28: =IF(V28="","",IF(MONTH(V28+1)<>MONTH(V28),"",V28+1)) -> 44093 | X28: =IF(W28="","",IF(MONTH(W28+1)<>MONTH(W28),"",W28+1)) -> 44094
B29: =IF(H28="","",IF(MONTH(H28+1)<>MONTH(H28),"",H28+1)) -> 44032 | C29: =IF(B29="","",IF(MONTH(B29+1)<>MONTH(B29),"",B29+1)) -> 44033 | D29: =IF(C29="","",IF(MONTH(C29+1)<>MONTH(C29),"",C29+1)) -> 44034 | E29: =IF(D29="","",IF(MONTH(D29+1)<>MONTH(D29),"",D29+1)) -> 44035 | F29: =IF(E29="","",IF(MONTH(E29+1)<>MONTH(E29),"",E29+1)) -> 44036 | G29: =IF(F29="","",IF(MONTH(F29+1)<>MONTH(F29),"",F29+1)) -> 44037 | H29: =IF(G29="","",IF(MONTH(G29+1)<>MONTH(G29),"",G29+1)) -> 44038 | J29: =IF(P28="","",IF(MONTH(P28+1)<>MONTH(P28),"",P28+1)) -> 44060 | K29: =IF(J29="","",IF(MONTH(J29+1)<>MONTH(J29),"",J29+1)) -> 44061 | L29: =IF(K29="","",IF(MONTH(K29+1)<>MONTH(K29),"",K29+1)) -> 44062 | M29: =IF(L29="","",IF(MONTH(L29+1)<>MONTH(L29),"",L29+1)) -> 44063 | N29: =IF(M29="","",IF(MONTH(M29+1)<>MONTH(M29),"",M29+1)) -> 44064 | O29: =IF(N29="","",IF(MONTH(N29+1)<>MONTH(N29),"",N29+1)) -> 44065 | P29: =IF(O29="","",IF(MONTH(O29+1)<>MONTH(O29),"",O29+1)) -> 44066 | R29: =IF(X28="","",IF(MONTH(X28+1)<>MONTH(X28),"",X28+1)) -> 44095 | S29: =IF(R29="","",IF(MONTH(R29+1)<>MONTH(R29),"",R29+1)) -> 44096 | T29: =IF(S29="","",IF(MONTH(S29+1)<>MONTH(S29),"",S29+1)) -> 44097 | U29: =IF(T29="","",IF(MONTH(T29+1)<>MONTH(T29),"",T29+1)) -> 44098 | V29: =IF(U29="","",IF(MONTH(U29+1)<>MONTH(U29),"",U29+1)) -> 44099 | W29: =IF(V29="","",IF(MONTH(V29+1)<>MONTH(V29),"",V29+1)) -> 44100 | X29: =IF(W29="","",IF(MONTH(W29+1)<>MONTH(W29),"",W29+1)) -> 44101
B30: =IF(H29="","",IF(MONTH(H29+1)<>MONTH(H29),"",H29+1)) -> 44039 | C30: =IF(B30="","",IF(MONTH(B30+1)<>MONTH(B30),"",B30+1)) -> 44040 | D30: =IF(C30="","",IF(MONTH(C30+1)<>MONTH(C30),"",C30+1)) -> 44041 | E30: =IF(D30="","",IF(MONTH(D30+1)<>MONTH(D30),"",D30+1)) -> 44042 | F30: =IF(E30="","",IF(MONTH(E30+1)<>MONTH(E30),"",E30+1)) -> 44043 | G30: =IF(F30="","",IF(MONTH(F30+1)<>MONTH(F30),"",F30+1)) | H30: =IF(G30="","",IF(MONTH(G30+1)<>MONTH(G30),"",G30+1)) | J30: =IF(P29="","",IF(MONTH(P29+1)<>MONTH(P29),"",P29+1)) -> 44067 | K30: =IF(J30="","",IF(MONTH(J30+1)<>MONTH(J30),"",J30+1)) -> 44068 | L30: =IF(K30="","",IF(MONTH(K30+1)<>MONTH(K30),"",K30+1)) -> 44069 | M30: =IF(L30="","",IF(MONTH(L30+1)<>MONTH(L30),"",L30+1)) -> 44070 | N30: =IF(M30="","",IF(MONTH(M30+1)<>MONTH(M30),"",M30+1)) -> 44071 | O30: =IF(N30="","",IF(MONTH(N30+1)<>MONTH(N30),"",N30+1)) -> 44072 | P30: =IF(O30="","",IF(MONTH(O30+1)<>MONTH(O30),"",O30+1)) -> 44073 | R30: =IF(X29="","",IF(MONTH(X29+1)<>MONTH(X29),"",X29+1)) -> 44102 | S30: =IF(R30="","",IF(MONTH(R30+1)<>MONTH(R30),"",R30+1)) -> 44103 | T30: =IF(S30="","",IF(MONTH(S30+1)<>MONTH(S30),"",S30+1)) -> 44104 | U30: =IF(T30="","",IF(MONTH(T30+1)<>MONTH(T30),"",T30+1)) | V30: =IF(U30="","",IF(MONTH(U30+1)<>MONTH(U30),"",U30+1)) | W30: =IF(V30="","",IF(MONTH(V30+1)<>MONTH(V30),"",V30+1)) | X30: =IF(W30="","",IF(MONTH(W30+1)<>MONTH(W30),"",W30+1))
B31: =IF(H30="","",IF(MONTH(H30+1)<>MONTH(H30),"",H30+1)) | C31: =IF(B31="","",IF(MONTH(B31+1)<>MONTH(B31),"",B31+1)) | D31: =IF(C31="","",IF(MONTH(C31+1)<>MONTH(C31),"",C31+1)) | E31: =IF(D31="","",IF(MONTH(D31+1)<>MONTH(D31),"",D31+1)) | F31: =IF(E31="","",IF(MONTH(E31+1)<>MONTH(E31),"",E31+1)) | G31: =IF(F31="","",IF(MONTH(F31+1)<>MONTH(F31),"",F31+1)) | H31: =IF(G31="","",IF(MONTH(G31+1)<>MONTH(G31),"",G31+1)) | J31: =IF(P30="","",IF(MONTH(P30+1)<>MONTH(P30),"",P30+1)) -> 44074 | K31: =IF(J31="","",IF(MONTH(J31+1)<>MONTH(J31),"",J31+1)) | L31: =IF(K31="","",IF(MONTH(K31+1)<>MONTH(K31),"",K31+1)) | M31: =IF(L31="","",IF(MONTH(L31+1)<>MONTH(L31),"",L31+1)) | N31: =IF(M31="","",IF(MONTH(M31+1)<>MONTH(M31),"",M31+1)) | O31: =IF(N31="","",IF(MONTH(N31+1)<>MONTH(N31),"",N31+1)) | P31: =IF(O31="","",IF(MONTH(O31+1)<>MONTH(O31),"",O31+1)) | R31: =IF(X30="","",IF(MONTH(X30+1)<>MONTH(X30),"",X30+1)) | S31: =IF(R31="","",IF(MONTH(R31+1)<>MONTH(R31),"",R31+1)) | T31: =IF(S31="","",IF(MONTH(S31+1)<>MONTH(S31),"",S31+1)) | U31: =IF(T31="","",IF(MONTH(T31+1)<>MONTH(T31),"",T31+1)) | V31: =IF(U31="","",IF(MONTH(U31+1)<>MONTH(U31),"",U31+1)) | W31: =IF(V31="","",IF(MONTH(V31+1)<>MONTH(V31),"",V31+1)) | X31: =IF(W31="","",IF(MONTH(W31+1)<>MONTH(W31),"",W31+1))
B33: =DATE(YEAR(R24+42),MONTH(R24+42),1) -> 44105 | J33: =DATE(YEAR(B33+42),MONTH(B33+42),1) -> 44136 | R33: =DATE(YEAR(J33+42),MONTH(J33+42),1) -> 44166
B34: =CHOOSE(1+MOD($O$1+1-2,7),"D","L","M","M","J","V","S") -> L | C34: =CHOOSE(1+MOD($O$1+2-2,7),"D","L","M","M","J","V","S") -> M | D34: =CHOOSE(1+MOD($O$1+3-2,7),"D","L","M","M","J","V","S") -> M | E34: =CHOOSE(1+MOD($O$1+4-2,7),"D","L","M","M","J","V","S") -> J | F34: =CHOOSE(1+MOD($O$1+5-2,7),"D","L","M","M","J","V","S") -> V | G34: =CHOOSE(1+MOD($O$1+6-2,7),"D","L","M","M","J","V","S") -> S | H34: =CHOOSE(1+MOD($O$1+7-2,7),"D","L","M","M","J","V","S") -> D | J34: =CHOOSE(1+MOD($O$1+1-2,7),"D","L","M","M","J","V","S") -> L | K34: =CHOOSE(1+MOD($O$1+2-2,7),"D","L","M","M","J","V","S") -> M | L34: =CHOOSE(1+MOD($O$1+3-2,7),"D","L","M","M","J","V","S") -> M | M34: =CHOOSE(1+MOD($O$1+4-2,7),"D","L","M","M","J","V","S") -> J | N34: =CHOOSE(1+MOD($O$1+5-2,7),"D","L","M","M","J","V","S") -> V | O34: =CHOOSE(1+MOD($O$1+6-2,7),"D","L","M","M","J","V","S") -> S | P34: =CHOOSE(1+MOD($O$1+7-2,7),"D","L","M","M","J","V","S") -> D | R34: =CHOOSE(1+MOD($O$1+1-2,7),"D","L","M","M","J","V","S") -> L | S34: =CHOOSE(1+MOD($O$1+2-2,7),"D","L","M","M","J","V","S") -> M | T34: =CHOOSE(1+MOD($O$1+3-2,7),"D","L","M","M","J","V","S") -> M | U34: =CHOOSE(1+MOD($O$1+4-2,7),"D","L","M","M","J","V","S") -> J | V34: =CHOOSE(1+MOD($O$1+5-2,7),"D","L","M","M","J","V","S") -> V | W34: =CHOOSE(1+MOD($O$1+6-2,7),"D","L","M","M","J","V","S") -> S | X34: =CHOOSE(1+MOD($O$1+7-2,7),"D","L","M","M","J","V","S") -> D
B35: =IF(WEEKDAY(B33,1)=MOD($O$1,7),B33,"") | C35: =IF(B35="",IF(WEEKDAY(B33,1)=MOD($O$1,7)+1,B33,""),B35+1) | D35: =IF(C35="",IF(WEEKDAY(B33,1)=MOD($O$1+1,7)+1,B33,""),C35+1) | E35: =IF(D35="",IF(WEEKDAY(B33,1)=MOD($O$1+2,7)+1,B33,""),D35+1) -> 44105 | F35: =IF(E35="",IF(WEEKDAY(B33,1)=MOD($O$1+3,7)+1,B33,""),E35+1) -> 44106 | G35: =IF(F35="",IF(WEEKDAY(B33,1)=MOD($O$1+4,7)+1,B33,""),F35+1) -> 44107 | H35: =IF(G35="",IF(WEEKDAY(B33,1)=MOD($O$1+5,7)+1,B33,""),G35+1) -> 44108 | J35: =IF(WEEKDAY(J33,1)=MOD($O$1,7),J33,"") | K35: =IF(J35="",IF(WEEKDAY(J33,1)=MOD($O$1,7)+1,J33,""),J35+1) | L35: =IF(K35="",IF(WEEKDAY(J33,1)=MOD($O$1+1,7)+1,J33,""),K35+1) | M35: =IF(L35="",IF(WEEKDAY(J33,1)=MOD($O$1+2,7)+1,J33,""),L35+1) | N35: =IF(M35="",IF(WEEKDAY(J33,1)=MOD($O$1+3,7)+1,J33,""),M35+1) | O35: =IF(N35="",IF(WEEKDAY(J33,1)=MOD($O$1+4,7)+1,J33,""),N35+1) | P35: =IF(O35="",IF(WEEKDAY(J33,1)=MOD($O$1+5,7)+1,J33,""),O35+1) -> 44136 | R35: =IF(WEEKDAY(R33,1)=MOD($O$1,7),R33,"") | S35: =IF(R35="",IF(WEEKDAY(R33,1)=MOD($O$1,7)+1,R33,""),R35+1) -> 44166 | T35: =IF(S35="",IF(WEEKDAY(R33,1)=MOD($O$1+1,7)+1,R33,""),S35+1) -> 44167 | U35: =IF(T35="",IF(WEEKDAY(R33,1)=MOD($O$1+2,7)+1,R33,""),T35+1) -> 44168 | V35: =IF(U35="",IF(WEEKDAY(R33,1)=MOD($O$1+3,7)+1,R33,""),U35+1) -> 44169 | W35: =IF(V35="",IF(WEEKDAY(R33,1)=MOD($O$1+4,7)+1,R33,""),V35+1) -> 44170 | X35: =IF(W35="",IF(WEEKDAY(R33,1)=MOD($O$1+5,7)+1,R33,""),W35+1) -> 44171
B36: =IF(H35="","",IF(MONTH(H35+1)<>MONTH(H35),"",H35+1)) -> 44109 | C36: =IF(B36="","",IF(MONTH(B36+1)<>MONTH(B36),"",B36+1)) -> 44110 | D36: =IF(C36="","",IF(MONTH(C36+1)<>MONTH(C36),"",C36+1)) -> 44111 | E36: =IF(D36="","",IF(MONTH(D36+1)<>MONTH(D36),"",D36+1)) -> 44112 | F36: =IF(E36="","",IF(MONTH(E36+1)<>MONTH(E36),"",E36+1)) -> 44113 | G36: =IF(F36="","",IF(MONTH(F36+1)<>MONTH(F36),"",F36+1)) -> 44114 | H36: =IF(G36="","",IF(MONTH(G36+1)<>MONTH(G36),"",G36+1)) -> 44115 | J36: =IF(P35="","",IF(MONTH(P35+1)<>MONTH(P35),"",P35+1)) -> 44137 | K36: =IF(J36="","",IF(MONTH(J36+1)<>MONTH(J36),"",J36+1)) -> 44138 | L36: =IF(K36="","",IF(MONTH(K36+1)<>MONTH(K36),"",K36+1)) -> 44139 | M36: =IF(L36="","",IF(MONTH(L36+1)<>MONTH(L36),"",L36+1)) -> 44140 | N36: =IF(M36="","",IF(MONTH(M36+1)<>MONTH(M36),"",M36+1)) -> 44141 | O36: =IF(N36="","",IF(MONTH(N36+1)<>MONTH(N36),"",N36+1)) -> 44142 | P36: =IF(O36="","",IF(MONTH(O36+1)<>MONTH(O36),"",O36+1)) -> 44143 | R36: =IF(X35="","",IF(MONTH(X35+1)<>MONTH(X35),"",X35+1)) -> 44172 | S36: =IF(R36="","",IF(MONTH(R36+1)<>MONTH(R36),"",R36+1)) -> 44173 | T36: =IF(S36="","",IF(MONTH(S36+1)<>MONTH(S36),"",S36+1)) -> 44174 | U36: =IF(T36="","",IF(MONTH(T36+1)<>MONTH(T36),"",T36+1)) -> 44175 | V36: =IF(U36="","",IF(MONTH(U36+1)<>MONTH(U36),"",U36+1)) -> 44176 | W36: =IF(V36="","",IF(MONTH(V36+1)<>MONTH(V36),"",V36+1)) -> 44177 | X36: =IF(W36="","",IF(MONTH(W36+1)<>MONTH(W36),"",W36+1)) -> 44178
B37: =IF(H36="","",IF(MONTH(H36+1)<>MONTH(H36),"",H36+1)) -> 44116 | C37: =IF(B37="","",IF(MONTH(B37+1)<>MONTH(B37),"",B37+1)) -> 44117 | D37: =IF(C37="","",IF(MONTH(C37+1)<>MONTH(C37),"",C37+1)) -> 44118 | E37: =IF(D37="","",IF(MONTH(D37+1)<>MONTH(D37),"",D37+1)) -> 44119 | F37: =IF(E37="","",IF(MONTH(E37+1)<>MONTH(E37),"",E37+1)) -> 44120 | G37: =IF(F37="","",IF(MONTH(F37+1)<>MONTH(F37),"",F37+1)) -> 44121 | H37: =IF(G37="","",IF(MONTH(G37+1)<>MONTH(G37),"",G37+1)) -> 44122 | J37: =IF(P36="","",IF(MONTH(P36+1)<>MONTH(P36),"",P36+1)) -> 44144 | K37: =IF(J37="","",IF(MONTH(J37+1)<>MONTH(J37),"",J37+1)) -> 44145 | L37: =IF(K37="","",IF(MONTH(K37+1)<>MONTH(K37),"",K37+1)) -> 44146 | M37: =IF(L37="","",IF(MONTH(L37+1)<>MONTH(L37),"",L37+1)) -> 44147 | N37: =IF(M37="","",IF(MONTH(M37+1)<>MONTH(M37),"",M37+1)) -> 44148 | O37: =IF(N37="","",IF(MONTH(N37+1)<>MONTH(N37),"",N37+1)) -> 44149 | P37: =IF(O37="","",IF(MONTH(O37+1)<>MONTH(O37),"",O37+1)) -> 44150 | R37: =IF(X36="","",IF(MONTH(X36+1)<>MONTH(X36),"",X36+1)) -> 44179 | S37: =IF(R37="","",IF(MONTH(R37+1)<>MONTH(R37),"",R37+1)) -> 44180 | T37: =IF(S37="","",IF(MONTH(S37+1)<>MONTH(S37),"",S37+1)) -> 44181 | U37: =IF(T37="","",IF(MONTH(T37+1)<>MONTH(T37),"",T37+1)) -> 44182 | V37: =IF(U37="","",IF(MONTH(U37+1)<>MONTH(U37),"",U37+1)) -> 44183 | W37: =IF(V37="","",IF(MONTH(V37+1)<>MONTH(V37),"",V37+1)) -> 44184 | X37: =IF(W37="","",IF(MONTH(W37+1)<>MONTH(W37),"",W37+1)) -> 44185
B38: =IF(H37="","",IF(MONTH(H37+1)<>MONTH(H37),"",H37+1)) -> 44123 | C38: =IF(B38="","",IF(MONTH(B38+1)<>MONTH(B38),"",B38+1)) -> 44124 | D38: =IF(C38="","",IF(MONTH(C38+1)<>MONTH(C38),"",C38+1)) -> 44125 | E38: =IF(D38="","",IF(MONTH(D38+1)<>MONTH(D38),"",D38+1)) -> 44126 | F38: =IF(E38="","",IF(MONTH(E38+1)<>MONTH(E38),"",E38+1)) -> 44127 | G38: =IF(F38="","",IF(MONTH(F38+1)<>MONTH(F38),"",F38+1)) -> 44128 | H38: =IF(G38="","",IF(MONTH(G38+1)<>MONTH(G38),"",G38+1)) -> 44129 | J38: =IF(P37="","",IF(MONTH(P37+1)<>MONTH(P37),"",P37+1)) -> 44151 | K38: =IF(J38="","",IF(MONTH(J38+1)<>MONTH(J38),"",J38+1)) -> 44152 | L38: =IF(K38="","",IF(MONTH(K38+1)<>MONTH(K38),"",K38+1)) -> 44153 | M38: =IF(L38="","",IF(MONTH(L38+1)<>MONTH(L38),"",L38+1)) -> 44154 | N38: =IF(M38="","",IF(MONTH(M38+1)<>MONTH(M38),"",M38+1)) -> 44155 | O38: =IF(N38="","",IF(MONTH(N38+1)<>MONTH(N38),"",N38+1)) -> 44156 | P38: =IF(O38="","",IF(MONTH(O38+1)<>MONTH(O38),"",O38+1)) -> 44157 | R38: =IF(X37="","",IF(MONTH(X37+1)<>MONTH(X37),"",X37+1)) -> 44186 | S38: =IF(R38="","",IF(MONTH(R38+1)<>MONTH(R38),"",R38+1)) -> 44187 | T38: =IF(S38="","",IF(MONTH(S38+1)<>MONTH(S38),"",S38+1)) -> 44188 | U38: =IF(T38="","",IF(MONTH(T38+1)<>MONTH(T38),"",T38+1)) -> 44189 | V38: =IF(U38="","",IF(MONTH(U38+1)<>MONTH(U38),"",U38+1)) -> 44190 | W38: =IF(V38="","",IF(MONTH(V38+1)<>MONTH(V38),"",V38+1)) -> 44191 | X38: =IF(W38="","",IF(MONTH(W38+1)<>MONTH(W38),"",W38+1)) -> 44192
B39: =IF(H38="","",IF(MONTH(H38+1)<>MONTH(H38),"",H38+1)) -> 44130 | C39: =IF(B39="","",IF(MONTH(B39+1)<>MONTH(B39),"",B39+1)) -> 44131 | D39: =IF(C39="","",IF(MONTH(C39+1)<>MONTH(C39),"",C39+1)) -> 44132 | E39: =IF(D39="","",IF(MONTH(D39+1)<>MONTH(D39),"",D39+1)) -> 44133 | F39: =IF(E39="","",IF(MONTH(E39+1)<>MONTH(E39),"",E39+1)) -> 44134 | G39: =IF(F39="","",IF(MONTH(F39+1)<>MONTH(F39),"",F39+1)) -> 44135 | H39: =IF(G39="","",IF(MONTH(G39+1)<>MONTH(G39),"",G39+1)) | J39: =IF(P38="","",IF(MONTH(P38+1)<>MONTH(P38),"",P38+1)) -> 44158 | K39: =IF(J39="","",IF(MONTH(J39+1)<>MONTH(J39),"",J39+1)) -> 44159 | L39: =IF(K39="","",IF(MONTH(K39+1)<>MONTH(K39),"",K39+1)) -> 44160 | M39: =IF(L39="","",IF(MONTH(L39+1)<>MONTH(L39),"",L39+1)) -> 44161 | N39: =IF(M39="","",IF(MONTH(M39+1)<>MONTH(M39),"",M39+1)) -> 44162 | O39: =IF(N39="","",IF(MONTH(N39+1)<>MONTH(N39),"",N39+1)) -> 44163 | P39: =IF(O39="","",IF(MONTH(O39+1)<>MONTH(O39),"",O39+1)) -> 44164 | R39: =IF(X38="","",IF(MONTH(X38+1)<>MONTH(X38),"",X38+1)) -> 44193 | S39: =IF(R39="","",IF(MONTH(R39+1)<>MONTH(R39),"",R39+1)) -> 44194 | T39: =IF(S39="","",IF(MONTH(S39+1)<>MONTH(S39),"",S39+1)) -> 44195 | U39: =IF(T39="","",IF(MONTH(T39+1)<>MONTH(T39),"",T39+1)) -> 44196 | V39: =IF(U39="","",IF(MONTH(U39+1)<>MONTH(U39),"",U39+1)) | W39: =IF(V39="","",IF(MONTH(V39+1)<>MONTH(V39),"",V39+1)) | X39: =IF(W39="","",IF(MONTH(W39+1)<>MONTH(W39),"",W39+1))
B40: =IF(H39="","",IF(MONTH(H39+1)<>MONTH(H39),"",H39+1)) | C40: =IF(B40="","",IF(MONTH(B40+1)<>MONTH(B40),"",B40+1)) | D40: =IF(C40="","",IF(MONTH(C40+1)<>MONTH(C40),"",C40+1)) | E40: =IF(D40="","",IF(MONTH(D40+1)<>MONTH(D40),"",D40+1)) | F40: =IF(E40="","",IF(MONTH(E40+1)<>MONTH(E40),"",E40+1)) | G40: =IF(F40="","",IF(MONTH(F40+1)<>MONTH(F40),"",F40+1)) | H40: =IF(G40="","",IF(MONTH(G40+1)<>MONTH(G40),"",G40+1)) | J40: =IF(P39="","",IF(MONTH(P39+1)<>MONTH(P39),"",P39+1)) -> 44165 | K40: =IF(J40="","",IF(MONTH(J40+1)<>MONTH(J40),"",J40+1)) | L40: =IF(K40="","",IF(MONTH(K40+1)<>MONTH(K40),"",K40+1)) | M40: =IF(L40="","",IF(MONTH(L40+1)<>MONTH(L40),"",L40+1)) | N40: =IF(M40="","",IF(MONTH(M40+1)<>MONTH(M40),"",M40+1)) | O40: =IF(N40="","",IF(MONTH(N40+1)<>MONTH(N40),"",N40+1)) | P40: =IF(O40="","",IF(MONTH(O40+1)<>MONTH(O40),"",O40+1)) | R40: =IF(X39="","",IF(MONTH(X39+1)<>MONTH(X39),"",X39+1)) | S40: =IF(R40="","",IF(MONTH(R40+1)<>MONTH(R40),"",R40+1)) | T40: =IF(S40="","",IF(MONTH(S40+1)<>MONTH(S40),"",S40+1)) | U40: =IF(T40="","",IF(MONTH(T40+1)<>MONTH(T40),"",T40+1)) | V40: =IF(U40="","",IF(MONTH(U40+1)<>MONTH(U40),"",U40+1)) | W40: =IF(V40="","",IF(MONTH(V40+1)<>MONTH(V40),"",V40+1)) | X40: =IF(W40="","",IF(MONTH(W40+1)<>MONTH(W40),"",W40+1))

Sheet TARIFS 2 SAISONS
A1: JOURS | B1: TARIF | C1: SAISON
A2: 43831 | B2: 80 | C2: Haute
A3: 43832 | B3: 80 | C3: Haute
A4: 43833 | B4: 80 | C4: Haute
A5: 43834 | B5: 80 | C5: Haute
A6: 43835 | B6: 80 | C6: Haute
A7: 43836 | B7: 80 | C7: Haute
A8: 43837 | B8: 80 | C8: Haute
A9: 43838 | B9: 80 | C9: Haute
A10: 43839 | B10: 80 | C10: Haute
A11: 43840 | B11: 80 | C11: Haute
A12: 43841 | B12: 80 | C12: Haute
A13: 43842 | B13: 80 | C13: Haute
... A367: 44196 | B367: 80 | C367: Haute

Sheet SUIVI RESERVATIONS 2S
A1: SUIVI LOCATIONS
A3: CONTACT | H3: VOL | K3: DATE | O3: TARIFICATION | T3: CONTRAT | V3: REGLEMENT | AA3: TAXE DE SEJOUR
O4: Haute Saison | P4: Basse Saison | Q4: si > ou = 16 nuits alors dégressif | R4: Option ménage | S4: Total | T4: Date | V4: Acompte | W4: Date = au max 1 semaine après date réception contrat | X4: Solde | AA4: Nombre | AC4: Taux
A5: Prénom | B5: NOM | C5: Adultes | D5: Enfants | E5: Bébé | F5: Téléphone | G5: Mail | H5: Numéro | I5: Heure arrivée | J5: Compagnie | K5: Arrivée | L5: Départ | M5: Nbre nuits HS | N5: Nbre nuits BS | O5: 80 | P5: 55 | Q5: 0.1 | T5: Envoie | U5: Retour | V5: 0.3 | X5: Montant | Y5: Prévu = 20 jours avant arrivée | Z5: Reçu | AA5: Personnes | AB5: Nuits
M6: {=IF(K6="","",SUMPRODUCT(('TARIFS 2 SAISONS'!$A$2:$A$367>=K6)*('TARIFS 2 SAISONS'!$A$2:$A$367<=L6)*('TARIFS 2 SAISONS'!$C$2:$C$367="Haute")*1))} | N6: =IF(L6="","",L6-K6-M6+1) | O6: =IF(L6="","",M6*$O$5) | P6: =IF(L6="","",N6*$P$5) | Q6: =IF(L6="","",IF(M6+N6>=16,(O6+P6)*-Q5,0)) | S6: =IF(L6="","",SUM(O6:R6)) | V6: =IF(S6="","",S6*$V$5) | W6: =IF(U6="","",U6+7) | X6: =IF(S6="","",S6-V6) | Y6: =IF(K6="","",K6-20) | AA6: =IF(SUM(C6:D6)=0,"",SUM(C6:D6)) | AB6: =IF(SUM(M6:N6)=0,"",SUM(M6:N6)) | AC6: =IF(AA6="","",(AA6*AC5)+(AB6*AC5))
M7: {=IF(K7="","",SUMPRODUCT(('TARIFS 2 SAISONS'!$A$2:$A$367>=K7)*('TARIFS 2 SAISONS'!$A$2:$A$367<=L7)*('TARIFS 2 SAISONS'!$C$2:$C$367="Haute")*1))} | N7: =IF(L7="","",L7-K7-M7+1) | O7: =IF(L7="","",M7*$O$5) | P7: =IF(L7="","",N7*$P$5) | Q7: =IF(L7="","",IF(M7+N7>=16,(O7+P7)*-Q6,0)) | S7: =IF(L7="","",SUM(O7:R7)) | V7: =IF(S7="","",S7*$V$5) | W7: =IF(U7="","",U7+7) | X7: =IF(S7="","",S7-V7) | Y7: =IF(K7="","",K7-20) | AA7: =IF(SUM(C7:D7)=0,"",SUM(C7:D7)) | AB7: =IF(SUM(M7:N7)=0,"",SUM(M7:N7)) | AC7: =IF(AA7="","",(AA7*AC6)+(AB7*AC6))
M8: {=IF(K8="","",SUMPRODUCT(('TARIFS 2 SAISONS'!$A$2:$A$367>=K8)*('TARIFS 2 SAISONS'!$A$2:$A$367<=L8)*('TARIFS 2 SAISONS'!$C$2:$C$367="Haute")*1))} | N8: =IF(L8="","",L8-K8-M8+1) | O8: =IF(L8="","",M8*$O$5) | P8: =IF(L8="","",N8*$P$5) | Q8: =IF(L8="","",IF(M8+N8>=16,(O8+P8)*-Q7,0)) | S8: =IF(L8="","",SUM(O8:R8)) | V8: =IF(S8="","",S8*$V$5) | W8: =IF(U8="","",U8+7) | X8: =IF(S8="","",S8-V8) | Y8: =IF(K8="","",K8-20) | AA8: =IF(SUM(C8:D8)=0,"",SUM(C8:D8)) | AB8: =IF(SUM(M8:N8)=0,"",SUM(M8:N8)) | AC8: =IF(AA8="","",(AA8*AC7)+(AB8*AC7))
M9: {=IF(K9="","",SUMPRODUCT(('TARIFS 2 SAISONS'!$A$2:$A$367>=K9)*('TARIFS 2 SAISONS'!$A$2:$A$367<=L9)*('TARIFS 2 SAISONS'!$C$2:$C$367="Haute")*1))} | N9: =IF(L9="","",L9-K9-M9+1) | O9: =IF(L9="","",M9*$O$5) | P9: =IF(L9="","",N9*$P$5) | Q9: =IF(L9="","",IF(M9+N9>=16,(O9+P9)*-Q8,0)) | S9: =IF(L9="","",SUM(O9:R9)) | V9: =IF(S9="","",S9*$V$5) | W9: =IF(U9="","",U9+7) | X9: =IF(S9="","",S9-V9) | Y9: =IF(K9="","",K9-20) | AA9: =IF(SUM(C9:D9)=0,"",SUM(C9:D9)) | AB9: =IF(SUM(M9:N9)=0,"",SUM(M9:N9)) | AC9: =IF(AA9="","",(AA9*AC8)+(AB9*AC8))
M10: {=IF(K10="","",SUMPRODUCT(('TARIFS 2 SAISONS'!$A$2:$A$367>=K10)*('TARIFS 2 SAISONS'!$A$2:$A$367<=L10)*('TARIFS 2 SAISONS'!$C$2:$C$367="Haute")*1))} | N10: =IF(L10="","",L10-K10-M10+1) | O10: =IF(L10="","",M10*$O$5) | P10: =IF(L10="","",N10*$P$5) | Q10: =IF(L10="","",IF(M10+N10>=16,(O10+P10)*-Q9,0)) | S10: =IF(L10="","",SUM(O10:R10)) | V10: =IF(S10="","",S10*$V$5) | W10: =IF(U10="","",U10+7) | X10: =IF(S10="","",S10-V10) | Y10: =IF(K10="","",K10-20) | AA10: =IF(SUM(C10:D10)=0,"",SUM(C10:D10)) | AB10: =IF(SUM(M10:N10)=0,"",SUM(M10:N10)) | AC10: =IF(AA10="","",(AA10*AC9)+(AB10*AC9))
M11: {=IF(K11="","",SUMPRODUCT(('TARIFS 2 SAISONS'!$A$2:$A$367>=K11)*('TARIFS 2 SAISONS'!$A$2:$A$367<=L11)*('TARIFS 2 SAISONS'!$C$2:$C$367="Haute")*1))} | N11: =IF(L11="","",L11-K11-M11+1) | O11: =IF(L11="","",M11*$O$5) | P11: =IF(L11="","",N11*$P$5) | Q11: =IF(L11="","",IF(M11+N11>=16,(O11+P11)*-Q10,0)) | S11: =IF(L11="","",SUM(O11:R11)) | V11: =IF(S11="","",S11*$V$5) | W11: =IF(U11="","",U11+7) | X11: =IF(S11="","",S11-V11) | Y11: =IF(K11="","",K11-20) | AA11: =IF(SUM(C11:D11)=0,"",SUM(C11:D11)) | AB11: =IF(SUM(M11:N11)=0,"",SUM(M11:N11)) | AC11: =IF(AA11="","",(AA11*AC10)+(AB11*AC10))
M12: {=IF(K12="","",SUMPRODUCT(('TARIFS 2 SAISONS'!$A$2:$A$367>=K12)*('TARIFS 2 SAISONS'!$A$2:$A$367<=L12)*('TARIFS 2 SAISONS'!$C$2:$C$367="Haute")*1))} | N12: =IF(L12="","",L12-K12-M12+1) | O12: =IF(L12="","",M12*$O$5) | P12: =IF(L12="","",N12*$P$5) | Q12: =IF(L12="","",IF(M12+N12>=16,(O12+P12)*-Q11,0)) | S12: =IF(L12="","",SUM(O12:R12)) | V12: =IF(S12="","",S12*$V$5) | W12: =IF(U12="","",U12+7) | X12: =IF(S12="","",S12-V12) | Y12: =IF(K12="","",K12-20) | AA12: =IF(SUM(C12:D12)=0,"",SUM(C12:D12)) | AB12: =IF(SUM(M12:N12)=0,"",SUM(M12:N12)) | AC12: =IF(AA12="","",(AA12*AC11)+(AB12*AC11))
M13: {=IF(K13="","",SUMPRODUCT(('TARIFS 2 SAISONS'!$A$2:$A$367>=K13)*('TARIFS 2 SAISONS'!$A$2:$A$367<=L13)*('TARIFS 2 SAISONS'!$C$2:$C$367="Haute")*1))} | N13: =IF(L13="","",L13-K13-M13+1) | O13: =IF(L13="","",M13*$O$5) | P13: =IF(L13="","",N13*$P$5) | Q13: =IF(L13="","",IF(M13+N13>=16,(O13+P13)*-Q12,0)) | S13: =IF(L13="","",SUM(O13:R13)) | V13: =IF(S13="","",S13*$V$5) | W13: =IF(U13="","",U13+7) | X13: =IF(S13="","",S13-V13) | Y13: =IF(K13="","",K13-20) | AA13: =IF(SUM(C13:D13)=0,"",SUM(C13:D13)) | AB13: =IF(SUM(M13:N13)=0,"",SUM(M13:N13)) | AC13: =IF(AA13="","",(AA13*AC12)+(AB13*AC12))
M14: {=IF(K14="","",SUMPRODUCT(('TARIFS 2 SAISONS'!$A$2:$A$367>=K14)*('TARIFS 2 SAISONS'!$A$2:$A$367<=L14)*('TARIFS 2 SAISONS'!$C$2:$C$367="Haute")*1))} | N14: =IF(L14="","",L14-K14-M14+1) | O14: =IF(L14="","",M14*$O$5) | P14: =IF(L14="","",N14*$P$5) | Q14: =IF(L14="","",IF(M14+N14>=16,(O14+P14)*-Q13,0)) | S14: =IF(L14="","",SUM(O14:R14)) | V14: =IF(S14="","",S14*$V$5) | W14: =IF(U14="","",U14+7) | X14: =IF(S14="","",S14-V14) | Y14: =IF(K14="","",K14-20) | AA14: =IF(SUM(C14:D14)=0,"",SUM(C14:D14)) | AB14: =IF(SUM(M14:N14)=0,"",SUM(M14:N14)) | AC14: =IF(AA14="","",(AA14*AC13)+(AB14*AC13))
M15: {=IF(K15="","",SUMPRODUCT(('TARIFS 2 SAISONS'!$A$2:$A$367>=K15)*('TARIFS 2 SAISONS'!$A$2:$A$367<=L15)*('TARIFS 2 SAISONS'!$C$2:$C$367="Haute")*1))} | N15: =IF(L15="","",L15-K15-M15+1) | O15: =IF(L15="","",M15*$O$5) | P15: =IF(L15="","",N15*$P$5) | Q15: =IF(L15="","",IF(M15+N15>=16,(O15+P15)*-Q14,0)) | S15: =IF(L15="","",SUM(O15:R15)) | V15: =IF(S15="","",S15*$V$5) | W15: =IF(U15="","",U15+7) | X15: =IF(S15="","",S15-V15) | Y15: =IF(K15="","",K15-20) | AA15: =IF(SUM(C15:D15)=0,"",SUM(C15:D15)) | AB15: =IF(SUM(M15:N15)=0,"",SUM(M15:N15)) | AC15: =IF(AA15="","",(AA15*AC14)+(AB15*AC14))
M16: {=IF(K16="","",SUMPRODUCT(('TARIFS 2 SAISONS'!$A$2:$A$367>=K16)*('TARIFS 2 SAISONS'!$A$2:$A$367<=L16)*('TARIFS 2 SAISONS'!$C$2:$C$367="Haute")*1))} | N16: =IF(L16="","",L16-K16-M16+1) | O16: =IF(L16="","",M16*$O$5) | P16: =IF(L16="","",N16*$P$5) | Q16: =IF(L16="","",IF(M16+N16>=16,(O16+P16)*-Q15,0)) | S16: =IF(L16="","",SUM(O16:R16)) | V16: =IF(S16="","",S16*$V$5) | W16: =IF(U16="","",U16+7) | X16: =IF(S16="","",S16-V16) | Y16: =IF(K16="","",K16-20) | AA16: =IF(SUM(C16:D16)=0,"",SUM(C16:D16)) | AB16: =IF(SUM(M16:N16)=0,"",SUM(M16:N16)) | AC16: =IF(AA16="","",(AA16*AC15)+(AB16*AC15))
M17: {=IF(K17="","",SUMPRODUCT(('TARIFS 2 SAISONS'!$A$2:$A$367>=K17)*('TARIFS 2 SAISONS'!$A$2:$A$367<=L17)*('TARIFS 2 SAISONS'!$C$2:$C$367="Haute")*1))} | N17: =IF(L17="","",L17-K17-M17+1) | O17: =IF(L17="","",M17*$O$5) | P17: =IF(L17="","",N17*$P$5) | Q17: =IF(L17="","",IF(M17+N17>=16,(O17+P17)*-Q16,0)) | S17: =IF(L17="","",SUM(O17:R17)) | V17: =IF(S17="","",S17*$V$5) | W17: =IF(U17="","",U17+7) | X17: =IF(S17="","",S17-V17) | Y17: =IF(K17="","",K17-20) | AA17: =IF(SUM(C17:D17)=0,"",SUM(C17:D17)) | AB17: =IF(SUM(M17:N17)=0,"",SUM(M17:N17)) | AC17: =IF(AA17="","",(AA17*AC16)+(AB17*AC16))
... M58: {=IF(K58="","",SUMPRODUCT(('TARIFS 2 SAISONS'!$A$2:$A$367>=K58)*('TARIFS 2 SAISONS'!$A$2:$A$367<=L58)*('TARIFS 2 SAISONS'!$C$2:$C$367="Haute")*1))} | N58: =IF(L58="","",L58-K58-M58+1) | O58: =IF(L58="","",M58*$O$5) | P58: =IF(L58="","",N58*$P$5) | Q58: =IF(L58="","",IF(M58+N58>=16,(O58+P58)*-Q57,0)) | S58: =IF(L58="","",SUM(O58:R58)) | V58: =IF(S58="","",S58*$V$5) | W58: =IF(U58="","",U58+7) | X58: =IF(S58="","",S58-V58) | Y58: =IF(K58="","",K58-20) | AA58: =IF(SUM(C58:D58)=0,"",SUM(C58:D58)) | AB58: =IF(SUM(M58:N58)=0,"",SUM(M58:N58)) | AC58: =IF(AA58="","",(AA58*AC57)+(AB58*AC57))

Sheet CALENDRIER 3S
C1: Année | D1: 2020 | I1: Mois | J1: 1 | N1: Jour de début | O1: 2 | Q1: 1:Dim, 2:Lun… | AA1: CALENDRIERS ANNUELS par Vertex42.com
B3: =IF($J$1=1,D1,D1&"-"&D1+1) -> 2020
B4: 80 | C4: Haute | F4: 65 | G4: Moyenne | J4: 55 | K4: Basse | AA4: ← Entrez un titre ou supprimez/masquez cette ligne
B6: =DATE(D1,J1,1) -> 43831 | J6: =DATE(YEAR(B6+42),MONTH(B6+42),1) -> 43862 | R6: =DATE(YEAR(J6+42),MONTH(J6+42),1) -> 43891
B7: =CHOOSE(1+MOD($O$1+1-2,7),"D","L","M","M","J","V","S") -> L | C7: =CHOOSE(1+MOD($O$1+2-2,7),"D","L","M","M","J","V","S") -> M | D7: =CHOOSE(1+MOD($O$1+3-2,7),"D","L","M","M","J","V","S") -> M | E7: =CHOOSE(1+MOD($O$1+4-2,7),"D","L","M","M","J","V","S") -> J | F7: =CHOOSE(1+MOD($O$1+5-2,7),"D","L","M","M","J","V","S") -> V | G7: =CHOOSE(1+MOD($O$1+6-2,7),"D","L","M","M","J","V","S") -> S | H7: =CHOOSE(1+MOD($O$1+7-2,7),"D","L","M","M","J","V","S") -> D | J7: =CHOOSE(1+MOD($O$1+1-2,7),"D","L","M","M","J","V","S") -> L | K7: =CHOOSE(1+MOD($O$1+2-2,7),"D","L","M","M","J","V","S") -> M | L7: =CHOOSE(1+MOD($O$1+3-2,7),"D","L","M","M","J","V","S") -> M | M7: =CHOOSE(1+MOD($O$1+4-2,7),"D","L","M","M","J","V","S") -> J | N7: =CHOOSE(1+MOD($O$1+5-2,7),"D","L","M","M","J","V","S") -> V | O7: =CHOOSE(1+MOD($O$1+6-2,7),"D","L","M","M","J","V","S") -> S | P7: =CHOOSE(1+MOD($O$1+7-2,7),"D","L","M","M","J","V","S") -> D | R7: =CHOOSE(1+MOD($O$1+1-2,7),"D","L","M","M","J","V","S") -> L | S7: =CHOOSE(1+MOD($O$1+2-2,7),"D","L","M","M","J","V","S") -> M | T7: =CHOOSE(1+MOD($O$1+3-2,7),"D","L","M","M","J","V","S") -> M | U7: =CHOOSE(1+MOD($O$1+4-2,7),"D","L","M","M","J","V","S") -> J | V7: =CHOOSE(1+MOD($O$1+5-2,7),"D","L","M","M","J","V","S") -> V | W7: =CHOOSE(1+MOD($O$1+6-2,7),"D","L","M","M","J","V","S") -> S | X7: =CHOOSE(1+MOD($O$1+7-2,7),"D","L","M","M","J","V","S") -> D | AA7: Choisissez un nouveau modèle de couleurs : Accédez Mise en page > Couleurs pour modifier les couleurs du thème, ou à Mise en Page > Polices pour modifier les polices du thème.
B8: =IF(WEEKDAY(B6,1)=MOD($O$1,7),B6,"") | C8: =IF(B8="",IF(WEEKDAY(B6,1)=MOD($O$1,7)+1,B6,""),B8+1) | D8: =IF(C8="",IF(WEEKDAY(B6,1)=MOD($O$1+1,7)+1,B6,""),C8+1) -> 43831 | E8: =IF(D8="",IF(WEEKDAY(B6,1)=MOD($O$1+2,7)+1,B6,""),D8+1) -> 43832 | F8: =IF(E8="",IF(WEEKDAY(B6,1)=MOD($O$1+3,7)+1,B6,""),E8+1) -> 43833 | G8: =IF(F8="",IF(WEEKDAY(B6,1)=MOD($O$1+4,7)+1,B6,""),F8+1) -> 43834 | H8: =IF(G8="",IF(WEEKDAY(B6,1)=MOD($O$1+5,7)+1,B6,""),G8+1) -> 43835 | J8: =IF(WEEKDAY(J6,1)=MOD($O$1,7),J6,"") | K8: =IF(J8="",IF(WEEKDAY(J6,1)=MOD($O$1,7)+1,J6,""),J8+1) | L8: =IF(K8="",IF(WEEKDAY(J6,1)=MOD($O$1+1,7)+1,J6,""),K8+1) | M8: =IF(L8="",IF(WEEKDAY(J6,1)=MOD($O$1+2,7)+1,J6,""),L8+1) | N8: =IF(M8="",IF(WEEKDAY(J6,1)=MOD($O$1+3,7)+1,J6,""),M8+1) | O8: =IF(N8="",IF(WEEKDAY(J6,1)=MOD($O$1+4,7)+1,J6,""),N8+1) -> 43862 | P8: =IF(O8="",IF(WEEKDAY(J6,1)=MOD($O$1+5,7)+1,J6,""),O8+1) -> 43863 | R8: =IF(WEEKDAY(R6,1)=MOD($O$1,7),R6,"") | S8: =IF(R8="",IF(WEEKDAY(R6,1)=MOD($O$1,7)+1,R6,""),R8+1) | T8: =IF(S8="",IF(WEEKDAY(R6,1)=MOD($O$1+1,7)+1,R6,""),S8+1) | U8: =IF(T8="",IF(WEEKDAY(R6,1)=MOD($O$1+2,7)+1,R6,""),T8+1) | V8: =IF(U8="",IF(WEEKDAY(R6,1)=MOD($O$1+3,7)+1,R6,""),U8+1) | W8: =IF(V8="",IF(WEEKDAY(R6,1)=MOD($O$1+4,7)+1,R6,""),V8+1) | X8: =IF(W8="",IF(WEEKDAY(R6,1)=MOD($O$1+5,7)+1,R6,""),W8+1) -> 43891
B9: =IF(H8="","",IF(MONTH(H8+1)<>MONTH(H8),"",H8+1)) -> 43836 | C9: =IF(B9="","",IF(MONTH(B9+1)<>MONTH(B9),"",B9+1)) -> 43837 | D9: =IF(C9="","",IF(MONTH(C9+1)<>MONTH(C9),"",C9+1)) -> 43838 | E9: =IF(D9="","",IF(MONTH(D9+1)<>MONTH(D9),"",D9+1)) -> 43839 | F9: =IF(E9="","",IF(MONTH(E9+1)<>MONTH(E9),"",E9+1)) -> 43840 | G9: =IF(F9="","",IF(MONTH(F9+1)<>MONTH(F9),"",F9+1)) -> 43841 | H9: =IF(G9="","",IF(MONTH(G9+1)<>MONTH(G9),"",G9+1)) -> 43842 | J9: =IF(P8="","",IF(MONTH(P8+1)<>MONTH(P8),"",P8+1)) -> 43864 | K9: =IF(J9="","",IF(MONTH(J9+1)<>MONTH(J9),"",J9+1)) -> 43865 | L9: =IF(K9="","",IF(MONTH(K9+1)<>MONTH(K9),"",K9+1)) -> 43866 | M9: =IF(L9="","",IF(MONTH(L9+1)<>MONTH(L9),"",L9+1)) -> 43867 | N9: =IF(M9="","",IF(MONTH(M9+1)<>MONTH(M9),"",M9+1)) -> 43868 | O9: =IF(N9="","",IF(MONTH(N9+1)<>MONTH(N9),"",N9+1)) -> 43869 | P9: =IF(O9="","",IF(MONTH(O9+1)<>MONTH(O9),"",O9+1)) -> 43870 | R9: =IF(X8="","",IF(MONTH(X8+1)<>MONTH(X8),"",X8+1)) -> 43892 | S9: =IF(R9="","",IF(MONTH(R9+1)<>MONTH(R9),"",R9+1)) -> 43893 | T9: =IF(S9="","",IF(MONTH(S9+1)<>MONTH(S9),"",S9+1)) -> 43894 | U9: =IF(T9="","",IF(MONTH(T9+1)<>MONTH(T9),"",T9+1)) -> 43895 | V9: =IF(U9="","",IF(MONTH(U9+1)<>MONTH(U9),"",U9+1)) -> 43896 | W9: =IF(V9="","",IF(MONTH(V9+1)<>MONTH(V9),"",V9+1)) -> 43897 | X9: =IF(W9="","",IF(MONTH(W9+1)<>MONTH(W9),"",W9+1)) -> 43898
B10: =IF(H9="","",IF(MONTH(H9+1)<>MONTH(H9),"",H9+1)) -> 43843 | C10: =IF(B10="","",IF(MONTH(B10+1)<>MONTH(B10),"",B10+1)) -> 43844 | D10: =IF(C10="","",IF(MONTH(C10+1)<>MONTH(C10),"",C10+1)) -> 43845 | E10: =IF(D10="","",IF(MONTH(D10+1)<>MONTH(D10),"",D10+1)) -> 43846 | F10: =IF(E10="","",IF(MONTH(E10+1)<>MONTH(E10),"",E10+1)) -> 43847 | G10: =IF(F10="","",IF(MONTH(F10+1)<>MONTH(F10),"",F10+1)) -> 43848 | H10: =IF(G10="","",IF(MONTH(G10+1)<>MONTH(G10),"",G10+1)) -> 43849 | J10: =IF(P9="","",IF(MONTH(P9+1)<>MONTH(P9),"",P9+1)) -> 43871 | K10: =IF(J10="","",IF(MONTH(J10+1)<>MONTH(J10),"",J10+1)) -> 43872 | L10: =IF(K10="","",IF(MONTH(K10+1)<>MONTH(K10),"",K10+1)) -> 43873 | M10: =IF(L10="","",IF(MONTH(L10+1)<>MONTH(L10),"",L10+1)) -> 43874 | N10: =IF(M10="","",IF(MONTH(M10+1)<>MONTH(M10),"",M10+1)) -> 43875 | O10: =IF(N10="","",IF(MONTH(N10+1)<>MONTH(N10),"",N10+1)) -> 43876 | P10: =IF(O10="","",IF(MONTH(O10+1)<>MONTH(O10),"",O10+1)) -> 43877 | R10: =IF(X9="","",IF(MONTH(X9+1)<>MONTH(X9),"",X9+1)) -> 43899 | S10: =IF(R10="","",IF(MONTH(R10+1)<>MONTH(R10),"",R10+1)) -> 43900 | T10: =IF(S10="","",IF(MONTH(S10+1)<>MONTH(S10),"",S10+1)) -> 43901 | U10: =IF(T10="","",IF(MONTH(T10+1)<>MONTH(T10),"",T10+1)) -> 43902 | V10: =IF(U10="","",IF(MONTH(U10+1)<>MONTH(U10),"",U10+1)) -> 43903 | W10: =IF(V10="","",IF(MONTH(V10+1)<>MONTH(V10),"",V10+1)) -> 43904 | X10: =IF(W10="","",IF(MONTH(W10+1)<>MONTH(W10),"",W10+1)) -> 43905
B11: =IF(H10="","",IF(MONTH(H10+1)<>MONTH(H10),"",H10+1)) -> 43850 | C11: =IF(B11="","",IF(MONTH(B11+1)<>MONTH(B11),"",B11+1)) -> 43851 | D11: =IF(C11="","",IF(MONTH(C11+1)<>MONTH(C11),"",C11+1)) -> 43852 | E11: =IF(D11="","",IF(MONTH(D11+1)<>MONTH(D11),"",D11+1)) -> 43853 | F11: =IF(E11="","",IF(MONTH(E11+1)<>MONTH(E11),"",E11+1)) -> 43854 | G11: =IF(F11="","",IF(MONTH(F11+1)<>MONTH(F11),"",F11+1)) -> 43855 | H11: =IF(G11="","",IF(MONTH(G11+1)<>MONTH(G11),"",G11+1)) -> 43856 | J11: =IF(P10="","",IF(MONTH(P10+1)<>MONTH(P10),"",P10+1)) -> 43878 | K11: =IF(J11="","",IF(MONTH(J11+1)<>MONTH(J11),"",J11+1)) -> 43879 | L11: =IF(K11="","",IF(MONTH(K11+1)<>MONTH(K11),"",K11+1)) -> 43880 | M11: =IF(L11="","",IF(MONTH(L11+1)<>MONTH(L11),"",L11+1)) -> 43881 | N11: =IF(M11="","",IF(MONTH(M11+1)<>MONTH(M11),"",M11+1)) -> 43882 | O11: =IF(N11="","",IF(MONTH(N11+1)<>MONTH(N11),"",N11+1)) -> 43883 | P11: =IF(O11="","",IF(MONTH(O11+1)<>MONTH(O11),"",O11+1)) -> 43884 | R11: =IF(X10="","",IF(MONTH(X10+1)<>MONTH(X10),"",X10+1)) -> 43906 | S11: =IF(R11="","",IF(MONTH(R11+1)<>MONTH(R11),"",R11+1)) -> 43907 | T11: =IF(S11="","",IF(MONTH(S11+1)<>MONTH(S11),"",S11+1)) -> 43908 | U11: =IF(T11="","",IF(MONTH(T11+1)<>MONTH(T11),"",T11+1)) -> 43909 | V11: =IF(U11="","",IF(MONTH(U11+1)<>MONTH(U11),"",U11+1)) -> 43910 | W11: =IF(V11="","",IF(MONTH(V11+1)<>MONTH(V11),"",V11+1)) -> 43911 | X11: =IF(W11="","",IF(MONTH(W11+1)<>MONTH(W11),"",W11+1)) -> 43912
B12: =IF(H11="","",IF(MONTH(H11+1)<>MONTH(H11),"",H11+1)) -> 43857 | C12: =IF(B12="","",IF(MONTH(B12+1)<>MONTH(B12),"",B12+1)) -> 43858 | D12: =IF(C12="","",IF(MONTH(C12+1)<>MONTH(C12),"",C12+1)) -> 43859 | E12: =IF(D12="","",IF(MONTH(D12+1)<>MONTH(D12),"",D12+1)) -> 43860 | F12: =IF(E12="","",IF(MONTH(E12+1)<>MONTH(E12),"",E12+1)) -> 43861 | G12: =IF(F12="","",IF(MONTH(F12+1)<>MONTH(F12),"",F12+1)) | H12: =IF(G12="","",IF(MONTH(G12+1)<>MONTH(G12),"",G12+1)) | J12: =IF(P11="","",IF(MONTH(P11+1)<>MONTH(P11),"",P11+1)) -> 43885 | K12: =IF(J12="","",IF(MONTH(J12+1)<>MONTH(J12),"",J12+1)) -> 43886 | L12: =IF(K12="","",IF(MONTH(K12+1)<>MONTH(K12),"",K12+1)) -> 43887 | M12: =IF(L12="","",IF(MONTH(L12+1)<>MONTH(L12),"",L12+1)) -> 43888 | N12: =IF(M12="","",IF(MONTH(M12+1)<>MONTH(M12),"",M12+1)) -> 43889 | O12: =IF(N12="","",IF(MONTH(N12+1)<>MONTH(N12),"",N12+1)) -> 43890 | P12: =IF(O12="","",IF(MONTH(O12+1)<>MONTH(O12),"",O12+1)) | R12: =IF(X11="","",IF(MONTH(X11+1)<>MONTH(X11),"",X11+1)) -> 43913 | S12: =IF(R12="","",IF(MONTH(R12+1)<>MONTH(R12),"",R12+1)) -> 43914 | T12: =IF(S12="","",IF(MONTH(S12+1)<>MONTH(S12),"",S12+1)) -> 43915 | U12: =IF(T12="","",IF(MONTH(T12+1)<>MONTH(T12),"",T12+1)) -> 43916 | V12: =IF(U12="","",IF(MONTH(U12+1)<>MONTH(U12),"",U12+1)) -> 43917 | W12: =IF(V12="","",IF(MONTH(V12+1)<>MONTH(V12),"",V12+1)) -> 43918 | X12: =IF(W12="","",IF(MONTH(W12+1)<>MONTH(W12),"",W12+1)) -> 43919
B13: =IF(H12="","",IF(MONTH(H12+1)<>MONTH(H12),"",H12+1)) | C13: =IF(B13="","",IF(MONTH(B13+1)<>MONTH(B13),"",B13+1)) | D13: =IF(C13="","",IF(MONTH(C13+1)<>MONTH(C13),"",C13+1)) | E13: =IF(D13="","",IF(MONTH(D13+1)<>MONTH(D13),"",D13+1)) | F13: =IF(E13="","",IF(MONTH(E13+1)<>MONTH(E13),"",E13+1)) | G13: =IF(F13="","",IF(MONTH(F13+1)<>MONTH(F13),"",F13+1)) | H13: =IF(G13="","",IF(MONTH(G13+1)<>MONTH(G13),"",G13+1)) | J13: =IF(P12="","",IF(MONTH(P12+1)<>MONTH(P12),"",P12+1)) | K13: =IF(J13="","",IF(MONTH(J13+1)<>MONTH(J13),"",J13+1)) | L13: =IF(K13="","",IF(MONTH(K13+1)<>MONTH(K13),"",K13+1)) | M13: =IF(L13="","",IF(MONTH(L13+1)<>MONTH(L13),"",L13+1)) | N13: =IF(M13="","",IF(MONTH(M13+1)<>MONTH(M13),"",M13+1)) | O13: =IF(N13="","",IF(MONTH(N13+1)<>MONTH(N13),"",N13+1)) | P13: =IF(O13="","",IF(MONTH(O13+1)<>MONTH(O13),"",O13+1)) | R13: =IF(X12="","",IF(MONTH(X12+1)<>MONTH(X12),"",X12+1)) -> 43920 | S13: =IF(R13="","",IF(MONTH(R13+1)<>MONTH(R13),"",R13+1)) -> 43921 | T13: =IF(S13="","",IF(MONTH(S13+1)<>MONTH(S13),"",S13+1)) | U13: =IF(T13="","",IF(MONTH(T13+1)<>MONTH(T13),"",T13+1)) | V13: =IF(U13="","",IF(MONTH(U13+1)<>MONTH(U13),"",U13+1)) | W13: =IF(V13="","",IF(MONTH(V13+1)<>MONTH(V13),"",V13+1)) | X13: =IF(W13="","",IF(MONTH(W13+1)<>MONTH(W13),"",W13+1))
B15: =DATE(YEAR(R6+42),MONTH(R6+42),1) -> 43922 | J15: =DATE(YEAR(B15+42),MONTH(B15+42),1) -> 43952 | R15: =DATE(YEAR(J15+42),MONTH(J15+42),1) -> 43983
