Workbook
Name Année_civile: Calendrier!$C$3
Name ColumnTitleRegion..AC22.1: Calendrier!$C$20:$E$20
Name lstCongés: JoursFériés[Jours fériés]
Name lstDatesD: Suivi_des_congés[Date de fin]
Name lstDatesF: Suivi_des_congés[Date de début]
Name lstEmployés: Employés[Noms des employés]
Name lstNomsEmpl: Suivi_des_congés[Nom de l’employé]
Name lstTypesC: Suivi_des_congés[Type de congé]
Name lstTypesCongés: TypesCongés[Liste des types de congés]
Name Titre1: RegistrePrésence[[#Headers],[Jour de la semaine/mois]]
Name Titre2: Suivi_des_congés[[#Headers],[Nom de l’employé]]
Name TitreColonne3: Employés[[#Headers],[Noms des employés]]
Name TitreColonne4: TypesCongés[[#Headers],[Liste des types de congés]]
Name TitreColonne5: JoursFériés[[#Headers],[Jours fériés]]
Name valSelEmployé: Calendrier!$C$2

Sheet Calendrier
B1: REGISTRE DE PRÉSENCE DES EMPLOYÉS
B2: Employé : | C2: Salarié 6
B3: Année : | C3: =YEAR(TODAY()) -> 2018
B5: Jour de la semaine/mois | C5: DIM | D5: LUN | E5: MAR | F5: MER | G5: JEU | H5: VEN | I5: SAM | J5: DIM | K5: LUN | L5: MAR | M5: MER | N5: JEU | O5: VEN | P5: SAM | Q5: DIM | R5: LUN | S5: MAR | T5: MER | U5: JEU | V5: VEN | W5: SAM | X5: DIM | Y5: LUN | Z5: MAR | AA5: MER | AB5: JEU | AC5: VEN | AD5: SAM | AE5: DIM | AF5: LUN | AG5: MAR | AH5: MER | AI5: JEU | AJ5: VEN | AK5: SAM | AL5: DIM | AM5: LUN | AN5: MAR | AO5: MER | AP5: JEU 2 | AQ5: VEN | AR5: SAM
B6: Janvier | C6: =IFERROR(IF(TEXT(DATE(Année_civile,ROW($A1),1),"jjj")=LEFT(C$5,3),DATE(Année_civile,ROW($A1),1),""),"") | D6: =IFERROR(IF(TEXT(DATE(Année_civile,ROW($A1),1),"jjj")=LEFT(D$5,3),DATE(Année_civile,ROW($A1),1),IF(C6>=1,C6+1,"")),"") -> 43101 | E6: =IFERROR(IF(TEXT(DATE(Année_civile,ROW($A1),1),"jjj")=LEFT(E$5,3),DATE(Année_civile,ROW($A1),1),IF(D6>=1,D6+1,"")),"") -> 43102 | F6: =IFERROR(IF(TEXT(DATE(Année_civile,ROW($A1),1),"jjj")=LEFT(F$5,3),DATE(Année_civile,ROW($A1),1),IF(E6>=1,E6+1,"")),"") -> 43103 | G6: =IFERROR(IF(TEXT(DATE(Année_civile,ROW($A1),1),"jjj")=LEFT(G$5,3),DATE(Année_civile,ROW($A1),1),IF(F6>=1,F6+1,"")),"") -> 43104 | H6: =IFERROR(IF(TEXT(DATE(Année_civile,ROW($A1),1),"jjj")=LEFT(H$5,3),DATE(Année_civile,ROW($A1),1),IF(G6>=1,G6+1,"")),"") -> 43105 | I6: =IFERROR(IF(TEXT(DATE(Année_civile,ROW($A1),1),"jjj")=LEFT(I$5,3),DATE(Année_civile,ROW($A1),1),IF(H6>=1,H6+1,"")),"") -> 43106 | J6: =IFERROR(IF(I6>=1,I6+1,""),"") -> 43107 | K6: =IFERROR(IF(J6>=1,J6+1,""),"") -> 43108 | L6: =IFERROR(IF(K6>=1,K6+1,""),"") -> 43109 | M6: =IFERROR(IF(L6>=1,L6+1,""),"") -> 43110 | N6: =IFERROR(IF(M6>=1,M6+1,""),"") -> 43111 | O6: =IFERROR(IF(N6>=1,N6+1,""),"") -> 43112 | P6: =IFERROR(IF(O6>=1,O6+1,""),"") -> 43113 | Q6: =IFERROR(IF(P6>=1,P6+1,""),"") -> 43114 | ... AH6: =IFERROR(IF(AG6>=1,AG6+1,""),"") -> 43131 | AL6: =IFERROR(IF(AND(AK6>=1,AK6+1<=DATE(Année_civile,ROW($A1)+1,0)),AK6+1,""),"") | AM6: =IFERROR(IF(AND(AL6>=1,AL6+1<=DATE(Année_civile,ROW($A1)+1,0)),AL6+1,""),"") | AN6: =IFERROR(IF(AND(AM6>=1,AM6+1<=DATE(Année_civile,ROW($A1)+1,0)),AM6+1,""),"") | AO6: =IFERROR(IF(AND(AN6>=1,AN6+1<=DATE(Année_civile,ROW($A1)+1,0)),AN6+1,""),"") | AP6: =IFERROR(IF(AND(AO6>=1,AO6+1<=DATE(Année_civile,ROW($A1)+1,0)),AO6+1,""),"") | AQ6: =IFERROR(IF(AND(AP6>=1,AP6+1<=DATE(Année_civile,ROW($A1)+1,0)),AP6+1,""),"") | AR6: =IFERROR(IF(AND(AQ6>=1,AQ6+1<=DATE(Année_civile,ROW($A1)+1,0)),AQ6+1,""),"")
B7: Février | C7: =IFERROR(IF(TEXT(DATE(Année_civile,ROW($A2),1),"jjj")=LEFT(C$5,3),DATE(Année_civile,ROW($A2),1),""),"") | D7: =IFERROR(IF(TEXT(DATE(Année_civile,ROW($A2),1),"jjj")=LEFT(D$5,3),DATE(Année_civile,ROW($A2),1),IF(C7>=1,C7+1,"")),"") | E7: =IFERROR(IF(TEXT(DATE(Année_civile,ROW($A2),1),"jjj")=LEFT(E$5,3),DATE(Année_civile,ROW($A2),1),IF(D7>=1,D7+1,"")),"") | F7: =IFERROR(IF(TEXT(DATE(Année_civile,ROW($A2),1),"jjj")=LEFT(F$5,3),DATE(Année_civile,ROW($A2),1),IF(E7>=1,E7+1,"")),"") | G7: =IFERROR(IF(TEXT(DATE(Année_civile,ROW($A2),1),"jjj")=LEFT(G$5,3),DATE(Année_civile,ROW($A2),1),IF(F7>=1,F7+1,"")),"") -> 43132 | H7: =IFERROR(IF(TEXT(DATE(Année_civile,ROW($A2),1),"jjj")=LEFT(H$5,3),DATE(Année_civile,ROW($A2),1),IF(G7>=1,G7+1,"")),"") -> 43133 | I7: =IFERROR(IF(TEXT(DATE(Année_civile,ROW($A2),1),"jjj")=LEFT(I$5,3),DATE(Année_civile,ROW($A2),1),IF(H7>=1,H7+1,"")),"") -> 43134 | J7: =IFERROR(IF(I7>=1,I7+1,""),"") -> 43135 | K7: =IFERROR(IF(J7>=1,J7+1,""),"") -> 43136 | L7: =IFERROR(IF(K7>=1,K7+1,""),"") -> 43137 | M7: =IFERROR(IF(L7>=1,L7+1,""),"") -> 43138 | N7: =IFERROR(IF(M7>=1,M7+1,""),"") -> 43139 | O7: =IFERROR(IF(N7>=1,N7+1,""),"") -> 43140 | P7: =IFERROR(IF(O7>=1,O7+1,""),"") -> 43141 | Q7: =IFERROR(IF(P7>=1,P7+1,""),"") -> 43142 | ... AH7: =IFERROR(IF(AG7>=1,AG7+1,""),"") -> 43159 | AL7: =IFERROR(IF(AND(AK7>=1,AK7+1<=DATE(Année_civile,ROW($A2)+1,0)),AK7+1,""),"") | AM7: =IFERROR(IF(AND(AL7>=1,AL7+1<=DATE(Année_civile,ROW($A2)+1,0)),AL7+1,""),"") | AN7: =IFERROR(IF(AND(AM7>=1,AM7+1<=DATE(Année_civile,ROW($A2)+1,0)),AM7+1,""),"") | AO7: =IFERROR(IF(AND(AN7>=1,AN7+1<=DATE(Année_civile,ROW($A2)+1,0)),AN7+1,""),"") | AP7: =IFERROR(IF(AND(AO7>=1,AO7+1<=DATE(Année_civile,ROW($A2)+1,0)),AO7+1,""),"") | AQ7: =IFERROR(IF(AND(AP7>=1,AP7+1<=DATE(Année_civile,ROW($A2)+1,0)),AP7+1,""),"") | AR7: =IFERROR(IF(AND(AQ7>=1,AQ7+1<=DATE(Année_civile,ROW($A2)+1,0)),AQ7+1,""),"")
B8: Mars | C8: =IFERROR(IF(TEXT(DATE(Année_civile,ROW($A3),1),"jjj")=LEFT(C$5,3),DATE(Année_civile,ROW($A3),1),""),"") | D8: =IFERROR(IF(TEXT(DATE(Année_civile,ROW($A3),1),"jjj")=LEFT(D$5,3),DATE(Année_civile,ROW($A3),1),IF(C8>=1,C8+1,"")),"") | E8: =IFERROR(IF(TEXT(DATE(Année_civile,ROW($A3),1),"jjj")=LEFT(E$5,3),DATE(Année_civile,ROW($A3),1),IF(D8>=1,D8+1,"")),"") | F8: =IFERROR(IF(TEXT(DATE(Année_civile,ROW($A3),1),"jjj")=LEFT(F$5,3),DATE(Année_civile,ROW($A3),1),IF(E8>=1,E8+1,"")),"") | G8: =IFERROR(IF(TEXT(DATE(Année_civile,ROW($A3),1),"jjj")=LEFT(G$5,3),DATE(Année_civile,ROW($A3),1),IF(F8>=1,F8+1,"")),"") -> 43160 | H8: =IFERROR(IF(TEXT(DATE(Année_civile,ROW($A3),1),"jjj")=LEFT(H$5,3),DATE(Année_civile,ROW($A3),1),IF(G8>=1,G8+1,"")),"") -> 43161 | I8: =IFERROR(IF(TEXT(DATE(Année_civile,ROW($A3),1),"jjj")=LEFT(I$5,3),DATE(Année_civile,ROW($A3),1),IF(H8>=1,H8+1,"")),"") -> 43162 | J8: =IFERROR(IF(I8>=1,I8+1,""),"") -> 43163 | K8: =IFERROR(IF(J8>=1,J8+1,""),"") -> 43164 | L8: =IFERROR(IF(K8>=1,K8+1,""),"") -> 43165 | M8: =IFERROR(IF(L8>=1,L8+1,""),"") -> 43166 | N8: =IFERROR(IF(M8>=1,M8+1,""),"") -> 43167 | O8: =IFERROR(IF(N8>=1,N8+1,""),"") -> 43168 | P8: =IFERROR(IF(O8>=1,O8+1,""),"") -> 43169 | Q8: =IFERROR(IF(P8>=1,P8+1,""),"") -> 43170 | ... AK8: =IFERROR(IF(AJ8>=1,AJ8+1,""),"") -> 43190 | AL8: =IFERROR(IF(AND(AK8>=1,AK8+1<=DATE(Année_civile,ROW($A3)+1,0)),AK8+1,""),"") | AM8: =IFERROR(IF(AND(AL8>=1,AL8+1<=DATE(Année_civile,ROW($A3)+1,0)),AL8+1,""),"") | AN8: =IFERROR(IF(AND(AM8>=1,AM8+1<=DATE(Année_civile,ROW($A3)+1,0)),AM8+1,""),"") | AO8: =IFERROR(IF(AND(AN8>=1,AN8+1<=DATE(Année_civile,ROW($A3)+1,0)),AN8+1,""),"") | AP8: =IFERROR(IF(AND(AO8>=1,AO8+1<=DATE(Année_civile,ROW($A3)+1,0)),AO8+1,""),"") | AQ8: =IFERROR(IF(AND(AP8>=1,AP8+1<=DATE(Année_civile,ROW($A3)+1,0)),AP8+1,""),"") | AR8: =IFERROR(IF(AND(AQ8>=1,AQ8+1<=DATE(Année_civile,ROW($A3)+1,0)),AQ8+1,""),"")
B9: Avril | C9: =IFERROR(IF(TEXT(DATE(Année_civile,ROW($A4),1),"jjj")=LEFT(C$5,3),DATE(Année_civile,ROW($A4),1),""),"") -> 43191 | D9: =IFERROR(IF(TEXT(DATE(Année_civile,ROW($A4),1),"jjj")=LEFT(D$5,3),DATE(Année_civile,ROW($A4),1),IF(C9>=1,C9+1,"")),"") -> 43192 | E9: =IFERROR(IF(TEXT(DATE(Année_civile,ROW($A4),1),"jjj")=LEFT(E$5,3),DATE(Année_civile,ROW($A4),1),IF(D9>=1,D9+1,"")),"") -> 43193 | F9: =IFERROR(IF(TEXT(DATE(Année_civile,ROW($A4),1),"jjj")=LEFT(F$5,3),DATE(Année_civile,ROW($A4),1),IF(E9>=1,E9+1,"")),"") -> 43194 | G9: =IFERROR(IF(TEXT(DATE(Année_civile,ROW($A4),1),"jjj")=LEFT(G$5,3),DATE(Année_civile,ROW($A4),1),IF(F9>=1,F9+1,"")),"") -> 43195 | H9: =IFERROR(IF(TEXT(DATE(Année_civile,ROW($A4),1),"jjj")=LEFT(H$5,3),DATE(Année_civile,ROW($A4),1),IF(G9>=1,G9+1,"")),"") -> 43196 | I9: =IFERROR(IF(TEXT(DATE(Année_civile,ROW($A4),1),"jjj")=LEFT(I$5,3),DATE(Année_civile,ROW($A4),1),IF(H9>=1,H9+1,"")),"") -> 43197 | J9: =IFERROR(IF(I9>=1,I9+1,""),"") -> 43198 | K9: =IFERROR(IF(J9>=1,J9+1,""),"") -> 43199 | L9: =IFERROR(IF(K9>=1,K9+1,""),"") -> 43200 | M9: =IFERROR(IF(L9>=1,L9+1,""),"") -> 43201 | N9: =IFERROR(IF(M9>=1,M9+1,""),"") -> 43202 | O9: =IFERROR(IF(N9>=1,N9+1,""),"") -> 43203 | P9: =IFERROR(IF(O9>=1,O9+1,""),"") -> 43204 | Q9: =IFERROR(IF(P9>=1,P9+1,""),"") -> 43205 | ... AF9: =IFERROR(IF(AE9>=1,AE9+1,""),"") -> 43220 | AL9: =IFERROR(IF(AND(AK9>=1,AK9+1<=DATE(Année_civile,ROW($A4)+1,0)),AK9+1,""),"") | AM9: =IFERROR(IF(AND(AL9>=1,AL9+1<=DATE(Année_civile,ROW($A4)+1,0)),AL9+1,""),"") | AN9: =IFERROR(IF(AND(AM9>=1,AM9+1<=DATE(Année_civile,ROW($A4)+1,0)),AM9+1,""),"") | AO9: =IFERROR(IF(AND(AN9>=1,AN9+1<=DATE(Année_civile,ROW($A4)+1,0)),AN9+1,""),"") | AP9: =IFERROR(IF(AND(AO9>=1,AO9+1<=DATE(Année_civile,ROW($A4)+1,0)),AO9+1,""),"") | AQ9: =IFERROR(IF(AND(AP9>=1,AP9+1<=DATE(Année_civile,ROW($A4)+1,0)),AP9+1,""),"") | AR9: =IFERROR(IF(AND(AQ9>=1,AQ9+1<=DATE(Année_civile,ROW($A4)+1,0)),AQ9+1,""),"")
B10: Mai | C10: =IFERROR(IF(TEXT(DATE(Année_civile,ROW($A5),1),"jjj")=LEFT(C$5,3),DATE(Année_civile,ROW($A5),1),""),"") | D10: =IFERROR(IF(TEXT(DATE(Année_civile,ROW($A5),1),"jjj")=LEFT(D$5,3),DATE(Année_civile,ROW($A5),1),IF(C10>=1,C10+1,"")),"") | E10: =IFERROR(IF(TEXT(DATE(Année_civile,ROW($A5),1),"jjj")=LEFT(E$5,3),DATE(Année_civile,ROW($A5),1),IF(D10>=1,D10+1,"")),"") -> 43221 | F10: =IFERROR(IF(TEXT(DATE(Année_civile,ROW($A5),1),"jjj")=LEFT(F$5,3),DATE(Année_civile,ROW($A5),1),IF(E10>=1,E10+1,"")),"") -> 43222 | G10: =IFERROR(IF(TEXT(DATE(Année_civile,ROW($A5),1),"jjj")=LEFT(G$5,3),DATE(Année_civile,ROW($A5),1),IF(F10>=1,F10+1,"")),"") -> 43223 | H10: =IFERROR(IF(TEXT(DATE(Année_civile,ROW($A5),1),"jjj")=LEFT(H$5,3),DATE(Année_civile,ROW($A5),1),IF(G10>=1,G10+1,"")),"") -> 43224 | I10: =IFERROR(IF(TEXT(DATE(Année_civile,ROW($A5),1),"jjj")=LEFT(I$5,3),DATE(Année_civile,ROW($A5),1),IF(H10>=1,H10+1,"")),"") -> 43225 | J10: =IFERROR(IF(I10>=1,I10+1,""),"") -> 43226 | K10: =IFERROR(IF(J10>=1,J10+1,""),"") -> 43227 | L10: =IFERROR(IF(K10>=1,K10+1,""),"") -> 43228 | M10: =IFERROR(IF(L10>=1,L10+1,""),"") -> 43229 | N10: =IFERROR(IF(M10>=1,M10+1,""),"") -> 43230 | O10: =IFERROR(IF(N10>=1,N10+1,""),"") -> 43231 | P10: =IFERROR(IF(O10>=1,O10+1,""),"") -> 43232 | Q10: =IFERROR(IF(P10>=1,P10+1,""),"") -> 43233 | ... AI10: =IFERROR(IF(AH10>=1,AH10+1,""),"") -> 43251 | AL10: =IFERROR(IF(AND(AK10>=1,AK10+1<=DATE(Année_civile,ROW($A5)+1,0)),AK10+1,""),"") | AM10: =IFERROR(IF(AND(AL10>=1,AL10+1<=DATE(Année_civile,ROW($A5)+1,0)),AL10+1,""),"") | AN10: =IFERROR(IF(AND(AM10>=1,AM10+1<=DATE(Année_civile,ROW($A5)+1,0)),AM10+1,""),"") | AO10: =IFERROR(IF(AND(AN10>=1,AN10+1<=DATE(Année_civile,ROW($A5)+1,0)),AN10+1,""),"") | AP10: =IFERROR(IF(AND(AO10>=1,AO10+1<=DATE(Année_civile,ROW($A5)+1,0)),AO10+1,""),"") | AQ10: =IFERROR(IF(AND(AP10>=1,AP10+1<=DATE(Année_civile,ROW($A5)+1,0)),AP10+1,""),"") | AR10: =IFERROR(IF(AND(AQ10>=1,AQ10+1<=DATE(Année_civile,ROW($A5)+1,0)),AQ10+1,""),"")
B11: Juin | C11: =IFERROR(IF(TEXT(DATE(Année_civile,ROW($A6),1),"jjj")=LEFT(C$5,3),DATE(Année_civile,ROW($A6),1),""),"") | D11: =IFERROR(IF(TEXT(DATE(Année_civile,ROW($A6),1),"jjj")=LEFT(D$5,3),DATE(Année_civile,ROW($A6),1),IF(C11>=1,C11+1,"")),"") | E11: =IFERROR(IF(TEXT(DATE(Année_civile,ROW($A6),1),"jjj")=LEFT(E$5,3),DATE(Année_civile,ROW($A6),1),IF(D11>=1,D11+1,"")),"") | F11: =IFERROR(IF(TEXT(DATE(Année_civile,ROW($A6),1),"jjj")=LEFT(F$5,3),DATE(Année_civile,ROW($A6),1),IF(E11>=1,E11+1,"")),"") | G11: =IFERROR(IF(TEXT(DATE(Année_civile,ROW($A6),1),"jjj")=LEFT(G$5,3),DATE(Année_civile,ROW($A6),1),IF(F11>=1,F11+1,"")),"") | H11: =IFERROR(IF(TEXT(DATE(Année_civile,ROW($A6),1),"jjj")=LEFT(H$5,3),DATE(Année_civile,ROW($A6),1),IF(G11>=1,G11+1,"")),"") -> 43252 | I11: =IFERROR(IF(TEXT(DATE(Année_civile,ROW($A6),1),"jjj")=LEFT(I$5,3),DATE(Année_civile,ROW($A6),1),IF(H11>=1,H11+1,"")),"") -> 43253 | J11: =IFERROR(IF(I11>=1,I11+1,""),"") -> 43254 | K11: =IFERROR(IF(J11>=1,J11+1,""),"") -> 43255 | L11: =IFERROR(IF(K11>=1,K11+1,""),"") -> 43256 | M11: =IFERROR(IF(L11>=1,L11+1,""),"") -> 43257 | N11: =IFERROR(IF(M11>=1,M11+1,""),"") -> 43258 | O11: =IFERROR(IF(N11>=1,N11+1,""),"") -> 43259 | P11: =IFERROR(IF(O11>=1,O11+1,""),"") -> 43260 | Q11: =IFERROR(IF(P11>=1,P11+1,""),"") -> 43261 | ... AK11: =IFERROR(IF(AJ11>=1,AJ11+1,""),"") -> 43281 | AL11: =IFERROR(IF(AND(AK11>=1,AK11+1<=DATE(Année_civile,ROW($A6)+1,0)),AK11+1,""),"") | AM11: =IFERROR(IF(AND(AL11>=1,AL11+1<=DATE(Année_civile,ROW($A6)+1,0)),AL11+1,""),"") | AN11: =IFERROR(IF(AND(AM11>=1,AM11+1<=DATE(Année_civile,ROW($A6)+1,0)),AM11+1,""),"") | AO11: =IFERROR(IF(AND(AN11>=1,AN11+1<=DATE(Année_civile,ROW($A6)+1,0)),AN11+1,""),"") | AP11: =IFERROR(IF(AND(AO11>=1,AO11+1<=DATE(Année_civile,ROW($A6)+1,0)),AO11+1,""),"") | AQ11: =IFERROR(IF(AND(AP11>=1,AP11+1<=DATE(Année_civile,ROW($A6)+1,0)),AP11+1,""),"") | AR11: =IFERROR(IF(AND(AQ11>=1,AQ11+1<=DATE(Année_civile,ROW($A6)+1,0)),AQ11+1,""),"")
B12: Juillet | C12: =IFERROR(IF(TEXT(DATE(Année_civile,ROW($A7),1),"jjj")=LEFT(C$5,3),DATE(Année_civile,ROW($A7),1),""),"") -> 43282 | D12: =IFERROR(IF(TEXT(DATE(Année_civile,ROW($A7),1),"jjj")=LEFT(D$5,3),DATE(Année_civile,ROW($A7),1),IF(C12>=1,C12+1,"")),"") -> 43283 | E12: =IFERROR(IF(TEXT(DATE(Année_civile,ROW($A7),1),"jjj")=LEFT(E$5,3),DATE(Année_civile,ROW($A7),1),IF(D12>=1,D12+1,"")),"") -> 43284 | F12: =IFERROR(IF(TEXT(DATE(Année_civile,ROW($A7),1),"jjj")=LEFT(F$5,3),DATE(Année_civile,ROW($A7),1),IF(E12>=1,E12+1,"")),"") -> 43285 | G12: =IFERROR(IF(TEXT(DATE(Année_civile,ROW($A7),1),"jjj")=LEFT(G$5,3),DATE(Année_civile,ROW($A7),1),IF(F12>=1,F12+1,"")),"") -> 43286 | H12: =IFERROR(IF(TEXT(DATE(Année_civile,ROW($A7),1),"jjj")=LEFT(H$5,3),DATE(Année_civile,ROW($A7),1),IF(G12>=1,G12+1,"")),"") -> 43287 | I12: =IFERROR(IF(TEXT(DATE(Année_civile,ROW($A7),1),"jjj")=LEFT(I$5,3),DATE(Année_civile,ROW($A7),1),IF(H12>=1,H12+1,"")),"") -> 43288 | J12: =IFERROR(IF(I12>=1,I12+1,""),"") -> 43289 | K12: =IFERROR(IF(J12>=1,J12+1,""),"") -> 43290 | L12: =IFERROR(IF(K12>=1,K12+1,""),"") -> 43291 | M12: =IFERROR(IF(L12>=1,L12+1,""),"") -> 43292 | N12: =IFERROR(IF(M12>=1,M12+1,""),"") -> 43293 | O12: =IFERROR(IF(N12>=1,N12+1,""),"") -> 43294 | P12: =IFERROR(IF(O12>=1,O12+1,""),"") -> 43295 | Q12: =IFERROR(IF(P12>=1,P12+1,""),"") -> 43296 | ... AG12: =IFERROR(IF(AF12>=1,AF12+1,""),"") -> 43312 | AL12: =IFERROR(IF(AND(AK12>=1,AK12+1<=DATE(Année_civile,ROW($A7)+1,0)),AK12+1,""),"") | AM12: =IFERROR(IF(AND(AL12>=1,AL12+1<=DATE(Année_civile,ROW($A7)+1,0)),AL12+1,""),"") | AN12: =IFERROR(IF(AND(AM12>=1,AM12+1<=DATE(Année_civile,ROW($A7)+1,0)),AM12+1,""),"") | AO12: =IFERROR(IF(AND(AN12>=1,AN12+1<=DATE(Année_civile,ROW($A7)+1,0)),AN12+1,""),"") | AP12: =IFERROR(IF(AND(AO12>=1,AO12+1<=DATE(Année_civile,ROW($A7)+1,0)),AO12+1,""),"") | AQ12: =IFERROR(IF(AND(AP12>=1,AP12+1<=DATE(Année_civile,ROW($A7)+1,0)),AP12+1,""),"") | AR12: =IFERROR(IF(AND(AQ12>=1,AQ12+1<=DATE(Année_civile,ROW($A7)+1,0)),AQ12+1,""),"")
B13: Août | C13: =IFERROR(IF(TEXT(DATE(Année_civile,ROW($A8),1),"jjj")=LEFT(C$5,3),DATE(Année_civile,ROW($A8),1),""),"") | D13: =IFERROR(IF(TEXT(DATE(Année_civile,ROW($A8),1),"jjj")=LEFT(D$5,3),DATE(Année_civile,ROW($A8),1),IF(C13>=1,C13+1,"")),"") | E13: =IFERROR(IF(TEXT(DATE(Année_civile,ROW($A8),1),"jjj")=LEFT(E$5,3),DATE(Année_civile,ROW($A8),1),IF(D13>=1,D13+1,"")),"") | F13: =IFERROR(IF(TEXT(DATE(Année_civile,ROW($A8),1),"jjj")=LEFT(F$5,3),DATE(Année_civile,ROW($A8),1),IF(E13>=1,E13+1,"")),"") -> 43313 | G13: =IFERROR(IF(TEXT(DATE(Année_civile,ROW($A8),1),"jjj")=LEFT(G$5,3),DATE(Année_civile,ROW($A8),1),IF(F13>=1,F13+1,"")),"") -> 43314 | H13: =IFERROR(IF(TEXT(DATE(Année_civile,ROW($A8),1),"jjj")=LEFT(H$5,3),DATE(Année_civile,ROW($A8),1),IF(G13>=1,G13+1,"")),"") -> 43315 | I13: =IFERROR(IF(TEXT(DATE(Année_civile,ROW($A8),1),"jjj")=LEFT(I$5,3),DATE(Année_civile,ROW($A8),1),IF(H13>=1,H13+1,"")),"") -> 43316 | J13: =IFERROR(IF(I13>=1,I13+1,""),"") -> 43317 | K13: =IFERROR(IF(J13>=1,J13+1,""),"") -> 43318 | L13: =IFERROR(IF(K13>=1,K13+1,""),"") -> 43319 | M13: =IFERROR(IF(L13>=1,L13+1,""),"") -> 43320 | N13: =IFERROR(IF(M13>=1,M13+1,""),"") -> 43321 | O13: =IFERROR(IF(N13>=1,N13+1,""),"") -> 43322 | P13: =IFERROR(IF(O13>=1,O13+1,""),"") -> 43323 | Q13: =IFERROR(IF(P13>=1,P13+1,""),"") -> 43324 | ... AJ13: =IFERROR(IF(AI13>=1,AI13+1,""),"") -> 43343 | AL13: =IFERROR(IF(AND(AK13>=1,AK13+1<=DATE(Année_civile,ROW($A8)+1,0)),AK13+1,""),"") | AM13: =IFERROR(IF(AND(AL13>=1,AL13+1<=DATE(Année_civile,ROW($A8)+1,0)),AL13+1,""),"") | AN13: =IFERROR(IF(AND(AM13>=1,AM13+1<=DATE(Année_civile,ROW($A8)+1,0)),AM13+1,""),"") | AO13: =IFERROR(IF(AND(AN13>=1,AN13+1<=DATE(Année_civile,ROW($A8)+1,0)),AN13+1,""),"") | AP13: =IFERROR(IF(AND(AO13>=1,AO13+1<=DATE(Année_civile,ROW($A8)+1,0)),AO13+1,""),"") | AQ13: =IFERROR(IF(AND(AP13>=1,AP13+1<=DATE(Année_civile,ROW($A8)+1,0)),AP13+1,""),"") | AR13: =IFERROR(IF(AND(AQ13>=1,AQ13+1<=DATE(Année_civile,ROW($A8)+1,0)),AQ13+1,""),"")
B14: Septembre | C14: =IFERROR(IF(TEXT(DATE(Année_civile,ROW($A9),1),"jjj")=LEFT(C$5,3),DATE(Année_civile,ROW($A9),1),""),"") | D14: =IFERROR(IF(TEXT(DATE(Année_civile,ROW($A9),1),"jjj")=LEFT(D$5,3),DATE(Année_civile,ROW($A9),1),IF(C14>=1,C14+1,"")),"") | E14: =IFERROR(IF(TEXT(DATE(Année_civile,ROW($A9),1),"jjj")=LEFT(E$5,3),DATE(Année_civile,ROW($A9),1),IF(D14>=1,D14+1,"")),"") | F14: =IFERROR(IF(TEXT(DATE(Année_civile,ROW($A9),1),"jjj")=LEFT(F$5,3),DATE(Année_civile,ROW($A9),1),IF(E14>=1,E14+1,"")),"") | G14: =IFERROR(IF(TEXT(DATE(Année_civile,ROW($A9),1),"jjj")=LEFT(G$5,3),DATE(Année_civile,ROW($A9),1),IF(F14>=1,F14+1,"")),"") | H14: =IFERROR(IF(TEXT(DATE(Année_civile,ROW($A9),1),"jjj")=LEFT(H$5,3),DATE(Année_civile,ROW($A9),1),IF(G14>=1,G14+1,"")),"") | I14: =IFERROR(IF(TEXT(DATE(Année_civile,ROW($A9),1),"jjj")=LEFT(I$5,3),DATE(Année_civile,ROW($A9),1),IF(H14>=1,H14+1,"")),"") -> 43344 | J14: =IFERROR(IF(I14>=1,I14+1,""),"") -> 43345 | K14: =IFERROR(IF(J14>=1,J14+1,""),"") -> 43346 | L14: =IFERROR(IF(K14>=1,K14+1,""),"") -> 43347 | M14: =IFERROR(IF(L14>=1,L14+1,""),"") -> 43348 | N14: =IFERROR(IF(M14>=1,M14+1,""),"") -> 43349 | O14: =IFERROR(IF(N14>=1,N14+1,""),"") -> 43350 | P14: =IFERROR(IF(O14>=1,O14+1,""),"") -> 43351 | Q14: =IFERROR(IF(P14>=1,P14+1,""),"") -> 43352 | ... AK14: =IFERROR(IF(AJ14>=1,AJ14+1,""),"") -> 43372 | AL14: =IFERROR(IF(AND(AK14>=1,AK14+1<=DATE(Année_civile,ROW($A9)+1,0)),AK14+1,""),"") -> 43373 | AM14: =IFERROR(IF(AND(AL14>=1,AL14+1<=DATE(Année_civile,ROW($A9)+1,0)),AL14+1,""),"") | AN14: =IFERROR(IF(AND(AM14>=1,AM14+1<=DATE(Année_civile,ROW($A9)+1,0)),AM14+1,""),"") | AO14: =IFERROR(IF(AND(AN14>=1,AN14+1<=DATE(Année_civile,ROW($A9)+1,0)),AN14+1,""),"") | AP14: =IFERROR(IF(AND(AO14>=1,AO14+1<=DATE(Année_civile,ROW($A9)+1,0)),AO14+1,""),"") | AQ14: =IFERROR(IF(AND(AP14>=1,AP14+1<=DATE(Année_civile,ROW($A9)+1,0)),AP14+1,""),"") | AR14: =IFERROR(IF(AND(AQ14>=1,AQ14+1<=DATE(Année_civile,ROW($A9)+1,0)),AQ14+1,""),"")
B15: Octobre | C15: =IFERROR(IF(TEXT(DATE(Année_civile,ROW($A10),1),"jjj")=LEFT(C$5,3),DATE(Année_civile,ROW($A10),1),""),"") | D15: =IFERROR(IF(TEXT(DATE(Année_civile,ROW($A10),1),"jjj")=LEFT(D$5,3),DATE(Année_civile,ROW($A10),1),IF(C15>=1,C15+1,"")),"") -> 43374 | E15: =IFERROR(IF(TEXT(DATE(Année_civile,ROW($A10),1),"jjj")=LEFT(E$5,3),DATE(Année_civile,ROW($A10),1),IF(D15>=1,D15+1,"")),"") -> 43375 | F15: =IFERROR(IF(TEXT(DATE(Année_civile,ROW($A10),1),"jjj")=LEFT(F$5,3),DATE(Année_civile,ROW($A10),1),IF(E15>=1,E15+1,"")),"") -> 43376 | G15: =IFERROR(IF(TEXT(DATE(Année_civile,ROW($A10),1),"jjj")=LEFT(G$5,3),DATE(Année_civile,ROW($A10),1),IF(F15>=1,F15+1,"")),"") -> 43377 | H15: =IFERROR(IF(TEXT(DATE(Année_civile,ROW($A10),1),"jjj")=LEFT(H$5,3),DATE(Année_civile,ROW($A10),1),IF(G15>=1,G15+1,"")),"") -> 43378 | I15: =IFERROR(IF(TEXT(DATE(Année_civile,ROW($A10),1),"jjj")=LEFT(I$5,3),DATE(Année_civile,ROW($A10),1),IF(H15>=1,H15+1,"")),"") -> 43379 | J15: =IFERROR(IF(I15>=1,I15+1,""),"") -> 43380 | K15: =IFERROR(IF(J15>=1,J15+1,""),"") -> 43381 | L15: =IFERROR(IF(K15>=1,K15+1,""),"") -> 43382 | M15: =IFERROR(IF(L15>=1,L15+1,""),"") -> 43383 | N15: =IFERROR(IF(M15>=1,M15+1,""),"") -> 43384 | O15: =IFERROR(IF(N15>=1,N15+1,""),"") -> 43385 | P15: =IFERROR(IF(O15>=1,O15+1,""),"") -> 43386 | Q15: =IFERROR(IF(P15>=1,P15+1,""),"") -> 43387 | ... AH15: =IFERROR(IF(AG15>=1,AG15+1,""),"") -> 43404 | AM15: =IFERROR(IF(AND(AL15>=1,AL15+1<=DATE(Année_civile,ROW($A10)+1,0)),AL15+1,""),"") | AN15: =IFERROR(IF(AND(AM15>=1,AM15+1<=DATE(Année_civile,ROW($A10)+1,0)),AM15+1,""),"") | AO15: =IFERROR(IF(AND(AN15>=1,AN15+1<=DATE(Année_civile,ROW($A10)+1,0)),AN15+1,""),"") | AP15: =IFERROR(IF(AND(AO15>=1,AO15+1<=DATE(Année_civile,ROW($A10)+1,0)),AO15+1,""),"") | AQ15: =IFERROR(IF(AND(AP15>=1,AP15+1<=DATE(Année_civile,ROW($A10)+1,0)),AP15+1,""),"") | AR15: =IFERROR(IF(AND(AQ15>=1,AQ15+1<=DATE(Année_civile,ROW($A10)+1,0)),AQ15+1,""),"")
B16: Novembre | C16: =IFERROR(IF(TEXT(DATE(Année_civile,ROW($A11),1),"jjj")=LEFT(C$5,3),DATE(Année_civile,ROW($A11),1),""),"") | D16: =IFERROR(IF(TEXT(DATE(Année_civile,ROW($A11),1),"jjj")=LEFT(D$5,3),DATE(Année_civile,ROW($A11),1),IF(C16>=1,C16+1,"")),"") | E16: =IFERROR(IF(TEXT(DATE(Année_civile,ROW($A11),1),"jjj")=LEFT(E$5,3),DATE(Année_civile,ROW($A11),1),IF(D16>=1,D16+1,"")),"") | F16: =IFERROR(IF(TEXT(DATE(Année_civile,ROW($A11),1),"jjj")=LEFT(F$5,3),DATE(Année_civile,ROW($A11),1),IF(E16>=1,E16+1,"")),"") | G16: =IFERROR(IF(TEXT(DATE(Année_civile,ROW($A11),1),"jjj")=LEFT(G$5,3),DATE(Année_civile,ROW($A11),1),IF(F16>=1,F16+1,"")),"") -> 43405 | H16: =IFERROR(IF(TEXT(DATE(Année_civile,ROW($A11),1),"jjj")=LEFT(H$5,3),DATE(Année_civile,ROW($A11),1),IF(G16>=1,G16+1,"")),"") -> 43406 | I16: =IFERROR(IF(TEXT(DATE(Année_civile,ROW($A11),1),"jjj")=LEFT(I$5,3),DATE(Année_civile,ROW($A11),1),IF(H16>=1,H16+1,"")),"") -> 43407 | J16: =IFERROR(IF(I16>=1,I16+1,""),"") -> 43408 | K16: =IFERROR(IF(J16>=1,J16+1,""),"") -> 43409 | L16: =IFERROR(IF(K16>=1,K16+1,""),"") -> 43410 | M16: =IFERROR(IF(L16>=1,L16+1,""),"") -> 43411 | N16: =IFERROR(IF(M16>=1,M16+1,""),"") -> 43412 | O16: =IFERROR(IF(N16>=1,N16+1,""),"") -> 43413 | P16: =IFERROR(IF(O16>=1,O16+1,""),"") -> 43414 | Q16: =IFERROR(IF(P16>=1,P16+1,""),"") -> 43415 | ... AJ16: =IFERROR(IF(AI16>=1,AI16+1,""),"") -> 43434 | AL16: =IFERROR(IF(AND(AK16>=1,AK16+1<=DATE(Année_civile,ROW($A11)+1,0)),AK16+1,""),"") | AM16: =IFERROR(IF(AND(AL16>=1,AL16+1<=DATE(Année_civile,ROW($A11)+1,0)),AL16+1,""),"") | AN16: =IFERROR(IF(AND(AM16>=1,AM16+1<=DATE(Année_civile,ROW($A11)+1,0)),AM16+1,""),"") | AO16: =IFERROR(IF(AND(AN16>=1,AN16+1<=DATE(Année_civile,ROW($A11)+1,0)),AN16+1,""),"") | AP16: =IFERROR(IF(AND(AO16>=1,AO16+1<=DATE(Année_civile,ROW($A11)+1,0)),AO16+1,""),"") | AQ16: =IFERROR(IF(AND(AP16>=1,AP16+1<=DATE(Année_civile,ROW($A11)+1,0)),AP16+1,""),"") | AR16: =IFERROR(IF(AND(AQ16>=1,AQ16+1<=DATE(Année_civile,ROW($A11)+1,0)),AQ16+1,""),"")
B17: Décembre | C17: =IFERROR(IF(TEXT(DATE(Année_civile,ROW($A12),1),"jjj")=LEFT(C$5,3),DATE(Année_civile,ROW($A12),1),""),"") | D17: =IFERROR(IF(TEXT(DATE(Année_civile,ROW($A12),1),"jjj")=LEFT(D$5,3),DATE(Année_civile,ROW($A12),1),IF(C17>=1,C17+1,"")),"") | E17: =IFERROR(IF(TEXT(DATE(Année_civile,ROW($A12),1),"jjj")=LEFT(E$5,3),DATE(Année_civile,ROW($A12),1),IF(D17>=1,D17+1,"")),"") | F17: =IFERROR(IF(TEXT(DATE(Année_civile,ROW($A12),1),"jjj")=LEFT(F$5,3),DATE(Année_civile,ROW($A12),1),IF(E17>=1,E17+1,"")),"") | G17: =IFERROR(IF(TEXT(DATE(Année_civile,ROW($A12),1),"jjj")=LEFT(G$5,3),DATE(Année_civile,ROW($A12),1),IF(F17>=1,F17+1,"")),"") | H17: =IFERROR(IF(TEXT(DATE(Année_civile,ROW($A12),1),"jjj")=LEFT(H$5,3),DATE(Année_civile,ROW($A12),1),IF(G17>=1,G17+1,"")),"") | I17: =IFERROR(IF(TEXT(DATE(Année_civile,ROW($A12),1),"jjj")=LEFT(I$5,3),DATE(Année_civile,ROW($A12),1),IF(H17>=1,H17+1,"")),"") -> 43435 | J17: =IFERROR(IF(I17>=1,I17+1,""),"") -> 43436 | K17: =IFERROR(IF(J17>=1,J17+1,""),"") -> 43437 | L17: =IFERROR(IF(K17>=1,K17+1,""),"") -> 43438 | M17: =IFERROR(IF(L17>=1,L17+1,""),"") -> 43439 | N17: =IFERROR(IF(M17>=1,M17+1,""),"") -> 43440 | O17: =IFERROR(IF(N17>=1,N17+1,""),"") -> 43441 | P17: =IFERROR(IF(O17>=1,O17+1,""),"") -> 43442 | Q17: =IFERROR(IF(P17>=1,P17+1,""),"") -> 43443 | ... AK17: =IFERROR(IF(AJ17>=1,AJ17+1,""),"") -> 43463 | AL17: =IFERROR(IF(AND(AK17>=1,AK17+1<=DATE(Année_civile,ROW($A12)+1,0)),AK17+1,""),"") -> 43464 | AM17: =IFERROR(IF(AND(AL17>=1,AL17+1<=DATE(Année_civile,ROW($A12)+1,0)),AL17+1,""),"") -> 43465 | AN17: =IFERROR(IF(AND(AM17>=1,AM17+1<=DATE(Année_civile,ROW($A12)+1,0)),AM17+1,""),"") | AO17: =IFERROR(IF(AND(AN17>=1,AN17+1<=DATE(Année_civile,ROW($A12)+1,0)),AN17+1,""),"") | AP17: =IFERROR(IF(AND(AO17>=1,AO17+1<=DATE(Année_civile,ROW($A12)+1,0)),AO17+1,""),"") | AQ17: =IFERROR(IF(AND(AP17>=1,AP17+1<=DATE(Année_civile,ROW($A12)+1,0)),AP17+1,""),"") | AR17: =IFERROR(IF(AND(AQ17>=1,AQ17+1<=DATE(Année_civile,ROW($A12)+1,0)),AQ17+1,""),"")
B19: CHIFFRES CLÉS
C20: Jours d'absence | H20: Jours travaillés | N20: Arrêts maladie | S20: Congés | X20: Formation | AC20: Autres
C21: =SUMIFS(Suivi_des_congés[Jours],Suivi_des_congés[Nom de l’employé],valSelEmployé,Suivi_des_congés[Date de début],">="&DATE(Année_civile,1,1),Suivi_des_congés[Date de fin],"<"&DATE(Année_civile+1,1,1)) -> 17 | H21: =NETWORKDAYS(DATE(2018,1,1),DATE(2018,12,31),'Jours fériés'!B4:B16) -> 250 | N21: =SUMIFS(Suivi_des_congés[Jours],Suivi_des_congés[Nom de l’employé],valSelEmployé,Suivi_des_congés[Date de début],">="&DATE(Année_civile,1,1),Suivi_des_congés[Date de fin],"<"&DATE(Année_civile+1,1,1),Suivi_des_congés[Type de congé],'Types de congés'!B4) -> 14 | S21: =SUMIFS(Suivi_des_congés[Jours],Suivi_des_congés[Nom de l’employé],valSelEmployé,Suivi_des_congés[Date de début],">="&DATE(Année_civile,1,1),Suivi_des_congés[Date de fin],"<"&DATE(Année_civile+1,1,1),Suivi_des_congés[Type de congé],'Types de congés'!B5) -> 3 | X21: =SUMIFS(Suivi_des_congés[Jours],Suivi_des_congés[Nom de l’employé],valSelEmployé,Suivi_des_congés[Date de début],">="&DATE(Année_civile,1,1),Suivi_des_congés[Date de fin],"<"&DATE(Année_civile+1,1,1),Suivi_des_congés[Type de congé],'Types de congés'!B6) -> 0 | AC21: =SUMIFS(Suivi_des_congés[Jours],Suivi_des_congés[Nom de l’employé],valSelEmployé,Suivi_des_congés[Date de début],">="&DATE(Année_civile,1,1),Suivi_des_congés[Date de fin],"<"&DATE(Année_civile+1,1,1),Suivi_des_congés[Type de congé],'Types de congés'!B7) -> 0

Sheet Suivi des congés des employés
B1: Suivi des congés des employés
B3: Nom de l’employé | C3: Date de début | D3: Date de fin | E3: Type de congé | F3: Jours
B4: Salarié 1 | C4: =IF(Suivi_des_congés[[#This Row],[Nom de l’employé]]="","",DATE(YEAR(TODAY()),6,13)) -> 43264 | D4: =IF(Suivi_des_congés[[#This Row],[Nom de l’employé]]="","",DATE(YEAR(TODAY()),6,15)) -> 43266 | E4: Arrêt maladie | F4: =IF(Suivi_des_congés[[#This Row],[Nom de l’employé]]="","",NETWORKDAYS(Suivi_des_congés[[#This Row],[Date de début]],Suivi_des_congés[[#This Row],[Date de fin]],lstCongés)) -> 3
B5: Salarié 1 | C5: =IF(Suivi_des_congés[[#This Row],[Nom de l’employé]]="","",DATE(YEAR(TODAY()),1,22)) -> 43122 | D5: =IF(Suivi_des_congés[[#This Row],[Nom de l’employé]]="","",DATE(YEAR(TODAY()),1,26)) -> 43126 | E5: Formation | F5: =IF(Suivi_des_congés[[#This Row],[Nom de l’employé]]="","",NETWORKDAYS(Suivi_des_congés[[#This Row],[Date de début]],Suivi_des_congés[[#This Row],[Date de fin]],lstCongés)) -> 5
B6: Salarié 1 | C6: =IF(Suivi_des_congés[[#This Row],[Nom de l’employé]]="","",DATE(YEAR(TODAY()),1,2)) -> 43102 | D6: =IF(Suivi_des_congés[[#This Row],[Nom de l’employé]]="","",DATE(YEAR(TODAY()),1,5)) -> 43105 | E6: Congés | F6: =IF(Suivi_des_congés[[#This Row],[Nom de l’employé]]="","",NETWORKDAYS(Suivi_des_congés[[#This Row],[Date de début]],Suivi_des_congés[[#This Row],[Date de fin]],lstCongés)) -> 4
B7: Salarié 1 | C7: =IF(Suivi_des_congés[[#This Row],[Nom de l’employé]]="","",DATE(YEAR(TODAY()),5,7)) -> 43227 | D7: =IF(Suivi_des_congés[[#This Row],[Nom de l’employé]]="","",DATE(YEAR(TODAY()),5,8)) -> 43228 | E7: Congés | F7: =IF(Suivi_des_congés[[#This Row],[Nom de l’employé]]="","",NETWORKDAYS(Suivi_des_congés[[#This Row],[Date de début]],Suivi_des_congés[[#This Row],[Date de fin]],lstCongés)) -> 1
B8: Salarié 2 | C8: =IF(Suivi_des_congés[[#This Row],[Nom de l’employé]]="","",DATE(YEAR(TODAY()),7,2)) -> 43283 | D8: =IF(Suivi_des_congés[[#This Row],[Nom de l’employé]]="","",DATE(YEAR(TODAY()),7,13)) -> 43294 | E8: Congés | F8: =IF(Suivi_des_congés[[#This Row],[Nom de l’employé]]="","",NETWORKDAYS(Suivi_des_congés[[#This Row],[Date de début]],Suivi_des_congés[[#This Row],[Date de fin]],lstCongés)) -> 10
B9: Salarié 2 | C9: =IF(Suivi_des_congés[[#This Row],[Nom de l’employé]]="","",DATE(YEAR(TODAY()),6,21)) -> 43272 | D9: =IF(Suivi_des_congés[[#This Row],[Nom de l’employé]]="","",DATE(YEAR(TODAY()),6,22)) -> 43273 | E9: Arrêt maladie | F9: =IF(Suivi_des_congés[[#This Row],[Nom de l’employé]]="","",NETWORKDAYS(Suivi_des_congés[[#This Row],[Date de début]],Suivi_des_congés[[#This Row],[Date de fin]],lstCongés)) -> 2
B10: Salarié 2 | C10: =IF(Suivi_des_congés[[#This Row],[Nom de l’employé]]="","",DATE(YEAR(TODAY()),2,5)) -> 43136 | D10: =IF(Suivi_des_congés[[#This Row],[Nom de l’employé]]="","",DATE(YEAR(TODAY()),2,9)) -> 43140 | E10: Formation | F10: =IF(Suivi_des_congés[[#This Row],[Nom de l’employé]]="","",NETWORKDAYS(Suivi_des_congés[[#This Row],[Date de début]],Suivi_des_congés[[#This Row],[Date de fin]],lstCongés)) -> 5
B11: Salarié 2 | C11: =IF(Suivi_des_congés[[#This Row],[Nom de l’employé]]="","",DATE(YEAR(TODAY()),1,2)) -> 43102 | D11: =IF(Suivi_des_congés[[#This Row],[Nom de l’employé]]="","",DATE(YEAR(TODAY()),1,5)) -> 43105 | E11: Congés | F11: =IF(Suivi_des_congés[[#This Row],[Nom de l’employé]]="","",NETWORKDAYS(Suivi_des_congés[[#This Row],[Date de début]],Suivi_des_congés[[#This Row],[Date de fin]],lstCongés)) -> 4
B12: Salarié 2 | C12: =IF(Suivi_des_congés[[#This Row],[Nom de l’employé]]="","",DATE(YEAR(TODAY()),4,27)) -> 43217 | D12: =IF(Suivi_des_congés[[#This Row],[Nom de l’employé]]="","",DATE(YEAR(TODAY()),4,27)) -> 43217 | E12: Congés | F12: =IF(Suivi_des_congés[[#This Row],[Nom de l’employé]]="","",NETWORKDAYS(Suivi_des_congés[[#This Row],[Date de début]],Suivi_des_congés[[#This Row],[Date de fin]],lstCongés)) -> 1
B13: Salarié 2 | C13: =IF(Suivi_des_congés[[#This Row],[Nom de l’employé]]="","",DATE(YEAR(TODAY()),4,30)) -> 43220 | D13: =IF(Suivi_des_congés[[#This Row],[Nom de l’employé]]="","",DATE(YEAR(TODAY()),4,30)) -> 43220 | E13: Congés | F13: =IF(Suivi_des_congés[[#This Row],[Nom de l’employé]]="","",NETWORKDAYS(Suivi_des_congés[[#This Row],[Date de début]],Suivi_des_congés[[#This Row],[Date de fin]],lstCongés)) -> 1
B14: Salarié 2 | C14: =IF(Suivi_des_congés[[#This Row],[Nom de l’employé]]="","",DATE(YEAR(TODAY()),5,11)) -> 43231 | D14: =IF(Suivi_des_congés[[#This Row],[Nom de l’employé]]="","",DATE(YEAR(TODAY()),5,11)) -> 43231 | E14: Congés | F14: =IF(Suivi_des_congés[[#This Row],[Nom de l’employé]]="","",NETWORKDAYS(Suivi_des_congés[[#This Row],[Date de début]],Suivi_des_congés[[#This Row],[Date de fin]],lstCongés)) -> 1
B15: Salarié 2 | C15: =IF(Suivi_des_congés[[#This Row],[Nom de l’employé]]="","",DATE(YEAR(TODAY()),6,25)) -> 43276 | D15: =IF(Suivi_des_congés[[#This Row],[Nom de l’employé]]="","",DATE(YEAR(TODAY()),6,29)) -> 43280 | E15: Arrêt maladie | F15: =IF(Suivi_des_congés[[#This Row],[Nom de l’employé]]="","",NETWORKDAYS(Suivi_des_congés[[#This Row],[Date de début]],Suivi_des_congés[[#This Row],[Date de fin]],lstCongés)) -> 5
B16: Salarié 3 | C16: =IF(Suivi_des_congés[[#This Row],[Nom de l’employé]]="","",DATE(YEAR(TODAY()),8,13)) -> 43325 | D16: =IF(Suivi_des_congés[[#This Row],[Nom de l’employé]]="","",DATE(YEAR(TODAY()),8,31)) -> 43343 | E16: Congés | F16: =IF(Suivi_des_congés[[#This Row],[Nom de l’employé]]="","",NETWORKDAYS(Suivi_des_congés[[#This Row],[Date de début]],Suivi_des_congés[[#This Row],[Date de fin]],lstCongés)) -> 14
B17: Salarié 3 | C17: =IF(Suivi_des_congés[[#This Row],[Nom de l’employé]]="","",DATE(YEAR(TODAY()),1,2)) -> 43102 | D17: =IF(Suivi_des_congés[[#This Row],[Nom de l’employé]]="","",DATE(YEAR(TODAY()),2,14)) -> 43145 | E17: Arrêt maladie | F17: =IF(Suivi_des_congés[[#This Row],[Nom de l’employé]]="","",NETWORKDAYS(Suivi_des_congés[[#This Row],[Date de début]],Suivi_des_congés[[#This Row],[Date de fin]],lstCongés)) -> 32
B18: Salarié 3 | C18: =IF(Suivi_des_congés[[#This Row],[Nom de l’employé]]="","",DATE(YEAR(TODAY()),4,3)) -> 43193 | D18: =IF(Suivi_des_congés[[#This Row],[Nom de l’employé]]="","",DATE(YEAR(TODAY()),4,3)) -> 43193 | E18: Congés | F18: =IF(Suivi_des_congés[[#This Row],[Nom de l’employé]]="","",NETWORKDAYS(Suivi_des_congés[[#This Row],[Date de début]],Suivi_des_congés[[#This Row],[Date de fin]],lstCongés)) -> 1
B19: Salarié 3 | C19: =IF(Suivi_des_congés[[#This Row],[Nom de l’employé]]="","",DATE(YEAR(TODAY()),5,11)) -> 43231 | D19: =IF(Suivi_des_congés[[#This Row],[Nom de l’employé]]="","",DATE(YEAR(TODAY()),5,11)) -> 43231 | E19: Congés | F19: =IF(Suivi_des_congés[[#This Row],[Nom de l’employé]]="","",NETWORKDAYS(Suivi_des_congés[[#This Row],[Date de début]],Suivi_des_congés[[#This Row],[Date de fin]],lstCongés)) -> 1
B20: Salarié 3 | C20: =IF(Suivi_des_congés[[#This Row],[Nom de l’employé]]="","",DATE(YEAR(TODAY()),7,10)) -> 43291 | D20: =IF(Suivi_des_congés[[#This Row],[Nom de l’employé]]="","",DATE(YEAR(TODAY()),7,10)) -> 43291 | E20: Congés | F20: =IF(Suivi_des_congés[[#This Row],[Nom de l’employé]]="","",NETWORKDAYS(Suivi_des_congés[[#This Row],[Date de début]],Suivi_des_congés[[#This Row],[Date de fin]],lstCongés)) -> 1
B21: Salarié 4 | C21: =IF(Suivi_des_congés[[#This Row],[Nom de l’employé]]="","",DATE(YEAR(TODAY()),7,12 )) -> 43293 | D21: =IF(Suivi_des_congés[[#This Row],[Nom de l’employé]]="","",DATE(YEAR(TODAY()),7,13)) -> 43294 | E21: Congés | F21: =IF(Suivi_des_congés[[#This Row],[Nom de l’employé]]="","",NETWORKDAYS(Suivi_des_congés[[#This Row],[Date de début]],Suivi_des_congés[[#This Row],[Date de fin]],lstCongés)) -> 2
B22: Salarié 4 | C22: =IF(Suivi_des_congés[[#This Row],[Nom de l’employé]]="","",DATE(YEAR(TODAY()),4,30)) -> 43220 | D22: =IF(Suivi_des_congés[[#This Row],[Nom de l’employé]]="","",DATE(YEAR(TODAY()),4,30)) -> 43220 | E22: Congés | F22: =IF(Suivi_des_congés[[#This Row],[Nom de l’employé]]="","",NETWORKDAYS(Suivi_des_congés[[#This Row],[Date de début]],Suivi_des_congés[[#This Row],[Date de fin]],lstCongés)) -> 1
B23: Salarié 4 | C23: =IF(Suivi_des_congés[[#This Row],[Nom de l’employé]]="","",DATE(YEAR(TODAY()),5,7)) -> 43227 | D23: =IF(Suivi_des_congés[[#This Row],[Nom de l’employé]]="","",DATE(YEAR(TODAY()),5,9)) -> 43229 | E23: Congés | F23: =IF(Suivi_des_congés[[#This Row],[Nom de l’employé]]="","",NETWORKDAYS(Suivi_des_congés[[#This Row],[Date de début]],Suivi_des_congés[[#This Row],[Date de fin]],lstCongés)) -> 2
B24: Salarié 4 | C24: =IF(Suivi_des_congés[[#This Row],[Nom de l’employé]]="","",DATE(YEAR(TODAY()),7,9)) -> 43290 | D24: =IF(Suivi_des_congés[[#This Row],[Nom de l’employé]]="","",DATE(YEAR(TODAY()),7,9)) -> 43290 | E24: Arrêt maladie | F24: =IF(Suivi_des_congés[[#This Row],[Nom de l’employé]]="","",NETWORKDAYS(Suivi_des_congés[[#This Row],[Date de début]],Suivi_des_congés[[#This Row],[Date de fin]],lstCongés)) -> 1
B25: Salarié 5 | C25: =IF(Suivi_des_congés[[#This Row],[Nom de l’employé]]="","",DATE(YEAR(TODAY()),7,13 )) -> 43294 | D25: =IF(Suivi_des_congés[[#This Row],[Nom de l’employé]]="","",DATE(YEAR(TODAY()),8,3)) -> 43315 | E25: Congés | F25: =IF(Suivi_des_congés[[#This Row],[Nom de l’employé]]="","",NETWORKDAYS(Suivi_des_congés[[#This Row],[Date de début]],Suivi_des_congés[[#This Row],[Date de fin]],lstCongés)) -> 16
B26: Salarié 5 | C26: =IF(Suivi_des_congés[[#This Row],[Nom de l’employé]]="","",DATE(YEAR(TODAY()),1,2)) -> 43102 | D26: =IF(Suivi_des_congés[[#This Row],[Nom de l’employé]]="","",DATE(YEAR(TODAY()),1,2)) -> 43102 | E26: Congés | F26: =IF(Suivi_des_congés[[#This Row],[Nom de l’employé]]="","",NETWORKDAYS(Suivi_des_congés[[#This Row],[Date de début]],Suivi_des_congés[[#This Row],[Date de fin]],lstCongés)) -> 1
B27: Salarié 5 | C27: =IF(Suivi_des_congés[[#This Row],[Nom de l’employé]]="","",DATE(YEAR(TODAY()),2,26)) -> 43157 | D27: =IF(Suivi_des_congés[[#This Row],[Nom de l’employé]]="","",DATE(YEAR(TODAY()),3,2)) -> 43161 | E27: Congés | F27: =IF(Suivi_des_congés[[#This Row],[Nom de l’employé]]="","",NETWORKDAYS(Suivi_des_congés[[#This Row],[Date de début]],Suivi_des_congés[[#This Row],[Date de fin]],lstCongés)) -> 5
B28: Salarié 5 | C28: =IF(Suivi_des_congés[[#This Row],[Nom de l’employé]]="","",DATE(YEAR(TODAY()),4,30)) -> 43220 | D28: =IF(Suivi_des_congés[[#This Row],[Nom de l’employé]]="","",DATE(YEAR(TODAY()),5,4)) -> 43224 | E28: Congés | F28: =IF(Suivi_des_congés[[#This Row],[Nom de l’employé]]="","",NETWORKDAYS(Suivi_des_congés[[#This Row],[Date de début]],Suivi_des_congés[[#This Row],[Date de fin]],lstCongés)) -> 4
B29: Salarié 6 | C29: =IF(Suivi_des_congés[[#This Row],[Nom de l’employé]]="","",DATE(YEAR(TODAY()),5,14)) -> 43234 | D29: =IF(Suivi_des_congés[[#This Row],[Nom de l’employé]]="","",DATE(YEAR(TODAY()),6,1)) -> 43252 | E29: Arrêt maladie | F29: =IF(Suivi_des_congés[[#This Row],[Nom de l’employé]]="","",NETWORKDAYS(Suivi_des_congés[[#This Row],[Date de début]],Suivi_des_congés[[#This Row],[Date de fin]],lstCongés)) -> 14
B30: Salarié 6 | C30: =IF(Suivi_des_congés[[#This Row],[Nom de l’employé]]="","",DATE(YEAR(TODAY()),5,7)) -> 43227 | D30: =IF(Suivi_des_congés[[#This Row],[Nom de l’employé]]="","",DATE(YEAR(TODAY()),5,11)) -> 43231 | E30: Congés | F30: =IF(Suivi_des_congés[[#This Row],[Nom de l’employé]]="","",NETWORKDAYS(Suivi_des_congés[[#This Row],[Date de début]],Suivi_des_congés[[#This Row],[Date de fin]],lstCongés)) -> 3
B31: Salarié 7 | C31: =IF(Suivi_des_congés[[#This Row],[Nom de l’employé]]="","",DATE(YEAR(TODAY()),7,2)) -> 43283 | D31: =IF(Suivi_des_congés[[#This Row],[Nom de l’employé]]="","",DATE(YEAR(TODAY()),7,6)) -> 43287 | E31: Congés | F31: =IF(Suivi_des_congés[[#This Row],[Nom de l’employé]]="","",NETWORKDAYS(Suivi_des_congés[[#This Row],[Date de début]],Suivi_des_congés[[#This Row],[Date de fin]],lstCongés)) -> 5
B32: Salarié 7 | C32: =IF(Suivi_des_congés[[#This Row],[Nom de l’employé]]="","",DATE(YEAR(TODAY()),8,6)) -> 43318 | D32: =IF(Suivi_des_congés[[#This Row],[Nom de l’employé]]="","",DATE(YEAR(TODAY()),8,10)) -> 43322 | E32: Congés | F32: =IF(Suivi_des_congés[[#This Row],[Nom de l’employé]]="","",NETWORKDAYS(Suivi_des_congés[[#This Row],[Date de début]],Suivi_des_congés[[#This Row],[Date de fin]],lstCongés)) -> 5
B33: Salarié 7 | C33: =IF(Suivi_des_congés[[#This Row],[Nom de l’employé]]="","",DATE(YEAR(TODAY()),1,22)) -> 43122 | D33: =IF(Suivi_des_congés[[#This Row],[Nom de l’employé]]="","",DATE(YEAR(TODAY()),1,23)) -> 43123 | E33: Formation | F33: =IF(Suivi_des_congés[[#This Row],[Nom de l’employé]]="","",NETWORKDAYS(Suivi_des_congés[[#This Row],[Date de début]],Suivi_des_congés[[#This Row],[Date de fin]],lstCongés)) -> 2
B34: Salarié 7 | C34: =IF(Suivi_des_congés[[#This Row],[Nom de l’employé]]="","",DATE(YEAR(TODAY()),9,13)) -> 43356 | D34: =IF(Suivi_des_congés[[#This Row],[Nom de l’employé]]="","",DATE(YEAR(TODAY()),9,14)) -> 43357 | E34: Formation | F34: =IF(Suivi_des_congés[[#This Row],[Nom de l’employé]]="","",NETWORKDAYS(Suivi_des_congés[[#This Row],[Date de début]],Suivi_des_congés[[#This Row],[Date de fin]],lstCongés)) -> 2
B35: Salarié 7 | C35: =IF(Suivi_des_congés[[#This Row],[Nom de l’employé]]="","",DATE(YEAR(TODAY()),9,20)) -> 43363 | D35: =IF(Suivi_des_congés[[#This Row],[Nom de l’employé]]="","",DATE(YEAR(TODAY()),9,21)) -> 43364 | E35: Formation | F35: =IF(Suivi_des_congés[[#This Row],[Nom de l’employé]]="","",NETWORKDAYS(Suivi_des_congés[[#This Row],[Date de début]],Suivi_des_congés[[#This Row],[Date de fin]],lstCongés)) -> 2
B36: Salarié 8 | C36: =IF(Suivi_des_congés[[#This Row],[Nom de l’employé]]="","",DATE(YEAR(TODAY()),6,27)) -> 43278 | D36: =IF(Suivi_des_congés[[#This Row],[Nom de l’employé]]="","",DATE(YEAR(TODAY()),7,6)) -> 43287 | E36: Congés | F36: =IF(Suivi_des_congés[[#This Row],[Nom de l’employé]]="","",NETWORKDAYS(Suivi_des_congés[[#This Row],[Date de début]],Suivi_des_congés[[#This Row],[Date de fin]],lstCongés)) -> 8
B37: Salarié 8 | C37: =IF(Suivi_des_congés[[#This Row],[Nom de l’employé]]="","",DATE(YEAR(TODAY()),8,13)) -> 43325 | D37: =IF(Suivi_des_congés[[#This Row],[Nom de l’employé]]="","",DATE(YEAR(TODAY()),8,24)) -> 43336 | E37: Congés | F37: =IF(Suivi_des_congés[[#This Row],[Nom de l’employé]]="","",NETWORKDAYS(Suivi_des_congés[[#This Row],[Date de début]],Suivi_des_congés[[#This Row],[Date de fin]],lstCongés)) -> 9
B38: Salarié 9 | C38: =IF(Suivi_des_congés[[#This Row],[Nom de l’employé]]="","",DATE(YEAR(TODAY()),8,6)) -> 43318 | D38: =IF(Suivi_des_congés[[#This Row],[Nom de l’employé]]="","",DATE(YEAR(TODAY()),8,17)) -> 43329 | E38: Congés | F38: =IF(Suivi_des_congés[[#This Row],[Nom de l’employé]]="","",NETWORKDAYS(Suivi_des_congés[[#This Row],[Date de début]],Suivi_des_congés[[#This Row],[Date de fin]],lstCongés)) -> 9
B39: Salarié 9 | C39: =IF(Suivi_des_congés[[#This Row],[Nom de l’employé]]="","",DATE(YEAR(TODAY()),1,4)) -> 43104 | D39: =IF(Suivi_des_congés[[#This Row],[Nom de l’employé]]="","",DATE(YEAR(TODAY()),1,5)) -> 43105 | E39: Formation | F39: =IF(Suivi_des_congés[[#This Row],[Nom de l’employé]]="","",NETWORKDAYS(Suivi_des_congés[[#This Row],[Date de début]],Suivi_des_congés[[#This Row],[Date de fin]],lstCongés)) -> 2
B40: Salarié 9 | C40: =IF(Suivi_des_congés[[#This Row],[Nom de l’employé]]="","",DATE(YEAR(TODAY()),1,11)) -> 43111 | D40: =IF(Suivi_des_congés[[#This Row],[Nom de l’employé]]="","",DATE(YEAR(TODAY()),1,12)) -> 43112 | E40: Formation | F40: =IF(Suivi_des_congés[[#This Row],[Nom de l’employé]]="","",NETWORKDAYS(Suivi_des_congés[[#This Row],[Date de début]],Suivi_des_congés[[#This Row],[Date de fin]],lstCongés)) -> 2
B41: Salarié 9 | C41: =IF(Suivi_des_congés[[#This Row],[Nom de l’employé]]="","",DATE(YEAR(TODAY()),1,18)) -> 43118 | D41: =IF(Suivi_des_congés[[#This Row],[Nom de l’employé]]="","",DATE(YEAR(TODAY()),1,19)) -> 43119 | E41: Formation | F41: =IF(Suivi_des_congés[[#This Row],[Nom de l’employé]]="","",NETWORKDAYS(Suivi_des_congés[[#This Row],[Date de début]],Suivi_des_congés[[#This Row],[Date de fin]],lstCongés)) -> 2
...

Sheet Liste des employés
B1: Liste des employés
B3: Noms des employés
B4: Salarié 1
B5: Salarié 2
B6: Salarié 3
B7: Salarié 4
B8: Salarié 5
B9: Salarié 6
B10: Salarié 7
B11: Salarié 8
B12: Salarié 9
B13: Salarié 10
... B25: Salarié 22

Sheet Types de congés
B1: Types de congés
B3: Liste des types de congés
B4: Arrêt maladie
B5: Congés
B6: Formation
B7: Autres

Sheet Jours fériés
B1: Jours fériés
B3: Jours fériés | C3: Description
B4: =DATE(YEAR(TODAY()),1,1) -> 43101 | C4: Nouvel an
B5: =DATE(YEAR(TODAY()),3,30) -> 43189 | C5: Vendredi Saint
B6: =DATE(YEAR(TODAY()),4,2) -> 43192 | C6: Lundi de Pâques
B7: =DATE(YEAR(TODAY()),5,1) -> 43221 | C7: Fête du Travail
B8: =DATE(YEAR(TODAY()),5,8) -> 43228 | C8: Fête de la Victoire
B9: =DATE(YEAR(TODAY()),5,10) -> 43230 | C9: Ascension
B10: =DATE(YEAR(TODAY()),5,21) -> 43241 | C10: Pentecôte
B11: =DATE(YEAR(TODAY()),7,14) -> 43295 | C11: Fête Nationale
B12: =DATE(YEAR(TODAY()),8,15) -> 43327 | C12: Assomption
B13: =DATE(YEAR(TODAY()),11,1) -> 43405 | C13: Toussaint
B14: =DATE(YEAR(TODAY()),11,11) -> 43415 | C14: Armistice
B15: =DATE(YEAR(TODAY()),12,25) -> 43459 | C15: Fête de Noël
B16: =DATE(YEAR(TODAY()),12,26) -> 43460 | C16: Saint Etienne
